Workbook
Name __xlnm.Print_Area_1: #REF!
Name __xlnm.Print_Area_13: #REF!
Name __xlnm.Print_Area_2: #REF!
Name __xlnm.Print_Area_3: #REF!
Name __xlnm.Print_Area_4: #REF!
Name __xlnm.Print_Area_5: #REF!
Name __xlnm.Print_Area_6: #REF!
Name __xlnm.Print_Area_7: #REF!
Name __xlnm.Print_Area_8: #REF!
Name __xlnm.Print_Area_9: #REF!
Name __xlnm.Print_Titles_1: #REF!
Name __xlnm.Print_Titles_10: #REF!
Name __xlnm.Print_Titles_10: #REF!
Name __xlnm.Print_Titles_10: #REF!
Name __xlnm.Print_Titles_10: #REF!
Name _Hlt436488385_10: #N/A
Name Validity_2: #REF!

Sheet Evaluation
A1: Evaluation
A3: Categories | B3: Submission Requirement(s) | C3: Weight | D3: Score | E3: Weighted Score
A4: Part B
A5: References | B5: As per the evaluation sheet | C5: 1 | D5: =References!H13 -> 1 | E5: =(C5/$C$14)*D5 -> 0.033333333
A6: Network Services | B6: As per the evaluation sheet | C6: 5 | D6: ='Network Services'!G36 -> 1 | E6: =(C6/$C$14)*D6 -> 0.16666667
A7: Security Services | B7: As per the evaluation sheet | C7: 5 | D7: ='Security Services'!G32 -> 1 | E7: =(C7/$C$14)*D7 -> 0.16666667
A8: Hosting Services | B8: As per the evaluation sheet | C8: 5 | D8: ='Hosting Services'!G18 -> 1 | E8: =(C8/$C$14)*D8 -> 0.16666667
A9: Microsoft 365 | B9: As per the evaluation sheet | C9: 3 | D9: ='Microsoft 365'!G11 -> 1 | E9: =(C9/$C$14)*D9 -> 0.1
A10: Telephony Services | B10: As per the evaluation sheet | C10: 3 | D10: ='Telephony Services'!G21 -> 1 | E10: =(C10/$C$14)*D10 -> 0.1
A11: Mimecast | B11: As per the evaluation sheet | C11: 3 | D11: =MimeCast!G11 -> 1 | E11: =(C11/$C$14)*D11 -> 0.1
A12: ERP Dynamics 365 | B12: As per the evaluation sheet | C12: 5 | D12: ='ERP Dynamics 365'!G24 -> 1 | E12: =(C12/$C$14)*D12 -> 0.16666667
A13: Managed Support Services | B13: As per the evaluation sheet | C13: 3 | D13: ='Managed Support Services'!G27 -> 1 | E13: =(C13/$C$14)*D13 -> 0.1
A14: Total Score | C14: =SUM(C5:C12) -> 30 | E14: =SUM(E5:E12) -> 1
A15: Note:
A17: 1. Bidders who receive less than 80% per service tower will not be evaluated further.
A18: 2. Service Providers might be invited to present their proposals to the W&RSETA.
A19: 3. The W&RSETA reserves the right to award or not award this service to the successful bidder.
A20: 4. Bidders who receive less than 80% average for all service towers will not be evaluated further.

Sheet PricingSchedule - Fixed
B1: YEAR 1 | H1: YEAR 2 | N1: YEAR 3 | T1: YEAR 4 | Z1: YEAR 5
A2: Services and Line Items description | B2: Comment | C2: Unit Description | D2: No of Units | E2: Unit Price | F2: Monthly Cost | G2: Once-off Cost | H2: Comment | I2: Unit Description | J2: No of Units | K2: Unit Price | L2: Monthly Cost | M2: Once-off Cost | N2: Comment | O2: Unit Description | P2: No of Units | Q2: Unit Price | R2: Monthly Cost | S2: Once-off Cost | T2: Comment | U2: Unit Description | V2: No of Units | W2: Unit Price | X2: Monthly Cost | Y2: Once-off Cost | Z2: Comment | AA2: Unit Description | AB2: No of Units | AC2: Unit Price | AD2: Monthly Cost | AE2: Once-off Cost
A3: Project Management Costs
A4: Service Management
A5: Migration Costs
A6: Other Costs
A7: Network Services
A8: Security Services
A9: Hosting Services
A10: Office 365
A11: Telephony Services
A12: Mimecast
A13: ERP Dynamics 365
A14: Managed Support Services
... A20: Total - 5 years

Sheet ServiceTemplate
B1: Service Name | F1: Mandatory | G1: Compliant (y/N) | H1: Please add additional info if required
A3: ID | B3: Item | C3: Features | D3: Volumes | E3: Specification
A4: 1 | F4: No | G4: No
A5: 2 | F5: No | G5: No
A6: 3 | F6: No | G6: No
F7: No | G7: No
F8: No | G8: No
F9: No | G9: No
F10: No | G10: No
F11: No | G11: No
F12: No | G12: No
B14: · Evidence of Accreditation with the proposed IT infrastructure and Networks partner
B15: · The IT Infrastructure provider should be at least an accredited Tier 2 IT network provider which will provide assurance on the network.
B16: · The IT network provider should provide a network diagnosis and troubleshooting tool for resolving connectivity issues, including the following:
B17: o Bandwidth Management
B18: o Network Security Management
B19: o Access Management
B20: o Remote Access Support
B21: o Internet Access
B22: o Intranet Access.
B23: o Unified Communications enablement like Video Conferencing
B24: · The IT hosting facility should provide firewall protection, backup and restore of hosted systems, 24/7 monitoring, spam filtering and malware removal. The security of hosted applications must be guaranteed (including amongst others):
B25: o Server and Database Support
... B39: o Managing a tier2 network provider

Sheet Template
A1: ID | B1: Item | C1: Value | D1: Mandatory | E1: Compliant (y/N) | F1: Proof | G1: Please add additional info if required | H1: Score (Lower =1 , Same = 2, More =3)
A2: Features
A3: 1 | B3: General Requirements
A4: 1 | D4: No | E4: No
A5: Specification
A6: 1 | B6: General Requirements
D7: No | E7: No

Sheet PricingSchedule - Variable
A1: Service | B1: Item | C1: Comment | D1: Unit Description | E1: No of Units | F1: Unit Price
A2: Network Services
A3: Security Services
A4: Hosting Services
A5: Office 365
A6: Telephony Services
A7: Mimecast
A8: ERP Dynamics 365
A9: Managed Support Services
A11: Note:
A12: Variable price items per service must be shown in the format above.
A13: Where unit price is based on Volumes (No of Units) provide the unit price and matching volume for each volume range

Sheet References
A1: ID | B1: Item | C1: Reference 1 | D1: Reference 2 | E1: Reference 3 | F1: Please add additional info if required | G1: Weighting | H1: Score | I1: Max Score
B2: Services | G2: (Low = 1, Med - 3, High - 5) | H2: Score (Yes =1 , No = 0)
A3: 1 | B3: Network Services | C3: Yes | D3: Yes | E3: Yes | G3: 5 | H3: =COUNTIF(C3:E3,"yes")*G3 -> 15 | I3: =COUNTA(C3:E3)*G3 -> 15
A4: 2 | B4: Security Services | C4: Yes | D4: Yes | E4: Yes | G4: 3 | H4: =COUNTIF(C4:E4,"yes")*G4 -> 9 | I4: =COUNTA(C4:E4)*G4 -> 9
A5: 3 | B5: Hosting Services | C5: Yes | D5: Yes | E5: Yes | G5: 5 | H5: =COUNTIF(C5:E5,"yes")*G5 -> 15 | I5: =COUNTA(C5:E5)*G5 -> 15
A6: 4 | B6: Microsoft 365 | C6: Yes | D6: Yes | E6: Yes | G6: 1 | H6: =COUNTIF(C6:E6,"yes")*G6 -> 3 | I6: =COUNTA(C6:E6)*G6 -> 3
A7: 5 | B7: Telephony Services | C7: Yes | D7: Yes | E7: Yes | G7: 5 | H7: =COUNTIF(C7:E7,"yes")*G7 -> 15 | I7: =COUNTA(C7:E7)*G7 -> 15
A8: 6 | B8: Mimecast | C8: Yes | D8: Yes | E8: Yes | G8: 3 | H8: =COUNTIF(C8:E8,"yes")*G8 -> 9 | I8: =COUNTA(C8:E8)*G8 -> 9
A9: 7 | B9: ERP Dynamics 365 | C9: Yes | D9: Yes | E9: Yes | G9: 5 | H9: =COUNTIF(C9:E9,"yes")*G9 -> 15 | I9: =COUNTA(C9:E9)*G9 -> 15
A10: 8 | B10: Managed Support Services | C10: Yes | D10: Yes | E10: Yes | G10: 3 | H10: =COUNTIF(C10:E10,"yes")*G10 -> 9 | I10: =COUNTA(C10:E10)*G10 -> 9
A11: Score | I11: =SUM(I3:I10) -> 90
B12: Total Score | H12: =SUM(H3:H10) -> 90
B13: % Compliance | H13: =H12/I11 -> 1
B15: Notes:
B16: A reference must be provided per Service Tower that are of similar size and scope of this Tender.

Sheet Network Services
A1: ID | B1: Item | C1: Compliant (y/N) | D1: Proof | E1: Please add additional info if required | F1: Weighting | G1: Score
A2: Features | F2: (Low = 1, Med - 3, High - 5) | G2: Score (Yes =1 , No = 0)
A3: 1 | B3: General Conditions
B4: Monthly/weekly/daily reports on capacity and availabilty will be required | C4: Yes | F4: 3 | G4: =IF(C4="Yes",F4*1,0) -> 3
B5: Portal access to review configurations | C5: Yes | F5: 3 | G5: =IF(C5="Yes",F5*1,0) -> 3
B6: Detailed usage reports | C6: Yes | F6: 3 | G6: =IF(C6="Yes",F6*1,0) -> 3
B7: Portal access to add/modify/delete users accounts where appliccable | C7: Yes | F7: 3 | G7: =IF(C7="Yes",F7*1,0) -> 3
A8: 2 | B8: WAN Connectivity Services
B9: The network services should facilitate connectivity for the entire W&RSETA including Head Office and Regional Offices. | C9: Yes | F9: 5 | G9: =IF(C9="Yes",F9*1,0) -> 5
B10: The W&RSETA requires Software-Defined(SD) WAN , its security and throughput (of the network) should be guaranteed and supported by a quality of service (QOS) provisioning, catering for dynamic capacity demand. | C10: Yes | F10: 5 | G10: =IF(C10="Yes",F10*1,0) -> 5
B11: The interconnected links between the regional offices and the Head Office should be non-internet lines and one internet breakout as part of network managed service. | C11: Yes | F11: 3 | G11: =IF(C11="Yes",F11*1,0) -> 3
B12: Dedicated, Uncontended Fibre or Microwave internet links for access links to sites | C12: Yes | F12: 3 | G12: =IF(C12="Yes",F12*1,0) -> 3
B13: Automatic failover from primary to secondary link to ensure high availabillity | C13: Yes | F13: 5 | G13: =IF(C13="Yes",F13*1,0) -> 5
B14: SD-WAN devices for creation of a secure, reliable WAN allowing site to site communication | C14: Yes | F14: 5 | G14: =IF(C14="Yes",F14*1,0) -> 5
B15: At the proposed W&RSETA Data Centre, a Master Control Node (MCN) should be deployed to create and manage routing paths between W&RSETA sites. | C15: Yes | F15: 3 | G15: =IF(C15="Yes",F15*1,0) -> 3
B16: Connectivity between remote sites and the MCN should be via Internet Protocol Security (IP-SEC) tunnels over the dedicated, uncontended internet available at each site. | C16: Yes | F16: 5 | G16: =IF(C16="Yes",F16*1,0) -> 5
B17: Broadband Internet links should be used as back-up in the event of failure of a primary link or for load balancing. | C17: Yes | F17: 3 | G17: =IF(C17="Yes",F17*1,0) -> 3
B18: The network should be scalable enough to accommodate converged telephony services. | C18: Yes | F18: 3 | G18: =IF(C18="Yes",F18*1,0) -> 3
A19: 3 | B19: Mobile Connectivity Services
A20: 3.1 | B20: APN
B21: Provision of an APN to provide secure connectivity to Business informatiion and applications | C21: Yes | F21: 5 | G21: =IF(C21="Yes",F21*1,0) -> 5
B22: National coverage | C22: Yes | F22: 3 | G22: =IF(C22="Yes",F22*1,0) -> 3
B23: Provision of a management portal for the configuration of IP'address ranges, static or dynamic addressing and authentication techniques | C23: Yes | F23: 3 | G23: =IF(C23="Yes",F23*1,0) -> 3
B24: Proxy like functionality to block/allow access to individuals and groups to Internet Sites | C24: Yes | F24: 1 | G24: =IF(C24="Yes",F24*1,0) -> 1
A25: 3.2 | B25: SIM Cards and Routers
B26: Provision of SIM Cards that can be used in all type of Smartphones and/or routers and laptops | C26: Yes | F26: 3 | G26: =IF(C26="Yes",F26*1,0) -> 3
B27: Provision of dongle's/routers for SIM Cards to be used | C27: Yes | F27: 3 | G27: =IF(C27="Yes",F27*1,0) -> 3
B28: Replacement of faulty cards at no charge | C28: Yes | F28: 1 | G28: =IF(C28="Yes",F28*1,0) -> 1
B29: Support in setup and installation of SIM cards and Routers | C29: Yes | F29: 1 | G29: =IF(C29="Yes",F29*1,0) -> 1
A30: 3.3 | B30: Data Manager
B31: Provision and unblock users on the APN | C31: Yes | F31: 3 | G31: =IF(C31="Yes",F31*1,0) -> 3
B32: Manage data quotas per Mobile Station International Subscriber Directory Number (MSISDN) i.e. to split their monthly APN data bundle per MSISDN | C32: Yes | F32: 3 | G32: =IF(C32="Yes",F32*1,0) -> 3
B33: Proactively manage abuse of the APN | C33: Yes | F33: 1 | G33: =IF(C33="Yes",F33*1,0) -> 1
A34: Score
A35: Total Score | G35: =SUM(G4:G33) -> 79
A36: % Compliance | G36: =G35/SUM(F4:F33) -> 1
B38: NOTE
B39: 1. The Bidder must provide a comment or a reference in the Proof column, from which the evaluator can verify compliancy. If no Proof is provided the evaluator will mark the item as Non-compliant.
B40: 2. The Bidder must select yes or no in the Compliant column. A No selection indicates that the Bidder does not meet the requirement.

Sheet Security Services
A1: ID | B1: Item | C1: Compliant (y/N) | D1: Proof | E1: Please add additional info if required | F1: Weighting | G1: Score
A2: Features | F2: (Low = 1, Med - 3, High - 5) | G2: Score (Yes =1 , No = 0)
A3: 1 | B3: General Requirements
B4: Monthly/weekly/daily reports on capacity and availabilty will be required | C4: Yes | F4: 3 | G4: =IF(C4="Yes",F4*1,0) -> 3
B5: Portal access to review configurations | C5: Yes | F5: 3 | G5: =IF(C5="Yes",F5*1,0) -> 3
B6: Detailed Reports to include source, destination, port, protocol | C6: Yes | F6: 5 | G6: =IF(C6="Yes",F6*1,0) -> 5
B7: Portal access to add/modify/delete users accounts where appliccable | C7: Yes | F7: 3 | G7: =IF(C7="Yes",F7*1,0) -> 3
A8: 2 | B8: Firewall
B9: Policy based routing | C9: Yes | F9: 3 | G9: =IF(C9="Yes",F9*1,0) -> 3
B10: WAN optimisation | C10: Yes | F10: 3 | G10: =IF(C10="Yes",F10*1,0) -> 3
B11: Central Management | C11: Yes | F11: 3 | G11: =IF(C11="Yes",F11*1,0) -> 3
B12: Traffic shaping | C12: Yes | F12: 3 | G12: =IF(C12="Yes",F12*1,0) -> 3
B13: Reporting and analytics | C13: Yes | F13: 3 | G13: =IF(C13="Yes",F13*1,0) -> 3
B14: Application control | C14: Yes | F14: 3 | G14: =IF(C14="Yes",F14*1,0) -> 3
B15: Anti-Virus | C15: Yes | F15: 3 | G15: =IF(C15="Yes",F15*1,0) -> 3
B16: Anti-Spam | C16: Yes | F16: 3 | G16: =IF(C16="Yes",F16*1,0) -> 3
B17: Web Security | C17: Yes | F17: 3 | G17: =IF(C17="Yes",F17*1,0) -> 3
B18: Database security | C18: Yes | F18: 3 | G18: =IF(C18="Yes",F18*1,0) -> 3
B19: IP Reputation | C19: Yes | F19: 3 | G19: =IF(C19="Yes",F19*1,0) -> 3
B20: Vulneraability management | C20: Yes | F20: 3 | G20: =IF(C20="Yes",F20*1,0) -> 3
... B22: Intrusion Prevention | C22: Yes | F22: 3 | G22: =IF(C22="Yes",F22*1,0) -> 3
A23: 3 | B23: VPN
B24: Access resources behind the firewall remotely and securely using native SSL VPN | C24: Yes | F24: 5 | G24: =IF(C24="Yes",F24*1,0) -> 5
B25: Connect from virtually any operating system | C25: Yes | F25: 1 | G25: =IF(C25="Yes",F25*1,0) -> 1
B26: Two-factor authentication | C26: Yes | F26: 5 | G26: =IF(C26="Yes",F26*1,0) -> 5
B27: Reporting functionality | C27: Yes | F27: 3 | G27: =IF(C27="Yes",F27*1,0) -> 3
B28: Authentication methods RADIUS, LDAP, Active Directory | C28: Yes | F28: 3 | G28: =IF(C28="Yes",F28*1,0) -> 3
B29: Encryption Algorithm DES, Triple DES, ARCFOUR, SSL | C29: Yes | F29: 3 | G29: =IF(C29="Yes",F29*1,0) -> 3
A30: Score
A31: Total Score | G31: =SUM(G4:G29) -> 76
A32: % Compliance | G32: =G31/SUM(F4:F29) -> 1
B34: NOTE
B35: 1. The Bidder must provide a comment or a reference in the Proof column, from which the evaluator can verify compliancy. If no Proof is provided the evaluator will mark the item as Non-compliant.
B36: 2. The Bidder must select yes or no in the Compliant column. A No selection indicates that the Bidder does not meet the requirement.

Sheet Hosting Services
A1: ID | B1: Item | C1: Compliant (y/N) | D1: Proof | E1: Please add additional info if required | F1: Weighting | G1: Score
A2: Features | F2: (Low = 1, Med - 3, High - 5) | G2: Score (Yes =1 , No = 0)
A3: 1 | B3: General Conditions
B4: Monthly/weekly/daily reports on capacity and availabilty will be required | C4: Yes | F4: 3 | G4: =IF(C4="Yes",F4*1,0) -> 3
B5: Portal access to review configurations | C5: Yes | F5: 3 | G5: =IF(C5="Yes",F5*1,0) -> 3
B6: Portal access to add/modify/delete users accounts where appliccable | C6: Yes | F6: 3 | G6: =IF(C6="Yes",F6*1,0) -> 3
A7: 2 | B7: IT Infrastructure Hosting (IaaS)
B8: The hosting should be flexible enough to cater for the organisation’s growing needs and must be able to provide for dynamic storage and server availability. | C8: Yes | F8: 5 | G8: =IF(C8="Yes",F8*1,0) -> 5
B9: A DMZ must be created for external facing systems | C9: Yes | F9: 5 | G9: =IF(C9="Yes",F9*1,0) -> 5
B10: Disaster Recovery as a Service must duplicate the Production Environment | C10: Yes | F10: 3 | G10: =IF(C10="Yes",F10*1,0) -> 3
B11: All Software Licenses for IaaS must be included | C11: Yes | F11: 3 | G11: =IF(C11="Yes",F11*1,0) -> 3
B12: Load balancing features must be made available | C12: Yes | F12: 5 | G12: =IF(C12="Yes",F12*1,0) -> 5
A13: 3 | B13: Backup and Restore
B14: A REDSTOR backup and restore solution must be provided | C14: Yes | F14: 5 | G14: =IF(C14="Yes",F14*1,0) -> 5
B15: The backup solution must be able to backup and restore onsite servers, hosted servers, end user devices and Office365 | C15: Yes | F15: 3 | G15: =IF(C15="Yes",F15*1,0) -> 3
A16: Score
A17: Total Score | G17: =SUM(G4:G15) -> 38
A18: % Compliance | G18: =G17/SUM(F4:F15) -> 1
B20: NOTE
B21: 1. The Bidder must provide a comment or a reference in the Proof column, from which the evaluator can verify compliancy. If no Proof is provided the evaluator will mark the item as Non-compliant.
B22: 2. The Bidder must select yes or no in the Compliant column. A No selection indicates that the Bidder does not meet the requirement.

Sheet Microsoft 365
A1: ID | B1: Item | C1: Compliant (y/N) | D1: Proof | E1: Please add additional info if required | F1: Weighting | G1: Score
A2: Features | F2: (Low = 1, Med - 3, High - 5) | G2: Score (Yes =1 , No = 0)
A3: 1 | B3: General Requirements
B4: Monthly/weekly/daily reports on capacity and availabilty will be required | C4: Yes | F4: 3 | G4: =IF(C4="Yes",F4*1,0) -> 3
B5: Portal access to review configurations | C5: Yes | F5: 3 | G5: =IF(C5="Yes",F5*1,0) -> 3
B6: Portal access to add/modify/delete users accounts where appliccable | C6: Yes | F6: 3 | G6: =IF(C6="Yes",F6*1,0) -> 3
A7: 2 | B7: Microsoft 365
B8: Microsoft 365 A5 Subscription | C8: Yes | F8: 5 | G8: =IF(C8="Yes",F8*1,0) -> 5
A9: Score
A10: Total Score | G10: =SUM(G4:G8) -> 14
A11: % Compliance | G11: =G10/SUM(F4:F8) -> 1
B13: NOTE
B14: 1. The Bidder must provide a comment or a reference in the Proof column, from which the evaluator can verify compliancy. If no Proof is provided the evaluator will mark the item as Non-compliant.
B15: 2. The Bidder must select yes or no in the Compliant column. A No selection indicates that the Bidder does not meet the requirement.

Sheet Telephony Services
A1: ID | B1: Item | C1: Compliant (y/N) | D1: Proof | E1: Please add additional info if required | F1: Weighting | G1: Score
A2: Features | F2: (Low = 1, Med - 3, High - 5) | G2: Score (Yes =1 , No = 0)
A3: 1 | B3: General Requirements
B4: The W&RSETA seeks a converged telephone service for the organisation. This will include a service that connects all W&RSETA Offices to cloud based Office365 telephone system | C4: Yes | F4: 5 | G4: =IF(C4="Yes",F4*1,0) -> 5
B5: Monthly/weekly/daily reports on capacity and availabilty will be required | C5: Yes | F5: 3 | G5: =IF(C5="Yes",F5*1,0) -> 3
B6: Detailed usage reports to include from number, to number and duration of call | C6: Yes | F6: 5 | G6: =IF(C6="Yes",F6*1,0) -> 5
B7: Portal access to review configurations | C7: Yes | F7: 3 | G7: =IF(C7="Yes",F7*1,0) -> 3
B8: Portal access to add/modify/delete users accounts where appliccable | C8: Yes | F8: 3 | G8: =IF(C8="Yes",F8*1,0) -> 3
A9: 2 | B9: Telephone Services
B10: VOIP | C10: Yes | F10: 5 | G10: =IF(C10="Yes",F10*1,0) -> 5
B11: Integration into Microsoft Teams | C11: Yes | F11: 5 | G11: =IF(C11="Yes",F11*1,0) -> 5
B12: Hosted IP PABX | C12: Yes | F12: 3 | G12: =IF(C12="Yes",F12*1,0) -> 3
B13: Geographic number portability | C13: Yes | F13: 3 | G13: =IF(C13="Yes",F13*1,0) -> 3
B14: Video conferencing | C14: Yes | F14: 3 | G14: =IF(C14="Yes",F14*1,0) -> 3
B15: Teleconferencing | C15: Yes | F15: 3 | G15: =IF(C15="Yes",F15*1,0) -> 3
B16: Porting of Telkom telephone numbers to VOIP | C16: Yes | F16: 3 | G16: =IF(C16="Yes",F16*1,0) -> 3
B17: Provision of Teams Compatible Headsets | C17: Yes | F17: 1 | G17: =IF(C17="Yes",F17*1,0) -> 1
B18: Provision, setup and configuration of Teams Compatible Boardroom and receptionist Handsets | C18: Yes | F18: 1 | G18: =IF(C18="Yes",F18*1,0) -> 1
A19: Score
A20: Total Score | G20: =SUM(G4:G18) -> 46
A21: % Compliance | G21: =G20/SUM(F4:F18) -> 1
B23: NOTE
B24: 1. The Bidder must provide a comment or a reference in the Proof column, from which the evaluator can verify compliancy. If no Proof is provided the evaluator will mark the item as Non-compliant.
B25: 2. The Bidder must select yes or no in the Compliant column. A No selection indicates that the Bidder does not meet the requirement.

Sheet MimeCast
A1: ID | B1: Item | C1: Compliant (y/N) | D1: Proof | E1: Please add additional info if required | F1: Weighting | G1: Score
A2: Features | F2: (Low = 1, Med - 3, High - 5) | G2: Score (Yes =1 , No = 0)
A3: 1 | B3: General Requirements
B4: Monthly/weekly/daily reports on capacity and availabilty will be required | C4: Yes | F4: 3 | G4: =IF(C4="Yes",F4*1,0) -> 3
B5: Portal access to review configurations | C5: Yes | F5: 3 | G5: =IF(C5="Yes",F5*1,0) -> 3
B6: Portal access to add/modify/delete users accounts where appliccable | C6: Yes | F6: 3 | G6: =IF(C6="Yes",F6*1,0) -> 3
A7: 2 | B7: Mimecaset
B8: M3M4 | C8: Yes | F8: 3 | G8: =IF(C8="Yes",F8*1,0) -> 3
A9: Score
A10: Total Score | G10: =SUM(G4:G8) -> 12
A11: % Compliance | G11: =G10/SUM(F4:F8) -> 1
B13: NOTE
B14: 1. The Bidder must provide a comment or a reference in the Proof column, from which the evaluator can verify compliancy. If no Proof is provided the evaluator will mark the item as Non-compliant.
B15: 2. The Bidder must select yes or no in the Compliant column. A No selection indicates that the Bidder does not meet the requirement.

Sheet ERP Dynamics 365
A1: ID | B1: Item | C1: Compliant (y/N) | D1: Proof | E1: Please add additional info if required | F1: Weighting | G1: Score
A2: Features | F2: (Low = 1, Med - 3, High - 5) | G2: Score (Yes =1 , No = 0)
A3: 1 | B3: Dynamics 365
B4: Day to day Maintenance and support of the D365 system | C4: Yes | F4: 3 | G4: =IF(C4="Yes",F4*1,0) -> 3
B5: Upgrade Services | C5: Yes | F5: 3 | G5: =IF(C5="Yes",F5*1,0) -> 3
B6: Change requests for new functionality | C6: Yes | F6: 3 | G6: =IF(C6="Yes",F6*1,0) -> 3
B7: Software Maintenance services | C7: Yes | F7: 3 | G7: =IF(C7="Yes",F7*1,0) -> 3
B8: Incident management | C8: Yes | F8: 3 | G8: =IF(C8="Yes",F8*1,0) -> 3
B9: Microsoft updates | C9: Yes | F9: 3 | G9: =IF(C9="Yes",F9*1,0) -> 3
B10: Quarterly review and reporting | C10: Yes | F10: 3 | G10: =IF(C10="Yes",F10*1,0) -> 3
B11: Problem management | C11: Yes | F11: 3 | G11: =IF(C11="Yes",F11*1,0) -> 3
B12: Microsoft updates impact assessment | C12: Yes | F12: 3 | G12: =IF(C12="Yes",F12*1,0) -> 3
B13: Environment management | C13: Yes | F13: 3 | G13: =IF(C13="Yes",F13*1,0) -> 3
B14: Advanced reporting | C14: Yes | F14: 3 | G14: =IF(C14="Yes",F14*1,0) -> 3
B15: Comprehensive transition management | C15: Yes | F15: 3 | G15: =IF(C15="Yes",F15*1,0) -> 3
... B21: Training | C21: Yes | F21: 3 | G21: =IF(C21="Yes",F21*1,0) -> 3
A22: Score
A23: Total Score | G23: =SUM(G4:G21) -> 54
A24: % Compliance | G24: =G23/SUM(F3:F21) -> 1
B26: NOTE
B27: 1. The Bidder must provide a comment or a reference in the Proof column, from which the evaluator can verify compliancy. If no Proof is provided the evaluator will mark the item as Non-compliant.
B28: 2. The Bidder must select yes or no in the Compliant column. A No selection indicates that the Bidder does not meet the requirement.
B29: Bidder must be Microsoft Dynamics 365 certified

Sheet Managed Support Services
A1: ID | B1: Item | C1: Compliant (y/N) | D1: Proof | E1: Please add additional info if required | F1: Weighting | G1: Score
A2: Features | F2: (Low = 1, Med - 3, High - 5) | G2: Score (Yes =1 , No = 0)
A3: 1 | B3: General
B4: Monthly/Weekly/Daily reports on calls logged/resolved/open must be available to client | C4: Yes | F4: 3 | G4: =IF(C4="Yes",F4*1,0) -> 3
A5: 2 | B5: Support hours
B6: At a minimum, maintenance and support hours will cover 08:00 to 17:00 Monday to Thursday and 08:00 - 16:00 on Friday, excluding public holidays. | C6: Yes | F6: 5 | G6: =IF(C6="Yes",F6*1,0) -> 5
B7: Log support calls with a helpdesk by email, phone or service portal | C7: Yes | F7: 3 | G7: =IF(C7="Yes",F7*1,0) -> 3
B8: Receive remote support via the network where this is specifically authorised and facilitated by the W&R SETA network and IT security staff | C8: Yes | F8: 1 | G8: =IF(C8="Yes",F8*1,0) -> 1
B9: Provide specialist IT telephone, remote access and field support when requested by the W&R SETA | C9: Yes | F9: 3 | G9: =IF(C9="Yes",F9*1,0) -> 3
B10: The W&R SETA may require extended service hours, be that for weekends, public holidays, 7x24, 5x24 or other additional hours, which will be agreed between the W&R SETA and the successful tenderer and may involve extra costs | C10: Yes | F10: 3 | G10: =IF(C10="Yes",F10*1,0) -> 3
A11: 3 | B11: First-time fix rate
B12: This is of paramount importance to provide an ongoing high standard of up-time. The minimum first-time fix rate will not be lower than 95%, as measured over any quarterly period | C12: Yes | F12: 5 | G12: =IF(C12="Yes",F12*1,0) -> 5
A13: 4 | B13: Response times
B14: Response time is defined as the time from the W&R SETA first places a call, to when the support engineer starts working on the problem. | C14: Yes | F14: 5 | G14: =IF(C14="Yes",F14*1,0) -> 5
B15: The response times will vary according to the Priority of the call being logged. | C15: Yes | F15: 1 | G15: =IF(C15="Yes",F15*1,0) -> 1
B16: There will be a detailed escalation and reporting procedure for when the response time is not achieved and for when first-time fix is not achieved | C16: Yes | F16: 3 | G16: =IF(C16="Yes",F16*1,0) -> 3
A17: 5 | B17: Training
B18: Product training is required on-site within one working day of installation | C18: Yes | F18: 3 | G18: =IF(C18="Yes",F18*1,0) -> 3
B19: Refresher training is required on-site for new staff, where product use is below expectations or unreasonable down-time occurs | C19: Yes | F19: 1 | G19: =IF(C19="Yes",F19*1,0) -> 1
B20: From time to time broader training may be required on-site where the W&R SETA is willing to organise suitable groups of interested users. | C20: Yes | F20: 1 | G20: =IF(C20="Yes",F20*1,0) -> 1
B21: The training outlined above is about running products effectively and is free of charge | C21: Yes | F21: 3 | G21: =IF(C21="Yes",F21*1,0) -> 3
A22: 6 | B22: Staff
B23: All staff delivering maintenance, support or training will be fully trained for the work they are undertaking and will have direct access to manufacturers’ current technical manuals and support services | C23: Yes | F23: 5 | G23: =IF(C23="Yes",F23*1,0) -> 5
B24: All field staff must be vetted, instructed and trained by the successful tenderer to ensure that W&R SETAs’ security, safety and confidentiality requirements are met in full by the successful tenderer’s staff at all times. Successful tenderers are obliged to ensure that all staff has been security vetted and approved to Criminal Records Bureau relevant standards or similar. | C24: Yes | F24: 5 | G24: =IF(C24="Yes",F24*1,0) -> 5
A25: Score
A26: Total Score | G26: =SUM(G4:G24) -> 50
A27: % Compliance | G27: =G26/SUM(F4:F24) -> 1
B29: NOTE
B30: 1. The Bidder must provide a comment or a reference in the Proof column, from which the evaluator can verify compliancy. If no Proof is provided the evaluator will mark the item as Non-compliant.
B31: 2. The Bidder must select yes or no in the Compliant column. A No selection indicates that the Bidder does not meet the requirement.

Sheet Locations
A1: W&RSETA Head Office in Centurion
A2: W&RSETA Regional Office in East London, Eastern Cape
A3: W&RSETA Regional Office in Bloemfontein, Free State
A4: W&RSETA Regional Office in Hatfield, Pretoria
A5: W&RSETA Regional Office in Woodmead, Johannesburg
A6: W&RSETA Regional Office in Musgrave, KwaZulu Natal
A7: W&RSETA Regional Office in Polokwane, Limpopo
A8: W&RSETA Regional Office in Emalahleni, Mpumalanga
A9: W&RSETA Regional Office in Rustenburg, North West
A10: W&RSETA Regional Office in Kimberly, Northern Cape
A11: W&RSETA Regional Office in Century City, Western Cape
