Workbook
Name _Hlk143960454: 'SCHED 1B-3_JG'!#REF!
Name _Hlk143960454: 'SCHED 1B-4_JG'!#REF!

Sheet SUMMARY
B2: ECDOH GENERAL ELECTRICAL MV MAINTENANCE AND REPAIR CONTRACT
B4: ='SCHED 1A-1_CH'!B3 -> CONTRACT REF. NO: | D4: SCMU3-24/25-0459-HO | E4: Cluster/District: | F4: Cluster Two - Chris Hani & Joe Gqabi
B6: ='SCHED 1A-1_CH'!B4 -> ASSET TYPE: | D6: ='SCHED 1A-1_CH'!D4 -> MV INSTALLATIONS
B8: SCHEDULE NUMBER | C8: DESCRIPTION | F8: TENDER AMOUNT
B10: 1A-1 | C10: CH DISTRICT - | D10: ='SCHED 1A-1_CH'!D6 -> FIXED CHARGE AND VALUE RELATED ITEMS APPLICABLE TO ALL WORK | F10: ='SCHED 1A-1_CH'!H37 -> 0
B12: 1A-2 | C12: CH DISTRICT - | D12: ='SCHED 1A-2_CH'!D6 -> FIXED CHARGE AND VALUE RELATED ITEMS APPLICABLE TO ALL WORK (continued) | F12: ='SCHED 1A-2_CH'!H37 -> 0
B14: 1A-3 | C14: CH DISTRICT - | D14: ='SCHED 1A-3_CH'!D6 -> FIXED CHARGE AND VALUE RELATED ITEMS APPLICABLE TO ALL WORK (continued) | F14: ='SCHED 1A-3_CH'!H30 -> 0
B16: 1A-4 | C16: CH DISTRICT - | D16: ='SCHED 1A-4_CH'!D6 -> FIXED CHARGE AND VALUE RELATED ITEMS APPLICABLE TO ALL WORK | F16: ='SCHED 1A-4_CH'!H28 -> 777000
B18: 1B-1 | C18: JG DISTRICT - | D18: ='SCHED 1B-1_JG'!D6 -> FIXED CHARGE AND VALUE RELATED ITEMS APPLICABLE TO ALL WORK | F18: ='SCHED 1B-1_JG'!H13 -> 0
B20: 1B-2 | C20: JG DISTRICT - | D20: ='SCHED 1B-2_JG'!D6 -> FIXED CHARGE AND VALUE RELATED ITEMS APPLICABLE TO ALL WORK (continued) | F20: ='SCHED 1B-2_JG'!H13 -> 0
B22: 1B-3 | C22: JG DISTRICT - | D22: ='SCHED 1B-3_JG'!D6 -> FIXED CHARGE AND VALUE RELATED ITEMS APPLICABLE TO ALL WORK (continued) | F22: ='SCHED 1B-3_JG'!H23 -> 0
B24: 1B-4 | C24: JG DISTRICT - | D24: ='SCHED 1B-4_JG'!D6 -> FIXED CHARGE AND VALUE RELATED ITEMS APPLICABLE TO ALL WORK | F24: ='SCHED 1B-4_JG'!H21 -> 777000
B26: 2A-1 | C26: CH DISTRICT - | D26: ='SCHED 2A-1_CH'!D6 -> FUNCTIONAL REPAIR SCHEDULE | F26: ='SCHED 2A-1_CH'!H35 -> 0
B28: 2A-2 | C28: CH DISTRICT - | D28: ='SCHED 2A-2_CH'!D6 -> FUNCTIONAL REPAIR SCHEDULE (continued) | F28: ='SCHED 2A-2_CH'!H37 -> 0
B30: 2B-1 | C30: JG DISTRICT - | D30: ='SCHED 2B-1_JG'!D6 -> FUNCTIONAL REPAIR SCHEDULE | F30: ='SCHED 2B-1_JG'!H13 -> 0
B32: 2B-2 | C32: JG DISTRICT - | D32: ='SCHED 2B-2_JG'!D6 -> FUNCTIONAL REPAIR SCHEDULE (continued) | F32: ='SCHED 2B-2_JG'!H13 -> 0
B34: 3A | C34: CH DISTRICT - | D34: ='SCHEDULE 3A_CH'!D6 -> MAINTENANCE SERVICE SCHEDULE | F34: ='SCHEDULE 3A_CH'!J68 -> 0
B36: 3B | C36: JG DISTRICT - | D36: ='SCHEDULE 3B_JG'!D5 -> MAINTENANCE SERVICE SCHEDULE | F36: ='SCHEDULE 3B_JG'!J16 -> 0
B38: 4 | C38: ='SCHEDULE 4'!D6 -> TERM REPAIRS SUBJECT TO APPROVAL OF QUOTATION OF THE WORKS | F38: ='SCHEDULE 4'!H27 -> 4000000
B42: SUBTOTAL AMOUNT OF WORKS (EXCL VAT) | F42: =SUM(F10:F39) -> 5554000
B43: ALLOWANCE FOR VAT AT 15.0% | F43: =F42*0.15 -> 833100
B44: TOTAL AMOUNT OF WORKS (INCL VAT) - ENTER THIS AMOUNT TO FORM OF OFFER | F44: =F42+F43 -> 6387100

Sheet SCHED 1A-1_CH
B2: =SUMMARY!B2 -> ECDOH GENERAL ELECTRICAL MV MAINTENANCE AND REPAIR CONTRACT
B3: CONTRACT REF. NO: | D3: =SUMMARY!D4 -> SCMU3-24/25-0459-HO | E3: Cluster/District: | G3: Chris Hani DM
B4: ASSET TYPE: | D4: MV INSTALLATIONS
B6: SCHEDULE 1A-1: | D6: FIXED CHARGE AND VALUE RELATED ITEMS APPLICABLE TO ALL WORK
B8: ITEM Nr. | C8: PAYMENT REFERS | D8: DESCRIPTION | E8: UNIT | F8: QTY | G8: RATE | H8: AMOUNT
B9: 1A-1 | C9: GM 2.5 | D9: VERIFICATION OF ASSETS ON SITE : Verify assets for each Health Facility vs Asset Register (C4.1), and compile plant layout line drawings including MV Schematic drawing showing connection between each substation or mini-substation as per GM 2.5 (1) and (2).
B10: 1A-1.1 | D10: Cradock Provincial Hospital
B11: 1A-1.1.1 | D11: 200kVA Transformer | E11: Item | F11: 2
B12: 1A-1.1.2 | D12: MV Switchgear (Isolator, Circuit breaker) | E12: Item | F12: 2
B13: 1A-1.2 | D13: Komani Hospital
B14: 1A-1.2.1 | D14: 800kVA Transformer | E14: Item | F14: 1
B15: 1A-1.2.2 | D15: 500kVA Mini-Substation | E15: Item | F15: 2
B16: 1A-1.2.3 | D16: 400kVA Transformer | E16: Item | F16: 2
B17: 1A-1.2.4 | D17: 315kVA Mini-Substation | E17: Item | F17: 1
B18: 1A-1.2.5 | D18: 200kVA Transformer | E18: Item | F18: 3
B19: 1A-1.2.6 | D19: 11kVA Mini- Substation | E19: Item | F19: 1
B20: 1A-1.2.7 | D20: MV Switchgear (Isolator, Circuit breaker) | E20: Item | F20: 4
B21: 1A-1.2.8 | D21: Ring Main Unit (RMU) | E21: Item | F21: 3
B22: 1A-1.3 | D22: Frontier Hospital
B23: 1A-1.3.1 | D23: 800kVA Transformer | E23: Item | F23: 1
B24: 1A-1.3.2 | D24: 630kVA Transformer | E24: Item | F24: 1
B25: 1A-1.3.3 | D25: 500kVA Transformer | E25: Item | F25: 2
B26: 1A-1.3.4 | D26: 315kVA Mini-substation | E26: Item | F26: 1
B27: 1A-1.3.5 | D27: 200kVA Mini-substation | E27: Item | F27: 1
B28: 1A-1.3.6 | D28: Ring Main Unit (RMU) | E28: Item | F28: 3
B29: 1A-1.4 | D29: All Saints Hospital
B30: 1A-1.4.1 | D30: 500kVA Transformer | E30: Item | F30: 1
B31: 1A-1.4.2 | D31: 500kVA Transformer | E31: Item | F31: 1
B32: 1A-1.4.3 | D32: MV Switchgear (Isolator, Circuit breaker) | E32: Item | F32: 2
B37: TOTAL CARRIED FORWARD TO SUMMARY | H37: =SUM(H10:H35) -> 0

Sheet SCHED 1A-2_CH
B2: =SUMMARY!B2 -> ECDOH GENERAL ELECTRICAL MV MAINTENANCE AND REPAIR CONTRACT
B3: CONTRACT REF. NO: | D3: =+SUMMARY!D4 -> SCMU3-24/25-0459-HO | E3: Cluster/District: | G3: ='SCHED 1A-1_CH'!G3 -> Chris Hani DM
B4: ASSET TYPE: | D4: MV INSTALLATIONS
B6: SCHEDULE 1A-2: | D6: FIXED CHARGE AND VALUE RELATED ITEMS APPLICABLE TO ALL WORK (continued)
B8: ITEM Nr. | C8: PAYMENT REFERS | D8: DESCRIPTION | E8: UNIT | F8: QTY | G8: RATE | H8: AMOUNT
B9: 1A-2 | C9: GM 2.7 | D9: COMPILING OF OPERATING AND MAINTENANCE MANUALS : Compile three sets of O&M Manuals per site per asset type and asset model as per information from the Asset Register C4.1
B10: 1A-2.1 | D10: Cradock Provincial Hospital
B11: 1A-2.1.1 | D11: 200kVA Transformer | E11: Item | F11: 2
B12: 1A-2.1.2 | D12: MV Switchgear (Isolator, Circuit breaker) | E12: Item | F12: 2
B13: 1A-2.2 | D13: Komani Hospital
B14: 1A-2.2.1 | D14: 800kVA Transformer | E14: Item | F14: 1
B15: 1A-2.2.2 | D15: 500kVA Mini-Substation | E15: Item | F15: 2
B16: 1A-2.2.3 | D16: 400kVA Transformer | E16: Item | F16: 2
B17: 1A-2.2.4 | D17: 315kVA Mini-Substation | E17: Item | F17: 1
B18: 1A-2.2.5 | D18: 200kVA Transformer | E18: Item | F18: 3
B19: 1A-2.2.6 | D19: 11kVA Mini- Substation | E19: Item | F19: 1
B20: 1A-2.2.7 | D20: MV Switchgear (Isolator, Circuit breaker) | E20: Item | F20: 4
B21: 1A-2.2.8 | D21: Ring Main Unit (RMU) | E21: Item | F21: 3
B22: 1A-2.3 | D22: Frontier Hospital
B23: 1A-2.3.1 | D23: 800kVA Transformer | E23: Item | F23: 1
B24: 1A-2.3.2 | D24: 630kVA Transformer | E24: Item | F24: 1
B25: 1A-2.3.3 | D25: 500kVA Transformer | E25: Item | F25: 2
B26: 1A-2.3.4 | D26: 315kVA Mini-substation | E26: Item | F26: 1
B27: 1A-2.3.5 | D27: 200kVA Mini-substation | E27: Item | F27: 1
B28: 1A-2.3.6 | D28: Ring Main Unit (RMU) | E28: Item | F28: 3
B29: 1A-2.4 | D29: All Saints Hospital
B30: 1A-2.4.1 | D30: 500kVA Transformer | E30: Item | F30: 1
B31: 1A-2.4.2 | D31: 500kVA Transformer | E31: Item | F31: 1
B32: 1A-2.4.3 | D32: MV Switchgear (Isolator, Circuit breaker) | E32: Item | F32: 2
B37: TOTAL CARRIED FORWARD TO SUMMARY | H37: =SUM(H10:H35) -> 0

Sheet SCHED 1A-3_CH
B2: =SUMMARY!B2 -> ECDOH GENERAL ELECTRICAL MV MAINTENANCE AND REPAIR CONTRACT
B3: CONTRACT REF. NO: | D3: ='SCHED 1A-1_CH'!D3 -> SCMU3-24/25-0459-HO | E3: Cluster/District: | G3: ='SCHED 1A-1_CH'!G3 -> Chris Hani DM
B4: ASSET TYPE: | D4: ='SCHED 1A-1_CH'!D4 -> MV INSTALLATIONS
B6: SCHEDULE 1A-3: | D6: FIXED CHARGE AND VALUE RELATED ITEMS APPLICABLE TO ALL WORK (continued)
B8: ITEM Nr. | C8: PAYMENT REFERS | D8: DESCRIPTION | E8: UNIT | F8: QTY | G8: RATE | H8: AMOUNT
B9: 1A-3 | C9: SS 8 & 9 | D9: OPERATOR AND MAINTAINER TRAINING : Provide Operator and Maintainer training for each Health Facility as per SS8 and SS9
B10: 1A-3.1 | D10: Cradock Provincial Hospital | E10: Hrs | F10: 15
B11: 1A-3.2 | D11: Komani Hospital | E11: Hrs | F11: 40
B12: 1A-3.3 | D12: Frontier Hospital | E12: Hrs | F12: 30
B13: 1A-3.4 | D13: All Saints Hospital | E13: Hrs | F13: 15
B15: 1A-3.6 | C15: GM 2.15 | D15: ENVIRONMENTAL MANAGEMENT PLAN : The Contractor must compile a basic Environmental plan specific to the type of work that he will be performing at the Health Facilities as per C3.2 | E15: Month | F15: 36
B16: 1A-3.7 | C16: GM 2.15 | D16: OCCUPATIONAL HEALTH AND SAFETY ACT COMPLIANCE COST : The Contractor must comply to the project Health and Safety Specification specific to the type of work that he will be performing on site as per C3.2 | E16: Month | F16: 36
B17: 1A-3.8 | C17: Clause 83.1 | D17: INSURANCE : LIMITATION OF LIABILITY (Amounts applicable for whole Contract)
B18: 1A-3.8.1 | D18: The minimum amount of cover for insurance against loss and damage caused by the Contractor to the Employer’s property liability limit of R5 000 000 to cover requirements of Clause 83.1 in Contract Data | E18: Month | F18: 36
B19: 1A-3.8.2 | D19: The insurance against loss of or damage to the works, Plant and Materials is to include cover for Plant and Materials provided by the Employer to a Minimum liability limit of R5 000 000 to cover requirements of Clause 83.1 in Contract Data | E19: Month | F19: 36
B20: 1A-3.8.3 | D20: The minimum amount of cover for insurance in respect of loss of or damage to property and liability for bodily injury to or death of a person to a Minimum liability limit of R5 000 000 to cover requirements of Clause 83.1 in Contract Data | E20: Month | F20: 36
B21: 1A-3.9 | C21: X13 | D21: PERFORMANCE BOND (Amounts applicable for whole Contract)
B22: 1A-3.9.1 | D22: Provision for a Performance bond of not less than 2,5% of the Tender Value | E22: Month | F22: 36
B30: TOTAL CARRIED FORWARD TO SUMMARY | H30: =SUM(H10:H22) -> 0

Sheet SCHED 1A-4_CH
B2: ='SCHED 1A-1_CH'!B2 -> ECDOH GENERAL ELECTRICAL MV MAINTENANCE AND REPAIR CONTRACT
B3: CONTRACT REF. NO: | D3: ='SCHED 1A-1_CH'!D3 -> SCMU3-24/25-0459-HO | E3: Cluster/District: | G3: ='SCHED 1A-1_CH'!G3 -> Chris Hani DM
B4: ASSET TYPE: | D4: ='SCHED 1A-1_CH'!D4 -> MV INSTALLATIONS
B6: SCHEDULE 1A-4: | D6: FIXED CHARGE AND VALUE RELATED ITEMS APPLICABLE TO ALL WORK
B8: ITEM Nr. | C8: PAYMENT REFERS | D8: DESCRIPTION | E8: UNIT | F8: QTY | G8: RATE | H8: AMOUNT
B9: 1A-4 | C9: GM 3 | D9: MAINTENANCE CONTROL PLAN : Compiling of a detailed Maintenance Control Plan for each Health Facility included in this Tender (See SS 3 for facility listing)
B10: 1A-4.1 | D10: Cradock Provincial Hospital | E10: Item | F10: 1
B11: 1A-4.2 | D11: Komani Hospital | E11: Item | F11: 1
B12: 1A-4.3 | D12: Frontier Hospital | E12: Item | F12: 1
B13: 1A-4.4 | D13: All Saints Hospital | E13: Item | F13: 1
B15: 1A-4.6 | C15: SS15 | D15: IN-SERVICE TRAINING OF GRADUATES AND INTERNS : Provisional Sum to pay the costs associated with employing nominated Interns and Graduates for the duration of the Contract
B16: 1A-4.6.1 | D16: Interns | E16: Months | F16: 36 | G16: 5000 | H16: =F16*G16 -> 180000
B17: 1A-4.6.2 | D17: Graduates | E17: Months | F17: 36 | G17: 7000 | H17: =F17*G17 -> 252000
B18: 1A-4.6.3 | D18: Direct Fee Percentage (Mark-up) to be charged by Contractor on amount in items 6.1 and 6.2 above | E18: %
B19: 1A-4.7 | C19: SS16 | D19: PROVISION OF ASSET APPLICABLE ACCREDITED TRAINING : Arranging of Accredited Asset Applicable Training for Operating and Maintenance Staff as per SS16 | E19: Psum | F19: 1 | G19: 345000 | H19: 345000
B20: 1A-4.7.1 | C20: Clause 11.2(8) | D20: Direct Fee Percentage (Mark-up) to be charged by Contractor on amount above | E20: %
B28: TOTAL CARRIED FORWARD TO SUMMARY | H28: =SUM(H10:H20) -> 777000

Sheet SCHED 1B-1_JG
B2: =SUMMARY!B2 -> ECDOH GENERAL ELECTRICAL MV MAINTENANCE AND REPAIR CONTRACT
B3: ='SCHED 1A-1_CH'!B3 -> CONTRACT REF. NO: | D3: =+SUMMARY!D4 -> SCMU3-24/25-0459-HO | E3: Cluster/District: | G3: Joe Gqabi DM
B4: ='SCHED 1A-1_CH'!B4 -> ASSET TYPE: | D4: ='SCHED 1A-1_CH'!D4 -> MV INSTALLATIONS
B6: SCHEDULE 1B-1 : | D6: FIXED CHARGE AND VALUE RELATED ITEMS APPLICABLE TO ALL WORK
B8: ITEM Nr. | C8: PAYMENT REFERS | D8: DESCRIPTION | E8: UNIT | F8: QTY | G8: RATE | H8: AMOUNT
B9: 1B-1 | C9: GM 2.5 | D9: VERIFICATION OF SPARE PART INVENTORY ON SITE : Find and verify all spares for the asset type that is currently available on site
B10: 1B-1.1 | D10: Burgersdorp Hospital
B11: 1B.1.1.1 | D11: 630kVA Transformer | E11: Item | F11: 1
B13: TOTAL CARRIED FORWARD TO SUMMARY | H13: =SUM(H10:H12) -> 0

Sheet SCHED 1B-2_JG
B2: =SUMMARY!B2 -> ECDOH GENERAL ELECTRICAL MV MAINTENANCE AND REPAIR CONTRACT
B3: ='SCHED 1A-1_CH'!B3 -> CONTRACT REF. NO: | D3: =+SUMMARY!D4 -> SCMU3-24/25-0459-HO | E3: Cluster/District: | G3: ='SCHED 1B-1_JG'!G3 -> Joe Gqabi DM
B4: ='SCHED 1A-1_CH'!B4 -> ASSET TYPE: | D4: ='SCHED 1A-1_CH'!D4 -> MV INSTALLATIONS
B6: SCHEDULE 1B-2: | D6: FIXED CHARGE AND VALUE RELATED ITEMS APPLICABLE TO ALL WORK (continued)
B8: ITEM Nr. | C8: PAYMENT REFERS | D8: DESCRIPTION | E8: UNIT | F8: QTY | G8: RATE | H8: AMOUNT
B9: 1B-2 | C9: GM 2.7 | D9: COMPILING OF OPERATING AND MAINTENANCE MANUALS : Compile three sets of O&M Manuals per site per asset type and asset model as per information from the Asset Register C4.1
B10: 1B-2.1 | D10: Burgersdorp Hospital
B11: 1B-2.1.1 | D11: 630kVA Transformer | E11: Item | F11: 1
B13: TOTAL CARRIED FORWARD TO SUMMARY | H13: =SUM(H10:H12) -> 0

Sheet SCHED 1B-3_JG
B2: =SUMMARY!B2 -> ECDOH GENERAL ELECTRICAL MV MAINTENANCE AND REPAIR CONTRACT
B3: CONTRACT REF. NO: | D3: =+SUMMARY!D4 -> SCMU3-24/25-0459-HO | E3: Cluster/District: | G3: ='SCHED 1B-1_JG'!G3 -> Joe Gqabi DM
B4: ASSET TYPE: | D4: ='SCHED 1A-1_CH'!D4 -> MV INSTALLATIONS
B6: SCHEDULE 1B-3: | D6: FIXED CHARGE AND VALUE RELATED ITEMS APPLICABLE TO ALL WORK (continued)
B8: ITEM Nr. | C8: PAYMENT REFERS | D8: DESCRIPTION | E8: UNIT | F8: QTY | G8: RATE | H8: AMOUNT
B9: 1B-3 | C9: SS 8 & 9 | D9: OPERATOR AND MAINTAINER TRAINING : Provide Operator and Maintainer training as per SS8 and SS9
B10: 1B-3.1 | D10: Burgersdorp Hospital | E10: Hrs | F10: 10
B12: 1B-3.5 | C12: GM 2.15 | D12: ENVIRONMENTAL MANAGEMENT PLAN : The Contractor must compile a basic Environmental plan specific to the type of work that he will be performing at the Health Facilities as per C3.2 | E12: Item | F12: 36
B13: 1B-3.6 | C13: GM 2.15 | D13: OCCUPATIONAL HEALTH AND SAFETY ACT COMPLIANCE COST : The Contractor must comply to the project Health and Safety Specification specific to the type of work that he will be performing on site as per C3.2 | E13: Month | F13: 36
B14: 1B-3.7 | C14: Clause 83.1 | D14: INSURANCE : LIMITATION OF LIABILITY (Amounts applicable for whole Contract)
B15: 1B-3.7.1 | D15: The minimum amount of cover for insurance against loss and damage caused by the Contractor to the Employer’s property liability limit of R5 000 000 to cover requirements of Clause 83.1 in Contract Data | E15: Month | F15: 36
B16: 1B-3.7.2 | D16: The insurance against loss of or damage to the works, Plant and Materials is to include cover for Plant and Materials provided by the Employer to a Minimum liability limit of R5 000 000 to cover requirements of Clause 83.1 in Contract Data | E16: Month | F16: 36
B17: 1B-3.7.3 | D17: The minimum amount of cover for insurance in respect of loss of or damage to property and liability for bodily injury to or death of a person to a Minimum liability limit of R5 000 000 to cover requirements of Clause 83.1 in Contract Data | E17: Month | F17: 36
B18: 1B-3.8 | C18: X13 | D18: PERFORMANCE BOND (Amounts applicable for whole Contract)
B19: 1B-3.8.1 | D19: Provision for a Performance bond of not less than 2,5% of the Tender Value | E19: Month | F19: 36
B23: TOTAL CARRIED FORWARD TO SUMMARY | H23: =SUM(H10:H19) -> 0

Sheet SCHED 1B-4_JG
B2: ='SCHED 1A-1_CH'!B2 -> ECDOH GENERAL ELECTRICAL MV MAINTENANCE AND REPAIR CONTRACT
B3: CONTRACT REF. NO: | D3: =+SUMMARY!D4 -> SCMU3-24/25-0459-HO | E3: Cluster/District: | G3: ='SCHED 1B-1_JG'!G3 -> Joe Gqabi DM
B4: ASSET TYPE: | D4: ='SCHED 1A-1_CH'!D4 -> MV INSTALLATIONS
B6: SCHEDULE 1B-4: | D6: FIXED CHARGE AND VALUE RELATED ITEMS APPLICABLE TO ALL WORK
B8: ITEM Nr. | C8: PAYMENT REFERS | D8: DESCRIPTION | E8: UNIT | F8: QTY | G8: RATE | H8: AMOUNT
B9: 1B-4 | C9: GM 3 | D9: MAINTENANCE CONTROL PLAN : Compiling of a detailed Maintenance Control Plan for each Health Facility included in this Tender (See SS 3 for facility listing)
B10: 1B-4.1 | D10: Burgersdorp Hospital | E10: Item | F10: 1
B12: 1B-4.5 | C12: SS 8 & SS 9 | D12: IN-SERVICE TRAINING OF GRADUATES AND INTERNS : Provisional Sum to pay the costs associated with employing nominated Interns and Graduates for the duration of the Contract
B13: 1B-4.5.1 | D13: Interns | E13: Months | F13: 36 | G13: 5000 | H13: =F13*G13 -> 180000
B14: 1B-4.5.2 | D14: Graduates | E14: Months | F14: 36 | G14: 7000 | H14: =F14*G14 -> 252000
B15: 1B-4.5.3 | D15: Direct Fee Percentage (Mark-up) to be charged by Contractor on amount in items 6.1 and 6.2 above | E15: %
B16: 1B-4.6 | C16: SS 8 & SS 9 | D16: PROVISION OF ASSET APPLICABLE ACCREDITED TRAINING : Arranging of Accredited Asset Applicable Training for Operating and Maintenance Staff | E16: Psum | F16: 1 | G16: 345000 | H16: =F16*G16 -> 345000
B17: 1B-4.6.1 | C17: Clause 11.2(8) | D17: Direct Fee Percentage (Mark-up) to be charged by Contractor on amount above | E17: %
B21: TOTAL CARRIED FORWARD TO SUMMARY | H21: =SUM(H10:H17) -> 777000

Sheet SCHED 2A-1_CH
B2: =SUMMARY!B2 -> ECDOH GENERAL ELECTRICAL MV MAINTENANCE AND REPAIR CONTRACT
B3: CONTRACT REF. NO: | D3: =+SUMMARY!D4 -> SCMU3-24/25-0459-HO | E3: Cluster/District: | G3: ='SCHED 1A-4_CH'!G3 -> Chris Hani DM
B4: ASSET TYPE: | D4: MV INSTALLATIONS
B6: SCHEDULE 2A-1: | D6: FUNCTIONAL REPAIR SCHEDULE
B8: ITEM Nr. | C8: PAYMENT REFERS | D8: DESCRIPTION | E8: UNIT | F8: QTY | G8: RATE | H8: AMOUNT
B9: 2A-1 | C9: GM 2.5 | D9: FUNCTIONAL CONDITION ASSESSMENT : Perform Functional Condition Assessment (Inspection and Testing) on all listed assets at all Health Facilities included in the Tender. Compile Functional Condition Assessment Report for all asset types at all Health Facilities included in the Tender
B10: 2A-1.1 | D10: Cradock Provincial Hospital
B11: 2A-1.1.1 | D11: 200kVA Transformer | E11: Item | F11: 2
B12: 2A-1.1.2 | D12: MV Switchgear (Isolator, Circuit breaker) | E12: Item | F12: 2
B13: 2A-1.2 | D13: Komani Hospital
B14: 2A-1.2.1 | D14: 800kVA Transformer | E14: Item | F14: 1
B15: 2A-1.2.2 | D15: 500kVA Mini-Substation | E15: Item | F15: 2
B16: 2A-1.2.3 | D16: 400kVA Transformer | E16: Item | F16: 2
B17: 2A-1.2.4 | D17: 315kVA Mini-Substation | E17: Item | F17: 1
B18: 2A-1.2.5 | D18: 200kVA Transformer | E18: Item | F18: 3
B19: 2A-1.2.6 | D19: 11kVA Mini- Substation | E19: Item | F19: 1
B20: 2A-1.2.7 | D20: MV Switchgear (Isolator, Circuit breaker) | E20: Item | F20: 4
B21: 2A-1.2.8 | D21: Ring Main Unit (RMU) | E21: Item | F21: 3
B22: 2A-1.3 | D22: Frontier Hospital
B23: 2A-1.3.1 | D23: 800kVA Transformer | E23: Item | F23: 1
B24: 2A-1.3.2 | D24: 630kVA Transformer | E24: Item | F24: 1
B25: 2A-1.3.3 | D25: 500kVA Transformer | E25: Item | F25: 2
B26: 2A-1.3.4 | D26: 315kVA Mini-substation | E26: Item | F26: 1
B27: 2A-1.3.5 | D27: 200kVA Mini-substation | E27: Item | F27: 1
B28: 2A-1.3.6 | D28: Ring Main Unit (RMU) | E28: Item | F28: 3
B29: 2A-1.4 | D29: All Saints Hospital
B30: 2A-1.4.1 | D30: 500kVA Transformer | E30: Item | F30: 1
B31: 2A-1.4.2 | D31: 500kVA Transformer | E31: Item | F31: 1
B32: 2A-1.4.3 | D32: MV Switchgear (Isolator, Circuit breaker) | E32: Item | F32: 2
B35: TOTAL CARRIED FORWARD TO SUMMARY | H35: =SUM(H10:H33) -> 0

Sheet SCHED 2A-2_CH
B2: =SUMMARY!B2 -> ECDOH GENERAL ELECTRICAL MV MAINTENANCE AND REPAIR CONTRACT
B3: CONTRACT REF. NO: | D3: =+SUMMARY!D4 -> SCMU3-24/25-0459-HO | E3: Cluster/District: | G3: ='SCHED 2A-1_CH'!G3 -> Chris Hani DM
B4: ASSET TYPE: | D4: MV INSTALLATIONS
B6: SCHEDULE 2A-2: | D6: FUNCTIONAL REPAIR SCHEDULE (continued)
B8: ITEM Nr. | C8: PAYMENT REFERS | D8: DESCRIPTION | E8: UNIT | F8: QTY | G8: RATE | H8: AMOUNT
B9: 2A-2 | C9: GM 2.5. | D9: COMPILING OF DETAILED REPAIR SCHEDULE : Compile detailed, comprehensive repair schedule including defect description, recommended repair method, detailed quote including priced spare parts, outsourced work, and provisional work program, for each Health Facility and asset type.
B10: 2A-2.1 | D10: Cradock Provincial Hospital
B11: 2A-2.1.1 | D11: 200kVA Transformer | E11: Item | F11: 2
B12: 2A-2.1.2 | D12: MV Switchgear (Isolator, Circuit breaker) | E12: Item | F12: 2
B13: 2A-2.2 | D13: Komani Hospital
B14: 2A-2.2.1 | D14: 800kVA Transformer | E14: Item | F14: 1
B15: 2A-2.2.2 | D15: 500kVA Mini-Substation | E15: Item | F15: 2
B16: 2A-2.2.3 | D16: 400kVA Transformer | E16: Item | F16: 2
B17: 2A-2.2.4 | D17: 315kVA Mini-Substation | E17: Item | F17: 1
B18: 2A-2.2.5 | D18: 200kVA Transformer | E18: Item | F18: 3
B19: 2A-2.2.6 | D19: 11kVA Mini- Substation | E19: Item | F19: 1
B20: 2A-2.2.7 | D20: MV Switchgear (Isolator, Circuit breaker) | E20: Item | F20: 4
B21: 2A-2.2.8 | D21: Ring Main Unit (RMU) | E21: Item | F21: 3
B22: 2A-2.3 | D22: Frontier Hospital
B23: 2A-2.3.1 | D23: 800kVA Transformer | E23: Item | F23: 1
B24: 2A-2.3.2 | D24: 630kVA Transformer | E24: Item | F24: 1
B25: 2A-2.3.3 | D25: 500kVA Transformer | E25: Item | F25: 2
B26: 2A-2.3.4 | D26: 315kVA Mini-substation | E26: Item | F26: 1
B27: 2A-2.3.5 | D27: 200kVA Mini-substation | E27: Item | F27: 1
B28: 2A-2.3.6 | D28: Ring Main Unit (RMU) | E28: Item | F28: 3
B29: 2A-2.4 | D29: All Saints Hospital
B30: 2A-2.4.1 | D30: 500kVA Transformer | E30: Item | F30: 1
B31: 2A-2.4.2 | D31: 500kVA Transformer | E31: Item | F31: 1
B32: 2A-2.4.3 | D32: MV Switchgear (Isolator, Circuit breaker) | E32: Item | F32: 2
B37: TOTAL CARRIED FORWARD TO SUMMARY | H37: =SUM(H10:H35) -> 0

Sheet SCHED 2B-1_JG
B2: =SUMMARY!B2 -> ECDOH GENERAL ELECTRICAL MV MAINTENANCE AND REPAIR CONTRACT
B3: ='SCHED 1A-1_CH'!B3 -> CONTRACT REF. NO: | D3: =+SUMMARY!D4 -> SCMU3-24/25-0459-HO | E3: Cluster/District: | G3: ='SCHED 1B-4_JG'!G3 -> Joe Gqabi DM
B4: ='SCHED 1A-1_CH'!B4 -> ASSET TYPE: | D4: ='SCHED 1A-1_CH'!D4 -> MV INSTALLATIONS
B6: SCHEDULE 2B-1: | D6: FUNCTIONAL REPAIR SCHEDULE
B8: ITEM Nr. | C8: PAYMENT REFERS | D8: DESCRIPTION | E8: UNIT | F8: QTY | G8: RATE | H8: AMOUNT
B9: 2B-1 | C9: GM 2.5 | D9: FUNCTIONAL CONDITION ASSESSMENT : Perform Functional Condition Assessment (Inspection and Testing) on all listed assets at all Health Facilities included in the Tender. Compile Functional Condition Assessment Report for all asset types at all Health Facilities
B10: 2B-1.1 | D10: Burgersdorp Hospital
B11: 2B.1.1.1 | D11: 630kVA Transformer | E11: Item | F11: 1
B13: TOTAL CARRIED FORWARD TO SUMMARY | H13: =SUM(H10:H12) -> 0

Sheet SCHED 2B-2_JG
B2: =SUMMARY!B2 -> ECDOH GENERAL ELECTRICAL MV MAINTENANCE AND REPAIR CONTRACT
B3: ='SCHED 1A-1_CH'!B3 -> CONTRACT REF. NO: | D3: =+SUMMARY!D4 -> SCMU3-24/25-0459-HO | E3: Cluster/District: | G3: ='SCHED 2B-1_JG'!G3 -> Joe Gqabi DM
B4: ='SCHED 1A-1_CH'!B4 -> ASSET TYPE: | D4: ='SCHED 1A-1_CH'!D4 -> MV INSTALLATIONS
B6: SCHEDULE 2B-2: | D6: FUNCTIONAL REPAIR SCHEDULE (continued)
B8: ITEM Nr. | C8: PAYMENT REFERS | D8: DESCRIPTION | E8: UNIT | F8: QTY | G8: RATE | H8: AMOUNT
B9: 2B-2 | C9: GM 2.5 | D9: COMPILING OF DETAILED REPAIR SCHEDULE : Compile detailed, comprehensive repair schedule including defect description, recommended repair method, detailed quote including priced spare parts, outsourced work, and provisional work program, for each Health Facility and asset type.
B10: 2B-2.1 | D10: Burgersdorp Hospital
B11: 2B-2.1.1 | D11: 630kVA Transformer | E11: Item | F11: 1
B13: TOTAL CARRIED FORWARD TO SUMMARY | H13: =SUM(H10:H12) -> 0

Sheet SCHEDULE 3A_CH
B2: =[1]SUMMARY!B2 -> SCHEDULED MAINTENANCE AND REPAIRS OF MV EQUIPMENT
B3: ='[1]SCHED 1A-1_NM'!B3 -> CONTRACT REF. NO: | D3: =+SUMMARY!D4 -> SCMU3-24/25-0459-HO | E3: Cluster/District: | I3: ='SCHED 1A-1_CH'!G3 -> Chris Hani DM
B4: ='[1]SCHED 1A-1_NM'!B4 -> ASSET TYPE: | D4: ='[1]SCHED 1A-1_NM'!D4 -> MEDIUM VOLTAGE EQUIPMENT
B6: SCHEDULE 3A : | D6: MAINTENANCE SERVICE SCHEDULE
B8: ITEM Nr. | C8: PAYMENT REFERS | D8: DESCRIPTION | E8: UNIT | F8: No. of Equipment | G8: No. of Services | H8: QTY (A) | I8: RATE (B) | J8: AMOUNT (C) = (A) x (B)
B9: 3A-1 | C9: GM 3.2 | D9: MAINTENANCE WORKS : Standard servicing and planned Maintenance Costs including all parts, consumables and lubricants, labour, travelling, accommodation and subsistence allowances (Price per Equipment)
D10: Cradock Provincial Hospital:
B11: 3A-1.1 | D11: Minor Service Cost : Price per Six Monthly Service / Inspection per machine, as per tasks from the Six Monthly Service Inspection Guideline in C6.
B12: 3A-3.1.1.1 | D12: 200kVA Transformer | E12: Item | F12: 2 | G12: 3 | H12: =G12*F12 -> 6
B13: 3A-3.1.1.2 | D13: MV Switchgear (Isolator, Circuit breaker) | E13: Item | F13: 2 | G13: 3 | H13: =G13*F13 -> 6
B14: 3A-1.2 | D14: Major Service Cost : Price per Annually Service / Inspection per machine, as per tasks from the Annually Service Inspection Guideline in C6.
B15: 3A-3.1.2.1 | D15: 200kVA Transformer | E15: Item | F15: 2 | G15: 4 | H15: =G15*F15 -> 8
B16: 3A-3.1.2.2 | D16: MV Switchgear (Isolator, Circuit breaker) | E16: Item | F16: 2 | G16: 4 | H16: =G16*F16 -> 8
B17: 3A-3.1.2.3 | D17: REPLACEMENT OF LUBRICATING OIL: Oil found to be contaminated after tests shall be replacement with new oil appropriate for the affected equipment. The price shall include removal of contaminated oil from site and disposal of such | E17: Per Litre | F17: 200
D18: Komani Hospital:
B19: 3A-1.3 | D19: Minor Service Cost : Price per Six Monthly Service / Inspection per machine, as per tasks from the Six Monthly Service Inspection Guideline in C6.
B20: 3A-1.3.1 | D20: 800kVA Transformer | E20: Item | F20: 1 | G20: 3 | H20: =G20*F20 -> 3
B21: 3A-1.3.2 | D21: 500kVA Mini-Substation | E21: Item | F21: 2 | G21: 3 | H21: =G21*F21 -> 6
B22: 3A-1.3.3 | D22: 400kVA Transformer | E22: Item | F22: 2 | G22: 3 | H22: =G22*F22 -> 6
B23: 3A-1.3.4 | D23: 315kVA Mini-Substation | E23: Item | F23: 1 | G23: 3 | H23: =G23*F23 -> 3
B24: 3A-1.3.5 | D24: 200kVA Transformer | E24: Item | F24: 3 | G24: 3 | H24: =G24*F24 -> 9
B25: 3A-1.3.6 | D25: 11kVA Mini- Substation | E25: Item | F25: 1 | G25: 3 | H25: =G25*F25 -> 3
B26: 3A-1.3.7 | D26: MV Switchgear (Isolator, Circuit breaker) | E26: Item | F26: 4 | G26: 3 | H26: =G26*F26 -> 12
B27: 3A-1.3.8 | D27: Ring Main Unit (RMU) | E27: Item | F27: 3 | G27: 3 | H27: =G27*F27 -> 9
B28: 3A-1.4 | D28: Major Service Cost : Price per Annually Service / Inspection per machine, as per tasks from the Annually Service Inspection Guideline in C6.
B29: 3A-1.4.1 | D29: 800kVA Transformer | E29: Item | F29: 1 | G29: 4 | H29: =G29*F29 -> 4
B30: 3A-1.4.2 | D30: 500kVA Mini-Substation | E30: Item | F30: 2 | G30: 4 | H30: =G30*F30 -> 8
B31: 3A-1.4.3 | D31: 400kVA Transformer | E31: Item | F31: 2 | G31: 4 | H31: =G31*F31 -> 8
B32: 3A-1.4.4 | D32: 315kVA Mini-Substation | E32: Item | F32: 1 | G32: 4 | H32: =G32*F32 -> 4
B33: 3A-1.4.5 | D33: 200kVA Transformer | E33: Item | F33: 3 | G33: 4 | H33: =G33*F33 -> 12
B34: 3A-1.4.6 | D34: 11kVA Mini- Substation | E34: Item | F34: 1 | G34: 4 | H34: =G34*F34 -> 4
B35: 3A-1.4.7 | D35: MV Switchgear (Isolator, Circuit breaker) | E35: Item | F35: 4 | G35: 4 | H35: =G35*F35 -> 16
B36: 3A-1.4.8 | D36: Ring Main Unit (RMU) | E36: Item | F36: 3 | G36: 4 | H36: =G36*F36 -> 12
B37: 3A-1.4.9 | D37: REPLACEMENT OF LUBRICATING OIL: Oil found to be contaminated after tests shall be replacement with new oil appropriate for the affected equipment. The price shall include removal of contaminated oil from site and disposal of such | E37: Per Litre | F37: 350
D38: Frontier Hospital:
B39: 3A-1.5 | D39: Minor Service Cost : Price per Six Monthly Service / Inspection per machine, as per tasks from the Six Monthly Service Inspection Guideline in C6.
B40: 3A-1.5.1 | D40: 800kVA Transformer | E40: Item | F40: 1 | G40: 3 | H40: =G40*F40 -> 3
B41: 3A-1.5.2 | D41: 630kVA Transformer | E41: Item | F41: 1 | G41: 3 | H41: =G41*F41 -> 3
B42: 3A-1.5.3 | D42: 500kVA Transformer | E42: Item | F42: 2 | G42: 3 | H42: =G42*F42 -> 6
B43: 3A-1.5.4 | D43: 315kVA Mini-substation | E43: Item | F43: 1 | G43: 3 | H43: =G43*F43 -> 3
...

Sheet SCHEDULE 3B_JG
B1: =[1]SUMMARY!B2 -> SCHEDULED MAINTENANCE AND REPAIRS OF MV EQUIPMENT
B2: ='[1]SCHED 1A-1_NM'!B3 -> CONTRACT REF. NO: | D2: =+SUMMARY!D4 -> SCMU3-24/25-0459-HO | E2: Cluster/District: | I2: ='SCHED 1B-1_JG'!G3 -> Joe Gqabi DM
B3: ='[1]SCHED 1A-1_NM'!B4 -> ASSET TYPE: | D3: ='[1]SCHED 1A-1_NM'!D4 -> MEDIUM VOLTAGE EQUIPMENT
B5: SCHEDULE 3B : | D5: MAINTENANCE SERVICE SCHEDULE
B7: ITEM Nr. | C7: PAYMENT REFERS | D7: DESCRIPTION | E7: UNIT | F7: No. of Equipment | G7: No. of Services | H7: QTY (A) | I7: RATE (B) | J7: AMOUNT (C) = (A) x (B)
B8: 3B-1 | C8: GM 3.2 | D8: MAINTENANCE WORKS : Standard servicing and planned Maintenance Costs including all parts, consumables and lubricants, labour, travelling, accommodation and subsistence allowances (Price per Equipment)
D9: Burgersdorp Hospital:
B10: 3B-1.1 | D10: Minor Service Cost : Price per Six Monthly Service / Inspection per machine, as per tasks from the Six Monthly Service Inspection Guideline in C6.
B11: 3B-1.1.1 | D11: 630kVA Transformer | E11: Item | F11: 1 | G11: 3 | H11: =G11*F11 -> 3
B12: 3B-1.2 | D12: Major Service Cost : Price per Annually Service / Inspection per machine, as per tasks from the Annually Service Inspection Guideline in C6. | E12: No
B13: 3B-1.2.1 | D13: 630kVA Transformer | E13: Item | F13: 1 | G13: 4 | H13: =G13*F13 -> 4
B14: 3B-1.2.6 | D14: REPLACEMENT OF LUBRICATING OIL: Oil found to be contaminated after tests shall be replacement with new oil appropriate for the affected equipment. The price shall include removal of contaminated oil from site and disposal of such | E14: Per Litre | F14: 100
B16: TOTAL CARRIED FORWARD TO SUMMARY | J16: =SUM(J11:J14) -> 0

Sheet SCHEDULE 4
B2: =[1]SUMMARY!B2 -> SCHEDULED MAINTENANCE AND REPAIRS OF MV EQUIPMENT
B3: CONTRACT REF. NO: | D3: =+SUMMARY!D4 -> SCMU3-24/25-0459-HO | E3: Cluster/District: | G3: =SUMMARY!F4 -> Cluster Two - Chris Hani & Joe Gqabi
B4: ASSET TYPE: | D4: ='[1]SCHED 1A-1_NM'!D4 -> MEDIUM VOLTAGE EQUIPMENT
B6: SCHEDULE 4 : | D6: TERM REPAIRS SUBJECT TO APPROVAL OF QUOTATION OF THE WORKS
B8: ITEM Nr. | C8: PAYMENT REFERS | D8: DESCRIPTION | E8: UNIT | F8: QTY | G8: RATE | H8: AMOUNT
B9: 4.1 | C9: GM 2.8 | D9: LABOUR RATES APPLICABLE TO UNSCHEDULED WORK: Labour rates that Contractor will charge for additional adhoc work that is not contained in Schedules 1 to 3.
B10: 4.1.1 | D10: Electrical Maintenance Supervisor | E10: Hr | F10: 300
B11: 4.1.2 | D11: Artisan (Trade Tested) | E11: Hr | F11: 430
B12: 4.1.3 | D12: Artisan Aid | E12: Hr | F12: 500
B14: 4.2 | C14: GM 2.8.3 | D14: TRAVELLING : Travelling cost will be as per the rates for reimbursable expenses published monthly by the National Department of Public Works at the time of rendering the service/repair. (To be paid on proven cost)
B15: 4.2.1 | D15: Vehicle Travelling Estimate | E15: Km | F15: 110000
B16: 4.3 | C16: GM 2.8.3 | D16: ACCOMMODATION AND SUBSISTENCE : Daily Rates per person that the Contractor will claim for approved trips lasting more than one day at a time. (To be paid on proven cost)
B17: 4.3.1 | D17: Accommodation | E17: Per/night | F17: 60
B19: 4.4 | C19: GM 2.5, GM 2.8.1 & GM 2.10.3 | D19: PROVISION TO COVER REPAIRS DURING THE TERM OF THE CONTRACT : Lump Sum Provision to cover repairs and breakdowns during the course of the Contract in addition to the agreed routine servicing of the Assets. | E19: PSum | F19: 1 | G19: 4000000 | H19: =G19 -> 4000000
B20: 4.4.1 | C20: GM 2.8.1 & Clause 11.2(8) | D20: DIRECT FEE PERCENTAGE (MARK-UP) ON MATERIALS AND SERVICES THAT IS NOT INCLUDED IN PRICE LISTS : Mark-up on proven cost for materials and/or Outsourced Services based on the Provisional sum listed in Item 4.4 above. (Apply % to provisional sum in Item 4 above when pricing the tender) | E20: %
B27: TOTAL CARRIED FORWARD TO SUMMARY | H27: =SUM(H10:H21) -> 4000000

Sheet WORK ORDERS  01 LAETITIA BAM CH
A9: QUOTE TO : | F9: Qoute No | H9: 1
A10: Department of Health | F10: Date | H10: 43770
A11: 717 Dukumbana Building | F11: Facility | H11: LAETITIA BAM CHC
A12: Independent Avenue | F12: Work Order | H12: 39138
A13: Bhisho | F13: Tender No | H13: SCMU3 - 17/18-0303 - HO
F14: Contract Term | H14: 24 MONTHS
A15: WORK REQUEST : Generator is faulty.
A16: SCHEDULED WORK
A17: Item 1 | B17: Discription | E17: Unit | F17: Sch No | G17: Quantity | H17: Rate | I17: Amount
I18: =SUM(G18*H18) -> 0
I19: =SUM(G19*H19) -> 0
I20: =SUM(G20*H20) -> 0
A21: Sub Total A | I21: =SUM(I18:I20) -> 0
A22: NON SCHEDULED WORK
A23: Item 2 | B23: Discription | F23: Quantity | G23: Mark -Up | H23: Rate | I23: Amount
A24: 1 | B24: RELAY 11 PIN 12V DC | F24: 2 | G24: 0.15 | H24: 110 | I24: =H24*F24*1.15 -> 253
A25: 2 | B25: RELAY BASE | F25: 2 | G25: 0.15 | H25: 65 | I25: =H25*F25*1.15 -> 149.5
A26: 3 | B26: DEEPSEA CONTROLLER | F26: 1 | G26: 0.15 | H26: 6239 | I26: =H26*F26*1.15 -> 7174.85
A27: 4 | B27: MCB 6A SP | F27: 2 | G27: 0.15 | H27: 21.6 | I27: =H27*F27*1.15 -> 49.68
A28: 5 | B28: RED STOP TWIST RELEASE | F28: 2 | G28: 0.15 | H28: 65.5 | I28: =H28*F28*1.15 -> 150.65
A29: 6 | B29: CONTACT BLOCK 1N/0 + 1N/C | F29: 2 | G29: 0.15 | H29: 68.5 | I29: =H29*F29*1.15 -> 157.55
A32: Sub Total B | I32: =SUM(I24:I31) -> 7935.23
A33: LABOUR
A34: Item 3 | B34: (Normal Rate) | E34: Unit | G34: Quantity | H34: Rate | I34: Amount
A35: 1 | B35: Techinician | E35: HRS | G35: 15 | H35: 450 | I35: =SUM(G35*H35) -> 6750
A36: 2 | B36: Senior Artisan | E36: HRS | H36: 350 | I36: =SUM(G36*H36) -> 0
A37: 3 | B37: Artisan (Trade Tested) | E37: HRS | H37: 300 | I37: =SUM(G37*H37) -> 0
A38: 4 | B38: Utility Man (Non - Trade Tested) | E38: HRS | G38: 15 | H38: 200 | I38: =SUM(G38*H38) -> 3000
A39: 5 | B39: Artisan Aid | E39: HRS | H39: 200 | I39: =SUM(G39*H39) -> 0
A40: 6 | B40: General Worker | E40: HRS | H40: 140 | I40: =SUM(G40*H40) -> 0
A44: Sub Total C | I44: =SUM(I35:I43) -> 9750
A45: TRANSPORT
A46: Item 4 | B46: Destinantion | E46: No of Trips | G46: KMs | H46: Rate | I46: Amount
A47: 12 | B47: Port Elizabeth office to Laetitia Bam
B48: CHC and back. | E48: 2 | G48: 154.4 | H48: 5 | I48: =H48*G48 -> 772
A50: Sub Total D | I50: =SUM(I47:I49) -> 772
G52: Sub Total (A+B+C+D) | I52: =I50+I44+I32+I21 -> 18457.23
G54: Sub Total | I54: =I52+I53 -> 18457.23

Sheet JOSE PEARSON TB HOSPITAL (02)
A9: QUOTE TO : | F9: Qoute No | H9: 2
A10: Department of Health | F10: Date | H10: 43498
A11: 717 Dukumbana Building | F11: Facility | H11: JOSE PEARSON TB HOSPITAL
A12: Independent Avenue | F12: Work Order | H12: 40578
A13: Bhisho | F13: Tender No | H13: SCMU3 - 17/18-0303 - HO
F14: Contract Term | H14: 24 MONTHS
A15: WORK REQUEST : Phamarcy building dep needs to be connected to the gen
A16: SCHEDULED WORK
A17: Item 1 | B17: Discription | E17: Unit | F17: Sch No | G17: Quantity | H17: Rate | I17: Amount
I18: =SUM(G18*H18) -> 0
I19: =SUM(G19*H19) -> 0
I20: =SUM(G20*H20) -> 0
A21: Sub Total A | I21: =SUM(I18:I20) -> 0
A22: NON SCHEDULED WORK
A23: Item 2 | B23: Discription | F23: Quantity | G23: MarK UP | H23: Rate | I23: Amount
A32: Sub Total B | I32: =SUM(I24:I31) -> 0
A33: LABOUR
A34: Item 3 | B34: (Normal Rate) | E34: Unit | G34: Quantity | H34: Rate | I34: Amount
A35: 1 | B35: Techinician | E35: HRS | G35: 6 | H35: 450 | I35: =SUM(G35*H35) -> 2700
A36: 2 | B36: Senior Artisan | E36: HRS | H36: 350 | I36: =SUM(G36*H36) -> 0
A37: 3 | B37: Artisan (Trade Tested) | E37: HRS | H37: 300 | I37: =SUM(G37*H37) -> 0
A38: 4 | B38: Utility Man (Non - Trade Tested) | E38: HRS | G38: 6 | H38: 200 | I38: =SUM(G38*H38) -> 1200
A39: 5 | B39: Artisan Aid | E39: HRS | H39: 200 | I39: =SUM(G39*H39) -> 0
A40: 6 | B40: General Worker | E40: HRS | H40: 140 | I40: =SUM(G40*H40) -> 0
A44: Sub Total C | I44: =SUM(I35:I43) -> 3900
A45: TRANSPORT
A46: Item 4 | B46: Destinantion | E46: No of Trips | G46: KMs | H46: Rate | I46: Amount
A47: 12 | B47: Port Elizabeth office to Jose Pearson
B48: TB Hospital and back. | E48: 1 | G48: 47 | H48: 5 | I48: =H48*G48 -> 235
A50: Sub Total D | I50: =SUM(I47:I49) -> 235
G52: Sub Total (A+B+C+D) | I52: =I50+I44+I32+I21 -> 4135
G54: Sub Total | I54: =I52 -> 4135

Sheet NEW BRIGHTON MORTUARY (03)
A9: QUOTE TO : | F9: Qoute No | H9: 3
A10: Department of Health | F10: Date | H10: 43801
A11: 717 Dukumbana Building | F11: Facility | H11: NEW BRIGHTON MORTUARY
A12: Independent Avenue | F12: Work Order | H12: 41253
A13: Bhisho | F13: Tender No | H13: SCMU3 - 17/18-0303 - HO
F14: Contract Term | H14: 24 MONTHS
A15: WORK REQUEST : Gen does not start.
A16: SCHEDULED WORK
A17: Item 1 | B17: Discription | E17: Unit | F17: Sch No | G17: Quantity | H17: Rate | I17: Amount
I18: =SUM(G18*H18) -> 0
I19: =SUM(G19*H19) -> 0
I20: =SUM(G20*H20) -> 0
A21: Sub Total A | I21: =SUM(I18:I20) -> 0
A22: NON SCHEDULED WORK
A23: Item 2 | B23: Discription | F23: Quantity | G23: MarK UP | H23: Rate | I23: Amount
A32: Sub Total B | I32: =SUM(I24:I31) -> 0
A33: LABOUR
A34: Item 3 | B34: (Normal Rate) | E34: Unit | G34: Quantity | H34: Rate | I34: Amount
A35: 1 | B35: Techinician | E35: HRS | G35: 1.5 | H35: 450 | I35: =SUM(G35*H35) -> 675
A36: 2 | B36: Senior Artisan | E36: HRS | H36: 350 | I36: =SUM(G36*H36) -> 0
A37: 3 | B37: Artisan (Trade Tested) | E37: HRS | H37: 300 | I37: =SUM(G37*H37) -> 0
A38: 4 | B38: Utility Man (Non - Trade Tested) | E38: HRS | G38: 1.5 | H38: 200 | I38: =SUM(G38*H38) -> 300
A39: 5 | B39: Artisan Aid | E39: HRS | H39: 200 | I39: =SUM(G39*H39) -> 0
A40: 6 | B40: General Worker | E40: HRS | H40: 140 | I40: =SUM(G40*H40) -> 0
A44: Sub Total C | I44: =SUM(I35:I43) -> 975
A45: TRANSPORT
A46: Item 4 | B46: Destinantion | E46: No of Trips | G46: KMs | H46: Rate | I46: Amount
A47: 12 | B47: Port Elizabeth office to New Brighton
B48: Mortuary and back. | E48: 1 | G48: 21.4 | H48: 5 | I48: =H48*G48 -> 107
A50: Sub Total D | I50: =SUM(I47:I49) -> 107
G52: Sub Total (A+B+C+D) | I52: =I50+I44+I32+I21 -> 1082
G54: Sub Total | I54: =I52+I53 -> 1082

Sheet DORA NGIZA HOSPITAL (04)
A9: QUOTE TO : | F9: Qoute No | H9: 4
A10: Department of Health | F10: Date | H10: 43771
A11: 717 Dukumbana Building | F11: Facility | H11: DORA NGINZA HOSPITAL
A12: Independent Avenue | F12: Work Order | H12: 41177
A13: Bhisho | F13: Tender No | H13: SCMU3 - 17/18-0303 - HO
F14: Contract Term | H14: 24 MONTHS
A15: WORK REQUEST : Request to repair faulty cable connecting to thechange over switch.
A16: SCHEDULED WORK
A17: Item 1 | B17: Discription | E17: Unit | F17: Sch No | G17: Quantity | H17: Rate | I17: Amount
I18: =SUM(G18*H18) -> 0
I19: =SUM(G19*H19) -> 0
I20: =SUM(G20*H20) -> 0
A21: Sub Total A | I21: =SUM(I18:I20) -> 0
A22: NON SCHEDULED WORK
A23: Item 2 | B23: Discription | F23: Quantity | G23: Mark - Up | H23: Rate | I23: Amount
A24: 1 | B24: ELECTRO PHASE FAILER RELAY 400V | F24: 1 | G24: 0.15 | H24: 396 | I24: =H24*F24*1.15 -> 455.4
A25: 2 | B25: 10 X 38mm FUSE 100KVA | F25: 1 | G25: 0.15 | H25: 12 | I25: =H25*F25*1.15 -> 13.8
A32: Sub Total B | I32: =SUM(I24:I31) -> 469.2
A33: LABOUR
A34: Item 3 | B34: (Normal Rate) | E34: Unit | G34: Quantity | H34: Rate | I34: Amount
A35: 1 | B35: Techinician | E35: HRS | G35: 2 | H35: 450 | I35: =SUM(G35*H35) -> 900
A36: 2 | B36: Senior Artisan | E36: HRS | H36: 350 | I36: =SUM(G36*H36) -> 0
A37: 3 | B37: Artisan (Trade Tested) | E37: HRS | H37: 300 | I37: =SUM(G37*H37) -> 0
A38: 4 | B38: Utility Man (Non - Trade Tested) | E38: HRS | G38: 2 | H38: 200 | I38: =SUM(G38*H38) -> 400
A39: 5 | B39: Artisan Aid | E39: HRS | H39: 200 | I39: =SUM(G39*H39) -> 0
A40: 6 | B40: General Worker | E40: HRS | H40: 140 | I40: =SUM(G40*H40) -> 0
A44: Sub Total C | I44: =SUM(I35:I43) -> 1300
A45: TRANSPORT
A46: Item 4 | B46: Destinantion | E46: No of Trips | G46: KMs | H46: Rate | I46: Amount
A47: 1 | B47: Port Elizabeth office to Dora Nginza
B48: Hospital and back. | E48: 1 | G48: 28.6 | H48: 5 | I48: =H48*G48 -> 143
A50: Sub Total D | I50: =SUM(I47:I49) -> 143
G52: Sub Total (A+B+C+D) | I52: =I50+I44+I32+I21 -> 1912.2
G54: Sub Total | I54: =I52+I53 -> 1912.2

Sheet LAETITIA BAM CHC (05)
A9: QUOTE TO : | F9: Qoute No | H9: 5
A10: Department of Health | F10: Date | H10: 43740
A11: 717 Dukumbana Building | F11: Facility | H11: LAETITIA BAM CHC
A12: Independent Avenue | F12: Work Order | H12: 41140
A13: Bhisho | F13: Tender No | H13: SCMU3 - 17/18-0303 - HO
F14: Contract Term | H14: 24 MONTHS
A15: WORK REQUEST : Gen did not start.
A16: SCHEDULED WORK
A17: Item 1 | B17: Discription | E17: Unit | F17: Sch No | G17: Quantity | H17: Rate | I17: Amount
I18: =SUM(G18*H18) -> 0
I19: =SUM(G19*H19) -> 0
I20: =SUM(G20*H20) -> 0
A21: Sub Total A | I21: =SUM(I18:I20) -> 0
A22: NON SCHEDULED WORK
A23: Item 2 | B23: Discription | F23: Quantity | H23: Rate | I23: Amount
A32: Sub Total B | I32: =SUM(I24:I31) -> 0
A33: LABOUR
A34: Item 3 | B34: (Normal Rate) | E34: Unit | G34: Quantity | H34: Rate | I34: Amount
A35: 1 | B35: Techinician | E35: HRS | G35: 1 | H35: 450 | I35: =SUM(G35*H35) -> 450
A36: 2 | B36: Senior Artisan | E36: HRS | H36: 350 | I36: =SUM(G36*H36) -> 0
A37: 3 | B37: Artisan (Trade Tested) | E37: HRS | H37: 300 | I37: =SUM(G37*H37) -> 0
A38: 4 | B38: Utility Man (Non - Trade Tested) | E38: HRS | G38: 1 | H38: 200 | I38: =SUM(G38*H38) -> 200
A39: 5 | B39: Artisan Aid | E39: HRS | H39: 200 | I39: =SUM(G39*H39) -> 0
A40: 6 | B40: General Worker | E40: HRS | H40: 140 | I40: =SUM(G40*H40) -> 0
A44: Sub Total C | I44: =SUM(I35:I43) -> 650
A45: TRANSPORT
A46: Item 4 | B46: Destinantion | E46: No of Trips | G46: KMs | H46: Rate | I46: Amount
A47: 1 | B47: Port Elizabeth office to Laetitia Bam
B48: CHC and back. | E48: 1 | G48: 77.2 | H48: 5 | I48: =H48*G48 -> 386
A50: Sub Total D | I50: =SUM(I47:I49) -> 386
G52: Sub Total (A+B+C+D) | I52: =I50+I44+I32+I21 -> 1036
G54: Sub Total | I54: =I52+I53 -> 1036

Sheet MOTHERWELL CHC (06)
A9: QUOTE TO : | F9: Qoute No | H9: 6
A10: Department of Health | F10: Date | H10: 13/2/2019
A11: 717 Dukumbana Building | F11: Facility | H11: MOTHERWELL CHC
A12: Independent Avenue | F12: Work Order | H12: 41408
A13: Bhisho | F13: Tender No | H13: SCMU3 - 17/18-0303 - HO
F14: Contract Term | H14: 24 MONTHS
A15: WORK REQUEST : Request to repair gen ,not staring.
A16: SCHEDULED WORK
A17: Item 1 | B17: Discription | E17: Unit | F17: Sch No | G17: Quantity | H17: Rate | I17: Amount
I18: =SUM(G18*H18) -> 0
I19: =SUM(G19*H19) -> 0
I20: =SUM(G20*H20) -> 0
A21: Sub Total A | I21: =SUM(I18:I20) -> 0
A22: NON SCHEDULED WORK
A23: Item 2 | B23: Discription | F23: Quantity | H23: Rate | I23: Amount
A32: Sub Total B | I32: =SUM(I24:I31) -> 0
A33: LABOUR
A34: Item 3 | B34: (Normal Rate) | E34: Unit | G34: Quantity | H34: Rate | I34: Amount
A35: 1 | B35: Techinician | E35: HRS | G35: 1 | H35: 450 | I35: =SUM(G35*H35) -> 450
A36: 2 | B36: Senior Artisan | E36: HRS | H36: 350 | I36: =SUM(G36*H36) -> 0
A37: 3 | B37: Artisan (Trade Tested) | E37: HRS | H37: 300 | I37: =SUM(G37*H37) -> 0
A38: 4 | B38: Utility Man (Non - Trade Tested) | E38: HRS | G38: 1 | H38: 200 | I38: =SUM(G38*H38) -> 200
A39: 5 | B39: Artisan Aid | E39: HRS | H39: 200 | I39: =SUM(G39*H39) -> 0
A40: 6 | B40: General Worker | E40: HRS | H40: 140 | I40: =SUM(G40*H40) -> 0
A44: Sub Total C | I44: =SUM(I35:I43) -> 650
A45: TRANSPORT
A46: Item 4 | B46: Destinantion | E46: No of Trips | G46: KMs | H46: Rate | I46: Amount
A47: 12 | B47: Port Elizabeth office to Motherwell
B48: CHC and back. | E48: 1 | G48: 48.8 | H48: 5 | I48: =H48*G48 -> 244
A50: Sub Total D | I50: =SUM(I47:I49) -> 244
G52: Sub Total (A+B+C+D) | I52: =I50+I44+I32+I21 -> 894
G54: Sub Total | I54: =I52+I53 -> 894

Sheet MOTHERWEL CHC (07)
A9: QUOTE TO : | F9: Qoute No | H9: 7
A10: Department of Health | F10: Date | H10: 18/2/2019
A11: 717 Dukumbana Building | F11: Facility | H11: MOTHERWELL CHC
A12: Independent Avenue | F12: Work Order | H12: 43238
A13: Bhisho | F13: Tender No | H13: SCMU3 - 17/18-0303 - HO
F14: Contract Term | H14: 24 MONTHS
A15: WORK REQUEST : Repair to faulty gen keeps on tripping.
A16: SCHEDULED WORK
A17: Item 1 | B17: Discription | E17: Unit | F17: Sch No | G17: Quantity | H17: Rate | I17: Amount
I18: =SUM(G18*H18) -> 0
I19: =SUM(G19*H19) -> 0
I20: =SUM(G20*H20) -> 0
A21: Sub Total A | I21: =SUM(I18:I20) -> 0
A22: NON SCHEDULED WORK
A23: Item 2 | B23: Discription | F23: Quantity | H23: Rate | I23: Amount
A32: Sub Total B | I32: =SUM(I24:I31) -> 0
A33: LABOUR
A34: Item 3 | B34: (Normal Rate) | E34: Unit | G34: Quantity | H34: Rate | I34: Amount
A35: 1 | B35: Techinician | E35: HRS | G35: 1.5 | H35: 450 | I35: =SUM(G35*H35) -> 675
A36: 2 | B36: Senior Artisan | E36: HRS | H36: 350 | I36: =SUM(G36*H36) -> 0
A37: 3 | B37: Artisan (Trade Tested) | E37: HRS | H37: 300 | I37: =SUM(G37*H37) -> 0
A38: 4 | B38: Utility Man (Non - Trade Tested) | E38: HRS | G38: 1.5 | H38: 200 | I38: =SUM(G38*H38) -> 300
A39: 5 | B39: Artisan Aid | E39: HRS | H39: 200 | I39: =SUM(G39*H39) -> 0
A40: 6 | B40: General Worker | E40: HRS | H40: 140 | I40: =SUM(G40*H40) -> 0
A44: Sub Total C | I44: =SUM(I35:I43) -> 975
A45: TRANSPORT
A46: Item 4 | B46: Destinantion | E46: No of Trips | G46: KMs | H46: Rate | I46: Amount
A47: 1 | B47: Port Elizabeth office to Motherwell
B48: CHC and back. | E48: 1 | G48: 48.8 | H48: 5 | I48: =H48*G48 -> 244
A50: Sub Total D | I50: =SUM(I47:I49) -> 244
G52: Sub Total (A+B+C+D) | I52: =I50+I44+I32+I21 -> 1219
G54: Sub Total | I54: =I52+I53 -> 1219

Sheet ORSMOND TB HOSPITAL (08)
A9: QUOTE TO : | F9: Qoute No | H9: 8
A10: Department of Health | F10: Date | H10: 16/2/2019
A11: 717 Dukumbana Building | F11: Facility | H11: ORSMOND TB HOSPITAL
A12: Independent Avenue | F12: Work Order | H12: 43191
A13: Bhisho | F13: Tender No | H13: SCMU3 - 17/18-0303 - HO
F14: Contract Term | H14: 24 MONTHS
A15: WORK REQUEST : Gen faulty.
A16: SCHEDULED WORK
A17: Item 1 | B17: Discription | E17: Unit | F17: Sch No | G17: Quantity | H17: Rate | I17: Amount
I18: =SUM(G18*H18) -> 0
I19: =SUM(G19*H19) -> 0
I20: =SUM(G20*H20) -> 0
A21: Sub Total A | I21: =SUM(I18:I20) -> 0
A22: NON SCHEDULED WORK
A23: Item 2 | B23: Discription | F23: Quantity | G23: Mark - Up | H23: Rate | I23: Amount
A32: Sub Total B | I32: =SUM(I24:I31) -> 0
A33: LABOUR
A34: Item 3 | B34: (Normal Rate) | E34: Unit | G34: Quantity | H34: Rate | I34: Amount
A35: 1 | B35: Techinician | E35: HRS | G35: 2.5 | H35: 450 | I35: =SUM(G35*H35) -> 1125
A36: 2 | B36: Senior Artisan | E36: HRS | H36: 350 | I36: =SUM(G36*H36) -> 0
A37: 3 | B37: Artisan (Trade Tested) | E37: HRS | H37: 300 | I37: =SUM(G37*H37) -> 0
A38: 4 | B38: Utility Man (Non - Trade Tested) | E38: HRS | G38: 2.5 | H38: 200 | I38: =SUM(G38*H38) -> 500
A39: 5 | B39: Artisan Aid | E39: HRS | H39: 200 | I39: =SUM(G39*H39) -> 0
A40: 6 | B40: General Worker | E40: HRS | H40: 140 | I40: =SUM(G40*H40) -> 0
A44: Sub Total C | I44: =SUM(I35:I43) -> 1625
A45: TRANSPORT
A46: Item 4 | B46: Destinantion | E46: No of Trips | G46: KMs | H46: Rate | I46: Amount
A47: 1 | B47: Port Elizabeth office to Orsmmon TB hospital
B48: and back. | E48: 1 | G48: 81.4 | H48: 5 | I48: =H48*G48 -> 407
A50: Sub Total D | I50: =SUM(I47:I49) -> 407
G52: Sub Total (A+B+C+D) | I52: =I50+I44+I32+I21 -> 2032
G54: Sub Total | I54: =I52+I53 -> 2032

Sheet JOSE PEARSON TB HOSPITAL (09)
A9: QUOTE TO : | F9: Qoute No | H9: 9
A10: Department of Health | F10: Date | H10: 43618
A11: 717 Dukumbana Building | F11: Facility | H11: JOSE PEARSON TB HOSPITAL
A12: Independent Avenue | F12: Work Order | H12: 42608
A13: Bhisho | F13: Tender No | H13: SCMU3 - 17/18-0303 - HO
F14: Contract Term | H14: 24 MONTHS
A15: WORK REQUEST : Repair to a faulty gen and diesel pump.
A16: SCHEDULED WORK
A17: Item 1 | B17: Discription | E17: Unit | F17: Sch No | G17: Quantity | H17: Rate | I17: Amount
I18: =SUM(G18*H18) -> 0
I19: =SUM(G19*H19) -> 0
I20: =SUM(G20*H20) -> 0
A21: Sub Total A | I21: =SUM(I18:I20) -> 0
A22: NON SCHEDULED WORK
A23: Item 2 | B23: Discription | F23: Quantity | G23: Mark -Up | H23: Rate | I23: Amount
A24: 1 | B24: ROTARY PUMP | F24: 1 | G24: 0.15 | H24: 239.13 | I24: =H24*F24*1.15 -> 274.9995
A25: 2 | B25: BOND ADHESIVE | F25: 1 | G25: 0.15 | H25: 52.17 | I25: =H25*F25*1.15 -> 59.9955
A32: Sub Total B | I32: =SUM(I24:I31) -> 334.995
A33: LABOUR
A34: Item 3 | B34: (Normal Rate) | E34: Unit | G34: Quantity | H34: Rate | I34: Amount
A35: 1 | B35: Techinician | E35: HRS | G35: 2 | H35: 450 | I35: =SUM(G35*H35) -> 900
A36: 2 | B36: Senior Artisan | E36: HRS | H36: 350 | I36: =SUM(G36*H36) -> 0
A37: 3 | B37: Artisan (Trade Tested) | E37: HRS | H37: 300 | I37: =SUM(G37*H37) -> 0
A38: 4 | B38: Utility Man (Non - Trade Tested) | E38: HRS | G38: 2 | H38: 200 | I38: =SUM(G38*H38) -> 400
A39: 5 | B39: Artisan Aid | E39: HRS | H39: 200 | I39: =SUM(G39*H39) -> 0
A40: 6 | B40: General Worker | E40: HRS | H40: 140 | I40: =SUM(G40*H40) -> 0
A44: Sub Total C | I44: =SUM(I35:I43) -> 1300
A45: TRANSPORT
A46: Item 4 | B46: Destinantion | E46: No of Trips | G46: KMs | H46: Rate | I46: Amount
A47: 1 | B47: Port Elizabeth office to Jose Pearson
B48: TB and back. | E48: 1 | G48: 47 | H48: 5 | I48: =H48*G48 -> 235
A50: Sub Total D | I50: =SUM(I47:I49) -> 235
G52: Sub Total (A+B+C+D) | I52: =I50+I44+I32+I21 -> 1869.995
G54: Sub Total | I54: =I52+I53 -> 1869.995

Sheet LIVINGSTONE HOSPITAL (10)
A9: QUOTE TO : | F9: Qoute No | H9: 10
A10: Department of Health | F10: Date | H10: 43619
A11: 717 Dukumbana Building | F11: Facility | H11: LIVINGSTONE HOSPITAL
A12: Independent Avenue | F12: Work Order | H12: 42600
A13: Bhisho | F13: Tender No | H13: SCMU3 - 17/18-0303 - HO
F14: Contract Term | H14: 24 MONTHS
A15: WORK REQUEST : Repair to faulty gen.
A16: SCHEDULED WORK
A17: Item 1 | B17: Discription | E17: Unit | F17: Sch No | G17: Quantity | H17: Rate | I17: Amount
I18: =SUM(G18*H18) -> 0
I19: =SUM(G19*H19) -> 0
I20: =SUM(G20*H20) -> 0
A21: Sub Total A | I21: =SUM(I18:I20) -> 0
A22: NON SCHEDULED WORK
A23: Item 2 | B23: Discription | F23: Quantity | G23: Mark - Up | H23: Rate | I23: Amount
A24: 1 | B24: BATTERY 689 SHD | F24: 4 | G24: 0.15 | H24: 3346 | I24: =H24*F24*1.15 -> 15391.6
A25: 2 | B25: BATTERY 689 | F25: 4 | G25: 0.15 | H25: 2213 | I25: =H25*F25*1.15 -> 10179.8
A32: Sub Total B | I32: =SUM(I24:I31) -> 25571.4
A33: LABOUR
A34: Item 3 | B34: (Normal Rate) | E34: Unit | G34: Quantity | H34: Rate | I34: Amount
A35: 1 | B35: Techinician | E35: HRS | G35: 4 | H35: 450 | I35: =SUM(G35*H35) -> 1800
A36: 2 | B36: Senior Artisan | E36: HRS | H36: 350 | I36: =SUM(G36*H36) -> 0
A37: 3 | B37: Artisan (Trade Tested) | E37: HRS | H37: 300 | I37: =SUM(G37*H37) -> 0
A38: 4 | B38: Utility Man (Non - Trade Tested) | E38: HRS | G38: 4 | H38: 200 | I38: =SUM(G38*H38) -> 800
A39: 5 | B39: Artisan Aid | E39: HRS | H39: 200 | I39: =SUM(G39*H39) -> 0
A40: 6 | B40: General Worker | E40: HRS | H40: 140 | I40: =SUM(G40*H40) -> 0
A44: Sub Total C | I44: =SUM(I35:I43) -> 2600
A45: TRANSPORT
A46: Item 4 | B46: Destinantion | E46: No of Trips | G46: KMs | H46: Rate | I46: Amount
A47: 1 | B47: Port Elizabeth office to Livingstone
B48: Hospital and back. | E48: 1 | G48: 23 | H48: 5 | I48: =H48*G48 -> 115
A50: Sub Total D | I50: =SUM(I47:I49) -> 115
G52: Sub Total (A+B+C+D) | I52: =I50+I44+I32+I21 -> 28286.4
G54: Sub Total | I54: =I52+I53 -> 28286.4

Sheet LAETITIA BAM CHC (11)
A9: QUOTE TO : | F9: Qoute No | H9: 11
A10: Department of Health | F10: Date | H10: 28/3/2019
A11: 717 Dukumbana Building | F11: Facility | H11: LAETITIA BAM CHC
A12: Independent Avenue | F12: Work Order | H12: 43269
A13: Bhisho | F13: Tender No | H13: SCMU3 - 17/18-0303 - HO
F14: Contract Term | H14: 24 MONTHS
A15: WORK REQUEST : Generator does not kick start.
A16: SCHEDULED WORK
A17: Item 1 | B17: Description | E17: Unit | F17: Sch No | G17: Quantity | H17: Rate | I17: Amount
I18: =SUM(G18*H18) -> 0
I19: =SUM(G19*H19) -> 0
I20: =SUM(G20*H20) -> 0
A21: Sub Total A | I21: =SUM(I18:I20) -> 0
A22: NON SCHEDULED WORK
A23: Item 2 | B23: Description | G23: Quantity | H23: Rate | I23: Amount
A32: Sub Total | I32: =SUM(I24:I31) -> 0
A33: Mark - Up 15% | I33: =I32*0.15 -> 0
A34: SUb Total B | I34: =I32+I33 -> 0
A35: LABOUR
A36: Item 3 | B36: (Normal Rate) | E36: Unit | G36: Quantity | H36: Rate | I36: Amount
A37: 1 | B37: Techinician | E37: HRS | G37: 2 | H37: 450 | I37: =SUM(G37*H37) -> 900
A38: 2 | B38: Senior Artisan | E38: HRS | H38: 350 | I38: =SUM(G38*H38) -> 0
A39: 3 | B39: Artisan (Trade Tested) | E39: HRS | H39: 300 | I39: =SUM(G39*H39) -> 0
A40: 4 | B40: Utility Man (Non - Trade Tested) | E40: HRS | G40: 2 | H40: 200 | I40: =SUM(G40*H40) -> 400
A41: 5 | B41: Artisan Aid | E41: HRS | H41: 200 | I41: =SUM(G41*H41) -> 0
A42: 6 | B42: General Worker | E42: HRS | H42: 140 | I42: =SUM(G42*H42) -> 0
A46: Sub Total C | I46: =SUM(I37:I45) -> 1300
A47: TRANSPORT
A48: Item 4 | B48: Destinantion | E48: No of Trips | G48: KMs | H48: Rate | I48: Amount
A49: 1 | B49: Port Elizabeth office to Laetitia CHC
B50: and back. | E50: 1 | G50: 77.4 | H50: 5 | I50: =H50*G50 -> 387
A52: Sub Total D | I52: =SUM(I49:I51) -> 387
G54: Sub Total (A+B+C+D) | I54: =I52+I46+I34 -> 1687
G56: Sub Total | I56: =I54+I55 -> 1687

Sheet WEST END (12)
A9: QUOTE TO : | F9: Qoute No | H9: 12
A10: Department of Health | F10: Date | H10: 22/3/2019
A11: 717 Dukumbana Building | F11: Facility | H11: West End CHC
A12: Independent Avenue | F12: Work Order | H12: 43444
A13: Bhisho | F13: Tender No | H13: SCMU3 - 17/18-0303 - HO
F14: Contract Term | H14: 24 MONTHS
A15: WORK REQUEST : The generator is leaking oil.
A16: SCHEDULED WORK
A17: Item 1 | B17: Description | E17: Unit | F17: Sch No | G17: Quantity | H17: Rate | I17: Amount
I18: =SUM(G18*H18) -> 0
I19: =SUM(G19*H19) -> 0
I20: =SUM(G20*H20) -> 0
A21: Sub Total A | I21: =SUM(I18:I20) -> 0
A22: NON SCHEDULED WORK
A23: Item 2 | B23: Description | G23: Quantity | H23: Rate | I23: Amount
A24: 1 | B24: REAR OIL SEAL (6105) | G24: 1 | H24: 172.17 | I24: =H24*G24 -> 172.17
A25: 2 | B25: RIMULA R4 X 15W40 | G25: 1 | H25: 665.1 | I25: =H25*G25 -> 665.1
A32: Sub Total | I32: =SUM(I24:I31) -> 837.27
A33: Mark - Up 15% | I33: =I32*0.15 -> 125.5905
A34: SUb Total B | I34: =I32+I33 -> 962.8605
A35: LABOUR
A36: Item 3 | B36: (Normal Rate) | E36: Unit | G36: Quantity | H36: Rate | I36: Amount
A37: 1 | B37: Techinician | E37: HRS | G37: 9 | H37: 450 | I37: =SUM(G37*H37) -> 4050
A38: 2 | B38: Senior Artisan | E38: HRS | H38: 350 | I38: =SUM(G38*H38) -> 0
A39: 3 | B39: Artisan (Trade Tested) | E39: HRS | H39: 300 | I39: =SUM(G39*H39) -> 0
A40: 4 | B40: Utility Man (Non - Trade Tested) | E40: HRS | G40: 9 | H40: 200 | I40: =SUM(G40*H40) -> 1800
A41: 5 | B41: Artisan Aid | E41: HRS | H41: 200 | I41: =SUM(G41*H41) -> 0
A42: 6 | B42: General Worker | E42: HRS | H42: 140 | I42: =SUM(G42*H42) -> 0
A46: Sub Total C | I46: =SUM(I37:I45) -> 5850
A47: TRANSPORT
A48: Item 4 | B48: Destinantion | E48: No of Trips | G48: KMs | H48: Rate | I48: Amount
A49: 1 | B49: Port Elizabeth office to West End
B50: Mortuary and back. | E50: 1 | G50: 73.6 | H50: 5 | I50: =H50*G50 -> 368
A52: Sub Total D | I52: =SUM(I49:I51) -> 368
G54: Sub Total (A+B+C+D) | I54: =I52+I46+I34+I21 -> 7180.8605
G56: Sub Total | I56: =I54+I55 -> 7180.8605

Sheet PORT ELIZABETH PRO.(13)
A9: QUOTE TO : | F9: Qoute No | H9: 13
A10: Department of Health | F10: Date | H10: 29/3/2019
A11: 717 Dukumbana Building | F11: Facility | H11: PORT ELIZABETH HOSPITAL PROV
A12: Independent Avenue | F12: Work Order | H12: 43856
A13: Bhisho | F13: Tender No | H13: SCMU3 - 17/18-0303 - HO
F14: Contract Term | H14: 24 MONTHS
A15: WORK REQUEST : The back up generator is faulty.
A16: SCHEDULED WORK
A17: Item 1 | B17: Description | E17: Unit | F17: Sch No | G17: Quantity | H17: Rate | I17: Amount
I18: =SUM(G18*H18) -> 0
I19: =SUM(G19*H19) -> 0
I20: =SUM(G20*H20) -> 0
A21: Sub Total A | I21: =SUM(I18:I20) -> 0
A22: NON SCHEDULED WORK
A23: Item 2 | B23: Description | G23: Quantity | H23: Rate | I23: Amount
A24: 1 | B24: 12 V REALY | G24: 1 | H24: 110 | I24: =H24*G24 -> 110
A32: Sub Total | I32: =SUM(I24:I31) -> 110
A33: Mark - Up 15% | I33: =I32*0.15 -> 16.5
A34: SUb Total B | I34: =I32+I33 -> 126.5
A35: LABOUR
A36: Item 3 | B36: (Normal Rate) | E36: Unit | G36: Quantity | H36: Rate | I36: Amount
A37: 1 | B37: Techinician | E37: HRS | G37: 2 | H37: 450 | I37: =SUM(G37*H37) -> 900
A38: 2 | B38: Senior Artisan | E38: HRS | H38: 350 | I38: =SUM(G38*H38) -> 0
A39: 3 | B39: Artisan (Trade Tested) | E39: HRS | H39: 300 | I39: =SUM(G39*H39) -> 0
A40: 4 | B40: Utility Man (Non - Trade Tested) | E40: HRS | G40: 2 | H40: 200 | I40: =SUM(G40*H40) -> 400
A41: 5 | B41: Artisan Aid | E41: HRS | H41: 200 | I41: =SUM(G41*H41) -> 0
A42: 6 | B42: General Worker | E42: HRS | H42: 140 | I42: =SUM(G42*H42) -> 0
A46: Sub Total C | I46: =SUM(I37:I45) -> 1300
A47: TRANSPORT
A48: Item 4 | B48: Destinantion | E48: No of Trips | G48: KMs | H48: Rate | I48: Amount
A49: 1 | B49: Port Elizabeth office to Prort Elizabeth Prov
B50: Hospital and back. | E50: 1 | G50: 1.9 | H50: 5 | I50: =H50*G50 -> 9.5
A52: Sub Total D | I52: =SUM(I49:I51) -> 9.5
G54: Sub Total (A+B+C+D) | I54: =I52+I46+I34+I21 -> 1436
G56: Sub Total | I56: =I54+I55 -> 1436

Sheet DORA NGIZA HOSP (14)
A9: QUOTE TO : | F9: Qoute No | H9: 14
A10: Department of Health | F10: Date | H10: 16/4/2019
A11: 717 Dukumbana Building | F11: Facility | H11: DORA HOSPITAL PROVINCIAL
A12: Independent Avenue | F12: Work Order | H12: 43167
A13: Bhisho | F13: Tender No | H13: SCMU3 - 17/18-0303 - HO
F14: Contract Term | H14: 24 MONTHS
A15: WORK REQUEST : Casuality generator has a faulty pre - heater.
A16: SCHEDULED WORK
A17: Item 1 | B17: Discription | E17: Unit | F17: Sch No | G17: Quantity | H17: Rate | I17: Amount
I18: =SUM(G18*H18) -> 0
I19: =SUM(G19*H19) -> 0
I20: =SUM(G20*H20) -> 0
A21: Sub Total A | I21: =SUM(I18:I20) -> 0
A22: NON SCHEDULED WORK
A23: Item 2 | B23: Description | G23: Quantity | H23: Rate | I23: Amount
A24: 1 | B24: ELEMENT (2KW) | G24: 1 | H24: 254.18 | I24: =H24*G24 -> 254.18
A25: 2 | B25: THERMOSTAT | G25: 1 | H25: 250.12 | I25: =H25*G25 -> 250.12
A26: 3 | B26: ANTIFREEZE | G26: 15 | H26: 39.81 | I26: =H26*G26 -> 597.15
A27: 4 | B27: 100A (MCB) | G27: 1 | H27: 1646.25 | I27: =H27*G27 -> 1646.25
A28: 5 | B28: SAMITE ADAPTOR PLATE | G28: 2 | H28: 18.9 | I28: =H28*G28 -> 37.8
I29: =H29*G29 -> 0
I30: =H30*G30 -> 0
A32: Sub Total | I32: =SUM(I24:I31) -> 2785.5
A33: Mark - Up 15% | I33: =I32*0.15 -> 417.825
A34: SUb Total B | I34: =I32+I33 -> 3203.325
A35: LABOUR
A36: Item 3 | B36: (Normal Rate) | E36: Unit | G36: Quantity | H36: Rate | I36: Amount
A37: 1 | B37: Techinician | E37: HRS | G37: 6 | H37: 450 | I37: =SUM(G37*H37) -> 2700
A38: 2 | B38: Senior Artisan | E38: HRS | H38: 350 | I38: =SUM(G38*H38) -> 0
A39: 3 | B39: Artisan (Trade Tested) | E39: HRS | H39: 300 | I39: =SUM(G39*H39) -> 0
A40: 4 | B40: Utility Man (Non - Trade Tested) | E40: HRS | G40: 6 | H40: 200 | I40: =SUM(G40*H40) -> 1200
A41: 5 | B41: Artisan Aid | E41: HRS | H41: 200 | I41: =SUM(G41*H41) -> 0
A42: 6 | B42: General Worker | E42: HRS | H42: 140 | I42: =SUM(G42*H42) -> 0
A46: Sub Total C | I46: =SUM(I37:I45) -> 3900
A47: TRANSPORT
A48: Item 4 | B48: Destinantion | E48: No of Trips | G48: KMs | H48: Rate | I48: Amount
A49: 1 | B49: Port Elizabeth office to Dora Ngiza
B50: Hospital and back. | E50: 1 | G50: 28.6 | H50: 5 | I50: =H50*G50 -> 143
A52: Sub Total D | I52: =SUM(I49:I51) -> 143
G54: Sub Total (A+B+C+D) | I54: =I52+I46+I34+I21 -> 7246.325
...

Sheet ORSMOND TB HOSP (15)
A9: QUOTE TO : | F9: Qoute No | H9: 15
A10: Department of Health | F10: Date | H10: 16/3/2019
A11: 717 Dukumbana Building | F11: Facility | H11: ORSMOND TB HOSPITAL
A12: Independent Avenue | F12: Work Order | H12: 44769
A13: Bhisho | F13: Tender No | H13: SCMU3 - 17/18-0303 - HO
F14: Contract Term | H14: 24 MONTHS
A15: WORK REQUEST : Back up generator does not start.
A16: SCHEDULED WORK
