Workbook
Name PAGE5: #REF!
Name PAGE5: #REF!
Name PAGE5: #REF!
Name PAGE5: #REF!
Name PAGE5: #REF!
Name PAGE5: #REF!
Name RAN: #REF!
Name RAN: #REF!
Name RAN: #REF!
Name RAN: #REF!
Name RAN: #REF!
Name RAN: #REF!
Name RAN: #REF!
Name RAN: #REF!
Name TOT: [1]ENTRY!$A$13
Name ZNT30: [2]ENTRY!$A$13

Sheet Prelims
B2: BILL NO. 1
B4: PRELIMINARIES
B6: NOTES | C6: UNIT | D6: QUANTITY | E6: RATE | F6: AMOUNT
A8: i) | B8: The agreement is to be the General Conditions of Contract for Works of Civil Engineering Construction (2004) (First Edition) , published by the S. A. Institution Of Civil Engineering
A9: ii) | B9: The Preliminaries are to be the Construction and management requirements for works contracts - Part 1: General engineering and construction works (SANS 1921-1: 2004 Edition 1) prepared by Standards South Africa and shall be deemed to be incorporated herein
A10: iii) | B10: Tenderers are referred to the abovementioned documents for the full intent and meaning of each clause thereof (hereinafter referred to by heading and clause number only) for which such allowance must be made as may be considered necessary
A11: iv) | B11: Where standard clauses or alternatives are not entirely applicable to this contract such modifications, corrections or supplements as will apply are given under each relevant clause heading
A12: v) | B12: Where any item is not relevant to this specific contract such item is marked N/A (signifying "not applicable")
A13: vi) | B13: Adjustment of the preliminaries: each item priced, is to be allocated to one or more of the three categories, where "F" denotes a fixed amount (amount not to be varied), "V" denotes an amount variable in proportion to value and "T" denotes an amount in proportion to time
A14: vii) | B14: Only written extensions to the contract period granted by the Employer for omission, additions, substitutions or variations of the works referred to in the Conditions of Contract, and granted for delays caused by the Employer referred to in the Conditions of Contract shall be taken into account.
B15: SECTION A: GENERAL CONDITIONS OF CONTRACT
A17: A1 | B17: Definitions, interpretations and general provisions (clause 1)
B19: F:............................. V:............................ T:............................ | C19: Item
A21: A2 | B21: Engineer and Engineer's representative (clause 2)
B23: F:............................. V:............................ T:............................ | C23: Item
A25: A3 | B25: Ambiguity in documents (clause 3)
B27: F:............................. V:............................ T:............................ | C27: Item
A29: A4 | B29: Basis of documents (clause 4)
B31: F:............................. V:............................ T:............................ | C31: Item
A33: A5 | B33: Assignment (clause 5)
B35: F:............................. V:............................ T:............................ | C35: Item
A37: A6 | B37: Subcontracting (clause 6)
B39: F:............................. V:............................ T:............................ | C39: Item
B41: Carried forward to collection | E41: R
A42: A7 | B42: Guarantee (clause 7) | C42: UNIT | D42: QUANTITY | E42: RATE | F42: AMOUNT
B44: F:............................. V:............................ T:............................ | C44: Item
A46: A8 | B46: Payment to Contractor (clause 8)
B48: F:............................. V:............................ T:............................ | C48: Item
A50: A9 | B50: Copyright (clause 9)
B52: F:............................. V:............................ T:............................ | C52: Item
A54: A10 | B54: Commencement of the works (clause 10)
B56: F:............................. V:............................ T:............................ | C56: Item
A58: A11 | B58: Access to the site (clause 11)
B60: F:............................. V:............................ T:............................ | C60: Item
A62: A12 | B62: Programme of the Works (clause 12)
B64: F:............................. V:............................ T:............................ | C64: Item
A66: A13 | B66: Instructions and drawings (clause 13)
B68: F:............................. V:............................ T:............................ | C68: Item
A70: A14 | B70: Notices and fees (clause 14)
B72: F:............................. V:............................ T:............................ | C72: Item
...

Sheet Collection
B1: SECTION NO.1: Preliminaries
B3: Bill No. 1
B5: Preliminaries
B7: COLLECTION
C9: Page No | F9: Amount
B11: Total Brought Forward from Page No. | C11: -1
C13: -2
C15: -3
C17: -4
C19: -5
C21: -6
C23: -7
C25: -8
C27: -9
C29: -10
C31: -11
B53: Carried to Final Summary | E53: R

Sheet Bill No.1
A1: ITEM NO | B1: DESCRIPTION | C1: UNIT | D1: QUANTITY | E1: RATE | F1: AMOUNT
B3: SECTION NO. 1: BUILDING WORKS
B5: BILL NO.1
B7: EARTHWORKS (PROVISIONAL)
B9: Tenderers are advised to study the Model Preambles for Trades
B10: before pricing this bill
B12: SUPPLEMENTARY PREAMBLES
B14: Nature of ground
B16: The nature of the ground is assumed to be clay/gravel material,
B17: therefore "earth", but possibly interspersed with "soft rock" or
B18: "hard rock"
B20: Carting away of excavated material
B22: Descriptions of carting away of excavated material shall be deemed
... B30: Excavation in earth not exceeding 2m deep
A32: 1 | B32: Reduced levels under floors | C32: m3 | D32: 102
A34: 2 | B34: Trenches | C34: m3 | D34: 140
A36: 3 | B36: Holes | C36: m3 | D36: 40
B38: Extra over trench and hole excavations in earth for excavation in
A40: 4 | B40: Soft rock | C40: m3 | D40: 20
A42: 5 | B42: Hard rock | C42: m3 | D42: 8
B44: Extra over all excavations for carting away
A46: 6 | B46: Surplus material from excavations and/or stock piles on site to a | C46: m3 | D46: 280
B47: dumping site to be located by the contractor
B49: Risk of collapse of excavations
A51: 7 | B51: Sides of trench and hole excavations not exceeding 1,5m deep | C51: m2 | D51: 450
B55: Carried to Collection | E55: R
B60: Keeping excavations free of water
A62: 8 | B62: Keeping excavations free of water other than subterranean water | C62: Item | D62: 1
B65: FILLING ETC
B67: Earth filling obtained from the excavations and/or prescribed
B68: stock piles on site, compacted to 95% Mod AASHTO density
A70: 9 | B70: Under floors, steps, pavings, etc | C70: m3 | D70: 45
A72: 10 | B72: Backfilling to trenches, holes, etc | C72: m3 | D72: 95
B74: Earth filling supplied by the contractor, compacted to 95% Mod
B75: AASHTO density
A77: 11 | B77: G5 material compacted in 150mm layer | C77: m3 | D77: 40
B79: Compaction of surfaces
A81: 12 | B81: Compaction of ground surface under floors etc including scarifying | C81: m2 | D81: 303
B82: for a depth of 150mm, breaking down oversize material, adding
B83: suitable material where necessary and compacting to 95%
...

Sheet Bill No.2
A1: ITEM NO | B1: DESCRIPTION | C1: UNIT | D1: QUANTITY | E1: RATE | F1: AMOUNT
B3: BILL NO.2
B5: CONCRETE, FORMWORK AND REINFORCEMENT
B7: Tenderers are advised to study the Model Preambles for Trades
B8: before pricing this bill
B10: SUPPLEMENTARY PREAMBLES
B12: Cost of tests
B14: The costs of making, storing and testing of concrete test cubes as
B15: required under "clause 7" Tests of SABS 1200 G shall include the cost of
B16: testing costs and providing cube moulds necessary for the purpose, for
B17: for submitting reports on the tests to the architect. The testing shall be
B18: undertaken by an independent firm or institution nominated by the
B19: contractor to the approval of the architect. (Test cubes are measured
... B43: 10MPa/19mm concrete
A45: 1 | B45: Blinding | C45: m3 | D45: 5
B47: 25MPa/19mm concrete
A49: 2 | B49: Strip footings | C49: m3 | D49: 28
A51: 3 | B51: Bases | C51: m3 | D51: 8
B53: 30MPa/19mm concrete
A55: 4 | B55: Surface beds | C55: m3 | D55: 50
B57: 30MPa/19mm concrete
A59: 5 | B59: Stub column | C59: m3 | D59: 3
B62: Carried to Collection | E62: R
B66: REINFORCED CONCRETE
B68: 15MPa/19mm concrete
A70: 6 | B70: Step | C70: m3 | D70: 4
B72: TEST CUBES
A74: 7 | B74: Making and testing 150 x 150 x 150mm concrete strength test | C74: No | D74: 6
B75: cube (Provisional)
B77: CONCRETE SUNDRIES
B79: Finishing top surfaces of concrete smooth with a power float
A81: 8 | B81: Surface beds, slabs, etc to falls | C81: m2 | D81: 303
B83: FORMWORK
B85: Rough formwork to sides
A87: 9 | B87: Stub columns | C87: m2 | D87: 21
B89: Smooth formwork to sides
A91: 10 | B91: Edges, risers, ends and reveals not exceeding 300mm high or wide | C91: m | D91: 14
B93: MOVEMENT JOINTS ETC
B95: Expansion joints with 10mm thick jointex or similar approved
B96: compressable joint filler with 10 x 10mm tear of strip between vertical
...

Sheet Bill No.3
A1: ITEM NO | B1: DESCRIPTION | C1: UNIT | D1: QUANTITY | E1: RATE | F1: AMOUNT
B3: BILL NO.3
B5: MASONRY
B7: Tenderers are advised to study the Model Preambles for Trades
B8: before pricing this bill
B10: SUPPLEMENTARY PREAMBLES
B12: Sizes in descriptions
B14: Where sizes in descriptions are given in brick units, one brick shall
B15: represent the length and half brick the width of a brick
B17: Face bricks
B19: Bricks shall be ordered timeously to obtain uniformity in size and
B20: colour
B22: Pointing
... B34: in class I mortar
A36: 1 | B36: Half brick walls | C36: m2 | D36: 6
A38: 2 | B38: One brick walls | C38: m2 | D38: 145
B40: SUPERSTRUCTURE
B42: Brickwork of NFP bricks in class II mortar
A44: 3 | B44: Half brick walls | C44: m2 | D44: =(3+3)*4 -> 24
A46: 4 | B46: One brick walls | C46: m2 | D46: 405
A48: 5 | B48: One brick walls in beamfilling | C48: m2 | D48: 8
B50: BRICKWORK SUNDRIES
B52: Bagging of 1:3 cement and sand mixture
A54: 6 | B54: On brick walls, piers, etc | C54: m2 | D54: 169
B61: Carried to Collection
B66: Brickwork reinforcement
A68: 7 | B68: 75mm Wide reinforcement built in horizontally | C68: m | D68: 632
A70: 8 | B70: 150mm Wide reinforcement built in horizontally | C70: m | D70: 2291
B72: Prestressed fabricated concrete lintels including necessar ytemporary
B73: supports
A75: 9 | B75: 110 x 75mm Lintels in lengths not exceeding 3m | C75: m | D75: 57
B77: Turning pieces to lintels etc
A79: 10 | B79: 110mm Wide turning pieces | C79: m | D79: 3
B81: Galvanised hoop iron cramps, ties, etc
A83: 11 | B83: 30 x 1,6mm Galvanised hoop iron strap 1,6m long with one end fixed | C83: No | D83: 369
B84: into brickwork with Hilti nails (provisional)
B86: Air bricks etc
A88: 12 | B88: 229 x 152mm Terra-cotta vermin proof air brick | C88: No | D88: 24
B90: FACE BRICKWORK
B92: "Firelight Satin" clay face bricks pointed with flush horizontal and
...

Sheet Bill No.4
A1: ITEM NO | B1: DESCRIPTION | C1: UNIT | D1: QUANTITY | E1: RATE | F1: AMOUNT
B3: BILL NO.4
B5: WATERPROOFING
B7: Tenderers are advised to study the Model Preambles for Trades
B8: before pricing this bill
B10: SUPPLEMENTARY PREAMBLES
B12: Waterproofing
B14: Waterproofing of roofs, basements, etc shall be laid under a ten
B15: year guarantee. Waterproofing to roofs shall be laid to even falls to
B16: outlets etc with necessary ridges, hips and valleys. Descriptions of
B17: sheet or membrane waterproofing shall be deemed to include
B18: additional labour to turn-ups and turn-downs
B21: DAMPPROOFING OF WALLS AND FLOORS
... B24: damp proof course
A26: 1 | B26: In walls | C26: m2 | D26: 17
B28: One layer 250 micron "Consol Plastics Gunplas USB Green"
B29: waterproof sheeting sealed at laps with "Gunplas Pressure sensitive
B30: Tape"
A32: 2 | B32: Under surface beds | C32: m2 | D32: ='Bill No.2'!D120 -> 303
B34: Two coats "Brikseal" bitumen emulsion waterproof coating
A36: 3 | B36: On bagged brick walls | C36: m2 | D36: ='Bill No.3'!D54 -> 169
B38: SEALING STRIPS, JOINT SEALANTS, ETC
B40: "Colpor 200" sealant (or similar approved) including polythylene bond
B41: breaking cord
A43: 4 | B43: 8 x 25mm In saw cut joints in floors | C43: m | D43: ='Bill No.2'!D103 -> 32
B45: Two-part grey polysulphide sealing compound including backing cord,
B46: bond breaker, primer, etc
A48: 5 | B48: 10 x 10mm In horizontal expansion joints including raking out | C48: m | D48: ='Bill No.2'!D108 -> 80
B49: expansion joint filler as necessary
A51: 6 | B51: 10 x 10mm In vertical expansion joints including raking out | C51: m | D51: ='Bill No.2'!D99 -> 232
B52: expansion joint filler as necessary
B62: Carried Forward to Summary of Section No.2 | E62: R

Sheet Bill No.5
A1: ITEM NO | B1: DESCRIPTION | C1: UNIT | D1: QUANTITY | E1: RATE | F1: AMOUNT
B3: BILL NO.5
B5: ROOF COVERINGS
B7: Tenderers are advised to study the Model Preambles for Trades before
B8: pricing this bill
B10: SUPPLEMENTARY PREAMBLES
B12: Taking special care and precautions at all times to prevent scratching
B13: and / or other damage to the finished surfaces. Scratched and/or
B14: damaged sheets will not be accepted.
B16: At all times duckboards shall be used as walking areas on the roof to
B17: avoid damage to the sheets.
B19: All exposed fixings for roofing, fittings, accessories, atc, shall be with
B20: top speed stainless steel fixing screws or fasteners with stainless steel
... B33: at approximately 750mm centres
A35: 1 | B35: Roof covering with a 25 degree pitch | C35: m2 | D35: 358
A37: 2 | B37: Barge flashing 585mm girth three times bent with and including 150 x 40mm | C37: m | D37: 30
B38: Hulamin rectangular hollow section fixed to concrete
B40: ROOF AND WALL INSULATION
B42: Sisalation 420 heavy duty industrial grade aluminium foil based
B43: insulation
A45: 3 | B45: Insulation fixed concurrent with roof covering and fitted over purlins | C45: m2 | D45: =D35 -> 358
B46: with pvc coated straining wires
B62: Carried Forward to Summary of Section No.2 | E62: R

Sheet Bill No.6
A1: ITEM NO | B1: DESCRIPTION | C1: UNIT | D1: QUANTITY | E1: RATE | F1: AMOUNT
B3: BILL NO.6
B5: CARPENTRY AND JOINERY
B7: Tenderers are advised to study the Model Preambles for Trades
B8: before pricing this bill
B10: SUPPLEMENTARY PREAMBLES
B12: Fixing
B14: Items described as "nailed" shall be deemed to be fixed with
B15: hardened steel nails or pins, or to be shot-pinned, to brickwork or
B16: concrete
B18: Items described as "plugged" shall be deemed to include screwing
B19: to fibre, plastic or metal plugs at not exceeding 500mm centres, and
B20: where described as "bolted", the bolts have been given elsewhere
... B58: shape
B62: Carried to Collection | E62: R
B66: Saligna
B68: 40mm "Blasco" Framed ledged and braced batten door with 40 x 110mm
B69: styles and top rail, 20 x150mm middle ledge, 20 x 225mm bottom ledge
B70: and braced 20 x 110mm braces
A72: 1 | B72: Door size 813 x 2032mm high | C72: No | D72: 2
A74: 2 | B74: Double door size 1613 x 2032mm high | C74: No | D74: 4
B76: Wrought Meranti doors hung to steel frames
B78: 40mm Red meranti framed braced battern door with 40 x 110mm styles
B79: and top ledged, 20 x 150mm middle ledge, 20 x 225mm bottom ledge
B80: and braced with 20 x 110mm braces
A82: 3 | B82: Door size 813 x 2032mm high | C82: No | D82: 2
B84: FLUSH DOORS
B86: Solid flush panel doors finished on both sides with commercial veneer,
B87: hung to steel frames
A89: 4 | B89: 40mm Door size 813 x 2032mm high | C89: No | D89: 2
B127: Carried to Collection | E127: R
B131: SECTION NO.2: Building Works
B133: Bill No. 6
B135: Carpentry & Joinery
B137: COLLECTION
C139: Page No | F139: Amount
B141: Total Brought Forward from Page No. | C141: -24
C143: -25
B191: Carried Forward to Summary of Section No.2 | E191: R

Sheet Bill No.7
A1: ITEM NO | B1: DESCRIPTION | C1: UNIT | D1: QUANTITY | E1: RATE | F1: AMOUNT
B3: BILL NO.7
B5: CEILINGS, PARTITIONS AND ACCESS FLOORING
B7: Tenderers are advised to study the Model Preambles for Trades before
B8: pricing this bill
B10: SUPPLEMENTARY PREAMBLES
B12: Fixing
B14: Items described as "nailed" shall be deemed to be fixed with hardened
B15: steel nails or pins, or to be shot-pinned, to brickwork or concrete
B17: Items described as "plugged" shall be deemed to include screwing to
B18: fibre, plastic or metal plugs at not exceeding 500mm centres, and
B19: where described as "bolted", the bolts have been given elsewhere
B22: SUSPENDED CEILINGS
... B38: centres not exceeding 1200mm:
A40: 1 | B40: Ceilings suspended not exceeding 1m below timber trusses | C40: m2 | D40: 291
B42: White powder coated shadoline cornices
A44: 2 | B44: Shadoline cornices. | C44: m | D44: 131
B59: Carried Forward to Summary of Section No.2 | E59: R

Sheet Bill No.8
A1: ITEM NO | B1: DESCRIPTION | C1: UNIT | D1: QUANTITY | E1: RATE | F1: AMOUNT
B3: BILL NO.8
B5: IRONMONGERY
B7: Tenderers are advised to study the Model Preambles for Trades before
B8: pricing this bill
B10: SUPPLEMENTARY PREAMBLES
B12: Finishes to ironmongery
B14: Where applicable finishes to ironmongery are indicated by suffixes in
B15: accordance with the following list:
B17: BS Satin bronze lacquered CH Chromium plated
B18: SC Satin chromium plated
B19: SE Silver enamelled
B20: GE Grey enamelled
... B42: Solid
A44: 1 | B44: 75 x 100mm High Brass hinge. | C44: No | D44: =(2*2*4)+(2*6) -> 28
A46: 2 | B46: Solid Art 293 WC indicator bolt | C46: No | D46: 6
A48: 3 | B48: 150mm Satin chrome flush bolt with keep fixed to steel frame | C48: No | D48: 4
A50: 4 | B50: 150mm Satin chrome flush bolt with keep cast into concrete. | C50: No | D50: 4
B52: LOCKS
B54: Solid
B56: The following locks are to be suitable for master key operation
A58: 5 | B58: Art 390/313/ Three lever lockset | C58: No | D58: 6
A60: 6 | B60: Art 390/313/ Rebated three lever lockset and rebate convertion set. | C60: No | D60: 4
B63: Carried to Collection | E63: R
B67: LETTERS,NAMEPLATES, ETC
A69: 7 | B69: Aluminium sign plate (Male/Female) screwed to door. | C69: No | D69: 2
A71: 8 | B71: 3000 x 500mm High aluminium name plate screwed to plastered | C71: No. | D71: 1
B72: walls.
B74: SUNDRIES
A76: 9 | B76: 38mm Diameter rubber door stop plugged | C76: No | D76: 14
B128: Carried to Collection | E128: R
B132: SECTION NO.2: Building Works
B134: Bill No. 8
B136: Ironmongery
B138: COLLECTION
C140: Page No | F140: Amount
B142: Total Brought Forward from Page No. | C142: -28
C144: -29
B191: Carried Forward to Summary of Section No.2 | E191: R

Sheet Bill No.9
A1: ITEM NO | B1: DESCRIPTION | C1: UNIT | D1: QUANTITY | E1: RATE | F1: AMOUNT
B3: BILL NO.9
B5: STRUCTURAL STEELWORK
B7: User note
B9: Consideration is to be given in specific applications (eg where "heavy"
B10: steel structures such as in industrial plants, towers for mine shafts, etc
B11: are dominant) to implement the principles laid down by the
B12: "Measurement for Structural Steelwork" as prepared and
B13: recommended by the South African Institute of Steel Construction
B15: This bill however is based on the Standard System of Measuring
B16: Building Work Sixth Edition (Revised)
B19: SUPPLEMENTARY PREAMBLES
B21: Descriptions
... B54: connection plates, bolted to concrete
A56: 1 | B56: 254 x 146mm x 31kg/m I-section columns | C56: t | D56: 1
B62: Carried to Collection | E62: R
B66: GALVANISED STEEL PORTAL FRAMES
B68: Welded portal frames with flat bearer, gusset and connection plates
B69: and angle cleats, bolted to concrete
A71: 2 | B71: Double pitched portal frames 14,4m wide x 5,6m high extreme of | C71: t | D71: 2
B72: 254 x 146mm x 31kg/m I-section rafters and columns (In No.5)
B74: GALVANISED STEEL PURLINS, GIRTS, BRACING, ETC
B76: Purlins and girts, bolted to steel
A78: 3 | B78: 75 x 50 x 3mm Thick cold-formed channel purlins | C78: t | D78: 1
B80: Cleats, connection plates, etc
A82: 4 | B82: 270 x 350 x 20mm Thick Base plate welded to column and holed for 4No | C82: No | D82: 14
B83: 18mm diameter holes
A85: 5 | B85: 220 x 170 x 10mm Thick plate holed with 4 No 18mm diameter holes | C85: No | D85: 14
B87: Bolts to columns, beams, etc
A89: 6 | B89: M20 Chemical anchors | C89: No | D89: =4*14 -> 56
A91: 7 | B91: Grade 8.8 M20 bolts | C91: No | D91: =4*14 -> 56
B93: GALVANISED MILD STEEL FLASHINGS
A95: 8 | B95: 2,5mm Thick flashing of 504mm girth, thrice bent, to steel channel | C95: m | D95: 80.06
B127: Carried to Collection | E127: R
B131: SECTION NO.2: Building Works
B133: Bill No. 9
B135: Structural Steelwork
B137: COLLECTION
C139: Page No | F139: Amount
B141: Total Brought Forward from Page No. | C141: -31
...

Sheet Bill No.10
A1: ITEM NO | B1: DESCRIPTION | C1: UNIT | D1: QUANTITY | E1: RATE | F1: AMOUNT
B3: BILL NO.10
B5: METALWORK
B7: Tenderers are advised to study the Model Preambles for Trades
B8: before pricing this bill
B10: SUPPLEMENTARY PREAMBLES
B12: Descriptions
B14: Descriptions of bolts shall be deemed to include nuts and washers
B16: Descriptions of expansion anchors and bolts and chemical anchors and
B17: bolts shall be deemed to include nuts, washers and mortices in
B18: brickwork or concrete
B20: Metalwork described as "holed for bolt(s)" shall be deemed to exclude
B21: the bolts unless otherwise described
... B32: pair of 100mm galvanised steel loose-pin hinges welded in position
A34: 1 | B34: Frame for door 813 x 2032mm high | C34: No | D34: 2
B36: 1,2mm Double rebated frames suitable for one brick walls with one pair
B37: of 100mm galvanised steel loose-pin hinges welded in position
A39: 2 | B39: Frame for door 813 x 2032mm high | C39: No | D39: 4
A41: 3 | B41: Frame for door 1613 x 2032mm high | C41: No | D41: 4
B43: GALVANISED STEEL WINDOWS,DOORS,ETC
B45: Hot dipped galvanised awning out windows including burglar bars to
B46: all opening sections
A48: 4 | B48: Window type TD7 size 1022 x 1264mm high | C48: No | D48: 12
A50: 5 | B50: Window type TD7S size 1511 x 1264mm high | C50: No | D50: 2
B62: Carried Forward to Summary of Section No.2 | E62: R

Sheet Bill No.11
A1: ITEM NO | B1: DESCRIPTION | C1: UNIT | D1: QUANTITY | E1: RATE | F1: AMOUNT
B3: BILL NO.11
B5: TILING
B7: Tenderers are advised to study the Model Preambles for Trades
B8: before pricing this bill
B10: SUPPLEMENTARY PREAMBLES
B12: Descriptions
B14: Unless described as "fixed with adhesive to plaster (plaster elsewhere)"
B15: descriptions of tiling on brick or concrete walls, columns, etc shall be
B16: deemed to include 1:4 cement plaster backing and descriptions of tiling on
B17: concrete floors etc shall be deemed to include 1:3 plaster bedding
B20: FLOOR TILING
B22: Porcelain tiles (PC 200/m2 net supplied) fixed to floor with Tal Goldstar 6
... B24: grout all applied strcitly in accordance with manufacturer's instructions
B26: On floors and landings | C26: m2 | D26: ='Bill No.7'!D40 -> 291
B28: On risers of stairs | C28: m2 | D28: 6
B30: Cut skirting 75mm high | C30: m | D30: ='Bill No.7'!D44 -> 131
B32: SUNDRIES
B34: "ASE080" 8mm M-Trim aluminium straight edge along top edge | C34: m | D34: =D30 -> 131
B36: 25mm M-Trim VexColt A01 025/25mm high stainless steel structural | C36: m | D36: 14
B37: movement joint with 15 x 5mm continuous stainless steel spacer Hilti
B38: plugged to floor at 450mm centres as per manufacturer's specification
B62: Carried Forward to Summary of Section No.2 | E62: R

Sheet Bill No.12
A1: ITEM NO | B1: DESCRIPTION | C1: UNIT | D1: QUANTITY | E1: RATE | F1: AMOUNT
B3: BILL NO.12
B5: PLASTERING
B7: Tenderers are advised to study the Model Preambles for Trades
B8: before pricing this bill
B11: GRANOLITHIC
B13: Untinted granolithic, on concrete
A15: 1 | B15: 40mm Thick on floors and landings | C15: m2 | D15: ='Bill No.7'!D40 -> 291
B17: INTERNAL PLASTER
B19: 1:5 Cement plaster steel trowelled smooth on brickwork
A21: 2 | B21: On walls | C21: m2 | D21: 484
A23: 3 | B23: On narrow widths | C23: m2 | D23: 14
B25: EXTERNAL PLASTER
B27: 1:5 Cement plaster steel trowelled smooth on brickwork
B29: On walls | C29: m2 | D29: 375
B31: On narrow widths | C31: m2 | D31: 13
B62: Carried Forward to Summary of Section No.2 | E62: R

Sheet Bill No.13
A1: ITEM NO | B1: DESCRIPTION | C1: UNIT | D1: QUANTITY | E1: RATE | F1: AMOUNT
B3: BILL NO.13
B5: PLUMBING AND DRAINAGE (PROVISIONAL)
B7: Tenderers are advised to study the Model Preambles for Trades
B8: before pricing this bill
B10: SUPPLEMENTARY PREAMBLES
B12: uPVC pipes and fittings:
B14: Soil, waste and vent pipes and fittings shall be solvent weld jointed
B16: Copper pipes:
B18: Pipes shall be hard drawn and half-hard pipes of the class stated.
B19: Class 0 (thin walled hard drawn) pipes shall not be bent. Class 1 (thin
B20: walled half-hard), class 2 (half-hard) and class 3 (heavy walled
B21: half-hard) pipes shall only be bent with benders with inner and outer
... B59: 5.6, 5.7 and 7 of SABS 1200
B62: Carried to Collection | E62: R
B66: DB : Earthworks (Pipe trenches)
B68: Pipes shall be bedded in accordance with clauses 3.1 to 3.4.1, 5.1 to 5.3
B69: and 7 of SABS 1200
B71: LB : Bedding (Pipes).
B73: Unless otherwise described bedding of rigid pipes shall be class B
B74: bedding
B76: Stainless steelbasins, sinks, wash troughs, urinals, etc.
B78: Units shall have standard aprons on all exposed edges and tiling keys
B79: against walls where applicable
B81: Waste unions
B83: Descriptions of waste unions shall be deemed to include rubber or
B84: vulcanite plugs and chains fixed to fittings
... B92: the inside with Dow Corning 813 silicone sealer.
A94: 1 | B94: 160 x 125 x 0,8mm Ogee roof gutters | C94: m | D94: 50
A96: 2 | B96: Extra over gutter for stopped end | C96: No | D96: 4
A98: 3 | B98: 100 x 75mm Rainwater pipes | C98: m | D98: =4*4 -> 16
A100: 4 | B100: Extra over gutter for outlet for 100 x 75mm pipe | C100: No | D100: =4 -> 4
A102: 5 | B102: Extra over rainwater pipe for bend | C102: No | D102: =4*2*2 -> 16
A104: 6 | B104: Extra over rainwater pipe for eaves or plinth offset | C104: No | D104: 4
B107: STORMWATER CHANNELS
B109: 20Mpa/19mm Mass concrete channels
B111: 1000mm Wide x 130mm average thick V shaped channels with rounded | C111: m | D111: =27+18+27+18 -> 90
B112: salient edges and finished on all exposed surfaces with 2:1 cement
B113: mortar, laid to falls with control joints formed with 12mm bitumen
B114: impregnated softboard with all exposed edges of softboard raked
...

Sheet Bill No.14
A1: ITEM NO | B1: DESCRIPTION | C1: UNIT | D1: QUANTITY | E1: RATE | F1: AMOUNT
B3: BILL NO.14
B5: GLAZING
B7: Tenderers are advised to study the Model Preambles for Trades
B8: before pricing this bill
B10: SUPPLEMENTARY PREAMBLES
B12: Float glass
B14: The term "float glass" is used for monolithic annealed glass
B17: GLAZING TO STEEL WITH PUTTY
B19: 4mm Clear float glass
A21: 1 | B21: Panes exceeding 0,5m² and not exceeding 2m² | C21: m2 | D21: 19
B62: Carried Forward to Summary of Section No.2 | E62: R

Sheet Bill No.15
A1: ITEM NO | B1: DESCRIPTION | C1: UNIT | D1: QUANTITY | E1: RATE | F1: AMOUNT
B3: BILL NO.15
B5: PAINTWORK
B7: Tenderers are advised to study the Model Preambles for Trades
B8: before pricing this bill
B11: ON INTERNAL FLOATED PLASTER SURFACES
B13: One coat primer, one undercoat and two coats"Plascon Wall and All"
B14: acrylic emulsion paint
A16: 1 | B16: On walls | C16: m2 | D16: 497
B18: ON EXTERNAL FLOATED PLASTER SURFACES
B20: One coat primer, one undercoat and two coats"Plascon Wall and All"
B21: acrylic emulsion paint
A23: 2 | B23: On walls | C23: m2 | D23: ='Bill No.12'!D29+'Bill No.12'!D31 -> 388
B25: ON FIBRE-CEMENT SURFACES
B27: One coat primer, one universal undercoat and two coats "Gloss
B28: enamel"paint all in accordance with manufacturer's specifications
A30: 3 | B30: On ceilings | C30: m2 | D30: ='Bill No.7'!D40 -> 291
B32: ON METAL
B34: One coat "Plascon Galvanised iron Cleaner", One Plascon 'Galvogrip'
B35: metal primer, one coat 'Plascon Merit'universal undercoat and two
B36: coats"Gloss enamel paint on galvanised steel
A38: 4 | B38: On door frames | C38: m2 | D38: 11
A40: 5 | B40: On windows with burglar bars (both sides measured over the full flat | C40: m2 | D40: 39
B41: area)
B43: ON WOOD
B45: One coat oil wood primer, one universal undercoat and two coats
B46: "Gloss enamel"paint
A48: 6 | B48: On doors | C48: m2 | D48: 8
B50: Three coats clear mat varnish
B52: On doors | C52: m2 | D52: 42
B62: Carried Forward to Summary of Section No.2 | E62: R

Sheet Collection (2)
B1: SECTION SUMMARY - SECTION 2: Building Works
A3: Bill No | C3: Page No | F3: Amount
A5: 1 | B5: Earthworks | C5: -15
A7: 2 | B7: Concrete, Formwork and Reinforcement | C7: -18
A9: 3 | B9: Masonry | C9: -21
A11: 4 | B11: Waterproofing | C11: -22
A13: 5 | B13: Roof Coverings | C13: -23
A15: 6 | B15: Carpentry and Joinery | C15: -26
A17: 7 | B17: Ceilings, Partition and Access Flooring | C17: -27
A19: 8 | B19: Ironmongery | C19: -30
A21: 9 | B21: Structural Steelwork | C21: -33
A23: 10 | B23: Metalwork | C23: -34
A25: 11 | B25: Tiling | C25: -35
A27: 12 | B27: Plastering | C27: -36
... A33: 15 | B33: Paintwork | C33: -43
B53: Carried to Final Summary | E53: R

Sheet Section 3-Bill No.1
A1: ITEM NO | B1: DESCRIPTION | C1: UNIT | D1: QUANTITY | E1: RATE | F1: AMOUNT
B3: SECTION NO. 3: EXTERNAL WORKS
B5: BILL NO.1
B7: SITE CLEARANCE AND FORMING PLATFORM (PROVISIONAL)
B9: Tenderers are advised to study the Model Preambles for Trades
B10: before pricing this bill
B12: SUPPLEMENTARY PREAMBLES
B14: Nature of ground
B16: The nature of the ground is assumed to be clay/gravel material,
B17: therefore "earth", but possibly interspersed with "soft rock" or
B18: "hard rock"
B20: Carting away of excavated material
B22: Descriptions of carting away of excavated material shall be deemed
... B28: Site clearance
A30: 1 | B30: Digging up and removing rubbish, debris, vegetation, hedges, shrubs, | C30: m2 | D30: =48*28 -> 1344
B31: bush, etc and trees not exceeding 200mm girth
A33: 2 | B33: Stripping average 150mm thick layer of top soil and depositing material | C33: m2 | D33: =D30 -> 1344
B34: in prescribed stock piles on site
B36: BULK EXCAVATION, FILLING, ETC
B38: Open face excavation in earth over sloping site
A40: 3 | B40: Cut to fill to form platform | C40: m3 | D40: 100
B42: Extra over bulk excavations in earth for excavation in:
A44: 4 | B44: Boulders Class A & B | C44: m3 | D44: 10
B46: Compaction of surfaces
A48: 5 | B48: Compaction of ground surface under floors, etc including scarifying | C48: m2 | D48: =D30 -> 1344
B49: for a depth of 150 mm, breaking down oversize material, adding
B50: suitable material where necessary and compacting to 90 % Mod
B51: AASHTO density
B55: Carried Forward to Summary of Section No.3 | E55: R

Sheet Section 3-Bill No.2
A1: ITEM NO | B1: DESCRIPTION | C1: UNIT | D1: QUANTITY | E1: RATE | F1: AMOUNT
B3: SECTION NO. 3: EXTERNAL WORKS (PROVISIONAL)
B5: BILL NO.2
B6: ROADWORKS AND PAVING (PROVISIONAL)
B8: PREAMBLES
B10: For Preambles refer to Standard Preambles as issued by ASAQS
B12: SUPPLEMENTARY PREAMBLES
B14: Items, materials or methods to be used specified by trade names or
B15: catalogue numbers are only an indication of the quality required.
B16: Items, materials or methods of similar quality may be used with prior
B17: approval from the architect
B19: Nature of ground
B21: The nature of the ground is assumed to be loose sandy material,
... B34: Excavation in earth not exceeding 2 m deep
A36: 1 | B36: Reducing levels under floors, paving, parking, etc | C36: m3 | D36: 50
B38: Compaction of surfaces
A40: 2 | B40: Compaction of ground surface under floors etc including scarifying for a | C40: m2 | D40: =48*3 -> 144
B41: depth of 150mm, breaking down oversize material, adding suitable
B42: material where necessary and compacting to 93% Mod AASHTO density
B44: Earth filling G2 material supplied by the contractor compacted to 95%
B45: Mod AASHTO density
A47: 3 | B47: Under walkways | C47: m3 | D47: 25
B49: Earth filling G5 material supplied by the contractor compacted to 97%
B50: Mod AASHTO density
A52: 4 | B52: Under walkways | C52: m3 | D52: =D47 -> 25
B54: Prescribed density tests on filling
A56: 5 | B56: "Modified AASHTO Density" test | C56: No | D56: 3
B58: Approved weedkiller applied according to manufacturers instructions
B59: to receive paving material
A61: 6 | B61: Under road surface, etc | C61: m2 | D61: =D40 -> 144
B63: Carried to Collection | E63: R
B66: Paving, etc to be laid to patterned layout with colours as per architect
B68: Paving is to be laid on 50mm (thickness after final compaction) clean
B69: river sand (preparation of ground or filling elsewhere)
B71: Clean sand is to be screened through a 1.18mm sieve and is to be
B72: swept into joints between roadstones
B74: Bedding and jointing sand to be compliant with SABS 1200MJ-1984
B75: (Clause 3.3)
B77: 220 x 108 x 50mm Chamfered and nibbed Corobrik Champaigne paver,
B78: average compressive strength 31MPa laid in herringbone bond
...

Sheet Section 3-Bill No.3
A1: ITEM NO | B1: DESCRIPTION | C1: UNIT | D1: QUANTITY | E1: RATE | F1: AMOUNT
B3: SECTION NO. 3: EXTERNAL WORKS
B5: BILL NO.3
B7: FENCING:
B10: Tenderers are advised to study the Model Preambles for Trades
B11: before pricing this bill
B14: Galvanised steel security fencing on and including 76 x 76 x 1.8m square
B15: tube posts set in 450 x 450 x 900mm deep 15Mpa mass concrete base
B16: not exceeding 3m centres, prepainted with one coat undercoat and two
B17: coats gloss enamel paint on both sides of palisade
A19: 1 | B19: Palisade security fencing 1.8m high.as per architectural drawings | C19: m | D19: =50+30+50+30 -> 160
A21: 2 | B21: Extra over for 100 x 100mm end or gate post | C21: No | D21: 35
B23: Gates
A25: 3 | B25: Standard 4050 x 1800mm high double gate consisting of 76 x76mm frames | C25: No | D25: 1
B26: with bracing and complete with 4 hinges,bolts and 2 barrel bolts
A28: 4 | B28: Standard single pedestrian gate size 1000 x 1800mm high | C28: No | D28: 1
A30: 5 | B30: Main Contractors Mark up for managing nominated contractor | C30: Item | D30: 1 | F30: Rate Only
B55: Carried Forward to Summary of Section No.3 | E55: R

Sheet Collection (3)
B1: SECTION SUMMARY - SECTION 3: External Works
A3: Bill No | C3: Page No | F3: Amount
A5: 1 | B5: Site Clearance and Forming Platform | C5: -45
A7: 2 | B7: Roadworks and Paving | C7: -48
A9: 3 | B9: Fencing | C9: -49
B54: Carried to Final Summary | E54: R

Sheet Section 4
A1: ITEM NO | B1: DESCRIPTION | C1: UNIT | D1: QUANTITY | E1: RATE | F1: AMOUNT
B3: SECTION NO. 4: PROVISIONAL SUMS
B5: BILL NO.1
B7: PROVISIONAL SUMS
B9: NOTES:
B11: General
B13: Provisional sums are for material and equipment supplied and
B14: installed complete by firms of specialists
B16: Profit
B18: Where stated, the contractor may allow for profit if required
B20: General attendance on nominated/selected subcontractors
B22: The item "Attendance" which follows each provisional sum for
B23: nominated/selected subcontractors' work, shall be deemed to
... B51: Electrical Installation
A53: 1 | B53: Allow the provisional amount of R200 000.00 (Two Hundred Thousand Rand) | C53: Item | D53: 1 | F53: 200000
B54: for Electrical Installation to be executed by a selected or nominated subcontractor
A56: 2 | B56: Profit | C56: Item | D56: 1
A58: 3 | B58: Allow for general attendance | C58: Item | D58: 1
B61: Carried to Collection | E61: R
B71: Landscaping
A73: 4 | B73: Allow the provisional amount of R30 000-00 (Thirty Thousand Rand) | C73: Item | D73: 1 | F73: 30000
B74: for landscaping to be executed by a selected/nominated subcontractor
A76: 5 | B76: Profit | C76: Item | D76: 1
A78: 6 | B78: Allow for general attendance | C78: Item | D78: 1
B80: Plastic Chairs and Tables
B82: Allow the budgetary amount of R30 000.00 (Thirty Thousand Rand) | C82: Item | D82: 1 | F82: 30000
B83: for supplying and installing 200 plastic chairs and 2 foldable tables with 4 leather chairs ,
B84: to be used as directed by the client and deducted in part or in whole if not required
B86: Profit | C86: Item | D86: 1
B88: Allow for general attendance | C88: Item | D88: 1
B90: Community Liaison Officer
A92: 7 | B92: Allow the budgetary amount of R37 000.00 (Thirty Seven Thousand Rand) | C92: Item | D92: 1 | F92: 37000
B93: for employing a CLO, to be used as directed by the client and
B94: deducted in part or in whole if not required
A96: 8 | B96: Profit | C96: Item | D96: 1
A98: 9 | B98: Allow for general attendance | C98: Item | D98: 1
B100: Ablution Facilities
B102: Allow the budgetary amount of R200 000.00 (Two Hundred Thousand Rand) for | C102: Item | D102: 1 | F102: 200000
B103: the construction of Ablution facilities as directed by the client.
B106: Profit | C106: Item | D106: 1
...

Sheet Final Summary
B1: FINAL SUMMARY
A3: Section No | C3: Page No | F3: Amount
A5: 1 | B5: SECTION 1: Preliminaries | C5: -12
A7: 2 | B7: SECTION 2: Building Works | C7: -44
A9: 3 | B9: SECTION 3: External Works | C9: -50
A11: 4 | B11: SECTION 3: Provisional Sums | C11: -53
B44: Sub Total | E44: R
B46: Add : 5% Contingencies | E46: R
B49: Sub Total | E49: R
B51: Add : VAT @ 15% | E51: R
B54: Carried to Form of Offer and Acceptance | E54: R
