Workbook
Name ContractDetails: #REF!
Name ExportTenderItemQu: #REF!
Name Rates1_2: '1) P&G Schedule'!$I$48,'1) P&G Schedule'!$I$49,'1) P&G Schedule'!$I$50,'1) P&G Schedule'!$I$51,'1) P&G Schedule'!$I$53,'1) P&G Schedule'!$I$54,'1) P&G Schedule'!$I$57,'1) P&G Schedule'!$I$59
Name Rates1_3: '1) P&G Schedule'!$I$64,'1) P&G Schedule'!$I$65,'1) P&G Schedule'!$I$67
Name Rates2_2C: '2) RP Schedule'!$I$73,'2) RP Schedule'!$I$74,'2) RP Schedule'!$I$75
Name Rates2_2EB: '2) RP Schedule'!$I$96,'2) RP Schedule'!$I$97,'2) RP Schedule'!$I$98
Name Rates2_2ED: '2) RP Schedule'!$I$102,'2) RP Schedule'!$I$103,'2) RP Schedule'!$I$104
Name Rates2_2EF: '2) RP Schedule'!$I$108,'2) RP Schedule'!$I$109,'2) RP Schedule'!$I$110,'2) RP Schedule'!$I$111,'2) RP Schedule'!$I$112,'2) RP Schedule'!$I$113
Name Rates2_2EG: '2) RP Schedule'!$I$117,'2) RP Schedule'!$I$118
Name Rates2_2EH: '2) RP Schedule'!$I$122,'2) RP Schedule'!$I$123,'2) RP Schedule'!$I$124,'2) RP Schedule'!$I$125,'2) RP Schedule'!$I$126
Name Rates2_2EL: '2) RP Schedule'!$I$130,'2) RP Schedule'!$I$131
Name Rates2_2S: '2) RP Schedule'!$I$135
Name Rates2_2TA: '2) RP Schedule'!$I$139,'2) RP Schedule'!$I$140,'2) RP Schedule'!$I$141,'2) RP Schedule'!$I$142
Name Rates2_2TB: '2) RP Schedule'!$I$146,'2) RP Schedule'!$I$147,'2) RP Schedule'!$I$148
Name Rates2_3PG: '2) RP Schedule'!$I$176,'2) RP Schedule'!$I$177,'2) RP Schedule'!$I$178,'2) RP Schedule'!$I$179,'2) RP Schedule'!$I$180,'2) RP Schedule'!$I$181,'2) RP Schedule'!$I$182
Name Rates2_4C: '2) RP Schedule'!$I$213,'2) RP Schedule'!$I$214,'2) RP Schedule'!$I$215,'2) RP Schedule'!$I$216,'2) RP Schedule'!$I$217,'2) RP Schedule'!$I$218,'2) RP Schedule'!$I$219
Name Rates2_4DD: '2) RP Schedule'!$I$223,'2) RP Schedule'!$I$224,'2) RP Schedule'!$I$225,'2) RP Schedule'!$I$226,'2) RP Schedule'!$I$227
Name Rates2_4F: '2) RP Schedule'!$I$231,'2) RP Schedule'!$I$232,'2) RP Schedule'!$I$233,'2) RP Schedule'!$I$234,'2) RP Schedule'!$I$235
Name Rates3_1B: '3) CSCM Schedule'!$I$27,'3) CSCM Schedule'!$I$28,'3) CSCM Schedule'!$I$29,'3) CSCM Schedule'!$I$30,'3) CSCM Schedule'!$I$31,'3) CSCM Schedule'!$I$32,'3) CSCM Schedule'!$I$33
Name Rates3_1C: '3) CSCM Schedule'!$I$37,'3) CSCM Schedule'!$I$38,'3) CSCM Schedule'!$I$39,'3) CSCM Schedule'!$I$40,'3) CSCM Schedule'!$I$41,'3) CSCM Schedule'!$I$42,'3) CSCM Schedule'!$I$43,'3) CSCM Schedule'!$I$44
Name Rates3_1EF: '3) CSCM Schedule'!$I$63,'3) CSCM Schedule'!$I$64
Name Rates3_1EL: '3) CSCM Schedule'!$I$68
Name Rates3_1F: '3) CSCM Schedule'!$I$72,'3) CSCM Schedule'!$I$73,'3) CSCM Schedule'!$I$74,'3) CSCM Schedule'!$I$75
Name Rates3_1PG: '3) CSCM Schedule'!$I$79,'3) CSCM Schedule'!$I$80,'3) CSCM Schedule'!$I$81,'3) CSCM Schedule'!$I$82,'3) CSCM Schedule'!$I$83,'3) CSCM Schedule'!$I$84,'3) CSCM Schedule'!$I$85
Name Rates3_2S: '3) CSCM Schedule'!$I$103,'3) CSCM Schedule'!$I$104,'3) CSCM Schedule'!$I$105,'3) CSCM Schedule'!$I$106,'3) CSCM Schedule'!$I$107
Name RATES4_1B: '4) RSWM Schedule'!$I$45,'4) RSWM Schedule'!$I$46,'4) RSWM Schedule'!$I$47,'4) RSWM Schedule'!$I$48,'4) RSWM Schedule'!$I$49,'4) RSWM Schedule'!$I$50,'4) RSWM Schedule'!$I$51,'4) RSWM Schedule'!$I$52
Name RATES4_2AB: '4) RSWM Schedule'!$I$58,'4) RSWM Schedule'!$I$59,'4) RSWM Schedule'!$I$60,'4) RSWM Schedule'!$I$61,'4) RSWM Schedule'!$I$62,'4) RSWM Schedule'!$I$63
Name RATES4_4DA: '4) RSWM Schedule'!$I$167,'4) RSWM Schedule'!$I$168,'4) RSWM Schedule'!$I$169,'4) RSWM Schedule'!$I$170,'4) RSWM Schedule'!$I$172,'4) RSWM Schedule'!$I$173
Name Rates4_5EM: '4) RSWM Schedule'!$I$179
Name Rates4_6GM: '4) RSWM Schedule'!$I$185,'4) RSWM Schedule'!$I$186,'4) RSWM Schedule'!$I$187,'4) RSWM Schedule'!$I$188
Name Rates4_7F: '4) RSWM Schedule'!$I$194,'4) RSWM Schedule'!$I$195,'4) RSWM Schedule'!$I$196,'4) RSWM Schedule'!$I$197,'4) RSWM Schedule'!$I$198,'4) RSWM Schedule'!$I$199
Name Rates5_S4: '5) W&S Schedule'!$I$276,'5) W&S Schedule'!$I$277,'5) W&S Schedule'!$I$279,'5) W&S Schedule'!$I$282,'5) W&S Schedule'!$I$283,'5) W&S Schedule'!$I$286
Name SubHeading: #REF!
Name TenderPart: #REF!
Name TenderSection: '1) P&G Schedule'!$B$14:$E$66
Name TenderSection: '3) CSCM Schedule'!$B$22:$E$107
Name TenderSection: '4) RSWM Schedule'!$B$40:$E$283
Name TenderSection: '5) W&S Schedule'!$B$17:$E$121
Name TenderSection: '2) RP Schedule'!$B$36:$E$209

Sheet Form of Offer Amt
B2: This spreadsheet is to be be printed on A4 paper and included with the hard copy submission. When printing, select the "Print Entire Workbook" and "Fit all columns on one page" options on the PRINT SETUP page.
B3: The EXCEL file is also to be uploaded on the JDE - SSS Module with the scanned copy of the signed tender document.
B4: Any AMOUNTS or QUANTITIES in RED TEXT indicates that some RATES have not been entered.
C7: CONTRACT: 1A-33566
C8: TITLE: As and When, Rates Based Contract for Disaster Response in the South Region, for 36 Months
B10: Sheet | C10: Description | D10: Amount
B11: 1) | C11: ='1) P&G Schedule'!B7 -> PRELIMINARY and GENERAL (P&G) SCHEDULE | D11: ='1) P&G Schedule'!J9 -> 82500
B12: 2) | C12: ='2) RP Schedule'!B7 -> ROADS PROVISION (RP) SCHEDULE | D12: ='2) RP Schedule'!J7 -> 25000
B13: 3) | C13: ='3) CSCM Schedule'!B7 -> COASTAL and CATCHMENT MANAGEMENT (CSCM) SCHEDULE | D13: ='3) CSCM Schedule'!J7 -> 0
B14: 4) | C14: ='4) RSWM Schedule'!B7 -> ROADS and STORMWATER MAINTENANCE (RSWM) SCHEDULE | D14: ='4) RSWM Schedule'!J7 -> 60000
B15: 5) | C15: ='5) W&S Schedule'!B7 -> WATER and SANITATION (W&S) SCHEDULE | D15: ='5) W&S Schedule'!J7 -> 90000
C17: Sub-Total : | D17: =SUM(D11:D15) -> 257500
C19: V.A.T. @ 15% : | D19: =ROUND(D17*0.15,2) -> 38625
C21: Total (incl) carried to Form of Offer (C1.1) : | D21: =D17+D19 -> 296125

Sheet 1) P&G Schedule
B2: ENTER ITEM RATES ONLY IN THE YELLOW SHADED CELLS
B3: SCROLL DOWN TO ENTER RATES
B4: Any AMOUNTS or ESTIMATED QUANTITIES in RED TEXT indicates that some RATES have not been entered.
B7: PRELIMINARY and GENERAL (P&G) SCHEDULE
B9: =B15 -> 1 | C9: =B7 -> PRELIMINARY and GENERAL (P&G) SCHEDULE | I9: Section Total: | J9: =SUM(J10:J12) -> 82500
C10: =C18 -> AA | D10: =D18 -> PRELIMINARIES | I10: {=AREAS(Rates1_1)-COUNTA(Rates1_1)} -> 20 | J10: =J18 -> 0
C11: =C46 -> AB | D11: =D46 -> GENERAL SPECIFICATION | I11: {=AREAS(Rates1_2)-COUNTA(Rates1_2)} -> 8 | J11: =J46 -> 30000
C12: =C62 -> AH | D12: =D62 -> OCCUPATIONAL HEALTH and SAFETY | I12: {=AREAS(Rates1_3)-COUNTA(Rates1_3)} -> 3 | J12: =J62 -> 52500
B15: 1 | C15: PRELIMINARIES
D17: Item # | E17: Clause ref. | F17: Description | G17: Unit | H17: Quantity | I17: Rate | J17: Amount
B18: Part | C18: AA | D18: PRELIMINARIES | I18: Part Total: | J18: =SUM(J20:J43) -> 0
F19: FIXED CHARGE OBLIGATIONS GCC 2015 General Conditions of Contract read with the Contract Data as a % of the Task Order Value, where the Task Order is:
B20: 1 | C20: AA | D20: 1 | E20: GCC 2015 | F20: Less than < R1m | G20: % | H20: 1000000 | J20: =I20/100*H20 -> 0
B21: 1 | C21: AA | D21: 2 | E21: GCC 2015 | F21: Greater than R1m and less than R3m | G21: % | H21: 3000000 | J21: =I21/100*H21 -> 0
B22: 1 | C22: AA | D22: 3 | E22: GCC 2015 | F22: Greater than R3m and less than R6m | G22: % | H22: 6000000 | J22: =I22/100*H22 -> 0
B23: 1 | C23: AA | D23: 4 | E23: GCC 2015 | F23: Greater than R6m and less than R10m | G23: % | H23: 10000000 | J23: =I23/100*H23 -> 0
B24: 1 | C24: AA | D24: 5 | E24: GCC 2015 | F24: Greater than R10m | G24: % | H24: 20000000 | J24: =I24/100*H24 -> 0
F25: TIME RELATED OBLIGATIONS GCC 2015 General Conditions of Contract read with the Contract Data as a % of the Task Order value, where the Task Order value is:
B26: 1 | C26: AA | D26: 6 | E26: GCC 2015 | F26: Less than < R1m | G26: % | H26: 1000000 | J26: =I26/100*H26 -> 0
B27: 1 | C27: AA | D27: 7 | E27: GCC 2015 | F27: Greater than R1m and less than R3m | G27: % | H27: 3000000 | J27: =I27/100*H27 -> 0
B28: 1 | C28: AA | D28: 8 | E28: GCC 2015 | F28: Greater than R3m and less than R6m | G28: % | H28: 6000000 | J28: =I28/100*H28 -> 0
B29: 1 | C29: AA | D29: 9 | E29: GCC 2015 | F29: Greater than R6m and less than R10m | G29: % | H29: 10000000 | J29: =I29/100*H29 -> 0
B30: 1 | C30: AA | D30: 10 | E30: GCC 2015 | F30: Greater than R10m | G30: % | H30: 20000000 | J30: =I30/100*H30 -> 0
F31: FIXED CHARGE OBLIGATIONS SANS 1921-1: General Engineering and Construction Works read with the Specification in the Scope-of-Works, as a % of the Task Order Value, where the Task Order Value is:
B32: 1 | C32: AA | D32: 11 | E32: SANS 1921-1 | F32: Less than < R1m | G32: % | H32: 1000000 | J32: =I32/100*H32 -> 0
B33: 1 | C33: AA | D33: 12 | E33: SANS 1921-1 | F33: Greater than R1m and less than R3m | G33: % | H33: 3000000 | J33: =I33/100*H33 -> 0
B34: 1 | C34: AA | D34: 13 | E34: SANS 1921-1 | F34: Greater than R3m and less than R6m | G34: % | H34: 6000000 | J34: =I34/100*H34 -> 0
B35: 1 | C35: AA | D35: 14 | E35: SANS 1921-1 | F35: Greater than R6m and less than R10m | G35: % | H35: 10000000 | J35: =I35/100*H35 -> 0
B36: 1 | C36: AA | D36: 15 | E36: SANS 1921-1 | F36: Greater than R10m | G36: % | H36: 20000000 | J36: =I36/100*H36 -> 0
D37: Item # | E37: Clause ref. | F37: Description | G37: Unit | H37: Quantity | I37: Rate | J37: Amount
F38: TIME RELATED OBLIGATIONS SANS 1921-1: General Engineering and Construction Works read with the Specification in the Scope-of-Works, as a % of the Task Order Value, where the Task Order Value is:
B39: 1 | C39: AA | D39: 16 | E39: SANS 1921-1 | F39: Less than < R1m | G39: % | H39: 1000000 | J39: =I39/100*H39 -> 0
B40: 1 | C40: AA | D40: 17 | E40: SANS 1921-1 | F40: Greater than R1m and less than R3m | G40: % | H40: 3000000 | J40: =I40/100*H40 -> 0
B41: 1 | C41: AA | D41: 18 | E41: SANS 1921-1 | F41: Greater than R3m and less than R6m | G41: % | H41: 6000000 | J41: =I41/100*H41 -> 0
B42: 1 | C42: AA | D42: 19 | E42: SANS 1921-1 | F42: Greater than R6m and less than R10m | G42: % | H42: 10000000 | J42: =I42/100*H42 -> 0
B43: 1 | C43: AA | D43: 20 | E43: SANS 1921-1 | F43: Greater than R10m | G43: % | H43: 20000000 | J43: =I43/100*H43 -> 0
D45: Item # | E45: Clause ref. | F45: Description | G45: Unit | H45: Quantity | I45: Rate | J45: Amount
B46: Part | C46: AB | D46: GENERAL SPECIFICATION | I46: Part Total: | J46: =+SUM(J48:J59) -> 30000
F47: Contractors camp site/ store yard, site notice board, road deviations, initial supply of signs, barricades and delineators.
B48: 1 | C48: AB | D48: 1 | E48: PS.AB.1.2 | F48: Task Order period: less than, or equal to, 2 months | G48: Month | H48: 2 | J48: =H48*I48 -> 0
...

Sheet 2) RP Schedule
B2: ENTER ITEM RATES ONLY IN THE YELLOW SHADED CELLS
B3: SCROLL DOWN TO ENTER RATES
B4: Any AMOUNTS or ESTIMATED QUANTITIES in RED TEXT indicates that some RATES have not been entered.
B7: ROADS PROVISION (RP) SCHEDULE | I7: TOTAL: | J7: =J9+J13+J26+J31 -> 25000
B9: =B37 -> 1 | D9: =C37 -> Site Clearance and Protection Works | I9: Section Total: | J9: =SUM(J10:J11) -> 20000
C10: =C40 -> B | D10: =D40 -> SITE CLEARANCE | I10: {=AREAS(Rates2_1B)-COUNTA(Rates2_1B)} -> 12 | J10: =J40 -> 20000
C11: =C56 -> F | D11: =D56 -> PROTECTION WORKS | I11: {=AREAS(Rates2_1F)-COUNTA(Rates2_1F)} -> 11 | J11: =J56 -> 0
B13: =B69 -> 2 | D13: =C69 -> Roadworks | I13: Section Total: | J13: =SUM(J14:J24) -> 5000
C14: =C72 -> C | D14: =D72 -> CONCRETE WORK | I14: {=AREAS(Rates2_2C)-COUNTA(Rates2_2C)} -> 3 | J14: =J72 -> 0
C15: =C78 -> DA | D15: =D78 -> EARTHWORKS : BULK | I15: {=AREAS(Rates2_2DA)-COUNTA(Rates2_2DA)} -> 13 | J15: =J78 -> 5000
C16: =C95 -> EB | D16: =D95 -> GRADED CRUSHED STONE | I16: {=AREAS(Rates2_2EB)-COUNTA(Rates2_2EB)} -> 3 | J16: =J95 -> 0
C17: =C100 -> ED | D17: =D100 -> ROAD ASPHALT | I17: {=AREAS(Rates2_2ED)-COUNTA(Rates2_2ED)} -> 3 | J17: =J100 -> 0
C18: =C107 -> EF | D18: =D107 -> KERBS AND HAUNCHES | I18: {=AREAS(Rates2_2EF)-COUNTA(Rates2_2EF)} -> 6 | J18: =J107 -> 0
C19: =C116 -> EG | D19: =D116 -> SIDEWALKS, FOOTPATHS and MEDIAN AREAS | I19: {=AREAS(Rates2_2EG)-COUNTA(Rates2_2EG)} -> 2 | J19: =J116 -> 0
C20: =C121 -> EH | D20: =D121 -> STEEL GUARDRAILS & CONC. MEDIAN BARRIERS | I20: {=AREAS(Rates2_2EH)-COUNTA(Rates2_2EH)} -> 5 | J20: =J121 -> 0
C21: =C129 -> EL | D21: =D129 -> DUMPROCK SUBGRADE IMPROVEMENT | I21: {=AREAS(Rates2_2EL)-COUNTA(Rates2_2EL)} -> 2 | J21: =J129 -> 0
C22: =C134 -> S | D22: =D134 -> REINSTATEMENT | I22: =AREAS(Rates2_2S)-COUNTA(Rates2_2S) -> 1 | J22: =J134 -> 0
C23: =C138 -> TA | D23: =D138 -> ROAD SIGNS | I23: {=AREAS(Rates2_2TA)-COUNTA(Rates2_2TA)} -> 4 | J23: =J138 -> 0
C24: =C145 -> TB | D24: =D145 -> ROAD MARKINGS | I24: {=AREAS(Rates2_2TB)-COUNTA(Rates2_2TB)} -> 3 | J24: =J145 -> 0
B26: =B150 -> 3 | D26: =C150 -> Drainage | I26: Section Total: | J26: =SUM(J27:J29) -> 0
C27: =C153 -> DB | D27: =D153 -> EARTHWORKS FOR PIPE TRENCHES | I27: {=AREAS(Rates2_3DB)-COUNTA(Rates2_3DB)} -> 19 | J27: =J153 -> 0
C28: =C175 -> PG | D28: =D175 -> NON PRESSURE PIPELINES and PC CULVERTS | I28: {=AREAS(Rates2_3PG)-COUNTA(Rates2_3PG)} -> 7 | J28: =J175 -> 0
C29: =C185 -> PH | D29: =D185 -> MANHOLES and APPURTENANT DRAINAGE WORKS | I29: {=AREAS(Rates2_3PH)-COUNTA(Rates2_3PH)} -> 22 | J29: =J185 -> 0
B31: =B209 -> 4 | D31: =C209 -> Structures | I31: Section Total: | J31: =SUM(J32:J34) -> 0
C32: =C212 -> C | D32: =D212 -> CONCRETE WORK | I32: {=AREAS(Rates2_4C)-COUNTA(Rates2_4C)} -> 7 | J32: =J212 -> 0
C33: =C222 -> DD | D33: =D222 -> EARTHWORKS FOR STRUCTURES | I33: {=AREAS(Rates2_4DD)-COUNTA(Rates2_4DD)} -> 5 | J33: =J222 -> 0
C34: =C230 -> F | D34: =D230 -> PROTECTION WORKS | I34: {=AREAS(Rates2_4F)-COUNTA(Rates2_4F)} -> 5 | J34: =J230 -> 0
B37: 1 | C37: Site Clearance and Protection Works
D39: Item # | E39: Clause ref. | F39: Description | G39: Unit | H39: Quantity | I39: Rate | J39: Amount
B40: Part | C40: B | D40: SITE CLEARANCE | I40: Part Total: | J40: =SUM(J41:J53) -> 20000
B41: 1 | C41: B | D41: 1 | E41: B.8.2 | F41: General clearance and grubbing in road reserve | G41: m2 | H41: 5000 | J41: =H41*I41 -> 0
B42: 1 | C42: B | D42: 2 | E42: B.8.14_x000D_ PS.B.5 | F42: Removal of roadways to tip (depth 0mm-200mm) | G42: m2 | H42: 200 | J42: =H42*I42 -> 0
B43: 1 | C43: B | D43: 3 | E43: PS.B.4 PS.B.4.6 | F43: Demolition and removal of existing structures above ground level | G43: PC Sum | H43: 20000 | I43: ---------- | J43: =H43 -> 20000
B44: 1 | C44: B | D44: 4 | F44: Contractor's overheads, charges for item 3 above | G44: % | H44: -------- | J44: =I44/100*H43 -> 0
B45: 1 | C45: B | D45: 5 | E45: B.8.10 | F45: Removal of unreinforced concrete | G45: m3 | H45: 25 | J45: =H45*I45 -> 0
B46: 1 | C46: B | D46: 6 | E46: B.8.11 | F46: Removal reinforced concrete | G46: m3 | H46: 10 | J46: =H46*I46 -> 0
B47: 1 | C47: B | D47: 7 | E47: B.8.3 | F47: General clearance and grubbing for pipelines in private property | G47: m | H47: 250 | J47: =H47*I47 -> 0
B48: 1 | C48: B | D48: 8 | E48: B.8.4 | F48: Removal and de-stumping of trees of girth exceeding 1,5m | G48: no. | H48: 10 | J48: =H48*I48 -> 0
B49: 1 | C49: B | D49: 9 | E49: B.8.7 | F49: Removal of street/ traffic signs and posts and store on site for re-use | G49: no. | H49: 5 | J49: =H49*I49 -> 0
B50: 1 | C50: B | D50: 10 | E50: B.8.16 | F50: Removal of kerb and channel/ fillet to tip | G50: m3 | H50: 10 | J50: =H50*I50 -> 0
...

Sheet 3) CSCM Schedule
B2: ENTER ITEM RATES ONLY IN THE YELLOW SHADED CELLS
B3: SCROLL DOWN TO ENTER RATES
B4: Any AMOUNTS or ESTIMATED QUANTITIES in RED TEXT indicates that some RATES have not been entered.
B7: COASTAL and CATCHMENT MANAGEMENT (CSCM) SCHEDULE | I7: TOTAL: | J7: =J9+J19 -> 0
B9: =B23 -> 1 | D9: =C23 -> Construction work | I9: Section Total: | J9: =SUM(J10:J17) -> 0
C10: =C25 -> B | D10: =D25 -> SITE CLEARANCE | I10: =AREAS(Rates3_1B)-COUNTA(Rates3_1B) -> 7 | J10: =J25 -> 0
C11: =C35 -> C | D11: =D35 -> CONCRETE WORK | I11: {=AREAS(Rates3_1C)-COUNTA(Rates3_1C)} -> 8 | J11: =J35 -> 0
C12: =C46 -> DB | D12: =D46 -> EARTHWORKS FOR PIPE TRENCHES | I12: {=AREAS(Rates3_1DB)-COUNTA(Rates3_1DB)} -> 12 | J12: =J46 -> 0
C13: =C61 -> EF | D13: =D61 -> KERBS AND HAUNCHES | I13: {=AREAS(Rates3_1EF)-COUNTA(Rates3_1EF)} -> 2 | J13: =J61 -> 0
C14: =C66 -> EL | D14: =D66 -> DUMPROCK SUBGRADE IMPROVEMENT | I14: =AREAS(Rates3_1EL)-COUNTA(Rates3_1EL) -> 1 | J14: =J66 -> 0
C15: =C70 -> F | D15: =D70 -> PROTECTION WORKS | I15: {=AREAS(Rates3_1F)-COUNTA(Rates3_1F)} -> 4 | J15: =J70 -> 0
C16: =C77 -> PG | D16: =D77 -> NON PRESSURE PIPELINES and PC CULVERTS | I16: {=AREAS(Rates3_1PG)-COUNTA(Rates3_1PG)} -> 7 | J16: =J77 -> 0
C17: =C87 -> PH | D17: =D87 -> MANHOLES and APPURTENANT DRAINAGE WORKS | I17: {=AREAS(Rates3_1PH)-COUNTA(Rates3_1PH)} -> 9 | J17: =J87 -> 0
B19: =B99 -> 2 | D19: =C99 -> Reinstatement | I19: Section Total: | J19: =SUM(J20:J20) -> 0
C20: =C101 -> S | D20: =D101 -> REINSTATEMENT | I20: {=AREAS(Rates3_2S)-COUNTA(Rates3_2S)} -> 5 | J20: =J101 -> 0
B23: 1 | C23: Construction work
B25: Part | C25: B | D25: SITE CLEARANCE | I25: Part Total: | J25: =SUM(J26:J38) -> 0
D26: Item # | E26: Clause ref. | F26: Description | G26: Unit | H26: Quantity | I26: Rate | J26: Amount
B27: 1 | C27: B | D27: 1 | E27: B.8.2 | F27: General clearance and grubbing in road reserve | G27: m2 | H27: 500 | J27: =H27*I27 -> 0
B28: 1 | C28: B | D28: 2 | E28: B.8.2 | F28: General clearance and grubbing within a servitude | G28: m2 | H28: 500 | J28: =H28*I28 -> 0
B29: 1 | C29: B | D29: 3 | E29: B.8.2 | F29: General clearance and grubbing in contractor's camp site | G29: m2 | H29: 300 | J29: =H29*I29 -> 0
B30: 1 | C30: B | D30: 4 | E30: B.8.10 | F30: Removal of unreinforced concrete | G30: m3 | H30: 1000 | J30: =H30*I30 -> 0
B31: 1 | C31: B | D31: 5 | E31: B.8.11 | F31: Removal of reinforced concrete | G31: m3 | H31: 1000 | J31: =H31*I31 -> 0
B32: 1 | C32: B | D32: 6 | E32: B.8.19 | F32: Removal of disused pipes, 375 - 900 mm diameter and spoil at tip. Rate to include all haulage | G32: m | H32: 500 | J32: =H32*I32 -> 0
B33: 1 | C33: B | D33: 7 | E33: B.8.16 | F33: Removal of kerb and channel/fillet to tip | G33: m3 | H33: 500 | J33: =H33*I33 -> 0
B35: Part | C35: C | D35: CONCRETE WORK | I35: Part Total: | J35: =SUM(J36:J48) -> 0
D36: Item # | E36: Clause ref. | F36: Description | G36: Unit | H36: Quantity | I36: Rate | J36: Amount
B37: 1 | C37: C | D37: 1 | E37: C.8.1 | F37: Grade 15/26 concrete blinding of thickness 75 mm | G37: m2 | H37: 100 | J37: =H37*I37 -> 0
B38: 1 | C38: C | D38: 2 | E38: C.8.1 | F38: Grade 30/26 concrete to culvert/canal | G38: m3 | H38: 3000 | J38: =H38*I38 -> 0
B39: 1 | C39: C | D39: 3 | E39: C.8.3 | F39: Class 3a shuttering to base slabs | G39: m2 | H39: 1000 | J39: =H39*I39 -> 0
B40: 1 | C40: C | D40: 4 | E40: C.8.3 | F40: Class 3a shuttering to walls | G40: m2 | H40: 1000 | J40: =H40*I40 -> 0
B41: 1 | C41: C | D41: 5 | E41: PS.C.8.7 | F41: Supply and lay precast 1.2 x 1.2 portal culvert | G41: no. | H41: 20 | J41: =H41*I41 -> 0
B42: 1 | C42: C | D42: 6 | E42: PS.C.8.8 | F42: Supply and lay precast 1.5 x 1.5 portal culvert | G42: no. | H42: 20 | J42: =H42*I42 -> 0
B43: 1 | C43: C | D43: 7 | E43: PS.C.8.9 | F43: Supply and lay precast 2.1 x 2.1 portal culvert | G43: no. | H43: 20 | J43: =H43*I43 -> 0
B44: 1 | C44: C | D44: 8 | E44: PS.C.8.10 | F44: Supply and lay precast 2.4 x 2.4 portal culvert | G44: no. | H44: 20 | J44: =H44*I44 -> 0
B46: Part | C46: DB | D46: EARTHWORKS FOR PIPE TRENCHES | I46: Part Total: | J46: =SUM(J47:J59) -> 0
D47: Item # | E47: Clause ref. | F47: Description | G47: Unit | H47: Quantity | I47: Rate | J47: Amount
B48: 1 | C48: DB | D48: 1 | E48: DB.8.5 | F48: Excavate and backfill in all material where depth is: Over 0,0m and not exceeding 1,5m | G48: m3 | H48: 1000 | J48: =H48*I48 -> 0
B49: 1 | C49: DB | D49: 2 | E49: DB.8.5 | F49: Excavate and backfill in all material where depth is: Over 1,5m and not exceeding 2,0m | G49: m3 | H49: 1000 | J49: =H49*I49 -> 0
B50: 1 | C50: DB | D50: 3 | E50: DB.8.5 | F50: Excavate and backfill in all material where depth is: Over 2,0m and not exceeding 2,5m | G50: m3 | H50: 1000 | J50: =H50*I50 -> 0
...

Sheet 4) RSWM Schedule
B2: ENTER ITEM RATES ONLY IN THE YELLOW SHADED CELLS
B3: SCROLL DOWN TO ENTER RATES
B4: Any AMOUNTS or ESTIMATED QUANTITIES in RED TEXT indicates that some RATES have not been entered.
B7: ROADS and STORMWATER MAINTENANCE (RSWM) SCHEDULE | I7: TOTAL: | J7: =J9+J12+J16+J19+J22+J25+J28+J31+J34+J37 -> 60000
B9: =B41 -> 1 | D9: =C41 -> Clearing and Grubbing | I9: Section Total: | J9: =SUM(J10:J10) -> 0
C10: =C44 -> B | D10: =D44 -> SITE CLEARANCE | I10: {=AREAS(RATES4_1B)-COUNTA(RATES4_1B)} -> 8 | J10: =J44 -> 0
B12: =B54 -> 2 | D12: =C54 -> Drains and Subsoil Drainage | I12: Section Total: | J12: =SUM(J13:J13) -> 0
C13: =C57 -> AB | D13: =D57 -> GENERAL SPECIFICATIONS | I13: {=AREAS(RATES4_2AB)-COUNTA(RATES4_2AB)} -> 6 | J13: =J57 -> 0
C14: =C66 -> DC | D14: =D66 -> EARTHWORKS FOR CONCRETE LINED CANALS | I14: {=AREAS(RATES4_2DC)-COUNTA(RATES4_2DC)} -> 11 | J14: =J66 -> 0
B16: =B84 -> 3 | D16: =C84 -> Stormwater Structures | I16: Section Total: | J16: =SUM(J17:J17) -> 0
C17: =C87 -> GM | D17: =D87 -> GRAVEL ROAD MAINTENANCE | I17: {=AREAS(RATES4_3GM)-COUNTA(RATES4_3GM)} -> 38 | J17: =J87 -> 0
B19: =B163 -> 4 | D19: =C163 -> Bulk Earthworks | I19: Section Total: | J19: =SUM(J20:J20) -> 0
C20: =C166 -> DA | D20: =D166 -> Bulk Earthworks | I20: {=AREAS(RATES4_4DA)-COUNTA(RATES4_4DA)} -> 6 | J20: =J166 -> 0
B22: =B175 -> 5 | D22: =C175 -> CONCRETE SURFACE TO ROADS | I22: Section Total: | J22: =SUM(J23:J23) -> 0
C23: =C178 -> EM | D23: =D178 -> CONCRETE SURFACE TO ROADS | I23: =AREAS(Rates4_5EM)-COUNTA(Rates4_5EM) -> 1 | J23: =J178 -> 0
B25: =B181 -> 6 | D25: =C181 -> GRAVEL ROAD MAINTENANCE: Heavy Regravelling | I25: Section Total: | J25: =SUM(J26:J26) -> 0
C26: =C184 -> GM | D26: =D184 -> Heavy Regravelling | I26: {=AREAS(Rates4_6GM)-COUNTA(Rates4_6GM)} -> 4 | J26: =J184 -> 0
B28: =B190 -> 7 | D28: =C190 -> Pitching, Stonework and protection against erosion | I28: Section Total: | J28: =SUM(J29:J29) -> 0
C29: =C193 -> F | D29: =D193 -> PROTECTION WORKS | I29: {=AREAS(Rates4_7F)-COUNTA(Rates4_7F)} -> 6 | J29: =J193 -> 0
B31: =B201 -> 8 | D31: =C201 -> Roads & Sidewalks | I31: Section Total: | J31: =SUM(J32:J32) -> 0
C32: =C204 -> ED | D32: =D204 -> ROAD ASPHALT | I32: {=AREAS(Rates4_8ED)-COUNTA(Rates4_8ED)} -> 14 | J32: =J204 -> 0
B34: =B224 -> 9 | D34: =C224 -> Insitu Cold Recycling & static plant cold recycling | I34: Section Total: | J34: =SUM(J35:J35) -> 60000
C35: =C227 -> PC | D35: =D227 -> STABILISATION OF GRAVEL BASE | I35: {=AREAS(Rates4_9PC)-COUNTA(Rates4_9PC)} -> 12 | J35: =J227 -> 60000
B37: =B249 -> 10 | D37: =C249 -> DAYWORKS | I37: Section Total: | J37: =SUM(J38:J38) -> 0
C38: =C252 -> GM | D38: =D252 -> GRAVEL ROAD MAINTENANCE | I38: {=AREAS(Rates4_10GM)-COUNTA(Rates4_10GM)} -> 26 | J38: =J210 -> 0
B41: 1 | C41: Clearing and Grubbing
D43: Item # | E43: Clause ref. | F43: Description | G43: Unit | H43: Quantity | I43: Rate | J43: Amount
B44: Part | C44: B | D44: SITE CLEARANCE | I44: Part Total: | J44: =SUM(J45:J52) -> 0
B45: 1 | C45: B | D45: 1 | E45: B.8.2 | F45: General clearance and grubbing | G45: m2 | H45: 8000 | J45: =H45*I45 -> 0
B46: 1 | C46: B | D46: 2 | E46: B.8.4 | F46: Removal and grubbing of large trees and stumps | G46: no. | H46: 25 | J46: =H46*I46 -> 0
B47: 1 | C47: B | D47: 3 | E47: B.8.5 | F47: Removal of existing fences | G47: m | H47: 150 | J47: =H47*I47 -> 0
B48: 1 | C48: B | D48: 4 | E48: B.8.9 | F48: Removal of brickwork | G48: m3 | H48: 18 | J48: =H48*I48 -> 0
B49: 1 | C49: B | D49: 5 | E49: B.8.10 | F49: Removal of unreinforced concrete | G49: m3 | H49: 12 | J49: =H49*I49 -> 0
B50: 1 | C50: B | D50: 6 | E50: B.8.11 | F50: Removal of reinforced concrete | G50: m3 | H50: 8 | J50: =H50*I50 -> 0
B51: 1 | C51: B | D51: 7 | E51: PS.B.8.5 | F51: Removal of existing asphalt surfacing | G51: m3 | H51: 25 | J51: =H51*I51 -> 0
B52: 1 | C52: B | D52: 8 | E52: PS.S.8.1 | F52: Re-instate fencing | G52: m | H52: 150 | J52: =H52*I52 -> 0
B54: 2 | C54: Drains and Subsoil Drainage
D56: Item # | E56: Clause ref. | F56: Description | G56: Unit | H56: Quantity | I56: Rate | J56: Amount
B57: Part | C57: AB | D57: GENERAL SPECIFICATIONS | I57: Part Total: | J57: =SUM(J58:J63) -> 0
B58: 2 | C58: AB | D58: 1 | E58: PS. AB.11 | F58: Repairs up to 16mm Ø HDPE water pipes including supply of all materials | G58: no. | H58: 6 | J58: =H58*I58 -> 0
...

Sheet 5) W&S Schedule
B2: ENTER ITEM RATES ONLY IN THE YELLOW SHADED CELLS
B3: SCROLL DOWN TO ENTER RATES
B4: Any AMOUNTS or ESTIMATED QUANTITIES in RED TEXT indicates that some RATES have not been entered.
B7: WATER and SANITATION (W&S) SCHEDULE | I7: TOTAL: | J7: =J9+J11+J13+J15 -> 90000
B9: =B18 -> 1 | D9: =C18 -> WATER PIPELINES | H9: {=AREAS(Rates5_S1)-COUNTA(Rates5_S1)} -> 41 | I9: Section Total: | J9: =SUM(J18) -> 90000
B11: =B121 -> 2 | D11: =C121 -> SEWER PIPES AND MANHOLES | H11: {=AREAS(Rates5_S2)-COUNTA(Rates5_S2)} -> 36 | I11: Section Total: | J11: =J121 -> 0
B13: =B250 -> 3 | D13: =C250 -> WATER SUPPLIES | H13: {=AREAS(Rates5_S3)-COUNTA(Rates5_S3)} -> 15 | I13: Section Total: | J13: =J250 -> 0
B15: =B272 -> 4 | D15: =C272 -> WATER METER INSTALLATION | H15: {=AREAS(Rates5_S4)-COUNTA(Rates5_S4)} -> 6 | I15: Section Total: | J15: =J272 -> 0
B18: 1 | C18: WATER PIPELINES | I18: Section Total: | J18: =SUM(J21:J119) -> 90000
D20: Item # | E20: Clause ref. | F20: Description | G20: Unit | H20: Quantity | I20: Rate | J20: Amount
F21: mPVC Pipelines
C22: SABS 1200L | F22: Supply, handle, lay, bed and compact to 90% Mod AASHTO, joint, test & disinfect mPVC Class 12 pipe with spigot and socket ends to SABS 966, Pt 2 (1988):
B23: 1 | D23: 1.1 | E23: 8.2.1 | F23: a) 75mm diameter | G23: m | H23: 300 | I23: 300 | J23: =H23*I23 -> 90000
B24: 1 | D24: 1.2 | E24: 8.2.1 | F24: b) 110mm diameter | G24: m | H24: 300 | J24: =H24*I24 -> 0
B25: 1 | D25: 1.3 | E25: 8.2.1 | F25: c) 160mm diameter | G25: m | H25: 300 | J25: =H25*I25 -> 0
B26: 1 | D26: 1.4 | E26: 8.2.1 | F26: d) 200mm diameter | G26: m | H26: 300 | J26: =H26*I26 -> 0
B27: 1 | D27: 1.5 | E27: 8.2.1 | F27: e) 215mm diameter | G27: m | H27: 300 | J27: =H27*I27 -> 0
C28: SABS 1200L | F28: Specials and Fittings in mPVC Extra-over 4.1 to supply, lay, bed, test and disinfect specials complete with couplings:
B29: 1 | D29: 1.6 | E29: 8.2.2 | F29: a) 90° Bends, 75mm diameter | G29: No. | H29: 30 | J29: =H29*I29 -> 0
B30: 1 | D30: 1.7 | E30: 8.2.2 | F30: b) 45° Bends, 75mm diameter | G30: No. | H30: 30 | J30: =H30*I30 -> 0
B31: 1 | D31: 1.8 | E31: 8.2.2 | F31: c) 22½° Bends, 75mm diameter | G31: No. | H31: 30 | J31: =H31*I31 -> 0
B32: 1 | D32: 1.9 | E32: 8.2.2 | F32: d) 11¼° Bends, 75mm diameter | G32: No. | H32: 30 | J32: =H32*I32 -> 0
B33: 1 | D33: 1.1 | E33: 8.2.2 | F33: e) End cap,75mm diameter | G33: No. | H33: 30 | J33: =H33*I33 -> 0
B34: 1 | D34: 1.11 | E34: 8.2.2 | F34: f) Double Lyng sockets, 75mm diameter | G34: No. | H34: 30 | J34: =H34*I34 -> 0
B35: 1 | D35: 1.12 | E35: 8.2.2 | F35: g) 90° Bends, 110mm diameter | G35: No. | H35: 30 | J35: =H35*I35 -> 0
B36: 1 | D36: 1.13 | E36: 8.2.2 | F36: h) 45° Bends, 110mm diameter | G36: No. | H36: 30 | J36: =H36*I36 -> 0
B37: 1 | D37: 1.14 | E37: 8.2.2 | F37: i) 22½° Bends, 110mm diameter | G37: No. | H37: 30 | J37: =H37*I37 -> 0
B38: 1 | D38: 1.15 | E38: 8.2.2 | F38: j) End cap,110mm diameter | G38: No. | H38: 30 | J38: =H38*I38 -> 0
B39: 1 | D39: 1.16 | E39: 8.2.2 | F39: k) 90° Bends, 160mm diameter | G39: No. | H39: 30 | J39: =H39*I39 -> 0
B40: 1 | D40: 1.17 | E40: 8.2.2 | F40: l) 45° Bends, 160mm diameter | G40: No. | H40: 30 | J40: =H40*I40 -> 0
... B42: 1 | D42: 1.19 | E42: 8.2.2 | F42: n) End cap,160mm diameter | G42: No. | H42: 30 | J42: =H42*I42 -> 0
C43: SABS 1200L | F43: HDPE Pipes Supply, deliver, handle, lay, bed, joint, test and disinfect to SABS ISO 4427: 1996 E:
B44: 1 | D44: 1.2 | E44: 8.2.1 | F44: a) PN 12.5, 15mm diameter | G44: m | H44: 300 | J44: =H44*I44 -> 0
B45: 1 | D45: 1.21 | E45: 8.2.1 | F45: b) PN 12.5, 20mm diameter | G45: m | H45: 300 | J45: =H45*I45 -> 0
B46: 1 | D46: 1.22 | E46: 8.2.1 | F46: c) PN 12.5, 25mm diameter | G46: m | H46: 300 | J46: =H46*I46 -> 0
B47: 1 | D47: 1.23 | E47: 8.2.1 | F47: d) PN 12.5, 32mm diameter | G47: m | H47: 300 | J47: =H47*I47 -> 0
B48: 1 | D48: 1.24 | E48: 8.2.1 | F48: e) PN 12.5, 50mm diameter | G48: m | H48: 300 | J48: =H48*I48 -> 0
B49: 1 | D49: 1.25 | E49: 8.2.1 | F49: f) PN 12.5, 75mm diameter | G49: m | H49: 300 | J49: =H49*I49 -> 0
D50: Item # | E50: Clause ref. | F50: Description | G50: Unit | H50: Quantity | I50: Rate | J50: Amount
C51: SABS 1200L | F51: Specials and Fittings in HDPE (Alprene or similar approved to PN 16) Extra over 4.3 to supply, deliver, lay, bed, joint, test and disinfect (extra over Item 4.3):
...
