Workbook
Name ContractDetails: #REF!
Name ExportTenderItemQu: #REF!
Name Rates1_2: '1) P&G Schedule'!$I$48,'1) P&G Schedule'!$I$49,'1) P&G Schedule'!$I$50,'1) P&G Schedule'!$I$51,'1) P&G Schedule'!$I$53,'1) P&G Schedule'!$I$54,'1) P&G Schedule'!$I$57,'1) P&G Schedule'!$I$59
Name Rates1_3: '1) P&G Schedule'!$I$64,'1) P&G Schedule'!$I$65,'1) P&G Schedule'!$I$67
Name Rates2_2C: '2) RP Schedule'!$I$73,'2) RP Schedule'!$I$74,'2) RP Schedule'!$I$75
Name Rates2_2EB: '2) RP Schedule'!$I$96,'2) RP Schedule'!$I$97,'2) RP Schedule'!$I$98
Name Rates2_2ED: '2) RP Schedule'!$I$102,'2) RP Schedule'!$I$103,'2) RP Schedule'!$I$104
Name Rates2_2EF: '2) RP Schedule'!$I$108,'2) RP Schedule'!$I$109,'2) RP Schedule'!$I$110,'2) RP Schedule'!$I$111,'2) RP Schedule'!$I$112,'2) RP Schedule'!$I$113
Name Rates2_2EG: '2) RP Schedule'!$I$117,'2) RP Schedule'!$I$118
Name Rates2_2EH: '2) RP Schedule'!$I$122,'2) RP Schedule'!$I$123,'2) RP Schedule'!$I$124,'2) RP Schedule'!$I$125,'2) RP Schedule'!$I$126
Name Rates2_2EL: '2) RP Schedule'!$I$130,'2) RP Schedule'!$I$131
Name Rates2_2S: '2) RP Schedule'!$I$135
Name Rates2_2TA: '2) RP Schedule'!$I$139,'2) RP Schedule'!$I$140,'2) RP Schedule'!$I$141,'2) RP Schedule'!$I$142
Name Rates2_2TB: '2) RP Schedule'!$I$146,'2) RP Schedule'!$I$147,'2) RP Schedule'!$I$148
Name Rates2_3PG: '2) RP Schedule'!$I$176,'2) RP Schedule'!$I$177,'2) RP Schedule'!$I$178,'2) RP Schedule'!$I$179,'2) RP Schedule'!$I$180,'2) RP Schedule'!$I$181,'2) RP Schedule'!$I$182
Name Rates2_4C: '2) RP Schedule'!$I$213,'2) RP Schedule'!$I$214,'2) RP Schedule'!$I$215,'2) RP Schedule'!$I$216,'2) RP Schedule'!$I$217,'2) RP Schedule'!$I$218,'2) RP Schedule'!$I$219
Name Rates2_4DD: '2) RP Schedule'!$I$223,'2) RP Schedule'!$I$224,'2) RP Schedule'!$I$225,'2) RP Schedule'!$I$226,'2) RP Schedule'!$I$227
Name Rates2_4F: '2) RP Schedule'!$I$231,'2) RP Schedule'!$I$232,'2) RP Schedule'!$I$233,'2) RP Schedule'!$I$234,'2) RP Schedule'!$I$235
Name Rates3_1B: '3) CSCM Schedule'!$I$27,'3) CSCM Schedule'!$I$28,'3) CSCM Schedule'!$I$29,'3) CSCM Schedule'!$I$30,'3) CSCM Schedule'!$I$31,'3) CSCM Schedule'!$I$32,'3) CSCM Schedule'!$I$33
Name Rates3_1C: '3) CSCM Schedule'!$I$37,'3) CSCM Schedule'!$I$38,'3) CSCM Schedule'!$I$39,'3) CSCM Schedule'!$I$40,'3) CSCM Schedule'!$I$41,'3) CSCM Schedule'!$I$42,'3) CSCM Schedule'!$I$43,'3) CSCM Schedule'!$I$44
Name Rates3_1EF: '3) CSCM Schedule'!$I$63,'3) CSCM Schedule'!$I$64
Name Rates3_1EL: '3) CSCM Schedule'!$I$68
Name Rates3_1F: '3) CSCM Schedule'!$I$72,'3) CSCM Schedule'!$I$73,'3) CSCM Schedule'!$I$74,'3) CSCM Schedule'!$I$75
Name Rates3_1PG: '3) CSCM Schedule'!$I$79,'3) CSCM Schedule'!$I$80,'3) CSCM Schedule'!$I$81,'3) CSCM Schedule'!$I$82,'3) CSCM Schedule'!$I$83,'3) CSCM Schedule'!$I$84,'3) CSCM Schedule'!$I$85
Name Rates3_2S: '3) CSCM Schedule'!$I$103,'3) CSCM Schedule'!$I$104,'3) CSCM Schedule'!$I$105,'3) CSCM Schedule'!$I$106,'3) CSCM Schedule'!$I$107
Name RATES4_1B: '4) RSWM Schedule'!$I$45,'4) RSWM Schedule'!$I$46,'4) RSWM Schedule'!$I$47,'4) RSWM Schedule'!$I$48,'4) RSWM Schedule'!$I$49,'4) RSWM Schedule'!$I$50,'4) RSWM Schedule'!$I$51,'4) RSWM Schedule'!$I$52
Name RATES4_2AB: '4) RSWM Schedule'!$I$58,'4) RSWM Schedule'!$I$59,'4) RSWM Schedule'!$I$60,'4) RSWM Schedule'!$I$61,'4) RSWM Schedule'!$I$62,'4) RSWM Schedule'!$I$63
Name RATES4_4DA: '4) RSWM Schedule'!$I$167,'4) RSWM Schedule'!$I$168,'4) RSWM Schedule'!$I$169,'4) RSWM Schedule'!$I$170,'4) RSWM Schedule'!$I$172,'4) RSWM Schedule'!$I$173
Name Rates4_5EM: '4) RSWM Schedule'!$I$179
Name Rates4_6GM: '4) RSWM Schedule'!$I$185,'4) RSWM Schedule'!$I$186,'4) RSWM Schedule'!$I$187,'4) RSWM Schedule'!$I$188
Name Rates4_7F: '4) RSWM Schedule'!$I$194,'4) RSWM Schedule'!$I$195,'4) RSWM Schedule'!$I$196,'4) RSWM Schedule'!$I$197,'4) RSWM Schedule'!$I$198,'4) RSWM Schedule'!$I$199
Name Rates5_S4: '5) W&S Schedule'!$I$276,'5) W&S Schedule'!$I$277,'5) W&S Schedule'!$I$279,'5) W&S Schedule'!$I$282,'5) W&S Schedule'!$I$283,'5) W&S Schedule'!$I$286
Name SubHeading: #REF!
Name TenderPart: #REF!
Name TenderSection: '1) P&G Schedule'!$B$14:$E$66
Name TenderSection: '3) CSCM Schedule'!$B$22:$E$107
Name TenderSection: '4) RSWM Schedule'!$B$40:$E$283
Name TenderSection: '5) W&S Schedule'!$B$17:$E$121
Name TenderSection: '2) RP Schedule'!$B$36:$E$209

Sheet Form of Offer Amt
B2: This spreadsheet is to be be printed on A4 paper and included with the hard copy submission. When printing, select the "Print Entire Workbook" and "Fit all columns on one page" options on the PRINT SETUP page.
B3: The EXCEL file is also to be uploaded on the JDE - SSS Module with the scanned copy of the signed tender document.
B4: Any AMOUNTS or QUANTITIES in RED TEXT indicates that some RATES have not been entered.
C7: CONTRACT: 1A-33566
C8: TITLE: As and When, Rates Based Contract for Disaster Response in the South Region, for 36 Months
B10: Sheet | C10: Description | D10: Amount
B11: 1) | C11: ='1) P&G Schedule'!B7 -> PRELIMINARY and GENERAL (P&G) SCHEDULE | D11: ='1) P&G Schedule'!J9 -> 82500
B12: 2) | C12: ='2) RP Schedule'!B7 -> ROADS PROVISION (RP) SCHEDULE | D12: ='2) RP Schedule'!J7 -> 25000
B13: 3) | C13: ='3) CSCM Schedule'!B7 -> COASTAL and CATCHMENT MANAGEMENT (CSCM) SCHEDULE | D13: ='3) CSCM Schedule'!J7 -> 0
B14: 4) | C14: ='4) RSWM Schedule'!B7 -> ROADS and STORMWATER MAINTENANCE (RSWM) SCHEDULE | D14: ='4) RSWM Schedule'!J7 -> 60000
B15: 5) | C15: ='5) W&S Schedule'!B7 -> WATER and SANITATION (W&S) SCHEDULE | D15: ='5) W&S Schedule'!J7 -> 90000
C17: Sub-Total : | D17: =SUM(D11:D15) -> 257500
C19: V.A.T. @ 15% : | D19: =ROUND(D17*0.15,2) -> 38625
C21: Total (incl) carried to Form of Offer (C1.1) : | D21: =D17+D19 -> 296125

Sheet 1) P&G Schedule
B2: ENTER ITEM RATES ONLY IN THE YELLOW SHADED CELLS
B3: SCROLL DOWN TO ENTER RATES
B4: Any AMOUNTS or ESTIMATED QUANTITIES in RED TEXT indicates that some RATES have not been entered.
B7: PRELIMINARY and GENERAL (P&G) SCHEDULE
B9: =B15 -> 1 | C9: =B7 -> PRELIMINARY and GENERAL (P&G) SCHEDULE | I9: Section Total: | J9: =SUM(J10:J12) -> 82500
C10: =C18 -> AA | D10: =D18 -> PRELIMINARIES | I10: {=AREAS(Rates1_1)-COUNTA(Rates1_1)} -> 20 | J10: =J18 -> 0
C11: =C46 -> AB | D11: =D46 -> GENERAL SPECIFICATION | I11: {=AREAS(Rates1_2)-COUNTA(Rates1_2)} -> 8 | J11: =J46 -> 30000
C12: =C62 -> AH | D12: =D62 -> OCCUPATIONAL HEALTH and SAFETY | I12: {=AREAS(Rates1_3)-COUNTA(Rates1_3)} -> 3 | J12: =J62 -> 52500
B15: 1 | C15: PRELIMINARIES
D17: Item # | E17: Clause ref. | F17: Description | G17: Unit | H17: Quantity | I17: Rate | J17: Amount
B18: Part | C18: AA | D18: PRELIMINARIES | I18: Part Total: | J18: =SUM(J20:J43) -> 0
F19: FIXED CHARGE OBLIGATIONS GCC 2015 General Conditions of Contract read with the Contract Data as a % of the Task Order Value, where the Task Order is:
B20: 1 | C20: AA | D20: 1 | E20: GCC 2015 | F20: Less than < R1m | G20: % | H20: 1000000 | J20: =I20/100*H20 -> 0
B21: 1 | C21: AA | D21: 2 | E21: GCC 2015 | F21: Greater than R1m and less than R3m | G21: % | H21: 3000000 | J21: =I21/100*H21 -> 0
B22: 1 | C22: AA | D22: 3 | E22: GCC 2015 | F22: Greater than R3m and less than R6m | G22: % | H22: 6000000 | J22: =I22/100*H22 -> 0
B23: 1 | C23: AA | D23: 4 | E23: GCC 2015 | F23: Greater than R6m and less than R10m | G23: % | H23: 10000000 | J23: =I23/100*H23 -> 0
B24: 1 | C24: AA | D24: 5 | E24: GCC 2015 | F24: Greater than R10m | G24: % | H24: 20000000 | J24: =I24/100*H24 -> 0
F25: TIME RELATED OBLIGATIONS GCC 2015 General Conditions of Contract read with the Contract Data as a % of the Task Order value, where the Task Order value is:
B26: 1 | C26: AA | D26: 6 | E26: GCC 2015 | F26: Less than < R1m | G26: % | H26: 1000000 | J26: =I26/100*H26 -> 0
B27: 1 | C27: AA | D27: 7 | E27: GCC 2015 | F27: Greater than R1m and less than R3m | G27: % | H27: 3000000 | J27: =I27/100*H27 -> 0
B28: 1 | C28: AA | D28: 8 | E28: GCC 2015 | F28: Greater than R3m and less than R6m | G28: % | H28: 6000000 | J28: =I28/100*H28 -> 0
B29: 1 | C29: AA | D29: 9 | E29: GCC 2015 | F29: Greater than R6m and less than R10m | G29: % | H29: 10000000 | J29: =I29/100*H29 -> 0
B30: 1 | C30: AA | D30: 10 | E30: GCC 2015 | F30: Greater than R10m | G30: % | H30: 20000000 | J30: =I30/100*H30 -> 0
F31: FIXED CHARGE OBLIGATIONS SANS 1921-1: General Engineering and Construction Works read with the Specification in the Scope-of-Works, as a % of the Task Order Value, where the Task Order Value is:
B32: 1 | C32: AA | D32: 11 | E32: SANS 1921-1 | F32: Less than < R1m | G32: % | H32: 1000000 | J32: =I32/100*H32 -> 0
B33: 1 | C33: AA | D33: 12 | E33: SANS 1921-1 | F33: Greater than R1m and less than R3m | G33: % | H33: 3000000 | J33: =I33/100*H33 -> 0
B34: 1 | C34: AA | D34: 13 | E34: SANS 1921-1 | F34: Greater than R3m and less than R6m | G34: % | H34: 6000000 | J34: =I34/100*H34 -> 0
B35: 1 | C35: AA | D35: 14 | E35: SANS 1921-1 | F35: Greater than R6m and less than R10m | G35: % | H35: 10000000 | J35: =I35/100*H35 -> 0
B36: 1 | C36: AA | D36: 15 | E36: SANS 1921-1 | F36: Greater than R10m | G36: % | H36: 20000000 | J36: =I36/100*H36 -> 0
D37: Item # | E37: Clause ref. | F37: Description | G37: Unit | H37: Quantity | I37: Rate | J37: Amount
F38: TIME RELATED OBLIGATIONS SANS 1921-1: General Engineering and Construction Works read with the Specification in the Scope-of-Works, as a % of the Task Order Value, where the Task Order Value is:
B39: 1 | C39: AA | D39: 16 | E39: SANS 1921-1 | F39: Less than < R1m | G39: % | H39: 1000000 | J39: =I39/100*H39 -> 0
B40: 1 | C40: AA | D40: 17 | E40: SANS 1921-1 | F40: Greater than R1m and less than R3m | G40: % | H40: 3000000 | J40: =I40/100*H40 -> 0
B41: 1 | C41: AA | D41: 18 | E41: SANS 1921-1 | F41: Greater than R3m and less than R6m | G41: % | H41: 6000000 | J41: =I41/100*H41 -> 0
B42: 1 | C42: AA | D42: 19 | E42: SANS 1921-1 | F42: Greater than R6m and less than R10m | G42: % | H42: 10000000 | J42: =I42/100*H42 -> 0
B43: 1 | C43: AA | D43: 20 | E43: SANS 1921-1 | F43: Greater than R10m | G43: % | H43: 20000000 | J43: =I43/100*H43 -> 0
D45: Item # | E45: Clause ref. | F45: Description | G45: Unit | H45: Quantity | I45: Rate | J45: Amount
B46: Part | C46: AB | D46: GENERAL SPECIFICATION | I46: Part Total: | J46: =+SUM(J48:J59) -> 30000
F47: Contractors camp site/ store yard, site notice board, road deviations, initial supply of signs, barricades and delineators.
B48: 1 | C48: AB | D48: 1 | E48: PS.AB.1.2 | F48: Task Order period: less than, or equal to, 2 months | G48: Month | H48: 2 | J48: =H48*I48 -> 0
B49: 1 | C49: AB | D49: 2 | E49: PS.AB.1.2 | F49: Task Order period: more than 2, and up to 4, months | G49: Month | H49: 4 | J49: =H49*I49 -> 0
B50: 1 | C50: AB | D50: 3 | E50: PS.AB.1.2 | F50: Task Order period: more than 4, up to 6, months | G50: Month | H50: 6 | J50: =H50*I50 -> 0
B51: 1 | C51: AB | D51: 4 | E51: PS.AB.1.2 | F51: Task Order period: more than 6 months | G51: Month | H51: 12 | J51: =H51*I51 -> 0
F52: Survey and As-Built Drawings
B53: 1 | C53: AB | D53: 5 | E53: PS.12 | F53: Survey coordination of existing valves, manholes, catchpits, and cable duct markers | G53: Day | H53: 20 | J53: =H53*I53 -> 0
B54: 1 | C54: AB | D54: 6 | E54: PS.12 | F54: Survey for and preparation of As-Built drawings | G54: Day | H54: 10 | J54: =H54*I54 -> 0
F55: Community Liaison Officer
B56: 1 | C56: AB | D56: 7 | E56: PS.AB.9 | F56: Allow for a CLO to be appointed | G56: PC Sum | H56: 30000 | I56: ---------- | J56: =H56 -> 30000
B57: 1 | C57: AB | D57: 8 | E57: PS.AB.9 | F57: Contractor's overheads and charges in terms of the appointment of a CLO (item 5) | G57: % | H57: -------- | J57: =I57/100*H56 -> 0
F58: Site Security
B59: 1 | C59: AB | D59: 9 | E59: PS.11 | F59: Allowance for Contractor's site security | G59: Week | H59: 50 | J59: =H59*I59 -> 0
D61: Item # | E61: Clause ref. | F61: Description | G61: Unit | H61: Quantity | I61: Rate | J61: Amount
B62: Part | C62: AH | D62: OCCUPATIONAL HEALTH and SAFETY | I62: Part Total: | J62: =+SUM(J63:J67) -> 52500
B63: 1 | C63: AH | D63: 1 | E63: AH.14.1 PS.10 PS.AH.1 | F63: Contractor's initial obligations in respect of the Occupational Health and Safety Act and Construction Regulations. Included in this item is the supply of all personal protective equipment (PPE) required to perfom on works i.e. Uniform, safety shoes, etc | G63: PC Sum | H63: 50000 | I63: ---------- | J63: =H63 -> 50000
B64: 1 | C64: AH | D64: 2 | E64: AH.14.3 PS.10 | F64: Submission of Health and Safety file (to be approved by clients health and safety officer before works hand over) | G64: % | H64: -------- | J64: =I64/100*H63 -> 0
B65: 1 | C65: AH | D65: 3 | E65: AH.14.2 PS.10 PS.AH.1 | F65: Contractor's time related obligations in respect of the Occupational Health and Safety Act and Construction Regulations, including compliance with PPE (ensuring that all personnel are properly clad and equiped to perfom on works at all times for the duration of the works) | G65: month | H65: 12 | J65: =H65*I65 -> 0
B66: 1 | C66: AH | D66: 4 | E66: AH.14.4 | F66: Application for Work Permit to DOEL (Once off Fee R450) per Regulation Gazette 11465 Volume 685 No 47109 | G66: PC Sum | H66: 2500 | I66: ---------- | J66: =H66 -> 2500
B67: 1 | C67: AH | D67: 5 | E67: AH.14.4 | F67: Contractor's markup on Item 4 above | G67: % | H67: -------- | J67: =I67/100*H66 -> 0

Sheet 2) RP Schedule
B2: ENTER ITEM RATES ONLY IN THE YELLOW SHADED CELLS
B3: SCROLL DOWN TO ENTER RATES
B4: Any AMOUNTS or ESTIMATED QUANTITIES in RED TEXT indicates that some RATES have not been entered.
B7: ROADS PROVISION (RP) SCHEDULE | I7: TOTAL: | J7: =J9+J13+J26+J31 -> 25000
B9: =B37 -> 1 | D9: =C37 -> Site Clearance and Protection Works | I9: Section Total: | J9: =SUM(J10:J11) -> 20000
C10: =C40 -> B | D10: =D40 -> SITE CLEARANCE | I10: {=AREAS(Rates2_1B)-COUNTA(Rates2_1B)} -> 12 | J10: =J40 -> 20000
C11: =C56 -> F | D11: =D56 -> PROTECTION WORKS | I11: {=AREAS(Rates2_1F)-COUNTA(Rates2_1F)} -> 11 | J11: =J56 -> 0
B13: =B69 -> 2 | D13: =C69 -> Roadworks | I13: Section Total: | J13: =SUM(J14:J24) -> 5000
C14: =C72 -> C | D14: =D72 -> CONCRETE WORK | I14: {=AREAS(Rates2_2C)-COUNTA(Rates2_2C)} -> 3 | J14: =J72 -> 0
C15: =C78 -> DA | D15: =D78 -> EARTHWORKS : BULK | I15: {=AREAS(Rates2_2DA)-COUNTA(Rates2_2DA)} -> 13 | J15: =J78 -> 5000
C16: =C95 -> EB | D16: =D95 -> GRADED CRUSHED STONE | I16: {=AREAS(Rates2_2EB)-COUNTA(Rates2_2EB)} -> 3 | J16: =J95 -> 0
C17: =C100 -> ED | D17: =D100 -> ROAD ASPHALT | I17: {=AREAS(Rates2_2ED)-COUNTA(Rates2_2ED)} -> 3 | J17: =J100 -> 0
C18: =C107 -> EF | D18: =D107 -> KERBS AND HAUNCHES | I18: {=AREAS(Rates2_2EF)-COUNTA(Rates2_2EF)} -> 6 | J18: =J107 -> 0
C19: =C116 -> EG | D19: =D116 -> SIDEWALKS, FOOTPATHS and MEDIAN AREAS | I19: {=AREAS(Rates2_2EG)-COUNTA(Rates2_2EG)} -> 2 | J19: =J116 -> 0
C20: =C121 -> EH | D20: =D121 -> STEEL GUARDRAILS & CONC. MEDIAN BARRIERS | I20: {=AREAS(Rates2_2EH)-COUNTA(Rates2_2EH)} -> 5 | J20: =J121 -> 0
C21: =C129 -> EL | D21: =D129 -> DUMPROCK SUBGRADE IMPROVEMENT | I21: {=AREAS(Rates2_2EL)-COUNTA(Rates2_2EL)} -> 2 | J21: =J129 -> 0
C22: =C134 -> S | D22: =D134 -> REINSTATEMENT | I22: =AREAS(Rates2_2S)-COUNTA(Rates2_2S) -> 1 | J22: =J134 -> 0
C23: =C138 -> TA | D23: =D138 -> ROAD SIGNS | I23: {=AREAS(Rates2_2TA)-COUNTA(Rates2_2TA)} -> 4 | J23: =J138 -> 0
C24: =C145 -> TB | D24: =D145 -> ROAD MARKINGS | I24: {=AREAS(Rates2_2TB)-COUNTA(Rates2_2TB)} -> 3 | J24: =J145 -> 0
B26: =B150 -> 3 | D26: =C150 -> Drainage | I26: Section Total: | J26: =SUM(J27:J29) -> 0
C27: =C153 -> DB | D27: =D153 -> EARTHWORKS FOR PIPE TRENCHES | I27: {=AREAS(Rates2_3DB)-COUNTA(Rates2_3DB)} -> 19 | J27: =J153 -> 0
C28: =C175 -> PG | D28: =D175 -> NON PRESSURE PIPELINES and PC CULVERTS | I28: {=AREAS(Rates2_3PG)-COUNTA(Rates2_3PG)} -> 7 | J28: =J175 -> 0
C29: =C185 -> PH | D29: =D185 -> MANHOLES and APPURTENANT DRAINAGE WORKS | I29: {=AREAS(Rates2_3PH)-COUNTA(Rates2_3PH)} -> 22 | J29: =J185 -> 0
B31: =B209 -> 4 | D31: =C209 -> Structures | I31: Section Total: | J31: =SUM(J32:J34) -> 0
C32: =C212 -> C | D32: =D212 -> CONCRETE WORK | I32: {=AREAS(Rates2_4C)-COUNTA(Rates2_4C)} -> 7 | J32: =J212 -> 0
C33: =C222 -> DD | D33: =D222 -> EARTHWORKS FOR STRUCTURES | I33: {=AREAS(Rates2_4DD)-COUNTA(Rates2_4DD)} -> 5 | J33: =J222 -> 0
C34: =C230 -> F | D34: =D230 -> PROTECTION WORKS | I34: {=AREAS(Rates2_4F)-COUNTA(Rates2_4F)} -> 5 | J34: =J230 -> 0
B37: 1 | C37: Site Clearance and Protection Works
D39: Item # | E39: Clause ref. | F39: Description | G39: Unit | H39: Quantity | I39: Rate | J39: Amount
B40: Part | C40: B | D40: SITE CLEARANCE | I40: Part Total: | J40: =SUM(J41:J53) -> 20000
B41: 1 | C41: B | D41: 1 | E41: B.8.2 | F41: General clearance and grubbing in road reserve | G41: m2 | H41: 5000 | J41: =H41*I41 -> 0
B42: 1 | C42: B | D42: 2 | E42: B.8.14_x000D_ PS.B.5 | F42: Removal of roadways to tip (depth 0mm-200mm) | G42: m2 | H42: 200 | J42: =H42*I42 -> 0
B43: 1 | C43: B | D43: 3 | E43: PS.B.4 PS.B.4.6 | F43: Demolition and removal of existing structures above ground level | G43: PC Sum | H43: 20000 | I43: ---------- | J43: =H43 -> 20000
B44: 1 | C44: B | D44: 4 | F44: Contractor's overheads, charges for item 3 above | G44: % | H44: -------- | J44: =I44/100*H43 -> 0
B45: 1 | C45: B | D45: 5 | E45: B.8.10 | F45: Removal of unreinforced concrete | G45: m3 | H45: 25 | J45: =H45*I45 -> 0
B46: 1 | C46: B | D46: 6 | E46: B.8.11 | F46: Removal reinforced concrete | G46: m3 | H46: 10 | J46: =H46*I46 -> 0
B47: 1 | C47: B | D47: 7 | E47: B.8.3 | F47: General clearance and grubbing for pipelines in private property | G47: m | H47: 250 | J47: =H47*I47 -> 0
B48: 1 | C48: B | D48: 8 | E48: B.8.4 | F48: Removal and de-stumping of trees of girth exceeding 1,5m | G48: no. | H48: 10 | J48: =H48*I48 -> 0
B49: 1 | C49: B | D49: 9 | E49: B.8.7 | F49: Removal of street/ traffic signs and posts and store on site for re-use | G49: no. | H49: 5 | J49: =H49*I49 -> 0
B50: 1 | C50: B | D50: 10 | E50: B.8.16 | F50: Removal of kerb and channel/ fillet to tip | G50: m3 | H50: 10 | J50: =H50*I50 -> 0
B51: 1 | C51: B | D51: 11 | E51: B.8.19 | F51: Removal of disused pipes, 0 - 500mm diameter and spoil at tip. Rate to include all haulage | G51: m | H51: 20 | J51: =H51*I51 -> 0
B52: 1 | C52: B | D52: 12 | E52: B.8.5_x000D_ PS.B.2 | F52: Removal of 1.8 m high wire mesh fence and store on site for re-use | G52: m | H52: 50 | J52: =H52*I52 -> 0
B53: 1 | C53: B | D53: 13 | E53: B.8.5 | F53: Removal of 1.8 m high wire mesh fence and spoil at tip Rate to include all haulage | G53: m | H53: 50 | J53: =H53*I53 -> 0
D55: Item # | E55: Clause ref. | F55: Description | G55: Unit | H55: Quantity | I55: Rate | J55: Amount
B56: Part | C56: F | D56: PROTECTION WORKS | I56: Part Total: | J56: =SUM(J57:J67) -> 0
B57: 1 | C57: F | D57: 1 | E57: F.8.1_x000D_ PS.F.1 | F57: Imported topsoil: thickness 100 mm | G57: m2 | H57: 2500 | J57: =H57*I57 -> 0
B58: 1 | C58: F | D58: 2 | E58: F.8.3 | F58: Grass Planting | G58: m2 | H58: 2500 | J58: =H58*I58 -> 0
B59: 1 | C59: F | D59: 3 | E59: F.8.6 | F59: PVC coated Gabion boxes, 1000 mm depth inclusive of rock infill and drainage grade geofabric behind gabion boxes as detailed on Typical Details (2) | G59: m3 | H59: 750 | J59: =H59*I59 -> 0
B60: 1 | C60: F | D60: 4 | E60: F.8.6 | F60: Gabion mattresses, 300 mm thick | G60: m3 | H60: 25 | J60: =H60*I60 -> 0
B61: 1 | C61: F | D61: 5 | E61: F.8.8 | F61: Standard 1.8m high diamond mesh fence | G61: m | H61: 50 | J61: =H61*I61 -> 0
B62: 1 | C62: F | D62: 6 | E62: F.8.8_x000D_ PS.F.3 | F62: Re-erect 1.8m high fence using materials stored on site | G62: m | H62: 50 | J62: =H62*I62 -> 0
B63: 1 | C63: F | D63: 7 | E63: PS.F.4 | F63: Grade 25/26 concrete to GEOLOK 300 (or similar approved) retaining wall footing, Base Type A, inclusive of mesh Ref 245 as detailed on Typical Details (2) | G63: m | H63: 100 | J63: =H63*I63 -> 0
B64: 1 | C64: F | D64: 8 | E64: PS.F.5 | F64: GEOLOK 300 retaining block (or similar approved) filled with clean coarse sand inclusive of geofabric | G64: m2 | H64: 150 | J64: =H64*I64 -> 0
B65: 1 | C65: F | D65: 9 | E65: PS.F.4 | F65: Grade 25/26 concrete to GEOLOK 400 (or similar approved) retaining wall footing, Base Type B, inclusive of mesh Ref 245 as detailed on Typical Details (2) | G65: m | H65: 200 | J65: =H65*I65 -> 0
B66: 1 | C66: F | D66: 10 | E66: PS.F.5 | F66: GEOLOK 400 retaining block (or similar approved) filled with clean coarse sand inclusive of geofabric | G66: m2 | H66: 300 | J66: =H66*I66 -> 0
B67: 1 | C67: F | D67: 11 | E67: C.8.1 | F67: Grade 15/26 mass concrete in and between top rows of retaining blocks | G67: m3 | H67: 10 | J67: =H67*I67 -> 0
B69: 2 | C69: Roadworks
D71: Item # | E71: Clause ref. | F71: Description | G71: Unit | H71: Quantity | I71: Rate | J71: Amount
B72: Part | C72: C | D72: CONCRETE WORK | I72: Part Total: | J72: =+SUM(J73:J75) -> 0
B73: 2 | C73: C | D73: 1 | E73: C.8.1_x000D_ PS.C.4 | F73: Cast-in-situ concrete v-channel (1200mm wide) across driveway entrance and road access as detailed on Typical Drawing (1) including formwork, reinforcement, expansion joints and finishing | G73: m | H73: 100 | J73: =H73*I73 -> 0
B74: 2 | C74: C | D74: 2 | E74: C.8.1_x000D_ PS.C.4 | F74: Cast-in-situ concrete v-channel (600mm wide) as detailed on Typical Drawing (1) including formwork, reinforcement, expansion joints and finishing | G74: m | H74: 200 | J74: =H74*I74 -> 0
B75: 2 | C75: C | D75: 3 | E75: C.8.1 | F75: Supply and lay grade 20/19 concrete for driveway re-instatement to a wood floated finish | G75: m3 | H75: 10 | J75: =H75*I75 -> 0
D77: Item # | E77: Clause ref. | F77: Description | G77: Unit | H77: Quantity | I77: Rate | J77: Amount
B78: Part | C78: DA | D78: EARTHWORKS : BULK | I78: Part Total: | J78: =SUM(J79:J92) -> 5000
B79: 2 | C79: DA | D79: 1 | E79: DA.8.3 | F79: Excavate soft material and place directly into fill | G79: m3 | H79: 1500 | J79: =H79*I79 -> 0
B80: 2 | C80: DA | D80: 2 | E80: DA.8.5_x000D_ PS.DA.6 | F80: Compact soft material from site to 95% Mod. A.A.S.H.T.O. | G80: m3 | H80: 1500 | J80: =H80*I80 -> 0
B81: 2 | C81: DA | D81: 3 | E81: DA.8.3 | F81: Excavate soft material to spoil | G81: m3 | H81: 2500 | J81: =H81*I81 -> 0
B82: 2 | C82: DA | D82: 4 | E82: DA.8.3_x000D_ PS.DA.4 | F82: Excavate unsuitable material below embankments or formation and spoil at tip | G82: m3 | H82: 500 | J82: =H82*I82 -> 0
B83: 2 | C83: DA | D83: 5 | E83: DA.8.3 | F83: Extra over item 1 and 3 for excavation in intermediate material to spoil | G83: m3 | H83: 1000 | J83: =H83*I83 -> 0
B84: 2 | C84: DA | D84: 6 | E84: DA.8.4_x000D_ PS.DA.5 | F84: Import suitable G7 material for fill, subgrade and selected layer, from contractor's off-site source inclusive of haulage and royalties | G84: m3 | H84: 2500 | J84: =H84*I84 -> 0
B85: 2 | C85: DA | D85: 7 | E85: DA.8.5_x000D_ PS.DA.6 | F85: Compact imported G7 material for fill and subgrade improvement to 95% Mod. A.A.S.H.T.O. | G85: m3 | H85: 2500 | J85: =H85*I85 -> 0
B86: 2 | C86: DA | D86: 8 | E86: PS.DA.5 | F86: Import suitable G9 material for fill, subgrade and selected layer, from contractor's off-site source inclusive of haulage and royalties | G86: m3 | H86: 500 | J86: =H86*I86 -> 0
B87: 2 | C87: DA | D87: 9 | E87: DA.8.5_x000D_ PS.DA.6 | F87: Compact imported fill material (G9) to 95% Mod. A.A.S.H.T.O. | G87: m3 | H87: 500 | J87: =H87*I87 -> 0
B88: 2 | C88: DA | D88: 10 | E88: DA.8.9 PS.DA..8 | F88: Formation | G88: m2 | H88: 10000 | J88: =H88*I88 -> 0
B89: 2 | C89: DA | D89: 11 | E89: DA.8.6 | F89: Trimming of embankments | G89: m2 | H89: 2200 | J89: =H89*I89 -> 0
B90: 2 | C90: DA | D90: 12 | E90: PS.DA.10 | F90: Supply and place separation grade Kaytech A5 (or approved equivalent) geofabric | G90: m2 | H90: 1000 | J90: =H90*I90 -> 0
B91: 2 | C91: DA | D91: 13 | E91: PS.DA.13 | F91: Allow for testing of subgrade by SANAS accredited Specialists Materials Laboratory | G91: PC Sum | H91: 5000 | I91: ---------- | J91: =H91 -> 5000
B92: 2 | C92: DA | D92: 14 | F92: Contractor's overhead charges for item 11 above | G92: % | H92: -------- | J92: =I92/100*H91 -> 0
D94: Item # | E94: Clause ref. | F94: Description | G94: Unit | H94: Quantity | I94: Rate | J94: Amount
B95: Part | C95: EB | D95: GRADED CRUSHED STONE | I95: Part Total: | J95: =SUM(J96:J98) -> 0
B96: 2 | C96: EB | D96: 1 | E96: EB.8(1)_x000D_ PS.EB.1 | F96: Graded crushed stone G2, 150 mm thick, compacted to 98% Mod A.A.S.H.T.O | G96: m3 | H96: 1500 | J96: =H96*I96 -> 0
B97: 2 | C97: EB | D97: 2 | E97: EB.8(1)_x000D_ PS.EB.1 | F97: Graded crushed stone G5, 150 mm thick, compacted to 95% Mod A.A.S.H.T.O | G97: m3 | H97: 1500 | J97: =H97*I97 -> 0
B98: 2 | C98: EB | D98: 3 | E98: EB.8(2)_x000D_ PS.EB.2 | F98: Prime coat | G98: m2 | H98: 5000 | J98: =H98*I98 -> 0
B100: Part | C100: ED | D100: ROAD ASPHALT | I100: Part Total: | J100: =SUM(J102:J104) -> 0
D101: Item # | E101: Clause ref. | F101: Description | G101: Unit | H101: Quantity | I101: Rate | J101: Amount
B102: 2 | C102: ED | D102: 1 | E102: ED_x000D_ PS.ED | F102: Private Plant Asphalt Sa-S10. Bitumen content 5.0% (actual bitumen content will be as per mix design entered at time of use) | G102: t | H102: 900 | J102: =H102*I102 -> 0
B103: 2 | C103: ED | D103: 2 | E103: ED.8.4 | F103: Tack coat | G103: m2 | H103: 3000 | J103: =H103*I103 -> 0
B104: 2 | C104: ED | D104: 3 | E104: PS.ED.8 | F104: Saw Cut existing road edge | G104: m | H104: 300 | J104: =H104*I104 -> 0
D106: Item # | E106: Clause ref. | F106: Description | G106: Unit | H106: Quantity | I106: Rate | J106: Amount
B107: Part | C107: EF | D107: KERBS AND HAUNCHES | I107: Part Total: | J107: =SUM(J108:J113) -> 0
B108: 2 | C108: EF | D108: 1 | E108: EF.8.1 PS.EF.1 | F108: Type A barrier kerb inclusive of 100mm thick G2 crushed stone base as detailed on Typical Details (2) | G108: m | H108: 200 | J108: =H108*I108 -> 0
B109: 2 | C109: EF | D109: 2 | E109: EF.8.1 | F109: Extra over item 1 for curves of radius less than 25m | G109: m | H109: 20 | J109: =H109*I109 -> 0
B110: 2 | C110: EF | D110: 3 | E110: EF.8.1 | F110: Modified Type F mountable kerb and 300mm channel/ fillet as per Typical Details (1) | G110: m | H110: 100 | J110: =H110*I110 -> 0
B111: 2 | C111: EF | D111: 4 | E111: EF.8.1 | F111: Extra over item 3 for curves of radius less than 25m | G111: m | H111: 20 | J111: =H111*I111 -> 0
B112: 2 | C112: EF | D112: 5 | E112: EF.8.1 | F112: Figure 12 as edge restraint with concrete base as detailed on Typical Details (1) | G112: m | H112: 100 | J112: =H112*I112 -> 0
B113: 2 | C113: EF | D113: 6 | E113: EF.8.1 | F113: Extra over item 5 for curves of radius less than 25m | G113: m | H113: 20 | J113: =H113*I113 -> 0
D115: Item # | E115: Clause ref. | F115: Description | G115: Unit | H115: Quantity | I115: Rate | J115: Amount
B116: Part | C116: EG | D116: SIDEWALKS, FOOTPATHS and MEDIAN AREAS | I116: Part Total: | J116: =SUM(J117:J118) -> 0
B117: 2 | C117: EG | D117: 1 | E117: EG.8.1 | F117: Asphalt sidewalk/ median - Asphalt Private Plant | G117: m2 | H117: 700 | J117: =H117*I117 -> 0
B118: 2 | C118: EG | D118: 2 | E118: EG.8.5 | F118: Asphalt residential vehicular access scoop - Asphalt Private Plant | G118: m2 | H118: 100 | J118: =H118*I118 -> 0
...

Sheet 3) CSCM Schedule
B2: ENTER ITEM RATES ONLY IN THE YELLOW SHADED CELLS
B3: SCROLL DOWN TO ENTER RATES
B4: Any AMOUNTS or ESTIMATED QUANTITIES in RED TEXT indicates that some RATES have not been entered.
B7: COASTAL and CATCHMENT MANAGEMENT (CSCM) SCHEDULE | I7: TOTAL: | J7: =J9+J19 -> 0
B9: =B23 -> 1 | D9: =C23 -> Construction work | I9: Section Total: | J9: =SUM(J10:J17) -> 0
C10: =C25 -> B | D10: =D25 -> SITE CLEARANCE | I10: =AREAS(Rates3_1B)-COUNTA(Rates3_1B) -> 7 | J10: =J25 -> 0
C11: =C35 -> C | D11: =D35 -> CONCRETE WORK | I11: {=AREAS(Rates3_1C)-COUNTA(Rates3_1C)} -> 8 | J11: =J35 -> 0
C12: =C46 -> DB | D12: =D46 -> EARTHWORKS FOR PIPE TRENCHES | I12: {=AREAS(Rates3_1DB)-COUNTA(Rates3_1DB)} -> 12 | J12: =J46 -> 0
C13: =C61 -> EF | D13: =D61 -> KERBS AND HAUNCHES | I13: {=AREAS(Rates3_1EF)-COUNTA(Rates3_1EF)} -> 2 | J13: =J61 -> 0
C14: =C66 -> EL | D14: =D66 -> DUMPROCK SUBGRADE IMPROVEMENT | I14: =AREAS(Rates3_1EL)-COUNTA(Rates3_1EL) -> 1 | J14: =J66 -> 0
C15: =C70 -> F | D15: =D70 -> PROTECTION WORKS | I15: {=AREAS(Rates3_1F)-COUNTA(Rates3_1F)} -> 4 | J15: =J70 -> 0
C16: =C77 -> PG | D16: =D77 -> NON PRESSURE PIPELINES and PC CULVERTS | I16: {=AREAS(Rates3_1PG)-COUNTA(Rates3_1PG)} -> 7 | J16: =J77 -> 0
C17: =C87 -> PH | D17: =D87 -> MANHOLES and APPURTENANT DRAINAGE WORKS | I17: {=AREAS(Rates3_1PH)-COUNTA(Rates3_1PH)} -> 9 | J17: =J87 -> 0
B19: =B99 -> 2 | D19: =C99 -> Reinstatement | I19: Section Total: | J19: =SUM(J20:J20) -> 0
C20: =C101 -> S | D20: =D101 -> REINSTATEMENT | I20: {=AREAS(Rates3_2S)-COUNTA(Rates3_2S)} -> 5 | J20: =J101 -> 0
B23: 1 | C23: Construction work
B25: Part | C25: B | D25: SITE CLEARANCE | I25: Part Total: | J25: =SUM(J26:J38) -> 0
D26: Item # | E26: Clause ref. | F26: Description | G26: Unit | H26: Quantity | I26: Rate | J26: Amount
B27: 1 | C27: B | D27: 1 | E27: B.8.2 | F27: General clearance and grubbing in road reserve | G27: m2 | H27: 500 | J27: =H27*I27 -> 0
B28: 1 | C28: B | D28: 2 | E28: B.8.2 | F28: General clearance and grubbing within a servitude | G28: m2 | H28: 500 | J28: =H28*I28 -> 0
B29: 1 | C29: B | D29: 3 | E29: B.8.2 | F29: General clearance and grubbing in contractor's camp site | G29: m2 | H29: 300 | J29: =H29*I29 -> 0
B30: 1 | C30: B | D30: 4 | E30: B.8.10 | F30: Removal of unreinforced concrete | G30: m3 | H30: 1000 | J30: =H30*I30 -> 0
B31: 1 | C31: B | D31: 5 | E31: B.8.11 | F31: Removal of reinforced concrete | G31: m3 | H31: 1000 | J31: =H31*I31 -> 0
B32: 1 | C32: B | D32: 6 | E32: B.8.19 | F32: Removal of disused pipes, 375 - 900 mm diameter and spoil at tip. Rate to include all haulage | G32: m | H32: 500 | J32: =H32*I32 -> 0
B33: 1 | C33: B | D33: 7 | E33: B.8.16 | F33: Removal of kerb and channel/fillet to tip | G33: m3 | H33: 500 | J33: =H33*I33 -> 0
B35: Part | C35: C | D35: CONCRETE WORK | I35: Part Total: | J35: =SUM(J36:J48) -> 0
D36: Item # | E36: Clause ref. | F36: Description | G36: Unit | H36: Quantity | I36: Rate | J36: Amount
B37: 1 | C37: C | D37: 1 | E37: C.8.1 | F37: Grade 15/26 concrete blinding of thickness 75 mm | G37: m2 | H37: 100 | J37: =H37*I37 -> 0
B38: 1 | C38: C | D38: 2 | E38: C.8.1 | F38: Grade 30/26 concrete to culvert/canal | G38: m3 | H38: 3000 | J38: =H38*I38 -> 0
B39: 1 | C39: C | D39: 3 | E39: C.8.3 | F39: Class 3a shuttering to base slabs | G39: m2 | H39: 1000 | J39: =H39*I39 -> 0
B40: 1 | C40: C | D40: 4 | E40: C.8.3 | F40: Class 3a shuttering to walls | G40: m2 | H40: 1000 | J40: =H40*I40 -> 0
B41: 1 | C41: C | D41: 5 | E41: PS.C.8.7 | F41: Supply and lay precast 1.2 x 1.2 portal culvert | G41: no. | H41: 20 | J41: =H41*I41 -> 0
B42: 1 | C42: C | D42: 6 | E42: PS.C.8.8 | F42: Supply and lay precast 1.5 x 1.5 portal culvert | G42: no. | H42: 20 | J42: =H42*I42 -> 0
B43: 1 | C43: C | D43: 7 | E43: PS.C.8.9 | F43: Supply and lay precast 2.1 x 2.1 portal culvert | G43: no. | H43: 20 | J43: =H43*I43 -> 0
B44: 1 | C44: C | D44: 8 | E44: PS.C.8.10 | F44: Supply and lay precast 2.4 x 2.4 portal culvert | G44: no. | H44: 20 | J44: =H44*I44 -> 0
B46: Part | C46: DB | D46: EARTHWORKS FOR PIPE TRENCHES | I46: Part Total: | J46: =SUM(J47:J59) -> 0
D47: Item # | E47: Clause ref. | F47: Description | G47: Unit | H47: Quantity | I47: Rate | J47: Amount
B48: 1 | C48: DB | D48: 1 | E48: DB.8.5 | F48: Excavate and backfill in all material where depth is: Over 0,0m and not exceeding 1,5m | G48: m3 | H48: 1000 | J48: =H48*I48 -> 0
B49: 1 | C49: DB | D49: 2 | E49: DB.8.5 | F49: Excavate and backfill in all material where depth is: Over 1,5m and not exceeding 2,0m | G49: m3 | H49: 1000 | J49: =H49*I49 -> 0
B50: 1 | C50: DB | D50: 3 | E50: DB.8.5 | F50: Excavate and backfill in all material where depth is: Over 2,0m and not exceeding 2,5m | G50: m3 | H50: 1000 | J50: =H50*I50 -> 0
B51: 1 | C51: DB | D51: 4 | E51: DB.8.5 | F51: Excavate and backfill in all material where depth is: Over 2,5m and not exceeding 3,0m | G51: m3 | H51: 1000 | J51: =H51*I51 -> 0
B52: 1 | C52: DB | D52: 5 | E52: DB.8.5 | F52: Excavate and backfill in all material where depth is: Over 3,0 m and not exceeding 3,5 m | G52: m3 | H52: 1000 | J52: =H52*I52 -> 0
B53: 1 | C53: DB | D53: 6 | E53: DB.8.8 | F53: Excavation and disposal of unsuitable material and spoil at tip | G53: m3 | H53: 500 | J53: =H53*I53 -> 0
B54: 1 | C54: DB | D54: 7 | E54: AA.DA.S | F54: Import suitable material | G54: m3 | H54: 1000 | J54: =H54*I54 -> 0
B55: 1 | C55: DB | D55: 8 | E55: DB.8.20 | F55: Trench shoring for excavation deeper than 1,5m depths | G55: m2 | H55: 1000 | J55: =H55*I55 -> 0
B56: 1 | C56: DB | D56: 9 | E56: AA.DD.1 | F56: Disposal of unsuitable or surplus material from trench excavation at tip | G56: m3 | H56: 1000 | J56: =H56*I56 -> 0
B57: 1 | C57: DB | D57: 10 | E57: DB.8.10 | F57: Placing and compacting of flexible pipe bedding for various diameter pipes ranging from 400mm to 900mm | G57: m | H57: 1000 | J57: =H57*I57 -> 0
B58: 1 | C58: DB | D58: 11 | E58: DB.8.10 | F58: Placing and compacting of Class C bedding for various diameter pipes ranging from 375mm to 900mm | G58: m | H58: 1000 | J58: =H58*I58 -> 0
B59: 1 | C59: DB | D59: 12 | E59: DB.8.10 | F59: Placing and compacting suitable material to 93% mod AASHTO | G59: m | H59: 1000 | J59: =H59*I59 -> 0
B61: Part | C61: EF | D61: KERBS AND HAUNCHES | I61: Part Total: | J61: =SUM(J62:J74) -> 0
D62: Item # | E62: Clause ref. | F62: Description | G62: Unit | H62: Quantity | I62: Rate | J62: Amount
B63: 1 | C63: EF | D63: 1 | E63: EF.8.1 | F63: Supply and install Figure 6 Kerb Type A | G63: m | H63: 500 | J63: =H63*I63 -> 0
B64: 1 | C64: EF | D64: 2 | E64: EF.8.1 | F64: Supply and install Figure 8 Kerb Type C | G64: m | H64: 500 | J64: =H64*I64 -> 0
B66: Part | C66: EL | D66: DUMPROCK SUBGRADE IMPROVEMENT | I66: Part Total: | J66: =SUM(J67:J79) -> 0
D67: Item # | E67: Clause ref. | F67: Description | G67: Unit | H67: Quantity | I67: Rate | J67: Amount
B68: 1 | C68: EL | D68: 1 | E68: EL.8 | F68: Supply, deliver and install Dumprock subgrade improvement, 300 mm thick | G68: m3 | H68: 1000 | J68: =H68*I68 -> 0
B70: Part | C70: F | D70: PROTECTION WORKS | I70: Part Total: | J70: =SUM(J71:J83) -> 0
D71: Item # | E71: Clause ref. | F71: Description | G71: Unit | H71: Quantity | I71: Rate | J71: Amount
B72: 1 | C72: F | D72: 1 | E72: F.8.6 | F72: Supply, deliver and install Gabion mattresses, 300 mm thick | G72: m3 | H72: 1000 | J72: =H72*I72 -> 0
B73: 1 | C73: F | D73: 2 | E73: F.8.6 | F73: Supply, deliver and install Gabion boxes : 1000 mm depth | G73: m3 | H73: 5000 | J73: =H73*I73 -> 0
B74: 1 | C74: F | D74: 3 | E74: F.8.3 | F74: Grass planting | G74: m2 | H74: 1000 | J74: =H74*I74 -> 0
B75: 1 | C75: F | D75: 5 | E75: PS.F.8.6 | F75: Supply and place geofabric blanket | G75: m2 | H75: 1000 | J75: =H75*I75 -> 0
B77: Part | C77: PG | D77: NON PRESSURE PIPELINES and PC CULVERTS | I77: Part Total: | J77: =SUM(J78:J90) -> 0
D78: Item # | E78: Clause ref. | F78: Description | G78: Unit | H78: Quantity | I78: Rate | J78: Amount
B79: 1 | C79: PG | D79: 1 | E79: PG.8.2 | F79: Supply and lay 375 mm diameter concrete Class 50D | G79: m | H79: 1000 | J79: =H79*I79 -> 0
B80: 1 | C80: PG | D80: 2 | E80: PG.8.2 | F80: Supply and lay 450 mm diameter concrete Class 50D | G80: m | H80: 1000 | J80: =H80*I80 -> 0
B81: 1 | C81: PG | D81: 3 | E81: PG.8.2 | F81: Supply and lay 600 mm diameter concrete Class 50D | G81: m | H81: 1000 | J81: =H81*I81 -> 0
B82: 1 | C82: PG | D82: 4 | E82: PG.8.2 | F82: Supply and lay 900 mm diameter concrete Class 50D | G82: m | H82: 1000 | J82: =H82*I82 -> 0
B83: 1 | C83: PG | D83: 5 | E83: PG.8.2 | F83: Supply and install 400 mm - HDPE 4 Kn/m2 pipe which includes welds at every 6m or 12m | G83: m | H83: 500 | J83: =H83*I83 -> 0
B84: 1 | C84: PG | D84: 6 | E84: PG.8.2 | F84: Supply and lay 630 mm - HDPE 4 Kn/m2 pipe which includes welds at every 6m or 12m | G84: m | H84: 500 | J84: =H84*I84 -> 0
B85: 1 | C85: PG | D85: 7 | E85: PG.8.2 | F85: Supply and lay 900 mm - HDPE 4 Kn/m2 pipe which includes welds at every 6m or 12m | G85: m | H85: 500 | J85: =H85*I85 -> 0
B87: Part | C87: PH | D87: MANHOLES and APPURTENANT DRAINAGE WORKS | I87: Part Total: | J87: =SUM(J88:J100) -> 0
D88: Item # | E88: Clause ref. | F88: Description | G88: Unit | H88: Quantity | I88: Rate | J88: Amount
B89: 1 | C89: PH | D89: 1 | E89: PH.8.2 | F89: Manhole type A with inlet type cover S1. Depth : Over 0,0m and not exceeding 1,5m | G89: no. | H89: 20 | J89: =H89*I89 -> 0
B90: 1 | C90: PH | D90: 2 | E90: PH.8.2 | F90: Manhole type A with inlet type cover S1. Depth : Over 1,5m and not exceeding 2,0m | G90: no. | H90: 20 | J90: =H90*I90 -> 0
B91: 1 | C91: PH | D91: 3 | E91: PH.8.2 | F91: Manhole type A with inlet type cover S1. Depth : Over 2,0m and not exceeding 2,5m | G91: no. | H91: 20 | J91: =H91*I91 -> 0
B92: 1 | C92: PH | D92: 4 | E92: PH.8.2 | F92: Manhole type A with inlet type cover S1. Depth : Over 2,5m and not exceeding 3,0m | G92: no. | H92: 20 | J92: =H92*I92 -> 0
B93: 1 | C93: PH | D93: 5 | E93: PH.8.2 | F93: Manhole type A with inlet type cover S1. Depth : Over 3,0m and not exceeding 3,5m | G93: no. | H93: 20 | J93: =H93*I93 -> 0
B94: 1 | C94: PH | D94: 6 | E94: PS.PH.5 | F94: Construct standard outlet headwall as per drawing no. 38576 for 375 mm diameter pipe | G94: no. | H94: 20 | J94: =H94*I94 -> 0
B95: 1 | C95: PH | D95: 7 | E95: PS.PH.5 | F95: Construct standard outlet headwall as per drawing no. 38576 for 450 mm diameter pipe | G95: no. | H95: 20 | J95: =H95*I95 -> 0
B96: 1 | C96: PH | D96: 8 | E96: PS.PH.5 | F96: Construct standard outlet headwall as per drawing no. 38576 for 600 mm diameter pipe | G96: no. | H96: 20 | J96: =H96*I96 -> 0
B97: 1 | C97: PH | D97: 9 | E97: PS.PH.5 | F97: Construct standard outlet headwall as per drawing no. 38576 for 900 mm diameter pipe | G97: no. | H97: 20 | J97: =H97*I97 -> 0
B99: 2 | C99: Reinstatement
B101: Part | C101: S | D101: REINSTATEMENT | I101: Part Total: | J101: =SUM(J102:J114) -> 0
D102: Item # | E102: Clause ref. | F102: Description | G102: Unit | H102: Quantity | I102: Rate | J102: Amount
B103: 2 | C103: S | D103: 1 | E103: S.8.2 | F103: Permanent road reinstatement 80 mm mix D asphalt, 150mm crusher run layer, CBR 4 or more trench backfill material | G103: m2 | H103: 300 | J103: =H103*I103 -> 0
B104: 2 | C104: S | D104: 2 | E104: S.8.2 | F104: Reinstatement of paved areas | G104: m2 | H104: 300 | J104: =H104*I104 -> 0
B105: 2 | C105: S | D105: 3 | F105: Reinstatement of eroded embankment | G105: m3 | H105: 2000 | J105: =H105*I105 -> 0
B106: 2 | C106: S | D106: 4 | F106: Reinstatement of road reserve | G106: m2 | H106: 500 | J106: =H106*I106 -> 0
B107: 2 | C107: S | D107: 5 | F107: Reinstatement of dumprock from stockpile (rate to include stockpile handling) | G107: m3 | H107: 1000 | J107: =H107*I107 -> 0

Sheet 4) RSWM Schedule
B2: ENTER ITEM RATES ONLY IN THE YELLOW SHADED CELLS
B3: SCROLL DOWN TO ENTER RATES
B4: Any AMOUNTS or ESTIMATED QUANTITIES in RED TEXT indicates that some RATES have not been entered.
B7: ROADS and STORMWATER MAINTENANCE (RSWM) SCHEDULE | I7: TOTAL: | J7: =J9+J12+J16+J19+J22+J25+J28+J31+J34+J37 -> 60000
B9: =B41 -> 1 | D9: =C41 -> Clearing and Grubbing | I9: Section Total: | J9: =SUM(J10:J10) -> 0
C10: =C44 -> B | D10: =D44 -> SITE CLEARANCE | I10: {=AREAS(RATES4_1B)-COUNTA(RATES4_1B)} -> 8 | J10: =J44 -> 0
B12: =B54 -> 2 | D12: =C54 -> Drains and Subsoil Drainage | I12: Section Total: | J12: =SUM(J13:J13) -> 0
C13: =C57 -> AB | D13: =D57 -> GENERAL SPECIFICATIONS | I13: {=AREAS(RATES4_2AB)-COUNTA(RATES4_2AB)} -> 6 | J13: =J57 -> 0
C14: =C66 -> DC | D14: =D66 -> EARTHWORKS FOR CONCRETE LINED CANALS | I14: {=AREAS(RATES4_2DC)-COUNTA(RATES4_2DC)} -> 11 | J14: =J66 -> 0
B16: =B84 -> 3 | D16: =C84 -> Stormwater Structures | I16: Section Total: | J16: =SUM(J17:J17) -> 0
C17: =C87 -> GM | D17: =D87 -> GRAVEL ROAD MAINTENANCE | I17: {=AREAS(RATES4_3GM)-COUNTA(RATES4_3GM)} -> 38 | J17: =J87 -> 0
B19: =B163 -> 4 | D19: =C163 -> Bulk Earthworks | I19: Section Total: | J19: =SUM(J20:J20) -> 0
C20: =C166 -> DA | D20: =D166 -> Bulk Earthworks | I20: {=AREAS(RATES4_4DA)-COUNTA(RATES4_4DA)} -> 6 | J20: =J166 -> 0
B22: =B175 -> 5 | D22: =C175 -> CONCRETE SURFACE TO ROADS | I22: Section Total: | J22: =SUM(J23:J23) -> 0
C23: =C178 -> EM | D23: =D178 -> CONCRETE SURFACE TO ROADS | I23: =AREAS(Rates4_5EM)-COUNTA(Rates4_5EM) -> 1 | J23: =J178 -> 0
B25: =B181 -> 6 | D25: =C181 -> GRAVEL ROAD MAINTENANCE: Heavy Regravelling | I25: Section Total: | J25: =SUM(J26:J26) -> 0
C26: =C184 -> GM | D26: =D184 -> Heavy Regravelling | I26: {=AREAS(Rates4_6GM)-COUNTA(Rates4_6GM)} -> 4 | J26: =J184 -> 0
B28: =B190 -> 7 | D28: =C190 -> Pitching, Stonework and protection against erosion | I28: Section Total: | J28: =SUM(J29:J29) -> 0
C29: =C193 -> F | D29: =D193 -> PROTECTION WORKS | I29: {=AREAS(Rates4_7F)-COUNTA(Rates4_7F)} -> 6 | J29: =J193 -> 0
B31: =B201 -> 8 | D31: =C201 -> Roads & Sidewalks | I31: Section Total: | J31: =SUM(J32:J32) -> 0
C32: =C204 -> ED | D32: =D204 -> ROAD ASPHALT | I32: {=AREAS(Rates4_8ED)-COUNTA(Rates4_8ED)} -> 14 | J32: =J204 -> 0
B34: =B224 -> 9 | D34: =C224 -> Insitu Cold Recycling & static plant cold recycling | I34: Section Total: | J34: =SUM(J35:J35) -> 60000
C35: =C227 -> PC | D35: =D227 -> STABILISATION OF GRAVEL BASE | I35: {=AREAS(Rates4_9PC)-COUNTA(Rates4_9PC)} -> 12 | J35: =J227 -> 60000
B37: =B249 -> 10 | D37: =C249 -> DAYWORKS | I37: Section Total: | J37: =SUM(J38:J38) -> 0
C38: =C252 -> GM | D38: =D252 -> GRAVEL ROAD MAINTENANCE | I38: {=AREAS(Rates4_10GM)-COUNTA(Rates4_10GM)} -> 26 | J38: =J210 -> 0
B41: 1 | C41: Clearing and Grubbing
D43: Item # | E43: Clause ref. | F43: Description | G43: Unit | H43: Quantity | I43: Rate | J43: Amount
B44: Part | C44: B | D44: SITE CLEARANCE | I44: Part Total: | J44: =SUM(J45:J52) -> 0
B45: 1 | C45: B | D45: 1 | E45: B.8.2 | F45: General clearance and grubbing | G45: m2 | H45: 8000 | J45: =H45*I45 -> 0
B46: 1 | C46: B | D46: 2 | E46: B.8.4 | F46: Removal and grubbing of large trees and stumps | G46: no. | H46: 25 | J46: =H46*I46 -> 0
B47: 1 | C47: B | D47: 3 | E47: B.8.5 | F47: Removal of existing fences | G47: m | H47: 150 | J47: =H47*I47 -> 0
B48: 1 | C48: B | D48: 4 | E48: B.8.9 | F48: Removal of brickwork | G48: m3 | H48: 18 | J48: =H48*I48 -> 0
B49: 1 | C49: B | D49: 5 | E49: B.8.10 | F49: Removal of unreinforced concrete | G49: m3 | H49: 12 | J49: =H49*I49 -> 0
B50: 1 | C50: B | D50: 6 | E50: B.8.11 | F50: Removal of reinforced concrete | G50: m3 | H50: 8 | J50: =H50*I50 -> 0
B51: 1 | C51: B | D51: 7 | E51: PS.B.8.5 | F51: Removal of existing asphalt surfacing | G51: m3 | H51: 25 | J51: =H51*I51 -> 0
B52: 1 | C52: B | D52: 8 | E52: PS.S.8.1 | F52: Re-instate fencing | G52: m | H52: 150 | J52: =H52*I52 -> 0
B54: 2 | C54: Drains and Subsoil Drainage
D56: Item # | E56: Clause ref. | F56: Description | G56: Unit | H56: Quantity | I56: Rate | J56: Amount
B57: Part | C57: AB | D57: GENERAL SPECIFICATIONS | I57: Part Total: | J57: =SUM(J58:J63) -> 0
B58: 2 | C58: AB | D58: 1 | E58: PS. AB.11 | F58: Repairs up to 16mm Ø HDPE water pipes including supply of all materials | G58: no. | H58: 6 | J58: =H58*I58 -> 0
B59: 2 | C59: AB | D59: 2 | E59: PS. AB.11 | F59: Repairs from 17 to 28mm Ø HDPE water pipes including supply of all materials | G59: no. | H59: 3 | J59: =H59*I59 -> 0
B60: 2 | C60: AB | D60: 3 | E60: PS. AB.11 | F60: Repairs to 50mm Ø HDPE water pipes including supply of all materials | G60: no. | H60: 4 | J60: =H60*I60 -> 0
B61: 2 | C61: AB | D61: 4 | E61: PS. AB.12 | F61: Lowering up to 16mm Ø HDPE water pipes to a depth of 800mm including supply of all materials | G61: m | H61: 10 | J61: =H61*I61 -> 0
B62: 2 | C62: AB | D62: 5 | E62: PS. AB.12 | F62: Lowering of 17 to 28mm Ø HDPE water pipes to a depth of 800mm including supply of all materials | G62: m | H62: 8 | J62: =H62*I62 -> 0
B63: 2 | C63: AB | D63: 6 | E63: PS. AB.12 | F63: Lowering of 50mm Ø HDPE water pipes to a depth of 800mm including supply of all materials | G63: m | H63: 15 | J63: =H63*I63 -> 0
D65: Item # | E65: Clause ref. | F65: Description | G65: Unit | H65: Quantity | I65: Rate | J65: Amount
B66: Part | C66: DC | D66: EARTHWORKS FOR CONCRETE LINED CANALS | I66: Part Total: | J66: =SUM(J68:J82) -> 0
F67: Excavating soft material situated within 0 - 1.5m depth
B68: 2 | C68: DC | D68: 1 | E68: DC.8.2 | F68: (a) to stockpile | G68: m3 | H68: 950 | J68: =H68*I68 -> 0
B69: 2 | C69: DC | D69: 2 | E69: DC.8.2 | F69: (b) to spoil | G69: m3 | H69: 450 | J69: =H69*I69 -> 0
B70: 2 | C70: DC | D70: 3 | E70: DC.8.2 | F70: Extra over item (a) and (b) above for excavating in hard material | G70: m3 | H70: 90 | J70: =H70*I70 -> 0
F71: Backfilling and compacting
B72: 2 | C72: DC | D72: 4 | E72: DC.8.3 | F72: (a) Using excavated material (from stockpile) | G72: m3 | H72: 120 | J72: =H72*I72 -> 0
B73: 2 | C73: DC | D73: 5 | E73: DC.8.3 | F73: (b) Using imported material (including haulage) | G73: m3 | H73: 250 | J73: =H73*I73 -> 0
B74: 2 | C74: DC | D74: 6 | E74: DC.8.3 | F74: (c) Extra over subitems (a) and (b) for soil cement backfilling (2% cement) | G74: m3 | H74: 80 | J74: =H74*I74 -> 0
F75: Suboil Drainage
B76: 2 | C76: DC | D76: 7 | E76: PS.GM.1 | F76: Supply and construct subsoil drain as per Drawing No.:38575, including test flushing and excavation in all materials, complete. | G76: m | H76: 300 | J76: =H76*I76 -> 0
D77: Item # | E77: Clause ref. | F77: Description | G77: Unit | H77: Quantity | I77: Rate | J77: Amount
F78: Concrete lining for open drains
B79: 2 | C79: DC | D79: 8 | E79: PS.C.8.11 | F79: Cast insitu concrete lining (20 Mpa / 19mm) v-drains (Class 2 surface finish to cast insitu concrete v-drains) | G79: m3 | H79: 450 | J79: =H79*I79 -> 0
B80: 2 | C80: DC | D80: 9 | E80: C.8.2 | F80: Steel reinforcement (Welded steel mesh Ref 193) | G80: m2 | H80: 2650 | J80: =H80*I80 -> 0
B81: 2 | C81: DC | D81: 10 | E81: C.8.3 | F81: Formwork to cast insitu concrete lining for open drains (class 2 surface finish) to side with formwork on the internal and external faces (each side measured) | G81: m2 | H81: 920 | J81: =H81*I81 -> 0
B82: 2 | C82: DC | D82: 11 | E82: PS.C.8.12 | F82: Expansion joints for concrete lined open v-drains | G82: m | H82: 2200 | J82: =H82*I82 -> 0
B84: 3 | C84: Stormwater Structures
D86: Item # | E86: Clause ref. | F86: Description | G86: Unit | H86: Quantity | I86: Rate | J86: Amount
B87: Part | C87: GM | D87: GRAVEL ROAD MAINTENANCE | I87: Part Total: | J87: =SUM(J88:J161) -> 0
E88: CLEANING OF STORMWATER STRUCTURES
B89: 3 | C89: GM | D89: 1 | E89: PS.PH.10 | F89: Clearing and Grubbing at inlets and outlets of stormwater structures | G89: no. | H89: 8 | J89: =H89*I89 -> 0
B90: 3 | C90: GM | D90: 2 | E90: PS.PH.11 | F90: Removal of silt and sand by excavation at inlet and outlet structures when required | G90: m3 | H90: 10 | J90: =H90*I90 -> 0
B91: 3 | C91: GM | D91: 3 | E91: PS.PH.12 | F91: Unblocking and cleaning of existing stormwater pipe crossings | G91: m | H91: 60 | J91: =H91*I91 -> 0
E92: CONSTRUCT TYPE 'S1' INLET STRUCTURES TO EXISTING/NEW PIPE CROSSINGS (0 UP 1.5M DEPTH), INCLUDING COVER, LID AND SUPPORT BEAMS (AS PER DRAWING NO.38572)
B93: 3 | C93: GM | D93: 4 | E93: PH.8.3 | F93: 450mm diamter pipes | G93: no. | H93: 4 | J93: =H93*I93 -> 0
B94: 3 | C94: GM | D94: 5 | E94: PH.8.3 | F94: 600mm diamter pipes | G94: no. | H94: 6 | J94: =H94*I94 -> 0
B95: 3 | C95: GM | D95: 6 | E95: PH.8.3 | F95: 750mm diamter pipes | G95: no. | H95: 4 | J95: =H95*I95 -> 0
B96: 3 | C96: GM | D96: 7 | E96: PH.8.3 | F96: 900mm diamter pipes | G96: no. | H96: 8 | J96: =H96*I96 -> 0
B97: 3 | C97: GM | D97: 8 | E97: PH.8.3 | F97: 1200mm diamter pipes | G97: no. | H97: 3 | J97: =H97*I97 -> 0
B98: 3 | C98: GM | D98: 9 | F98: Extra for additional inlet depth for all pipe sizes | G98: m | H98: 15 | J98: =H98*I98 -> 0
E99: CONSTRUCT TYPE 'S2' INLET STRUCTURES TO EXISTING/NEW PIPE CROSSINGS (0 UP 1.5M DEPTH), INCLUDING COVER, LID AND SUPPORT BEAMS (AS PER DRAWING NO.38572)
B100: 3 | C100: GM | D100: 10 | E100: PH.8.3 | F100: 450mm diamter pipes | G100: no. | H100: 4 | J100: =H100*I100 -> 0
B101: 3 | C101: GM | D101: 11 | E101: PH.8.3 | F101: 600mm diamter pipes | G101: no. | H101: 6 | J101: =H101*I101 -> 0
B102: 3 | C102: GM | D102: 12 | E102: PH.8.3 | F102: 750mm diamter pipes | G102: no. | H102: 4 | J102: =H102*I102 -> 0
B103: 3 | C103: GM | D103: 13 | E103: PH.8.3 | F103: 900mm diamter pipes | G103: no. | H103: 8 | J103: =H103*I103 -> 0
B104: 3 | C104: GM | D104: 14 | E104: PH.8.3 | F104: 1200mm diamter pipes | G104: no. | H104: 3 | J104: =H104*I104 -> 0
B105: 3 | C105: GM | D105: 15 | F105: Extra for additional inlet depth for all pipe sizes | G105: m | H105: 15 | J105: =H105*I105 -> 0
E106: CONSTRUCT TYPE 'S2' INLET STRUCTURES TO EXISTING/NEW PIPE CROSSINGS (0 UP 1.5M DEPTH), INCLUDING COVER, LID AND SUPPORT BEAMS (AS PER DRAWING NO.38572)
B107: 3 | C107: GM | D107: 16 | E107: PH.8.3 | F107: 450mm diamter pipes | G107: no. | H107: 4 | J107: =H107*I107 -> 0
B108: 3 | C108: GM | D108: 17 | E108: PH.8.3 | F108: 600mm diamter pipes | G108: no. | H108: 6 | J108: =H108*I108 -> 0
B109: 3 | C109: GM | D109: 18 | E109: PH.8.3 | F109: 750mm diamter pipes | G109: no. | H109: 4 | J109: =H109*I109 -> 0
B110: 3 | C110: GM | D110: 19 | E110: PH.8.3 | F110: 900mm diamter pipes | G110: no. | H110: 8 | J110: =H110*I110 -> 0
B111: 3 | C111: GM | D111: 20 | E111: PH.8.3 | F111: 1200mm diamter pipes | G111: no. | H111: 3 | J111: =H111*I111 -> 0
B112: 3 | C112: GM | D112: 21 | F112: Extra for additional inlet depth for all pipe sizes | G112: m | H112: 15 | J112: =H112*I112 -> 0
D113: Item # | E113: Clause ref. | F113: Description | G113: Unit | H113: Quantity | I113: Rate | J113: Amount
E114: CONSTRUCT TYPE 'A' HEADWALL TO NEW/EXISTING PIPES
B115: 3 | C115: GM | D115: 22 | E115: PS.PH.8.10 | F115: 450mm diamter pipes | G115: no. | H115: 4 | J115: =H115*I115 -> 0
B116: 3 | C116: GM | D116: 23 | E116: PS.PH.8.10 | F116: 600mm diamter pipes | G116: no. | H116: 6 | J116: =H116*I116 -> 0
B117: 3 | C117: GM | D117: 24 | E117: PS.PH.8.10 | F117: 750mm diamter pipes | G117: no. | H117: 4 | J117: =H117*I117 -> 0
B118: 3 | C118: GM | D118: 25 | E118: PS.PH.8.10 | F118: 900mm diamter pipes | G118: no. | H118: 8 | J118: =H118*I118 -> 0
B119: 3 | C119: GM | D119: 26 | E119: PS.PH.8.10 | F119: 1200mm diamter pipes | G119: no. | H119: 2 | J119: =H119*I119 -> 0
E120: EXCAVATION FOR STORMWATER PIPE CROSSINGS
B121: 3 | C121: GM | D121: 27 | E121: DD.8.2 | F121: (a) to stockpile | G121: m3 | H121: 420 | J121: =H121*I121 -> 0
...

Sheet 5) W&S Schedule
B2: ENTER ITEM RATES ONLY IN THE YELLOW SHADED CELLS
B3: SCROLL DOWN TO ENTER RATES
B4: Any AMOUNTS or ESTIMATED QUANTITIES in RED TEXT indicates that some RATES have not been entered.
B7: WATER and SANITATION (W&S) SCHEDULE | I7: TOTAL: | J7: =J9+J11+J13+J15 -> 90000
B9: =B18 -> 1 | D9: =C18 -> WATER PIPELINES | H9: {=AREAS(Rates5_S1)-COUNTA(Rates5_S1)} -> 41 | I9: Section Total: | J9: =SUM(J18) -> 90000
B11: =B121 -> 2 | D11: =C121 -> SEWER PIPES AND MANHOLES | H11: {=AREAS(Rates5_S2)-COUNTA(Rates5_S2)} -> 36 | I11: Section Total: | J11: =J121 -> 0
B13: =B250 -> 3 | D13: =C250 -> WATER SUPPLIES | H13: {=AREAS(Rates5_S3)-COUNTA(Rates5_S3)} -> 15 | I13: Section Total: | J13: =J250 -> 0
B15: =B272 -> 4 | D15: =C272 -> WATER METER INSTALLATION | H15: {=AREAS(Rates5_S4)-COUNTA(Rates5_S4)} -> 6 | I15: Section Total: | J15: =J272 -> 0
B18: 1 | C18: WATER PIPELINES | I18: Section Total: | J18: =SUM(J21:J119) -> 90000
D20: Item # | E20: Clause ref. | F20: Description | G20: Unit | H20: Quantity | I20: Rate | J20: Amount
F21: mPVC Pipelines
C22: SABS 1200L | F22: Supply, handle, lay, bed and compact to 90% Mod AASHTO, joint, test & disinfect mPVC Class 12 pipe with spigot and socket ends to SABS 966, Pt 2 (1988):
B23: 1 | D23: 1.1 | E23: 8.2.1 | F23: a) 75mm diameter | G23: m | H23: 300 | I23: 300 | J23: =H23*I23 -> 90000
B24: 1 | D24: 1.2 | E24: 8.2.1 | F24: b) 110mm diameter | G24: m | H24: 300 | J24: =H24*I24 -> 0
B25: 1 | D25: 1.3 | E25: 8.2.1 | F25: c) 160mm diameter | G25: m | H25: 300 | J25: =H25*I25 -> 0
B26: 1 | D26: 1.4 | E26: 8.2.1 | F26: d) 200mm diameter | G26: m | H26: 300 | J26: =H26*I26 -> 0
B27: 1 | D27: 1.5 | E27: 8.2.1 | F27: e) 215mm diameter | G27: m | H27: 300 | J27: =H27*I27 -> 0
C28: SABS 1200L | F28: Specials and Fittings in mPVC Extra-over 4.1 to supply, lay, bed, test and disinfect specials complete with couplings:
B29: 1 | D29: 1.6 | E29: 8.2.2 | F29: a) 90° Bends, 75mm diameter | G29: No. | H29: 30 | J29: =H29*I29 -> 0
B30: 1 | D30: 1.7 | E30: 8.2.2 | F30: b) 45° Bends, 75mm diameter | G30: No. | H30: 30 | J30: =H30*I30 -> 0
B31: 1 | D31: 1.8 | E31: 8.2.2 | F31: c) 22½° Bends, 75mm diameter | G31: No. | H31: 30 | J31: =H31*I31 -> 0
B32: 1 | D32: 1.9 | E32: 8.2.2 | F32: d) 11¼° Bends, 75mm diameter | G32: No. | H32: 30 | J32: =H32*I32 -> 0
B33: 1 | D33: 1.1 | E33: 8.2.2 | F33: e) End cap,75mm diameter | G33: No. | H33: 30 | J33: =H33*I33 -> 0
B34: 1 | D34: 1.11 | E34: 8.2.2 | F34: f) Double Lyng sockets, 75mm diameter | G34: No. | H34: 30 | J34: =H34*I34 -> 0
B35: 1 | D35: 1.12 | E35: 8.2.2 | F35: g) 90° Bends, 110mm diameter | G35: No. | H35: 30 | J35: =H35*I35 -> 0
B36: 1 | D36: 1.13 | E36: 8.2.2 | F36: h) 45° Bends, 110mm diameter | G36: No. | H36: 30 | J36: =H36*I36 -> 0
B37: 1 | D37: 1.14 | E37: 8.2.2 | F37: i) 22½° Bends, 110mm diameter | G37: No. | H37: 30 | J37: =H37*I37 -> 0
B38: 1 | D38: 1.15 | E38: 8.2.2 | F38: j) End cap,110mm diameter | G38: No. | H38: 30 | J38: =H38*I38 -> 0
B39: 1 | D39: 1.16 | E39: 8.2.2 | F39: k) 90° Bends, 160mm diameter | G39: No. | H39: 30 | J39: =H39*I39 -> 0
B40: 1 | D40: 1.17 | E40: 8.2.2 | F40: l) 45° Bends, 160mm diameter | G40: No. | H40: 30 | J40: =H40*I40 -> 0
... B42: 1 | D42: 1.19 | E42: 8.2.2 | F42: n) End cap,160mm diameter | G42: No. | H42: 30 | J42: =H42*I42 -> 0
C43: SABS 1200L | F43: HDPE Pipes Supply, deliver, handle, lay, bed, joint, test and disinfect to SABS ISO 4427: 1996 E:
B44: 1 | D44: 1.2 | E44: 8.2.1 | F44: a) PN 12.5, 15mm diameter | G44: m | H44: 300 | J44: =H44*I44 -> 0
B45: 1 | D45: 1.21 | E45: 8.2.1 | F45: b) PN 12.5, 20mm diameter | G45: m | H45: 300 | J45: =H45*I45 -> 0
B46: 1 | D46: 1.22 | E46: 8.2.1 | F46: c) PN 12.5, 25mm diameter | G46: m | H46: 300 | J46: =H46*I46 -> 0
B47: 1 | D47: 1.23 | E47: 8.2.1 | F47: d) PN 12.5, 32mm diameter | G47: m | H47: 300 | J47: =H47*I47 -> 0
B48: 1 | D48: 1.24 | E48: 8.2.1 | F48: e) PN 12.5, 50mm diameter | G48: m | H48: 300 | J48: =H48*I48 -> 0
B49: 1 | D49: 1.25 | E49: 8.2.1 | F49: f) PN 12.5, 75mm diameter | G49: m | H49: 300 | J49: =H49*I49 -> 0
D50: Item # | E50: Clause ref. | F50: Description | G50: Unit | H50: Quantity | I50: Rate | J50: Amount
C51: SABS 1200L | F51: Specials and Fittings in HDPE (Alprene or similar approved to PN 16) Extra over 4.3 to supply, deliver, lay, bed, joint, test and disinfect (extra over Item 4.3):
F52: Couplings (HDPE) :
B53: 1 | D53: 1.26 | E53: 8.2.2 | F53: a) 25 x 1"mm diameter Male adaptor | G53: No. | H53: 30 | J53: =H53*I53 -> 0
B54: 1 | D54: 1.27 | E54: 8.2.2 | F54: b) 25 x 1"mm diameter Female adaptor | G54: No. | H54: 30 | J54: =H54*I54 -> 0
B55: 1 | D55: 1.28 | E55: 8.2.2 | F55: c) 40mm diameter Male Iron Adaptor | G55: No. | H55: 30 | J55: =H55*I55 -> 0
B56: 1 | D56: 1.29 | E56: 8.2.2 | F56: d) 50mm diameter Male Iron Adaptor | G56: No. | H56: 30 | J56: =H56*I56 -> 0
B57: 1 | D57: 1.3 | E57: 8.2.2 | F57: e) 40mm Plasson Female Adaptor | G57: No. | H57: 30 | J57: =H57*I57 -> 0
B58: 1 | D58: 1.31 | E58: 8.2.2 | F58: f) 50mm Plasson Female Adaptor | G58: No. | H58: 30 | J58: =H58*I58 -> 0
B59: 1 | D59: 1.32 | E59: 8.2.2 | F59: g) 50mm x 40mm Flanged Threadolet Adaptor | G59: No. | H59: 30 | J59: =H59*I59 -> 0
B60: 1 | D60: 1.33 | E60: 8.2.2 | F60: h) 50mm x 50mm Flanged Threadolet Adaptor | G60: No. | H60: 30 | J60: =H60*I60 -> 0
B61: 1 | D61: 1.34 | E61: 8.2.2 | F61: i) 50mm x 32mm reducer coupling | G61: No. | H61: 30 | J61: =H61*I61 -> 0
B62: 1 | D62: 1.35 | E62: 8.2.2 | F62: j) 50mm x 25mm reducer coupling | G62: No. | H62: 30 | J62: =H62*I62 -> 0
F63: 90° Elbows (HDPE):
B64: 1 | D64: 1.36 | E64: 8.2.2 | F64: a) 50mm | G64: No. | H64: 30 | J64: =H64*I64 -> 0
B65: 1 | D65: 1.37 | E65: 8.2.2 | F65: b) 75mm | G65: No. | H65: 30 | J65: =H65*I65 -> 0
F66: HDPE Equal Tees:
B67: 1 | D67: 1.38 | E67: 8.2.2 | F67: a) 50mm | G67: No. | H67: 30 | J67: =H67*I67 -> 0
B68: 1 | D68: 1.39 | E68: 8.2.2 | F68: b) 75mm | G68: No. | H68: 30 | J68: =H68*I68 -> 0
C69: SABS 1200L | F69: Specials and Fittings in Steel Supply, deliver, handle, install, joint, test and disinfect. Include pipes cut to length where required. (Gaskets, nuts, bolts and washers to be included)
F70: Note: Unless otherwise specified, all steel pipes and specials in this section shall be to Rilsan coated. All flanges to SABS 1123 Table 1600/3 unless otherwise specified. Include for "Denso-wrapping" any bolted connections in accordance with PSL.
F71: Flanged Reducers:
B72: 1 | D72: 1.4 | E72: 8.2.2 | F72: a) 110 x 75mm diameter | G72: No. | H72: 30 | J72: =H72*I72 -> 0
F73: Flanged Reducing Tees:
B74: 1 | D74: 1.41 | E74: 8.2.2 | F74: a) 75 x 50mm diameter | G74: No. | H74: 30 | J74: =H74*I74 -> 0
B75: 1 | D75: 1.42 | E75: 8.2.2 | F75: b) 110 x 75mm diameter | G75: No. | H75: 30 | J75: =H75*I75 -> 0
B76: 1 | D76: 1.43 | E76: 8.2.2 | F76: c) 160 x 75mm diameter | G76: No. | H76: 30 | J76: =H76*I76 -> 0
B77: 1 | D77: 1.44 | E77: 8.2.2 | F77: a) 50mm diameter | G77: No. | H77: 30 | J77: =H77*I77 -> 0
B78: 1 | D78: 1.45 | E78: 8.2.2 | F78: b) 75 mm diameter | G78: No. | H78: 30 | J78: =H78*I78 -> 0
B79: 1 | D79: 1.46 | E79: 8.2.2 | F79: c) 110 mm diameter | G79: No. | H79: 30 | J79: =H79*I79 -> 0
B80: 1 | D80: 1.47 | E80: 8.2.2 | F80: d) 160mm diameter | G80: No. | H80: 30 | J80: =H80*I80 -> 0
D81: Item # | E81: Clause ref. | F81: Description | G81: Unit | H81: Quantity | I81: Rate | J81: Amount
F82: BSP saddles with ring and gasket:
B83: 1 | D83: 1.48 | F83: a) 110mm diameter x 2" | G83: No. | H83: 30 | J83: =H83*I83 -> 0
B84: 1 | D84: 1.49 | F84: b) 75mm diameter x 2" | G84: No. | H84: 30 | J84: =H84*I84 -> 0
F85: Steel Blank Flanges, drilled to SABS 1123 : 1977. Table 1600/3:
B86: 1 | D86: 1.5 | F86: a) 110mm diameter | G86: No | H86: 30 | J86: =H86*I86 -> 0
B87: 1 | D87: 1.51 | F87: b) 160mm diameter | G87: No | H87: 30 | J87: =H87*I87 -> 0
C88: SABS 1200L | F88: Specials and Fittings in SG Iron (Socketed) Supply, deliver, handle, install, joint, test and disinfect. Include pipes cut to length where required. (Gaskets, nuts, bolts and washers to be included)
B89: 1 | D89: 1.52 | E89: 8.2.2 | F89: a) 80 x 80mm diameter | G89: No. | H89: 30 | J89: =H89*I89 -> 0
F90: SG Iron Flange Adaptors:
B91: 1 | D91: 1.53 | E91: 8.2.2 | F91: a) 75mm diameter | G91: No. | H91: 30 | J91: =H91*I91 -> 0
C92: SABS 1200L | F92: Valve Installations Valves up to 250mm diameter
F93: Supply and Install CI RSV gate valves to SABS 1123 Table 1600/3 and a cap top for key operation for the following diameters (include 15 Mpa concrete anchor block).
F94: Double flanged Resilient Seal Valves:
B95: 1 | D95: 1.54 | E95: 8.2.3 | F95: a) 80mm diameter (Class 16) | G95: No. | H95: 30 | J95: =H95*I95 -> 0
B96: 1 | D96: 1.55 | E96: 8.2.3 | F96: b) 100mm diameter (Class 16) | G96: No. | H96: 30 | J96: =H96*I96 -> 0
C97: SABS 1200L | F97: Valve Chambers
B98: 1 | D98: 1.56 | E98: 8.2.13 | F98: Supply all materials and construct valve chamber complete for valves up to 80mm in dia. as detailed on EWS standard Drawing 23. | G98: No. | H98: 30 | J98: =H98*I98 -> 0
B99: 1 | D99: 1.57 | E99: 8.2.13 | F99: Supply all materials and construct isolating valve chamber complete for ball valves up to 50mm in dia. as detailed on EWS Standard Drawing 11. | G99: No. | H99: 30 | J99: =H99*I99 -> 0
C100: SABS 1200L | F100: Hydrants
B101: 1 | D101: 1.58 | E101: 8.2.2 | F101: Supply and install standard CI hydrant pillar, including painting | G101: No. | H101: 30 | J101: =H101*I101 -> 0
B102: 1 | D102: 1.59 | E102: 8.2.2 | F102: 80mm Ø MPVC duckfoot hydrant bend (4x1m FOE) | G102: No. | H102: 30 | J102: =H102*I102 -> 0
B103: 1 | D103: 1.6 | E103: 8.2.2 | F103: 110mm Ø MPVC duckfoot hydrant bend (4x1m FOE) | G103: No. | H103: 30 | J103: =H103*I103 -> 0
B104: 1 | D104: 1.61 | E104: 8.2.2 | F104: 110/75mm Ø Flanged Clip with clamp ring | G104: No. | H104: 30 | J104: =H104*I104 -> 0
D105: Item # | E105: Clause ref. | F105: Description | G105: Unit | H105: Quantity | I105: Rate | J105: Amount
F106: Connections to Existing Water Mains Provide all plant and labour necessary to connect to the existing municipal water main. The rate is to include isolating the pipeline, removal of section of existing mains, scouring and sanitising on completion and refilling the line (fittings, thrust blocks etc. measured elsewhere) for:
B107: 1 | D107: 1.62 | F107: a) 75mm diameter | G107: No. | H107: 30 | J107: =H107*I107 -> 0
B108: 1 | D108: 1.63 | F108: b) 110mm diameter | G108: No. | H108: 30 | J108: =H108*I108 -> 0
B109: 1 | D109: 1.64 | F109: c) 160mm diameter | G109: No. | H109: 30 | J109: =H109*I109 -> 0
C110: SABS 1200L | F110: Anchor/Thrust Blocks Construct anchor/thrust blocks to EWS Std Dwg no. 39 for tees, bends and end caps:
F111: For Tees, bends and end caps:
...
