Workbook
Name \A: [1]Sched2!#REF!
Name \B: [1]Sched2!#REF!
Name \C: [1]Sched2!#REF!
Name \D: [1]Sched2!#REF!
Name \E: [1]Sched2!#REF!
Name \F: [1]Sched2!#REF!
Name \G: [1]Sched2!#REF!
Name \H: [1]Sched2!#REF!
Name \J: [1]Sched2!#REF!
Name \K: [1]Sched2!#REF!
Name \Q: [1]Sched2!#REF!
Name _: '[2]Schedule 5'!#REF!
Name ___hhh2: #REF!
Name ___SEC1200: #REF!
Name __hhh2: #REF!
Name __SEC1200: #N/A
Name _1: #REF!
Name _1SCHEDULE_1: #REF!
Name _2SCHEDULE_2: #REF!
Name _hhh2: #REF!
Name _SEC1200: #REF!
Name _t1: [3]Tender!$A$1:$G$105
Name _VO6: #REF!
Name ag: '[2]Schedule 4'!$A$1
Name BIGEN_AFRICA_no: '[4]EC 7'!$F$14
Name ClientAddress: [5]Input!$B$12
Name ClientVATNo: [5]Input!$B$13
Name Contract_Description: '[4]EC 7'!$F$15
Name CONTRACT_NAME: '[4]EC 1'!#REF!
Name Contract_no: '[4]EC 7'!$F$13
Name data: #REF!
Name data1: #REF!
Name data2: #REF!
Name data64: [6]Invoice!$D$39
Name data8: [7]Invoice!$E$12
Name Date: '[4]EC 1'!#REF!
Name dflt1: '[6]Customize Your Invoice'!$E$22
Name dflt4: '[6]Customize Your Invoice'!$E$26
Name dflt5: '[6]Customize Your Invoice'!$E$27
Name dflt6: '[6]Customize Your Invoice'!$D$28
Name dflt7: '[6]Customize Your Invoice'!$G$27
Name Evaluation: #REF!
Name hhh: #REF!
Name InvPeriod: [5]Input!$B$14
Name Print: #N/A
Name Print_Area1: [8]SPCSummary!#REF!
Name Print_Area2: [8]SPCSummary!#REF!
Name Tender: #REF!
Name tender1: #REF!
Name TEST: "AutoShape 7"
Name TotalA: [9]Summary!$E$41
Name VATRate: [10]Input!$D$29
Name VATStatus: [10]Input!$B$29
Name vital5: '[6]Customize Your Invoice'!$E$15

Sheet 1.PRELIMINARY & GENERAL
A2: ITEM NO | B2: PAYMENT | C2: DESCRIPTION | D2: UNIT | E2: QTY | F2: Rate | G2: Amount
B5: SABS 1200A | C5: SECTION 1: PRELIMINARY AND GENERAL
A7: 1 | B7: 8.3 PSA 8.2.1 | C7: SCHEDULED FIXED-CHARGE AND VALUE-RELATED ITEMS
A9: 1.1 | B9: 8.3.1 | C9: Contractual Requirements
C11: Fixed Items
A13: 1.2 | B13: PSA 8.3.1a | C13: Contractors all risk insurance provided by Contractor | D13: Sum | E13: 1
B15: PSA 8.3.2 | C15: Establishment of Facilities on the Site
B17: PSA 8.3.2.1 | C17: Facilities for Engineer
A19: 1.3 | B19: PSAB 3.2 | C19: a) Furnished office for Resident Engineer suitable for site meetings | D19: Sum | E19: 1
A21: 1.4 | B21: PSAB 4.1 | C21: b) One Cellular phone | D21: Sum | E21: 1
A23: 1.5 | B23: PSAB 3.1 | C23: c) Nameboard as per drawing
B24: PSAB 5.1 | D24: Sum | E24: 2
A26: 1.6 | B26: PSAB 5.5 | C26: d) Two survey assistants and equipment | D26: Sum | E26: 1
A28: 1.7 | B28: PSAB 3.2 | C28: e) One Carport as specified | D28: Sum | E28: 1
A30: 1.8 | C30: f) Provision of monthly as-built" records to the Engineer" | D30: Sum | E30: 1
A32: 1.9 | C32: g) Ablution and latrine facilities | D32: Sum | E32: 1
A34: 1.1 | C34: h) Laptop - 4.7GHz Processor , 16 GB RAM,512 SSG HD,
C35: with USB port min. Core i11 or similarly approved, complete
C36: with Windows 10 Proffesional operating system & MS Office | D36: Sum | E36: 1
C38: Facilities for Contractor
A40: 1.11 | B40: PS 6.2 PSA 4.2 | C40: a) Offices and storage sheds | D40: Sum | E40: 1
A42: 1.12 | C42: b) Workshops | D42: Sum | E42: 1
A44: 1.13 | B44: PS 6.3 | C44: d) Living accommodation | D44: Sum | E44: 1
A46: 1.14 | C46: e) Ablution and latrine facilities | D46: Sum | E46: 1
A48: 1.15 | C48: f) Tools and equipment | D48: Sum | E48: 1
A50: 1.16 | B50: PS 6.1 | C50: g) Water supplies, electric power and communications | D50: Sum | E50: 1
A52: 1.17 | C52: h) Dealing with water (Subclause 5.5) | D52: Sum | E52: 1
A54: 1.18 | B54: PS 8.6 | C54: i) Access (Subclause 5.8) | D54: Sum | E54: 1
A56: 1.2 | B56: PS 5 | C56: l) Digital camera to take digital photographs of existing
C57: stuctures, roads and obstructions on the pipeline routes
C58: and submit to the Engineer (remains the property
C59: of the contractor) | D59: Sum | E59: 1
A61: 1.21 | B61: 8.3.3 PSA 8.8.5 | C61: Other fixed-charge obligations (Specify) | D61: Sum | E61: 1
A64: 1.22 | B64: 8.3.4 | C64: Removal of Site Establishment | D64: Sum | E64: 1
A89: TOTAL CARRIED FORWARD
A90: BROUGHT FORWARD
A92: 1.23 | B92: PSA 8.4 PSA 8.2.2 | C92: SCHEDULED TIME-RELATED ITEMS
A94: 1.24 | B94: 8.4.1 | C94: Contractual Requirements | D94: Month | E94: 12
B96: 8.4.2 | C96: Operation and Maintenance of Facilities on Site, for Duration of Construction, except where otherwise stated
B98: PSA 8.4.2.1 | C98: Facilities for Engineer
...

Sheet 2.SITE CLEARANCE
A2: ITEM NO | B2: PAYMENT | C2: DESCRIPTION | D2: UNIT | E2: QTY | F2: Rate | G2: Amount
B5: SABS 1200 C | C5: SECTION 2: SITE CLEARANCE
B7: 8.2 | C7: SCHEDULED ITEMS
A9: 2.1 | B9: 8.2.1 PSC 3.1 | C9: Clear and grub | D9: ha | E9: 2
B10: PSC 5.1
A12: 2.2 | B12: PSC 8.2.5 | C12: Take down existing fences and re-erect after completion of the works to original state | D12: m | E12: 1000
B14: PSC 8.2.8 | C14: Demolish and remove structures/buildings and cart
C15: away unwanted material to spoil at dumpsite
C16: (Rate will including but not limted to Break out
C17: concrete/brickwork, reinstate, make good edges
C18: and dispose of waste)
A20: 2.3 | C20: a) Informal structures and buildings smaller than 2,5m²
C21: irrespective of type of material | D21: No | E21: 10
A23: 2.4 | C23: b) Buildings/stuctures larger than 2,5 m² irrespective of type
C24: of material | D24: m² | E24: 100
C26: Dismantle and Relocate Pipelines, Electricity Transmission Lines, Cables etc (where necessary)
A28: 2.5 | C28: a) Electricity Transmission Lines | D28: m | E28: 20
A30: 2.6 | C30: b) Electrical cabling at the existing works area | D30: m | E30: 10
A32: 2.7 | C32: c) Existing sewer pipeline supply at pumpstation sumps | D32: m | E32: 20
C34: SAW-CUT AND REMOVE, SPOIL OFF-SITE TO
C35: MUNICIPAL SOLID WASTE SITE, AND REPLACE WITH
C36: NEW, AFTER INSTALLATION OF SEWER
C37: GRAVITY NETWORK PIPES
A39: 2.8 | B39: (LI) | C39: Paved Sidewalks / Driveways | D39: m² | E39: 500
A40: 2.9 | B40: (LI) | C40: Concrete Sidewalks / Driveways (15MPa Concrete) | D40: m² | E40: 250
A41: 2.1 | B41: (LI) | C41: Concrete lined stormwater drains / channels
C42: (15MPa concrete) | D42: m² | E42: 150
A44: 2.11 | B44: (LI) | C44: Stone-Pitched stormwater channels | D44: m² | E44: 75
C46: HYDROJET CLEANING OF BLOCKED SEWER LINES.
A48: 2.12 | C48: Supply all equipment and operate high pressure pumps
C49: and jets to clear blocked pipe sections.
A51: 2.13 | C51: 1) Supply of all equipment complete to hydroject
C52: exsisting pipelines | D52: Sum | E52: 2
A54: 2.14 | C54: 2) Operate and maintain equipment, including Labour,
C55: Fuel and other consumables to clear blocked
C56: sewer pipes of various sizes up to 450 mm ø | D56: m | E56: 1500
C58: VACUUM TANKERS TO PUMP OUT
C59: BLOCKED MANHOLES.
A61: 2.15 | C61: Supply tanker trucks complete with vacuum pumps to empty
C62: blocked manholes and cart sewer to the nearest WWTW .
...

Sheet 3.SEWER MAINS - EARTHWORKS
H1: 2
A2: ITEM NO | B2: PAYMENT | C2: DESCRIPTION | D2: UNIT | E2: QTY | F2: Rate | G2: Amount
B5: SABS 1200 DB | C5: SECTION 2: SITE CLEARANCE | E5: 0
B7: 8.2 PS 8.8 | C7: SCHEDULED ITEMS | E7: 0
B9: PSDB8.3.2 PS 3 | C9: Excavation (PS DB 8.3.3.4) | E9: 0
B10: PSDB8.2.4 PSLB3.4.1 | C10: Refer to dwg. no. 34609-133-1. | E10: 0
B11: PSDB 8.3.2 | C11: a) Excavate in all materials for trenches, backfill, compact, and dispose of surplus material, for pipes up to 700mm dia. for total trench depth | E11: 0
I12: =SUM('4.SEWER MAINS - SEWERS'!E15:E23) -> 4550
A13: 3.1 | C13: 1) Exceeding 0,0m but not exceeding 1,0m | D13: m³ | E13: =250*H1 -> 500
A15: 3.2 | C15: 2) Exceeding 1,0m but not exceeding 2,0m | D15: m³ | E15: 3000
A17: 3.3 | C17: 3) Exceeding 2,0m but not exceeding 3,0m | D17: m³ | E17: 4500
A19: 3.4 | C19: 4) Exceeding 3,0m but not exceeding 4,0m | D19: m³ | E19: 2000
A21: 3.5 | C21: 4) Exceeding 4,0m but not exceeding 5,0m | D21: m³ | E21: 1200
B23: PSDB 3.1 | C23: b) Extra-over items a) above for
A25: 3.6 | C25: a) Hard rock excavation | D25: m³ | E25: 1000
A27: 3.7 | B27: PLIS | C27: b) Excavation in soft material by labour based methods for trenches shallower than 1,2m and where the total depth of the trench can be classified as excavation in soft material. Compaction by labour based methods is excluded. | D27: m³ | E27: 1 | G27: Rate Only
A29: 3.8 | C29: Carefully excavate by hand in Road Reserve, to search and locate,expose, safely barricade, record services (type, size & levels for As-built) and protect existing services as identified on drawings or instructed by Engineer
A31: 3.9 | B31: PSDB 3.3 | C31: c) Excavate and dispose of unsuitable material from trench bottom (provisional) | D31: m³ | E31: 2000
A33: 3.1 | C33: d) Hand excavation to expose existing services in a careful manner | D33: m³ | E33: 500
A35: 3.11 | B35: 8.3.2 | C35: e) Excavate in all materials for combined sewer and water pipe trenches, backfill, compact and dispose of surplus material (as alternative) | D35: m³ | E35: 1 | G35: Rate Only
B37: PSDB 3.1 | C37: f) Extra-over item e) above for | E37: 0
A39: 3.12 | C39: 1) Hard rock excavation | D39: m³ | E39: 100
A41: 3.13 | B41: PLIS | C41: 2) Excavation in soft material by labour based methods for trenches shallower than 1,3m and where the total depth of the trench can be classified as excavation in soft material. Compaction by labour based methods is excluded. | D41: m³ | E41: 150
B43: PSDB8.3.3 | C43: Excavation Ancillaries | E43: 0
B45: 8.3.3.1 | C45: Make up deficiency in backfill material (provisional) | E45: 0
A47: 3.14 | C47: a) From other necessary excavations on site | D47: m³ | E47: 1 | G47: Rate Only
A49: 3.15 | C49: b) With suitable imported material | D49: m³ | E49: 6000 | G49: =F49*E49 -> 0
A51: 3.16 | B51: 8.3.3.3 | C51: c) Compaction in road reserves | D51: m³ | E51: 3000 | G51: =F51*E51 -> 0
B53: 8.3.3 | C53: Existing Services that Intersect or Adjoin a Pipe Trench(PROTECTION OF UNDERGROUND SERVICES)
C55: a) Services that intersect a trench
A57: 3.17 | C57: a) Waterconnections | D57: No | E57: =150*H1 -> 300 | G57: =F57*E57 -> 0
A59: 3.18 | C59: b) Water pipe | D59: No | E59: 90 | G59: =F59*E59 -> 0
A61: 3.19 | C61: c) Sewer pipe | D61: No | E61: 50 | G61: =F61*E61 -> 0
A63: 3.2 | C63: d) HT Underground cable | D63: No | E63: 50 | G63: =F63*E63 -> 0
A65: 3.21 | C65: e) HT Overhead cable | D65: No | E65: 50 | G65: =F65*E65 -> 0
A67: 3.22 | C67: f) LT Underground cable | D67: No | E67: 50 | G67: =F67*E67 -> 0
A69: 3.23 | C69: g) Telkom underground cable | D69: No | E69: 5 | G69: =F69*E69 -> 0
A71: 3.24 | C71: h) Telkom overhead cable | D71: No | E71: 5 | G71: =F71*E71 -> 0
A74: TOTAL CARRIED FORWARD | G74: =SUM(G13:G73) -> 0
A75: BROUGHT FORWARD | G75: =G74 -> 0
...

Sheet 4.SEWER MAINS - SEWERS
A2: ITEM NO | B2: PAYMENT | C2: DESCRIPTION | D2: UNIT | E2: QTY | F2: Rate | G2: Amount
B4: SABS 1200 LD | C4: SECTION 4: SEWER MAINS - SEWERS | E4: 0
A6: 4.1 | B6: 1200 LD PS 10.6(4) | C6: SEWERS | E6: 0
A8: 4.2 | B8: 8.2.1 | C8: Supply, Lay, Joint, Bed and Test Pipeline: | E8: 0
C9: uPVC "Durodrain" or similar approved
C11: Solid Wall HD Class 34
C13: a) 110 mm dia | D13: m | E13: 120
A15: 4.3 | C15: b) 160 mm dia | D15: m | E15: 350 | G15: =F15*E15 -> 0
G16: =F16*E16 -> 0
A17: 4.4 | C17: c) 200 mm dia. | D17: m | E17: 1500 | G17: =F17*E17 -> 0
G18: =F18*E18 -> 0
A19: 4.5 | C19: d) 315 mm dia. | D19: m | E19: 2150 | G19: =F19*E19 -> 0
G20: =F20*E20 -> 0
A21: 4.4 | C21: e) 355 mm dia. | D21: m | E21: 400 | G21: =F21*E21 -> 0
G22: =F22*E22 -> 0
A23: 4.5 | C23: f) 400 mm dia. | D23: m | E23: 150 | G23: =F23*E23 -> 0
G24: =F24*E24 -> 0
B25: 8.2.1 | C25: Supply, Lay, Joint, Bed and Test Pipeline: uPVC | E25: 0 | G25: =F25*E25 -> 0
C26: "Ultracor" or similar approved | G26: =F26*E26 -> 0
C27: (multi-layer, HD class 400)
A29: 4.6 | C29: a) 160 mm dia | D29: m | E29: 1 | G29: Rate Only
A31: 4.7 | C31: b) 200 mm dia. | D31: m | E31: 1 | G31: Rate Only
A33: 4.8 | C33: c) 315 mm dia. | D33: m | E33: 1 | G33: Rate Only
E34: 0
A35: 4.9 | C35: d) 355 mm dia. | D35: m | E35: 1 | G35: Rate Only
A37: 4.1 | C37: e) 400 mm dia. | D37: m | E37: 1 | G37: Rate Only
A39: 4.11 | B39: 8.2.2 | C39: a) 45 ° reducing junction from 315 mm to 160mm ø with 45° x PVC bend to receive erf sewer collector | D39: No | E39: 50 | G39: =F39*E39 -> 0
G40: =F40*E40 -> 0
A41: 4.12 | C41: b) 45 ° reducing junction from 315 mm to 200 ø with 45° x PVC bend to receive erf sewer collector | D41: No | E41: 50 | G41: =F41*E41 -> 0
G42: =F42*E42 -> 0
B43: 8.2.7 | C43: Encasing of pipes in concrete | G43: =F43*E43 -> 0
G44: =F44*E44 -> 0
C45: a) For connection between erf sewer collector and sewer mains at depths greater than 1,2 m according to detail on drawing | D45: No | E45: 5 | G45: =F45*E45 -> 0
G46: =F46*E46 -> 0
B47: 8.2.8 | C47: Anchor Blocks | G47: =F47*E47 -> 0
G48: =F48*E48 -> 0
A49: 4.13 | C49: a) As per detail drawing | D49: No | E49: 1 | G49: Rate Only
B51: 8.2.3 PSLD3.5.2 | C51: MANHOLES | E51: 0
B52: PSLD3.5.8 PSLD5.6.3 | E52: 0
C53: 1000 dia. Complete as per drawing for depth between: | E53: 0
...

Sheet 5.SEWER MAINS - BEDDING
A2: ITEM NO | B2: PAYMENT | C2: DESCRIPTION | D2: UNIT | E2: QTY | F2: Rate | G2: Amount
B5: SABS 1200 LB | C5: SECTION 5: SEWER MAINS - BEDDING | E5: 0
B7: PS 10.6(3) | C7: SCHEDULED ITEMS | E7: 0
C9: Refer to dwg. no. 34609-133-1
B11: 8.2.1 PSLB3.4.1 | C11: Provision of Bedding from Trench Excavation with unlimited free haul distance | E11: 0
B13: PSLB8.1.6 | E13: 0
A15: 5.1 | B15: 8.2.1 | C15: a) Selected granular material | D15: m³ | E15: 1 | G15: Rate Only
A17: 5.2 | B17: PSLB 5.1.3.5 | C17: b) Selected fill material | D17: m³ | E17: 1 | G17: Rate Only
B19: 8.2.2 | C19: Supply only of Bedding by Importation
B21: 8.2.2.3 | C21: From Commercial sources (Provisional)
A23: 5.3 | C23: a) Selected granular material | D23: m³ | E23: 750
A25: 5.4 | B25: PSLB 5.1.3.5 | C25: b) Selected fill material | D25: m³ | E25: 2500
B27: 8.2.4 | C27: Encasing of Pipes in Concrete | E27: 0
A29: 5.5 | C29: a) 0 to 200mm dia. pipes in concrete (Class 15/19 concrete) only on instruction by Engineer | D29: m³ | E29: 20
B31: PSLB 8.2.6 | C31: Encasing of Pipes in Soilcrete
A33: 5.7 | C33: a) 0 to 200mm dia. pipes in soilcrete as per drawing (12% cement added per volume) vibrated as for concrete as only on instruction by Engineer | D33: m³ | E33: 50
A85: TOTAL SECTION 5 CARRIED FORWARD TO SUMMARY
A258: 1.79 | B258: PSA 8.12.2

Sheet 6.HORISONTAL DRILLING
A2: ITEM NO | B2: PAYMENT | C2: DESCRIPTION | D2: UNIT | E2: QTY | F2: Rate | G2: Amount
A5: 6 | C5: SECTION 6: HORISONTAL DIRECTIONAL DRILLING
B6: PLX | C6: TRENCHLESS PIPE INSTALLATION
C8: Refer to dwg. no. 34609-133-6
B10: PLX 8.1 | C10: SITE ESTABLISHMENT OF DRILLING CONTRACTOR
A12: 6.1 | C12: Fixed costs to establish "HDD" Plant, equipment, labourers etc in Kgotsong.Cost to incl Construction Mangement, Office Over-head costs, Method Statement, Transport to site, Accommodation and OHS requirements as specified, for full duration of "HDD" processes on site | D12: Sum | E12: 1
B14: PLX 8.2 | C14: TRAFFIC ACCOMMODATION AT “HDD” ROAD SECTIONS
A16: 6.2 | C16: Traffic Accommodation & Road signs, as well as flagmen, at each "HDD" position, for full duration of "HDD" processes on site. | D16: Sum | E16: 1
B18: PLX 8.3 | C18: SETTING UP AT EACH DRILLING LOCATION
A20: 6.3 | B20: PLX 8.3.1 | C20: Move and Re-establish "HDD" plant at next position. | D20: Sum | E20: - | G20: Rate only
B22: PLX 8.3.2 | C22: Excavation and Preparation of Launch and Reception Pits | D22: No | E22: 2 | G22: =F22*E22 -> 0
G23: =F23*E23 -> 0
A24: 6.4 | C24: Wayleave Application to all authorities | D24: Sum | E24: 1 | G24: =F24*E24 -> 0
A26: 6.5 | C26: Scanning of Road/Railway Crossing for External Services | D26: Sum | E26: - | G26: Rate only
A28: 6.6 | B28: PLX 8.4 | C28: Drilling of Pipes in Soft material, reaming and installation
C29: of x1 Class 10 HDPE PE100 pipe for pipe
C30: diameter, inclusive of BUTT WELDING each section of pipe.
A32: 6.6.1 | C32: a) 200mm dia HDPE pipe | D32: m | E32: 200 | G32: =F32*E32 -> 0
A34: 6.6.2 | C34: b) 250mm dia HDPE pipe | D34: m | E34: 100 | G34: =F34*E34 -> 0
A36: 6.6.3 | C36: c) 315mm dia HDPE pipe | D36: m | E36: 50 | G36: =E36*F36 -> 0
A38: 6.6.4 | C38: d) 355 mm dia HDPE pipe | D38: m | E38: 50 | G38: =E38*F38 -> 0
A40: 6.7 | C40: EXTRA OVER : ITEM 6.6 : DRILLING IN ROCK | D40: m | E40: - | G40: Rate only
C42: Standing Time
A43: 6.8 | C43: Standing Time for Drilling Team & Equipment | D43: Hour | E43: =9*3 -> 27 | G43: =E43*F43 -> 0
A82: TOTAL SECTION 6 CARRIED FORWARD TO SUMMARY
A258: 1.79 | B258: PSA 8.12.2

Sheet 7.PIPE CRACKING
A2: ITEM NO | B2: PAYMENT | C2: DESCRIPTION | D2: UNIT | E2: QTY | F2: Rate | G2: Amount
A5: 7 | B5: PLX | C5: SECTION 7: PIPE CRACKING / BURSTING
B6: SASTT-TS-TT2
C7: Refer to dwg. no. 34609-133-6
B9: PLX 8.1 | C9: SITE ESTABLISHMENT OF PIPE CRACKING CONTRACTOR
A11: 7.1 | C11: Fixed costs to establish Pipe Bursting / Cracking Plant, equipment, labourers etc in Kgotsong. Cost to include Construction Mangement, Office Over-head costs, Method Statement, Transport to site, Accommodation and OHS requirements as specified, for full duration of the Pipe Bursting / Cracking processes on site | D11: Sum | E11: 1 | G11: =F11*E11 -> 0
B13: PLX 8.2 | C13: TRAFFIC ACCOMMODATION
A15: 7.2 | C15: Traffic Accommodation & Road signs, as well as flagmen, at each Pipe Bursting / Cracking position, for full duration of Pipe Bursting / Cracking processes on site | D15: Sum | E15: 1 | G15: =F15*E15 -> 0
B17: PLX 8.3 | C17: SETTING UP AT EACH PIPE CRACKING LOCATION
A19: 7.3 | B19: PLX 8.3.1 | C19: Move and Re-establish Pipe Bursting / Cracking plant at next position. | D19: No | E19: 4 | G19: =F19*E19 -> 0
A21: 7.4 | C21: Wayleave Application to all Authorities | D21: Sum | E21: - | G21: Rate only
B23: SASTT-TS-TT2 1.1 | C23: Supply, handle, lay and test through pipe cracking including supply of equipment: HDPE PE 100 PN10 (SDR 17)
A25: 7.5 | C25: a) 200mm dia | D25: m | E25: 40 | G25: =F25*E25 -> 0
A27: 7.6 | C27: a) 250mm dia | D27: m | E27: 40 | G27: =F27*E27 -> 0
A29: 7.7 | C29: b) 315mm dia | D29: m | E29: 40 | G29: =E29*F29 -> 0
A31: 7.8 | C31: c) 355 mm dia | D31: m | E31: 40 | G31: =E31*F31 -> 0
B33: SASTT-TS-TT2 1.3 | C33: Construct pit for insertion / pulling of replacement pipe between manholes. Rate shall include all materials and labour required:
A35: 7.9 | C35: a) Depth to invert up to 2,0m | D35: No. | E35: 2 | G35: =F35*E35 -> 0
A37: 7.1 | C37: b) Depth to invert from 2,01m to 3,0m | D37: No. | E37: 4 | G37: =E37*F37 -> 0
A39: 7.11 | C39: c) Depth to invert from 3,01m to 4,0m | D39: No. | E39: 2 | G39: =E39*F39 -> 0
A41: 7.12 | B41: SASTT-TS-TT2 1.2 | C41: Allow for reconnecting house connections. Rate shall include excavation, backfilling, labour and all fittings required | D41: No. | E41: =SUM(E25:E31)/20 -> 8 | G41: =E41*F41 -> 0
A43: 7.13 | C43: Point repairs to sewers of all diameters before pipe cracking. Rate shall include all materials and labour required | D43: No. | E43: =E41 -> 8 | G43: =E43*F43 -> 0
C45: CCTV Surveys
A47: 7.14 | C47: CCTV camera survey of pipelines after upgrade works, of all diameters, including any cleaning required | D47: m | E47: =SUM(E25:E31) -> 160 | G47: =E47*F47 -> 0
A70: TOTAL SECTION 17 CARRIED FORWARD TO SUMMARY
A258: 1.79 | B258: PSA 8.12.2

Sheet 8.SECTION-1700
A2: ITEM NO | B2: PAYMENT | C2: DESCRIPTION | D2: UNIT | E2: QTY | F2: Rate | G2: Amount
A5: 8 | C5: SECTION 8: 1700 CLEARING AND GRUBBING
A7: 8.1 | C7: Clearing and grubbing | D7: ha | E7: 0.5
C9: Removal and grubbing of large trees and
C10: tree stumps:
A12: 8.2 | C12: (a) Girth exceeding 1 m up to and including 2 m
A14: 8.3 | C14: Re-clearing of surfaces (on written instruction of the Engineer Only) | D14: ha | E14: =E7/2 -> 0.25
A16: 8.4 | C16: Cleaning and grubbing at inlets and outlets of hydraulic structures | D16: m2 | E16: 20
C18: Cleaning out of Hydraulic structures
A20: 8.5 | C20: a) Pipes with internal diameter up to and including 750mm | D20: m3 | E20: 1 | G20: Rate only
A22: 8.6 | C22: c) Box culvetsup to and including 1.5m vertical | D22: m3 | E22: 10 | G22: =IF(OR(AND(E22="Prov",F22="Sum"),(F22="PC Sum")),". . . . . . . . .00",IF(ISERR(E22*F22),"",IF(E22*F22=0,"",ROUND(E22*F22,2))))
A87: TOTAL SECTION 8 CARRIED FORWARD TO SUMMARY
A258: 1.79 | B258: PSA 8.12.2

Sheet 9.SECTION-2100 
A2: ITEM NO | B2: PAYMENT | C2: DESCRIPTION | D2: UNIT | E2: QTY | F2: Rate | G2: Amount
A5: 9 | C5: SECTION 9: 2100 DRAINS
C7: Excavation for open drains:
C9: a) Excavating soft material situated within the following depth ranges below the surface level
A11: 9.1 | C11: (i) 0 m up to 1,5 m (LI) | D11: m³ | E11: 10 | G11: =F11*E11 -> 0
A13: 9.2 | C13: b) Extra over subitem 21.01(a) for excavation | D13: m³ | E13: 1 | G13: Rate only
A15: 9.3 | C15: Clearing and shaping existing open drains (LI) | D15: m³ | E15: 20 | G15: =F15*E15 -> 0
A88: TOTAL SECTION 9 CARRIED FORWARD TO SUMMARY
A258: 1.79 | B258: PSA 8.12.2

Sheet 10.SECTION-2200 
A2: ITEM NO | B2: PAYMENT | C2: DESCRIPTION | D2: UNIT | E2: QTY | F2: Rate | G2: Amount
A5: 10 | C5: SECTION 10: 2200 PREFABRICATED CULVERTS
C7: Excavation:
C9: a)Excavating soft material situated within the following depth ranges below the surface level
A11: 10.1 | C11: (i) 0 m up to 1,5 m | D11: m³ | E11: =2*8*3*3+6 -> 150 | G11: =F11*E11 -> 0
A13: 10.2 | C13: (ii) Exceeding 1,5 m and up to 3,0 m | D13: m³ | E13: =E11*20% -> 30 | G13: =F13*E13 -> 0
A15: 10.3 | C15: b)Extra over subitem 22.01(a) for excavation in hard material, irrespective of depth | D15: m³ | E15: 1 | G15: Rate only
C17: Backfilling:
A19: 10.4 | C19: (a)Using the excavated material | D19: m³ | E19: 1 | G19: Rate only
G20: =IF(OR(AND(E20="Prov",F20="Sum"),(F20="PC Sum")),". . . . . . . . .00",IF(ISERR(E20*F20),"",IF(E20*F20=0,"",ROUND(E20*F20,2))))
A21: 10.5 | C21: (b)Using imported selected material | D21: m³ | E21: 15 | G21: =IF(OR(AND(E21="Prov",F21="Sum"),(F21="PC Sum")),". . . . . . . . .00",IF(ISERR(E21*F21),"",IF(E21*F21=0,"",ROUND(E21*F21,2))))
G22: =IF(OR(AND(E22="Prov",F22="Sum"),(F22="PC Sum")),". . . . . . . . .00",IF(ISERR(E22*F22),"",IF(E22*F22=0,"",ROUND(E22*F22,2))))
A23: 10.6 | C23: (c)Extra over subitems 22.02(a) and (b) for soil cement backfilling containing 3% cement* | D23: m³ | E23: 2.5 | G23: =F23*E23 -> 0
C25: Concrete pipe culverts:
A27: 10.7 | C27: (a)On class A bedding:
A29: 10.8 | C29: i) 450mm dia 100D | D29: m | E29: =5*2*2.5 -> 25 | G29: =F29*E29 -> 0
C31: Cast in situ concrete and formwork:
C33: (a)In class A bedding, screeds and the encasing for pipes, including formwork:
A35: 10.9 | C35: (i) Grade 30 concréte | D35: m³ | E35: 2 | G35: =F35*E35 -> 0
C37: (b) In floor slabs for portal or rectangular culverts, including formwork, joints and class U2 surface finish:
A39: 10.1 | C39: (i) Grade 30 concrete | D39: m³ | E39: 1 | G39: =F39*E39 -> 0
C41: Steel reinforcement:
A43: 10.11 | C43: (a) Mild steel bars | D43: t | E43: 1 | G43: Rate only
G44: =IF(OR(AND(E44="Prov",F44="Sum"),(F44="PC Sum")),". . . . . . . . .00",IF(ISERR(E44*F44),"",IF(E44*F44=0,"",ROUND(E44*F44,2))))
A45: 10.12 | C45: (b) High-tensile steel bars | D45: t | E45: 1 | G45: Rate only
G46: =IF(OR(AND(E46="Prov",F46="Sum"),(F46="PC Sum")),". . . . . . . . .00",IF(ISERR(E46*F46),"",IF(E46*F46=0,"",ROUND(E46*F46,2))))
A47: 10.13 | C47: (c) Welded steel fabric | D47: kg | E47: 20 | G47: =IF(OR(AND(E47="Prov",F47="Sum"),(F47="PC Sum")),". . . . . . . . .00",IF(ISERR(E47*F47),"",IF(E47*F47=0,"",ROUND(E47*F47,2))))
C49: Manholes, catchpits, precast inlet and outlet structures complete:
A51: 10.14 | C51: Manholes from engineering bricks (1.5m x 1.5m x 1.5m from
C52: NFX Burnt Clay Masonry complying with SANS 227 on
C53: 150mm Class 20/19 concrete) | D53: number | E53: 1 | G53: Rate only
C55: Catchpits:
A57: 10.15 | C57: from precast concrete | D57: number | E57: 1 | G57: Rate only
C59: Brickwork:
A61: 10.16 | C61: (b) 230 mm thick | D61: m² | E61: 10 | G61: =IF(OR(AND(E61="Prov",F61="Sum"),(F61="PC Sum")),". . . . . . . . .00",IF(ISERR(E61*F61),"",IF(E61*F61=0,"",ROUND(E61*F61,2))))
A63: 10.17 | C63: Benching | D63: m² | E63: 10 | G63: =IF(OR(AND(E63="Prov",F63="Sum"),(F63="PC Sum")),". . . . . . . . .00",IF(ISERR(E63*F63),"",IF(E63*F63=0,"",ROUND(E63*F63,2))))
A83: TOTAL SECTION 10 CARRIED FORWARD TO SUMMARY
A258: 1.79 | B258: PSA 8.12.2

Sheet 11.SECTION-2300 
A2: ITEM NO | B2: PAYMENT | C2: DESCRIPTION | D2: UNIT | E2: QTY | F2: Rate | G2: Amount
A5: 11 | C5: SECTION 11: 2300 KERBS
C7: Concrete kerbing:
A9: 11.1 | C9: a) Prefabricated mountable kerb, SANS 927 Fig 8c, on straight sections (as per detail drawings) (LI) | D9: m | E9: 100 | G9: =E9*F9 -> 0
A11: 11.2 | C11: b) Prefabricated mountable kerb, SANS 927 Fig 8c, on curved sections (as per detail drawings) (LI) | D11: m | E11: 25 | G11: =E11*F11 -> 0
A13: 11.3 | C13: c) Prefabricated barrier kerb, SANS 927 Fig 3, on straight sections (as per detail drawings) (LI) | D13: m | E13: 100 | G13: Rate only
A15: 11.4 | C15: d) Prefabricated barrier kerb, SANS 927 Fig 3, on curved sections (as per detail drawings) (LI) | D15: m | E15: 25 | G15: Rate only
A17: 11.5 | C17: e) Prefabricated edge restraint, SANS 927 Fig 10, on straight sections (as per detail drawings) (LI) | D17: m | E17: 100 | G17: =E17*F17 -> 0
A19: 11.6 | C19: f) Prefabricated edge restraint, SANS 927 Fig 10, on curved sections (as per detaildrawings) (LI) | D19: m | E19: 25 | G19: =E19*F19 -> 0
A21: 11.7 | C21: g) Prefabricated mountable kerb, SANS 927 Fig 14, on straight sections (as per detail drawings) (LI) | D21: m | E21: 100 | G21: =E21*F21 -> 0
A23: 11.8 | C23: h) Prefabricated mountable kerb, SANS 927 Fig 14, on curved sections (as per detail drawings) (LI) | D23: m | E23: 25 | G23: =E23*F23 -> 0
A25: 11.9 | C25: i) Cast in situ concrete Class 30/19 edge beam (as per detail drawings) (LI) | D25: m | E25: 100 | G25: =E25*F25 -> 0
C27: Inlet, outlet, transition and similar structures (as indicated by the Engineer on site)
C29: (a) Concrete:
A31: 11.1 | C31: Class 25 / 19 concrete (LI) | D31: m³ | E31: 2 | G31: =F31*E31 -> 0
C33: Trimming of excavations for concrete-lined open channels/drains:
C35: Concrete lined open channels/drains:(Cast in situ concrete channels and concrete stormwater structures as shown on drawings).
A37: 11.11 | C37: a) Cast in situ Class 25 /19 concrete Channel (1x0.1 Stormwater trapezoidal-Channel) (LI) | D37: m³ | E37: 5 | G37: =F37*E37 -> 0
A39: 11.12 | C39: b) Cast in situ Class 30 /19 concrete road crossing channel (3x0.1 Stormwater trapezoidal-Channel) (LI) | D39: m³ | E39: 10 | G39: =F39*E39 -> 0
A41: 11.13 | C41: c) Cast in situ Class 15 /19 blinding concrete (LI) | D41: m³ | E41: 1 | G41: Rate only
A43: 11.14 | C43: Class U2 surface finish to cast in situ concrete in trapezoidal and v-drains (LI) | D43: m² | E43: 100 | G43: =E43*F43 -> 0
C45: Formwork to cast in situ concrete lining for open drains (class F2 surface finish):
A47: 11.15 | C47: a) To sides with formwork on external face (LI) | D47: m² | E47: 15 | G47: =F47*E47 -> 0
A49: 11.16 | C49: b)To ends of slabs (LI) | D49: m² | E49: 2 | G49: =F49*E49 -> 0
C51: Steel reinforcement:
C53: Welded steel fabric as shown on drawings
A55: 11.17 | C55: a) Mesh Ref 193 to stormwater channel | D55: m² | E55: 100 | G55: =F55*E55 -> 0
A72: TOTAL SECTION 11 CARRIED FORWARD TO SUMMARY
A258: 1.79 | B258: PSA 8.12.2

Sheet 12.SECTION-3300
A2: ITEM NO | B2: PAYMENT | C2: DESCRIPTION | D2: UNIT | E2: QTY | F2: Rate | G2: Amount
A5: 12 | C5: SECTION 12: 3300 MASS EARTHWORKS
C7: Cut and borrow to fill from existing road layers
C9: a) Material in compacted layer thicknesses of 200 mm
C10: and less:
A12: 12.1 | C12: i) Compacted to 93% of modified AASHTO density (only
C13: on approval of the Engineer) | D13: m³ | E13: 5 | G13: =E13*F13 -> 0
A15: 12.2 | C15: ii) Compacted to 95% of modified AASHTO density | D15: m³ | E15: 1 | G15: Rate only
C17: Cut to spoil, including all haul. Material obtained from:
A19: 12.3 | C19: a) Soft excavation | D19: m³ | E19: 150 | G19: =E19*F19 -> 0
A21: 12.4 | C21: b) Hard excavation | D21: m³ | E21: 1 | G21: Rate only
A23: 12.5 | C23: c) Boulder excavation class A | D23: m³ | E23: 1 | G23: Rate only
C25: Removal of unsuitable material, including all haul:
C27: In layer thicknesses of 200 mm and less:
A29: 12.6 | C29: a) Stable material | D29: m³ | E29: 1 | G29: Rate only
A31: 12.7 | C31: b) Unstable material (only on approval of the Engineer) | D31: m³ | E31: 25
A33: 12.8 | C33: Material temporarily removed and placed in a windrow | D33: m³ | E33: 1 | G33: Rate only
C35: In situ treatment of roadbed:
A37: 12.9 | C37: a) In situ treatment by ripping | D37: m³ | E37: 150 | G37: =E37*F37 -> 0
A89: TOTAL SECTION 12 CARRIED FORWARD TO SUMMARY
A258: 1.79 | B258: PSA 8.12.2

Sheet 13.SECTION-3400
A2: ITEM NO | B2: PAYMENT | C2: DESCRIPTION | D2: UNIT | E2: QTY | F2: Rate | G2: Amount
A5: 13 | C5: SECTION 13: 3400 PAVEMENT LAYERS
C6: OF GRAVEL MATERIAL
C8: Pavement layers constructed from gravel obtained from existing pavement layers:
C10: Gravel selected layer compacted to:
A12: 13.1 | C12: a) 93% of modified AASHTO density for a compacted layer thickness of 150 mm (only on approval of the Engineer) | D12: m³ | E12: 150 | G12: =E12*F12 -> 0
C14: Gravel sub-base (unstabilized gravel) compacted to:
A16: 13.2 | C16: b) 95% of modified AASHTO density for a compacted layer thickness of 150 mm | D16: m³ | E16: 1 | G16: Rate only
C19: Pavement layers constructed from gravel obtained
C20: from commercial sources or approved sources
C21: provided by the contractor,including all haul:
C23: Gravel selected layer from G9 material (unstabilized gravel) compacted to:
A25: 13.3 | C25: a) 93% of modified AASHTO density for a compacted layer thickness of 150 mm | D25: m³ | E25: 150 | G25: =E25*F25 -> 0
C27: Gravel subbase from G7 material (unstabilized gravel) compacted to:
A29: 13.4 | C29: b) 95% of modified AASHTO density for a compacted layer thickness of 150 mm | D29: m³ | E29: 125 | G29: =E29*F29 -> 0
C31: Gravel base from G5 material chemically stabilized to C4 and compacted to:
A33: 13.5 | C33: c) 97% of modified AASHTO density for a compacted layer thickness of 150mm | D33: m³ | E33: 140 | G33: =E33*F33 -> 0
A80: TOTAL SECTION 13 CARRIED FORWARD TO SUMMARY
A258: 1.79 | B258: PSA 8.12.2

Sheet 14.SECTION-3500
A2: ITEM NO | B2: PAYMENT | C2: DESCRIPTION | D2: UNIT | E2: QTY | F2: Rate | G2: Amount
A5: 14 | C5: SECTION 14: 3500 STABILIZATION
C7: Chemical stabilization extra over unstabilized
A9: 14.1 | C9: a) Gravel subbase, 150mm thick | D9: m³ | E9: 1 | G9: Rate only
A11: 14.2 | C11: b) Gravel base, 150mm thick | D11: m³ | E11: =1050*1.05*0.15 -> 165.375 | G11: =E11*F11 -> 0
C13: Chemical stabilizing agent:
A15: 14.3 | C15: a) Ordinary Portland cement @ 2,5% | D15: t | E15: 9 | G15: =E15*F15 -> 0
A89: TOTAL SECTION 14 CARRIED FORWARD TO SUMMARY
A258: 1.79 | B258: PSA 8.12.2

Sheet 15.SECTION-5100 
A2: ITEM NO | B2: PAYMENT | C2: DESCRIPTION | D2: UNIT | E2: QTY | F2: Rate | G2: Amount
A5: 15 | C5: SECTION 15: 5100 PITCHING
C7: Stone pitching
A9: 15.1 | C9: a) Grouted stone pitching on a concrete bed
C10: (75 - 150mm thick Class 25/19) (LI) | D10: m² | E10: 100 | G10: =F10*E10 -> 0
A89: TOTAL SECTION 15 CARRIED FORWARD TO SUMMARY
A258: 1.79 | B258: PSA 8.12.2

Sheet 16.SECTION-7300 
A2: ITEM NO | B2: PAYMENT | C2: DESCRIPTION | D2: UNIT | E2: QTY | F2: Rate | G2: Amount
A5: 16 | C5: SECTION 16: 7300 CONCRETE BLOCK PAVING
C7: Concrete block paving:
A9: 16.1 | C9: a) 60mm concrete segmeted paving blocks (SANS 1058)
C10: 40/2.6 Type S-A laid on a 20mm thick sand bedding
C11: vibrated to locked up condition (LI) | D11: m² | E11: =6*100 -> 600 | G11: =F11*E11 -> 0
A13: 16.2 | C13: b) 80mm concrete segmeted paving blocks (SANS 1058)
C14: 40/2.6 Type S-A laid on a 20mm thick sand bedding
C15: vibrated to locked up condition (LI) | D15: m² | E15: =6*100 -> 600 | G15: =F15*E15 -> 0
A17: 16.3 | C17: Cast in situ concrete edge and intermediate beams
C18: (in positions approved by the Engineer) | D18: m³ | E18: 2 | G18: =E18*F18 -> 0
A88: TOTAL SECTION 16 CARRIED FORWARD TO SUMMARY
A258: 1.79 | B258: PSA 8.12.2

Sheet 17.SECTION-8100 
A2: ITEM NO | B2: PAYMENT | C2: DESCRIPTION | D2: UNIT | E2: QTY | F2: Rate | G2: Amount
A5: 17 | C5: SECTION 17: 8100 TEST MATERIALS
C6: AND WORKMANSHIP
C8: Compaction - and Concrete Tests requested
C9: by the Engineer:
A11: 17.1 | B11: 81.02 (a) | C11: a) Cost of testing | D11: PC Sum | E11: 1 | F11: 30000 | G11: =F11*E11 -> 30000
A13: 17.2 | C13: b) Handling cost and profit in respect of subitem
C14: 81.02 (a) above | D14: % | E14: =G11 -> 30000
A88: TOTAL SECTION 17 CARRIED FORWARD TO SUMMARY
A258: 1.79 | B258: PSA 8.12.2

Sheet Summary
A5: SUMMARY OF SECTIONS
A9: Description | B9: Amount
A10: ='1.PRELIMINARY & GENERAL'!C5 -> SECTION 1: PRELIMINARY AND GENERAL | B10: ='1.PRELIMINARY & GENERAL'!G405 -> 0
A11: ='2.SITE CLEARANCE'!C5 -> SECTION 2: SITE CLEARANCE | B11: ='2.SITE CLEARANCE'!G85 -> 0
A12: ='3.SEWER MAINS - EARTHWORKS'!C5 -> SECTION 2: SITE CLEARANCE | B12: ='3.SEWER MAINS - EARTHWORKS'!G222 -> 0
A13: ='4.SEWER MAINS - SEWERS'!C4 -> SECTION 4: SEWER MAINS - SEWERS | B13: ='4.SEWER MAINS - SEWERS'!G162 -> 0
A14: ='5.SEWER MAINS - BEDDING'!C5 -> SECTION 5: SEWER MAINS - BEDDING | B14: ='5.SEWER MAINS - BEDDING'!G85 -> 0
A15: ='6.HORISONTAL DRILLING'!C5 -> SECTION 6: HORISONTAL DIRECTIONAL DRILLING | B15: ='6.HORISONTAL DRILLING'!G82 -> 0
A16: ='7.PIPE CRACKING'!C5 -> SECTION 7: PIPE CRACKING / BURSTING | B16: ='7.PIPE CRACKING'!G70 -> 0
A17: ='8.SECTION-1700'!C5 -> SECTION 8: 1700 CLEARING AND GRUBBING | B17: ='8.SECTION-1700'!G87 -> 0
A18: ='9.SECTION-2100 '!C5 -> SECTION 9: 2100 DRAINS | B18: ='9.SECTION-2100 '!G88 -> 0
A19: ='10.SECTION-2200 '!C5 -> SECTION 10: 2200 PREFABRICATED CULVERTS | B19: ='10.SECTION-2200 '!G83 -> 0
A20: ='11.SECTION-2300 '!C5 -> SECTION 11: 2300 KERBS | B20: ='11.SECTION-2300 '!G72 -> 0
A21: ='12.SECTION-3300'!C5 -> SECTION 12: 3300 MASS EARTHWORKS | B21: ='12.SECTION-3300'!G89 -> 0
A22: ='13.SECTION-3400'!C5 -> SECTION 13: 3400 PAVEMENT LAYERS | B22: ='13.SECTION-3400'!G80 -> 0
A23: ='14.SECTION-3500'!C5 -> SECTION 14: 3500 STABILIZATION | B23: ='14.SECTION-3500'!G89 -> 0
A24: ='15.SECTION-5100 '!C5 -> SECTION 15: 5100 PITCHING | B24: ='15.SECTION-5100 '!G89 -> 0
A25: ='16.SECTION-7300 '!C5 -> SECTION 16: 7300 CONCRETE BLOCK PAVING | B25: ='16.SECTION-7300 '!G88 -> 0
A26: ='17.SECTION-8100 '!C5 -> SECTION 17: 8100 TEST MATERIALS | B26: ='17.SECTION-8100 '!G88 -> 0
A28: SUB-TOTAL (1) (TOTAL OF SECTIONS) | B28: =SUM(B10:B27) -> 0
A31: ADD: CONTINGENCIES (10%) (Allow the sum of 10% (ten percent) of the above Sub-total 1 for Contingencies to be spent as the Engineer may direct and to be deducted in whole or in part if not required.) | B31: =B28*10% -> 0
A32: SUB-TOTAL 2 (SUB TOTAL 1 + 10% CONTINGENCIES) | B32: =B28+B31 -> 0
A33: ADD: PRICE ESCALATION ALLOWANCE OF 10 % TO SUB TOTAL 1 | B33: =B28*10% -> 0
A34: SUB-TOTAL 3 (SUB-TOTAL 2 + 10% CPA) | B34: =B32+B33 -> 0
A35: ADD: VAT (15%) SUB-TOTAL 3 | B35: =B34*15% -> 0
A36: TOTAL FOR SUMMARY CARRIED FORWARD TO COVER PAGE | B36: =B34+B35 -> 0
A258: 1.79 | B258: PSA 8.12.2
