Workbook
Name Consequence: '[1]Drop Down Lists'!$A$3:$A$8
Name Likelihood: '[1]Drop Down Lists'!$B$3:$B$7
Name RCE: '[1]Drop Down Lists'!$D$3:$D$7

Sheet PPE Contract BRA
A3: Occupational Health and Safety Baseline risk assessment template
A4: Business/Operating unit: | B4: Southern Grid | J4: Department: | K4: Compliance | U4: Next Review Date (every 2 years): | W4: Template identifier: | X4: 240-70044602
A6: Date: | B6: 09.06.2026 | J6: Prepared by: | K6: Khunjulwa Dlulane Lungile Mathetha Zelna Alexander Gontlafetse Tladi Violet Motaung | M6: Authorised by: | O6: Name: | W6: Document identifier
O7: Designation: | W7: Revision number: | X7: 5
O8: Date: | W8: Revision date: | X8: 46507
A10: List activity | B10: Activity type (Routine/Non-routine) | C10: Hazard nr | D10: Hazard Identification | E10: Risk Nr | F10: Associated risk | G10: Risk type | H10: Cause(s) of the risk | I10: Exposed group/employees | J10: Risk Owner | K10: Exposure patterns | L10: What are the possible consequences? | M10: Existing Controls | P10: Risk Priority Rating | R10: Additional Controls or Tasks Aimed at improving Existing Controls | S10: Monitoring Mechanisms | T10: Control Owner | U10: Legal and Other Requirements | V10: Target Date | W10: Current Status | X10: Integrated Risk Management (IRM) reference number
A11: List specific activities to be performed taking into consideration the equipment to be used, the personnel involved in the task. | B11: Indicate R or N 1. Routine activities and situations create hazards through day-to-day operations and normal work activities; 2. Non-routine activities and situations are occasional or unplanned; | C11: # | D11: Anything with potential to cause of harm. Note: A hazard can pose more than one risk. | E11: # | F11: A chance that injury , ill health or damage could occur as a result of uncontrolled hazard. | G11: Safety or health | H11: What causes the risk to come into effect? | I11: Who is exposed to the hazard i.e. visitors, members of the public, etc. | J11: Who is accountable for making sure the controls and monitors are: - in place, - implemented, - regularly reviewed for effectiveness. | K11: The frequency and duration the person/group is exposed to the hazard e.g. Daily for 3 hrs. | L11: Consider the worse case scenario without controls? | M11: Include: - Preventative Controls (controls implemented to eliminate hazards or reduce the likelihood of the risk occurring), and - Reactive Controls (controls implemented to reduce the immediate impact of the risk occurring) Elimination Substitution Engineering controls Administrative controls Personal protective equipment (PPE) | N11: Consequence | O11: Likelihood | Q11: RCE Risk Control Effectiveness | R11: Include: - Preventative Controls (controls implemented to eliminate hazards or reduce the likelihood of the risk occurring), and - Reactive Controls (controls implemented to reduce the immediate impact of the risk occurring) Elimination Substitution Engineering controls Administrative controls Personal protective equipment (PPE) NB: The risk shall be evaluated, assessed and rated again once additional controls have been implemented and those controls listed as existing controls. | S11: How we know if we are succeeding. Include comments on effectiveness. This may include i.e. measurements, inspections, supervision where necessary. | T11: Person allocated the responsibility for implementing the agreed controls (if applicable) | U11: Where relevant, list the relevant legislative and or Eskom requirements that prescribe the control. | V11: Once a date has been agreed to, this can not be changed (if applicable) | W11: Pending, In Progress, Complete (if applicable) | X11: Where applicable, add IRM system reference number for tracking of treatment actions. (applicable to risks that have an impact on business objectives or require intervention from Senior or Executive management such as impementing major engineering projects as a control)
A12: Driving National road Public road Terrain / servitudes | B12: R | C12: 4 | D12: Driving Unroadworthy vehicles | E12: 4.1 | F12: Motor vehicle accidents - vehicle breakdown/ Mechanical breakdown | G12: Safety | H12: • Inadequate communication • Lack of vehicle pre-trip inspection • Lack of vehicle maintenance • Vehicles not replaced as per the request | I12: Contractors and Eskom Lines and Servitudes employees | J12: Lines and Servitudes Manager | K12: Daily | L12: First Aid Medical Lost Time Injury Incident Fatalities Property damage | M12: Elimination: Not possible Substitution: Not possible Engineering controls: Not possible Administrative controls: • Pre –trip inspections to ensure that the vehicle is in good condition before driving. • Regular maintenance and vehicles are serviced regularly as per the manufature's specification or when required to ensure that the vehicle is in a roadworthy condition as per the manufature's instruction. Personal protective equipment (PPE): None | N12: 6 | O12: B | P12: I | Q12: Fully effective | R12: Maintain and monitor existing controls | S12: Maintenance Inspection Audits | T12: L&S Plant Supervisors, Contractor site Supervisor | U12: • Occupational Health and Safety Act (Act No. 85 of 1993) • National Road Traffic Act, 1996 (Act No. 93 of 1996) • 240-62946386 Vehicle and Driver Safety Management Procedure 32-345 Vehicle safety specification Latest rev. 240-62990141 Driver risk profile assessment • 240-43848327 Right to Refuse to Work in an unsafe condition procedure • 32-285 Medical surveillance • 32-95 Latest Rev. Environmental, Occupational Health and Safety Incident Management Procedure • 240-131838225 Occupational Health and Safety Incident Management Definitions and Classication Parameters • 240-4388327 Latest Rev Employees right of refusal to work in an unsafe situation Procedure • 32-477 Safety Health and Environment Training and Development • 240-75567900 Manual for Internal QualityAssurance Management of the Eskom Occupational Hygiene Approved Inspection Authority | V12: N/A | W12: N/A | X12: N/A
B13: R | D13: Vehicle not meeting Eskom minimum vehicle specification. | E13: 4.2 | F13: • Injuries which are likely to be fatal. | G13: Safety | H13: • Failure to ensure compliance to Eskom vehicle specification • Failure to adhere to standards, procedure and work instruction | I13: Contractors and Eskom Lines and Servitudes employees | J13: Lines and Servitudes Manager | K13: Whenever vehicles are purchased | L13: Fatality Lost Time Injury Medical Incident Property damage | M13: Elimination: Not possible Substitution: Not possible Engineering controls: Not possible Administrative controls: • All vehicle must be fitted with airbags, ABS, power steering, fitted with seatbelts, etc • Vehicles must be provided with first aid kit, warning triangle and fire extinguisher. • Vehicle and driver safety compliance confirmation is completed by Eskom employees and Monitoring of vehicles for compliance. • Regular vehicle inspections and audits Personal protective equipment (PPE): None | N13: 5 | O13: C | P13: II | Q13: Fully effective | R13: Maintain and monitor existing controls | S13: Inspections Audits | T13: L&S Plant Supervisors, Contractor site Supervisor | U13: • Occupational Health and Safety Act (Act No. 85 of 1993) • National Road Traffic Act, 1996 (Act No. 93 of 1996) • 240-62946386 Vehicle and Driver Safety Management Procedure 32-345 Vehicle safety specification Latest rev. 240-62990141 Driver risk profile assessment • 240-43848327 Right to Refuse to Work in an unsafe condition procedure • 32-285 Medical surveillance • 32-95 Latest Rev. Environmental, Occupational Health and Safety Incident Management Procedure • 240-131838225 Occupational Health and Safety Incident Management Definitions and Classication Parameters • 240-4388327 Latest Rev Employees right of refusal to work in an unsafe situation Procedure • 32-477 Safety Health and Environment Training and Development • 240-75567900 Manual for Internal QualityAssurance Management of the Eskom Occupational Hygiene Approved Inspection Authority | V13: N/A | W13: N/A | X13: N/A
B14: R | D14: Exposure to excessive travelling | E14: 4.3 | F14: • Excessive travelling causing psychological stress due to fatigue, back strains • Social Factors (including work load, work hours, victimization, harassment and bullying) | G14: Health | H14: • Not taking rest period when required • Prolonged driving (long distance driving); • Traffic congestion and traffic convoy • Rushing for production • Failure to adhere to procedures | I14: Contractors and Eskom Lines and Servitudes employees | J14: Lines and Servitudes Manager | K14: Daily | L14: Fatalities Lost Time Injury Medical Incident | M14: Elimination: Not possible Substitution: Not possible Engineering controls: Not possible Administrative controls: • Employees to do road / trip planning and risk assessment prior to embarking on a trip. • Employees should take resting period while travelling / driving to site ideally not longer than 2 hours. • Driver fitness to be discussed with Manager if fatigued • Employees’ vehicles must be maintained to be in good working condition. Personal protective equipment (PPE): None | N14: 6 | O14: B | P14: I | Q14: Fully effective | R14: Maintain and monitor existing controls | S14: Monitoring incident trend | T14: L&S Plant Supervisors, Contractor site Supervisor | U14: • Occupational Health and Safety Act (Act No. 85 of 1993) • National Road Traffic Act, 1996 (Act No. 93 of 1996) • 240-62946386 Vehicle and Driver Safety Management Procedure 32-345 Vehicle safety specification Latest rev. 240-62990141 Driver risk profile assessment • 240-43848327 Right to Refuse to Work in an unsafe condition procedure • 32-285 Medical surveillance • 32-95 Latest Rev. Environmental, Occupational Health and Safety Incident Management Procedure • 240-131838225 Occupational Health and Safety Incident Management Definitions and Classication Parameters • 240-4388327 Latest Rev Employees right of refusal to work in an unsafe situation Procedure • 32-477 Safety Health and Environment Training and Development • 240-75567900 Manual for Internal QualityAssurance Management of the Eskom Occupational Hygiene Approved Inspection Authority | V14: N/A | W14: N/A | X14: N/A
B15: R | D15: Use of Alcohol/ Intoxication | E15: 4.4 | F15: Injuries due to Motor vehicle accidents | G15: Safety | H15: • Failure to adhere to road safety and Eskom life saving rules Driver error due to substance abuse • Declined/ impaired mental state • Impaired reaction time • Drowsiness • Personal Factors • Social Factors (including work load, work hours, victimization, harassment and bullying) | I15: Contractors and Eskom Lines and Servitudes employees | J15: Lines and Servitudes Manager | K15: Daily | L15: Fatalities Lost Time Injury Medical Incident Property damage | M15: Elimination: Not possible Substitution: Not possible Engineering controls: Not possible Administrative controls: • Drivers not to drive vehicle when under the influence of any intoxicating substances. • Alcohol testers available for adhoc alcohol testing. • Eskom Life saving rules available and life saving rules acknowledgements are signed by both Eskom employees/ contactors Awareness during SHEQ meetings/ lessons learned/ road safety campaigns • Driver risk evaluation/Defensive & advance driver training . • Medical Fitness is conducted. • Employees are having National Drivers Licence and eskom driver permit. • Alco testing is done randomly • Behavioral safety and Driver observations conducted Personal protective equipment (PPE): None | N15: 6 | O15: B | P15: I | Q15: Fully effective | R15: Maintain and monitor existing controls | S15: Alcohol Testing Observation Incident trends | T15: L&S Plant Supervisors, Contractor site Supervisor | U15: • Occupational Health and Safety Act (Act No. 85 of 1993) • National Road Traffic Act, 1996 (Act No. 93 of 1996) • 240-62946386 Vehicle and Driver Safety Management Procedure 32-345 Vehicle safety specification Latest rev. 240-62990141 Driver risk profile assessment • 240-43848327 Right to Refuse to Work in an unsafe condition procedure • 32-285 Medical surveillance • 32-95 Latest Rev. Environmental, Occupational Health and Safety Incident Management Procedure • 240-131838225 Occupational Health and Safety Incident Management Definitions and Classication Parameters • 240-4388327 Latest Rev Employees right of refusal to work in an unsafe situation Procedure • 32-477 Safety Health and Environment Training and Development • 240-75567900 Manual for Internal QualityAssurance Management of the Eskom Occupational Hygiene Approved Inspection Authority | V15: N/A | W15: N/A | X15: N/A
B16: R | D16: Non-adherence to road safety rules and Eskom Directives | E16: 4.5 | F16: Motor Vehive Accident resuting to injuries and fatalities | G16: Safety | H16: • Negligence and recklessness • Talking and texting on cellphone while driving • Impatience and road rage • Driving at excessive speed • Third party error | I16: Contractors and Eskom Lines and Servitudes employees | J16: Lines and Servitudes Manager | K16: Daily | L16: Fatalities Lost Time Injury Medical Incident Property damage | M16: Elimination: Not possible Substitution: Not possible Engineering controls: Not possible Administrative controls: • Monitor and analyse driver behaviour on EKS vehicle monitoring system and encourage good driving • Drivers are limited to three people per vehicle as per TEXCO decision. • Discuss Southern Grid driving charter during statutory safety meetings / departmental meetings • Monitor and analyse Drive cam system that is installed on Eskom SG vehicles. • Implement recommendations as per driver assessment outcome • Life Saving rules are available. • Training was done for Drive Cam. • EKS Vehicle reports are analysed. Personal protective equipment (PPE): None | N16: 6 | O16: B | P16: I | Q16: Fully effective | R16: Maintain and monitor existing controls | S16: Monitoring Observation | T16: L&S Plant Supervisors, Contractor site Supervisor | U16: • Occupational Health and Safety Act (Act No. 85 of 1993) • National Road Traffic Act, 1996 (Act No. 93 of 1996) • 240-62946386 Vehicle and Driver Safety Management Procedure 32-345 Vehicle safety specification Latest rev. 240-62990141 Driver risk profile assessment • 240-43848327 Right to Refuse to Work in an unsafe condition procedure • 32-285 Medical surveillance • 32-95 Latest Rev. Environmental, Occupational Health and Safety Incident Management Procedure • 240-131838225 Occupational Health and Safety Incident Management Definitions and Classication Parameters • 240-4388327 Latest Rev Employees right of refusal to work in an unsafe situation Procedure • 32-477 Safety Health and Environment Training and Development • 240-75567900 Manual for Internal QualityAssurance Management of the Eskom Occupational Hygiene Approved Inspection Authority | V16: N/A | W16: N/A | X16: N/A
B17: R | D17: Exposure to pedestrians and third party drivers | E17: 4.6 | F17: Injuries | G17: Safety | H17: • Lack of driver experience • Not driving often • Lack of concentration | I17: Contractors and Eskom Lines and Servitudes employees | J17: Lines and Servitudes Manager | K17: Daily | L17: First Aid Medical Incident Lost Time Injury Fatality Property damage | M17: Elimination: Not possible Substitution: Not possible Engineering controls: Not possible Administrative controls: • All drivers driving for Eskom business are in possession of valid driver's licence, Eskom permit and specialised driver licence. • Eskom Drivers undergo defensive driver training and driver evaluation before issued with Eskom driver permit or authorised to drive for Eskom business. • Inexperienced drivers drive under close supervision of experienced driver. • All drivers to do 2 yearly driver risk profile assessment • Driver evaluation assessment is conducted to All Eskom drivers. Personal protective equipment (PPE): None | N17: 6 | O17: B | P17: I | Q17: Fully effective | R17: Maintain and monitor existing controls | S17: Proof of Assessment evaluation, Incident trends | T17: L&S Plant Supervisors, Contractor site Supervisor | U17: • Occupational Health and Safety Act (Act No. 85 of 1993) • National Road Traffic Act, 1996 (Act No. 93 of 1996) • 240-62946386 Vehicle and Driver Safety Management Procedure 32-345 Vehicle safety specification Latest rev. 240-62990141 Driver risk profile assessment • 240-43848327 Right to Refuse to Work in an unsafe condition procedure | V17: N/A | W17: N/A | X17: N/A
B18: R | D18: Health Condition | E18: 4.7 | F18: Injuries which are likely to be fatal. | G18: Safety | H18: • Inadequate medical surveillance • Not informing Supervisor about the existing health condition | I18: Contractors and Eskom Lines and Servitudes employees | J18: Lines and Servitudes Manager | K18: Daily | L18: First Aid Medical Incident Lost Time Injury Fatality Property damage | M18: Elimination: Not possible Substitution: Not possible Engineering controls: Not possible Administrative controls: • All drivers before allowed to drive for Eskom business do medical surveillance and be in possession of Eskom permit. • Drivers are encouraged to inform their Managers/ Supervisors of any existing health conditions that render them unfit to drive. Personal protective equipment (PPE): None | N18: 6 | O18: B | P18: I | Q18: Fully effective | R18: Maintain and monitor existing controls | S18: Inspection Audit, Incident trends | T18: L&S Plant Supervisors, Contractor site Supervisor | U18: • Occupational Health and Safety Act (Act No. 85 of 1993) • National Road Traffic Act, 1996 (Act No. 93 of 1996) • 240-62946386 Vehicle and Driver Safety Management Procedure 32-345 Vehicle safety specification Latest rev. 240-62990141 Driver risk profile assessment • 240-43848327 Right to Refuse to Work in an unsafe condition procedure | V18: N/A | W18: N/A | X18: N/A
B19: R | D19: Exposure to unfavourable weather conditions due to Mist/Fog/heavy rain | E19: 4.8 | F19: Vehicle accidents which will result in multiple injuries and/or fatalities as well as property damage. | G19: Safety | H19: • Inadequate planning • Lack of driver experience • Poor visibility due to rain, mists, etc | I19: Contractors and Eskom Lines and Servitudes employees | J19: Lines and Servitudes Manager | K19: Depending on season or weather condition | L19: Fatalities Lost Time Injury Medical Incident Property damage | M19: Elimination: Not possible Substitution: Not possible Engineering controls: Not possible Administrative controls: • Drivers to do risk assessment as they drive and adjust speed as per the environmental condition. • Drivers to be cautious when driving in an adverse weather condition and plan the routes properly.Use drivers lights at all times to be seen by other road users. • Awareness during SHEQ meetings/ lessons learned/ road safety campaigns/ Driver risk evaluation/Defensive & advance driving training Personal protective equipment (PPE): None | N19: 6 | O19: B | P19: I | Q19: Fully effective | R19: Maintain and monitor existing controls | S19: Observation, Incident trends, Monitoring | T19: L&S Plant Supervisors, Contractor site Supervisor | U19: • Occupational Health and Safety Act (Act No. 85 of 1993) • National Road Traffic Act, 1996 (Act No. 93 of 1996) • 240-62946386 Vehicle and Driver Safety Management Procedure 32-345 Vehicle safety specification Latest rev. 240-62990141 Driver risk profile assessment • 240-43848327 Right to Refuse to Work in an unsafe condition procedure | V19: N/A | W19: N/A | X19: N/A
B20: R | D20: Exposure to stray animals/ Interaction with animals on the road | E20: 4.9 | F20: Collision that result in accidents with injuries and/or fatalities. | G20: Safety | H20: • Inadequate Risk assessment • Driving very early in the morning or at night • Not keeping to speed limits • Animals running into the road | I20: Contractors and Eskom Lines and Servitudes employees, member of public | J20: Lines and Servitudes Manager | K20: Daily | L20: First Aid, Medical Incident Lost Time Injury Fatalities, Property damage | M20: Elimination: Not possible Substitution: Not possible Engineering controls: Not possible Administrative controls: • Be on the lookout for animals on the road or on the sides of the road. • Adjust speed where necessary and as per the road warning signs Personal protective equipment (PPE): None | N20: 6 | O20: B | P20: I | Q20: Fully effective | R20: Maintain and monitor existing controls | S20: Observation, Incident trends | T20: L&S Plant Supervisors, Contractor site Supervisor | U20: • Occupational Health and Safety Act (Act No. 85 of 1993) • National Road Traffic Act, 1996 (Act No. 93 of 1996) • 240-62946386 Vehicle and Driver Safety Management Procedure 32-345 Vehicle safety specification Latest rev. 240-62990141 Driver risk profile assessment • 240-43848327 Right to Refuse to Work in an unsafe condition procedure | V20: N/A | W20: N/A | X20: N/A
B21: R | D21: Exposure to unfavourable road conditions eg road construction, road works, bends, steep heels, rail crossings etc | E21: 4.1 0 | F21: Vehicle accidents which will result in multiple injuries and/or fatalities as well as property damage. | G21: Safety | H21: • Loss of control to the vehicle. • Inadequate Risk assessment • Uneven, damaged and gravel road conditions and bad terrain | I21: Contractors and Eskom Lines and Servitudes employees, member of public | J21: Lines and Servitudes Manager | K21: Daily | L21: First Aid, Medical Incident Lost Time Injury Fatalities, Property damage | M21: Elimination: Not possible Substitution: Not possible Engineering controls: Not possible Administrative controls: • Caution should be taken when driving in an uneven, damaged and gravel road conditions or an alternative route should be taken. • Reduce speed as per road condition. • Adhere to prescribed speed limit and road warning signs. • Awareness during SHEQ meetings/ lessons learned/ road safety campaigns/ Driver risk evaluation/Defensive driving training. • Drivers are not allowed to drive over 60kms on gravel roads. • Effective coaching of drive cam and EKS vehicle analysis. Personal protective equipment (PPE): None | N21: 6 | O21: B | P21: I | Q21: Fully effective | R21: Maintain and monitor existing controls | S21: Observation, Incident trends | T21: L&S Plant Supervisors, Contractor site Supervisor | U21: • Occupational Health and Safety Act, 1993 (Act No. 85 of 1993) • National Road Traffic Act, 1996 (Act No. 93 of 1996) • 240-62946386 Vehicle and Driver Safety Management Procedure 32-345 Vehicle safety specification Latest rev. 240-62990141 Driver risk profile assessment • 240-43848327 Right to Refuse to Work in an unsafe condition procedure • 240-62196227 Eskom life saving rules procedure • 240-62946386 Vehicle Driver Safety Management Procedure • 32-520 Occupational Health & Safety Risk Assessment Procedure | V21: N/A | W21: N/A | X21: N/A
B22: R | D22: Exposure to night time driving in an emergency situation | E22: 4.11 | F22: Vehicle accidents which will result in injuries and/or fatalities as well as property damage. | G22: Safety | H22: Poor visibility, poor road surfaces including potholes | I22: Contractors and Eskom Lines and Servitudes employees, member of public | J22: Lines and Servitudes Manager | K22: Daily | L22: First Aid, Medical Incident Lost Time Injury Fatalities, Property damage | M22: Elimination: Not possible Substitution: Not possible Engineering controls: Not possible Administrative controls: • Caution should be taken when driving in an uneven, damaged and gravel road conditions or an alternative route should be taken. • Reduce speed as per road condition. • Adhere to prescribed speed limit and road warning signs. • Awareness during SHEQ meetings/ lessons learned/ road safety campaigns/ Driver risk evaluation/Defensive & advance driving training. • Drivers driving in pairs. Personal protective equipment (PPE): None | N22: 6 | O22: B | P22: I | Q22: Fully effective | R22: Maintain and monitor existing controls | S22: Incidents trend/Safety Stats | T22: L&S Plant Supervisors, Contractor site Supervisor | U22: • Occupational Health and Safety Act, 1993 (Act No. 85 of 1993) • National Road Traffic Act, 1996 (Act No. 93 of 1996) • 240-62946386 Vehicle and Driver Safety Management Procedure 32-345 Vehicle safety specification Latest rev. 240-62990141 Driver risk profile assessment • 240-43848327 Right to Refuse to Work in an unsafe condition procedure • 240-62196227 Eskom life saving rules procedure • 240-62946386 Vehicle Driver Safety Management Procedure • 32-520 Occupational Health & Safety Risk Assessment Procedure | V22: N/A | W22: N/A | X22: N/A
B23: R | D23: Public protest | E23: 4.12 | F23: Industrial/Political Unrest | G23: Safety | H23: Property theft Vandalism | I23: Eskom Employees Contractors | J23: Lines and Servitudes Manager | K23: Rare ( Once a year) | L23: First-aid treatment case Medical Lost Time Injury Fatalities Property damage | M23: Elimination: Not possible Substitution: Not possible Engineering controls: Not possible Administrative controls: • Route risk assessment • Keep informed through media platforms • Avoid areas where there are protests • Make use of alternative routes • Lessons learnt are shared throughout the Grid Personal protective equipment (PPE): None | N23: 6 | O23: B | P23: I | Q23: Fully effective | R23: Maintain and monitor existing controls | S23: Incident trends | T23: L&S Supervisors, Contractor site Supervisor | U23: PSIRA Security Operating Procedures Occupational Health and Safety Act, Act 85 of 1993 (OHS Act) 32-520 Occupational Health & Safety Risk Assessment Procedure 32-95 Latest Rev. Occupational Health and Safety Incident Management Procedure 240-131838225 Occupational Health and Safety Incident Management Definitions and Classification Parameters Std | V23: N/A | W23: N/A | X23: N/A
B24: R | D24: Driving on difficult terrains | E24: 4.13 | F24: Loss of control of vehicle Property damage | H24: Soil erosion Damaged roads Anthills Vegetation that blocks the access road to the line/towers | I24: Eskom Employees Contractors | J24: Lines and Servitudes Manager | K24: Daily | L24: First-aid treatment case Medical Lost Time Injury Fatalities Property damage | M24: Elimination: Not possible Substitution: Not possible Engineering controls: Not possible Administrative controls: • Pretrip inspections • Route risk assessment • Driver training • Driving safe work method • Make use of alternative routes • Lessons learnt are shared throughout the Grid Personal protective equipment (PPE): None | N24: 6 | O24: C | P24: I | Q24: Mostly effective | R24: Engineering Control: the use of vehicles with hamer bumper | S24: Incident trends | T24: L&S Supervisors, Contractor site Supervisor | U24: • Occupational Health and Safety Act, 1993 (Act No. 85 of 1993) • National Road Traffic Act, 1996 (Act No. 93 of 1996) • 240-62946386 Vehicle and Driver Safety Management Procedure 32-345 Vehicle safety specification Latest rev. 240-62990141 Driver risk profile assessment • 240-43848327 Right to Refuse to Work in an unsafe condition procedure • 240-62196227 Eskom life saving rules procedure • 32-520 Occupational Health & Safety Risk Assessment Procedure • 32-95 Latest Rev. Environmental, Occupational Health and Safety Incident Management Procedure • 240-131838225 Occupational Health and Safety Incident Management Definitions and Classication Parameters | V24: 45870 | W24: In progress | X24: N/A
B25: R | D25: Difficulty of controlling 4 X 4 wheel vehicle on steepy and incline roads, loose gravel, muddy and slippery | E25: 4.14 | F25: Collisions, lose control, driver overturn car, damage to vehicle, getting stuck in the mud | G25: Safety | H25: • Roads that are too steep to ascend or descend • Speed that is too high for the terrain • Bad terrains • Lack of driver skills, experience and training • Inadequate Risk assessment | I25: Contractors and Eskom Lines and Servitudes employees | J25: Lines and Servitudes Manager | K25: All year round | L25: First Aid, Medical Incident Lost Time Injury Fatalities, Property damage | M25: Elimination: Not possible Substitution: Not possible Engineering controls: Not possible Administrative controls: • 4 X 4 Training is provided to all employees • Driver evaluation and Permit issued specifically for driving 4 X 4 • Driver risk profile assessment are done • Driver safety initiatives and safety talks • BSO's and Job observations are done • EKS REPORT is monitored • Pre trip inspections are done Personal protective equipment (PPE): None | N25: 6 | O25: B | P25: I | Q25: Fully effective | R25: Maintain and monitor existing controls | S25: EKS Vehicle monitoring Incident trends Audit | T25: L&S Plant Supervisors, Contractor site Supervisor | U25: • Occupational Health and Safety Act, 1993 (Act No. 85 of 1993) • National Road Traffic Act, 1996 (Act No. 93 of 1996) • 240-62946386 Vehicle and Driver Safety Management Procedure 32-345 Vehicle safety specification Latest rev. 240-62990141 Driver risk profile assessment • 240-43848327 Right to Refuse to Work in an unsafe condition procedure • 240-62196227 Eskom life saving rules procedure • 240-62946386 Vehicle Driver Safety Management Procedure • 32-520 Occupational Health & Safety Risk Assessment Procedure • 32-285 Medical surveillance | V25: N/A | W25: N/A | X25: N/A
A26: Delivery of the products on sites/ Office environment | B26: R | C26: 1 | D26: Electrical and network cords, Peeling floor carpet | E26: 1.1 | F26: trip and falls | G26: Safety | H26: When they are crossing around, and Not in a holder or skirting, and people walks on them, Carpets pealing off/ up | I26: Office occupants | J26: Grid Manager | K26: Daily, 8 hours | L26: Slips, Trips and Falling | M26: Elimination: Not possible Substitution: Not possible Engineering controls: Not possible Administrative controls: 1. Install electrical plugs and network land points in close proximity of workstation to prevent trips and falls resulting from crossing cables 2. Provide and use skirting's or cable holders to keep cables together 3. Provide training on basic office safety and on office ergonomics Personal protective equipment (PPE): None | N26: 2 | O26: 3 | P26: III | Q26: Fully effective | R26: Maintain and monitor existing controls | S26: OHS inspections | T26: Departmental manager | U26: • Occupational Health and Safety Act (Act No. 85 of 1993) • General Safety Regulations, 1986 • General Administrative Regulations, 2003 • 32-477 Safety Health and Environment Training and Development • 32-285 Medical surveillance • 32-95 Latest Rev-Occupational Health and Safety Incident Management Procedure • 240-131838225 Occupational Health and Safety Incident Management Definitions and Classication Parameters • Eskom SHEQ policy 32-727 • OHS Baseline Risk Assessment 32-520 | V26: N/A | W26: N/A | X26: N/A
B27: R | D27: The use of Staircases | E27: 1.8 | F27: Possible falling | G27: Safety | H27: 1. Frequent use of stairs to access toilet facilities 2. Nt using handrails when ascending or descending the staircases | I27: Employees, Contractors and Visitors | J27: Grid Manager | K27: Daily; 8 hours | L27: Possible Injury and Fatality | M27: Elimination: Not possible Substitution: Not possible Engineering controls: Not possible Administrative controls: 1. Awareness raised on the use of handrails when ascending or descending stairs 2. Signage's placed next to staircases 3. Behavioural safety Obervations, VFL Personal protective equipment (PPE): None | N27: 4 | O27: 3 | P27: II | Q27: Fully effective | R27: Maintain and monitor existing controls | S27: Incidents records | T27: Departmental manager | U27: • Occupational Health and Safety Act (Act No. 85 of 1993) • General Safety Regulations, 1986 • General Administrative Regulations, 2003 • 32-477 Safety Health and Environment Training and Development • 32-285 Medical surveillance • 32-95 Latest Rev-Occupational Health and Safety Incident Management Procedure • 240-131838225 Occupational Health and Safety Incident Management Definitions and Classication Parameters • Eskom SHEQ policy 32-727 • OHS Baseline Risk Assessment 32-520 | V27: N/A | W27: N/A | X27: N/A
B28: N | D28: Poor Housekeeping | E28: 1.9 | F28: Possible fire and trips and falls | G28: Safety | H28: Poor housekeeping, poor waste management, N proper storage area | I28: Employees, Contractors | J28: Grid Manager | K28: Daily | L28: Possible Injury | M28: Elimination: Not possible Substitution: Not possible Engineering controls: Not possible Administrative controls: 1. Proper Storage areas available 2. SHE Inspections conducted 3. Restrict access 4. Emergency preparedness procedure 5. Continuous awareness raised on Good housekeeping practices Personal protective equipment (PPE): None | N28: 3 | O28: 3 | P28: II | Q28: Fully effective | R28: Maintain and monitor existing controls | S28: Auditing and inspections | T28: HV Plant Manager | U28: • Occupational Health and Safety Act (Act No. 85 of 1993) • General Safety Regulations, 1986 • General Administrative Regulations, 2003 • 32-477 Safety Health and Environment Training and Development • 32-285 Medical surveillance • 32-95 Latest Rev-Occupational Health and Safety Incident Management Procedure • 240-131838225 Occupational Health and Safety Incident Management Definitions and Classication Parameters • Eskom SHEQ policy 32-727 • OHS Baseline Risk Assessment 32-520 | V28: N/A | W28: N/A | X28: N/A
B29: R | D29: Passenger Lift failure | E29: 1.1 0 | F29: Trapped, crushed, struck by the lift,suffocation in the lift | G29: Safety | H29: • Use of passengers lift/ Improper use (too many people in the lift at one time resulting in exceeding max weight) • Improper lift maintenance • No or inadequate inspection • Service done by incompetent person | I29: Eskom Employees Contractors Visitors | J29: Landlord/ Grid Manager | K29: Work hours | L29: First-aid incident Medical incident, Lost time injuries | M29: Elimination: Not possible Substitution: Not possible Engineering controls: Not possible Administrative controls: • Ensure that Lift is inspected by authorised competent person and deemed safe to use • Competent lift service provider is doing inspection, maintenance of the lift. • Sign showing maximum maximum allowed weight for the lift, no of people allowed is available. • In case of emergency, alarm and emergency numbers are available inside the lift. • Obtain a service provider lift inspection report that is signed and The report copy must be kept for audt purposes • No person is/ shall be conveyed in a defective lift until such a defect has been rectified. • The 24 months interval inspection and test are done. • Lessons learnt from previous incidences are shared. Personal protective equipment (PPE): None | N29: 4 | O29: B | P29: III | Q29: Fully effective | R29: Maintain and monitor existing controls | S29: Get proof of inspections and service of lift from ERE/ Owner | T29: Departmental Manager | U29: • Occupational Health and Safety Act (Act No. 85 of 1993) • Compensation for Occupational Injuries and Diseases Act, Act 130 of 1993 (COID) • General Safety Regulations, 1986 • General Administrative Regulations, • Lift, Escalator and passenger conveyor regulations • 32-95 Latest Rev-Occupational Health and Safety Incident Management Procedure • 240-131838225 Occupational Health and Safety Incident Management Definitions and Classication Parameters • EP Plans for the Grid | V29: N/A | W29: NA | X29: NA
B30: R | C30: 2 | D30: Exposure to insufficient/ poor illumination | E30: 2.1 | F30: Poor illumination which may result in strain on the eyes, glare, shadows, visual problems. | G30: Health | H30: • Ineffective maintenance • Improper lamp positioning • Uncontrolled natural direct light • Flickering lights can induce visual discomfort, headaches and stroboscopic effects (optical illusions) particularly in sensitive individuals. | I30: Contractors | J30: Grid Manager | K30: Work hours | L30: First-aid treatment case, and temporary discomfort case | M30: Elimination: Not possible Substitution: Not possible Engineering controls: Not possible Administrative controls: • Adjustable blinds on windows and Indirect lighting provided in order to regulate the amount of natural lighting. • Illumination: Report defective / faulty luminaries and lamps. Such reporting must be followed by swift maintenance response. • Conduct occupational hygiene surveys as per the OHS Act requirments. • SHE Rep Inspection Personal protective equipment (PPE): None | N30: 2 | O30: C | P30: III | Q30: Mostly effective | R30: Hygiene surveys to be conducted by Eskom Hygienist as per their schedule | S30: 1. Hygiene Surveys 2. Maintenance Records 3. Inspection Records | T30: Departmental Manager | U30: • Occupational Health and Safety Act, Act 85 of 1993 • Compensation for Occupational Injuries and Diseases Act, Act 130 of 1993 (COID) • Environmental Regulations for Workplaces, 1987 • General Safety Regulations, 1986 • General Administrative Regulations, 2003 • Facilities Regulations, 1990 • 240 - 75567900 Manual for Internal Quality Assurance Management of the Eskom Occupational Hygiene Approved Inspection Authority • 32-520 Occupational Health & Safety Risk Assessment Procedure • 32-477 Safety Health and Environment Training and Development • 32-285 Medical surveillance • 32-95 Latest Rev- Occupational Health and Safety Incident Management Procedure • 240-131838225 Occupational Health and Safety Incident Management Definitions and Classication Parameters | V30: Ongoing as per the schedule | W30: Pending | X30: NA
B31: R | D31: Walking • Exposure to slippery surfaces • Exposure to uneven surfaces • Use of staircases | E31: 2.4 | F31: • Slippery floor during mopping and after fluid spillages • Loose or broken tiles • Slip/ trip and fall | G31: Safety | H31: • Washing the floors or spilling on the floor • Damages tiles eg wear and tear • Not holding on the hand rail | I31: Eskom Employees Contractors Visitors | J31: Grid Manager | K31: Work hours | L31: First-aid treatment case, and temporary discomfort case, Medical and Lost Time Incidents | M31: Elimination: Not possible Substitution: Not possible Engineering controls: Not possible Administrative controls: • Floor slippery warning signs are posted where floor is washed. • SHE Rep inspection • Signage on the staircase (hold handrail) • Sharing of lessons learnt for similar incidents Personal protective equipment (PPE): None | N31: 4 | O31: B | P31: III | Q31: Fully effective | R31: Maintain and monitor existing controls | S31: BSO's Incident records SHE Rep inspection | T31: Departmental Manager | U31: • Occupational Health and Safety Act (Act No. 85 of 1993) • General Safety Regulations, 1986 • General Administrative Regulations, 2003 • 32-477 Safety Health and Environment Training and Development • 32-285 Medical surveillance • 32-95 Latest Rev-Occupational Health and Safety Incident Management Procedure • 240-131838225 Occupational Health and Safety Incident Management Definitions and Classication Parameters | V31: NA | W31: NA | X31: NA
B32: R | D32: Poor housekeeping in offices | E32: 2.7 | F32: Tripping and falls that could result in injuries | G32: Safety | H32: • Inadequate inspection • Poor housekeeping • Obstructions on exits or egress • Loose electrical cables on the floors • Lack of storage facilities | I32: Eskom Employees Contractors Visitors | J32: Grid Manager | K32: Work hours | L32: • First-aid treatment case, and temporary discomfort case, • Medical incidents | M32: Elimination: Not possible Substitution: Not possible Engineering controls: Not possible Administrative controls: • Cords are kept out of aisles. • Hygiene surveys are conducted • Proper storage areas are provided • SHE Rep inspections are conducted • Awareness is conducted Personal protective equipment (PPE): None | N32: 3 | O32: A | P32: IV | Q32: Fully effective | R32: Maintain and monitor existing controls | S32: SHE Rep Inspection Hygiene surveys (Ergonomics) | T32: Departmental Manager | U32: • Occupational Health and Safety Act, Act 85 of 1993 • Compensation for Occupational Injuries and Diseases Act, Act 130 of 1993 (COID) • Environmental Regulations for Workplaces, 1987 • General Safety Regulations, 1986 • General Administrative Regulations, 2003 • Facilities Regulations, 1990 • 32-95 Latest Rev-Occupational Health and Safety Incident Management Procedure • 240-131838225 Occupational Health and Safety Incident Management Definitions and Classication Parameters- • 32-123Latest Rev Emergency planning • 32-477 Safety Health and Environment Training and Development | V32: NA | W32: NA | X32: NA
B33: R | D33: Ergonomics due to improper lifting, pushing, pulling - manual handling of heavy material, loading and offloading water bottles | E33: 2.8 | F33: Musculoskeletal disorder : Muscle sprains and strains resulting in back, neck, wrist pains and/or shoulder pains due to ergonomic stress | G33: Health | H33: • Lack of awareness training / experience • Incorrect lifting techniques • Inadequate supervision- Lifting heavy, large, difficult to grasp or unstable load • Tasks too strenuous or involving awkward postures or movements • Working environment lacking sufficient space, having slippery, uneven or unstable surfaces • Ineffective PPE • Lack of concentration • Inadequate Risk assessment | I33: Eskom Employees | J33: Grid Manager | K33: Work hours | L33: First-aid treatment case, and temporary discomfort case • Medical incidents | M33: Elimination: Not possible Substitution: Not possible Engineering controls: Not possible Administrative controls: • Risk Assessment to be conducted • Ergonomics awareness training are conducted Personal protective equipment (PPE): None | N33: 3 | O33: B | P33: III | Q33: Mostly effective | R33: Maintain and monitor existing controls | S33: BSO's Incident records | T33: Departmental Manager | U33: • Occupational Health and Safety Act, Act 85 of 1993 • Compensation for Occupational Injuries and Diseases Act, Act 130 of 1993 (COID) • Environmental Regulations for Workplaces, 1987 • General Safety Regulations, 1986 • General Administrative Regulations, 2003 • 32-477 Safety Health and Environment Training and Development • 240-44175132 Eskom Personal Protective Equipment • 32-285 Medical surveillance • 32-95 Latest Rev-Occupational Health and Safety Incident Management Procedure • 240-131838225 Occupational Health and Safety Incident Management Definitions and Classication Parameters • 240-43848327 T19 Right to refuse Procedure • Ergonomics Regulation, 2019 | V33: As and when required | W33: NA | X33: NA
A34: Walking in the parking area of the office buildings | B34: R | C34: 4 | D34: Pedestrian knocked over | E34: 4.1 | F34: Injury of pedestrian | G34: Safety | H34: Failure of the pedestrian to notice moving vehicle and driver to see pedestrian | I34: Eskom Employees/ Contractors Visitors | J34: Grid Manager | K34: All hours | L34: First-aid incident , Medical incident , Lost time injuries | M34: Elimination: Not possible Substitution: Not possible Engineering controls: Not possible Administrative controls: Awareness info sharing about hazards and risk associated with walking/ driving on parking areas Personal protective equipment (PPE): None | N34: 4 | O34: A | P34: III | Q34: Fully effective | R34: Maintain and monitor existing controls | S34: Monitor related incident trends | T34: Departmental Manager | U34: • Occupational Health and Safety Act (Act No. 85 of 1993) • Compensation for Occupational Injuries and Diseases Act, • Environmental Regulations for Workplaces, 1987 • General Safety Regulations, 1986 • General Administrative Regulations, 2003 • Facilities Regulations, 1990 Hazardous Chemical Substances Regulations • 32-95 Latest Rev-Occupational Health and Safety Incident Management Procedure • 240-131838225 Occupational Health and Safety Incident Management Definitions and Classication Parameters • Right to Refuse to Work in an unsafe condition procedure • 32-477 Safety Health and Environment Training and Development | V34: NA | W34: NA | X34: NA
A35: Parking at the basement area at office building | B35: R | C35: 5 | D35: Colliding with the airconditioners(mounted on the walls) on the certain parking bays | E35: 5.1 | F35: Human Injury Damage to property | G35: Safety | H35: • Air-conditioner outside units mounted on basement parking walls, in parking space. • Poor general lighting in the basement. | I35: Eskom Employees/ Contractors Visitors | J35: Grid Manager | K35: All hours | L35: First-aid incident , Medical incident, Property Damage | M35: Elimination: Not possible Substitution: Not possible Engineering controls: Not possible Administrative controls: • Drivers are not allowed to reverse park on the bays with aircons • Sufficient lighting is available on the bays and should be maintained on regular basis • SHE Rep inspections are conducted • Communication is done to employees regarding the parking arrangements Personal protective equipment (PPE): None | N35: 3 | O35: C | P35: II | Q35: Mostly effective | R35: Maintain and monitor existing controls | S35: BSO's Incident records | T35: Departmental Manager/ ERE | U35: • Occupational Health and Safety Act (Act No. 85 of 1993) • Compensation for Occupational Injuries and Diseases Act, • Environmental Regulations for Workplaces, 1987 • General Safety Regulations, 1986 • General Administrative Regulations, 2003 • Facilities Regulations, 1990 • 32-95 Latest Rev-Occupational Health and Safety Incident Management Procedure • 240-131838225 Occupational Health and Safety Incident Management Definitions and Classication Parameters • Right to Refuse to Work in an unsafe condition procedure • 32-477 Safety Health and Environment Training and Development • HR Procedure | V35: Pending | W35: NA | X35: NA
B36: R | D36: Colliding with the supporting structures that are painted in dark colours at the basement | E36: 5.2 | F36: Damage to property | G36: Safety | H36: • Supporting structures that are painted in dark colours at the basement are poorly visible | I36: Eskom Employees/ Contractors Visitors | J36: Grid Manager | K36: All hours | L36: Property Damage | M36: Elimination: Not possible Substitution: Not possible Engineering controls: Not possible Administrative controls: • Sufficient lighting is available Personal protective equipment (PPE): None | N36: 3 | O36: C | P36: II | Q36: Mostly effective | R36: Reflectors to be used on the supporting structure to make them visible | S36: Incident records | T36: Departmental Manager/ ERE | U36: • Occupational Health and Safety Act (Act No. 85 of 1993) • Compensation for Occupational Injuries and Diseases Act, • Environmental Regulations for Workplaces, 1987 • General Safety Regulations, 1986 • General Administrative Regulations, 2003 • Facilities Regulations, 1990 • 32-95 Latest Rev-Occupational Health and Safety Incident Management Procedure • 240-131838225 Occupational Health and Safety Incident Management Definitions and Classication Parameters • Right to Refuse to Work in an unsafe condition procedure • 32-477 Safety Health and Environment Training and Development • HR Procedure | V36: Pending | W36: NA | X36: NA
A37: Parking in front of the offices parking bays | B37: R | C37: 6 | D37: Elevated parking bay might result in a car falling over into othe road | E37: 6.1 | F37: Injuries Damage to property | G37: Safety | H37: Elevated parking bays Lack of concentration Fatigue | I37: Eskom employees / Contractors Visitors | J37: Grid Manager | K37: All hours | L37: First-aid incident , Medical incident , Lost time injuries, property damage | M37: Elimination: Not possible Substitution: Not possible Engineering controls: Not possible Administrative controls: Short wall that is build to prevent the cars from falling over the road Trees are planted before the wall but not on all parking bays Personal protective equipment (PPE): None | N37: 4 | O37: B | P37: III | Q37: Mostly effective | R37: • Take into consideration not to reverse park on the identified parking bays • Stock bricks to be installed on the parking bays to prevent the cars from hittiing the short wall and falling over to the road | S37: Monitor related incident trends | T37: Departmental Manager/ ERE | U37: • Occupational Health and Safety Act (Act No. 85 of 1993) • Compensation for Occupational Injuries and Diseases Act, • Environmental Regulations for Workplaces, 1987 • General Safety Regulations, 1986 • General Administrative Regulations, 2003 • Facilities Regulations, 1990 • 32-95 Latest Rev-Occupational Health and Safety Incident Management Procedure • 240-131838225 Occupational Health and Safety Incident Management Definitions and Classication Parameters • Right to Refuse to Work in an unsafe condition procedure • 32-477 Safety Health and Environment Training and Development • HR Procedure | V37: Pending | W37: NA | X37: NA
B38: R | D38: Parking bays lines are poorly visible | E38: 6.2 | F38: Damage to property | G38: Safety | H38: Parking bays are made of grey dark pavers and parking lines are grey as well (Similar colours of pavers and the parking lines for marking) | I38: Eskom employees / Contractors Visitors | J38: Grid Manager | K38: All hours | L38: Property Damage | M38: Elimination: Not possible Substitution: Not possible Engineering controls: Not possible Administrative controls: - Light grey pavers are available but poorly visible Personal protective equipment (PPE): None | N38: 1 | O38: B | P38: IV | Q38: Fully effective | R38: Maintain and monitor existing controls | S38: Monitor related incident trends | T38: Departmental Manager/ ERE | U38: • Occupational Health and Safety Act (Act No. 85 of 1993) • Compensation for Occupational Injuries and Diseases Act, • Environmental Regulations for Workplaces, 1987 • General Safety Regulations, 1986 • General Administrative Regulations, 2003 • Facilities Regulations, 1990 • 32-95 Latest Rev-Occupational Health and Safety Incident Management Procedure • 240-131838225 Occupational Health and Safety Incident Management Definitions and Classication Parameters • Right to Refuse to Work in an unsafe condition procedure • 32-477 Safety Health and Environment Training and Development • HR Procedure | V38: Pending | W38: NA | X38: NA

Sheet Contractor Baseline template
A3: Occupational Health and Safety Baseline risk assessment template
A4: Business/Operating unit: | K4: Next Review Date (every 2 years): | L4: Template identifier:
A6: Date: | F6: Authorised by: | H6: Name: | K6: Document identifier | AA6: R | AB6: Safety | AC6: 1 | AD6: A | AE6: Fully effective | AF6: I
H7: Designation: | K7: Revision number: | L7: 5 | AA7: N | AB7: Health | AC7: 2 | AD7: B | AE7: Mostly effective | AF7: II
H8: Signed: | K8: Revision date: | L8: 45777 | AC8: 3 | AD8: C | AE8: Mostly ineffective | AF8: III
A9: Refer to Occupational Health and Safety Risk assessment procedure 32-520 | AC9: 5 | AD9: E
A10: List activity | B10: Hazard Identification | C10: Associated risk | D10: Risk type | E10: What are the possible consequences? | F10: Existing Controls | I10: Risk Priority Rating | K10: Control Owner | L10: Legal and Other Requirements | AC10: 6
A11: List specific activities to be performed taking into consideration the equipment to be used, the personnel involved in the task. | B11: Anything with potential to cause of harm. Note: A hazard can pose more than one risk. | C11: A chance that injury , ill health or damage could occur as a result of uncontrolled hazard. | D11: Safety or health | E11: Consider the worse case scenario without controls? | F11: Include: - Preventative Controls (controls implemented to eliminate hazards or reduce the likelihood of the risk occurring), and - Reactive Controls (controls implemented to reduce the immediate impact of the risk occurring) Elimination Substitution Engineering controls Administrative controls Personal protective equipment (PPE) | G11: Consequence | H11: Likelihood | J11: RCE Risk Control Effectiveness | K11: Person allocated the responsibility for implementing the agreed controls | L11: Where relevant, list the relevant legislative and or Eskom requirements that prescribe the control.
A12: =IF('PPE Contract BRA'!A12="","",'PPE Contract BRA'!A12) -> Driving National road Public road Terrain / servitudes | B12: =IF('PPE Contract BRA'!A12="","",'PPE Contract BRA'!D12) -> Driving Unroadworthy vehicles | C12: =IF('PPE Contract BRA'!A12="","",'PPE Contract BRA'!F12) -> Motor vehicle accidents - vehicle breakdown/ Mechanical breakdown | E12: =IF('PPE Contract BRA'!A12="","",'PPE Contract BRA'!L12) -> First Aid Medical Lost Time Injury Incident Fatalities Property damage | F12: =IF('PPE Contract BRA'!A12="","",'PPE Contract BRA'!M12) -> Elimination: Not possible Substitution: Not possible Engineering controls: Not possible Administrative controls: • Pre –trip inspections to ensure that the vehicle is in good condition before driving. • Regular maintenance and vehicles are serviced regularly as per the manufature's specification or when required to ensure that the vehicle is in a roadworthy condition as per the manufature's instruction. Personal protective equipment (PPE): None | K12: =IF('PPE Contract BRA'!A12="","",'PPE Contract BRA'!T12) -> L&S Plant Supervisors, Contractor site Supervisor | L12: =IF('PPE Contract BRA'!A12="","",'PPE Contract BRA'!U12) -> • Occupational Health and Safety Act (Act No. 85 of 1993) • National Road Traffic Act, 1996 (Act No. 93 of 1996) • 240-62946386 Vehicle and Driver Safety Management Procedure 32-345 Vehicle safety specification Latest rev. 240-62990141 Driver risk profile assessment • 240-43848327 Right to Refuse to Work in an unsafe condition procedure • 32-285 Medical surveillance • 32-95 Latest Rev. Environmental, Occupational Health and Safety Incident Management Procedure • 240-131838225 Occupational Health and Safety Incident Management Definitions and Classication Parameters • 240-4388327 Latest Rev Employees right of refusal to work in an unsafe situation Procedure • 32-477 Safety Health and Environment Training and Development • 240-75567900 Manual for Internal QualityAssurance Management of the Eskom Occupational Hygiene Approved Inspection Authority
A13: =IF('PPE Contract BRA'!A13="","",'PPE Contract BRA'!A13) | B13: =IF('PPE Contract BRA'!A13="","",'PPE Contract BRA'!D13) | C13: =IF('PPE Contract BRA'!A13="","",'PPE Contract BRA'!F13) | E13: =IF('PPE Contract BRA'!A13="","",'PPE Contract BRA'!L13) | F13: =IF('PPE Contract BRA'!A13="","",'PPE Contract BRA'!M13) | K13: =IF('PPE Contract BRA'!A13="","",'PPE Contract BRA'!T13) | L13: =IF('PPE Contract BRA'!A13="","",'PPE Contract BRA'!U13)
A14: =IF('PPE Contract BRA'!A14="","",'PPE Contract BRA'!A14) | B14: =IF('PPE Contract BRA'!A14="","",'PPE Contract BRA'!D14) | C14: =IF('PPE Contract BRA'!A14="","",'PPE Contract BRA'!F14) | E14: =IF('PPE Contract BRA'!A14="","",'PPE Contract BRA'!L14) | F14: =IF('PPE Contract BRA'!A14="","",'PPE Contract BRA'!M14) | K14: =IF('PPE Contract BRA'!A14="","",'PPE Contract BRA'!T14) | L14: =IF('PPE Contract BRA'!A14="","",'PPE Contract BRA'!U14)
A15: =IF('PPE Contract BRA'!A15="","",'PPE Contract BRA'!A15) | B15: =IF('PPE Contract BRA'!A15="","",'PPE Contract BRA'!D15) | C15: =IF('PPE Contract BRA'!A15="","",'PPE Contract BRA'!F15) | E15: =IF('PPE Contract BRA'!A15="","",'PPE Contract BRA'!L15) | F15: =IF('PPE Contract BRA'!A15="","",'PPE Contract BRA'!M15) | K15: =IF('PPE Contract BRA'!A15="","",'PPE Contract BRA'!T15) | L15: =IF('PPE Contract BRA'!A15="","",'PPE Contract BRA'!U15)
A16: =IF('PPE Contract BRA'!A16="","",'PPE Contract BRA'!A16) | B16: =IF('PPE Contract BRA'!A16="","",'PPE Contract BRA'!D16) | C16: =IF('PPE Contract BRA'!A16="","",'PPE Contract BRA'!F16) | E16: =IF('PPE Contract BRA'!A16="","",'PPE Contract BRA'!L16) | F16: =IF('PPE Contract BRA'!A16="","",'PPE Contract BRA'!M16) | K16: =IF('PPE Contract BRA'!A16="","",'PPE Contract BRA'!T16) | L16: =IF('PPE Contract BRA'!A16="","",'PPE Contract BRA'!U16)
A17: =IF('PPE Contract BRA'!A17="","",'PPE Contract BRA'!A17) | B17: =IF('PPE Contract BRA'!A17="","",'PPE Contract BRA'!D17) | C17: =IF('PPE Contract BRA'!A17="","",'PPE Contract BRA'!F17) | E17: =IF('PPE Contract BRA'!A17="","",'PPE Contract BRA'!L17) | F17: =IF('PPE Contract BRA'!A17="","",'PPE Contract BRA'!M17) | K17: =IF('PPE Contract BRA'!A17="","",'PPE Contract BRA'!T17) | L17: =IF('PPE Contract BRA'!A17="","",'PPE Contract BRA'!U17)
A18: =IF('PPE Contract BRA'!A18="","",'PPE Contract BRA'!A18) | B18: =IF('PPE Contract BRA'!A18="","",'PPE Contract BRA'!D18) | C18: =IF('PPE Contract BRA'!A18="","",'PPE Contract BRA'!F18) | E18: =IF('PPE Contract BRA'!A18="","",'PPE Contract BRA'!L18) | F18: =IF('PPE Contract BRA'!A18="","",'PPE Contract BRA'!M18) | K18: =IF('PPE Contract BRA'!A18="","",'PPE Contract BRA'!T18) | L18: =IF('PPE Contract BRA'!A18="","",'PPE Contract BRA'!U18)
A19: =IF('PPE Contract BRA'!A19="","",'PPE Contract BRA'!A19) | B19: =IF('PPE Contract BRA'!A19="","",'PPE Contract BRA'!D19) | C19: =IF('PPE Contract BRA'!A19="","",'PPE Contract BRA'!F19) | E19: =IF('PPE Contract BRA'!A19="","",'PPE Contract BRA'!L19) | F19: =IF('PPE Contract BRA'!A19="","",'PPE Contract BRA'!M19) | K19: =IF('PPE Contract BRA'!A19="","",'PPE Contract BRA'!T19) | L19: =IF('PPE Contract BRA'!A19="","",'PPE Contract BRA'!U19)
A20: =IF('PPE Contract BRA'!A20="","",'PPE Contract BRA'!A20) | B20: =IF('PPE Contract BRA'!A20="","",'PPE Contract BRA'!D20) | C20: =IF('PPE Contract BRA'!A20="","",'PPE Contract BRA'!F20) | E20: =IF('PPE Contract BRA'!A20="","",'PPE Contract BRA'!L20) | F20: =IF('PPE Contract BRA'!A20="","",'PPE Contract BRA'!M20) | K20: =IF('PPE Contract BRA'!A20="","",'PPE Contract BRA'!T20) | L20: =IF('PPE Contract BRA'!A20="","",'PPE Contract BRA'!U20)
A21: =IF('PPE Contract BRA'!A21="","",'PPE Contract BRA'!A21) | B21: =IF('PPE Contract BRA'!A21="","",'PPE Contract BRA'!D21) | C21: =IF('PPE Contract BRA'!A21="","",'PPE Contract BRA'!F21) | E21: =IF('PPE Contract BRA'!A21="","",'PPE Contract BRA'!L21) | F21: =IF('PPE Contract BRA'!A21="","",'PPE Contract BRA'!M21) | K21: =IF('PPE Contract BRA'!A21="","",'PPE Contract BRA'!T21) | L21: =IF('PPE Contract BRA'!A21="","",'PPE Contract BRA'!U21)
A22: =IF('PPE Contract BRA'!A22="","",'PPE Contract BRA'!A22) | B22: =IF('PPE Contract BRA'!A22="","",'PPE Contract BRA'!D22) | C22: =IF('PPE Contract BRA'!A22="","",'PPE Contract BRA'!F22) | E22: =IF('PPE Contract BRA'!A22="","",'PPE Contract BRA'!L22) | F22: =IF('PPE Contract BRA'!A22="","",'PPE Contract BRA'!M22) | K22: =IF('PPE Contract BRA'!A22="","",'PPE Contract BRA'!T22) | L22: =IF('PPE Contract BRA'!A22="","",'PPE Contract BRA'!U22)
A23: =IF('PPE Contract BRA'!A23="","",'PPE Contract BRA'!A23) | B23: =IF('PPE Contract BRA'!A23="","",'PPE Contract BRA'!D23) | C23: =IF('PPE Contract BRA'!A23="","",'PPE Contract BRA'!F23) | E23: =IF('PPE Contract BRA'!A23="","",'PPE Contract BRA'!L23) | F23: =IF('PPE Contract BRA'!A23="","",'PPE Contract BRA'!M23) | K23: =IF('PPE Contract BRA'!A23="","",'PPE Contract BRA'!T23) | L23: =IF('PPE Contract BRA'!A23="","",'PPE Contract BRA'!U23)
... A38: =IF('PPE Contract BRA'!A38="","",'PPE Contract BRA'!A38) | B38: =IF('PPE Contract BRA'!A38="","",'PPE Contract BRA'!D38) | C38: =IF('PPE Contract BRA'!A38="","",'PPE Contract BRA'!F38) | E38: =IF('PPE Contract BRA'!A38="","",'PPE Contract BRA'!L38) | F38: =IF('PPE Contract BRA'!A38="","",'PPE Contract BRA'!M38) | K38: =IF('PPE Contract BRA'!A38="","",'PPE Contract BRA'!T38) | L38: =IF('PPE Contract BRA'!A38="","",'PPE Contract BRA'!U38)
