Workbook

Sheet Cover Page
B15: NATIONAL HEALTH LABORATORY SERVICE
B16: RENOVATIONS TO NHLS HELLEN JOSEPH LABORATORY
B17: GAUTENG REGION

Sheet Preliminaries
A1: Item No | B1: Description | C1: UoM | D1: Quantity | E1: Rate | F1: Amount
B3: Bill No.1
B5: PRELIMINARIES

Sheet Demolitions
A1: Item No | B1: Description | C1: UoM | D1: Quantity | E1: Rate | F1: Amount
B3: Bill No.2

Sheet BoQ
A1: Item No | B1: Description | C1: UoM | D1: Quantity | E1: Rate | F1: Amount
B3: BILL NO 01
B5: MICROBILOGIST OFFICE
B7: ALTERATIONS (PROVISIONAL)
B9: Allow for protecting all existing work liable to suffer damage (i.e) Walls, finishes, floors, windows, joinery fittings, etc) from damage during the building operations,alterations, etc and make good all work damaged with new material damaged to match existing to the approval of the Project Manager | C9: Item
B11: Taking out and removing
B13: Taking out and removing doors, windows, etc, including thresholds, sills etc and store (building up openings and making good finishes measured elsewhere)
B15: 813 x 2032mm Timber single doors including ironmongery | C15: No | D15: 1
B17: Existing melamine workstation benwidech 600mm wide with steel frame | C17: m | D17: 6
B19: Melamine cabinet with Sshelves doors size 500mm x 1000mm | C19: No | D19: 1
B21: 1500mm x 800mm pin board | C21: No | D21: 1
B23: Fluorescent Lght fittings including holder | C23: No | D23: 2
B25: Hacking up/off and removing floor coverings mortar bed or adhesive from concrete brickwork and preparing, surfaces for new screed, plaster,tile finish, etc
B27: Vinyl tile floor covering including preparing screed for new vinyl sheeting or tile etc (new finish elsewhere measured) | C27: m2 | D27: 12
B29: Hacking up/off and removing wall coverings mortar bed or adhesive from concrete brickwork and preparing, surfaces for new screed, plaster,tile finish, etc
B31: Internal painted walls and ceilings, and preparing, surfaces for new paint finish etc (new finish elsewhere measured) | C31: m2 | D31: =20*3 -> 60
B33: Hacking up/off and removing painting, mortar bed or adhesive from concrete brickwork and preparing, surfaces for new screed, plaster,tile finish, etc
B35: Underside of soffits of slab | C35: m2 | D35: 12
B37: MAKING GOOD OF FINISHES,ETC
B39: Making good internal cement plaster 1:4
B41: Walls in patches (Provisional) | C41: m2 | D41: 5
B43: CARPENTRY AND JOINERY
B45: Work Benches
B47: Steel powder coated square tubing frames 32mm x 700mm wide x 750mm on standing height as per specification | C47: m | D47: 15
B49: Edged 25mm thick x 700mm wide long maxcompact resistance white top | C49: m | D49: 15
B51: Under bench Cupboards
B53: Steel powder coated under bench cupboards 700mm high x 500 wide x 500mm deep with 2 doors, shelves and lockable casters as per specification | C53: No | D53: 4
B55: Steel powder coated under bench cupboards 700mm high x 500 wide x 500mm deep with drawers lockable as per specification | C55: No | D55: 4
B57: Wall mounted Cupboards
B59: Steel powder coated wall mounted cupboards 700mm high x 500 wide x 500mm deep with 2 doors, shelves and lockable casters as per specification | C59: No | D59: 4
B61: Wall Shelving
B63: Steel powder coated wall bandshelving against wall, wall bandupright to be 800mm apart mounted with 10mm ramset | C63: m | D63: 5
B65: White melamine 16mm x 500mm deep shelving brackets finish with wrap around edging as per specification | C65: m | D65: 5
B69: FLOOR COVERINGS,WALL LININGS,ETC
B71: Classic mystique PUR vinyl sheeting with welded joints (Maintainance free) as per specification. Vinyl sheeting to go up 120mm high against walls including cove fillet and capping | C71: m2 | D71: 20
B73: IRONMONGERY
B75: Door closers
B77: Overhead door closer Dorma or similar approved | C77: No | D77: 1
B79: Door Stops
B81: Union or similar approved buffered door stop | C81: No | D81: 1
...

Sheet Summary 
A1: ITEM NO | B1: SUMMARY | C1: BILL NO | D1: Amount
A2: 1 | B2: =BoQ!B5 -> MICROBILOGIST OFFICE | C2: =BoQ!B3 -> BILL NO 01
A3: 2 | B3: =BoQ!B179 -> PATHOLOGIST OFFICE | C3: =BoQ!B177 -> BILL NO 02
A4: 3 | B4: =BoQ!B370 -> HAEMATOLOGY PATHOLOGIST | C4: =BoQ!B368 -> BILL NO 03
A5: 4 | B5: =BoQ!B564 -> CURRENT BLOOD ROOM | C5: =BoQ!B562 -> BILL NO 04
A6: 5 | B6: =BoQ!B748 -> LSS RECEPTION SUPERVISOR | C6: =BoQ!B746 -> BILL NO 05
A7: 6 | B7: =BoQ!B928 -> RRECEIVING AREA | C7: =BoQ!B926 -> BILL NO 06
A8: 7 | B8: =BoQ!B1072 -> CHEMICAL PATHOLOGIST OFFICE | C8: =BoQ!B1070 -> BILL NO 07
A9: 8 | B9: =BoQ!B1248 -> FEMALE TOILETS & CHANGEROOM | C9: =BoQ!B1246 -> BILL NO. 08
A10: 9 | B10: =BoQ!B1392 -> MICRO - REGISTRARS OFFICE | C10: =BoQ!B1390 -> BILL NO 09
A11: 10 | B11: =BoQ!B1580 -> KITCHEN | C11: =BoQ!B1578 -> BILL NO. 10
A12: 11 | B12: =BoQ!B1774 -> MALE TOILETS & CHANGEROOM | C12: =BoQ!B1772 -> BILL NO 11
A13: 12 | B13: =BoQ!B1962 -> STORAGE | C13: =BoQ!B1960 -> BILL NO 12
A14: 13 | B14: =BoQ!B2047 -> MAIN PASSAGE | C14: =BoQ!B2045 -> BILL NO 13
A15: 14 | B15: =BoQ!B2197 -> LAB MANAGERS OFFICE | C15: =BoQ!B2195 -> BILL NO 14
A16: 15 | B16: =BoQ!B2493 -> MAIN LAB | C16: =BoQ!B2491 -> BILL NO 15
A17: 16 | B17: =BoQ!B2604 -> TRAINING ROOM | C17: =BoQ!B2602 -> BILL NO 16
A18: 17 | B18: =BoQ!B2751 -> TB LAB | C18: =BoQ!B2749 -> BILL NO 17
A19: 18 | B19: =BoQ!B2898 -> MAIN STORAGE ROOM | C19: =BoQ!B2896 -> BILL NO 18
A20: 19 | B20: =BoQ!B3007 -> MAIN STORAGE -ENTRANCE AREA | C20: =BoQ!B3005 -> BILL NO 19
A21: 20 | B21: =BoQ!B3127 -> MAIN WAITING ROOM | C21: =BoQ!B3125 -> BILL NO 20
A22: 21 | B22: =BoQ!B3246 -> NEW BLOOD ROOMS | C22: =BoQ!B3244 -> BILL NO 21
A23: 22 | B23: =BoQ!B3286 -> NEW LAB | C23: =BoQ!B3284 -> BILL NO 22
A24: 23 | B24: =BoQ!B3472 -> EXTERNAL WORKS | C24: =BoQ!B3470 -> BILL NO 23
B26: SUB TOTAL
B28: Allow the amount of R 300 000 for contingency to be used at the discretion of theprincipal Agent and dedicated in whole or in part if not required
B30: Test plumbing pressure and commision (issue plumbing certificate (COC) | C30: Item
B32: Issue electrical certificate of compliance (COC) on completion | C32: Item
B34: Issue handover pack manual on completion | C34: Item
B36: Sub Total
B38: Vat @ 15%
B40: Carried to tender (Incl of Vat)

Sheet Sheet1
B2: Note: All dimensions to be checked on site prior to construction. Clear silicone joints between door frames and brickwork. Aluminium frames shall be factory wrapped in protective plastic covering and shall be removed once building works are complete
