Workbook
Name __1NEW_PROJECT: #REF!
Name __1NEW_PROJECT: #REF!
Name __1NEW_PROJECT: #REF!
Name __1NEW_PROJECT: #REF!
Name __1NEW_PROJECT: #REF!
Name __1NEW_PROJECT: #REF!
Name __1NEW_PROJECT: #REF!
Name __1NEW_PROJECT: #REF!
Name __2P_PAY_CERTIFICA: #REF!
Name __2P_PAY_CERTIFICA: #REF!
Name __2P_PAY_CERTIFICA: #REF!
Name __2P_PAY_CERTIFICA: #REF!
Name __2P_PAY_CERTIFICA: #REF!
Name __2P_PAY_CERTIFICA: #REF!
Name __2P_PAY_CERTIFICA: #REF!
Name __3PRINT_ESCAL: #REF!
Name __3PRINT_ESCAL: #REF!
Name __3PRINT_ESCAL: #REF!
Name __3PRINT_ESCAL: #REF!
Name __3PRINT_ESCAL: #REF!
Name __3PRINT_ESCAL: #REF!
Name __3PRINT_ESCAL: #REF!
Name __4PRINT_PENALTIES: #REF!
Name __4PRINT_PENALTIES: #REF!
Name __4PRINT_PENALTIES: #REF!
Name __4PRINT_PENALTIES: #REF!
Name __4PRINT_PENALTIES: #REF!
Name __4PRINT_PENALTIES: #REF!
Name __4PRINT_PENALTIES: #REF!
Name __5PRINT_PROJECT_C: #REF!
Name __5PRINT_PROJECT_C: #REF!
Name __5PRINT_PROJECT_C: #REF!
Name __5PRINT_PROJECT_C: #REF!
Name __5PRINT_PROJECT_C: #REF!
Name __5PRINT_PROJECT_C: #REF!
Name __5PRINT_PROJECT_C: #REF!
Name __6PRINT_SPEC_SUBC: #REF!
Name __6PRINT_SPEC_SUBC: #REF!
Name __6PRINT_SPEC_SUBC: #REF!
Name __6PRINT_SPEC_SUBC: #REF!
Name __6PRINT_SPEC_SUBC: #REF!
Name __6PRINT_SPEC_SUBC: #REF!
Name __6PRINT_SPEC_SUBC: #REF!
Name __7SUM_FORMULAR: #REF!
Name __7SUM_FORMULAR: #REF!
Name __7SUM_FORMULAR: #REF!
Name __7SUM_FORMULAR: #REF!
Name __7SUM_FORMULAR: #REF!
Name __7SUM_FORMULAR: #REF!
Name __7SUM_FORMULAR: #REF!
Name _1NEW_PROJECT: #REF!
Name _1NEW_PROJECT: #REF!
Name _1NEW_PROJECT: #REF!
Name _1NEW_PROJECT: #REF!
Name _1NEW_PROJECT: #REF!
Name _1NEW_PROJECT: #REF!
Name _1NEW_PROJECT: #REF!
Name _2P_PAY_CERTIFICA: #REF!
Name _2P_PAY_CERTIFICA: #REF!
Name _2P_PAY_CERTIFICA: #REF!

Sheet BOQ Cover Page

Sheet Schedule A - P&G
G1: TENDER NO. RW10390641/24R
C2: Townlands Pump Station Engine Room 1 - Additional Pump
G4: Schedule A: P&G
A6: Item | B6: Payment | C6: Description | D6: Unit | E6: Qty | F6: Rate | G6: Amount
A7: No. | B7: Refers
B9: SABS 1200A | C9: PRELIMINARY & GENERAL
C10: FIXED CHARGES
C12: FIXED CHARGED ITEMS
A14: 1 | B14: 8.3.1 | C14: Contractual requirements | D14: SUM | E14: 1
A16: 2 | B16: 8.3.1 | C16: Surety or bank guarantee | D16: SUM | E16: 1
A18: 3 | B18: 8.3.1 | C18: Common law liability insurance | D18: SUM | E18: 1
A20: 4 | B20: 8.3.1 | C20: Third party insurance | D20: SUM | E20: 1
A22: 5 | B22: 8.3.1 | C22: Insurance of construction plant and equipment | D22: SUM | E22: 1
A24: 6 | B24: 8.3.1 | C24: Other (detail………………………………………………………………………) | D24: SUM | E24: 1
C26: ESTABLISH FACILITIES ON THE SITE FACILITIES FOR THE ENGINEER (SANS 1200AB)
A28: 7 | B28: 8.3.2.1 | C28: Engineer's offices and facilities | D28: SUM | E28: 1
A30: 8 | B30: 8.4.2.1 (d) | C30: Survey Instruments | D30: SUM | E30: 1
C32: SERVICES
A34: 9 | B34: 8.3.2.2 | C34: Services for offices and for cooking and ablution facilities on site for the Engineer's site staff | D34: SUM | E34: 1
A36: 10 | C36: Treatment and maintenance of areas surrounding offices | D36: SUM | E36: 1
A38: 11 | B38: 8.3.2.1(c ) | C38: Name board (including posts and erection) | D38: No | E38: 1
A40: 12 | C40: SANS 1200 Standardized Specifications | D40: SUM | E40: 1
C42: FACILITIES FOR CONTRACTOR
A44: 13 | B44: 8.3.2.2 (a) | C44: Offices and storage sheds | D44: SUM | E44: 1
A46: 14 | B46: 8.3.2.2 (b) | C46: Workshops | D46: SUM | E46: 1
A48: 15 | B48: 8.3.2.2 (d) | C48: Living accommodation | D48: SUM | E48: 1
P49: =208000*0.1 -> 20800 | Q49: =P49/10 -> 2080
A50: 16 | B50: 8.3.2.2 (e) | C50: Ablution and latrine facilities | D50: SUM | E50: 1
A52: 17 | B52: 8.3.2.2 (f) | C52: Tools and equipment | D52: SUM | E52: 1
A54: 18 | B54: 8.3.2.2 (g) | C54: Water supply, electric power, communications, dealing with water and access | D54: SUM | E54: 1
A56: 19 | B56: 8.3.3 | C56: Provision of safety manager | D56: SUM | E56: 1
A58: 20 | B58: 8.3.4 | C58: Removal of Engineer's and Contractor's site establishment on completion | D58: SUM | E58: 1
C60: HEALTH AND SAFETY
A62: 21 | C62: General costs for Health and Safety (not covered) | D62: SUM | E62: 1
A64: 22 | C64: Risk assessment | D64: SUM | E64: 1
A66: 23 | C66: Health and safety plan | D66: SUM | E66: 1
A68: 24 | C68: Construction safety officer and other appointments | D68: SUM | E68: 1
A70: 25 | C70: Training | D70: SUM | E70: 1
A72: 26 | C72: Medical assessment | D72: SUM | E72: 1
C74: TIME RELATED ITEMS
...

Sheet Schedule B - ENVIRONMENTAL 
G1: TENDER NO. RW10390641/24R
A2: Townlands Pump Station Engine Room 1 - Additional Pump
A5: Item No. | B5: Payment Refers | C5: Description | D5: Unit | E5: Qty | F5: Rate | G5: Total Amount
B7: PSA 8.12
C9: Schedule B : ENVIRONMENT
B10: ENVIRONMENTAL SPECIFICATION | C10: Note: • The rates priced in this Schedule of Quantities must be undertaken in such a manner to ensure full compliance with the environmental specification provided • In the event that double dipping is observed with regards to other sections of the BOQ the projects manager’s discretion will prevail to approve these cost. • The BOQ is primarily aligned is to or environmental specification, to provide for resources to comply with all requirements . Provisional sums are reserved for items identified under each headlining. • Suggested items to achieve the main outcome of each heading are listed and may require rates only. • There are no environmental authorisations required for this project, however the pricipal of cradel to grave must still be observed.
A11: 4.1 | B11: enviro specific-ation 9.1 | C11: Administrative requirements as per environmental specification that may require specific additional billing not included else where. • Understanding of compliance • Preparation of environmental file and work program approval. • Preparations of method statements (management of all waste, Keeping the site clean and weed free, final clean up of site and campsite). • Maintaining of auditing of site compliances • Reporting of environmental incidence • Signing off of work for payment • Emergency preparedness retainement for external services • Programme scheduling details of administrative matters | D11: Sum | E11: 1
A13: 4.2 | B13: Envir spec 9.2 | C13: Emergency preparedness funding | D13: Lump sum
C14: a) Provision for bee, snake and other fauna removal | D14: Rate | E14: 1
A15: 4.3 | C15: b) Provision for hydrocarbon spillages that require intervention from professional clean up provider | D15: Rate | E15: 1
C16: c) Provision to clean up sewage spillages | D16: Rate | E16: 1
A17: 4.4 | C17: d) Equipment for fire fighting | D17: Rate | E17: 1
C18: e) Call out of fire department | D18: Rate | E18: 1
A19: 4.5 | B19: Envir spec 9.1.4 | C19: Environmental awareness and training
C20: The rate for this item shall include costs for inductions and environmental awareness and training | D20: Sum | E20: 1
A21: 4.6 | B21: Envir spec 9.2 | C21: Social integration of the project to the public
C22: The rate for this item shall include costs for establishment of construction campsite and working areas, that has not been included in other costings. | D22: Sum | E22: 1
B23: Envir spec 9.3 | C23: Establishment of site camp and works area. | D23: Sum | E23: 1
C24: Signage The rate for this item must cover all expenses incurred in preparing signage at the entrance of the site offices indicating the following information.This may be included on the main site sign board.
C25: · The contractor’s contact numbers
C26: · Emergency numbers and provision for: – snake removal, bee removal, fire, large hydrocarbon spillages, sewerage spillages
C27: Signage measuring a minimum of 30mmx30mm must also be made available for no go areas.
B28: 9.3.4 to 9.3.4.2 | C28: Barricading and demarcation | D28: Sum | E28: 1
C29: a. Screening for unsightly works | D29: rate | E29: 1
C30: b. Clear demarcating of the working foot print | D30: rate | E30: 1
C31: c. Barricading of sensitive no go areas | D31: rate | E31: 1
B33: 9.4 to 9.4.6 | C33: Pollution prevention and preservation of environmental resources | D33: lump sum provission | E33: 1
C34: The rate for this item shall include costs for pollution prevention and preservation of environmental resources. This includes the indentification of the sources of potential polution. | D34: rate | E34: 1
C35: a) Cleaning the site of litter and rubble | D35: rate | E35: 1
C36: b)Weed control on site | D36: rate | E36: 1
C37: C) Waste bins and receptacles that comply with the waste clauses of the Environmental specification. | D37: rate | E37: 1
C38: c) Appropriate skips for waste separation | D38: rate | E38: 1
C39: d)General waste Waste removal | D39: rate | E39: 1
C40: e)Hazardous waste Waste removal | D40: rate | E40: 1
C41: f)Recycled waste management Waste removal | D41: rate | E41: 1
C42: g) Spillage kits to clean up spillages | D42: rate | E42: 1
C43: h) Hard impervious surfaces for storage of chemicals | D43: rate | E43: 1
C44: i)Bunding facility for hazardous products | D44: rate | E44: 1
C45: J) Labelled containers for decanting of liquids | D45: rate | E45: 1
C46: K) Drip trays for all vehicles staying on site over night | D46: rate | E46: 1
...

Sheet Schedule C - SHEQ
H1: Form No:
B2: STRATEGIC ASSET MANAGEMENT
H3: Rev No: xx
B4: SHEQ MANAGEMENT SYSTEM
H5: Effective Date:
B6: Description of the Project: Townlands Pumpstation Engine Room 1 - Additional Pump
B7: Project no: | C7: P.04340
B11: Item No. | C11: Description | D11: Qty (A) | E11: U O M | F11: Rate (B) | H11: Total A*B
B12: C | C12: OCCUPATIONAL HEALTH AND SAFETY
B13: C.1.1 | C13: Preparation of the Contractor's site specific Health and Safety Plan | D13: 1 | E13: Sum
B14: C1.2 | C14: Principal Contractor's initial obligations in respect of the Occupational Health and Safety Act and Construction Regulations | D14: 1 | E14: Sum
B15: C.1.3 | C15: Principal Contractor's time related obligations in respect of the Occupational Health and Safety Act and Construction Regulations | D15: 1 | E15: Sum
B16: C1.4 | C16: Provision of Personal Protective Equipment (PPE) | D16: 1 | E16: Sum
B17: C.1.5 | C17: Provision of a full-time Construction Health and Safety Officer | D17: 1 | E17: Sum
B18: C.1.6 | C18: Cost of medical certificates and medical surveillance | D18: 1
C19: (a) Initial (baseline) medical examinations | D19: 1 | E19: Sum
C20: (b) Periodic examinations | D20: 1 | E20: Sum
C21: (c) Medical consultation as when required with OHP and OMP | D21: 1 | E21: Prov Sum | F21: R140,000.00 | H21: R140,000.00
C22: (d) Exit exxeminations | D22: 1 | E22: Sum
B23: C.1.7 | C23: Induction training | D23: 1 | E23: Sum
B24: C.1.8 | C24: Provision of First Aid Boxes to GSR requirements and other emergency safety equipment such as fire extinguishers. | D24: 1 | E24: Sum
B25: C.1.9 | C25: Transportation of Workers | D25: 1 | E25: Sum
B26: C.1.10 | C26: Welfare Facilities | D26: 1 | E26: Sum
B27: C.1.11 | C27: Occupational Hygiene Surveys | D27: 1 | E27: Sum
B28: C.1.12 | C28: Training | D28: 1 | E28: Sum
B29: C.1.13 | C29: Security requirements including the security risk assessment (before site establishment) | D29: 1 | E29: Sum
B30: C.1.14 | C30: Employee wellness programs | D30: 1 | E30: Sum
B31: C.1.15 | C31: Drug and Alcohol Testing, Policies and Procedures | D31: 1 | E31: Sum
B32: C.1.16 | C32: Barricading | D32: 1 | E32: Sum
B33: C.1.17 | C33: Safety notices and signs | D33: 1 | E33: Sum
B34: C.1.18 | C34: SHE Incentives | D34: 1 | E34: Prov. Sum | F34: 500000 | H34: =+F34*D34 -> 500000
B35: C.1.19 | C35: Construction work permit application fee | D35: 1 | E35: Prov. Sum | F35: 10000 | H35: =+F35*D35 -> 10000
B36: C.1.20 | C36: Adequate ventilation and lighting during construction | D36: 1 | E36: Sum
B37: C.1.21 | C37: Submission of the Health and Safety File (hard and soft copies)- after tender award and project completion. | D37: 1 | E37: Sum
B38: C.1.22 | C38: Provision of Client Pr.CHSA (Construction Health & Safety Agent) registered with SACPCMP, and/or other resources for the duration of the project. | D38: 1 | E38: Prov. Sum | F38: 6000000 | H38: =+F38*D38 -> 6000000
B40: Total amount excluding Value-Added Tax (VAT) to be carried to - Summary of Price Schedule

Sheet Schedule D -  QUALITY
G1: TENDER NO. RW10390641/24R
A2: ='Schedule A - P&G'!$C$2 -> Townlands Pump Station Engine Room 1 - Additional Pump
A5: Item No. | B5: Payment Refers | C5: Description | D5: Unit | E5: Qty | F5: Rate | G5: Total Amount
C8: Schedule D: QUALITY
A9: D.1 | C9: Preparation and submission of Contractors Quality Management Plan (CQMP), for review and approval prior to commencement of works | D9: lump sum | E9: 1
A11: D.2 | C11: Provision of Qualified Quality Officer ( The contractor shall provide RW with relevant to the scope of work qualified Quality Officer ) | D11: Month | E11: Contract Duration
A13: D.3 | C13: Maintenance of documents and final documentation for submission - Provision of Document controller | D13: Month | E13: Contract Duration
A15: D.4 | C15: Provision of Quality Officers relevant training ( The contractor to provide related training for the quality officer ) | D15: Rate | E15: 1
A17: D.5 | C17: Provision of Compliance Audits ( The contractor to audit the project once a year for the duration of the project ) | D17: Rate | E17: Quartely for the duration of contract
A19: D.6 | C19: Testing Equipment calibration ( The testing Equipments should be calibrated as per the manual ) | D19: Rate | E19: Annually
A21: D.7 | C21: Provision of any other testing and inspections requested by the Engineer | D21: Lump sum | E21: 1
A34: SCHEDULE D: QUALITY SUMMARY
A35: No | B35: Payment Refers | C35: Description | D35: Unit | E35: Qty | F35: Rate | G35: Amount
C40: Schedule D: Total amount excluding Value-Added Tax (VAT) to be carried to Summary of Price Schedules | G40: R

Sheet Schedule F - AUTOMATION
G1: TENDER NO. RW10390641/24R
A2: ='[4]Schedule A - P&G'!$C$2 -> Townlands Pump Station Engine Room 1 - Additional Pump
A4: Item No. | B4: Refers to RW10390641/23R-Aut-Spec | C4: Description | D4: Unit | E4: Qty | F4: Rate | G4: Total Amount
C6: Automation Equipment
C7: BILL No.1
A8: B1 | C8: DETAILED DESIGN
A9: B1.1 | B9: SS 3.1.1 | C9: Design Automation design requirements and quality documents including, but not limited to all the items . | D9: Sum | E9: Complete
A11: B1.2 | B11: SS 3.1.1.1 | C11: Produce all drawings according to Electrical Drawings Standards Specification (RW_EES_002-REV-A). | D11: Sum | E11: Complete
A13: B1.3 | B13: SS 3.2.1.1. | C13: Detailed design of the twenty-four (24) new Profibus PA compliant motor winding temperature RTD’s. | D13: Each | E13: 24
A15: B1.4 | B15: SS 3.2.1.2. | C15: Detailed design of the thirty-two (32) new Profibus PA compliant motor and pump bearing RTD’s. | D15: Each | E15: 32
A17: B1.5 | B17: SS 3.2.2.1. | C17: Detailed design of the sixteen (16) new 4-20mA vibration sensors for all pumpset | D17: Each | E17: 16
A19: B1.6 | B19: SS 3.2.3.1. | C19: Detailed design of the new cooling water flow switches for all pumpset as indicated in the pumpset P&ID drawing RA 26869. | D19: Sum | E19: Complete
A21: B1.7 | B21: SS 3.2.3.4.1 | C21: Detailed design of the new level switches for all pumpset as indicated in the pumpset P&ID drawing RA 26869. | D21: Sum | E21: Complete
A23: B1.8 | B23: SS 3.2.5.1 | C23: Detailed design of the eight (8) new Profibus PA compliant Pressure transmitters. | D23: Each | E23: 8
A25: B1.9 | B25: SS 3.2.6.1. | C25: Detailed design of the four (4) Profibus DP copper magnetic flow transmitters | D25: Each | E25: 4
A27: B1.10 | B27: SS 3.3.1.1. | C27: Detailed design of the four (4) PLC systems (complete with all the modules and auxiliary items) in the pumpset PLC panels | D27: Each | E27: 4
A29: B1.11 | B29: SS 3.3.1.2. | C29: Detailed design of the four (4) pumpset PLC program necessary to control, monitor and run all operations of the pumpsets. | D29: Each | E29: 4
A31: B1.12 | B31: SS 3.3.2.1. | C31: Detailed design of the trace and label the existing I/O multicore cable between (feeders, incomer, transformer and bus-section) and the existing PLC. | D31: Sum | E31: Complete
A33: B1.13 | B33: SS 3.3.2.2. | C33: Detailed design of the generate and supply as built drawings of the existing Automation loop drawings for the existing system before the design for the new pumpset control system and decommissioning of the existing PLC. | D33: Sum | E33: Complete
A35: B1.14 | B35: SS 3.3.2.3. | C35: Detailed design of the supply and present complete detailed HAZOP studies and will be subject to approval by the Rand Water before commencement of any work. | D35: Sum | E35: Complete
A37: B1.15 | B37: SS 3.3.2.4. | C37: Detailed design of the decommission the existing Quantum PLC. | D37: Sum | E37: Complete
A39: B1.16 | B39: SS 3.3.2.5. | C39: Detailed design of the one (1) PLC systems (complete with all the modules and auxiliary items) in the common service PLC panel | D39: Each | E39: 1
A41: B1.17 | B41: SS 3.3.2.6. | C41: Detailed design of the put into operation one (1) pumpset PLC program necessary to control, monitor and run all operations of the pumpsets. | D41: Each | E41: 1
A43: B1.18 | B43: SS 3.4.1. | C43: Detailed design of the four (4) Human Machine Interface with all required licenses in the pumpset PLC panel | D43: Each | E43: 4
A45: B1.19 | B45: SS 3.4.2. | C45: Detailed design of the put into operation four (4) HMI software program necessary to control, monitor the pumpset. | D45: Each | E45: 4
A47: B1.20 | B47: SS 3.4.3. | C47: Detailed design of the one (1) new 19-inch HMI minimum Interface with all required licenses in the MCC room common services PLC Panel. | D47: Each | E47: 1
A49: B1.21 | B49: SS 3.4.4. | C49: Detailed design of theone (1) HMI software program necessary to control, monitor and run all pumpsets and equipment’s connected to the PLC system. | D49: Sum | E49: Complete
A51: B1.22 | B51: SS 3.5.1.. | C51: Detailed design of the two (2) complete set SCADA server machines with mouse, 24 inch monitor and keyboards | D51: Each | E51: 2
A53: B1.23 | B53: SS 3.5.2. | C53: Detailed design of the new SCADA software program necessary to control, monitor and run the pumpset at the District Superintendent Office and Central Depot Control Room.. | D53: Sum | E53: Complete
A55: B1.24 | B55: SS 3.5.3. | C55: Detailed design of the all the required SCADA license suit. | D55: Sum | E55: Complete
A57: B1.25 | B57: SS 3.6.1. | C57: Detailed design of the complete historian system to log all selected tags as may be directed by Rand Water into the Historian server. (InSQL data logging for historical and real-time purposes). | D57: Sum | E57: Complete
A59: B1.26 | B59: SS 3.7.1. | C59: Detailed design of the complete lengths of new Profibus DP cables together with termination connectors | D59: Sum | E59: Complete
A61: B1.27 | B61: SS 3.7.2. | C61: Detailed design of the complete lengths of new Profibus PA cables together with termination connectors | D61: Sum | E61: Complete
A63: B1.28 | B63: SS 3.7.3. | C63: Detailed design of the four (4) Profibus master card in the pumpset PLC Panels. | D63: Each | E63: 4
A65: B1.29 | B65: SS 3.7.4. | C65: Detailed design of the four (4) Profibus DP/PA HUB with build-in profitrace OE and diagnostics in the pumpset PLC Panels. | D65: Each | E65: 4
A67: B1.30 | B67: SS 3.7.5. | C67: Detailed design of the eight (8) Profibus PA 8-way T-connector in the pumpset Profibus JB | D67: Each | E67: 8
A69: B1.31 | B69: SS 3.7.6. | C69: Detailed design of the four (4) Profibus DP Active Terminators in the pumpset PLC panel. | D69: Each | E69: 4
A71: B1.32 | B71: SS 3.7.7. | C71: Detailed design of the one (1) Profibus master card in the common service PLC panel | D71: Each | E71: 1
A73: B1.33 | B73: SS 3.7.8. | C73: Detailed design of the one (1) Optic Link Module (OLM) in the common service PLC panel . | D73: Each | E73: 1
A75: B1.34 | B75: SS 3.8.1. | C75: Detailed design of the complete length of Ethernet copper cat 6e cabling.
...

Sheet Schedule G - CIVIL
F1: TENDER NO. RW10390641/24R | G1: ='Schedule A - P&G'!G1 -> TENDER NO. RW10390641/24R
A2: ='Schedule A - P&G'!$C$2 -> Townlands Pump Station Engine Room 1 - Additional Pump
G4: Schedule G: CIVIL
A5: Item No. | B5: Refer to RW10390641/23R: Civil System Specification | C5: Description | D5: Unit | E5: Qty | F5: Rate | G5: Total Amount
A10: 1 | B10: SS 6.1 | C10: Condition Assessment of existing structures in line with proposed additions/upgrades to mechanical and automation/electrical equipment | D10: Sum | E10: 1
A12: 2 | B12: SS 6.1 | C12: Design and supply all quality documents pertaining to, but not limited to all items forming part of the works (as detailed in Contract documents, including specifications( | D12: Sum | E12: 1
A14: 3 | B14: SS 6.1 | C14: Service detection to establish connection points to electrical, automation and mechnanical connection services (Provisional) | D14: Sum | E14: 1
A16: 4 | B16: SS 6.1 | C16: Design and construct connections including but no limited to: design drawings, construction drawings, and as-built drawings | D16: Sum | E16: 1
A18: 5 | B18: SS 6.1 | C18: Partial demolition of existing masonry walls for cables and service pipes, including but not limited to necessary QCP and application of standard specifications | D18: Sum | E18: 1
A20: 6 | B20: SS 6.1 | C20: Material testing of completed works and material certificates for items to be installed. | D20: Sum | E20: 1
A22: 7 | B22: SS 6.1 | C22: Coring of existing concrete floors where required (as part of the electrical, automation and mechanical specifications) – in line with recommendations of the condition assessment as per Item No. 1 above | D22: Sum | E22: 1
A34: SCHEDULE G: CIVIL SUMMARY
A35: No | B35: Payment Refers to Civil System Specification | C35: Description | D35: Unit | E35: Qty | F35: Rate | G35: Amount
A39: Schedule G: Total amount excluding Value-Added Tax (VAT) to be carried to Summary of Price Schedules | G39: R

Sheet Shedule  H -  ELECTRICAL
B1: RW10390641_23R_Elec-Spec | H1: TENDER NO. RW10390641/24R
A2: =_xlfn.SINGLE('Schedule C - SHEQ'!#REF!) -> #REF!
A3: Item No | B3: Refers to RW10390641/23R/Elec-Spec | C3: Description | D3: UNIT | E3: QTY (A) | F3: Rate Supply (B) | G3: Rate Install ( C) | H3: Total A*(B+C)
C4: SCHEDULE H: ELECTRICAL SUMMARY
C5: DESIGN , MANUFACTURE, SUPPLY , TESTING & DELIVERY
A7: 1 | B7: 2 | C7: Design electrical installation (and all plant components) in accordance with the design criteria. To include preparation of drawings and documents, as-built (record) drawings, reports and certificates
A9: 1.1 | C9: Carry out a power system study with proprietary software to determine all pump starter circuit fault and continuous ratings and submission of report with results and calculations | D9: Sum | E9: 1
A11: 1.2 | C11: Auto Transformer Starter Circuit complete in existing 400 V MCC Spare Tier as per drawings and specifications | D11: Sum | E11: 1
A13: 1.3 | C13: Valve Isolating Panels | D13: Sum | E13: 1
A15: 1.4 | C15: Unit Power Factor Correction | D15: Sum | E15: 1
A17: 1.5 | C17: UPS and Generator supply additions | D17: Sum | E17: 1
A19: 1.6 | C19: Mimic Panel alterations | D19: Sum | E19: 1
A21: 1.7 | C21: Complete cable installation including routing, comprehensive and detailed cable schedules with all termination details, cable numbering for a complete installation | D21: Sum | E21: 1
A23: 1.8 | C23: Alterations and additions to cable racking for Pump Set 4 in Engine Room | D23: Sum | E23: 1
A25: 1.9 | C25: Earthing system | D25: Sum | E25: 1
A27: 1.10 | C27: Other (details to be provided) | D27: Sum | E27: 1
A29: 1.11 | B29: 3 | C29: Construction supervision of the complete electrical installation (and all plant components) in accordance with the requirements in the System Specification.
A31: 1.11 | C31: Auto Transformer Starter Circuit complete in existing 400 V MCC Spare Tier as per drawings and specifications | D31: Sum | E31: 1
A33: 1.12 | C33: Valve Isolating Panels | D33: Sum | E33: 1
A35: 1.13 | C35: Unit Power Factor Correction | D35: Sum | E35: 1
A37: 1.14 | C37: UPS & Generator supply additions
A39: 1.15 | C39: Mimic Panel alterations | D39: Sum | E39: 1
A41: 1.16 | C41: Complete cable installation including routing, comprehensive and detailed cable schedules with all termination details, cable numbering for a complete installation | D41: Sum | E41: 1
A43: 1.17 | C43: Alterations and additions to cable racking for Pump Set 4 in Engine Room | D43: Sum | E43: 1
A45: 1.18 | C45: Earthing system | D45: Sum | E45: 1
A46: 1.19 | C46: Other (details to be provided) | D46: Sum | E46: 1
A47: 2 | B47: 4 | C47: AUTO TRANSFORMER STARTER FOR PUMP SET 4
A48: 2.1 | C48: SUPPLY AUTO TRANSFORMER STARTER FOR PUMP SET 4
A50: 2.1.1 | C50: Supply and manufacture an auto transformer starter and all ancillaries fully equipped as per drawings, specification and specific requirements and in accordance with Rand Water standard specification. Inclusive of an additional tier if required to house all the equipment as specified. | D50: Sum | E50: 1
A52: 2.2 | C52: FACTORY ACCEPTANCE TEST THE AUTO TRANSFORMER STARTER FOR PUMP SET 4
A54: 2.2.1 | C54: Test a auto transformer starter and all ancillaries fully equipped as per drawings, specification and specific requirements and in accordance with Rand Water standard specification in the factory | D54: Sum | E54: 1
A56: 2.3 | C56: DELIVER AND OFF-LOAD THE AUTO TRANSFORMER STARTER FOR PUMP SET 4
A58: 2.4 | C58: Deliver and off load an auto transformer starter and all ancillaries to site | D58: Sum | E58: 1
A59: 2.4 | C59: INSTALL THE AUTO TRANSFORMER STARTER FOR PUMP SET 4
A61: 2.4.1 | C61: Install on site an auto transformer starter and all ancillaries fully equipped including tie-in to the existing LV MCC, all door mounted equipment, all chassis mounted equipment and an additional panel tier if required and inclusive of all isolations, permits and re-energisation | D61: Sum | E61: 1
A63: 2.5 | C63: TEST AND COMMISSION THE AUTO TRANSFORMER STARTER FOR PUMP SET 4
A65: 2.5.1 | C65: Test and commission an auto transformer starter and all ancillaries | D65: Sum | E65: 1
A67: 2.6 | C67: CONFIGURATION OF AUTO TRANSFORMER STARTER
A69: 2.6.1 | C69: Development of auto transformer starter configuration and motor protection relay settings for the auto transformer starter and testing of all functionality and settings on site in conjunction with hot commissioning | D69: Sum | E69: 1
A71: 3 | B71: 6 | C71: VALVE ISOLATING PANEL
...

Sheet Schedule J - MECHANICAL 
G1: TENDER NO. RW10390641/24R
A2: Townlands Pump Station Engine Room 1 - Additional Pump
A3: Item No. | B3: Refers to RW10390641/23R/Mech-Spec | C3: Description | D3: Unit | E3: Qty | F3: Rate | G3: Total Amount
C5: Schedule J: MECHANICAL
A6: 1 | C6: DESIGN , MANUFACTURE, SUPPLY , TESTING & DELIVERY
A8: 1.1 | B8: 3.5.1.5 | C8: Design, Manufacture, test, supply and delivery of Pump 26.61Ml/d | D8: Each | E8: 1
A10: 1.2 | B10: 3.5.1.6 | C10: Design,Manufacture, test, supply and delivery of Motor complete with coupling unit and fiffings etc. | D10: Each | E10: 1
A12: 1.3 | B12: 3.5.1.7 | C12: Deisgn, Manufacture, test, supply and deliver pump suction pipe complete with flanges, insulating gasket, bolts and nuts etc. | D12: Each | E12: 1
A14: 1.4 | B14: 3.5.1.3 | C14: Design, Manufacture, test, supply and deliver pump delivery pipe complete with flanges, insulating gasket, bolts and nuts etc. | D14: Each | E14: 1
A16: 1.5 | B16: 3.5.1.2 | C16: Manufature, test, supply & deliver electrically operated butterflyvalve ID 500mm, TP 5000 kPa complete flanges, gaskets, dismentling coupling and fitting etc. | D16: Each | E16: 4
A18: 1.6 | B18: 3.5.1.8 | C18: Manufacture, test supply and delivery of 500mm ID , TP 5000 kPa flanged Reflux valve, including dismantling couplings restraining flanges and gaskets etc. | D18: Each | E18: 1
A20: 1.7 | C20: Supply and deliver drain pipes complete with valves (diamter 100mm &TP 5000kPa) and piping etc. | D20: Each | E20: 1
A22: 1.8 | C22: The existing boundary valve . Actuators shall be supplied and installed complete with gearboxes, actuators shall comply with Rand Water specification RC 01108 and RW/0310/AS0460. | D22: Each | E22: 1
A24: 1.9 | C24: All other equipment /consumables/service not stated above which are required to complete and commission the Installation | D24: Sum | E24: 1
A27: 2 | C27: INSTALLATION AND COMMISSIONING & PUTTING INTO OPERATION
A29: 2.1 | C29: Installations of pump set complete with motor, valves, meters, piping and ancillarry equipment | D29: Sum | E29: 1
A31: 2.2 | C31: Commissioning of pump set complete with motor, valves, meters, piping and ancillarry equipment
A33: 2.3 | C33: Maintenance during the defects & liability period. | D33: Sum | E33: 1
A35: 2.4 | C35: The contractor shall allow for trimming of the new pump impellor to match the existing pumps.
A37: 2.5 | C37: The contractor shall provide new Actuators to match the existing Actuators.
A39: 3 | C39: Documentation & Training
A41: 3.1 | C41: Drawings | D41: Sum | E41: 1
A43: 3.2 | C43: Training of Rand Water Personnel | D43: Sum | E43: 1
A45: 3.4 | C45: Operation & Maintenance Manuals (six copies) | D45: Sum | E45: 1
A47: 3.5 | C47: All other equipment /consumables/service not stated above which are required to complete and hand over the Installation | D47: Sum | E47: 1
A50: Schedule J:Total amount excluding Value-Added Tax (VAT) to be carried to Summary of Price Schedules

Sheet Shedule K-SED
G3: TENDER NO. RW10390641/24R
A4: SCHEDULE K: SOCIO-ECONOMIC DEVELOPMENT
A6: Item | B6: Payment Ref. | C6: Description | D6: U O M | E6: Qty (A) | F6: Rate (B) | G6: Total (A*B)
A7: No.
C9: SCHEDULE K : SOCIO ECONOMIC DEVELOPMENT
A11: 1 | C11: SKILLS DEVELOPMENT PROGRAM
A13: 1.1 | C13: Accredited training programmes are targeted which will provide the beneficiaries with significant and recognized credit value in accordance with the National Qualification Framework (NQF) (1% of Project Value - Sub Total A) | D13: Sum | F13: 0.01
A15: 1.2 | C15: Contractors mark-up on Item 1.1 above | D15: %
A17: 2 | C17: PROJECT FACILITATION PROGRAM
A19: 2.1 | C19: Project facilitation programs (4% of Project Value - Sub Total A) | D19: Sum | F19: 0.04
A21: 2.2 | C21: Contractors mark-up on Item 2.1 above | D21: %
A23: 3 | C23: COMMUNITY LIASON OFFICER
A25: 3.1 | C25: Community Liason Officer. A key component in aiding the realisation of the SED objectives is effective community liaison with all the relevant role-players, structures, civic organisations and the community at large. | D25: Sum | E25: 1
A27: 3.2 | C27: Contractors mark-up on Item 3.1 above | D27: %
A30: 4 | C30: PARTICIPATION OF LOCAL ENTERPRICES
A32: 4.1 | C32: Work Allocated to Local Enterprises (Inclusive of P&G's and SHEQ) (Minimum 5% of Project Value) (Sub-Total A) | D32: Sum | E32: 0.05 | F32: 0 | G32: Rate Only
A34: 4.2 | C34: Contractors mark-up on Item 4.1 above | D34: %
A36: Total amount excluding Value-Added Tax (VAT) to be carried to Summary of Price Schedules

Sheet CSDG (0.25% factor)
G1: ='Schedule A - P&G'!G1 -> TENDER NO. RW10390641/24R
A2: ='Schedule A - P&G'!$C$2 -> Townlands Pump Station Engine Room 1 - Additional Pump
G4: CSDG (0.25% factor)
A5: Item No. | B5: Payment Reference | C5: Description | D5: Unit | E5: Qty | F5: Rate | G5: Total Amount
C7: Minimum Contract Skills Development Goal (CSDG) sum = EP (0.25%) x Subtotal of the tender amount | D7: Sum | E7: 1
A9: Total amount excluding Value-Added Tax (VAT) to be carried to Summary of Price Schedules
A10: No | B10: Payment refers | C10: Description | G10: Amount
B15: Total amount excluding Value-Added Tax (VAT) to be carried to Summary of Price Schedules

Sheet Summary
A1: ='Schedule A - P&G'!A1 -> 0 | C1: ='Schedule A - P&G'!G1 -> TENDER NO. RW10390641/24R
A2: ='Schedule A - P&G'!A2 -> 0 | B2: ='Schedule A - P&G'!$C$2 -> Townlands Pump Station Engine Room 1 - Additional Pump
A3: SUMMARY OF BILL OF QUANTITIES
A5: SCHEDULE | B5: DESCRIPTION | C5: AMOUNT
A9: A | B9: Preliminary and General | D9: =SUM(C10:C16)*0.4 -> 0
A10: B | B10: Environmental | D10: =C10 -> 0
A11: C | B11: SHEQ | D11: =C11 -> 0
A12: D | B12: Quality | D12: =C12 -> 0
A13: F | B13: Automation | D13: =C13 -> 0
A14: G | B14: Civil | D14: =C14 -> 0
A15: H | B15: Electrical
A16: J | B16: Mechanical
A17: K | B17: SED
A18: SUB TOTAL A | D18: =SUM(D10:D16)+D9 -> 0
A19: CONTRACT SKILLS DEVELOPMENT GOAL (CSDG) (0,25% FACTOR)
A20: ADD 15% FOR VAT
A21: TOTAL
A22: Total Carried forward to the Form of Offer Page xx of xx of the Commercial Document

Sheet Mechanical
