Workbook

Sheet List of Items & Enquiry number
A1: Steps to follow to prepare this file for tender
A2: 1 | B2: Enter the Enquiry number in the cell below so that the number is carried through to the AB Schedule Sheets
A3: 1.1 | B3: Leave enquiry number blank if not known
A4: 2 | B4: Go to Source Data worksheet and confirm the figures from columns BT to Bx are correct
A5: 3 | B5: Fix any other requirements on Source Data if there has been a change to the spec
A6: 4 | B6: Hide Source Data Sheet
A7: 5 | B7: Hide this sheet
A8: 6 | B8: Hide any unnecessary sheets if not needed for the tender
B10: NOTE:
B11: This AB schedule is only for Ester Oil options. If the the tender scope includes Ester options, please also submit the Ester Oil or Ester/Ester Schedule to the Buyer
A13: Type Enquiry Number in the cell below (overtype the green text) so that it transfers to all the AB Schedules
A14: >>> | B14: Enquiry Number: 123456XYZ
A17: The table below is used for the VLookUp and the Headers on the AB Schedule Sheets, and the selector on the combined sheet. Edit only if needed
A18: Eskom SAP number | B18: Description
A19: 0182441 | B19: Three-phase, 100 kVA, 11 kV/420V (Coastal, Ester Oil Only)
A20: 0182443 | B20: Three-phase, 100 kVA, 22 kV/420V (Coastal, Ester Oil Only)
A21: 0180189 | B21: Three-phase, 200 kVA, 11 kV/420V (Coastal, Ester Oil Only)
A22: 0180191 | B22: Three-phase, 200 kVA, 22 kV/420V (Coastal, Ester Oil Only)
A23: 0180193 | B23: Three-phase, 315 kVA, 11 kV/420V (Coastal, Ester Oil Only)
A24: 0180195 | B24: Three-phase, 315 kVA, 22 kV/420V (Coastal, Ester Oil Only)
A25: 0180197 | B25: Three-phase, 500 kVA, 11 kV/420V (Coastal, Ester Oil Only)
A26: 0180199 | B26: Three-phase, 500 kVA, 22 kV/420V (Coastal, Ester Oil Only)
A27: 0182445 | B27: Three-phase, 1000 kVA, 11 kV/420V (Coastal, Ester Oil Only)
A28: 0182447 | B28: Three-phase, 1000 kVA, 22 kV/420V (Coastal, Ester Oil Only)
B29: Select Item

Sheet Source Data
A1: Select Ground Mounted Transformer (kVA, kV) here! | B1: Identification | C1: Eskom SAP number | D1: Name of manufacturer | E1: Name of supplier | F1: Product code for Inland transformers | G1: Product code for Coastal transformers | H1: Are the transformers covered by the SANS 780 certification mark? | I1: State SANS 780 permit number | J1: Oil Type | K1: Ratings | L1: Power rating | M1: Rated primary voltage | N1: Rated no-load secondary voltage | O1: Frequency | P1: Number of phases | Q1: Vector Group | R1: Insulation levels | S1: BIL - Primary | T1: BIL - Secondary | U1: Power frequency withstand voltage - Primary | V1: Power frequency withstand voltage – Secondary | W1: Inter-turn winding insulation | X1: Type (Enamel or Paper) | Y1: Enamel grade (if applicable) | Z1: Paper thickness (if applicable) | AA1: Paper type (if applicable) | AB1: Paper make (if applicable) | AC1: Paper minimum impulse withstand | AD1: Paper minimum power frequency withstand | AE1: Inter-turn winding insulation stress shall not exceed 5 kV/mm | AF1: Interlayer insulation | AG1: Highest interlayer stress in non-tap part of winding (<5kV/mm is not acceptable as the calculated value must be presented) | AH1: Highest interlayer stress in tap part of winding (<5kV/mm is not acceptable as the calculated value must be presented) | AI1: Paper type. | AJ1: Paper make. | AK1: Tapping connections | AL1: Type | AM1: Tapping range | AN1: MV Cable Termination Enclosures and Bushings | AO1: Air filled enclosure on side of the tank | AP1: Stainless steel fasteners | AQ1: Cable termination type | AR1: Earthing terminal height from gland plate | AS1: Gland plate entry hole | AT1: Dimensions between bushings | AU1: Clearances within MV cable termination enclosure | AV1: Cable support clamp diameter | AW1: Depth of cable box | AX1: MV warning sign with aircraft pop rivets | AY1: Distance from gland plate to MV bushing centre line | AZ1: Sealant used to seal the cable entry into the MV cable termination enclosure. If other than rubber grommet e.g. brass wiping gland? | BA1: LV Bushings | BB1: Make | BC1: Product code | BD1: Material (e.g. Porcelain) | BE1: Stem diameter | BF1: Detail of LV cable connection shown on drawing | BG1: Air filled enclosure on side of the tank | BH1: Stainless steel fasteners | BI1: Clearance between ph-ph and ph-earth | BJ1: Current denisty of Copper flags for LV cable connections | BK1: Earthing terminal welded to centre of side wall | BL1: Surge arrester mounted on earthing terminal in LV termination enclosure | BM1: Minimum cross-sectional area of electrolytic copper conductor fitted in parallel with the surge arrester | BN1: Number of cable gland holes | BO1: Size of gland hole | BP1: Clearance around gland hole | BQ1: Cable gland type | BR1: Losses | BS1: Loss factor base (Cost of Dx or Gx) | BT1: No-load Loss Factor, NLLF | BU1: Load Loss Factor, LLF | BV1: Guaranteed no-load losses, PNL | BW1: Amorphous Losses (Guaranteed no-load losses, PNL) | BX1: Guaranteed load losses, PLL | BY1: Impedance voltage & X/R ratio | BZ1: Impedance at principle tapping (specific design impedances to be stated) | CA1: X/R ratio | CB1: Audio-sound level (Table 8 of SANS 780) | CC1: Maximum limit of transformer audio-sound level | CD1: MV winding wire | CE1: Material (e.g. Cu or Al) | CF1: Type (e.g. Round, Strip or Foil) | CG1: LV winding wire | CH1: Material (e.g. Cu or Al) | CI1: Type (e.g. Round, Strip or Foil) | CJ1: Core material | CK1: Core material | CL1: Type/code | CM1: Maximum Flux Density of Material | CN1: Supplier | CO1: Tank and tank cover | CP1: Tank type: Sealed | CQ1: Plain, rigid or corrugated | CR1: Transformer dimensions - not exceeding underbase | CS1: Wo | CT1: Lo | CU1: Ht | CV1: Mass | CW1: Oil capacity | CX1: Transformer under base | CY1: Supplied with skid under base | CZ1: Width | DA1: Length | DB1: Lifting lugs | DC1: Lifting lugs fitted | DD1: Hole diameter | DE1: Earthing terminals | DF1: Boss material | DG1: Boss depth | DH1: Set screw material | DI1: Set screw dimensions | DJ1: Supplied with washer and spring washer | DK1: Surge arrester brackets | DL1: Surge arrester bracket required? (Yes or No) | DM1: Mounting hole diameter | DN1: Dimension D (worst case) | DO1: Dimension E (worst case) | DP1: Dimension F (worst case) | DQ1: Corrosion protection Inland transformers | DR1: Indicate the coating system (i.e. DS numbers according to DSP 34-1658) that is offered. (e.g. DS-7 for mild steel) | DS1: Tank | DT1: Radiators | DU1: Threaded rods and accessories | DV1: Colour of final coat | DW1: Corrosion protection for Coastal transformers | DX1: Indicate the coating system (i.e. DS numbers according to DSP 240-75655504) that is offered. (e.g. DS-14 + DS-15 for zinc sprayed mild steel with duplex coating) | DY1: Tank | DZ1: Radiators | EA1: Hardware and accessories | EB1: Colour of final coat | EC1: All Type Tests in Accordance with SANS 780 inc Short Circuit Withstand Tests | ED1: All Routine Tests in Accordance with SANS 780
A2: Three-phase, 25 kVA, 11 kV/420V (Coastal, Ester Oil Only) | D2: xxxxxxxxxxx | E2: xxxxxxxxxxx | F2: xxxxxxxxxxx | G2: xxxxxxxxxxx | H2: xxxxxxxxxxx | I2: xxxxxxxxxxx | J2: Ester Oil | L2: 25 | M2: 11 | N2: 420 | O2: 50 | P2: 3ph | Q2: Dyn11 or Yzn11 | S2: 95 | T2: 30 | U2: 28 | V2: 8 | X2: xxxxxxxxxxx | Y2: Grade 3 | Z2: > 0.125 | AA2: xxxxxxxxxxx | AB2: xxxxxxxxxxx | AC2: 21 | AD2: 8 | AE2: <5 | AG2: < 5 | AH2: < 5 | AI2: xxxxxxxxxxx | AJ2: xxxxxxxxxxx | AL2: Switch | AM2: 0, ±2.5, ±5 | AO2: Yes | AP2: Yes | AQ2: Type 3 | AR2: 100mm | AS2: 110mm | AT2: Min 135mm | AU2: 90mm | AV2: 50-75mm | AW2: >= 350mm | AX2: Yes | AY2: Clearance e as per SANS 876 | AZ2: Rubber grommet or other offer | BB2: xxxxxxxxxxx | BC2: xxxxxxxxxxx | BD2: xxxxxxxxxxx | BE2: M12 | BF2: Yes | BG2: Yes | BH2: Yes | BI2: 60mm | BJ2: 2.0 A/mm² or 1.6 A/mm² | BK2: Yes | BL2: Yes | BM2: 70 | BN2: 1 | BO2: ∅ 65 | BP2: 100 | BQ2: Adjustable Mechanical No. 5 | BS2: Distribution | BT2: 80500 | BU2: 17500 | BV2: ≤ 70 | BW2: ≤ 30 | BX2: ≤ 520 | BZ2: 3,0 to 4,5 | CA2: xxxxxxxxxx | CC2: ≤ 48 | CE2: xxxxxxxxxxx | CF2: xxxxxxxxxxx | CH2: xxxxxxxxxxx | CI2: xxxxxxxxxxx | CK2: Steel or Amporphous | CL2: xxxxxxxxxxx | CM2: xxxxxxxxxxx | CN2: xxxxxxxxxxx | CP2: Sealed | CQ2: xxxxxxxxxx | CS2: ≤ 1 000 | CT2: ≤ 1 500 | CU2: xxxxxxxxxxx | CV2: xxxxxxxxxxx | CW2: xxxxxxxxxxx | CY2: Yes | CZ2: 1000 | DA2: 1500 | DC2: Yes | DD2: ≥ 30 | DF2: 316 Stainless Steel or Mild Steel | DG2: ≥ 30 | DH2: 316 Stainless Steel or Mild Steel | DI2: M12 x 25 | DJ2: Yes | DL2: Yes | DM2: 14 | DN2: ≥ 200 | DO2: ≥ 190 | DP2: ≥ 150 | DS2: xxxxxxxxxxx | DT2: xxxxxxxxxxx | DU2: xxxxxxxxxxx | DV2: Avocado | DX2: Indicate Coating System | DY2: xxxxxxxxxxx | DZ2: xxxxxxxxxxx | EA2: xxxxxxxxxxx | EB2: Azure Blue | EC2: Report Numbers | ED2: Report Numbers
A3: Three-phase, 25 kVA, 22 kV/420V (Coastal, Ester Oil Only) | D3: xxxxxxxxxxx | E3: xxxxxxxxxxx | F3: xxxxxxxxxxx | G3: xxxxxxxxxxx | H3: xxxxxxxxxxx | I3: xxxxxxxxxxx | J3: Ester Oil | L3: 25 | M3: 22 | N3: 420 | O3: 50 | P3: 3ph | Q3: Dyn11 or Yzn11 | S3: 150 | T3: 30 | U3: 50 | V3: 8 | X3: xxxxxxxxxxx | Y3: Grade 3 | Z3: > 0.125 | AA3: xxxxxxxxxxx | AB3: xxxxxxxxxxx | AC3: 21 | AD3: 8 | AE3: <5 | AG3: < 5 | AH3: < 5 | AI3: xxxxxxxxxxx | AJ3: xxxxxxxxxxx | AL3: Switch | AM3: 0, ±2.5, ±5 | AO3: Yes | AP3: Yes | AQ3: Type 4 | AR3: 100mm | AS3: 110mm | AT3: Min 135mm | AU3: 90mm | AV3: 50-75mm | AW3: >= 350mm | AX3: Yes | AY3: Clearance e as per SANS 876 | AZ3: Rubber grommet or other offer | BB3: xxxxxxxxxxx | BC3: xxxxxxxxxxx | BD3: xxxxxxxxxxx | BE3: M12 | BF3: Yes | BG3: Yes | BH3: Yes | BI3: 60mm | BJ3: 2.0 A/mm² or 1.6 A/mm² | BK3: Yes | BL3: Yes | BM3: 70 | BN3: 1 | BO3: ∅ 65 | BP3: 100 | BQ3: Adjustable Mechanical No. 5 | BS3: Distribution | BT3: 80500 | BU3: 17500 | BV3: ≤ 70 | BW3: ≤ 30 | BX3: ≤ 520 | BZ3: 3,0 to 4,5 | CA3: xxxxxxxxxx | CC3: ≤ 48 | CE3: xxxxxxxxxxx | CF3: xxxxxxxxxxx | CH3: xxxxxxxxxxx | CI3: xxxxxxxxxxx | CK3: Steel or Amporphous | CL3: xxxxxxxxxxx | CM3: xxxxxxxxxxx | CN3: xxxxxxxxxxx | CP3: Sealed | CQ3: xxxxxxxxxx | CS3: ≤ 1 000 | CT3: ≤ 1 500 | CU3: xxxxxxxxxxx | CV3: xxxxxxxxxxx | CW3: xxxxxxxxxxx | CY3: Yes | CZ3: 1000 | DA3: 1500 | DC3: Yes | DD3: ≥ 30 | DF3: 316 Stainless Steel or Mild Steel | DG3: ≥ 30 | DH3: 316 Stainless Steel or Mild Steel | DI3: M12 x 25 | DJ3: Yes | DL3: Yes | DM3: 14 | DN3: ≥ 200 | DO3: ≥ 190 | DP3: ≥ 150 | DS3: xxxxxxxxxxx | DT3: xxxxxxxxxxx | DU3: xxxxxxxxxxx | DV3: Avocado | DX3: Indicate Coating System | DY3: xxxxxxxxxxx | DZ3: xxxxxxxxxxx | EA3: xxxxxxxxxxx | EB3: Azure Blue | EC3: Report Numbers | ED3: Report Numbers
A4: Three-phase, 25 kVA, 33 kV/420V (Coastal, Ester Oil Only) | D4: xxxxxxxxxxx | E4: xxxxxxxxxxx | F4: xxxxxxxxxxx | G4: xxxxxxxxxxx | H4: xxxxxxxxxxx | I4: xxxxxxxxxxx | J4: Ester Oil | L4: 25 | M4: 33 | N4: 420 | O4: 50 | P4: 3ph | Q4: Dyn11 or Yzn11 | S4: 200 | T4: 30 | U4: 70 | V4: 8 | X4: xxxxxxxxxxx | Y4: Grade 3 | Z4: > 0.125 | AA4: xxxxxxxxxxx | AB4: xxxxxxxxxxx | AC4: 21 | AD4: 8 | AE4: <5 | AG4: < 5 | AH4: < 5 | AI4: xxxxxxxxxxx | AJ4: xxxxxxxxxxx | AL4: Switch | AM4: 0, ±2.5, ±5 | AO4: Yes | AP4: Yes | AQ4: Type 4 | AR4: 100mm | AS4: 110mm | AT4: Min 135mm | AU4: 90mm | AV4: 50-75mm | AW4: >= 350mm | AX4: Yes | AY4: Clearance e as per SANS 876 | AZ4: Rubber grommet or other offer | BB4: xxxxxxxxxxx | BC4: xxxxxxxxxxx | BD4: xxxxxxxxxxx | BE4: M12 | BF4: Yes | BG4: Yes | BH4: Yes | BI4: 60mm | BJ4: 2.0 A/mm² or 1.6 A/mm² | BK4: Yes | BL4: Yes | BM4: 70 | BN4: 1 | BO4: ∅ 65 | BP4: 100 | BQ4: Adjustable Mechanical No. 5 | BS4: Distribution | BT4: 80500 | BU4: 17500 | BV4: ≤ 70 | BW4: ≤ 30 | BX4: ≤ 520 | BZ4: 3,0 to 4,5 | CA4: xxxxxxxxxx | CC4: ≤ 48 | CE4: xxxxxxxxxxx | CF4: xxxxxxxxxxx | CH4: xxxxxxxxxxx | CI4: xxxxxxxxxxx | CK4: Steel or Amporphous | CL4: xxxxxxxxxxx | CM4: xxxxxxxxxxx | CN4: xxxxxxxxxxx | CP4: Sealed | CQ4: xxxxxxxxxx | CS4: ≤ 1 000 | CT4: ≤ 1 500 | CU4: xxxxxxxxxxx | CV4: xxxxxxxxxxx | CW4: xxxxxxxxxxx | CY4: Yes | CZ4: 1000 | DA4: 1500 | DC4: Yes | DD4: ≥ 30 | DF4: 316 Stainless Steel or Mild Steel | DG4: ≥ 30 | DH4: 316 Stainless Steel or Mild Steel | DI4: M12 x 25 | DJ4: Yes | DL4: Yes | DM4: 14 | DN4: ≥ 200 | DO4: ≥ 190 | DP4: ≥ 150 | DS4: xxxxxxxxxxx | DT4: xxxxxxxxxxx | DU4: xxxxxxxxxxx | DV4: Avocado | DX4: Indicate Coating System | DY4: xxxxxxxxxxx | DZ4: xxxxxxxxxxx | EA4: xxxxxxxxxxx | EB4: Azure Blue | EC4: Report Numbers | ED4: Report Numbers
A5: Three-phase, 50 kVA, 11 kV/420V (Coastal, Ester Oil Only) | D5: xxxxxxxxxxx | E5: xxxxxxxxxxx | F5: xxxxxxxxxxx | G5: xxxxxxxxxxx | H5: xxxxxxxxxxx | I5: xxxxxxxxxxx | J5: Ester Oil | L5: 50 | M5: 11 | N5: 420 | O5: 50 | P5: 3ph | Q5: Dyn11 or Yzn11 | S5: 95 | T5: 30 | U5: 28 | V5: 8 | X5: xxxxxxxxxxx | Y5: Grade 3 | Z5: > 0.125 | AA5: xxxxxxxxxxx | AB5: xxxxxxxxxxx | AC5: 21 | AD5: 8 | AE5: <5 | AG5: < 5 | AH5: < 5 | AI5: xxxxxxxxxxx | AJ5: xxxxxxxxxxx | AL5: Switch | AM5: 0, ±2.5, ±5 | AO5: Yes | AP5: Yes | AQ5: Type 3 | AR5: 100 | AS5: 110 | AT5: Min 135 | AU5: 90 | AV5: 50-75 | AW5: >= 350 | AX5: Yes | AY5: Clearance "e" as per SANS 876 | AZ5: Rubber grommet or other offer | BB5: xxxxxxxxxxx | BC5: xxxxxxxxxxx | BD5: xxxxxxxxxxx | BE5: M12 | BF5: Yes | BG5: Yes | BH5: Yes | BI5: 60 | BJ5: 2.0 A/mm² or 1.6 A/mm² | BK5: Yes | BL5: Yes | BM5: 70 | BN5: 1 | BO5: ∅ 65 | BP5: 100 | BQ5: Adjustable Mechanical No. 5 | BS5: Distribution | BT5: 80500 | BU5: 17500 | BV5: ≤ 110 | BW5: ≤ 40 | BX5: ≤ 880 | BZ5: 3,0 to 4,5 | CA5: xxxxxxxxxx | CC5: ≤ 48 | CE5: xxxxxxxxxxx | CF5: xxxxxxxxxxx | CH5: xxxxxxxxxxx | CI5: xxxxxxxxxxx | CK5: Steel or Amporphous | CL5: xxxxxxxxxxx | CM5: xxxxxxxxxxx | CN5: xxxxxxxxxxx | CP5: Sealed | CQ5: xxxxxxxxxx | CS5: ≤ 1 000 | CT5: ≤ 1 500 | CU5: xxxxxxxxxxx | CV5: xxxxxxxxxxx | CW5: xxxxxxxxxxx | CY5: Yes | CZ5: 1000 | DA5: 1500 | DC5: Yes | DD5: ≥ 30 | DF5: 316 Stainless Steel or Mild Steel | DG5: ≥ 30 | DH5: 316 Stainless Steel or Mild Steel | DI5: M12 x 25 | DJ5: Yes | DL5: Yes | DM5: 14 | DN5: ≥ 200 | DO5: ≥ 190 | DP5: ≥ 150 | DS5: xxxxxxxxxxx | DT5: xxxxxxxxxxx | DU5: xxxxxxxxxxx | DV5: Avocado | DX5: Indicate Coating System | DY5: xxxxxxxxxxx | DZ5: xxxxxxxxxxx | EA5: xxxxxxxxxxx | EB5: Azure Blue | EC5: Report Numbers | ED5: Report Numbers
A6: Three-phase, 50 kVA, 22 kV/420V (Coastal, Ester Oil Only) | D6: xxxxxxxxxxx | E6: xxxxxxxxxxx | F6: xxxxxxxxxxx | G6: xxxxxxxxxxx | H6: xxxxxxxxxxx | I6: xxxxxxxxxxx | J6: Ester Oil | L6: 50 | M6: 22 | N6: 420 | O6: 50 | P6: 3ph | Q6: Dyn11 or Yzn11 | S6: 150 | T6: 30 | U6: 50 | V6: 8 | X6: xxxxxxxxxxx | Y6: Grade 3 | Z6: > 0.125 | AA6: xxxxxxxxxxx | AB6: xxxxxxxxxxx | AC6: 21 | AD6: 8 | AE6: <5 | AG6: < 5 | AH6: < 5 | AI6: xxxxxxxxxxx | AJ6: xxxxxxxxxxx | AL6: Switch | AM6: 0, ±2.5, ±5 | AO6: Yes | AP6: Yes | AQ6: Type 4 | AR6: 100 | AS6: 110 | AT6: Min 135 | AU6: 90 | AV6: 50-75 | AW6: >= 350 | AX6: Yes | AY6: Clearance "e" as per SANS 876 | AZ6: Rubber grommet or other offer | BB6: xxxxxxxxxxx | BC6: xxxxxxxxxxx | BD6: xxxxxxxxxxx | BE6: M12 | BF6: Yes | BG6: Yes | BH6: Yes | BI6: 60 | BJ6: 2.0 A/mm² or 1.6 A/mm² | BK6: Yes | BL6: Yes | BM6: 70 | BN6: 1 | BO6: ∅ 65 | BP6: 100 | BQ6: Adjustable Mechanical No. 5 | BS6: Distribution | BT6: 80500 | BU6: 17500 | BV6: ≤ 110 | BW6: ≤ 40 | BX6: ≤ 880 | BZ6: 3,0 to 4,5 | CA6: xxxxxxxxxx | CC6: ≤ 48 | CE6: xxxxxxxxxxx | CF6: xxxxxxxxxxx | CH6: xxxxxxxxxxx | CI6: xxxxxxxxxxx | CK6: Steel or Amporphous | CL6: xxxxxxxxxxx | CM6: xxxxxxxxxxx | CN6: xxxxxxxxxxx | CP6: Sealed | CQ6: xxxxxxxxxx | CS6: ≤ 1 000 | CT6: ≤ 1 500 | CU6: xxxxxxxxxxx | CV6: xxxxxxxxxxx | CW6: xxxxxxxxxxx | CY6: Yes | CZ6: 1000 | DA6: 1500 | DC6: Yes | DD6: ≥ 30 | DF6: 316 Stainless Steel or Mild Steel | DG6: ≥ 30 | DH6: 316 Stainless Steel or Mild Steel | DI6: M12 x 25 | DJ6: Yes | DL6: Yes | DM6: 14 | DN6: ≥ 200 | DO6: ≥ 190 | DP6: ≥ 150 | DS6: xxxxxxxxxxx | DT6: xxxxxxxxxxx | DU6: xxxxxxxxxxx | DV6: Avocado | DX6: Indicate Coating System | DY6: xxxxxxxxxxx | DZ6: xxxxxxxxxxx | EA6: xxxxxxxxxxx | EB6: Azure Blue | EC6: Report Numbers | ED6: Report Numbers
A7: Three-phase, 50 kVA, 33 kV/420V (Coastal, Ester Oil Only) | D7: xxxxxxxxxxx | E7: xxxxxxxxxxx | F7: xxxxxxxxxxx | G7: xxxxxxxxxxx | H7: xxxxxxxxxxx | I7: xxxxxxxxxxx | J7: Ester Oil | L7: 50 | M7: 33 | N7: 420 | O7: 50 | P7: 3ph | Q7: Dyn11 or Yzn11 | S7: 200 | T7: 30 | U7: 70 | V7: 8 | X7: xxxxxxxxxxx | Y7: Grade 3 | Z7: > 0.125 | AA7: xxxxxxxxxxx | AB7: xxxxxxxxxxx | AC7: 21 | AD7: 8 | AE7: <5 | AG7: < 5 | AH7: < 5 | AI7: xxxxxxxxxxx | AJ7: xxxxxxxxxxx | AL7: Switch | AM7: 0, ±2.5, ±5 | AO7: Yes | AP7: Yes | AQ7: Type 4 | AR7: 100 | AS7: 110 | AT7: Min 135 | AU7: 90 | AV7: 50-75 | AW7: >= 350 | AX7: Yes | AY7: Clearance "e" as per SANS 876 | AZ7: Rubber grommet or other offer | BB7: xxxxxxxxxxx | BC7: xxxxxxxxxxx | BD7: xxxxxxxxxxx | BE7: M12 | BF7: Yes | BG7: Yes | BH7: Yes | BI7: 60 | BJ7: 2.0 A/mm² or 1.6 A/mm² | BK7: Yes | BL7: Yes | BM7: 70 | BN7: 1 | BO7: ∅ 65 | BP7: 100 | BQ7: Adjustable Mechanical No. 5 | BS7: Distribution | BT7: 80500 | BU7: 17500 | BV7: ≤ 110 | BW7: ≤ 40 | BX7: ≤ 880 | BZ7: 3,0 to 4,5 | CA7: xxxxxxxxxx | CC7: ≤ 48 | CE7: xxxxxxxxxxx | CF7: xxxxxxxxxxx | CH7: xxxxxxxxxxx | CI7: xxxxxxxxxxx | CK7: Steel or Amporphous | CL7: xxxxxxxxxxx | CM7: xxxxxxxxxxx | CN7: xxxxxxxxxxx | CP7: Sealed | CQ7: xxxxxxxxxx | CS7: ≤ 1 000 | CT7: ≤ 1 500 | CU7: xxxxxxxxxxx | CV7: xxxxxxxxxxx | CW7: xxxxxxxxxxx | CY7: Yes | CZ7: 1000 | DA7: 1500 | DC7: Yes | DD7: ≥ 30 | DF7: 316 Stainless Steel or Mild Steel | DG7: ≥ 30 | DH7: 316 Stainless Steel or Mild Steel | DI7: M12 x 25 | DJ7: Yes | DL7: Yes | DM7: 14 | DN7: ≥ 200 | DO7: ≥ 190 | DP7: ≥ 150 | DS7: xxxxxxxxxxx | DT7: xxxxxxxxxxx | DU7: xxxxxxxxxxx | DV7: Avocado | DX7: Indicate Coating System | DY7: xxxxxxxxxxx | DZ7: xxxxxxxxxxx | EA7: xxxxxxxxxxx | EB7: Azure Blue | EC7: Report Numbers | ED7: Report Numbers
A8: Three-phase, 100 kVA, 11 kV/420V (Coastal, Ester Oil Only) | C8: 0182441 | D8: xxxxxxxxxxx | E8: xxxxxxxxxxx | F8: xxxxxxxxxxx | G8: xxxxxxxxxxx | H8: xxxxxxxxxxx | I8: xxxxxxxxxxx | J8: Ester Oil | L8: 100 | M8: 11 | N8: 420 | O8: 50 | P8: 3ph | Q8: Dyn11 or Yzn11 | S8: 95 | T8: 30 | U8: 28 | V8: 8 | X8: xxxxxxxxxxx | Y8: Grade 3 | Z8: > 0.125 | AA8: xxxxxxxxxxx | AB8: xxxxxxxxxxx | AC8: 21 | AD8: 8 | AE8: <5 | AG8: < 5 | AH8: < 5 | AI8: xxxxxxxxxxx | AJ8: xxxxxxxxxxx | AL8: Switch | AM8: 0, ±2.5, ±5 | AO8: Yes | AP8: Yes | AQ8: Type 3 | AR8: 100 | AS8: 110 | AT8: Min 135 | AU8: 90 | AV8: 50-75 | AW8: >= 350 | AX8: Yes | AY8: Clearance "e" as per SANS 876 | AZ8: Rubber grommet or other offer | BB8: xxxxxxxxxxx | BC8: xxxxxxxxxxx | BD8: xxxxxxxxxxx | BE8: M12 | BF8: Yes | BG8: Yes | BH8: Yes | BI8: 60 | BJ8: 2.0 A/mm² or 1.6 A/mm² | BK8: Yes | BL8: Yes | BM8: 70 | BN8: 1 | BO8: ∅ 65 | BP8: 100 | BQ8: Adjustable Mechanical No. 5 | BS8: Distribution | BT8: 80500 | BU8: 17500 | BV8: ≤ 190 | BW8: ≤ 70 | BX8: ≤ 1500 | BZ8: 3,0 to 4,5 | CA8: xxxxxxxxxx | CC8: ≤ 48 | CE8: xxxxxxxxxxx | CF8: xxxxxxxxxxx | CH8: xxxxxxxxxxx | CI8: xxxxxxxxxxx | CK8: Steel or Amporphous | CL8: xxxxxxxxxxx | CM8: xxxxxxxxxxx | CN8: xxxxxxxxxxx | CP8: Sealed | CQ8: xxxxxxxxxx | CS8: ≤ 1 000 | CT8: ≤ 1 500 | CU8: xxxxxxxxxxx | CV8: xxxxxxxxxxx | CW8: xxxxxxxxxxx | CY8: Yes | CZ8: 1000 | DA8: 1500 | DC8: Yes | DD8: ≥ 30 | DF8: 316 Stainless Steel or Mild Steel | DG8: ≥ 30 | DH8: 316 Stainless Steel or Mild Steel | DI8: M12 x 25 | DJ8: Yes | DL8: Yes | DM8: 14 | DN8: ≥ 200 | DO8: ≥ 190 | DP8: ≥ 150 | DS8: xxxxxxxxxxx | DT8: xxxxxxxxxxx | DU8: xxxxxxxxxxx | DV8: Avocado | DX8: Indicate Coating System | DY8: xxxxxxxxxxx | DZ8: xxxxxxxxxxx | EA8: xxxxxxxxxxx | EB8: Azure Blue | EC8: Report Numbers | ED8: Report Numbers
A9: Three-phase, 100 kVA, 22 kV/420V (Coastal, Ester Oil Only) | C9: 0182443 | D9: xxxxxxxxxxx | E9: xxxxxxxxxxx | F9: xxxxxxxxxxx | G9: xxxxxxxxxxx | H9: xxxxxxxxxxx | I9: xxxxxxxxxxx | J9: Ester Oil | L9: 100 | M9: 22 | N9: 420 | O9: 50 | P9: 3ph | Q9: Dyn11 or Yzn11 | S9: 150 | T9: 30 | U9: 50 | V9: 8 | X9: xxxxxxxxxxx | Y9: Grade 3 | Z9: > 0.125 | AA9: xxxxxxxxxxx | AB9: xxxxxxxxxxx | AC9: 21 | AD9: 8 | AE9: <5 | AG9: < 5 | AH9: < 5 | AI9: xxxxxxxxxxx | AJ9: xxxxxxxxxxx | AL9: Switch | AM9: 0, ±2.5, ±5 | AO9: Yes | AP9: Yes | AQ9: Type 4 | AR9: 100 | AS9: 110 | AT9: Min 135 | AU9: 90 | AV9: 50-75 | AW9: >= 350 | AX9: Yes | AY9: Clearance "e" as per SANS 876 | AZ9: Rubber grommet or other offer | BB9: xxxxxxxxxxx | BC9: xxxxxxxxxxx | BD9: xxxxxxxxxxx | BE9: M12 | BF9: Yes | BG9: Yes | BH9: Yes | BI9: 60 | BJ9: 2.0 A/mm² or 1.6 A/mm² | BK9: Yes | BL9: Yes | BM9: 70 | BN9: 1 | BO9: ∅ 65 | BP9: 100 | BQ9: Adjustable Mechanical No. 5 | BS9: Distribution | BT9: 80500 | BU9: 17500 | BV9: ≤ 190 | BW9: ≤ 70 | BX9: ≤ 1500 | BZ9: 3,0 to 4,5 | CA9: xxxxxxxxxx | CC9: ≤ 48 | CE9: xxxxxxxxxxx | CF9: xxxxxxxxxxx | CH9: xxxxxxxxxxx | CI9: xxxxxxxxxxx | CK9: Steel or Amporphous | CL9: xxxxxxxxxxx | CM9: xxxxxxxxxxx | CN9: xxxxxxxxxxx | CP9: Sealed | CQ9: xxxxxxxxxx | CS9: ≤ 1 000 | CT9: ≤ 1 500 | CU9: xxxxxxxxxxx | CV9: xxxxxxxxxxx | CW9: xxxxxxxxxxx | CY9: Yes | CZ9: 1000 | DA9: 1500 | DC9: Yes | DD9: ≥ 30 | DF9: 316 Stainless Steel or Mild Steel | DG9: ≥ 30 | DH9: 316 Stainless Steel or Mild Steel | DI9: M12 x 25 | DJ9: Yes | DL9: Yes | DM9: 14 | DN9: ≥ 200 | DO9: ≥ 190 | DP9: ≥ 150 | DS9: xxxxxxxxxxx | DT9: xxxxxxxxxxx | DU9: xxxxxxxxxxx | DV9: Avocado | DX9: Indicate Coating System | DY9: xxxxxxxxxxx | DZ9: xxxxxxxxxxx | EA9: xxxxxxxxxxx | EB9: Azure Blue | EC9: Report Numbers | ED9: Report Numbers
A10: Three-phase, 100 kVA, 33 kV/420V (Coastal, Ester Oil Only) | D10: xxxxxxxxxxx | E10: xxxxxxxxxxx | F10: xxxxxxxxxxx | G10: xxxxxxxxxxx | H10: xxxxxxxxxxx | I10: xxxxxxxxxxx | J10: Ester Oil | L10: 100 | M10: 33 | N10: 420 | O10: 50 | P10: 3ph | Q10: Dyn11 or Yzn11 | S10: 200 | T10: 30 | U10: 70 | V10: 8 | X10: xxxxxxxxxxx | Y10: Grade 3 | Z10: > 0.125 | AA10: xxxxxxxxxxx | AB10: xxxxxxxxxxx | AC10: 21 | AD10: 8 | AE10: <5 | AG10: < 5 | AH10: < 5 | AI10: xxxxxxxxxxx | AJ10: xxxxxxxxxxx | AL10: Switch | AM10: 0, ±2.5, ±5 | AO10: Yes | AP10: Yes | AQ10: Type 4 | AR10: 100 | AS10: 110 | AT10: Min 135 | AU10: 90 | AV10: 50-75 | AW10: >= 350 | AX10: Yes | AY10: Clearance "e" as per SANS 876 | AZ10: Rubber grommet or other offer | BB10: xxxxxxxxxxx | BC10: xxxxxxxxxxx | BD10: xxxxxxxxxxx | BE10: M12 | BF10: Yes | BG10: Yes | BH10: Yes | BI10: 60 | BJ10: 2.0 A/mm² or 1.6 A/mm² | BK10: Yes | BL10: Yes | BM10: 70 | BN10: 1 | BO10: ∅ 65 | BP10: 100 | BQ10: Adjustable Mechanical No. 5 | BS10: Distribution | BT10: 80500 | BU10: 17500 | BV10: ≤ 190 | BW10: ≤ 70 | BX10: ≤ 1500 | BZ10: 3,0 to 4,5 | CA10: xxxxxxxxxx | CC10: ≤ 48 | CE10: xxxxxxxxxxx | CF10: xxxxxxxxxxx | CH10: xxxxxxxxxxx | CI10: xxxxxxxxxxx | CK10: Steel or Amporphous | CL10: xxxxxxxxxxx | CM10: xxxxxxxxxxx | CN10: xxxxxxxxxxx | CP10: Sealed | CQ10: xxxxxxxxxx | CS10: ≤ 1 000 | CT10: ≤ 1 500 | CU10: xxxxxxxxxxx | CV10: xxxxxxxxxxx | CW10: xxxxxxxxxxx | CY10: Yes | CZ10: 1000 | DA10: 1500 | DC10: Yes | DD10: ≥ 30 | DF10: 316 Stainless Steel or Mild Steel | DG10: ≥ 30 | DH10: 316 Stainless Steel or Mild Steel | DI10: M12 x 25 | DJ10: Yes | DL10: Yes | DM10: 14 | DN10: ≥ 200 | DO10: ≥ 190 | DP10: ≥ 150 | DS10: xxxxxxxxxxx | DT10: xxxxxxxxxxx | DU10: xxxxxxxxxxx | DV10: Avocado | DX10: Indicate Coating System | DY10: xxxxxxxxxxx | DZ10: xxxxxxxxxxx | EA10: xxxxxxxxxxx | EB10: Azure Blue | EC10: Report Numbers | ED10: Report Numbers
A11: Three-phase, 200 kVA, 11 kV/420V (Coastal, Ester Oil Only) | C11: 0180189 | D11: xxxxxxxxxxx | E11: xxxxxxxxxxx | F11: xxxxxxxxxxx | G11: xxxxxxxxxxx | H11: xxxxxxxxxxx | I11: xxxxxxxxxxx | J11: Ester Oil | L11: 200 | M11: 11 | N11: 420 | O11: 50 | P11: 3ph | Q11: Dyn11 or Yzn11 | S11: 95 | T11: 30 | U11: 28 | V11: 8 | X11: xxxxxxxxxxx | Y11: Grade 3 | Z11: > 0.125 | AA11: xxxxxxxxxxx | AB11: xxxxxxxxxxx | AC11: 21 | AD11: 8 | AE11: <5 | AG11: < 5 | AH11: < 5 | AI11: xxxxxxxxxxx | AJ11: xxxxxxxxxxx | AL11: Switch | AM11: 0, ±2.5, ±5 | AO11: Yes | AP11: Yes | AQ11: Type 3 | AR11: 100 | AS11: 110 | AT11: Min 135 | AU11: 90 | AV11: 50-75 | AW11: >= 350 | AX11: Yes | AY11: Clearance "e" as per SANS 876 | AZ11: Rubber grommet or other offer | BB11: xxxxxxxxxxx | BC11: xxxxxxxxxxx | BD11: xxxxxxxxxxx | BE11: M12 | BF11: Yes | BG11: Yes | BH11: Yes | BI11: 60 | BJ11: 2.0 A/mm² or 1.6 A/mm² | BK11: Yes | BL11: Yes | BM11: 70 | BN11: 2 | BO11: ∅ 65 | BP11: 100 | BQ11: Adjustable Mechanical No. 5 | BS11: Distribution | BT11: 80500 | BU11: 17500 | BV11: ≤ 320 | BW11: ≤ 120 | BX11: ≤ 2600 | BZ11: 4,0 to 5,0 | CA11: xxxxxxxxxx | CC11: ≤ 48 | CE11: xxxxxxxxxxx | CF11: xxxxxxxxxxx | CH11: xxxxxxxxxxx | CI11: xxxxxxxxxxx | CK11: Steel or Amporphous | CL11: xxxxxxxxxxx | CM11: xxxxxxxxxxx | CN11: xxxxxxxxxxx | CP11: Sealed | CQ11: xxxxxxxxxx | CS11: ≤ 1 000 | CT11: ≤ 1 500 | CU11: xxxxxxxxxxx | CV11: xxxxxxxxxxx | CW11: xxxxxxxxxxx | CY11: Yes | CZ11: 1000 | DA11: 1500 | DC11: Yes | DD11: ≥ 30 | DF11: 316 Stainless Steel or Mild Steel | DG11: ≥ 30 | DH11: 316 Stainless Steel or Mild Steel | DI11: M12 x 25 | DJ11: Yes | DL11: Yes | DM11: 14 | DN11: ≥ 200 | DO11: ≥ 190 | DP11: ≥ 150 | DS11: xxxxxxxxxxx | DT11: xxxxxxxxxxx | DU11: xxxxxxxxxxx | DV11: Avocado | DX11: Indicate Coating System | DY11: xxxxxxxxxxx | DZ11: xxxxxxxxxxx | EA11: xxxxxxxxxxx | EB11: Azure Blue | EC11: Report Numbers | ED11: Report Numbers
A12: Three-phase, 200 kVA, 22 kV/420V (Coastal, Ester Oil Only) | C12: 0180191 | D12: xxxxxxxxxxx | E12: xxxxxxxxxxx | F12: xxxxxxxxxxx | G12: xxxxxxxxxxx | H12: xxxxxxxxxxx | I12: xxxxxxxxxxx | J12: Ester Oil | L12: 200 | M12: 22 | N12: 420 | O12: 50 | P12: 3ph | Q12: Dyn11 or Yzn11 | S12: 150 | T12: 30 | U12: 50 | V12: 8 | X12: xxxxxxxxxxx | Y12: Grade 3 | Z12: > 0.125 | AA12: xxxxxxxxxxx | AB12: xxxxxxxxxxx | AC12: 21 | AD12: 8 | AE12: <5 | AG12: < 5 | AH12: < 5 | AI12: xxxxxxxxxxx | AJ12: xxxxxxxxxxx | AL12: Switch | AM12: 0, ±2.5, ±5 | AO12: Yes | AP12: Yes | AQ12: Type 4 | AR12: 100 | AS12: 110 | AT12: Min 135 | AU12: 90 | AV12: 50-75 | AW12: >= 350 | AX12: Yes | AY12: Clearance "e" as per SANS 876 | AZ12: Rubber grommet or other offer | BB12: xxxxxxxxxxx | BC12: xxxxxxxxxxx | BD12: xxxxxxxxxxx | BE12: M12 | BF12: Yes | BG12: Yes | BH12: Yes | BI12: 60 | BJ12: 2.0 A/mm² or 1.6 A/mm² | BK12: Yes | BL12: Yes | BM12: 70 | BN12: 2 | BO12: ∅ 65 | BP12: 100 | BQ12: Adjustable Mechanical No. 5 | BS12: Distribution | BT12: 80500 | BU12: 17500 | BV12: ≤ 320 | BW12: ≤ 120 | BX12: ≤ 2600 | BZ12: 4,0 to 5,0 | CA12: xxxxxxxxxx | CC12: ≤ 48 | CE12: xxxxxxxxxxx | CF12: xxxxxxxxxxx | CH12: xxxxxxxxxxx | CI12: xxxxxxxxxxx | CK12: Steel or Amporphous | CL12: xxxxxxxxxxx | CM12: xxxxxxxxxxx | CN12: xxxxxxxxxxx | CP12: Sealed | CQ12: xxxxxxxxxx | CS12: ≤ 1 000 | CT12: ≤ 1 500 | CU12: xxxxxxxxxxx | CV12: xxxxxxxxxxx | CW12: xxxxxxxxxxx | CY12: Yes | CZ12: 1000 | DA12: 1500 | DC12: Yes | DD12: ≥ 30 | DF12: 316 Stainless Steel or Mild Steel | DG12: ≥ 30 | DH12: 316 Stainless Steel or Mild Steel | DI12: M12 x 25 | DJ12: Yes | DL12: Yes | DM12: 14 | DN12: ≥ 200 | DO12: ≥ 190 | DP12: ≥ 150 | DS12: xxxxxxxxxxx | DT12: xxxxxxxxxxx | DU12: xxxxxxxxxxx | DV12: Avocado | DX12: Indicate Coating System | DY12: xxxxxxxxxxx | DZ12: xxxxxxxxxxx | EA12: xxxxxxxxxxx | EB12: Azure Blue | EC12: Report Numbers | ED12: Report Numbers
A13: Three-phase, 200 kVA, 33 kV/420V (Coastal, Ester Oil Only) | D13: xxxxxxxxxxx | E13: xxxxxxxxxxx | F13: xxxxxxxxxxx | G13: xxxxxxxxxxx | H13: xxxxxxxxxxx | I13: xxxxxxxxxxx | J13: Ester Oil | L13: 200 | M13: 33 | N13: 420 | O13: 50 | P13: 3ph | Q13: Dyn11 or Yzn11 | S13: 200 | T13: 30 | U13: 70 | V13: 8 | X13: xxxxxxxxxxx | Y13: Grade 3 | Z13: > 0.125 | AA13: xxxxxxxxxxx | AB13: xxxxxxxxxxx | AC13: 21 | AD13: 8 | AE13: <5 | AG13: < 5 | AH13: < 5 | AI13: xxxxxxxxxxx | AJ13: xxxxxxxxxxx | AL13: Switch | AM13: 0, ±2.5, ±5 | AO13: Yes | AP13: Yes | AQ13: Type 4 | AR13: 100 | AS13: 110 | AT13: Min 135 | AU13: 90 | AV13: 50-75 | AW13: >= 350 | AX13: Yes | AY13: Clearance "e" as per SANS 876 | AZ13: Rubber grommet or other offer | BB13: xxxxxxxxxxx | BC13: xxxxxxxxxxx | BD13: xxxxxxxxxxx | BE13: M12 | BF13: Yes | BG13: Yes | BH13: Yes | BI13: 60 | BJ13: 2.0 A/mm² or 1.6 A/mm² | BK13: Yes | BL13: Yes | BM13: 70 | BN13: 2 | BO13: ∅ 65 | BP13: 100 | BQ13: Adjustable Mechanical No. 5 | BS13: Distribution | BT13: 80500 | BU13: 17500 | BV13: ≤ 320 | BW13: ≤ 120 | BX13: ≤ 2600 | BZ13: 4,0 to 5,0 | CA13: xxxxxxxxxx | CC13: ≤ 48 | CE13: xxxxxxxxxxx | CF13: xxxxxxxxxxx | CH13: xxxxxxxxxxx | CI13: xxxxxxxxxxx | CK13: Steel or Amporphous | CL13: xxxxxxxxxxx | CM13: xxxxxxxxxxx | CN13: xxxxxxxxxxx | CP13: Sealed | CQ13: xxxxxxxxxx | CS13: ≤ 1 000 | CT13: ≤ 1 500 | CU13: xxxxxxxxxxx | CV13: xxxxxxxxxxx | CW13: xxxxxxxxxxx | CY13: Yes | CZ13: 1000 | DA13: 1500 | DC13: Yes | DD13: ≥ 30 | DF13: 316 Stainless Steel or Mild Steel | DG13: ≥ 30 | DH13: 316 Stainless Steel or Mild Steel | DI13: M12 x 25 | DJ13: Yes | DL13: Yes | DM13: 14 | DN13: ≥ 200 | DO13: ≥ 190 | DP13: ≥ 150 | DS13: xxxxxxxxxxx | DT13: xxxxxxxxxxx | DU13: xxxxxxxxxxx | DV13: Avocado | DX13: Indicate Coating System | DY13: xxxxxxxxxxx | DZ13: xxxxxxxxxxx | EA13: xxxxxxxxxxx | EB13: Azure Blue | EC13: Report Numbers | ED13: Report Numbers
A14: Three-phase, 315 kVA, 11 kV/420V (Coastal, Ester Oil Only) | C14: 0180193 | D14: xxxxxxxxxxx | E14: xxxxxxxxxxx | F14: xxxxxxxxxxx | G14: xxxxxxxxxxx | H14: xxxxxxxxxxx | I14: xxxxxxxxxxx | J14: Ester Oil | L14: 315 | M14: 11 | N14: 420 | O14: 50 | P14: 3ph | Q14: Dyn11 or Yzn11 | S14: 95 | T14: 30 | U14: 28 | V14: 8 | X14: xxxxxxxxxxx | Y14: Grade 3 | Z14: > 0.125 | AA14: xxxxxxxxxxx | AB14: xxxxxxxxxxx | AC14: 21 | AD14: 8 | AE14: <5 | AG14: < 5 | AH14: < 5 | AI14: xxxxxxxxxxx | AJ14: xxxxxxxxxxx | AL14: Switch | AM14: 0, ±2.5, ±5 | AO14: Yes | AP14: Yes | AQ14: Type 3 | AR14: 100 | AS14: 110 | AT14: Min 135 | AU14: 90 | AV14: 50-75 | AW14: >= 350 | AX14: Yes | AY14: Clearance "e" as per SANS 876 | AZ14: Rubber grommet or other offer | BB14: xxxxxxxxxxx | BC14: xxxxxxxxxxx | BD14: xxxxxxxxxxx | BE14: M12 | BF14: Yes | BG14: Yes | BH14: Yes | BI14: 60 | BJ14: 2.0 A/mm² or 1.6 A/mm² | BK14: Yes | BL14: Yes | BM14: 70 | BN14: 2 | BO14: ∅ 65 | BP14: 100 | BQ14: Adjustable Mechanical No. 7 | BS14: Distribution | BT14: 80500 | BU14: 17500 | BV14: ≤ 450 | BW14: ≤ 170 | BX14: ≤ 3600 | BZ14: 4,0 to 5,0 | CA14: xxxxxxxxxx | CC14: ≤ 50 | CE14: xxxxxxxxxxx | CF14: xxxxxxxxxxx | CH14: xxxxxxxxxxx | CI14: xxxxxxxxxxx | CK14: Steel or Amporphous | CL14: xxxxxxxxxxx | CM14: xxxxxxxxxxx | CN14: xxxxxxxxxxx | CP14: Sealed | CQ14: xxxxxxxxxx | CS14: ≤ 1 000 | CT14: ≤ 1 500 | CU14: xxxxxxxxxxx | CV14: xxxxxxxxxxx | CW14: xxxxxxxxxxx | CY14: Yes | CZ14: 1000 | DA14: 1500 | DC14: Yes | DD14: ≥ 30 | DF14: 316 Stainless Steel or Mild Steel | DG14: ≥ 30 | DH14: 316 Stainless Steel or Mild Steel | DI14: M12 x 25 | DJ14: Yes | DL14: Yes | DM14: 14 | DN14: ≥ 200 | DO14: ≥ 190 | DP14: ≥ 150 | DS14: xxxxxxxxxxx | DT14: xxxxxxxxxxx | DU14: xxxxxxxxxxx | DV14: Avocado | DX14: Indicate Coating System | DY14: xxxxxxxxxxx | DZ14: xxxxxxxxxxx | EA14: xxxxxxxxxxx | EB14: Azure Blue | EC14: Report Numbers | ED14: Report Numbers
A15: Three-phase, 315 kVA, 22 kV/420V (Coastal, Ester Oil Only) | C15: 0180195 | D15: xxxxxxxxxxx | E15: xxxxxxxxxxx | F15: xxxxxxxxxxx | G15: xxxxxxxxxxx | H15: xxxxxxxxxxx | I15: xxxxxxxxxxx | J15: Ester Oil | L15: 315 | M15: 22 | N15: 420 | O15: 50 | P15: 3ph | Q15: Dyn11 or Yzn11 | S15: 150 | T15: 30 | U15: 50 | V15: 8 | X15: xxxxxxxxxxx | Y15: Grade 3 | Z15: > 0.125 | AA15: xxxxxxxxxxx | AB15: xxxxxxxxxxx | AC15: 21 | AD15: 8 | AE15: <5 | AG15: < 5 | AH15: < 5 | AI15: xxxxxxxxxxx | AJ15: xxxxxxxxxxx | AL15: Switch | AM15: 0, ±2.5, ±5 | AO15: Yes | AP15: Yes | AQ15: Type 4 | AR15: 100 | AS15: 110 | AT15: Min 135 | AU15: 90 | AV15: 50-75 | AW15: >= 350 | AX15: Yes | AY15: Clearance "e" as per SANS 876 | AZ15: Rubber grommet or other offer | BB15: xxxxxxxxxxx | BC15: xxxxxxxxxxx | BD15: xxxxxxxxxxx | BE15: M12 | BF15: Yes | BG15: Yes | BH15: Yes | BI15: 60 | BJ15: 2.0 A/mm² or 1.6 A/mm² | BK15: Yes | BL15: Yes | BM15: 70 | BN15: 2 | BO15: ∅ 65 | BP15: 100 | BQ15: Adjustable Mechanical No. 7 | BS15: Distribution | BT15: 80500 | BU15: 17500 | BV15: ≤ 450 | BW15: ≤ 170 | BX15: ≤ 3600 | BZ15: 4,0 to 5,0 | CA15: xxxxxxxxxx | CC15: ≤ 50 | CE15: xxxxxxxxxxx | CF15: xxxxxxxxxxx | CH15: xxxxxxxxxxx | CI15: xxxxxxxxxxx | CK15: Steel or Amporphous | CL15: xxxxxxxxxxx | CM15: xxxxxxxxxxx | CN15: xxxxxxxxxxx | CP15: Sealed | CQ15: xxxxxxxxxx | CS15: ≤ 1 000 | CT15: ≤ 1 500 | CU15: xxxxxxxxxxx | CV15: xxxxxxxxxxx | CW15: xxxxxxxxxxx | CY15: Yes | CZ15: 1000 | DA15: 1500 | DC15: Yes | DD15: ≥ 30 | DF15: 316 Stainless Steel or Mild Steel | DG15: ≥ 30 | DH15: 316 Stainless Steel or Mild Steel | DI15: M12 x 25 | DJ15: Yes | DL15: Yes | DM15: 14 | DN15: ≥ 200 | DO15: ≥ 190 | DP15: ≥ 150 | DS15: xxxxxxxxxxx | DT15: xxxxxxxxxxx | DU15: xxxxxxxxxxx | DV15: Avocado | DX15: Indicate Coating System | DY15: xxxxxxxxxxx | DZ15: xxxxxxxxxxx | EA15: xxxxxxxxxxx | EB15: Azure Blue | EC15: Report Numbers | ED15: Report Numbers
A16: Three-phase, 315 kVA, 33 kV/420V (Coastal, Ester Oil Only) | D16: xxxxxxxxxxx | E16: xxxxxxxxxxx | F16: xxxxxxxxxxx | G16: xxxxxxxxxxx | H16: xxxxxxxxxxx | I16: xxxxxxxxxxx | J16: Ester Oil | L16: 315 | M16: 33 | N16: 420 | O16: 50 | P16: 3ph | Q16: Dyn11 or Yzn11 | S16: 200 | T16: 30 | U16: 70 | V16: 8 | X16: xxxxxxxxxxx | Y16: Grade 3 | Z16: > 0.125 | AA16: xxxxxxxxxxx | AB16: xxxxxxxxxxx | AC16: 21 | AD16: 8 | AE16: <5 | AG16: < 5 | AH16: < 5 | AI16: xxxxxxxxxxx | AJ16: xxxxxxxxxxx | AL16: Switch | AM16: 0, ±2.5, ±5 | AO16: Yes | AP16: Yes | AQ16: Type 4 | AR16: 100 | AS16: 110 | AT16: Min 135 | AU16: 90 | AV16: 50-75 | AW16: >= 350 | AX16: Yes | AY16: Clearance "e" as per SANS 876 | AZ16: Rubber grommet or other offer | BB16: xxxxxxxxxxx | BC16: xxxxxxxxxxx | BD16: xxxxxxxxxxx | BE16: M12 | BF16: Yes | BG16: Yes | BH16: Yes | BI16: 60 | BJ16: 2.0 A/mm² or 1.6 A/mm² | BK16: Yes | BL16: Yes | BM16: 70 | BN16: 2 | BO16: ∅ 65 | BP16: 100 | BQ16: Adjustable Mechanical No. 7 | BS16: Distribution | BT16: 80500 | BU16: 17500 | BV16: ≤ 450 | BW16: ≤ 170 | BX16: ≤ 3600 | BZ16: 4,0 to 5,0 | CA16: xxxxxxxxxx | CC16: ≤ 50 | CE16: xxxxxxxxxxx | CF16: xxxxxxxxxxx | CH16: xxxxxxxxxxx | CI16: xxxxxxxxxxx | CK16: Steel or Amporphous | CL16: xxxxxxxxxxx | CM16: xxxxxxxxxxx | CN16: xxxxxxxxxxx | CP16: Sealed | CQ16: xxxxxxxxxx | CS16: ≤ 1 000 | CT16: ≤ 1 500 | CU16: xxxxxxxxxxx | CV16: xxxxxxxxxxx | CW16: xxxxxxxxxxx | CY16: Yes | CZ16: 1000 | DA16: 1500 | DC16: Yes | DD16: ≥ 30 | DF16: 316 Stainless Steel or Mild Steel | DG16: ≥ 30 | DH16: 316 Stainless Steel or Mild Steel | DI16: M12 x 25 | DJ16: Yes | DL16: Yes | DM16: 14 | DN16: ≥ 200 | DO16: ≥ 190 | DP16: ≥ 150 | DS16: xxxxxxxxxxx | DT16: xxxxxxxxxxx | DU16: xxxxxxxxxxx | DV16: Avocado | DX16: Indicate Coating System | DY16: xxxxxxxxxxx | DZ16: xxxxxxxxxxx | EA16: xxxxxxxxxxx | EB16: Azure Blue | EC16: Report Numbers | ED16: Report Numbers
A17: Three-phase, 500 kVA, 11 kV/420V (Coastal, Ester Oil Only) | C17: 0180197 | D17: xxxxxxxxxxx | E17: xxxxxxxxxxx | F17: xxxxxxxxxxx | G17: xxxxxxxxxxx | H17: xxxxxxxxxxx | I17: xxxxxxxxxxx | J17: Ester Oil | L17: 500 | M17: 11 | N17: 420 | O17: 50 | P17: 3ph | Q17: Dyn11 or Yzn11 | S17: 95 | T17: 30 | U17: 28 | V17: 8 | X17: xxxxxxxxxxx | Y17: Grade 3 | Z17: > 0.125 | AA17: xxxxxxxxxxx | AB17: xxxxxxxxxxx | AC17: 21 | AD17: 8 | AE17: <5 | AG17: < 5 | AH17: < 5 | AI17: xxxxxxxxxxx | AJ17: xxxxxxxxxxx | AL17: Switch | AM17: 0, ±2.5, ±5 | AO17: Yes | AP17: Yes | AQ17: Type 3 | AR17: 100 | AS17: 110 | AT17: Min 135 | AU17: 90 | AV17: 50-75 | AW17: >= 350 | AX17: Yes | AY17: Clearance "e" as per SANS 876 | AZ17: Rubber grommet or other offer | BB17: xxxxxxxxxxx | BC17: xxxxxxxxxxx | BD17: xxxxxxxxxxx | BE17: M12 | BF17: Yes | BG17: Yes | BH17: Yes | BI17: 60 | BJ17: 2.0 A/mm² or 1.6 A/mm² | BK17: Yes | BL17: Yes | BM17: 70 | BN17: 3 | BO17: ∅ 65 | BP17: 100 | BQ17: Adjustable Mechanical No. 7 | BS17: Distribution | BT17: 80500 | BU17: 17500 | BV17: ≤ 630 | BW17: ≤ 230 | BX17: ≤ 5200 | BZ17: 4,5 to 5,5 | CA17: xxxxxxxxxx | CC17: ≤ 52 | CE17: xxxxxxxxxxx | CF17: xxxxxxxxxxx | CH17: xxxxxxxxxxx | CI17: xxxxxxxxxxx | CK17: Steel or Amporphous | CL17: xxxxxxxxxxx | CM17: xxxxxxxxxxx | CN17: xxxxxxxxxxx | CP17: Sealed | CQ17: xxxxxxxxxx | CS17: ≤ 1 000 | CT17: ≤ 1 500 | CU17: xxxxxxxxxxx | CV17: xxxxxxxxxxx | CW17: xxxxxxxxxxx | CY17: Yes | CZ17: 1000 | DA17: 1500 | DC17: Yes | DD17: ≥ 30 | DF17: 316 Stainless Steel or Mild Steel | DG17: ≥ 30 | DH17: 316 Stainless Steel or Mild Steel | DI17: M12 x 25 | DJ17: Yes | DL17: Yes | DM17: 14 | DN17: ≥ 200 | DO17: ≥ 190 | DP17: ≥ 150 | DS17: xxxxxxxxxxx | DT17: xxxxxxxxxxx | DU17: xxxxxxxxxxx | DV17: Avocado | DX17: Indicate Coating System | DY17: xxxxxxxxxxx | DZ17: xxxxxxxxxxx | EA17: xxxxxxxxxxx | EB17: Azure Blue | EC17: Report Numbers | ED17: Report Numbers
A18: Three-phase, 500 kVA, 22 kV/420V (Coastal, Ester Oil Only) | C18: 0180199 | D18: xxxxxxxxxxx | E18: xxxxxxxxxxx | F18: xxxxxxxxxxx | G18: xxxxxxxxxxx | H18: xxxxxxxxxxx | I18: xxxxxxxxxxx | J18: Ester Oil | L18: 500 | M18: 22 | N18: 420 | O18: 50 | P18: 3ph | Q18: Dyn11 or Yzn11 | S18: 150 | T18: 30 | U18: 50 | V18: 8 | X18: xxxxxxxxxxx | Y18: Grade 3 | Z18: > 0.125 | AA18: xxxxxxxxxxx | AB18: xxxxxxxxxxx | AC18: 21 | AD18: 8 | AE18: <5 | AG18: < 5 | AH18: < 5 | AI18: xxxxxxxxxxx | AJ18: xxxxxxxxxxx | AL18: Switch | AM18: 0, ±2.5, ±5 | AO18: Yes | AP18: Yes | AQ18: Type 4 | AR18: 100 | AS18: 110 | AT18: Min 135 | AU18: 90 | AV18: 50-75 | AW18: >= 350 | AX18: Yes | AY18: Clearance "e" as per SANS 876 | AZ18: Rubber grommet or other offer | BB18: xxxxxxxxxxx | BC18: xxxxxxxxxxx | BD18: xxxxxxxxxxx | BE18: M12 | BF18: Yes | BG18: Yes | BH18: Yes | BI18: 60 | BJ18: 2.0 A/mm² or 1.6 A/mm² | BK18: Yes | BL18: Yes | BM18: 70 | BN18: 3 | BO18: ∅ 65 | BP18: 100 | BQ18: Adjustable Mechanical No. 7 | BS18: Distribution | BT18: 80500 | BU18: 17500 | BV18: ≤ 630 | BW18: ≤ 230 | BX18: ≤ 5200 | BZ18: 4,5 to 5,5 | CA18: xxxxxxxxxx | CC18: ≤ 52 | CE18: xxxxxxxxxxx | CF18: xxxxxxxxxxx | CH18: xxxxxxxxxxx | CI18: xxxxxxxxxxx | CK18: Steel or Amporphous | CL18: xxxxxxxxxxx | CM18: xxxxxxxxxxx | CN18: xxxxxxxxxxx | CP18: Sealed | CQ18: xxxxxxxxxx | CS18: ≤ 1 000 | CT18: ≤ 1 500 | CU18: xxxxxxxxxxx | CV18: xxxxxxxxxxx | CW18: xxxxxxxxxxx | CY18: Yes | CZ18: 1000 | DA18: 1500 | DC18: Yes | DD18: ≥ 30 | DF18: 316 Stainless Steel or Mild Steel | DG18: ≥ 30 | DH18: 316 Stainless Steel or Mild Steel | DI18: M12 x 25 | DJ18: Yes | DL18: Yes | DM18: 14 | DN18: ≥ 200 | DO18: ≥ 190 | DP18: ≥ 150 | DS18: xxxxxxxxxxx | DT18: xxxxxxxxxxx | DU18: xxxxxxxxxxx | DV18: Avocado | DX18: Indicate Coating System | DY18: xxxxxxxxxxx | DZ18: xxxxxxxxxxx | EA18: xxxxxxxxxxx | EB18: Azure Blue | EC18: Report Numbers | ED18: Report Numbers
A19: Three-phase, 500 kVA, 33 kV/420V (Coastal, Ester Oil Only) | D19: xxxxxxxxxxx | E19: xxxxxxxxxxx | F19: xxxxxxxxxxx | G19: xxxxxxxxxxx | H19: xxxxxxxxxxx | I19: xxxxxxxxxxx | J19: Ester Oil | L19: 500 | M19: 33 | N19: 420 | O19: 50 | P19: 3ph | Q19: Dyn11 or Yzn11 | S19: 200 | T19: 30 | U19: 70 | V19: 8 | X19: xxxxxxxxxxx | Y19: Grade 3 | Z19: > 0.125 | AA19: xxxxxxxxxxx | AB19: xxxxxxxxxxx | AC19: 21 | AD19: 8 | AE19: <5 | AG19: < 5 | AH19: < 5 | AI19: xxxxxxxxxxx | AJ19: xxxxxxxxxxx | AL19: Switch | AM19: 0, ±2.5, ±5 | AO19: Yes | AP19: Yes | AQ19: Type 4 | AR19: 100 | AS19: 110 | AT19: Min 135 | AU19: 90 | AV19: 50-75 | AW19: >= 350 | AX19: Yes | AY19: Clearance "e" as per SANS 876 | AZ19: Rubber grommet or other offer | BB19: xxxxxxxxxxx | BC19: xxxxxxxxxxx | BD19: xxxxxxxxxxx | BE19: M12 | BF19: Yes | BG19: Yes | BH19: Yes | BI19: 60 | BJ19: 2.0 A/mm² or 1.6 A/mm² | BK19: Yes | BL19: Yes | BM19: 70 | BN19: 3 | BO19: ∅ 65 | BP19: 100 | BQ19: Adjustable Mechanical No. 7 | BS19: Distribution | BT19: 80500 | BU19: 17500 | BV19: ≤ 630 | BW19: ≤ 230 | BX19: ≤ 5200 | BZ19: 4,5 to 5,5 | CA19: xxxxxxxxxx | CC19: ≤ 52 | CE19: xxxxxxxxxxx | CF19: xxxxxxxxxxx | CH19: xxxxxxxxxxx | CI19: xxxxxxxxxxx | CK19: Steel or Amporphous | CL19: xxxxxxxxxxx | CM19: xxxxxxxxxxx | CN19: xxxxxxxxxxx | CP19: Sealed | CQ19: xxxxxxxxxx | CS19: ≤ 1 000 | CT19: ≤ 1 500 | CU19: xxxxxxxxxxx | CV19: xxxxxxxxxxx | CW19: xxxxxxxxxxx | CY19: Yes | CZ19: 1000 | DA19: 1500 | DC19: Yes | DD19: ≥ 30 | DF19: 316 Stainless Steel or Mild Steel | DG19: ≥ 30 | DH19: 316 Stainless Steel or Mild Steel | DI19: M12 x 25 | DJ19: Yes | DL19: Yes | DM19: 14 | DN19: ≥ 200 | DO19: ≥ 190 | DP19: ≥ 150 | DS19: xxxxxxxxxxx | DT19: xxxxxxxxxxx | DU19: xxxxxxxxxxx | DV19: Avocado | DX19: Indicate Coating System | DY19: xxxxxxxxxxx | DZ19: xxxxxxxxxxx | EA19: xxxxxxxxxxx | EB19: Azure Blue | EC19: Report Numbers | ED19: Report Numbers
A20: Three-phase, 1000 kVA, 11 kV/420V (Coastal, Ester Oil Only) | C20: 0182445 | D20: xxxxxxxxxxx | E20: xxxxxxxxxxx | F20: xxxxxxxxxxx | G20: xxxxxxxxxxx | H20: xxxxxxxxxxx | I20: xxxxxxxxxxx | J20: Ester Oil | L20: 1000 | M20: 11 | N20: 420 | O20: 50 | P20: 3ph | Q20: Dyn11 or Yzn11 | S20: 95 | T20: 30 | U20: 28 | V20: 8 | X20: xxxxxxxxxxx | Y20: Grade 3 | Z20: > 0.125 | AA20: xxxxxxxxxxx | AB20: xxxxxxxxxxx | AC20: 21 | AD20: 8 | AE20: <5 | AG20: < 5 | AH20: < 5 | AI20: xxxxxxxxxxx | AJ20: xxxxxxxxxxx | AL20: Switch | AM20: 0, ±2.5, ±5 | AO20: Yes | AP20: Yes | AQ20: Type 3 | AR20: 100 | AS20: 110 | AT20: Min 135 | AU20: 90 | AV20: 50-75 | AW20: >= 350 | AX20: Yes | AY20: Clearance "e" as per SANS 876 | AZ20: Rubber grommet or other offer | BB20: xxxxxxxxxxx | BC20: xxxxxxxxxxx | BD20: xxxxxxxxxxx | BE20: M12 | BF20: Yes | BG20: Yes | BH20: Yes | BI20: 60 | BJ20: 2.0 A/mm² or 1.6 A/mm² | BK20: Yes | BL20: Yes | BM20: 70 | BN20: 7 (2 per phase, 1 for neutral) | BO20: ∅ 50 | BP20: 85 | BQ20: Compression Type A2 No. 5 | BS20: Distribution | BT20: 80500 | BU20: 17500 | BV20: ≤ 1 070 | BW20: ≤ 390 | BX20: ≤ 8900 | BZ20: 4,5 to 5,5 | CA20: xxxxxxxxxx | CC20: ≤ 56 | CE20: xxxxxxxxxxx | CF20: xxxxxxxxxxx | CH20: xxxxxxxxxxx | CI20: xxxxxxxxxxx | CK20: Steel or Amporphous | CL20: xxxxxxxxxxx | CM20: xxxxxxxxxxx | CN20: xxxxxxxxxxx | CP20: Sealed | CQ20: xxxxxxxxxx | CS20: ≤ 1 000 | CT20: ≤ 1 500 | CU20: xxxxxxxxxxx | CV20: xxxxxxxxxxx | CW20: xxxxxxxxxxx | CY20: Yes | CZ20: 1000 | DA20: 1500 | DC20: Yes | DD20: ≥ 30 | DF20: 316 Stainless Steel or Mild Steel | DG20: ≥ 30 | DH20: 316 Stainless Steel or Mild Steel | DI20: M12 x 25 | DJ20: Yes | DL20: Yes | DM20: 14 | DN20: ≥ 200 | DO20: ≥ 190 | DP20: ≥ 150 | DS20: xxxxxxxxxxx | DT20: xxxxxxxxxxx | DU20: xxxxxxxxxxx | DV20: Avocado | DX20: Indicate Coating System | DY20: xxxxxxxxxxx | DZ20: xxxxxxxxxxx | EA20: xxxxxxxxxxx | EB20: Azure Blue | EC20: Report Numbers | ED20: Report Numbers
A21: Three-phase, 1000 kVA, 22 kV/420V (Coastal, Ester Oil Only) | C21: 0182447 | D21: xxxxxxxxxxx | E21: xxxxxxxxxxx | F21: xxxxxxxxxxx | G21: xxxxxxxxxxx | H21: xxxxxxxxxxx | I21: xxxxxxxxxxx | J21: Ester Oil | L21: 1000 | M21: 22 | N21: 420 | O21: 50 | P21: 3ph | Q21: Dyn11 or Yzn11 | S21: 150 | T21: 30 | U21: 50 | V21: 8 | X21: xxxxxxxxxxx | Y21: Grade 3 | Z21: > 0.125 | AA21: xxxxxxxxxxx | AB21: xxxxxxxxxxx | AC21: 21 | AD21: 8 | AE21: <5 | AG21: < 5 | AH21: < 5 | AI21: xxxxxxxxxxx | AJ21: xxxxxxxxxxx | AL21: Switch | AM21: 0, ±2.5, ±5 | AO21: Yes | AP21: Yes | AQ21: Type 4 | AR21: 100 | AS21: 110 | AT21: Min 135 | AU21: 90 | AV21: 50-75 | AW21: >= 350 | AX21: Yes | AY21: Clearance "e" as per SANS 876 | AZ21: Rubber grommet or other offer | BB21: xxxxxxxxxxx | BC21: xxxxxxxxxxx | BD21: xxxxxxxxxxx | BE21: M12 | BF21: Yes | BG21: Yes | BH21: Yes | BI21: 60 | BJ21: 2.0 A/mm² or 1.6 A/mm² | BK21: Yes | BL21: Yes | BM21: 70 | BN21: 7 (2 per phase, 1 for neutral) | BO21: ∅ 50 | BP21: 85 | BQ21: Compression Type A2 No. 5 | BS21: Distribution | BT21: 80500 | BU21: 17500 | BV21: ≤ 1 070 | BW21: ≤ 390 | BX21: ≤ 8900 | BZ21: 4,5 to 5,5 | CA21: xxxxxxxxxx | CC21: ≤ 56 | CE21: xxxxxxxxxxx | CF21: xxxxxxxxxxx | CH21: xxxxxxxxxxx | CI21: xxxxxxxxxxx | CK21: Steel or Amporphous | CL21: xxxxxxxxxxx | CM21: xxxxxxxxxxx | CN21: xxxxxxxxxxx | CP21: Sealed | CQ21: xxxxxxxxxx | CS21: ≤ 1 000 | CT21: ≤ 1 500 | CU21: xxxxxxxxxxx | CV21: xxxxxxxxxxx | CW21: xxxxxxxxxxx | CY21: Yes | CZ21: 1000 | DA21: 1500 | DC21: Yes | DD21: ≥ 30 | DF21: 316 Stainless Steel or Mild Steel | DG21: ≥ 30 | DH21: 316 Stainless Steel or Mild Steel | DI21: M12 x 25 | DJ21: Yes | DL21: Yes | DM21: 14 | DN21: ≥ 200 | DO21: ≥ 190 | DP21: ≥ 150 | DS21: xxxxxxxxxxx | DT21: xxxxxxxxxxx | DU21: xxxxxxxxxxx | DV21: Avocado | DX21: Indicate Coating System | DY21: xxxxxxxxxxx | DZ21: xxxxxxxxxxx | EA21: xxxxxxxxxxx | EB21: Azure Blue | EC21: Report Numbers | ED21: Report Numbers
A22: Three-phase, 1000 kVA, 33 kV/420V (Coastal, Ester Oil Only) | D22: xxxxxxxxxxx | E22: xxxxxxxxxxx | F22: xxxxxxxxxxx | G22: xxxxxxxxxxx | H22: xxxxxxxxxxx | I22: xxxxxxxxxxx | J22: Ester Oil | L22: 1000 | M22: 33 | N22: 420 | O22: 50 | P22: 3ph | Q22: Dyn11 or Yzn11 | S22: 200 | T22: 30 | U22: 70 | V22: 8 | X22: xxxxxxxxxxx | Y22: Grade 3 | Z22: > 0.125 | AA22: xxxxxxxxxxx | AB22: xxxxxxxxxxx | AC22: 21 | AD22: 8 | AE22: <5 | AG22: < 5 | AH22: < 5 | AI22: xxxxxxxxxxx | AJ22: xxxxxxxxxxx | AL22: Switch | AM22: 0, ±2.5, ±5 | AO22: Yes | AP22: Yes | AQ22: Type 4 | AR22: 100 | AS22: 110 | AT22: Min 135 | AU22: 90 | AV22: 50-75 | AW22: >= 350 | AX22: Yes | AY22: Clearance "e" as per SANS 876 | AZ22: Rubber grommet or other offer | BB22: xxxxxxxxxxx | BC22: xxxxxxxxxxx | BD22: xxxxxxxxxxx | BE22: M12 | BF22: Yes | BG22: Yes | BH22: Yes | BI22: 60 | BJ22: 2.0 A/mm² or 1.6 A/mm² | BK22: Yes | BL22: Yes | BM22: 70 | BN22: 7 (2 per phase, 1 for neutral) | BO22: ∅ 50 | BP22: 85 | BQ22: Compression Type A2 No. 5 | BS22: Distribution | BT22: 80500 | BU22: 17500 | BV22: ≤ 1 070 | BW22: ≤ 390 | BX22: ≤ 8900 | BZ22: 4,5 to 5,5 | CA22: xxxxxxxxxx | CC22: ≤ 56 | CE22: xxxxxxxxxxx | CF22: xxxxxxxxxxx | CH22: xxxxxxxxxxx | CI22: xxxxxxxxxxx | CK22: Steel or Amporphous | CL22: xxxxxxxxxxx | CM22: xxxxxxxxxxx | CN22: xxxxxxxxxxx | CP22: Sealed | CQ22: xxxxxxxxxx | CS22: ≤ 1 000 | CT22: ≤ 1 500 | CU22: xxxxxxxxxxx | CV22: xxxxxxxxxxx | CW22: xxxxxxxxxxx | CY22: Yes | CZ22: 1000 | DA22: 1500 | DC22: Yes | DD22: ≥ 30 | DF22: 316 Stainless Steel or Mild Steel | DG22: ≥ 30 | DH22: 316 Stainless Steel or Mild Steel | DI22: M12 x 25 | DJ22: Yes | DL22: Yes | DM22: 14 | DN22: ≥ 200 | DO22: ≥ 190 | DP22: ≥ 150 | DS22: xxxxxxxxxxx | DT22: xxxxxxxxxxx | DU22: xxxxxxxxxxx | DV22: Avocado | DX22: Indicate Coating System | DY22: xxxxxxxxxxx | DZ22: xxxxxxxxxxx | EA22: xxxxxxxxxxx | EB22: Azure Blue | EC22: Report Numbers | ED22: Report Numbers
A23: 1 | B23: 2 | C23: 3 | D23: 4 | E23: 5 | F23: 6 | G23: 7 | H23: 8 | I23: 9 | J23: 10 | K23: 11 | L23: 12 | M23: 13 | N23: 14 | O23: 15 | P23: 16 | Q23: 17 | R23: 18 | S23: 19 | T23: 20 | U23: 21 | V23: 22 | W23: 23 | X23: 24 | Y23: 25 | Z23: 26 | AA23: 27 | AB23: 28 | AC23: 29 | AD23: 30 | AE23: 31 | AF23: 32 | AG23: 33 | AH23: 34 | AI23: 35 | AJ23: 36 | AK23: 37 | AL23: 38 | AM23: 39 | AN23: 40 | AO23: 41 | AP23: 42 | AQ23: 43 | AR23: 44 | AS23: 45 | AT23: 46 | AU23: 47 | AV23: 48 | AW23: 49 | AX23: 50 | AY23: 51 | AZ23: 52 | BA23: 53 | BB23: 54 | BC23: 55 | BD23: 56 | BE23: 57 | BF23: 58 | BG23: 59 | BH23: 60 | BI23: 61 | BJ23: 62 | BK23: 63 | BL23: 64 | BM23: 65 | BN23: 66 | BO23: 67 | BP23: 68 | BQ23: 69 | BR23: 70 | BS23: 71 | BT23: 72 | BU23: 73 | BV23: 74 | BW23: 75 | BX23: 76 | BY23: 77 | BZ23: 78 | CA23: 79 | CB23: 80 | CC23: 81 | CD23: 82 | CE23: 83 | CF23: 84 | CG23: 85 | CH23: 86 | CI23: 87 | CJ23: 88 | CK23: 89 | CL23: 90 | CM23: 91 | CN23: 92 | CO23: 93 | CP23: 94 | CQ23: 95 | CR23: 96 | CS23: 97 | CT23: 98 | CU23: 99 | CV23: 100 | CW23: 101 | CX23: 102 | CY23: 103 | CZ23: 104 | DA23: 105 | DB23: 106 | DC23: 107 | DD23: 108 | DE23: 109 | DF23: 110 | DG23: 111 | DH23: 112 | DI23: 113 | DJ23: 114 | DK23: 115 | DL23: 116 | DM23: 117 | DN23: 118 | DO23: 119 | DP23: 120 | DQ23: 121 | DR23: 122 | DS23: 123 | DT23: 124 | DU23: 125 | DV23: 126 | DW23: 127 | DX23: 128 | DY23: 129 | DZ23: 130 | EA23: 131 | EB23: 132 | EC23: 133 | ED23: 134
BV24: Update as per 240-151534440 | BW24: Update as per 240-151534440 | BX24: Update as per 240-151534440 | DK24: Surge arresters are not on-board on the GMT, but at the MV OHL/Cable termination structure | DQ24: inland no longer catered for in spec
BM25: The spec only stipulates 70mm2 - I think the additional sizes were mistakenly included as these are the LV Cable sizes
BM28: Minimum cross-sectional area of electrolytic copper conductor fitted in parallel with the surge arrester
BM29: 70mm²
BM30: 70mm²
BM31: 70mm²
BM32: 70mm²
BM33: 70mm²
BM34: 70mm²
BM35: 70mm²
BM36: 70mm²
BM37: 70mm²
BM38: 70mm²
... BM49: 500mm²
BM50: 65

Sheet Deviation Schedule
A1: Deviation schedule
A2: Specification: DSP 240-45395762 Rev.4 Enquiry no.:
A3: SAP No.: | I3: BIDDER TO STATE SAP NUMBER
A4: Any deviations offered to this specification shall be listed below with reasons for deviation. In addition, evidence shall be provided that the proposed deviation will at least be more cost-effective that that specified by Eskom.
A5: Item | B5: Clause | C5: Description of Deviation
B37: SUPPLIER SIGNATURES
B40: Name (Print) | F40: Company Name
B44: Sign | F44: Date

Sheet GMT Schedule-DropDown Selector
F3: Specification: DSP 240- 45395762 Rev.4
F4: ='List of Items & Enquiry number'!B14 -> Enquiry Number: 123456XYZ
D6: TECHNICAL SCHEDULES A & B FOR GROUND-MOUNTED DISTRIBUTION TRANSFORMERS
D7: Select Item
F8: Deviations from the specific requirements stated in Schedule A must be recorded and explained in the Deviation Schedule
B9: Schedule A: Purchaser's specific requirements
B10: Schedule B: Guarantees and technical particulars of equipment offered
B11: Item | C11: Sub-clause of 240- 45395762 | D11: Description | F11: Schedule A | G11: Schedule B
B12: 1 | D12: Identification
B13: 1.1 | D13: Eskom SAP Number | F13: =VLOOKUP($D$7,'Source Data'!$A$2:$ED$22,3,FALSE) -> #N/A | G13: xxxxxxxxxxx
B14: 1.2 | D14: Name of manufacturer | F14: =VLOOKUP($D$7,'Source Data'!$A$2:$ED$22,4,FALSE) -> #N/A
B15: 1.3 | D15: Name of supplier | F15: =VLOOKUP($D$7,'Source Data'!$A$2:$ED$22,5,FALSE) -> #N/A
B16: 1.4 | D16: Product code for Coastal transformers | F16: =VLOOKUP($D$7,'Source Data'!$A$2:$ED$22,7,FALSE) -> #N/A
B17: 1.5 | D17: Are the transformers covered by the SANS 780 certification mark? | F17: =VLOOKUP($D$7,'Source Data'!$A$2:$ED$22,8,FALSE) -> #N/A
B18: 1.6 | D18: State SANS 780 permit number | F18: =VLOOKUP($D$7,'Source Data'!$A$2:$ED$22,9,FALSE) -> #N/A
B19: 1.7 | D19: Oil Type | F19: =VLOOKUP($D$7,'Source Data'!$A$2:$ED$22,10,FALSE) -> #N/A
B20: 2 | C20: 3.2 | D20: Ratings
B21: 2.1 | D21: Power rating | E21: kVA | F21: =VLOOKUP($D$7,'Source Data'!$A$2:$ED$22,12,FALSE) -> #N/A
B22: 2.2 | D22: Rated primary voltage | E22: kV | F22: =VLOOKUP($D$7,'Source Data'!$A$2:$ED$22,13,FALSE) -> #N/A
B23: 2.3 | D23: Rated no-load secondary voltage | E23: V | F23: =VLOOKUP($D$7,'Source Data'!$A$2:$ED$22,14,FALSE) -> #N/A
B24: 2.4 | D24: Frequency | E24: Hz | F24: =VLOOKUP($D$7,'Source Data'!$A$2:$ED$22,15,FALSE) -> #N/A
B25: 2.5 | D25: Number of phases | F25: =VLOOKUP($D$7,'Source Data'!$A$2:$ED$22,16,FALSE) -> #N/A
B26: 2.6 | D26: Vector Group | F26: =VLOOKUP($D$7,'Source Data'!$A$2:$ED$22,17,FALSE) -> #N/A
B27: 3 | C27: 3.2.5 | D27: Insulation levels
B28: 3.1 | D28: BIL - Primary | E28: kV | F28: =VLOOKUP($D$7,'Source Data'!$A$2:$ED$22,19,FALSE) -> #N/A
B29: 3.2 | D29: BIL - Secondary | E29: kV | F29: =VLOOKUP($D$7,'Source Data'!$A$2:$ED$22,20,FALSE) -> #N/A
B30: 3.3 | D30: Power frequency withstand voltage - Primary | E30: kV | F30: =VLOOKUP($D$7,'Source Data'!$A$2:$ED$22,21,FALSE) -> #N/A
B31: 3.4 | D31: Power frequency withstand voltage – Secondary | E31: kV | F31: =VLOOKUP($D$7,'Source Data'!$A$2:$ED$22,22,FALSE) -> #N/A
B32: 4 | C32: 3.2.8 | D32: Inter-turn winding insulation
B33: 4.1 | D33: Type (Enamel or Paper) | F33: =VLOOKUP($D$7,'Source Data'!$A$2:$ED$22,24,FALSE) -> #N/A
B34: 4.2 | D34: Enamel grade (if applicable) | F34: =VLOOKUP($D$7,'Source Data'!$A$2:$ED$22,25,FALSE) -> #N/A
B35: 4.3 | D35: Paper thickness (if applicable) | E35: mm | F35: =VLOOKUP($D$7,'Source Data'!$A$2:$ED$22,26,FALSE) -> #N/A
B36: 4.4 | D36: Paper type (if applicable) | F36: =VLOOKUP($D$7,'Source Data'!$A$2:$ED$22,27,FALSE) -> #N/A
B37: 4.5 | D37: Paper make (if applicable) | F37: =VLOOKUP($D$7,'Source Data'!$A$2:$ED$22,28,FALSE) -> #N/A
B38: 4.6 | D38: Paper minimum impulse withstand | E38: kV | F38: =VLOOKUP($D$7,'Source Data'!$A$2:$ED$22,29,FALSE) -> #N/A
B39: 4.7 | D39: Paper minimum power frequency withstand | E39: kV | F39: =VLOOKUP($D$7,'Source Data'!$A$2:$ED$22,30,FALSE) -> #N/A
B40: 4.8 | D40: Inter-turn winding insulation stress shall not exceed 5 kV/mm | E40: kV/mm | F40: =VLOOKUP($D$7,'Source Data'!$A$2:$ED$22,31,FALSE) -> #N/A
B41: 5 | C41: 3.2.9 | D41: Interlayer insulation
B42: 5.1 | D42: Highest interlayer stress in non-tap part of winding (<5kV/mm is not acceptable as the calculated value must be presented) | E42: kV/mm | F42: =VLOOKUP($D$7,'Source Data'!$A$2:$ED$22,33,FALSE) -> #N/A
B43: 5.2 | D43: Highest interlayer stress in tap part of winding (<5kV/mm is not acceptable as the calculated value must be presented) | E43: kV/mm | F43: =VLOOKUP($D$7,'Source Data'!$A$2:$ED$22,34,FALSE) -> #N/A
B44: 5.3 | D44: Paper type. | F44: =VLOOKUP($D$7,'Source Data'!$A$2:$ED$22,35,FALSE) -> #N/A
B45: 5.4 | D45: Paper make. | F45: =VLOOKUP($D$7,'Source Data'!$A$2:$ED$22,36,FALSE) -> #N/A
B46: 6 | C46: 3.2.10 | D46: Tapping connections
B47: 6.1 | D47: Type | F47: =VLOOKUP($D$7,'Source Data'!$A$2:$ED$22,39,FALSE) -> #N/A
B48: 6.2 | D48: Tapping range | E48: % | F48: =VLOOKUP($D$7,'Source Data'!$A$2:$ED$22,38,FALSE) -> #N/A
B49: 7 | C49: 3.2.12 | D49: MV Cable Termination Enclosures and Bushings
B50: 7.1 | D50: Air filled enclosure on side of the tank | F50: =VLOOKUP($D$7,'Source Data'!$A$2:$ED$22,41,FALSE) -> #N/A
B51: 7.2 | D51: Stainless steel fasteners | F51: =VLOOKUP($D$7,'Source Data'!$A$2:$ED$22,42,FALSE) -> #N/A
B52: 7.3 | D52: Cable termination type | F52: =VLOOKUP($D$7,'Source Data'!$A$2:$ED$22,43,FALSE) -> #N/A
B53: 7.4 | D53: Earthing terminal height from gland plate | E53: mm | F53: =VLOOKUP($D$7,'Source Data'!$A$2:$ED$22,44,FALSE) -> #N/A
B54: 7.5 | D54: Gland plate entry hole | E54: mm | F54: =VLOOKUP($D$7,'Source Data'!$A$2:$ED$22,45,FALSE) -> #N/A
B55: 7.6 | D55: Dimensions between bushings | E55: mm | F55: =VLOOKUP($D$7,'Source Data'!$A$2:$ED$22,46,FALSE) -> #N/A
B56: 7.7 | D56: Clearances within MV cable termination enclosure | E56: mm | F56: =VLOOKUP($D$7,'Source Data'!$A$2:$ED$22,47,FALSE) -> #N/A
B57: 7.8 | D57: Cable support clamp diameter | E57: mm | F57: =VLOOKUP($D$7,'Source Data'!$A$2:$ED$22,48,FALSE) -> #N/A
B58: 7.9 | D58: Depth of cable box | E58: mm | F58: =VLOOKUP($D$7,'Source Data'!$A$2:$ED$22,49,FALSE) -> #N/A
B59: 7.10' | D59: MV warning sign with aircraft pop rivets | F59: =VLOOKUP($D$7,'Source Data'!$A$2:$ED$22,50,FALSE) -> #N/A
B60: 7.11 | D60: Distance from gland plate to MV bushing centre line (clearance e as per SANS 876) | E60: mm | F60: =VLOOKUP($D$7,'Source Data'!$A$2:$ED$22,51,FALSE) -> #N/A
B61: 7.12 | D61: Sealant used to seal the cable entry into the MV cable termination enclosure. If other than rubber grommet e.g. brass wiping gland? | F61: =VLOOKUP($D$7,'Source Data'!$A$2:$ED$22,52,FALSE) -> #N/A
B62: 8 | C62: 3.2.12 | D62: LV Bushings
B63: 8.1 | D63: Make | F63: =VLOOKUP($D$7,'Source Data'!$A$2:$ED$22,54,FALSE) -> #N/A
B64: 8.2 | D64: Product code | F64: =VLOOKUP($D$7,'Source Data'!$A$2:$ED$22,55,FALSE) -> #N/A
B65: 8.3 | D65: Material (e.g. Porcelain) | F65: =VLOOKUP($D$7,'Source Data'!$A$2:$ED$22,56,FALSE) -> #N/A
B66: 8.4 | D66: Stem diameter | F66: =VLOOKUP($D$7,'Source Data'!$A$2:$ED$22,57,FALSE) -> #N/A
B67: 8.5 | D67: Detail of LV cable connection shown on drawing | F67: =VLOOKUP($D$7,'Source Data'!$A$2:$ED$22,58,FALSE) -> #N/A
B68: 8.6 | D68: Air filled enclosure on side of the tank | F68: =VLOOKUP($D$7,'Source Data'!$A$2:$ED$22,59,FALSE) -> #N/A
B69: 8.7 | D69: Stainless steel fasteners | F69: =VLOOKUP($D$7,'Source Data'!$A$2:$ED$22,60,FALSE) -> #N/A
B70: 8.8 | D70: Clearance between ph-ph and ph-earth | E70: mm | F70: =VLOOKUP($D$7,'Source Data'!$A$2:$ED$22,61,FALSE) -> #N/A
B71: 8.9 | D71: Current denisty of Copper flags for LV cable connections shall not exceed 2 A/mm2 for rated currents up to and including 630 A and 1,6 A/mm2 for rated currents greater than 630 A | E71: A/mm² | F71: =VLOOKUP($D$7,'Source Data'!$A$2:$ED$22,62,FALSE) -> #N/A
B72: 8.10' | D72: Earthing terminal welded to centre of side wall | F72: =VLOOKUP($D$7,'Source Data'!$A$2:$ED$22,63,FALSE) -> #N/A
B73: 8.11 | D73: Surge arrester mounted on earthing terminal in LV termination enclosure | F73: =VLOOKUP($D$7,'Source Data'!$A$2:$ED$22,64,FALSE) -> #N/A
B74: 8.12 | D74: Minimum cross-sectional area of electrolytic copper conductor fitted in parallel with the surge arrester | E74: mm² | F74: =VLOOKUP($D$7,'Source Data'!$A$2:$ED$22,65,FALSE) -> #N/A
B75: 8.13 | C75: Table 5 | D75: Number of cable gland holes | F75: =VLOOKUP($D$7,'Source Data'!$A$2:$ED$22,66,FALSE) -> #N/A
B76: 8.14 | C76: Table 5 | D76: Size of gland hole | E76: mm | F76: =VLOOKUP($D$7,'Source Data'!$A$2:$ED$22,67,FALSE) -> #N/A
B77: 8.15 | C77: Table 5 | D77: Clearance around gland hole | E77: mm | F77: =VLOOKUP($D$7,'Source Data'!$A$2:$ED$22,68,FALSE) -> #N/A
B78: 8.16 | C78: Table 5 | D78: Cable gland type | F78: =VLOOKUP($D$7,'Source Data'!$A$2:$ED$22,69,FALSE) -> #N/A
B79: 10 | C79: 3.2.14 | D79: Losses
B80: 10.1 | D80: Loss factor base (Cost of Dx or Gx) | F80: =VLOOKUP($D$7,'Source Data'!$A$2:$ED$22,71,FALSE) -> #N/A | G80: xxxxxxxxxxx
B81: 10.2 | D81: No-load Loss Factor, NLLF | E81: R/kW | F81: =VLOOKUP($D$7,'Source Data'!$A$2:$ED$22,72,FALSE) -> #N/A | G81: xxxxxxxxxxx
B82: 10.3 | D82: Load Loss Factor, LLF | E82: R/kW | F82: =VLOOKUP($D$7,'Source Data'!$A$2:$ED$22,73,FALSE) -> #N/A | G82: xxxxxxxxxxx
B83: 10.4 | D83: Guaranteed no-load losses, PNL | E83: W | F83: =VLOOKUP($D$7,'Source Data'!$A$2:$ED$22,74,FALSE) -> #N/A
B84: 10.5 | D84: Amorphous Losses (Guaranteed no-load losses, PNL) | E84: W | F84: =VLOOKUP($D$7,'Source Data'!$A$2:$ED$22,75,FALSE) -> #N/A
B85: 10.6 | D85: Guaranteed load losses, PLL | E85: W | F85: =VLOOKUP($D$7,'Source Data'!$A$2:$ED$22,76,FALSE) -> #N/A
B86: 11 | C86: 3.2.14 | D86: Impedance voltage & X/R ratio
B87: 11.1 | D87: Impedance at principle tapping (specific design impedances to be stated) | E87: % | F87: =VLOOKUP($D$7,'Source Data'!$A$2:$ED$22,78,FALSE) -> #N/A
B88: 11.2 | D88: X/R ratio | F88: =VLOOKUP($D$7,'Source Data'!$A$2:$ED$22,79,FALSE) -> #N/A
B89: 12 | D89: Audio-sound level (Table 8 of SANS 780)
B90: 12.1 | D90: Maximum limit of transformer audio-sound level | E90: db(A) | F90: =VLOOKUP($D$7,'Source Data'!$A$2:$ED$22,81,FALSE) -> #N/A
B91: 13 | D91: MV winding wire
B92: 13.1 | D92: Material (e.g. Cu or Al) | F92: =VLOOKUP($D$7,'Source Data'!$A$2:$ED$22,83,FALSE) -> #N/A
B93: 13.2 | D93: Type (e.g. Round, Strip or Foil) | F93: =VLOOKUP($D$7,'Source Data'!$A$2:$ED$22,84,FALSE) -> #N/A
B94: 14 | D94: LV winding wire
B95: 14.1 | D95: Material (e.g. Cu or Al) | F95: =VLOOKUP($D$7,'Source Data'!$A$2:$ED$22,86,FALSE) -> #N/A
B96: 14.2 | D96: Type (e.g. Round, Strip or Foil) | F96: =VLOOKUP($D$7,'Source Data'!$A$2:$ED$22,87,FALSE) -> #N/A
B97: 15 | D97: Core material
B98: 15.1 | D98: Core material | F98: =VLOOKUP($D$7,'Source Data'!$A$2:$ED$22,89,FALSE) -> #N/A
B99: 15.2 | D99: Type/code | F99: =VLOOKUP($D$7,'Source Data'!$A$2:$ED$22,90,FALSE) -> #N/A
B100: 15.3 | D100: Maximum Flux Density of Material | F100: =VLOOKUP($D$7,'Source Data'!$A$2:$ED$22,91,FALSE) -> #N/A
B101: 15.4 | D101: Supplier | F101: =VLOOKUP($D$7,'Source Data'!$A$2:$ED$22,92,FALSE) -> #N/A
B102: 16 | C102: 3.3.2 | D102: Tank and tank cover
B103: 16.1 | D103: Tank type: Sealed | F103: =VLOOKUP($D$7,'Source Data'!$A$2:$ED$22,94,FALSE) -> #N/A
...

Sheet 0182441
F3: Specification: DSP 240- 45395762 Rev.4
F4: ='List of Items & Enquiry number'!B14 -> Enquiry Number: 123456XYZ
D6: TECHNICAL SCHEDULES A & B FOR GROUND-MOUNTED DISTRIBUTION TRANSFORMERS
D7: Three-phase, 100 kVA, 11 kV/420V (Coastal, Ester Oil Only)
F8: Deviations from the specific requirements stated in Schedule A must be recorded and explained in the Deviation Schedule
B9: Schedule A: Purchaser's specific requirements
B10: Schedule B: Guarantees and technical particulars of equipment offered
B11: Item | C11: Sub-clause of 240- 45395762 | D11: Description | F11: Schedule A | G11: Schedule B
B12: 1 | D12: Identification
B13: 1.1 | D13: Eskom SAP Number | F13: =VLOOKUP($D$7,'Source Data'!$A$2:$ED$22,3,FALSE) -> 0182441 | G13: xxxxxxxxxxx
B14: 1.2 | D14: Name of manufacturer | F14: =VLOOKUP($D$7,'Source Data'!$A$2:$ED$22,4,FALSE) -> xxxxxxxxxxx
B15: 1.3 | D15: Name of supplier | F15: =VLOOKUP($D$7,'Source Data'!$A$2:$ED$22,5,FALSE) -> xxxxxxxxxxx
B16: 1.4 | D16: Product code for Coastal transformers | F16: =VLOOKUP($D$7,'Source Data'!$A$2:$ED$22,7,FALSE) -> xxxxxxxxxxx
B17: 1.5 | D17: Are the transformers covered by the SANS 780 certification mark? | F17: =VLOOKUP($D$7,'Source Data'!$A$2:$ED$22,8,FALSE) -> xxxxxxxxxxx
B18: 1.6 | D18: State SANS 780 permit number | F18: =VLOOKUP($D$7,'Source Data'!$A$2:$ED$22,9,FALSE) -> xxxxxxxxxxx
B19: 1.7 | D19: Oil Type | F19: =VLOOKUP($D$7,'Source Data'!$A$2:$ED$22,10,FALSE) -> Ester Oil
B20: 2 | C20: 3.2 | D20: Ratings
B21: 2.1 | D21: Power rating | E21: kVA | F21: =VLOOKUP($D$7,'Source Data'!$A$2:$ED$22,12,FALSE) -> 100
B22: 2.2 | D22: Rated primary voltage | E22: kV | F22: =VLOOKUP($D$7,'Source Data'!$A$2:$ED$22,13,FALSE) -> 11
B23: 2.3 | D23: Rated no-load secondary voltage | E23: V | F23: =VLOOKUP($D$7,'Source Data'!$A$2:$ED$22,14,FALSE) -> 420
B24: 2.4 | D24: Frequency | E24: Hz | F24: =VLOOKUP($D$7,'Source Data'!$A$2:$ED$22,15,FALSE) -> 50
B25: 2.5 | D25: Number of phases | F25: =VLOOKUP($D$7,'Source Data'!$A$2:$ED$22,16,FALSE) -> 3ph
B26: 2.6 | D26: Vector Group | F26: =VLOOKUP($D$7,'Source Data'!$A$2:$ED$22,17,FALSE) -> Dyn11 or Yzn11
B27: 3 | C27: 3.2.5 | D27: Insulation levels
B28: 3.1 | D28: BIL - Primary | E28: kV | F28: =VLOOKUP($D$7,'Source Data'!$A$2:$ED$22,19,FALSE) -> 95
B29: 3.2 | D29: BIL - Secondary | E29: kV | F29: =VLOOKUP($D$7,'Source Data'!$A$2:$ED$22,20,FALSE) -> 30
B30: 3.3 | D30: Power frequency withstand voltage - Primary | E30: kV | F30: =VLOOKUP($D$7,'Source Data'!$A$2:$ED$22,21,FALSE) -> 28
B31: 3.4 | D31: Power frequency withstand voltage – Secondary | E31: kV | F31: =VLOOKUP($D$7,'Source Data'!$A$2:$ED$22,22,FALSE) -> 8
B32: 4 | C32: 3.2.8 | D32: Inter-turn winding insulation
B33: 4.1 | D33: Type (Enamel or Paper) | F33: =VLOOKUP($D$7,'Source Data'!$A$2:$ED$22,24,FALSE) -> xxxxxxxxxxx
B34: 4.2 | D34: Enamel grade (if applicable) | F34: =VLOOKUP($D$7,'Source Data'!$A$2:$ED$22,25,FALSE) -> Grade 3
B35: 4.3 | D35: Paper thickness (if applicable) | E35: mm | F35: =VLOOKUP($D$7,'Source Data'!$A$2:$ED$22,26,FALSE) -> > 0.125
B36: 4.4 | D36: Paper type (if applicable) | F36: =VLOOKUP($D$7,'Source Data'!$A$2:$ED$22,27,FALSE) -> xxxxxxxxxxx
B37: 4.5 | D37: Paper make (if applicable) | F37: =VLOOKUP($D$7,'Source Data'!$A$2:$ED$22,28,FALSE) -> xxxxxxxxxxx
B38: 4.6 | D38: Paper minimum impulse withstand | E38: kV | F38: =VLOOKUP($D$7,'Source Data'!$A$2:$ED$22,29,FALSE) -> 21
B39: 4.7 | D39: Paper minimum power frequency withstand | E39: kV | F39: =VLOOKUP($D$7,'Source Data'!$A$2:$ED$22,30,FALSE) -> 8
B40: 4.8 | D40: Inter-turn winding insulation stress shall not exceed 5 kV/mm | E40: kV/mm | F40: =VLOOKUP($D$7,'Source Data'!$A$2:$ED$22,31,FALSE) -> <5
B41: 5 | C41: 3.2.9 | D41: Interlayer insulation
B42: 5.1 | D42: Highest interlayer stress in non-tap part of winding (<5kV/mm is not acceptable as the calculated value must be presented) | E42: kV/mm | F42: =VLOOKUP($D$7,'Source Data'!$A$2:$ED$22,33,FALSE) -> < 5
B43: 5.2 | D43: Highest interlayer stress in tap part of winding (<5kV/mm is not acceptable as the calculated value must be presented) | E43: kV/mm | F43: =VLOOKUP($D$7,'Source Data'!$A$2:$ED$22,34,FALSE) -> < 5
B44: 5.3 | D44: Paper type. | F44: =VLOOKUP($D$7,'Source Data'!$A$2:$ED$22,35,FALSE) -> xxxxxxxxxxx
B45: 5.4 | D45: Paper make. | F45: =VLOOKUP($D$7,'Source Data'!$A$2:$ED$22,36,FALSE) -> xxxxxxxxxxx
B46: 6 | C46: 3.2.10 | D46: Tapping connections
B47: 6.1 | D47: Type | F47: =VLOOKUP($D$7,'Source Data'!$A$2:$ED$22,39,FALSE) -> 0, ±2.5, ±5
B48: 6.2 | D48: Tapping range | E48: % | F48: =VLOOKUP($D$7,'Source Data'!$A$2:$ED$22,38,FALSE) -> Switch
B49: 7 | C49: 3.2.12 | D49: MV Cable Termination Enclosures and Bushings
B50: 7.1 | D50: Air filled enclosure on side of the tank | F50: =VLOOKUP($D$7,'Source Data'!$A$2:$ED$22,41,FALSE) -> Yes
B51: 7.2 | D51: Stainless steel fasteners | F51: =VLOOKUP($D$7,'Source Data'!$A$2:$ED$22,42,FALSE) -> Yes
B52: 7.3 | D52: Cable termination type | F52: =VLOOKUP($D$7,'Source Data'!$A$2:$ED$22,43,FALSE) -> Type 3
B53: 7.4 | D53: Earthing terminal height from gland plate | E53: mm | F53: =VLOOKUP($D$7,'Source Data'!$A$2:$ED$22,44,FALSE) -> 100
B54: 7.5 | D54: Gland plate entry hole | E54: mm | F54: =VLOOKUP($D$7,'Source Data'!$A$2:$ED$22,45,FALSE) -> 110
B55: 7.6 | D55: Dimensions between bushings | E55: mm | F55: =VLOOKUP($D$7,'Source Data'!$A$2:$ED$22,46,FALSE) -> Min 135
B56: 7.7 | D56: Clearances within MV cable termination enclosure | E56: mm | F56: =VLOOKUP($D$7,'Source Data'!$A$2:$ED$22,47,FALSE) -> 90
B57: 7.8 | D57: Cable support clamp diameter | E57: mm | F57: =VLOOKUP($D$7,'Source Data'!$A$2:$ED$22,48,FALSE) -> 50-75
B58: 7.9 | D58: Depth of cable box | E58: mm | F58: =VLOOKUP($D$7,'Source Data'!$A$2:$ED$22,49,FALSE) -> >= 350
B59: 7.10' | D59: MV warning sign with aircraft pop rivets | F59: =VLOOKUP($D$7,'Source Data'!$A$2:$ED$22,50,FALSE) -> Yes
B60: 7.11 | D60: Distance from gland plate to MV bushing centre line (clearance e as per SANS 876) | E60: mm | F60: =VLOOKUP($D$7,'Source Data'!$A$2:$ED$22,51,FALSE) -> Clearance "e" as per SANS 876
B61: 7.12 | D61: Sealant used to seal the cable entry into the MV cable termination enclosure. If other than rubber grommet e.g. brass wiping gland? | F61: =VLOOKUP($D$7,'Source Data'!$A$2:$ED$22,52,FALSE) -> Rubber grommet or other offer
B62: 8 | C62: 3.2.12 | D62: LV Bushings
B63: 8.1 | D63: Make | F63: =VLOOKUP($D$7,'Source Data'!$A$2:$ED$22,54,FALSE) -> xxxxxxxxxxx
B64: 8.2 | D64: Product code | F64: =VLOOKUP($D$7,'Source Data'!$A$2:$ED$22,55,FALSE) -> xxxxxxxxxxx
B65: 8.3 | D65: Material (e.g. Porcelain) | F65: =VLOOKUP($D$7,'Source Data'!$A$2:$ED$22,56,FALSE) -> xxxxxxxxxxx
B66: 8.4 | D66: Stem diameter | F66: =VLOOKUP($D$7,'Source Data'!$A$2:$ED$22,57,FALSE) -> M12
B67: 8.5 | D67: Detail of LV cable connection shown on drawing | F67: =VLOOKUP($D$7,'Source Data'!$A$2:$ED$22,58,FALSE) -> Yes
B68: 8.6 | D68: Air filled enclosure on side of the tank | F68: =VLOOKUP($D$7,'Source Data'!$A$2:$ED$22,59,FALSE) -> Yes
B69: 8.7 | D69: Stainless steel fasteners | F69: =VLOOKUP($D$7,'Source Data'!$A$2:$ED$22,60,FALSE) -> Yes
B70: 8.8 | D70: Clearance between ph-ph and ph-earth | E70: mm | F70: =VLOOKUP($D$7,'Source Data'!$A$2:$ED$22,61,FALSE) -> 60
B71: 8.9 | D71: Current denisty of Copper flags for LV cable connections shall not exceed 2 A/mm2 for rated currents up to and including 630 A and 1,6 A/mm2 for rated currents greater than 630 A | E71: A/mm² | F71: =VLOOKUP($D$7,'Source Data'!$A$2:$ED$22,62,FALSE) -> 2.0 A/mm² or 1.6 A/mm²
B72: 8.10' | D72: Earthing terminal welded to centre of side wall | F72: =VLOOKUP($D$7,'Source Data'!$A$2:$ED$22,63,FALSE) -> Yes
B73: 8.11 | D73: Surge arrester mounted on earthing terminal in LV termination enclosure | F73: =VLOOKUP($D$7,'Source Data'!$A$2:$ED$22,64,FALSE) -> Yes
B74: 8.12 | D74: Minimum cross-sectional area of electrolytic copper conductor fitted in parallel with the surge arrester | E74: mm² | F74: =VLOOKUP($D$7,'Source Data'!$A$2:$ED$22,65,FALSE) -> 70
B75: 8.13 | C75: Table 5 | D75: Number of cable gland holes | F75: =VLOOKUP($D$7,'Source Data'!$A$2:$ED$22,66,FALSE) -> 1
B76: 8.14 | C76: Table 5 | D76: Size of gland hole | E76: mm | F76: =VLOOKUP($D$7,'Source Data'!$A$2:$ED$22,67,FALSE) -> ∅ 65
B77: 8.15 | C77: Table 5 | D77: Clearance around gland hole | E77: mm | F77: =VLOOKUP($D$7,'Source Data'!$A$2:$ED$22,68,FALSE) -> 100
B78: 8.16 | C78: Table 5 | D78: Cable gland type | F78: =VLOOKUP($D$7,'Source Data'!$A$2:$ED$22,69,FALSE) -> Adjustable Mechanical No. 5
B79: 10 | C79: 3.2.14 | D79: Losses
B80: 10.1 | D80: Loss factor base (Cost of Dx or Gx) | F80: =VLOOKUP($D$7,'Source Data'!$A$2:$ED$22,71,FALSE) -> Distribution | G80: xxxxxxxxxxx
B81: 10.2 | D81: No-load Loss Factor, NLLF | E81: R/kW | F81: =VLOOKUP($D$7,'Source Data'!$A$2:$ED$22,72,FALSE) -> 80500 | G81: xxxxxxxxxxx
B82: 10.3 | D82: Load Loss Factor, LLF | E82: R/kW | F82: =VLOOKUP($D$7,'Source Data'!$A$2:$ED$22,73,FALSE) -> 17500 | G82: xxxxxxxxxxx
B83: 10.4 | D83: Guaranteed no-load losses, PNL | E83: W | F83: =VLOOKUP($D$7,'Source Data'!$A$2:$ED$22,74,FALSE) -> ≤ 190
B84: 10.5 | D84: Amorphous Losses (Guaranteed no-load losses, PNL) | E84: W | F84: =VLOOKUP($D$7,'Source Data'!$A$2:$ED$22,75,FALSE) -> ≤ 70
B85: 10.6 | D85: Guaranteed load losses, PLL | E85: W | F85: =VLOOKUP($D$7,'Source Data'!$A$2:$ED$22,76,FALSE) -> ≤ 1500
B86: 11 | C86: 3.2.14 | D86: Impedance voltage & X/R ratio
B87: 11.1 | D87: Impedance at principle tapping (specific design impedances to be stated) | E87: % | F87: =VLOOKUP($D$7,'Source Data'!$A$2:$ED$22,78,FALSE) -> 3,0 to 4,5
B88: 11.2 | D88: X/R ratio | F88: =VLOOKUP($D$7,'Source Data'!$A$2:$ED$22,79,FALSE) -> xxxxxxxxxx
B89: 12 | D89: Audio-sound level (Table 8 of SANS 780)
B90: 12.1 | D90: Maximum limit of transformer audio-sound level | E90: db(A) | F90: =VLOOKUP($D$7,'Source Data'!$A$2:$ED$22,81,FALSE) -> ≤ 48
B91: 13 | D91: MV winding wire
B92: 13.1 | D92: Material (e.g. Cu or Al) | F92: =VLOOKUP($D$7,'Source Data'!$A$2:$ED$22,83,FALSE) -> xxxxxxxxxxx
B93: 13.2 | D93: Type (e.g. Round, Strip or Foil) | F93: =VLOOKUP($D$7,'Source Data'!$A$2:$ED$22,84,FALSE) -> xxxxxxxxxxx
B94: 14 | D94: LV winding wire
B95: 14.1 | D95: Material (e.g. Cu or Al) | F95: =VLOOKUP($D$7,'Source Data'!$A$2:$ED$22,86,FALSE) -> xxxxxxxxxxx
B96: 14.2 | D96: Type (e.g. Round, Strip or Foil) | F96: =VLOOKUP($D$7,'Source Data'!$A$2:$ED$22,87,FALSE) -> xxxxxxxxxxx
B97: 15 | D97: Core material
B98: 15.1 | D98: Core material | F98: =VLOOKUP($D$7,'Source Data'!$A$2:$ED$22,89,FALSE) -> Steel or Amporphous
B99: 15.2 | D99: Type/code | F99: =VLOOKUP($D$7,'Source Data'!$A$2:$ED$22,90,FALSE) -> xxxxxxxxxxx
B100: 15.3 | D100: Maximum Flux Density of Material | F100: =VLOOKUP($D$7,'Source Data'!$A$2:$ED$22,91,FALSE) -> xxxxxxxxxxx
B101: 15.4 | D101: Supplier | F101: =VLOOKUP($D$7,'Source Data'!$A$2:$ED$22,92,FALSE) -> xxxxxxxxxxx
B102: 16 | C102: 3.3.2 | D102: Tank and tank cover
B103: 16.1 | D103: Tank type: Sealed | F103: =VLOOKUP($D$7,'Source Data'!$A$2:$ED$22,94,FALSE) -> Sealed
...

Sheet 0182443
F3: Specification: DSP 240- 45395762 Rev.4
F4: ='List of Items & Enquiry number'!B14 -> Enquiry Number: 123456XYZ
D6: TECHNICAL SCHEDULES A & B FOR GROUND-MOUNTED DISTRIBUTION TRANSFORMERS
D7: Three-phase, 100 kVA, 22 kV/420V (Coastal, Ester Oil Only)
F8: Deviations from the specific requirements stated in Schedule A must be recorded and explained in the Deviation Schedule
B9: Schedule A: Purchaser's specific requirements
B10: Schedule B: Guarantees and technical particulars of equipment offered
B11: Item | C11: Sub-clause of 240- 45395762 | D11: Description | F11: Schedule A | G11: Schedule B
B12: 1 | D12: Identification
B13: 1.1 | D13: Eskom SAP Number | F13: =VLOOKUP($D$7,'Source Data'!$A$2:$ED$22,3,FALSE) -> 0182443 | G13: xxxxxxxxxxx
B14: 1.2 | D14: Name of manufacturer | F14: =VLOOKUP($D$7,'Source Data'!$A$2:$ED$22,4,FALSE) -> xxxxxxxxxxx
B15: 1.3 | D15: Name of supplier | F15: =VLOOKUP($D$7,'Source Data'!$A$2:$ED$22,5,FALSE) -> xxxxxxxxxxx
B16: 1.4 | D16: Product code for Coastal transformers | F16: =VLOOKUP($D$7,'Source Data'!$A$2:$ED$22,7,FALSE) -> xxxxxxxxxxx
B17: 1.5 | D17: Are the transformers covered by the SANS 780 certification mark? | F17: =VLOOKUP($D$7,'Source Data'!$A$2:$ED$22,8,FALSE) -> xxxxxxxxxxx
B18: 1.6 | D18: State SANS 780 permit number | F18: =VLOOKUP($D$7,'Source Data'!$A$2:$ED$22,9,FALSE) -> xxxxxxxxxxx
B19: 1.7 | D19: Oil Type | F19: =VLOOKUP($D$7,'Source Data'!$A$2:$ED$22,10,FALSE) -> Ester Oil
B20: 2 | C20: 3.2 | D20: Ratings
B21: 2.1 | D21: Power rating | E21: kVA | F21: =VLOOKUP($D$7,'Source Data'!$A$2:$ED$22,12,FALSE) -> 100
B22: 2.2 | D22: Rated primary voltage | E22: kV | F22: =VLOOKUP($D$7,'Source Data'!$A$2:$ED$22,13,FALSE) -> 22
B23: 2.3 | D23: Rated no-load secondary voltage | E23: V | F23: =VLOOKUP($D$7,'Source Data'!$A$2:$ED$22,14,FALSE) -> 420
B24: 2.4 | D24: Frequency | E24: Hz | F24: =VLOOKUP($D$7,'Source Data'!$A$2:$ED$22,15,FALSE) -> 50
B25: 2.5 | D25: Number of phases | F25: =VLOOKUP($D$7,'Source Data'!$A$2:$ED$22,16,FALSE) -> 3ph
B26: 2.6 | D26: Vector Group | F26: =VLOOKUP($D$7,'Source Data'!$A$2:$ED$22,17,FALSE) -> Dyn11 or Yzn11
B27: 3 | C27: 3.2.5 | D27: Insulation levels
B28: 3.1 | D28: BIL - Primary | E28: kV | F28: =VLOOKUP($D$7,'Source Data'!$A$2:$ED$22,19,FALSE) -> 150
B29: 3.2 | D29: BIL - Secondary | E29: kV | F29: =VLOOKUP($D$7,'Source Data'!$A$2:$ED$22,20,FALSE) -> 30
B30: 3.3 | D30: Power frequency withstand voltage - Primary | E30: kV | F30: =VLOOKUP($D$7,'Source Data'!$A$2:$ED$22,21,FALSE) -> 50
B31: 3.4 | D31: Power frequency withstand voltage – Secondary | E31: kV | F31: =VLOOKUP($D$7,'Source Data'!$A$2:$ED$22,22,FALSE) -> 8
B32: 4 | C32: 3.2.8 | D32: Inter-turn winding insulation
B33: 4.1 | D33: Type (Enamel or Paper) | F33: =VLOOKUP($D$7,'Source Data'!$A$2:$ED$22,24,FALSE) -> xxxxxxxxxxx
B34: 4.2 | D34: Enamel grade (if applicable) | F34: =VLOOKUP($D$7,'Source Data'!$A$2:$ED$22,25,FALSE) -> Grade 3
B35: 4.3 | D35: Paper thickness (if applicable) | E35: mm | F35: =VLOOKUP($D$7,'Source Data'!$A$2:$ED$22,26,FALSE) -> > 0.125
B36: 4.4 | D36: Paper type (if applicable) | F36: =VLOOKUP($D$7,'Source Data'!$A$2:$ED$22,27,FALSE) -> xxxxxxxxxxx
B37: 4.5 | D37: Paper make (if applicable) | F37: =VLOOKUP($D$7,'Source Data'!$A$2:$ED$22,28,FALSE) -> xxxxxxxxxxx
B38: 4.6 | D38: Paper minimum impulse withstand | E38: kV | F38: =VLOOKUP($D$7,'Source Data'!$A$2:$ED$22,29,FALSE) -> 21
B39: 4.7 | D39: Paper minimum power frequency withstand | E39: kV | F39: =VLOOKUP($D$7,'Source Data'!$A$2:$ED$22,30,FALSE) -> 8
B40: 4.8 | D40: Inter-turn winding insulation stress shall not exceed 5 kV/mm | E40: kV/mm | F40: =VLOOKUP($D$7,'Source Data'!$A$2:$ED$22,31,FALSE) -> <5
B41: 5 | C41: 3.2.9 | D41: Interlayer insulation
B42: 5.1 | D42: Highest interlayer stress in non-tap part of winding (<5kV/mm is not acceptable as the calculated value must be presented) | E42: kV/mm | F42: =VLOOKUP($D$7,'Source Data'!$A$2:$ED$22,33,FALSE) -> < 5
B43: 5.2 | D43: Highest interlayer stress in tap part of winding (<5kV/mm is not acceptable as the calculated value must be presented) | E43: kV/mm | F43: =VLOOKUP($D$7,'Source Data'!$A$2:$ED$22,34,FALSE) -> < 5
B44: 5.3 | D44: Paper type. | F44: =VLOOKUP($D$7,'Source Data'!$A$2:$ED$22,35,FALSE) -> xxxxxxxxxxx
B45: 5.4 | D45: Paper make. | F45: =VLOOKUP($D$7,'Source Data'!$A$2:$ED$22,36,FALSE) -> xxxxxxxxxxx
B46: 6 | C46: 3.2.10 | D46: Tapping connections
B47: 6.1 | D47: Type | F47: =VLOOKUP($D$7,'Source Data'!$A$2:$ED$22,39,FALSE) -> 0, ±2.5, ±5
B48: 6.2 | D48: Tapping range | E48: % | F48: =VLOOKUP($D$7,'Source Data'!$A$2:$ED$22,38,FALSE) -> Switch
B49: 7 | C49: 3.2.12 | D49: MV Cable Termination Enclosures and Bushings
B50: 7.1 | D50: Air filled enclosure on side of the tank | F50: =VLOOKUP($D$7,'Source Data'!$A$2:$ED$22,41,FALSE) -> Yes
B51: 7.2 | D51: Stainless steel fasteners | F51: =VLOOKUP($D$7,'Source Data'!$A$2:$ED$22,42,FALSE) -> Yes
B52: 7.3 | D52: Cable termination type | F52: =VLOOKUP($D$7,'Source Data'!$A$2:$ED$22,43,FALSE) -> Type 4
B53: 7.4 | D53: Earthing terminal height from gland plate | E53: mm | F53: =VLOOKUP($D$7,'Source Data'!$A$2:$ED$22,44,FALSE) -> 100
B54: 7.5 | D54: Gland plate entry hole | E54: mm | F54: =VLOOKUP($D$7,'Source Data'!$A$2:$ED$22,45,FALSE) -> 110
B55: 7.6 | D55: Dimensions between bushings | E55: mm | F55: =VLOOKUP($D$7,'Source Data'!$A$2:$ED$22,46,FALSE) -> Min 135
B56: 7.7 | D56: Clearances within MV cable termination enclosure | E56: mm | F56: =VLOOKUP($D$7,'Source Data'!$A$2:$ED$22,47,FALSE) -> 90
B57: 7.8 | D57: Cable support clamp diameter | E57: mm | F57: =VLOOKUP($D$7,'Source Data'!$A$2:$ED$22,48,FALSE) -> 50-75
B58: 7.9 | D58: Depth of cable box | E58: mm | F58: =VLOOKUP($D$7,'Source Data'!$A$2:$ED$22,49,FALSE) -> >= 350
B59: 7.10' | D59: MV warning sign with aircraft pop rivets | F59: =VLOOKUP($D$7,'Source Data'!$A$2:$ED$22,50,FALSE) -> Yes
B60: 7.11 | D60: Distance from gland plate to MV bushing centre line (clearance e as per SANS 876) | E60: mm | F60: =VLOOKUP($D$7,'Source Data'!$A$2:$ED$22,51,FALSE) -> Clearance "e" as per SANS 876
B61: 7.12 | D61: Sealant used to seal the cable entry into the MV cable termination enclosure. If other than rubber grommet e.g. brass wiping gland? | F61: =VLOOKUP($D$7,'Source Data'!$A$2:$ED$22,52,FALSE) -> Rubber grommet or other offer
B62: 8 | C62: 3.2.12 | D62: LV Bushings
B63: 8.1 | D63: Make | F63: =VLOOKUP($D$7,'Source Data'!$A$2:$ED$22,54,FALSE) -> xxxxxxxxxxx
B64: 8.2 | D64: Product code | F64: =VLOOKUP($D$7,'Source Data'!$A$2:$ED$22,55,FALSE) -> xxxxxxxxxxx
B65: 8.3 | D65: Material (e.g. Porcelain) | F65: =VLOOKUP($D$7,'Source Data'!$A$2:$ED$22,56,FALSE) -> xxxxxxxxxxx
B66: 8.4 | D66: Stem diameter | F66: =VLOOKUP($D$7,'Source Data'!$A$2:$ED$22,57,FALSE) -> M12
B67: 8.5 | D67: Detail of LV cable connection shown on drawing | F67: =VLOOKUP($D$7,'Source Data'!$A$2:$ED$22,58,FALSE) -> Yes
B68: 8.6 | D68: Air filled enclosure on side of the tank | F68: =VLOOKUP($D$7,'Source Data'!$A$2:$ED$22,59,FALSE) -> Yes
B69: 8.7 | D69: Stainless steel fasteners | F69: =VLOOKUP($D$7,'Source Data'!$A$2:$ED$22,60,FALSE) -> Yes
B70: 8.8 | D70: Clearance between ph-ph and ph-earth | E70: mm | F70: =VLOOKUP($D$7,'Source Data'!$A$2:$ED$22,61,FALSE) -> 60
B71: 8.9 | D71: Current denisty of Copper flags for LV cable connections shall not exceed 2 A/mm2 for rated currents up to and including 630 A and 1,6 A/mm2 for rated currents greater than 630 A | E71: A/mm² | F71: =VLOOKUP($D$7,'Source Data'!$A$2:$ED$22,62,FALSE) -> 2.0 A/mm² or 1.6 A/mm²
B72: 8.10' | D72: Earthing terminal welded to centre of side wall | F72: =VLOOKUP($D$7,'Source Data'!$A$2:$ED$22,63,FALSE) -> Yes
B73: 8.11 | D73: Surge arrester mounted on earthing terminal in LV termination enclosure | F73: =VLOOKUP($D$7,'Source Data'!$A$2:$ED$22,64,FALSE) -> Yes
B74: 8.12 | D74: Minimum cross-sectional area of electrolytic copper conductor fitted in parallel with the surge arrester | E74: mm² | F74: =VLOOKUP($D$7,'Source Data'!$A$2:$ED$22,65,FALSE) -> 70
B75: 8.13 | C75: Table 5 | D75: Number of cable gland holes | F75: =VLOOKUP($D$7,'Source Data'!$A$2:$ED$22,66,FALSE) -> 1
B76: 8.14 | C76: Table 5 | D76: Size of gland hole | E76: mm | F76: =VLOOKUP($D$7,'Source Data'!$A$2:$ED$22,67,FALSE) -> ∅ 65
B77: 8.15 | C77: Table 5 | D77: Clearance around gland hole | E77: mm | F77: =VLOOKUP($D$7,'Source Data'!$A$2:$ED$22,68,FALSE) -> 100
B78: 8.16 | C78: Table 5 | D78: Cable gland type | F78: =VLOOKUP($D$7,'Source Data'!$A$2:$ED$22,69,FALSE) -> Adjustable Mechanical No. 5
B79: 10 | C79: 3.2.14 | D79: Losses
B80: 10.1 | D80: Loss factor base (Cost of Dx or Gx) | F80: =VLOOKUP($D$7,'Source Data'!$A$2:$ED$22,71,FALSE) -> Distribution | G80: xxxxxxxxxxx
B81: 10.2 | D81: No-load Loss Factor, NLLF | E81: R/kW | F81: =VLOOKUP($D$7,'Source Data'!$A$2:$ED$22,72,FALSE) -> 80500 | G81: xxxxxxxxxxx
B82: 10.3 | D82: Load Loss Factor, LLF | E82: R/kW | F82: =VLOOKUP($D$7,'Source Data'!$A$2:$ED$22,73,FALSE) -> 17500 | G82: xxxxxxxxxxx
B83: 10.4 | D83: Guaranteed no-load losses, PNL | E83: W | F83: =VLOOKUP($D$7,'Source Data'!$A$2:$ED$22,74,FALSE) -> ≤ 190
B84: 10.5 | D84: Amorphous Losses (Guaranteed no-load losses, PNL) | E84: W | F84: =VLOOKUP($D$7,'Source Data'!$A$2:$ED$22,75,FALSE) -> ≤ 70
B85: 10.6 | D85: Guaranteed load losses, PLL | E85: W | F85: =VLOOKUP($D$7,'Source Data'!$A$2:$ED$22,76,FALSE) -> ≤ 1500
B86: 11 | C86: 3.2.14 | D86: Impedance voltage & X/R ratio
B87: 11.1 | D87: Impedance at principle tapping (specific design impedances to be stated) | E87: % | F87: =VLOOKUP($D$7,'Source Data'!$A$2:$ED$22,78,FALSE) -> 3,0 to 4,5
B88: 11.2 | D88: X/R ratio | F88: =VLOOKUP($D$7,'Source Data'!$A$2:$ED$22,79,FALSE) -> xxxxxxxxxx
B89: 12 | D89: Audio-sound level (Table 8 of SANS 780)
B90: 12.1 | D90: Maximum limit of transformer audio-sound level | E90: db(A) | F90: =VLOOKUP($D$7,'Source Data'!$A$2:$ED$22,81,FALSE) -> ≤ 48
B91: 13 | D91: MV winding wire
B92: 13.1 | D92: Material (e.g. Cu or Al) | F92: =VLOOKUP($D$7,'Source Data'!$A$2:$ED$22,83,FALSE) -> xxxxxxxxxxx
B93: 13.2 | D93: Type (e.g. Round, Strip or Foil) | F93: =VLOOKUP($D$7,'Source Data'!$A$2:$ED$22,84,FALSE) -> xxxxxxxxxxx
B94: 14 | D94: LV winding wire
B95: 14.1 | D95: Material (e.g. Cu or Al) | F95: =VLOOKUP($D$7,'Source Data'!$A$2:$ED$22,86,FALSE) -> xxxxxxxxxxx
B96: 14.2 | D96: Type (e.g. Round, Strip or Foil) | F96: =VLOOKUP($D$7,'Source Data'!$A$2:$ED$22,87,FALSE) -> xxxxxxxxxxx
B97: 15 | D97: Core material
B98: 15.1 | D98: Core material | F98: =VLOOKUP($D$7,'Source Data'!$A$2:$ED$22,89,FALSE) -> Steel or Amporphous
B99: 15.2 | D99: Type/code | F99: =VLOOKUP($D$7,'Source Data'!$A$2:$ED$22,90,FALSE) -> xxxxxxxxxxx
B100: 15.3 | D100: Maximum Flux Density of Material | F100: =VLOOKUP($D$7,'Source Data'!$A$2:$ED$22,91,FALSE) -> xxxxxxxxxxx
B101: 15.4 | D101: Supplier | F101: =VLOOKUP($D$7,'Source Data'!$A$2:$ED$22,92,FALSE) -> xxxxxxxxxxx
B102: 16 | C102: 3.3.2 | D102: Tank and tank cover
B103: 16.1 | D103: Tank type: Sealed | F103: =VLOOKUP($D$7,'Source Data'!$A$2:$ED$22,94,FALSE) -> Sealed
...

Sheet 0180189
F3: Specification: DSP 240- 45395762 Rev.4
F4: ='List of Items & Enquiry number'!B14 -> Enquiry Number: 123456XYZ
D6: TECHNICAL SCHEDULES A & B FOR GROUND-MOUNTED DISTRIBUTION TRANSFORMERS
D7: Three-phase, 200 kVA, 11 kV/420V (Coastal, Ester Oil Only)
F8: Deviations from the specific requirements stated in Schedule A must be recorded and explained in the Deviation Schedule
B9: Schedule A: Purchaser's specific requirements
B10: Schedule B: Guarantees and technical particulars of equipment offered
B11: Item | C11: Sub-clause of 240- 45395762 | D11: Description | F11: Schedule A | G11: Schedule B
B12: 1 | D12: Identification
B13: 1.1 | D13: Eskom SAP Number | F13: =VLOOKUP($D$7,'Source Data'!$A$2:$ED$22,3,FALSE) -> 0180189 | G13: xxxxxxxxxxx
B14: 1.2 | D14: Name of manufacturer | F14: =VLOOKUP($D$7,'Source Data'!$A$2:$ED$22,4,FALSE) -> xxxxxxxxxxx
B15: 1.3 | D15: Name of supplier | F15: =VLOOKUP($D$7,'Source Data'!$A$2:$ED$22,5,FALSE) -> xxxxxxxxxxx
B16: 1.4 | D16: Product code for Coastal transformers | F16: =VLOOKUP($D$7,'Source Data'!$A$2:$ED$22,7,FALSE) -> xxxxxxxxxxx
B17: 1.5 | D17: Are the transformers covered by the SANS 780 certification mark? | F17: =VLOOKUP($D$7,'Source Data'!$A$2:$ED$22,8,FALSE) -> xxxxxxxxxxx
B18: 1.6 | D18: State SANS 780 permit number | F18: =VLOOKUP($D$7,'Source Data'!$A$2:$ED$22,9,FALSE) -> xxxxxxxxxxx
B19: 1.7 | D19: Oil Type | F19: =VLOOKUP($D$7,'Source Data'!$A$2:$ED$22,10,FALSE) -> Ester Oil
B20: 2 | C20: 3.2 | D20: Ratings
B21: 2.1 | D21: Power rating | E21: kVA | F21: =VLOOKUP($D$7,'Source Data'!$A$2:$ED$22,12,FALSE) -> 200
B22: 2.2 | D22: Rated primary voltage | E22: kV | F22: =VLOOKUP($D$7,'Source Data'!$A$2:$ED$22,13,FALSE) -> 11
B23: 2.3 | D23: Rated no-load secondary voltage | E23: V | F23: =VLOOKUP($D$7,'Source Data'!$A$2:$ED$22,14,FALSE) -> 420
B24: 2.4 | D24: Frequency | E24: Hz | F24: =VLOOKUP($D$7,'Source Data'!$A$2:$ED$22,15,FALSE) -> 50
B25: 2.5 | D25: Number of phases | F25: =VLOOKUP($D$7,'Source Data'!$A$2:$ED$22,16,FALSE) -> 3ph
B26: 2.6 | D26: Vector Group | F26: =VLOOKUP($D$7,'Source Data'!$A$2:$ED$22,17,FALSE) -> Dyn11 or Yzn11
B27: 3 | C27: 3.2.5 | D27: Insulation levels
B28: 3.1 | D28: BIL - Primary | E28: kV | F28: =VLOOKUP($D$7,'Source Data'!$A$2:$ED$22,19,FALSE) -> 95
B29: 3.2 | D29: BIL - Secondary | E29: kV | F29: =VLOOKUP($D$7,'Source Data'!$A$2:$ED$22,20,FALSE) -> 30
B30: 3.3 | D30: Power frequency withstand voltage - Primary | E30: kV | F30: =VLOOKUP($D$7,'Source Data'!$A$2:$ED$22,21,FALSE) -> 28
B31: 3.4 | D31: Power frequency withstand voltage – Secondary | E31: kV | F31: =VLOOKUP($D$7,'Source Data'!$A$2:$ED$22,22,FALSE) -> 8
B32: 4 | C32: 3.2.8 | D32: Inter-turn winding insulation
B33: 4.1 | D33: Type (Enamel or Paper) | F33: =VLOOKUP($D$7,'Source Data'!$A$2:$ED$22,24,FALSE) -> xxxxxxxxxxx
B34: 4.2 | D34: Enamel grade (if applicable) | F34: =VLOOKUP($D$7,'Source Data'!$A$2:$ED$22,25,FALSE) -> Grade 3
B35: 4.3 | D35: Paper thickness (if applicable) | E35: mm | F35: =VLOOKUP($D$7,'Source Data'!$A$2:$ED$22,26,FALSE) -> > 0.125
B36: 4.4 | D36: Paper type (if applicable) | F36: =VLOOKUP($D$7,'Source Data'!$A$2:$ED$22,27,FALSE) -> xxxxxxxxxxx
B37: 4.5 | D37: Paper make (if applicable) | F37: =VLOOKUP($D$7,'Source Data'!$A$2:$ED$22,28,FALSE) -> xxxxxxxxxxx
B38: 4.6 | D38: Paper minimum impulse withstand | E38: kV | F38: =VLOOKUP($D$7,'Source Data'!$A$2:$ED$22,29,FALSE) -> 21
B39: 4.7 | D39: Paper minimum power frequency withstand | E39: kV | F39: =VLOOKUP($D$7,'Source Data'!$A$2:$ED$22,30,FALSE) -> 8
B40: 4.8 | D40: Inter-turn winding insulation stress shall not exceed 5 kV/mm | E40: kV/mm | F40: =VLOOKUP($D$7,'Source Data'!$A$2:$ED$22,31,FALSE) -> <5
B41: 5 | C41: 3.2.9 | D41: Interlayer insulation
B42: 5.1 | D42: Highest interlayer stress in non-tap part of winding (<5kV/mm is not acceptable as the calculated value must be presented) | E42: kV/mm | F42: =VLOOKUP($D$7,'Source Data'!$A$2:$ED$22,33,FALSE) -> < 5
B43: 5.2 | D43: Highest interlayer stress in tap part of winding (<5kV/mm is not acceptable as the calculated value must be presented) | E43: kV/mm | F43: =VLOOKUP($D$7,'Source Data'!$A$2:$ED$22,34,FALSE) -> < 5
B44: 5.3 | D44: Paper type. | F44: =VLOOKUP($D$7,'Source Data'!$A$2:$ED$22,35,FALSE) -> xxxxxxxxxxx
B45: 5.4 | D45: Paper make. | F45: =VLOOKUP($D$7,'Source Data'!$A$2:$ED$22,36,FALSE) -> xxxxxxxxxxx
B46: 6 | C46: 3.2.10 | D46: Tapping connections
B47: 6.1 | D47: Type | F47: =VLOOKUP($D$7,'Source Data'!$A$2:$ED$22,39,FALSE) -> 0, ±2.5, ±5
B48: 6.2 | D48: Tapping range | E48: % | F48: =VLOOKUP($D$7,'Source Data'!$A$2:$ED$22,38,FALSE) -> Switch
B49: 7 | C49: 3.2.12 | D49: MV Cable Termination Enclosures and Bushings
B50: 7.1 | D50: Air filled enclosure on side of the tank | F50: =VLOOKUP($D$7,'Source Data'!$A$2:$ED$22,41,FALSE) -> Yes
B51: 7.2 | D51: Stainless steel fasteners | F51: =VLOOKUP($D$7,'Source Data'!$A$2:$ED$22,42,FALSE) -> Yes
B52: 7.3 | D52: Cable termination type | F52: =VLOOKUP($D$7,'Source Data'!$A$2:$ED$22,43,FALSE) -> Type 3
B53: 7.4 | D53: Earthing terminal height from gland plate | E53: mm | F53: =VLOOKUP($D$7,'Source Data'!$A$2:$ED$22,44,FALSE) -> 100
B54: 7.5 | D54: Gland plate entry hole | E54: mm | F54: =VLOOKUP($D$7,'Source Data'!$A$2:$ED$22,45,FALSE) -> 110
B55: 7.6 | D55: Dimensions between bushings | E55: mm | F55: =VLOOKUP($D$7,'Source Data'!$A$2:$ED$22,46,FALSE) -> Min 135
B56: 7.7 | D56: Clearances within MV cable termination enclosure | E56: mm | F56: =VLOOKUP($D$7,'Source Data'!$A$2:$ED$22,47,FALSE) -> 90
B57: 7.8 | D57: Cable support clamp diameter | E57: mm | F57: =VLOOKUP($D$7,'Source Data'!$A$2:$ED$22,48,FALSE) -> 50-75
B58: 7.9 | D58: Depth of cable box | E58: mm | F58: =VLOOKUP($D$7,'Source Data'!$A$2:$ED$22,49,FALSE) -> >= 350
B59: 7.10' | D59: MV warning sign with aircraft pop rivets | F59: =VLOOKUP($D$7,'Source Data'!$A$2:$ED$22,50,FALSE) -> Yes
B60: 7.11 | D60: Distance from gland plate to MV bushing centre line (clearance e as per SANS 876) | E60: mm | F60: =VLOOKUP($D$7,'Source Data'!$A$2:$ED$22,51,FALSE) -> Clearance "e" as per SANS 876
B61: 7.12 | D61: Sealant used to seal the cable entry into the MV cable termination enclosure. If other than rubber grommet e.g. brass wiping gland? | F61: =VLOOKUP($D$7,'Source Data'!$A$2:$ED$22,52,FALSE) -> Rubber grommet or other offer
B62: 8 | C62: 3.2.12 | D62: LV Bushings
B63: 8.1 | D63: Make | F63: =VLOOKUP($D$7,'Source Data'!$A$2:$ED$22,54,FALSE) -> xxxxxxxxxxx
B64: 8.2 | D64: Product code | F64: =VLOOKUP($D$7,'Source Data'!$A$2:$ED$22,55,FALSE) -> xxxxxxxxxxx
B65: 8.3 | D65: Material (e.g. Porcelain) | F65: =VLOOKUP($D$7,'Source Data'!$A$2:$ED$22,56,FALSE) -> xxxxxxxxxxx
B66: 8.4 | D66: Stem diameter | F66: =VLOOKUP($D$7,'Source Data'!$A$2:$ED$22,57,FALSE) -> M12
B67: 8.5 | D67: Detail of LV cable connection shown on drawing | F67: =VLOOKUP($D$7,'Source Data'!$A$2:$ED$22,58,FALSE) -> Yes
B68: 8.6 | D68: Air filled enclosure on side of the tank | F68: =VLOOKUP($D$7,'Source Data'!$A$2:$ED$22,59,FALSE) -> Yes
B69: 8.7 | D69: Stainless steel fasteners | F69: =VLOOKUP($D$7,'Source Data'!$A$2:$ED$22,60,FALSE) -> Yes
B70: 8.8 | D70: Clearance between ph-ph and ph-earth | E70: mm | F70: =VLOOKUP($D$7,'Source Data'!$A$2:$ED$22,61,FALSE) -> 60
B71: 8.9 | D71: Current denisty of Copper flags for LV cable connections shall not exceed 2 A/mm2 for rated currents up to and including 630 A and 1,6 A/mm2 for rated currents greater than 630 A | E71: A/mm² | F71: =VLOOKUP($D$7,'Source Data'!$A$2:$ED$22,62,FALSE) -> 2.0 A/mm² or 1.6 A/mm²
B72: 8.10' | D72: Earthing terminal welded to centre of side wall | F72: =VLOOKUP($D$7,'Source Data'!$A$2:$ED$22,63,FALSE) -> Yes
B73: 8.11 | D73: Surge arrester mounted on earthing terminal in LV termination enclosure | F73: =VLOOKUP($D$7,'Source Data'!$A$2:$ED$22,64,FALSE) -> Yes
B74: 8.12 | D74: Minimum cross-sectional area of electrolytic copper conductor fitted in parallel with the surge arrester | E74: mm² | F74: =VLOOKUP($D$7,'Source Data'!$A$2:$ED$22,65,FALSE) -> 70
B75: 8.13 | C75: Table 5 | D75: Number of cable gland holes | F75: =VLOOKUP($D$7,'Source Data'!$A$2:$ED$22,66,FALSE) -> 2
B76: 8.14 | C76: Table 5 | D76: Size of gland hole | E76: mm | F76: =VLOOKUP($D$7,'Source Data'!$A$2:$ED$22,67,FALSE) -> ∅ 65
B77: 8.15 | C77: Table 5 | D77: Clearance around gland hole | E77: mm | F77: =VLOOKUP($D$7,'Source Data'!$A$2:$ED$22,68,FALSE) -> 100
B78: 8.16 | C78: Table 5 | D78: Cable gland type | F78: =VLOOKUP($D$7,'Source Data'!$A$2:$ED$22,69,FALSE) -> Adjustable Mechanical No. 5
B79: 10 | C79: 3.2.14 | D79: Losses
B80: 10.1 | D80: Loss factor base (Cost of Dx or Gx) | F80: =VLOOKUP($D$7,'Source Data'!$A$2:$ED$22,71,FALSE) -> Distribution | G80: xxxxxxxxxxx
B81: 10.2 | D81: No-load Loss Factor, NLLF | E81: R/kW | F81: =VLOOKUP($D$7,'Source Data'!$A$2:$ED$22,72,FALSE) -> 80500 | G81: xxxxxxxxxxx
B82: 10.3 | D82: Load Loss Factor, LLF | E82: R/kW | F82: =VLOOKUP($D$7,'Source Data'!$A$2:$ED$22,73,FALSE) -> 17500 | G82: xxxxxxxxxxx
B83: 10.4 | D83: Guaranteed no-load losses, PNL | E83: W | F83: =VLOOKUP($D$7,'Source Data'!$A$2:$ED$22,74,FALSE) -> ≤ 320
B84: 10.5 | D84: Amorphous Losses (Guaranteed no-load losses, PNL) | E84: W | F84: =VLOOKUP($D$7,'Source Data'!$A$2:$ED$22,75,FALSE) -> ≤ 120
B85: 10.6 | D85: Guaranteed load losses, PLL | E85: W | F85: =VLOOKUP($D$7,'Source Data'!$A$2:$ED$22,76,FALSE) -> ≤ 2600
B86: 11 | C86: 3.2.14 | D86: Impedance voltage & X/R ratio
B87: 11.1 | D87: Impedance at principle tapping (specific design impedances to be stated) | E87: % | F87: =VLOOKUP($D$7,'Source Data'!$A$2:$ED$22,78,FALSE) -> 4,0 to 5,0
B88: 11.2 | D88: X/R ratio | F88: =VLOOKUP($D$7,'Source Data'!$A$2:$ED$22,79,FALSE) -> xxxxxxxxxx
B89: 12 | D89: Audio-sound level (Table 8 of SANS 780)
B90: 12.1 | D90: Maximum limit of transformer audio-sound level | E90: db(A) | F90: =VLOOKUP($D$7,'Source Data'!$A$2:$ED$22,81,FALSE) -> ≤ 48
B91: 13 | D91: MV winding wire
B92: 13.1 | D92: Material (e.g. Cu or Al) | F92: =VLOOKUP($D$7,'Source Data'!$A$2:$ED$22,83,FALSE) -> xxxxxxxxxxx
B93: 13.2 | D93: Type (e.g. Round, Strip or Foil) | F93: =VLOOKUP($D$7,'Source Data'!$A$2:$ED$22,84,FALSE) -> xxxxxxxxxxx
B94: 14 | D94: LV winding wire
B95: 14.1 | D95: Material (e.g. Cu or Al) | F95: =VLOOKUP($D$7,'Source Data'!$A$2:$ED$22,86,FALSE) -> xxxxxxxxxxx
B96: 14.2 | D96: Type (e.g. Round, Strip or Foil) | F96: =VLOOKUP($D$7,'Source Data'!$A$2:$ED$22,87,FALSE) -> xxxxxxxxxxx
B97: 15 | D97: Core material
B98: 15.1 | D98: Core material | F98: =VLOOKUP($D$7,'Source Data'!$A$2:$ED$22,89,FALSE) -> Steel or Amporphous
B99: 15.2 | D99: Type/code | F99: =VLOOKUP($D$7,'Source Data'!$A$2:$ED$22,90,FALSE) -> xxxxxxxxxxx
B100: 15.3 | D100: Maximum Flux Density of Material | F100: =VLOOKUP($D$7,'Source Data'!$A$2:$ED$22,91,FALSE) -> xxxxxxxxxxx
B101: 15.4 | D101: Supplier | F101: =VLOOKUP($D$7,'Source Data'!$A$2:$ED$22,92,FALSE) -> xxxxxxxxxxx
B102: 16 | C102: 3.3.2 | D102: Tank and tank cover
B103: 16.1 | D103: Tank type: Sealed | F103: =VLOOKUP($D$7,'Source Data'!$A$2:$ED$22,94,FALSE) -> Sealed
...

Sheet 0180191
F3: Specification: DSP 240- 45395762 Rev.4
F4: ='List of Items & Enquiry number'!B14 -> Enquiry Number: 123456XYZ
D6: TECHNICAL SCHEDULES A & B FOR GROUND-MOUNTED DISTRIBUTION TRANSFORMERS
D7: Three-phase, 200 kVA, 22 kV/420V (Coastal, Ester Oil Only)
F8: Deviations from the specific requirements stated in Schedule A must be recorded and explained in the Deviation Schedule
B9: Schedule A: Purchaser's specific requirements
B10: Schedule B: Guarantees and technical particulars of equipment offered
B11: Item | C11: Sub-clause of 240- 45395762 | D11: Description | F11: Schedule A | G11: Schedule B
B12: 1 | D12: Identification
B13: 1.1 | D13: Eskom SAP Number | F13: =VLOOKUP($D$7,'Source Data'!$A$2:$ED$22,3,FALSE) -> 0180191 | G13: xxxxxxxxxxx
B14: 1.2 | D14: Name of manufacturer | F14: =VLOOKUP($D$7,'Source Data'!$A$2:$ED$22,4,FALSE) -> xxxxxxxxxxx
B15: 1.3 | D15: Name of supplier | F15: =VLOOKUP($D$7,'Source Data'!$A$2:$ED$22,5,FALSE) -> xxxxxxxxxxx
B16: 1.4 | D16: Product code for Coastal transformers | F16: =VLOOKUP($D$7,'Source Data'!$A$2:$ED$22,7,FALSE) -> xxxxxxxxxxx
B17: 1.5 | D17: Are the transformers covered by the SANS 780 certification mark? | F17: =VLOOKUP($D$7,'Source Data'!$A$2:$ED$22,8,FALSE) -> xxxxxxxxxxx
B18: 1.6 | D18: State SANS 780 permit number | F18: =VLOOKUP($D$7,'Source Data'!$A$2:$ED$22,9,FALSE) -> xxxxxxxxxxx
B19: 1.7 | D19: Oil Type | F19: =VLOOKUP($D$7,'Source Data'!$A$2:$ED$22,10,FALSE) -> Ester Oil
B20: 2 | C20: 3.2 | D20: Ratings
B21: 2.1 | D21: Power rating | E21: kVA | F21: =VLOOKUP($D$7,'Source Data'!$A$2:$ED$22,12,FALSE) -> 200
B22: 2.2 | D22: Rated primary voltage | E22: kV | F22: =VLOOKUP($D$7,'Source Data'!$A$2:$ED$22,13,FALSE) -> 22
B23: 2.3 | D23: Rated no-load secondary voltage | E23: V | F23: =VLOOKUP($D$7,'Source Data'!$A$2:$ED$22,14,FALSE) -> 420
B24: 2.4 | D24: Frequency | E24: Hz | F24: =VLOOKUP($D$7,'Source Data'!$A$2:$ED$22,15,FALSE) -> 50
B25: 2.5 | D25: Number of phases | F25: =VLOOKUP($D$7,'Source Data'!$A$2:$ED$22,16,FALSE) -> 3ph
B26: 2.6 | D26: Vector Group | F26: =VLOOKUP($D$7,'Source Data'!$A$2:$ED$22,17,FALSE) -> Dyn11 or Yzn11
B27: 3 | C27: 3.2.5 | D27: Insulation levels
B28: 3.1 | D28: BIL - Primary | E28: kV | F28: =VLOOKUP($D$7,'Source Data'!$A$2:$ED$22,19,FALSE) -> 150
B29: 3.2 | D29: BIL - Secondary | E29: kV | F29: =VLOOKUP($D$7,'Source Data'!$A$2:$ED$22,20,FALSE) -> 30
B30: 3.3 | D30: Power frequency withstand voltage - Primary | E30: kV | F30: =VLOOKUP($D$7,'Source Data'!$A$2:$ED$22,21,FALSE) -> 50
B31: 3.4 | D31: Power frequency withstand voltage – Secondary | E31: kV | F31: =VLOOKUP($D$7,'Source Data'!$A$2:$ED$22,22,FALSE) -> 8
B32: 4 | C32: 3.2.8 | D32: Inter-turn winding insulation
B33: 4.1 | D33: Type (Enamel or Paper) | F33: =VLOOKUP($D$7,'Source Data'!$A$2:$ED$22,24,FALSE) -> xxxxxxxxxxx
B34: 4.2 | D34: Enamel grade (if applicable) | F34: =VLOOKUP($D$7,'Source Data'!$A$2:$ED$22,25,FALSE) -> Grade 3
B35: 4.3 | D35: Paper thickness (if applicable) | E35: mm | F35: =VLOOKUP($D$7,'Source Data'!$A$2:$ED$22,26,FALSE) -> > 0.125
B36: 4.4 | D36: Paper type (if applicable) | F36: =VLOOKUP($D$7,'Source Data'!$A$2:$ED$22,27,FALSE) -> xxxxxxxxxxx
B37: 4.5 | D37: Paper make (if applicable) | F37: =VLOOKUP($D$7,'Source Data'!$A$2:$ED$22,28,FALSE) -> xxxxxxxxxxx
B38: 4.6 | D38: Paper minimum impulse withstand | E38: kV | F38: =VLOOKUP($D$7,'Source Data'!$A$2:$ED$22,29,FALSE) -> 21
B39: 4.7 | D39: Paper minimum power frequency withstand | E39: kV | F39: =VLOOKUP($D$7,'Source Data'!$A$2:$ED$22,30,FALSE) -> 8
B40: 4.8 | D40: Inter-turn winding insulation stress shall not exceed 5 kV/mm | E40: kV/mm | F40: =VLOOKUP($D$7,'Source Data'!$A$2:$ED$22,31,FALSE) -> <5
B41: 5 | C41: 3.2.9 | D41: Interlayer insulation
B42: 5.1 | D42: Highest interlayer stress in non-tap part of winding (<5kV/mm is not acceptable as the calculated value must be presented) | E42: kV/mm | F42: =VLOOKUP($D$7,'Source Data'!$A$2:$ED$22,33,FALSE) -> < 5
B43: 5.2 | D43: Highest interlayer stress in tap part of winding (<5kV/mm is not acceptable as the calculated value must be presented) | E43: kV/mm | F43: =VLOOKUP($D$7,'Source Data'!$A$2:$ED$22,34,FALSE) -> < 5
B44: 5.3 | D44: Paper type. | F44: =VLOOKUP($D$7,'Source Data'!$A$2:$ED$22,35,FALSE) -> xxxxxxxxxxx
B45: 5.4 | D45: Paper make. | F45: =VLOOKUP($D$7,'Source Data'!$A$2:$ED$22,36,FALSE) -> xxxxxxxxxxx
B46: 6 | C46: 3.2.10 | D46: Tapping connections
B47: 6.1 | D47: Type | F47: =VLOOKUP($D$7,'Source Data'!$A$2:$ED$22,39,FALSE) -> 0, ±2.5, ±5
B48: 6.2 | D48: Tapping range | E48: % | F48: =VLOOKUP($D$7,'Source Data'!$A$2:$ED$22,38,FALSE) -> Switch
B49: 7 | C49: 3.2.12 | D49: MV Cable Termination Enclosures and Bushings
B50: 7.1 | D50: Air filled enclosure on side of the tank | F50: =VLOOKUP($D$7,'Source Data'!$A$2:$ED$22,41,FALSE) -> Yes
B51: 7.2 | D51: Stainless steel fasteners | F51: =VLOOKUP($D$7,'Source Data'!$A$2:$ED$22,42,FALSE) -> Yes
B52: 7.3 | D52: Cable termination type | F52: =VLOOKUP($D$7,'Source Data'!$A$2:$ED$22,43,FALSE) -> Type 4
B53: 7.4 | D53: Earthing terminal height from gland plate | E53: mm | F53: =VLOOKUP($D$7,'Source Data'!$A$2:$ED$22,44,FALSE) -> 100
B54: 7.5 | D54: Gland plate entry hole | E54: mm | F54: =VLOOKUP($D$7,'Source Data'!$A$2:$ED$22,45,FALSE) -> 110
B55: 7.6 | D55: Dimensions between bushings | E55: mm | F55: =VLOOKUP($D$7,'Source Data'!$A$2:$ED$22,46,FALSE) -> Min 135
B56: 7.7 | D56: Clearances within MV cable termination enclosure | E56: mm | F56: =VLOOKUP($D$7,'Source Data'!$A$2:$ED$22,47,FALSE) -> 90
B57: 7.8 | D57: Cable support clamp diameter | E57: mm | F57: =VLOOKUP($D$7,'Source Data'!$A$2:$ED$22,48,FALSE) -> 50-75
B58: 7.9 | D58: Depth of cable box | E58: mm | F58: =VLOOKUP($D$7,'Source Data'!$A$2:$ED$22,49,FALSE) -> >= 350
B59: 7.10' | D59: MV warning sign with aircraft pop rivets | F59: =VLOOKUP($D$7,'Source Data'!$A$2:$ED$22,50,FALSE) -> Yes
B60: 7.11 | D60: Distance from gland plate to MV bushing centre line (clearance e as per SANS 876) | E60: mm | F60: =VLOOKUP($D$7,'Source Data'!$A$2:$ED$22,51,FALSE) -> Clearance "e" as per SANS 876
B61: 7.12 | D61: Sealant used to seal the cable entry into the MV cable termination enclosure. If other than rubber grommet e.g. brass wiping gland? | F61: =VLOOKUP($D$7,'Source Data'!$A$2:$ED$22,52,FALSE) -> Rubber grommet or other offer
B62: 8 | C62: 3.2.12 | D62: LV Bushings
B63: 8.1 | D63: Make | F63: =VLOOKUP($D$7,'Source Data'!$A$2:$ED$22,54,FALSE) -> xxxxxxxxxxx
B64: 8.2 | D64: Product code | F64: =VLOOKUP($D$7,'Source Data'!$A$2:$ED$22,55,FALSE) -> xxxxxxxxxxx
B65: 8.3 | D65: Material (e.g. Porcelain) | F65: =VLOOKUP($D$7,'Source Data'!$A$2:$ED$22,56,FALSE) -> xxxxxxxxxxx
B66: 8.4 | D66: Stem diameter | F66: =VLOOKUP($D$7,'Source Data'!$A$2:$ED$22,57,FALSE) -> M12
B67: 8.5 | D67: Detail of LV cable connection shown on drawing | F67: =VLOOKUP($D$7,'Source Data'!$A$2:$ED$22,58,FALSE) -> Yes
B68: 8.6 | D68: Air filled enclosure on side of the tank | F68: =VLOOKUP($D$7,'Source Data'!$A$2:$ED$22,59,FALSE) -> Yes
B69: 8.7 | D69: Stainless steel fasteners | F69: =VLOOKUP($D$7,'Source Data'!$A$2:$ED$22,60,FALSE) -> Yes
B70: 8.8 | D70: Clearance between ph-ph and ph-earth | E70: mm | F70: =VLOOKUP($D$7,'Source Data'!$A$2:$ED$22,61,FALSE) -> 60
B71: 8.9 | D71: Current denisty of Copper flags for LV cable connections shall not exceed 2 A/mm2 for rated currents up to and including 630 A and 1,6 A/mm2 for rated currents greater than 630 A | E71: A/mm² | F71: =VLOOKUP($D$7,'Source Data'!$A$2:$ED$22,62,FALSE) -> 2.0 A/mm² or 1.6 A/mm²
B72: 8.10' | D72: Earthing terminal welded to centre of side wall | F72: =VLOOKUP($D$7,'Source Data'!$A$2:$ED$22,63,FALSE) -> Yes
B73: 8.11 | D73: Surge arrester mounted on earthing terminal in LV termination enclosure | F73: =VLOOKUP($D$7,'Source Data'!$A$2:$ED$22,64,FALSE) -> Yes
B74: 8.12 | D74: Minimum cross-sectional area of electrolytic copper conductor fitted in parallel with the surge arrester | E74: mm² | F74: =VLOOKUP($D$7,'Source Data'!$A$2:$ED$22,65,FALSE) -> 70
B75: 8.13 | C75: Table 5 | D75: Number of cable gland holes | F75: =VLOOKUP($D$7,'Source Data'!$A$2:$ED$22,66,FALSE) -> 2
B76: 8.14 | C76: Table 5 | D76: Size of gland hole | E76: mm | F76: =VLOOKUP($D$7,'Source Data'!$A$2:$ED$22,67,FALSE) -> ∅ 65
B77: 8.15 | C77: Table 5 | D77: Clearance around gland hole | E77: mm | F77: =VLOOKUP($D$7,'Source Data'!$A$2:$ED$22,68,FALSE) -> 100
B78: 8.16 | C78: Table 5 | D78: Cable gland type | F78: =VLOOKUP($D$7,'Source Data'!$A$2:$ED$22,69,FALSE) -> Adjustable Mechanical No. 5
B79: 10 | C79: 3.2.14 | D79: Losses
B80: 10.1 | D80: Loss factor base (Cost of Dx or Gx) | F80: =VLOOKUP($D$7,'Source Data'!$A$2:$ED$22,71,FALSE) -> Distribution | G80: xxxxxxxxxxx
B81: 10.2 | D81: No-load Loss Factor, NLLF | E81: R/kW | F81: =VLOOKUP($D$7,'Source Data'!$A$2:$ED$22,72,FALSE) -> 80500 | G81: xxxxxxxxxxx
B82: 10.3 | D82: Load Loss Factor, LLF | E82: R/kW | F82: =VLOOKUP($D$7,'Source Data'!$A$2:$ED$22,73,FALSE) -> 17500 | G82: xxxxxxxxxxx
B83: 10.4 | D83: Guaranteed no-load losses, PNL | E83: W | F83: =VLOOKUP($D$7,'Source Data'!$A$2:$ED$22,74,FALSE) -> ≤ 320
B84: 10.5 | D84: Amorphous Losses (Guaranteed no-load losses, PNL) | E84: W | F84: =VLOOKUP($D$7,'Source Data'!$A$2:$ED$22,75,FALSE) -> ≤ 120
B85: 10.6 | D85: Guaranteed load losses, PLL | E85: W | F85: =VLOOKUP($D$7,'Source Data'!$A$2:$ED$22,76,FALSE) -> ≤ 2600
B86: 11 | C86: 3.2.14 | D86: Impedance voltage & X/R ratio
B87: 11.1 | D87: Impedance at principle tapping (specific design impedances to be stated) | E87: % | F87: =VLOOKUP($D$7,'Source Data'!$A$2:$ED$22,78,FALSE) -> 4,0 to 5,0
B88: 11.2 | D88: X/R ratio | F88: =VLOOKUP($D$7,'Source Data'!$A$2:$ED$22,79,FALSE) -> xxxxxxxxxx
B89: 12 | D89: Audio-sound level (Table 8 of SANS 780)
B90: 12.1 | D90: Maximum limit of transformer audio-sound level | E90: db(A) | F90: =VLOOKUP($D$7,'Source Data'!$A$2:$ED$22,81,FALSE) -> ≤ 48
B91: 13 | D91: MV winding wire
B92: 13.1 | D92: Material (e.g. Cu or Al) | F92: =VLOOKUP($D$7,'Source Data'!$A$2:$ED$22,83,FALSE) -> xxxxxxxxxxx
B93: 13.2 | D93: Type (e.g. Round, Strip or Foil) | F93: =VLOOKUP($D$7,'Source Data'!$A$2:$ED$22,84,FALSE) -> xxxxxxxxxxx
B94: 14 | D94: LV winding wire
B95: 14.1 | D95: Material (e.g. Cu or Al) | F95: =VLOOKUP($D$7,'Source Data'!$A$2:$ED$22,86,FALSE) -> xxxxxxxxxxx
B96: 14.2 | D96: Type (e.g. Round, Strip or Foil) | F96: =VLOOKUP($D$7,'Source Data'!$A$2:$ED$22,87,FALSE) -> xxxxxxxxxxx
B97: 15 | D97: Core material
B98: 15.1 | D98: Core material | F98: =VLOOKUP($D$7,'Source Data'!$A$2:$ED$22,89,FALSE) -> Steel or Amporphous
B99: 15.2 | D99: Type/code | F99: =VLOOKUP($D$7,'Source Data'!$A$2:$ED$22,90,FALSE) -> xxxxxxxxxxx
B100: 15.3 | D100: Maximum Flux Density of Material | F100: =VLOOKUP($D$7,'Source Data'!$A$2:$ED$22,91,FALSE) -> xxxxxxxxxxx
B101: 15.4 | D101: Supplier | F101: =VLOOKUP($D$7,'Source Data'!$A$2:$ED$22,92,FALSE) -> xxxxxxxxxxx
B102: 16 | C102: 3.3.2 | D102: Tank and tank cover
B103: 16.1 | D103: Tank type: Sealed | F103: =VLOOKUP($D$7,'Source Data'!$A$2:$ED$22,94,FALSE) -> Sealed
...

Sheet 0180193
F3: Specification: DSP 240- 45395762 Rev.4
F4: ='List of Items & Enquiry number'!B14 -> Enquiry Number: 123456XYZ
D6: TECHNICAL SCHEDULES A & B FOR GROUND-MOUNTED DISTRIBUTION TRANSFORMERS
D7: Three-phase, 315 kVA, 11 kV/420V (Coastal, Ester Oil Only)
F8: Deviations from the specific requirements stated in Schedule A must be recorded and explained in the Deviation Schedule
B9: Schedule A: Purchaser's specific requirements
B10: Schedule B: Guarantees and technical particulars of equipment offered
B11: Item | C11: Sub-clause of 240- 45395762 | D11: Description | F11: Schedule A | G11: Schedule B
B12: 1 | D12: Identification
B13: 1.1 | D13: Eskom SAP Number | F13: =VLOOKUP($D$7,'Source Data'!$A$2:$ED$22,3,FALSE) -> 0180193 | G13: xxxxxxxxxxx
B14: 1.2 | D14: Name of manufacturer | F14: =VLOOKUP($D$7,'Source Data'!$A$2:$ED$22,4,FALSE) -> xxxxxxxxxxx
B15: 1.3 | D15: Name of supplier | F15: =VLOOKUP($D$7,'Source Data'!$A$2:$ED$22,5,FALSE) -> xxxxxxxxxxx
B16: 1.4 | D16: Product code for Coastal transformers | F16: =VLOOKUP($D$7,'Source Data'!$A$2:$ED$22,7,FALSE) -> xxxxxxxxxxx
B17: 1.5 | D17: Are the transformers covered by the SANS 780 certification mark? | F17: =VLOOKUP($D$7,'Source Data'!$A$2:$ED$22,8,FALSE) -> xxxxxxxxxxx
B18: 1.6 | D18: State SANS 780 permit number | F18: =VLOOKUP($D$7,'Source Data'!$A$2:$ED$22,9,FALSE) -> xxxxxxxxxxx
B19: 1.7 | D19: Oil Type | F19: =VLOOKUP($D$7,'Source Data'!$A$2:$ED$22,10,FALSE) -> Ester Oil
B20: 2 | C20: 3.2 | D20: Ratings
B21: 2.1 | D21: Power rating | E21: kVA | F21: =VLOOKUP($D$7,'Source Data'!$A$2:$ED$22,12,FALSE) -> 315
B22: 2.2 | D22: Rated primary voltage | E22: kV | F22: =VLOOKUP($D$7,'Source Data'!$A$2:$ED$22,13,FALSE) -> 11
B23: 2.3 | D23: Rated no-load secondary voltage | E23: V | F23: =VLOOKUP($D$7,'Source Data'!$A$2:$ED$22,14,FALSE) -> 420
B24: 2.4 | D24: Frequency | E24: Hz | F24: =VLOOKUP($D$7,'Source Data'!$A$2:$ED$22,15,FALSE) -> 50
B25: 2.5 | D25: Number of phases | F25: =VLOOKUP($D$7,'Source Data'!$A$2:$ED$22,16,FALSE) -> 3ph
B26: 2.6 | D26: Vector Group | F26: =VLOOKUP($D$7,'Source Data'!$A$2:$ED$22,17,FALSE) -> Dyn11 or Yzn11
B27: 3 | C27: 3.2.5 | D27: Insulation levels
B28: 3.1 | D28: BIL - Primary | E28: kV | F28: =VLOOKUP($D$7,'Source Data'!$A$2:$ED$22,19,FALSE) -> 95
B29: 3.2 | D29: BIL - Secondary | E29: kV | F29: =VLOOKUP($D$7,'Source Data'!$A$2:$ED$22,20,FALSE) -> 30
B30: 3.3 | D30: Power frequency withstand voltage - Primary | E30: kV | F30: =VLOOKUP($D$7,'Source Data'!$A$2:$ED$22,21,FALSE) -> 28
B31: 3.4 | D31: Power frequency withstand voltage – Secondary | E31: kV | F31: =VLOOKUP($D$7,'Source Data'!$A$2:$ED$22,22,FALSE) -> 8
B32: 4 | C32: 3.2.8 | D32: Inter-turn winding insulation
B33: 4.1 | D33: Type (Enamel or Paper) | F33: =VLOOKUP($D$7,'Source Data'!$A$2:$ED$22,24,FALSE) -> xxxxxxxxxxx
B34: 4.2 | D34: Enamel grade (if applicable) | F34: =VLOOKUP($D$7,'Source Data'!$A$2:$ED$22,25,FALSE) -> Grade 3
B35: 4.3 | D35: Paper thickness (if applicable) | E35: mm | F35: =VLOOKUP($D$7,'Source Data'!$A$2:$ED$22,26,FALSE) -> > 0.125
B36: 4.4 | D36: Paper type (if applicable) | F36: =VLOOKUP($D$7,'Source Data'!$A$2:$ED$22,27,FALSE) -> xxxxxxxxxxx
B37: 4.5 | D37: Paper make (if applicable) | F37: =VLOOKUP($D$7,'Source Data'!$A$2:$ED$22,28,FALSE) -> xxxxxxxxxxx
B38: 4.6 | D38: Paper minimum impulse withstand | E38: kV | F38: =VLOOKUP($D$7,'Source Data'!$A$2:$ED$22,29,FALSE) -> 21
B39: 4.7 | D39: Paper minimum power frequency withstand | E39: kV | F39: =VLOOKUP($D$7,'Source Data'!$A$2:$ED$22,30,FALSE) -> 8
B40: 4.8 | D40: Inter-turn winding insulation stress shall not exceed 5 kV/mm | E40: kV/mm | F40: =VLOOKUP($D$7,'Source Data'!$A$2:$ED$22,31,FALSE) -> <5
B41: 5 | C41: 3.2.9 | D41: Interlayer insulation
B42: 5.1 | D42: Highest interlayer stress in non-tap part of winding (<5kV/mm is not acceptable as the calculated value must be presented) | E42: kV/mm | F42: =VLOOKUP($D$7,'Source Data'!$A$2:$ED$22,33,FALSE) -> < 5
B43: 5.2 | D43: Highest interlayer stress in tap part of winding (<5kV/mm is not acceptable as the calculated value must be presented) | E43: kV/mm | F43: =VLOOKUP($D$7,'Source Data'!$A$2:$ED$22,34,FALSE) -> < 5
B44: 5.3 | D44: Paper type. | F44: =VLOOKUP($D$7,'Source Data'!$A$2:$ED$22,35,FALSE) -> xxxxxxxxxxx
B45: 5.4 | D45: Paper make. | F45: =VLOOKUP($D$7,'Source Data'!$A$2:$ED$22,36,FALSE) -> xxxxxxxxxxx
B46: 6 | C46: 3.2.10 | D46: Tapping connections
B47: 6.1 | D47: Type | F47: =VLOOKUP($D$7,'Source Data'!$A$2:$ED$22,39,FALSE) -> 0, ±2.5, ±5
B48: 6.2 | D48: Tapping range | E48: % | F48: =VLOOKUP($D$7,'Source Data'!$A$2:$ED$22,38,FALSE) -> Switch
B49: 7 | C49: 3.2.12 | D49: MV Cable Termination Enclosures and Bushings
B50: 7.1 | D50: Air filled enclosure on side of the tank | F50: =VLOOKUP($D$7,'Source Data'!$A$2:$ED$22,41,FALSE) -> Yes
B51: 7.2 | D51: Stainless steel fasteners | F51: =VLOOKUP($D$7,'Source Data'!$A$2:$ED$22,42,FALSE) -> Yes
B52: 7.3 | D52: Cable termination type | F52: =VLOOKUP($D$7,'Source Data'!$A$2:$ED$22,43,FALSE) -> Type 3
B53: 7.4 | D53: Earthing terminal height from gland plate | E53: mm | F53: =VLOOKUP($D$7,'Source Data'!$A$2:$ED$22,44,FALSE) -> 100
B54: 7.5 | D54: Gland plate entry hole | E54: mm | F54: =VLOOKUP($D$7,'Source Data'!$A$2:$ED$22,45,FALSE) -> 110
B55: 7.6 | D55: Dimensions between bushings | E55: mm | F55: =VLOOKUP($D$7,'Source Data'!$A$2:$ED$22,46,FALSE) -> Min 135
B56: 7.7 | D56: Clearances within MV cable termination enclosure | E56: mm | F56: =VLOOKUP($D$7,'Source Data'!$A$2:$ED$22,47,FALSE) -> 90
B57: 7.8 | D57: Cable support clamp diameter | E57: mm | F57: =VLOOKUP($D$7,'Source Data'!$A$2:$ED$22,48,FALSE) -> 50-75
B58: 7.9 | D58: Depth of cable box | E58: mm | F58: =VLOOKUP($D$7,'Source Data'!$A$2:$ED$22,49,FALSE) -> >= 350
B59: 7.10' | D59: MV warning sign with aircraft pop rivets | F59: =VLOOKUP($D$7,'Source Data'!$A$2:$ED$22,50,FALSE) -> Yes
B60: 7.11 | D60: Distance from gland plate to MV bushing centre line (clearance e as per SANS 876) | E60: mm | F60: =VLOOKUP($D$7,'Source Data'!$A$2:$ED$22,51,FALSE) -> Clearance "e" as per SANS 876
B61: 7.12 | D61: Sealant used to seal the cable entry into the MV cable termination enclosure. If other than rubber grommet e.g. brass wiping gland? | F61: =VLOOKUP($D$7,'Source Data'!$A$2:$ED$22,52,FALSE) -> Rubber grommet or other offer
B62: 8 | C62: 3.2.12 | D62: LV Bushings
B63: 8.1 | D63: Make | F63: =VLOOKUP($D$7,'Source Data'!$A$2:$ED$22,54,FALSE) -> xxxxxxxxxxx
B64: 8.2 | D64: Product code | F64: =VLOOKUP($D$7,'Source Data'!$A$2:$ED$22,55,FALSE) -> xxxxxxxxxxx
B65: 8.3 | D65: Material (e.g. Porcelain) | F65: =VLOOKUP($D$7,'Source Data'!$A$2:$ED$22,56,FALSE) -> xxxxxxxxxxx
B66: 8.4 | D66: Stem diameter | F66: =VLOOKUP($D$7,'Source Data'!$A$2:$ED$22,57,FALSE) -> M12
B67: 8.5 | D67: Detail of LV cable connection shown on drawing | F67: =VLOOKUP($D$7,'Source Data'!$A$2:$ED$22,58,FALSE) -> Yes
B68: 8.6 | D68: Air filled enclosure on side of the tank | F68: =VLOOKUP($D$7,'Source Data'!$A$2:$ED$22,59,FALSE) -> Yes
B69: 8.7 | D69: Stainless steel fasteners | F69: =VLOOKUP($D$7,'Source Data'!$A$2:$ED$22,60,FALSE) -> Yes
B70: 8.8 | D70: Clearance between ph-ph and ph-earth | E70: mm | F70: =VLOOKUP($D$7,'Source Data'!$A$2:$ED$22,61,FALSE) -> 60
B71: 8.9 | D71: Current denisty of Copper flags for LV cable connections shall not exceed 2 A/mm2 for rated currents up to and including 630 A and 1,6 A/mm2 for rated currents greater than 630 A | E71: A/mm² | F71: =VLOOKUP($D$7,'Source Data'!$A$2:$ED$22,62,FALSE) -> 2.0 A/mm² or 1.6 A/mm²
B72: 8.10' | D72: Earthing terminal welded to centre of side wall | F72: =VLOOKUP($D$7,'Source Data'!$A$2:$ED$22,63,FALSE) -> Yes
B73: 8.11 | D73: Surge arrester mounted on earthing terminal in LV termination enclosure | F73: =VLOOKUP($D$7,'Source Data'!$A$2:$ED$22,64,FALSE) -> Yes
B74: 8.12 | D74: Minimum cross-sectional area of electrolytic copper conductor fitted in parallel with the surge arrester | E74: mm² | F74: =VLOOKUP($D$7,'Source Data'!$A$2:$ED$22,65,FALSE) -> 70
B75: 8.13 | C75: Table 5 | D75: Number of cable gland holes | F75: =VLOOKUP($D$7,'Source Data'!$A$2:$ED$22,66,FALSE) -> 2
B76: 8.14 | C76: Table 5 | D76: Size of gland hole | E76: mm | F76: =VLOOKUP($D$7,'Source Data'!$A$2:$ED$22,67,FALSE) -> ∅ 65
B77: 8.15 | C77: Table 5 | D77: Clearance around gland hole | E77: mm | F77: =VLOOKUP($D$7,'Source Data'!$A$2:$ED$22,68,FALSE) -> 100
B78: 8.16 | C78: Table 5 | D78: Cable gland type | F78: =VLOOKUP($D$7,'Source Data'!$A$2:$ED$22,69,FALSE) -> Adjustable Mechanical No. 7
B79: 10 | C79: 3.2.14 | D79: Losses
B80: 10.1 | D80: Loss factor base (Cost of Dx or Gx) | F80: =VLOOKUP($D$7,'Source Data'!$A$2:$ED$22,71,FALSE) -> Distribution | G80: xxxxxxxxxxx
B81: 10.2 | D81: No-load Loss Factor, NLLF | E81: R/kW | F81: =VLOOKUP($D$7,'Source Data'!$A$2:$ED$22,72,FALSE) -> 80500 | G81: xxxxxxxxxxx
B82: 10.3 | D82: Load Loss Factor, LLF | E82: R/kW | F82: =VLOOKUP($D$7,'Source Data'!$A$2:$ED$22,73,FALSE) -> 17500 | G82: xxxxxxxxxxx
B83: 10.4 | D83: Guaranteed no-load losses, PNL | E83: W | F83: =VLOOKUP($D$7,'Source Data'!$A$2:$ED$22,74,FALSE) -> ≤ 450
B84: 10.5 | D84: Amorphous Losses (Guaranteed no-load losses, PNL) | E84: W | F84: =VLOOKUP($D$7,'Source Data'!$A$2:$ED$22,75,FALSE) -> ≤ 170
B85: 10.6 | D85: Guaranteed load losses, PLL | E85: W | F85: =VLOOKUP($D$7,'Source Data'!$A$2:$ED$22,76,FALSE) -> ≤ 3600
B86: 11 | C86: 3.2.14 | D86: Impedance voltage & X/R ratio
B87: 11.1 | D87: Impedance at principle tapping (specific design impedances to be stated) | E87: % | F87: =VLOOKUP($D$7,'Source Data'!$A$2:$ED$22,78,FALSE) -> 4,0 to 5,0
B88: 11.2 | D88: X/R ratio | F88: =VLOOKUP($D$7,'Source Data'!$A$2:$ED$22,79,FALSE) -> xxxxxxxxxx
B89: 12 | D89: Audio-sound level (Table 8 of SANS 780)
B90: 12.1 | D90: Maximum limit of transformer audio-sound level | E90: db(A) | F90: =VLOOKUP($D$7,'Source Data'!$A$2:$ED$22,81,FALSE) -> ≤ 50
B91: 13 | D91: MV winding wire
B92: 13.1 | D92: Material (e.g. Cu or Al) | F92: =VLOOKUP($D$7,'Source Data'!$A$2:$ED$22,83,FALSE) -> xxxxxxxxxxx
B93: 13.2 | D93: Type (e.g. Round, Strip or Foil) | F93: =VLOOKUP($D$7,'Source Data'!$A$2:$ED$22,84,FALSE) -> xxxxxxxxxxx
B94: 14 | D94: LV winding wire
B95: 14.1 | D95: Material (e.g. Cu or Al) | F95: =VLOOKUP($D$7,'Source Data'!$A$2:$ED$22,86,FALSE) -> xxxxxxxxxxx
B96: 14.2 | D96: Type (e.g. Round, Strip or Foil) | F96: =VLOOKUP($D$7,'Source Data'!$A$2:$ED$22,87,FALSE) -> xxxxxxxxxxx
B97: 15 | D97: Core material
B98: 15.1 | D98: Core material | F98: =VLOOKUP($D$7,'Source Data'!$A$2:$ED$22,89,FALSE) -> Steel or Amporphous
B99: 15.2 | D99: Type/code | F99: =VLOOKUP($D$7,'Source Data'!$A$2:$ED$22,90,FALSE) -> xxxxxxxxxxx
B100: 15.3 | D100: Maximum Flux Density of Material | F100: =VLOOKUP($D$7,'Source Data'!$A$2:$ED$22,91,FALSE) -> xxxxxxxxxxx
B101: 15.4 | D101: Supplier | F101: =VLOOKUP($D$7,'Source Data'!$A$2:$ED$22,92,FALSE) -> xxxxxxxxxxx
B102: 16 | C102: 3.3.2 | D102: Tank and tank cover
B103: 16.1 | D103: Tank type: Sealed | F103: =VLOOKUP($D$7,'Source Data'!$A$2:$ED$22,94,FALSE) -> Sealed
...

Sheet 0180195
F3: Specification: DSP 240- 45395762 Rev.4
F4: ='List of Items & Enquiry number'!B14 -> Enquiry Number: 123456XYZ
D6: TECHNICAL SCHEDULES A & B FOR GROUND-MOUNTED DISTRIBUTION TRANSFORMERS
D7: Three-phase, 315 kVA, 22 kV/420V (Coastal, Ester Oil Only)
F8: Deviations from the specific requirements stated in Schedule A must be recorded and explained in the Deviation Schedule
B9: Schedule A: Purchaser's specific requirements
B10: Schedule B: Guarantees and technical particulars of equipment offered
B11: Item | C11: Sub-clause of 240- 45395762 | D11: Description | F11: Schedule A | G11: Schedule B
B12: 1 | D12: Identification
B13: 1.1 | D13: Eskom SAP Number | F13: =VLOOKUP($D$7,'Source Data'!$A$2:$ED$22,3,FALSE) -> 0180195 | G13: xxxxxxxxxxx
B14: 1.2 | D14: Name of manufacturer | F14: =VLOOKUP($D$7,'Source Data'!$A$2:$ED$22,4,FALSE) -> xxxxxxxxxxx
B15: 1.3 | D15: Name of supplier | F15: =VLOOKUP($D$7,'Source Data'!$A$2:$ED$22,5,FALSE) -> xxxxxxxxxxx
B16: 1.4 | D16: Product code for Coastal transformers | F16: =VLOOKUP($D$7,'Source Data'!$A$2:$ED$22,7,FALSE) -> xxxxxxxxxxx
B17: 1.5 | D17: Are the transformers covered by the SANS 780 certification mark? | F17: =VLOOKUP($D$7,'Source Data'!$A$2:$ED$22,8,FALSE) -> xxxxxxxxxxx
B18: 1.6 | D18: State SANS 780 permit number | F18: =VLOOKUP($D$7,'Source Data'!$A$2:$ED$22,9,FALSE) -> xxxxxxxxxxx
B19: 1.7 | D19: Oil Type | F19: =VLOOKUP($D$7,'Source Data'!$A$2:$ED$22,10,FALSE) -> Ester Oil
B20: 2 | C20: 3.2 | D20: Ratings
B21: 2.1 | D21: Power rating | E21: kVA | F21: =VLOOKUP($D$7,'Source Data'!$A$2:$ED$22,12,FALSE) -> 315
B22: 2.2 | D22: Rated primary voltage | E22: kV | F22: =VLOOKUP($D$7,'Source Data'!$A$2:$ED$22,13,FALSE) -> 22
B23: 2.3 | D23: Rated no-load secondary voltage | E23: V | F23: =VLOOKUP($D$7,'Source Data'!$A$2:$ED$22,14,FALSE) -> 420
B24: 2.4 | D24: Frequency | E24: Hz | F24: =VLOOKUP($D$7,'Source Data'!$A$2:$ED$22,15,FALSE) -> 50
B25: 2.5 | D25: Number of phases | F25: =VLOOKUP($D$7,'Source Data'!$A$2:$ED$22,16,FALSE) -> 3ph
B26: 2.6 | D26: Vector Group | F26: =VLOOKUP($D$7,'Source Data'!$A$2:$ED$22,17,FALSE) -> Dyn11 or Yzn11
B27: 3 | C27: 3.2.5 | D27: Insulation levels
B28: 3.1 | D28: BIL - Primary | E28: kV | F28: =VLOOKUP($D$7,'Source Data'!$A$2:$ED$22,19,FALSE) -> 150
B29: 3.2 | D29: BIL - Secondary | E29: kV | F29: =VLOOKUP($D$7,'Source Data'!$A$2:$ED$22,20,FALSE) -> 30
B30: 3.3 | D30: Power frequency withstand voltage - Primary | E30: kV | F30: =VLOOKUP($D$7,'Source Data'!$A$2:$ED$22,21,FALSE) -> 50
B31: 3.4 | D31: Power frequency withstand voltage – Secondary | E31: kV | F31: =VLOOKUP($D$7,'Source Data'!$A$2:$ED$22,22,FALSE) -> 8
B32: 4 | C32: 3.2.8 | D32: Inter-turn winding insulation
B33: 4.1 | D33: Type (Enamel or Paper) | F33: =VLOOKUP($D$7,'Source Data'!$A$2:$ED$22,24,FALSE) -> xxxxxxxxxxx
B34: 4.2 | D34: Enamel grade (if applicable) | F34: =VLOOKUP($D$7,'Source Data'!$A$2:$ED$22,25,FALSE) -> Grade 3
B35: 4.3 | D35: Paper thickness (if applicable) | E35: mm | F35: =VLOOKUP($D$7,'Source Data'!$A$2:$ED$22,26,FALSE) -> > 0.125
B36: 4.4 | D36: Paper type (if applicable) | F36: =VLOOKUP($D$7,'Source Data'!$A$2:$ED$22,27,FALSE) -> xxxxxxxxxxx
B37: 4.5 | D37: Paper make (if applicable) | F37: =VLOOKUP($D$7,'Source Data'!$A$2:$ED$22,28,FALSE) -> xxxxxxxxxxx
B38: 4.6 | D38: Paper minimum impulse withstand | E38: kV | F38: =VLOOKUP($D$7,'Source Data'!$A$2:$ED$22,29,FALSE) -> 21
B39: 4.7 | D39: Paper minimum power frequency withstand | E39: kV | F39: =VLOOKUP($D$7,'Source Data'!$A$2:$ED$22,30,FALSE) -> 8
B40: 4.8 | D40: Inter-turn winding insulation stress shall not exceed 5 kV/mm | E40: kV/mm | F40: =VLOOKUP($D$7,'Source Data'!$A$2:$ED$22,31,FALSE) -> <5
B41: 5 | C41: 3.2.9 | D41: Interlayer insulation
B42: 5.1 | D42: Highest interlayer stress in non-tap part of winding (<5kV/mm is not acceptable as the calculated value must be presented) | E42: kV/mm | F42: =VLOOKUP($D$7,'Source Data'!$A$2:$ED$22,33,FALSE) -> < 5
B43: 5.2 | D43: Highest interlayer stress in tap part of winding (<5kV/mm is not acceptable as the calculated value must be presented) | E43: kV/mm | F43: =VLOOKUP($D$7,'Source Data'!$A$2:$ED$22,34,FALSE) -> < 5
B44: 5.3 | D44: Paper type. | F44: =VLOOKUP($D$7,'Source Data'!$A$2:$ED$22,35,FALSE) -> xxxxxxxxxxx
B45: 5.4 | D45: Paper make. | F45: =VLOOKUP($D$7,'Source Data'!$A$2:$ED$22,36,FALSE) -> xxxxxxxxxxx
B46: 6 | C46: 3.2.10 | D46: Tapping connections
B47: 6.1 | D47: Type | F47: =VLOOKUP($D$7,'Source Data'!$A$2:$ED$22,39,FALSE) -> 0, ±2.5, ±5
B48: 6.2 | D48: Tapping range | E48: % | F48: =VLOOKUP($D$7,'Source Data'!$A$2:$ED$22,38,FALSE) -> Switch
B49: 7 | C49: 3.2.12 | D49: MV Cable Termination Enclosures and Bushings
B50: 7.1 | D50: Air filled enclosure on side of the tank | F50: =VLOOKUP($D$7,'Source Data'!$A$2:$ED$22,41,FALSE) -> Yes
B51: 7.2 | D51: Stainless steel fasteners | F51: =VLOOKUP($D$7,'Source Data'!$A$2:$ED$22,42,FALSE) -> Yes
B52: 7.3 | D52: Cable termination type | F52: =VLOOKUP($D$7,'Source Data'!$A$2:$ED$22,43,FALSE) -> Type 4
B53: 7.4 | D53: Earthing terminal height from gland plate | E53: mm | F53: =VLOOKUP($D$7,'Source Data'!$A$2:$ED$22,44,FALSE) -> 100
B54: 7.5 | D54: Gland plate entry hole | E54: mm | F54: =VLOOKUP($D$7,'Source Data'!$A$2:$ED$22,45,FALSE) -> 110
B55: 7.6 | D55: Dimensions between bushings | E55: mm | F55: =VLOOKUP($D$7,'Source Data'!$A$2:$ED$22,46,FALSE) -> Min 135
B56: 7.7 | D56: Clearances within MV cable termination enclosure | E56: mm | F56: =VLOOKUP($D$7,'Source Data'!$A$2:$ED$22,47,FALSE) -> 90
B57: 7.8 | D57: Cable support clamp diameter | E57: mm | F57: =VLOOKUP($D$7,'Source Data'!$A$2:$ED$22,48,FALSE) -> 50-75
B58: 7.9 | D58: Depth of cable box | E58: mm | F58: =VLOOKUP($D$7,'Source Data'!$A$2:$ED$22,49,FALSE) -> >= 350
B59: 7.10' | D59: MV warning sign with aircraft pop rivets | F59: =VLOOKUP($D$7,'Source Data'!$A$2:$ED$22,50,FALSE) -> Yes
B60: 7.11 | D60: Distance from gland plate to MV bushing centre line (clearance e as per SANS 876) | E60: mm | F60: =VLOOKUP($D$7,'Source Data'!$A$2:$ED$22,51,FALSE) -> Clearance "e" as per SANS 876
B61: 7.12 | D61: Sealant used to seal the cable entry into the MV cable termination enclosure. If other than rubber grommet e.g. brass wiping gland? | F61: =VLOOKUP($D$7,'Source Data'!$A$2:$ED$22,52,FALSE) -> Rubber grommet or other offer
B62: 8 | C62: 3.2.12 | D62: LV Bushings
B63: 8.1 | D63: Make | F63: =VLOOKUP($D$7,'Source Data'!$A$2:$ED$22,54,FALSE) -> xxxxxxxxxxx
B64: 8.2 | D64: Product code | F64: =VLOOKUP($D$7,'Source Data'!$A$2:$ED$22,55,FALSE) -> xxxxxxxxxxx
B65: 8.3 | D65: Material (e.g. Porcelain) | F65: =VLOOKUP($D$7,'Source Data'!$A$2:$ED$22,56,FALSE) -> xxxxxxxxxxx
B66: 8.4 | D66: Stem diameter | F66: =VLOOKUP($D$7,'Source Data'!$A$2:$ED$22,57,FALSE) -> M12
B67: 8.5 | D67: Detail of LV cable connection shown on drawing | F67: =VLOOKUP($D$7,'Source Data'!$A$2:$ED$22,58,FALSE) -> Yes
B68: 8.6 | D68: Air filled enclosure on side of the tank | F68: =VLOOKUP($D$7,'Source Data'!$A$2:$ED$22,59,FALSE) -> Yes
B69: 8.7 | D69: Stainless steel fasteners | F69: =VLOOKUP($D$7,'Source Data'!$A$2:$ED$22,60,FALSE) -> Yes
B70: 8.8 | D70: Clearance between ph-ph and ph-earth | E70: mm | F70: =VLOOKUP($D$7,'Source Data'!$A$2:$ED$22,61,FALSE) -> 60
B71: 8.9 | D71: Current denisty of Copper flags for LV cable connections shall not exceed 2 A/mm2 for rated currents up to and including 630 A and 1,6 A/mm2 for rated currents greater than 630 A | E71: A/mm² | F71: =VLOOKUP($D$7,'Source Data'!$A$2:$ED$22,62,FALSE) -> 2.0 A/mm² or 1.6 A/mm²
B72: 8.10' | D72: Earthing terminal welded to centre of side wall | F72: =VLOOKUP($D$7,'Source Data'!$A$2:$ED$22,63,FALSE) -> Yes
B73: 8.11 | D73: Surge arrester mounted on earthing terminal in LV termination enclosure | F73: =VLOOKUP($D$7,'Source Data'!$A$2:$ED$22,64,FALSE) -> Yes
B74: 8.12 | D74: Minimum cross-sectional area of electrolytic copper conductor fitted in parallel with the surge arrester | E74: mm² | F74: =VLOOKUP($D$7,'Source Data'!$A$2:$ED$22,65,FALSE) -> 70
B75: 8.13 | C75: Table 5 | D75: Number of cable gland holes | F75: =VLOOKUP($D$7,'Source Data'!$A$2:$ED$22,66,FALSE) -> 2
B76: 8.14 | C76: Table 5 | D76: Size of gland hole | E76: mm | F76: =VLOOKUP($D$7,'Source Data'!$A$2:$ED$22,67,FALSE) -> ∅ 65
B77: 8.15 | C77: Table 5 | D77: Clearance around gland hole | E77: mm | F77: =VLOOKUP($D$7,'Source Data'!$A$2:$ED$22,68,FALSE) -> 100
B78: 8.16 | C78: Table 5 | D78: Cable gland type | F78: =VLOOKUP($D$7,'Source Data'!$A$2:$ED$22,69,FALSE) -> Adjustable Mechanical No. 7
B79: 10 | C79: 3.2.14 | D79: Losses
B80: 10.1 | D80: Loss factor base (Cost of Dx or Gx) | F80: =VLOOKUP($D$7,'Source Data'!$A$2:$ED$22,71,FALSE) -> Distribution | G80: xxxxxxxxxxx
B81: 10.2 | D81: No-load Loss Factor, NLLF | E81: R/kW | F81: =VLOOKUP($D$7,'Source Data'!$A$2:$ED$22,72,FALSE) -> 80500 | G81: xxxxxxxxxxx
B82: 10.3 | D82: Load Loss Factor, LLF | E82: R/kW | F82: =VLOOKUP($D$7,'Source Data'!$A$2:$ED$22,73,FALSE) -> 17500 | G82: xxxxxxxxxxx
B83: 10.4 | D83: Guaranteed no-load losses, PNL | E83: W | F83: =VLOOKUP($D$7,'Source Data'!$A$2:$ED$22,74,FALSE) -> ≤ 450
B84: 10.5 | D84: Amorphous Losses (Guaranteed no-load losses, PNL) | E84: W | F84: =VLOOKUP($D$7,'Source Data'!$A$2:$ED$22,75,FALSE) -> ≤ 170
B85: 10.6 | D85: Guaranteed load losses, PLL | E85: W | F85: =VLOOKUP($D$7,'Source Data'!$A$2:$ED$22,76,FALSE) -> ≤ 3600
B86: 11 | C86: 3.2.14 | D86: Impedance voltage & X/R ratio
B87: 11.1 | D87: Impedance at principle tapping (specific design impedances to be stated) | E87: % | F87: =VLOOKUP($D$7,'Source Data'!$A$2:$ED$22,78,FALSE) -> 4,0 to 5,0
B88: 11.2 | D88: X/R ratio | F88: =VLOOKUP($D$7,'Source Data'!$A$2:$ED$22,79,FALSE) -> xxxxxxxxxx
B89: 12 | D89: Audio-sound level (Table 8 of SANS 780)
B90: 12.1 | D90: Maximum limit of transformer audio-sound level | E90: db(A) | F90: =VLOOKUP($D$7,'Source Data'!$A$2:$ED$22,81,FALSE) -> ≤ 50
B91: 13 | D91: MV winding wire
B92: 13.1 | D92: Material (e.g. Cu or Al) | F92: =VLOOKUP($D$7,'Source Data'!$A$2:$ED$22,83,FALSE) -> xxxxxxxxxxx
B93: 13.2 | D93: Type (e.g. Round, Strip or Foil) | F93: =VLOOKUP($D$7,'Source Data'!$A$2:$ED$22,84,FALSE) -> xxxxxxxxxxx
B94: 14 | D94: LV winding wire
B95: 14.1 | D95: Material (e.g. Cu or Al) | F95: =VLOOKUP($D$7,'Source Data'!$A$2:$ED$22,86,FALSE) -> xxxxxxxxxxx
B96: 14.2 | D96: Type (e.g. Round, Strip or Foil) | F96: =VLOOKUP($D$7,'Source Data'!$A$2:$ED$22,87,FALSE) -> xxxxxxxxxxx
B97: 15 | D97: Core material
B98: 15.1 | D98: Core material | F98: =VLOOKUP($D$7,'Source Data'!$A$2:$ED$22,89,FALSE) -> Steel or Amporphous
B99: 15.2 | D99: Type/code | F99: =VLOOKUP($D$7,'Source Data'!$A$2:$ED$22,90,FALSE) -> xxxxxxxxxxx
B100: 15.3 | D100: Maximum Flux Density of Material | F100: =VLOOKUP($D$7,'Source Data'!$A$2:$ED$22,91,FALSE) -> xxxxxxxxxxx
B101: 15.4 | D101: Supplier | F101: =VLOOKUP($D$7,'Source Data'!$A$2:$ED$22,92,FALSE) -> xxxxxxxxxxx
B102: 16 | C102: 3.3.2 | D102: Tank and tank cover
B103: 16.1 | D103: Tank type: Sealed | F103: =VLOOKUP($D$7,'Source Data'!$A$2:$ED$22,94,FALSE) -> Sealed
...

Sheet 0180197
F3: Specification: DSP 240- 45395762 Rev.4
F4: ='List of Items & Enquiry number'!B14 -> Enquiry Number: 123456XYZ
D6: TECHNICAL SCHEDULES A & B FOR GROUND-MOUNTED DISTRIBUTION TRANSFORMERS
D7: Three-phase, 500 kVA, 11 kV/420V (Coastal, Ester Oil Only)
F8: Deviations from the specific requirements stated in Schedule A must be recorded and explained in the Deviation Schedule
B9: Schedule A: Purchaser's specific requirements
B10: Schedule B: Guarantees and technical particulars of equipment offered
B11: Item | C11: Sub-clause of 240- 45395762 | D11: Description | F11: Schedule A | G11: Schedule B
B12: 1 | D12: Identification
B13: 1.1 | D13: Eskom SAP Number | F13: =VLOOKUP($D$7,'Source Data'!$A$2:$ED$22,3,FALSE) -> 0180197 | G13: xxxxxxxxxxx
B14: 1.2 | D14: Name of manufacturer | F14: =VLOOKUP($D$7,'Source Data'!$A$2:$ED$22,4,FALSE) -> xxxxxxxxxxx
B15: 1.3 | D15: Name of supplier | F15: =VLOOKUP($D$7,'Source Data'!$A$2:$ED$22,5,FALSE) -> xxxxxxxxxxx
B16: 1.4 | D16: Product code for Coastal transformers | F16: =VLOOKUP($D$7,'Source Data'!$A$2:$ED$22,7,FALSE) -> xxxxxxxxxxx
B17: 1.5 | D17: Are the transformers covered by the SANS 780 certification mark? | F17: =VLOOKUP($D$7,'Source Data'!$A$2:$ED$22,8,FALSE) -> xxxxxxxxxxx
B18: 1.6 | D18: State SANS 780 permit number | F18: =VLOOKUP($D$7,'Source Data'!$A$2:$ED$22,9,FALSE) -> xxxxxxxxxxx
B19: 1.7 | D19: Oil Type | F19: =VLOOKUP($D$7,'Source Data'!$A$2:$ED$22,10,FALSE) -> Ester Oil
B20: 2 | C20: 3.2 | D20: Ratings
B21: 2.1 | D21: Power rating | E21: kVA | F21: =VLOOKUP($D$7,'Source Data'!$A$2:$ED$22,12,FALSE) -> 500
B22: 2.2 | D22: Rated primary voltage | E22: kV | F22: =VLOOKUP($D$7,'Source Data'!$A$2:$ED$22,13,FALSE) -> 11
B23: 2.3 | D23: Rated no-load secondary voltage | E23: V | F23: =VLOOKUP($D$7,'Source Data'!$A$2:$ED$22,14,FALSE) -> 420
B24: 2.4 | D24: Frequency | E24: Hz | F24: =VLOOKUP($D$7,'Source Data'!$A$2:$ED$22,15,FALSE) -> 50
B25: 2.5 | D25: Number of phases | F25: =VLOOKUP($D$7,'Source Data'!$A$2:$ED$22,16,FALSE) -> 3ph
B26: 2.6 | D26: Vector Group | F26: =VLOOKUP($D$7,'Source Data'!$A$2:$ED$22,17,FALSE) -> Dyn11 or Yzn11
B27: 3 | C27: 3.2.5 | D27: Insulation levels
B28: 3.1 | D28: BIL - Primary | E28: kV | F28: =VLOOKUP($D$7,'Source Data'!$A$2:$ED$22,19,FALSE) -> 95
B29: 3.2 | D29: BIL - Secondary | E29: kV | F29: =VLOOKUP($D$7,'Source Data'!$A$2:$ED$22,20,FALSE) -> 30
B30: 3.3 | D30: Power frequency withstand voltage - Primary | E30: kV | F30: =VLOOKUP($D$7,'Source Data'!$A$2:$ED$22,21,FALSE) -> 28
B31: 3.4 | D31: Power frequency withstand voltage – Secondary | E31: kV | F31: =VLOOKUP($D$7,'Source Data'!$A$2:$ED$22,22,FALSE) -> 8
B32: 4 | C32: 3.2.8 | D32: Inter-turn winding insulation
B33: 4.1 | D33: Type (Enamel or Paper) | F33: =VLOOKUP($D$7,'Source Data'!$A$2:$ED$22,24,FALSE) -> xxxxxxxxxxx
B34: 4.2 | D34: Enamel grade (if applicable) | F34: =VLOOKUP($D$7,'Source Data'!$A$2:$ED$22,25,FALSE) -> Grade 3
B35: 4.3 | D35: Paper thickness (if applicable) | E35: mm | F35: =VLOOKUP($D$7,'Source Data'!$A$2:$ED$22,26,FALSE) -> > 0.125
B36: 4.4 | D36: Paper type (if applicable) | F36: =VLOOKUP($D$7,'Source Data'!$A$2:$ED$22,27,FALSE) -> xxxxxxxxxxx
B37: 4.5 | D37: Paper make (if applicable) | F37: =VLOOKUP($D$7,'Source Data'!$A$2:$ED$22,28,FALSE) -> xxxxxxxxxxx
B38: 4.6 | D38: Paper minimum impulse withstand | E38: kV | F38: =VLOOKUP($D$7,'Source Data'!$A$2:$ED$22,29,FALSE) -> 21
B39: 4.7 | D39: Paper minimum power frequency withstand | E39: kV | F39: =VLOOKUP($D$7,'Source Data'!$A$2:$ED$22,30,FALSE) -> 8
B40: 4.8 | D40: Inter-turn winding insulation stress shall not exceed 5 kV/mm | E40: kV/mm | F40: =VLOOKUP($D$7,'Source Data'!$A$2:$ED$22,31,FALSE) -> <5
B41: 5 | C41: 3.2.9 | D41: Interlayer insulation
B42: 5.1 | D42: Highest interlayer stress in non-tap part of winding (<5kV/mm is not acceptable as the calculated value must be presented) | E42: kV/mm | F42: =VLOOKUP($D$7,'Source Data'!$A$2:$ED$22,33,FALSE) -> < 5
B43: 5.2 | D43: Highest interlayer stress in tap part of winding (<5kV/mm is not acceptable as the calculated value must be presented) | E43: kV/mm | F43: =VLOOKUP($D$7,'Source Data'!$A$2:$ED$22,34,FALSE) -> < 5
B44: 5.3 | D44: Paper type. | F44: =VLOOKUP($D$7,'Source Data'!$A$2:$ED$22,35,FALSE) -> xxxxxxxxxxx
B45: 5.4 | D45: Paper make. | F45: =VLOOKUP($D$7,'Source Data'!$A$2:$ED$22,36,FALSE) -> xxxxxxxxxxx
B46: 6 | C46: 3.2.10 | D46: Tapping connections
B47: 6.1 | D47: Type | F47: =VLOOKUP($D$7,'Source Data'!$A$2:$ED$22,39,FALSE) -> 0, ±2.5, ±5
B48: 6.2 | D48: Tapping range | E48: % | F48: =VLOOKUP($D$7,'Source Data'!$A$2:$ED$22,38,FALSE) -> Switch
B49: 7 | C49: 3.2.12 | D49: MV Cable Termination Enclosures and Bushings
B50: 7.1 | D50: Air filled enclosure on side of the tank | F50: =VLOOKUP($D$7,'Source Data'!$A$2:$ED$22,41,FALSE) -> Yes
B51: 7.2 | D51: Stainless steel fasteners | F51: =VLOOKUP($D$7,'Source Data'!$A$2:$ED$22,42,FALSE) -> Yes
B52: 7.3 | D52: Cable termination type | F52: =VLOOKUP($D$7,'Source Data'!$A$2:$ED$22,43,FALSE) -> Type 3
B53: 7.4 | D53: Earthing terminal height from gland plate | E53: mm | F53: =VLOOKUP($D$7,'Source Data'!$A$2:$ED$22,44,FALSE) -> 100
B54: 7.5 | D54: Gland plate entry hole | E54: mm | F54: =VLOOKUP($D$7,'Source Data'!$A$2:$ED$22,45,FALSE) -> 110
B55: 7.6 | D55: Dimensions between bushings | E55: mm | F55: =VLOOKUP($D$7,'Source Data'!$A$2:$ED$22,46,FALSE) -> Min 135
B56: 7.7 | D56: Clearances within MV cable termination enclosure | E56: mm | F56: =VLOOKUP($D$7,'Source Data'!$A$2:$ED$22,47,FALSE) -> 90
B57: 7.8 | D57: Cable support clamp diameter | E57: mm | F57: =VLOOKUP($D$7,'Source Data'!$A$2:$ED$22,48,FALSE) -> 50-75
B58: 7.9 | D58: Depth of cable box | E58: mm | F58: =VLOOKUP($D$7,'Source Data'!$A$2:$ED$22,49,FALSE) -> >= 350
B59: 7.10' | D59: MV warning sign with aircraft pop rivets | F59: =VLOOKUP($D$7,'Source Data'!$A$2:$ED$22,50,FALSE) -> Yes
B60: 7.11 | D60: Distance from gland plate to MV bushing centre line (clearance e as per SANS 876) | E60: mm | F60: =VLOOKUP($D$7,'Source Data'!$A$2:$ED$22,51,FALSE) -> Clearance "e" as per SANS 876
B61: 7.12 | D61: Sealant used to seal the cable entry into the MV cable termination enclosure. If other than rubber grommet e.g. brass wiping gland? | F61: =VLOOKUP($D$7,'Source Data'!$A$2:$ED$22,52,FALSE) -> Rubber grommet or other offer
B62: 8 | C62: 3.2.12 | D62: LV Bushings
B63: 8.1 | D63: Make | F63: =VLOOKUP($D$7,'Source Data'!$A$2:$ED$22,54,FALSE) -> xxxxxxxxxxx
B64: 8.2 | D64: Product code | F64: =VLOOKUP($D$7,'Source Data'!$A$2:$ED$22,55,FALSE) -> xxxxxxxxxxx
B65: 8.3 | D65: Material (e.g. Porcelain) | F65: =VLOOKUP($D$7,'Source Data'!$A$2:$ED$22,56,FALSE) -> xxxxxxxxxxx
B66: 8.4 | D66: Stem diameter | F66: =VLOOKUP($D$7,'Source Data'!$A$2:$ED$22,57,FALSE) -> M12
B67: 8.5 | D67: Detail of LV cable connection shown on drawing | F67: =VLOOKUP($D$7,'Source Data'!$A$2:$ED$22,58,FALSE) -> Yes
B68: 8.6 | D68: Air filled enclosure on side of the tank | F68: =VLOOKUP($D$7,'Source Data'!$A$2:$ED$22,59,FALSE) -> Yes
B69: 8.7 | D69: Stainless steel fasteners | F69: =VLOOKUP($D$7,'Source Data'!$A$2:$ED$22,60,FALSE) -> Yes
B70: 8.8 | D70: Clearance between ph-ph and ph-earth | E70: mm | F70: =VLOOKUP($D$7,'Source Data'!$A$2:$ED$22,61,FALSE) -> 60
B71: 8.9 | D71: Current denisty of Copper flags for LV cable connections shall not exceed 2 A/mm2 for rated currents up to and including 630 A and 1,6 A/mm2 for rated currents greater than 630 A | E71: A/mm² | F71: =VLOOKUP($D$7,'Source Data'!$A$2:$ED$22,62,FALSE) -> 2.0 A/mm² or 1.6 A/mm²
B72: 8.10' | D72: Earthing terminal welded to centre of side wall | F72: =VLOOKUP($D$7,'Source Data'!$A$2:$ED$22,63,FALSE) -> Yes
B73: 8.11 | D73: Surge arrester mounted on earthing terminal in LV termination enclosure | F73: =VLOOKUP($D$7,'Source Data'!$A$2:$ED$22,64,FALSE) -> Yes
B74: 8.12 | D74: Minimum cross-sectional area of electrolytic copper conductor fitted in parallel with the surge arrester | E74: mm² | F74: =VLOOKUP($D$7,'Source Data'!$A$2:$ED$22,65,FALSE) -> 70
B75: 8.13 | C75: Table 5 | D75: Number of cable gland holes | F75: =VLOOKUP($D$7,'Source Data'!$A$2:$ED$22,66,FALSE) -> 3
B76: 8.14 | C76: Table 5 | D76: Size of gland hole | E76: mm | F76: =VLOOKUP($D$7,'Source Data'!$A$2:$ED$22,67,FALSE) -> ∅ 65
B77: 8.15 | C77: Table 5 | D77: Clearance around gland hole | E77: mm | F77: =VLOOKUP($D$7,'Source Data'!$A$2:$ED$22,68,FALSE) -> 100
B78: 8.16 | C78: Table 5 | D78: Cable gland type | F78: =VLOOKUP($D$7,'Source Data'!$A$2:$ED$22,69,FALSE) -> Adjustable Mechanical No. 7
B79: 10 | C79: 3.2.14 | D79: Losses
B80: 10.1 | D80: Loss factor base (Cost of Dx or Gx) | F80: =VLOOKUP($D$7,'Source Data'!$A$2:$ED$22,71,FALSE) -> Distribution | G80: xxxxxxxxxxx
B81: 10.2 | D81: No-load Loss Factor, NLLF | E81: R/kW | F81: =VLOOKUP($D$7,'Source Data'!$A$2:$ED$22,72,FALSE) -> 80500 | G81: xxxxxxxxxxx
B82: 10.3 | D82: Load Loss Factor, LLF | E82: R/kW | F82: =VLOOKUP($D$7,'Source Data'!$A$2:$ED$22,73,FALSE) -> 17500 | G82: xxxxxxxxxxx
B83: 10.4 | D83: Guaranteed no-load losses, PNL | E83: W | F83: =VLOOKUP($D$7,'Source Data'!$A$2:$ED$22,74,FALSE) -> ≤ 630
B84: 10.5 | D84: Amorphous Losses (Guaranteed no-load losses, PNL) | E84: W | F84: =VLOOKUP($D$7,'Source Data'!$A$2:$ED$22,75,FALSE) -> ≤ 230
B85: 10.6 | D85: Guaranteed load losses, PLL | E85: W | F85: =VLOOKUP($D$7,'Source Data'!$A$2:$ED$22,76,FALSE) -> ≤ 5200
B86: 11 | C86: 3.2.14 | D86: Impedance voltage & X/R ratio
B87: 11.1 | D87: Impedance at principle tapping (specific design impedances to be stated) | E87: % | F87: =VLOOKUP($D$7,'Source Data'!$A$2:$ED$22,78,FALSE) -> 4,5 to 5,5
B88: 11.2 | D88: X/R ratio | F88: =VLOOKUP($D$7,'Source Data'!$A$2:$ED$22,79,FALSE) -> xxxxxxxxxx
B89: 12 | D89: Audio-sound level (Table 8 of SANS 780)
B90: 12.1 | D90: Maximum limit of transformer audio-sound level | E90: db(A) | F90: =VLOOKUP($D$7,'Source Data'!$A$2:$ED$22,81,FALSE) -> ≤ 52
B91: 13 | D91: MV winding wire
B92: 13.1 | D92: Material (e.g. Cu or Al) | F92: =VLOOKUP($D$7,'Source Data'!$A$2:$ED$22,83,FALSE) -> xxxxxxxxxxx
B93: 13.2 | D93: Type (e.g. Round, Strip or Foil) | F93: =VLOOKUP($D$7,'Source Data'!$A$2:$ED$22,84,FALSE) -> xxxxxxxxxxx
B94: 14 | D94: LV winding wire
B95: 14.1 | D95: Material (e.g. Cu or Al) | F95: =VLOOKUP($D$7,'Source Data'!$A$2:$ED$22,86,FALSE) -> xxxxxxxxxxx
B96: 14.2 | D96: Type (e.g. Round, Strip or Foil) | F96: =VLOOKUP($D$7,'Source Data'!$A$2:$ED$22,87,FALSE) -> xxxxxxxxxxx
B97: 15 | D97: Core material
B98: 15.1 | D98: Core material | F98: =VLOOKUP($D$7,'Source Data'!$A$2:$ED$22,89,FALSE) -> Steel or Amporphous
B99: 15.2 | D99: Type/code | F99: =VLOOKUP($D$7,'Source Data'!$A$2:$ED$22,90,FALSE) -> xxxxxxxxxxx
B100: 15.3 | D100: Maximum Flux Density of Material | F100: =VLOOKUP($D$7,'Source Data'!$A$2:$ED$22,91,FALSE) -> xxxxxxxxxxx
B101: 15.4 | D101: Supplier | F101: =VLOOKUP($D$7,'Source Data'!$A$2:$ED$22,92,FALSE) -> xxxxxxxxxxx
B102: 16 | C102: 3.3.2 | D102: Tank and tank cover
B103: 16.1 | D103: Tank type: Sealed | F103: =VLOOKUP($D$7,'Source Data'!$A$2:$ED$22,94,FALSE) -> Sealed
...

Sheet 0180199
F3: Specification: DSP 240- 45395762 Rev.4
F4: ='List of Items & Enquiry number'!B14 -> Enquiry Number: 123456XYZ
D6: TECHNICAL SCHEDULES A & B FOR GROUND-MOUNTED DISTRIBUTION TRANSFORMERS
D7: Three-phase, 500 kVA, 22 kV/420V (Coastal, Ester Oil Only)
F8: Deviations from the specific requirements stated in Schedule A must be recorded and explained in the Deviation Schedule
B9: Schedule A: Purchaser's specific requirements
B10: Schedule B: Guarantees and technical particulars of equipment offered
B11: Item | C11: Sub-clause of 240- 45395762 | D11: Description | F11: Schedule A | G11: Schedule B
B12: 1 | D12: Identification
B13: 1.1 | D13: Eskom SAP Number | F13: =VLOOKUP($D$7,'Source Data'!$A$2:$ED$22,3,FALSE) -> 0180199 | G13: xxxxxxxxxxx
B14: 1.2 | D14: Name of manufacturer | F14: =VLOOKUP($D$7,'Source Data'!$A$2:$ED$22,4,FALSE) -> xxxxxxxxxxx
B15: 1.3 | D15: Name of supplier | F15: =VLOOKUP($D$7,'Source Data'!$A$2:$ED$22,5,FALSE) -> xxxxxxxxxxx
B16: 1.4 | D16: Product code for Coastal transformers | F16: =VLOOKUP($D$7,'Source Data'!$A$2:$ED$22,7,FALSE) -> xxxxxxxxxxx
B17: 1.5 | D17: Are the transformers covered by the SANS 780 certification mark? | F17: =VLOOKUP($D$7,'Source Data'!$A$2:$ED$22,8,FALSE) -> xxxxxxxxxxx
B18: 1.6 | D18: State SANS 780 permit number | F18: =VLOOKUP($D$7,'Source Data'!$A$2:$ED$22,9,FALSE) -> xxxxxxxxxxx
B19: 1.7 | D19: Oil Type | F19: =VLOOKUP($D$7,'Source Data'!$A$2:$ED$22,10,FALSE) -> Ester Oil
B20: 2 | C20: 3.2 | D20: Ratings
B21: 2.1 | D21: Power rating | E21: kVA | F21: =VLOOKUP($D$7,'Source Data'!$A$2:$ED$22,12,FALSE) -> 500
B22: 2.2 | D22: Rated primary voltage | E22: kV | F22: =VLOOKUP($D$7,'Source Data'!$A$2:$ED$22,13,FALSE) -> 22
B23: 2.3 | D23: Rated no-load secondary voltage | E23: V | F23: =VLOOKUP($D$7,'Source Data'!$A$2:$ED$22,14,FALSE) -> 420
B24: 2.4 | D24: Frequency | E24: Hz | F24: =VLOOKUP($D$7,'Source Data'!$A$2:$ED$22,15,FALSE) -> 50
B25: 2.5 | D25: Number of phases | F25: =VLOOKUP($D$7,'Source Data'!$A$2:$ED$22,16,FALSE) -> 3ph
B26: 2.6 | D26: Vector Group | F26: =VLOOKUP($D$7,'Source Data'!$A$2:$ED$22,17,FALSE) -> Dyn11 or Yzn11
B27: 3 | C27: 3.2.5 | D27: Insulation levels
B28: 3.1 | D28: BIL - Primary | E28: kV | F28: =VLOOKUP($D$7,'Source Data'!$A$2:$ED$22,19,FALSE) -> 150
B29: 3.2 | D29: BIL - Secondary | E29: kV | F29: =VLOOKUP($D$7,'Source Data'!$A$2:$ED$22,20,FALSE) -> 30
B30: 3.3 | D30: Power frequency withstand voltage - Primary | E30: kV | F30: =VLOOKUP($D$7,'Source Data'!$A$2:$ED$22,21,FALSE) -> 50
B31: 3.4 | D31: Power frequency withstand voltage – Secondary | E31: kV | F31: =VLOOKUP($D$7,'Source Data'!$A$2:$ED$22,22,FALSE) -> 8
B32: 4 | C32: 3.2.8 | D32: Inter-turn winding insulation
B33: 4.1 | D33: Type (Enamel or Paper) | F33: =VLOOKUP($D$7,'Source Data'!$A$2:$ED$22,24,FALSE) -> xxxxxxxxxxx
B34: 4.2 | D34: Enamel grade (if applicable) | F34: =VLOOKUP($D$7,'Source Data'!$A$2:$ED$22,25,FALSE) -> Grade 3
B35: 4.3 | D35: Paper thickness (if applicable) | E35: mm | F35: =VLOOKUP($D$7,'Source Data'!$A$2:$ED$22,26,FALSE) -> > 0.125
B36: 4.4 | D36: Paper type (if applicable) | F36: =VLOOKUP($D$7,'Source Data'!$A$2:$ED$22,27,FALSE) -> xxxxxxxxxxx
B37: 4.5 | D37: Paper make (if applicable) | F37: =VLOOKUP($D$7,'Source Data'!$A$2:$ED$22,28,FALSE) -> xxxxxxxxxxx
B38: 4.6 | D38: Paper minimum impulse withstand | E38: kV | F38: =VLOOKUP($D$7,'Source Data'!$A$2:$ED$22,29,FALSE) -> 21
B39: 4.7 | D39: Paper minimum power frequency withstand | E39: kV | F39: =VLOOKUP($D$7,'Source Data'!$A$2:$ED$22,30,FALSE) -> 8
B40: 4.8 | D40: Inter-turn winding insulation stress shall not exceed 5 kV/mm | E40: kV/mm | F40: =VLOOKUP($D$7,'Source Data'!$A$2:$ED$22,31,FALSE) -> <5
B41: 5 | C41: 3.2.9 | D41: Interlayer insulation
B42: 5.1 | D42: Highest interlayer stress in non-tap part of winding (<5kV/mm is not acceptable as the calculated value must be presented) | E42: kV/mm | F42: =VLOOKUP($D$7,'Source Data'!$A$2:$ED$22,33,FALSE) -> < 5
B43: 5.2 | D43: Highest interlayer stress in tap part of winding (<5kV/mm is not acceptable as the calculated value must be presented) | E43: kV/mm | F43: =VLOOKUP($D$7,'Source Data'!$A$2:$ED$22,34,FALSE) -> < 5
B44: 5.3 | D44: Paper type. | F44: =VLOOKUP($D$7,'Source Data'!$A$2:$ED$22,35,FALSE) -> xxxxxxxxxxx
B45: 5.4 | D45: Paper make. | F45: =VLOOKUP($D$7,'Source Data'!$A$2:$ED$22,36,FALSE) -> xxxxxxxxxxx
B46: 6 | C46: 3.2.10 | D46: Tapping connections
B47: 6.1 | D47: Type | F47: =VLOOKUP($D$7,'Source Data'!$A$2:$ED$22,39,FALSE) -> 0, ±2.5, ±5
B48: 6.2 | D48: Tapping range | E48: % | F48: =VLOOKUP($D$7,'Source Data'!$A$2:$ED$22,38,FALSE) -> Switch
B49: 7 | C49: 3.2.12 | D49: MV Cable Termination Enclosures and Bushings
B50: 7.1 | D50: Air filled enclosure on side of the tank | F50: =VLOOKUP($D$7,'Source Data'!$A$2:$ED$22,41,FALSE) -> Yes
B51: 7.2 | D51: Stainless steel fasteners | F51: =VLOOKUP($D$7,'Source Data'!$A$2:$ED$22,42,FALSE) -> Yes
B52: 7.3 | D52: Cable termination type | F52: =VLOOKUP($D$7,'Source Data'!$A$2:$ED$22,43,FALSE) -> Type 4
B53: 7.4 | D53: Earthing terminal height from gland plate | E53: mm | F53: =VLOOKUP($D$7,'Source Data'!$A$2:$ED$22,44,FALSE) -> 100
B54: 7.5 | D54: Gland plate entry hole | E54: mm | F54: =VLOOKUP($D$7,'Source Data'!$A$2:$ED$22,45,FALSE) -> 110
B55: 7.6 | D55: Dimensions between bushings | E55: mm | F55: =VLOOKUP($D$7,'Source Data'!$A$2:$ED$22,46,FALSE) -> Min 135
B56: 7.7 | D56: Clearances within MV cable termination enclosure | E56: mm | F56: =VLOOKUP($D$7,'Source Data'!$A$2:$ED$22,47,FALSE) -> 90
B57: 7.8 | D57: Cable support clamp diameter | E57: mm | F57: =VLOOKUP($D$7,'Source Data'!$A$2:$ED$22,48,FALSE) -> 50-75
B58: 7.9 | D58: Depth of cable box | E58: mm | F58: =VLOOKUP($D$7,'Source Data'!$A$2:$ED$22,49,FALSE) -> >= 350
B59: 7.10' | D59: MV warning sign with aircraft pop rivets | F59: =VLOOKUP($D$7,'Source Data'!$A$2:$ED$22,50,FALSE) -> Yes
B60: 7.11 | D60: Distance from gland plate to MV bushing centre line (clearance e as per SANS 876) | E60: mm | F60: =VLOOKUP($D$7,'Source Data'!$A$2:$ED$22,51,FALSE) -> Clearance "e" as per SANS 876
B61: 7.12 | D61: Sealant used to seal the cable entry into the MV cable termination enclosure. If other than rubber grommet e.g. brass wiping gland? | F61: =VLOOKUP($D$7,'Source Data'!$A$2:$ED$22,52,FALSE) -> Rubber grommet or other offer
B62: 8 | C62: 3.2.12 | D62: LV Bushings
B63: 8.1 | D63: Make | F63: =VLOOKUP($D$7,'Source Data'!$A$2:$ED$22,54,FALSE) -> xxxxxxxxxxx
B64: 8.2 | D64: Product code | F64: =VLOOKUP($D$7,'Source Data'!$A$2:$ED$22,55,FALSE) -> xxxxxxxxxxx
B65: 8.3 | D65: Material (e.g. Porcelain) | F65: =VLOOKUP($D$7,'Source Data'!$A$2:$ED$22,56,FALSE) -> xxxxxxxxxxx
B66: 8.4 | D66: Stem diameter | F66: =VLOOKUP($D$7,'Source Data'!$A$2:$ED$22,57,FALSE) -> M12
B67: 8.5 | D67: Detail of LV cable connection shown on drawing | F67: =VLOOKUP($D$7,'Source Data'!$A$2:$ED$22,58,FALSE) -> Yes
B68: 8.6 | D68: Air filled enclosure on side of the tank | F68: =VLOOKUP($D$7,'Source Data'!$A$2:$ED$22,59,FALSE) -> Yes
B69: 8.7 | D69: Stainless steel fasteners | F69: =VLOOKUP($D$7,'Source Data'!$A$2:$ED$22,60,FALSE) -> Yes
B70: 8.8 | D70: Clearance between ph-ph and ph-earth | E70: mm | F70: =VLOOKUP($D$7,'Source Data'!$A$2:$ED$22,61,FALSE) -> 60
B71: 8.9 | D71: Current denisty of Copper flags for LV cable connections shall not exceed 2 A/mm2 for rated currents up to and including 630 A and 1,6 A/mm2 for rated currents greater than 630 A | E71: A/mm² | F71: =VLOOKUP($D$7,'Source Data'!$A$2:$ED$22,62,FALSE) -> 2.0 A/mm² or 1.6 A/mm²
B72: 8.10' | D72: Earthing terminal welded to centre of side wall | F72: =VLOOKUP($D$7,'Source Data'!$A$2:$ED$22,63,FALSE) -> Yes
B73: 8.11 | D73: Surge arrester mounted on earthing terminal in LV termination enclosure | F73: =VLOOKUP($D$7,'Source Data'!$A$2:$ED$22,64,FALSE) -> Yes
B74: 8.12 | D74: Minimum cross-sectional area of electrolytic copper conductor fitted in parallel with the surge arrester | E74: mm² | F74: =VLOOKUP($D$7,'Source Data'!$A$2:$ED$22,65,FALSE) -> 70
B75: 8.13 | C75: Table 5 | D75: Number of cable gland holes | F75: =VLOOKUP($D$7,'Source Data'!$A$2:$ED$22,66,FALSE) -> 3
B76: 8.14 | C76: Table 5 | D76: Size of gland hole | E76: mm | F76: =VLOOKUP($D$7,'Source Data'!$A$2:$ED$22,67,FALSE) -> ∅ 65
B77: 8.15 | C77: Table 5 | D77: Clearance around gland hole | E77: mm | F77: =VLOOKUP($D$7,'Source Data'!$A$2:$ED$22,68,FALSE) -> 100
B78: 8.16 | C78: Table 5 | D78: Cable gland type | F78: =VLOOKUP($D$7,'Source Data'!$A$2:$ED$22,69,FALSE) -> Adjustable Mechanical No. 7
B79: 10 | C79: 3.2.14 | D79: Losses
B80: 10.1 | D80: Loss factor base (Cost of Dx or Gx) | F80: =VLOOKUP($D$7,'Source Data'!$A$2:$ED$22,71,FALSE) -> Distribution | G80: xxxxxxxxxxx
B81: 10.2 | D81: No-load Loss Factor, NLLF | E81: R/kW | F81: =VLOOKUP($D$7,'Source Data'!$A$2:$ED$22,72,FALSE) -> 80500 | G81: xxxxxxxxxxx
B82: 10.3 | D82: Load Loss Factor, LLF | E82: R/kW | F82: =VLOOKUP($D$7,'Source Data'!$A$2:$ED$22,73,FALSE) -> 17500 | G82: xxxxxxxxxxx
B83: 10.4 | D83: Guaranteed no-load losses, PNL | E83: W | F83: =VLOOKUP($D$7,'Source Data'!$A$2:$ED$22,74,FALSE) -> ≤ 630
B84: 10.5 | D84: Amorphous Losses (Guaranteed no-load losses, PNL) | E84: W | F84: =VLOOKUP($D$7,'Source Data'!$A$2:$ED$22,75,FALSE) -> ≤ 230
B85: 10.6 | D85: Guaranteed load losses, PLL | E85: W | F85: =VLOOKUP($D$7,'Source Data'!$A$2:$ED$22,76,FALSE) -> ≤ 5200
B86: 11 | C86: 3.2.14 | D86: Impedance voltage & X/R ratio
B87: 11.1 | D87: Impedance at principle tapping (specific design impedances to be stated) | E87: % | F87: =VLOOKUP($D$7,'Source Data'!$A$2:$ED$22,78,FALSE) -> 4,5 to 5,5
B88: 11.2 | D88: X/R ratio | F88: =VLOOKUP($D$7,'Source Data'!$A$2:$ED$22,79,FALSE) -> xxxxxxxxxx
B89: 12 | D89: Audio-sound level (Table 8 of SANS 780)
B90: 12.1 | D90: Maximum limit of transformer audio-sound level | E90: db(A) | F90: =VLOOKUP($D$7,'Source Data'!$A$2:$ED$22,81,FALSE) -> ≤ 52
B91: 13 | D91: MV winding wire
B92: 13.1 | D92: Material (e.g. Cu or Al) | F92: =VLOOKUP($D$7,'Source Data'!$A$2:$ED$22,83,FALSE) -> xxxxxxxxxxx
B93: 13.2 | D93: Type (e.g. Round, Strip or Foil) | F93: =VLOOKUP($D$7,'Source Data'!$A$2:$ED$22,84,FALSE) -> xxxxxxxxxxx
B94: 14 | D94: LV winding wire
B95: 14.1 | D95: Material (e.g. Cu or Al) | F95: =VLOOKUP($D$7,'Source Data'!$A$2:$ED$22,86,FALSE) -> xxxxxxxxxxx
B96: 14.2 | D96: Type (e.g. Round, Strip or Foil) | F96: =VLOOKUP($D$7,'Source Data'!$A$2:$ED$22,87,FALSE) -> xxxxxxxxxxx
B97: 15 | D97: Core material
B98: 15.1 | D98: Core material | F98: =VLOOKUP($D$7,'Source Data'!$A$2:$ED$22,89,FALSE) -> Steel or Amporphous
B99: 15.2 | D99: Type/code | F99: =VLOOKUP($D$7,'Source Data'!$A$2:$ED$22,90,FALSE) -> xxxxxxxxxxx
B100: 15.3 | D100: Maximum Flux Density of Material | F100: =VLOOKUP($D$7,'Source Data'!$A$2:$ED$22,91,FALSE) -> xxxxxxxxxxx
B101: 15.4 | D101: Supplier | F101: =VLOOKUP($D$7,'Source Data'!$A$2:$ED$22,92,FALSE) -> xxxxxxxxxxx
B102: 16 | C102: 3.3.2 | D102: Tank and tank cover
B103: 16.1 | D103: Tank type: Sealed | F103: =VLOOKUP($D$7,'Source Data'!$A$2:$ED$22,94,FALSE) -> Sealed
...

Sheet 0182445
F3: Specification: DSP 240- 45395762 Rev.4
F4: ='List of Items & Enquiry number'!B14 -> Enquiry Number: 123456XYZ
D6: TECHNICAL SCHEDULES A & B FOR GROUND-MOUNTED DISTRIBUTION TRANSFORMERS
D7: Three-phase, 1000 kVA, 11 kV/420V (Coastal, Ester Oil Only)
F8: Deviations from the specific requirements stated in Schedule A must be recorded and explained in the Deviation Schedule
B9: Schedule A: Purchaser's specific requirements
B10: Schedule B: Guarantees and technical particulars of equipment offered
B11: Item | C11: Sub-clause of 240- 45395762 | D11: Description | F11: Schedule A | G11: Schedule B
B12: 1 | D12: Identification
B13: 1.1 | D13: Eskom SAP Number | F13: =VLOOKUP($D$7,'Source Data'!$A$2:$ED$22,3,FALSE) -> 0182445 | G13: xxxxxxxxxxx
B14: 1.2 | D14: Name of manufacturer | F14: =VLOOKUP($D$7,'Source Data'!$A$2:$ED$22,4,FALSE) -> xxxxxxxxxxx
B15: 1.3 | D15: Name of supplier | F15: =VLOOKUP($D$7,'Source Data'!$A$2:$ED$22,5,FALSE) -> xxxxxxxxxxx
B16: 1.4 | D16: Product code for Coastal transformers | F16: =VLOOKUP($D$7,'Source Data'!$A$2:$ED$22,7,FALSE) -> xxxxxxxxxxx
B17: 1.5 | D17: Are the transformers covered by the SANS 780 certification mark? | F17: =VLOOKUP($D$7,'Source Data'!$A$2:$ED$22,8,FALSE) -> xxxxxxxxxxx
B18: 1.6 | D18: State SANS 780 permit number | F18: =VLOOKUP($D$7,'Source Data'!$A$2:$ED$22,9,FALSE) -> xxxxxxxxxxx
B19: 1.7 | D19: Oil Type | F19: =VLOOKUP($D$7,'Source Data'!$A$2:$ED$22,10,FALSE) -> Ester Oil
B20: 2 | C20: 3.2 | D20: Ratings
B21: 2.1 | D21: Power rating | E21: kVA | F21: =VLOOKUP($D$7,'Source Data'!$A$2:$ED$22,12,FALSE) -> 1000
B22: 2.2 | D22: Rated primary voltage | E22: kV | F22: =VLOOKUP($D$7,'Source Data'!$A$2:$ED$22,13,FALSE) -> 11
B23: 2.3 | D23: Rated no-load secondary voltage | E23: V | F23: =VLOOKUP($D$7,'Source Data'!$A$2:$ED$22,14,FALSE) -> 420
B24: 2.4 | D24: Frequency | E24: Hz | F24: =VLOOKUP($D$7,'Source Data'!$A$2:$ED$22,15,FALSE) -> 50
B25: 2.5 | D25: Number of phases | F25: =VLOOKUP($D$7,'Source Data'!$A$2:$ED$22,16,FALSE) -> 3ph
B26: 2.6 | D26: Vector Group | F26: =VLOOKUP($D$7,'Source Data'!$A$2:$ED$22,17,FALSE) -> Dyn11 or Yzn11
B27: 3 | C27: 3.2.5 | D27: Insulation levels
B28: 3.1 | D28: BIL - Primary | E28: kV | F28: =VLOOKUP($D$7,'Source Data'!$A$2:$ED$22,19,FALSE) -> 95
B29: 3.2 | D29: BIL - Secondary | E29: kV | F29: =VLOOKUP($D$7,'Source Data'!$A$2:$ED$22,20,FALSE) -> 30
B30: 3.3 | D30: Power frequency withstand voltage - Primary | E30: kV | F30: =VLOOKUP($D$7,'Source Data'!$A$2:$ED$22,21,FALSE) -> 28
B31: 3.4 | D31: Power frequency withstand voltage – Secondary | E31: kV | F31: =VLOOKUP($D$7,'Source Data'!$A$2:$ED$22,22,FALSE) -> 8
B32: 4 | C32: 3.2.8 | D32: Inter-turn winding insulation
B33: 4.1 | D33: Type (Enamel or Paper) | F33: =VLOOKUP($D$7,'Source Data'!$A$2:$ED$22,24,FALSE) -> xxxxxxxxxxx
B34: 4.2 | D34: Enamel grade (if applicable) | F34: =VLOOKUP($D$7,'Source Data'!$A$2:$ED$22,25,FALSE) -> Grade 3
B35: 4.3 | D35: Paper thickness (if applicable) | E35: mm | F35: =VLOOKUP($D$7,'Source Data'!$A$2:$ED$22,26,FALSE) -> > 0.125
B36: 4.4 | D36: Paper type (if applicable) | F36: =VLOOKUP($D$7,'Source Data'!$A$2:$ED$22,27,FALSE) -> xxxxxxxxxxx
B37: 4.5 | D37: Paper make (if applicable) | F37: =VLOOKUP($D$7,'Source Data'!$A$2:$ED$22,28,FALSE) -> xxxxxxxxxxx
B38: 4.6 | D38: Paper minimum impulse withstand | E38: kV | F38: =VLOOKUP($D$7,'Source Data'!$A$2:$ED$22,29,FALSE) -> 21
B39: 4.7 | D39: Paper minimum power frequency withstand | E39: kV | F39: =VLOOKUP($D$7,'Source Data'!$A$2:$ED$22,30,FALSE) -> 8
B40: 4.8 | D40: Inter-turn winding insulation stress shall not exceed 5 kV/mm | E40: kV/mm | F40: =VLOOKUP($D$7,'Source Data'!$A$2:$ED$22,31,FALSE) -> <5
B41: 5 | C41: 3.2.9 | D41: Interlayer insulation
B42: 5.1 | D42: Highest interlayer stress in non-tap part of winding (<5kV/mm is not acceptable as the calculated value must be presented) | E42: kV/mm | F42: =VLOOKUP($D$7,'Source Data'!$A$2:$ED$22,33,FALSE) -> < 5
B43: 5.2 | D43: Highest interlayer stress in tap part of winding (<5kV/mm is not acceptable as the calculated value must be presented) | E43: kV/mm | F43: =VLOOKUP($D$7,'Source Data'!$A$2:$ED$22,34,FALSE) -> < 5
B44: 5.3 | D44: Paper type. | F44: =VLOOKUP($D$7,'Source Data'!$A$2:$ED$22,35,FALSE) -> xxxxxxxxxxx
B45: 5.4 | D45: Paper make. | F45: =VLOOKUP($D$7,'Source Data'!$A$2:$ED$22,36,FALSE) -> xxxxxxxxxxx
B46: 6 | C46: 3.2.10 | D46: Tapping connections
B47: 6.1 | D47: Type | F47: =VLOOKUP($D$7,'Source Data'!$A$2:$ED$22,39,FALSE) -> 0, ±2.5, ±5
B48: 6.2 | D48: Tapping range | E48: % | F48: =VLOOKUP($D$7,'Source Data'!$A$2:$ED$22,38,FALSE) -> Switch
B49: 7 | C49: 3.2.12 | D49: MV Cable Termination Enclosures and Bushings
B50: 7.1 | D50: Air filled enclosure on side of the tank | F50: =VLOOKUP($D$7,'Source Data'!$A$2:$ED$22,41,FALSE) -> Yes
B51: 7.2 | D51: Stainless steel fasteners | F51: =VLOOKUP($D$7,'Source Data'!$A$2:$ED$22,42,FALSE) -> Yes
B52: 7.3 | D52: Cable termination type | F52: =VLOOKUP($D$7,'Source Data'!$A$2:$ED$22,43,FALSE) -> Type 3
B53: 7.4 | D53: Earthing terminal height from gland plate | E53: mm | F53: =VLOOKUP($D$7,'Source Data'!$A$2:$ED$22,44,FALSE) -> 100
B54: 7.5 | D54: Gland plate entry hole | E54: mm | F54: =VLOOKUP($D$7,'Source Data'!$A$2:$ED$22,45,FALSE) -> 110
B55: 7.6 | D55: Dimensions between bushings | E55: mm | F55: =VLOOKUP($D$7,'Source Data'!$A$2:$ED$22,46,FALSE) -> Min 135
B56: 7.7 | D56: Clearances within MV cable termination enclosure | E56: mm | F56: =VLOOKUP($D$7,'Source Data'!$A$2:$ED$22,47,FALSE) -> 90
B57: 7.8 | D57: Cable support clamp diameter | E57: mm | F57: =VLOOKUP($D$7,'Source Data'!$A$2:$ED$22,48,FALSE) -> 50-75
B58: 7.9 | D58: Depth of cable box | E58: mm | F58: =VLOOKUP($D$7,'Source Data'!$A$2:$ED$22,49,FALSE) -> >= 350
B59: 7.10' | D59: MV warning sign with aircraft pop rivets | F59: =VLOOKUP($D$7,'Source Data'!$A$2:$ED$22,50,FALSE) -> Yes
B60: 7.11 | D60: Distance from gland plate to MV bushing centre line (clearance e as per SANS 876) | E60: mm | F60: =VLOOKUP($D$7,'Source Data'!$A$2:$ED$22,51,FALSE) -> Clearance "e" as per SANS 876
B61: 7.12 | D61: Sealant used to seal the cable entry into the MV cable termination enclosure. If other than rubber grommet e.g. brass wiping gland? | F61: =VLOOKUP($D$7,'Source Data'!$A$2:$ED$22,52,FALSE) -> Rubber grommet or other offer
B62: 8 | C62: 3.2.12 | D62: LV Bushings
B63: 8.1 | D63: Make | F63: =VLOOKUP($D$7,'Source Data'!$A$2:$ED$22,54,FALSE) -> xxxxxxxxxxx
B64: 8.2 | D64: Product code | F64: =VLOOKUP($D$7,'Source Data'!$A$2:$ED$22,55,FALSE) -> xxxxxxxxxxx
B65: 8.3 | D65: Material (e.g. Porcelain) | F65: =VLOOKUP($D$7,'Source Data'!$A$2:$ED$22,56,FALSE) -> xxxxxxxxxxx
B66: 8.4 | D66: Stem diameter | F66: =VLOOKUP($D$7,'Source Data'!$A$2:$ED$22,57,FALSE) -> M12
B67: 8.5 | D67: Detail of LV cable connection shown on drawing | F67: =VLOOKUP($D$7,'Source Data'!$A$2:$ED$22,58,FALSE) -> Yes
B68: 8.6 | D68: Air filled enclosure on side of the tank | F68: =VLOOKUP($D$7,'Source Data'!$A$2:$ED$22,59,FALSE) -> Yes
B69: 8.7 | D69: Stainless steel fasteners | F69: =VLOOKUP($D$7,'Source Data'!$A$2:$ED$22,60,FALSE) -> Yes
B70: 8.8 | D70: Clearance between ph-ph and ph-earth | E70: mm | F70: =VLOOKUP($D$7,'Source Data'!$A$2:$ED$22,61,FALSE) -> 60
B71: 8.9 | D71: Current denisty of Copper flags for LV cable connections shall not exceed 2 A/mm2 for rated currents up to and including 630 A and 1,6 A/mm2 for rated currents greater than 630 A | E71: A/mm² | F71: =VLOOKUP($D$7,'Source Data'!$A$2:$ED$22,62,FALSE) -> 2.0 A/mm² or 1.6 A/mm²
B72: 8.10' | D72: Earthing terminal welded to centre of side wall | F72: =VLOOKUP($D$7,'Source Data'!$A$2:$ED$22,63,FALSE) -> Yes
B73: 8.11 | D73: Surge arrester mounted on earthing terminal in LV termination enclosure | F73: =VLOOKUP($D$7,'Source Data'!$A$2:$ED$22,64,FALSE) -> Yes
B74: 8.12 | D74: Minimum cross-sectional area of electrolytic copper conductor fitted in parallel with the surge arrester | E74: mm² | F74: =VLOOKUP($D$7,'Source Data'!$A$2:$ED$22,65,FALSE) -> 70
B75: 8.13 | C75: Table 5 | D75: Number of cable gland holes | F75: =VLOOKUP($D$7,'Source Data'!$A$2:$ED$22,66,FALSE) -> 7 (2 per phase, 1 for neutral)
B76: 8.14 | C76: Table 5 | D76: Size of gland hole | E76: mm | F76: =VLOOKUP($D$7,'Source Data'!$A$2:$ED$22,67,FALSE) -> ∅ 50
B77: 8.15 | C77: Table 5 | D77: Clearance around gland hole | E77: mm | F77: =VLOOKUP($D$7,'Source Data'!$A$2:$ED$22,68,FALSE) -> 85
B78: 8.16 | C78: Table 5 | D78: Cable gland type | F78: =VLOOKUP($D$7,'Source Data'!$A$2:$ED$22,69,FALSE) -> Compression Type A2 No. 5
B79: 10 | C79: 3.2.14 | D79: Losses
B80: 10.1 | D80: Loss factor base (Cost of Dx or Gx) | F80: =VLOOKUP($D$7,'Source Data'!$A$2:$ED$22,71,FALSE) -> Distribution | G80: xxxxxxxxxxx
B81: 10.2 | D81: No-load Loss Factor, NLLF | E81: R/kW | F81: =VLOOKUP($D$7,'Source Data'!$A$2:$ED$22,72,FALSE) -> 80500 | G81: xxxxxxxxxxx
B82: 10.3 | D82: Load Loss Factor, LLF | E82: R/kW | F82: =VLOOKUP($D$7,'Source Data'!$A$2:$ED$22,73,FALSE) -> 17500 | G82: xxxxxxxxxxx
B83: 10.4 | D83: Guaranteed no-load losses, PNL | E83: W | F83: =VLOOKUP($D$7,'Source Data'!$A$2:$ED$22,74,FALSE) -> ≤ 1 070
B84: 10.5 | D84: Amorphous Losses (Guaranteed no-load losses, PNL) | E84: W | F84: =VLOOKUP($D$7,'Source Data'!$A$2:$ED$22,75,FALSE) -> ≤ 390
B85: 10.6 | D85: Guaranteed load losses, PLL | E85: W | F85: =VLOOKUP($D$7,'Source Data'!$A$2:$ED$22,76,FALSE) -> ≤ 8900
B86: 11 | C86: 3.2.14 | D86: Impedance voltage & X/R ratio
B87: 11.1 | D87: Impedance at principle tapping (specific design impedances to be stated) | E87: % | F87: =VLOOKUP($D$7,'Source Data'!$A$2:$ED$22,78,FALSE) -> 4,5 to 5,5
B88: 11.2 | D88: X/R ratio | F88: =VLOOKUP($D$7,'Source Data'!$A$2:$ED$22,79,FALSE) -> xxxxxxxxxx
B89: 12 | D89: Audio-sound level (Table 8 of SANS 780)
B90: 12.1 | D90: Maximum limit of transformer audio-sound level | E90: db(A) | F90: =VLOOKUP($D$7,'Source Data'!$A$2:$ED$22,81,FALSE) -> ≤ 56
B91: 13 | D91: MV winding wire
B92: 13.1 | D92: Material (e.g. Cu or Al) | F92: =VLOOKUP($D$7,'Source Data'!$A$2:$ED$22,83,FALSE) -> xxxxxxxxxxx
B93: 13.2 | D93: Type (e.g. Round, Strip or Foil) | F93: =VLOOKUP($D$7,'Source Data'!$A$2:$ED$22,84,FALSE) -> xxxxxxxxxxx
B94: 14 | D94: LV winding wire
B95: 14.1 | D95: Material (e.g. Cu or Al) | F95: =VLOOKUP($D$7,'Source Data'!$A$2:$ED$22,86,FALSE) -> xxxxxxxxxxx
B96: 14.2 | D96: Type (e.g. Round, Strip or Foil) | F96: =VLOOKUP($D$7,'Source Data'!$A$2:$ED$22,87,FALSE) -> xxxxxxxxxxx
B97: 15 | D97: Core material
B98: 15.1 | D98: Core material | F98: =VLOOKUP($D$7,'Source Data'!$A$2:$ED$22,89,FALSE) -> Steel or Amporphous
B99: 15.2 | D99: Type/code | F99: =VLOOKUP($D$7,'Source Data'!$A$2:$ED$22,90,FALSE) -> xxxxxxxxxxx
B100: 15.3 | D100: Maximum Flux Density of Material | F100: =VLOOKUP($D$7,'Source Data'!$A$2:$ED$22,91,FALSE) -> xxxxxxxxxxx
B101: 15.4 | D101: Supplier | F101: =VLOOKUP($D$7,'Source Data'!$A$2:$ED$22,92,FALSE) -> xxxxxxxxxxx
B102: 16 | C102: 3.3.2 | D102: Tank and tank cover
B103: 16.1 | D103: Tank type: Sealed | F103: =VLOOKUP($D$7,'Source Data'!$A$2:$ED$22,94,FALSE) -> Sealed
...

Sheet 0182447
F3: Specification: DSP 240- 45395762 Rev.4
F4: ='List of Items & Enquiry number'!B14 -> Enquiry Number: 123456XYZ
D6: TECHNICAL SCHEDULES A & B FOR GROUND-MOUNTED DISTRIBUTION TRANSFORMERS
D7: Three-phase, 1000 kVA, 22 kV/420V (Coastal, Ester Oil Only)
F8: Deviations from the specific requirements stated in Schedule A must be recorded and explained in the Deviation Schedule
B9: Schedule A: Purchaser's specific requirements
B10: Schedule B: Guarantees and technical particulars of equipment offered
B11: Item | C11: Sub-clause of 240- 45395762 | D11: Description | F11: Schedule A | G11: Schedule B
B12: 1 | D12: Identification
B13: 1.1 | D13: Eskom SAP Number | F13: =VLOOKUP($D$7,'Source Data'!$A$2:$ED$22,3,FALSE) -> 0182447 | G13: xxxxxxxxxxx
B14: 1.2 | D14: Name of manufacturer | F14: =VLOOKUP($D$7,'Source Data'!$A$2:$ED$22,4,FALSE) -> xxxxxxxxxxx
B15: 1.3 | D15: Name of supplier | F15: =VLOOKUP($D$7,'Source Data'!$A$2:$ED$22,5,FALSE) -> xxxxxxxxxxx
B16: 1.4 | D16: Product code for Coastal transformers | F16: =VLOOKUP($D$7,'Source Data'!$A$2:$ED$22,7,FALSE) -> xxxxxxxxxxx
B17: 1.5 | D17: Are the transformers covered by the SANS 780 certification mark? | F17: =VLOOKUP($D$7,'Source Data'!$A$2:$ED$22,8,FALSE) -> xxxxxxxxxxx
B18: 1.6 | D18: State SANS 780 permit number | F18: =VLOOKUP($D$7,'Source Data'!$A$2:$ED$22,9,FALSE) -> xxxxxxxxxxx
B19: 1.7 | D19: Oil Type | F19: =VLOOKUP($D$7,'Source Data'!$A$2:$ED$22,10,FALSE) -> Ester Oil
B20: 2 | C20: 3.2 | D20: Ratings
B21: 2.1 | D21: Power rating | E21: kVA | F21: =VLOOKUP($D$7,'Source Data'!$A$2:$ED$22,12,FALSE) -> 1000
B22: 2.2 | D22: Rated primary voltage | E22: kV | F22: =VLOOKUP($D$7,'Source Data'!$A$2:$ED$22,13,FALSE) -> 22
B23: 2.3 | D23: Rated no-load secondary voltage | E23: V | F23: =VLOOKUP($D$7,'Source Data'!$A$2:$ED$22,14,FALSE) -> 420
B24: 2.4 | D24: Frequency | E24: Hz | F24: =VLOOKUP($D$7,'Source Data'!$A$2:$ED$22,15,FALSE) -> 50
B25: 2.5 | D25: Number of phases | F25: =VLOOKUP($D$7,'Source Data'!$A$2:$ED$22,16,FALSE) -> 3ph
B26: 2.6 | D26: Vector Group | F26: =VLOOKUP($D$7,'Source Data'!$A$2:$ED$22,17,FALSE) -> Dyn11 or Yzn11
B27: 3 | C27: 3.2.5 | D27: Insulation levels
B28: 3.1 | D28: BIL - Primary | E28: kV | F28: =VLOOKUP($D$7,'Source Data'!$A$2:$ED$22,19,FALSE) -> 150
B29: 3.2 | D29: BIL - Secondary | E29: kV | F29: =VLOOKUP($D$7,'Source Data'!$A$2:$ED$22,20,FALSE) -> 30
B30: 3.3 | D30: Power frequency withstand voltage - Primary | E30: kV | F30: =VLOOKUP($D$7,'Source Data'!$A$2:$ED$22,21,FALSE) -> 50
B31: 3.4 | D31: Power frequency withstand voltage – Secondary | E31: kV | F31: =VLOOKUP($D$7,'Source Data'!$A$2:$ED$22,22,FALSE) -> 8
B32: 4 | C32: 3.2.8 | D32: Inter-turn winding insulation
B33: 4.1 | D33: Type (Enamel or Paper) | F33: =VLOOKUP($D$7,'Source Data'!$A$2:$ED$22,24,FALSE) -> xxxxxxxxxxx
B34: 4.2 | D34: Enamel grade (if applicable) | F34: =VLOOKUP($D$7,'Source Data'!$A$2:$ED$22,25,FALSE) -> Grade 3
B35: 4.3 | D35: Paper thickness (if applicable) | E35: mm | F35: =VLOOKUP($D$7,'Source Data'!$A$2:$ED$22,26,FALSE) -> > 0.125
B36: 4.4 | D36: Paper type (if applicable) | F36: =VLOOKUP($D$7,'Source Data'!$A$2:$ED$22,27,FALSE) -> xxxxxxxxxxx
B37: 4.5 | D37: Paper make (if applicable) | F37: =VLOOKUP($D$7,'Source Data'!$A$2:$ED$22,28,FALSE) -> xxxxxxxxxxx
B38: 4.6 | D38: Paper minimum impulse withstand | E38: kV | F38: =VLOOKUP($D$7,'Source Data'!$A$2:$ED$22,29,FALSE) -> 21
B39: 4.7 | D39: Paper minimum power frequency withstand | E39: kV | F39: =VLOOKUP($D$7,'Source Data'!$A$2:$ED$22,30,FALSE) -> 8
B40: 4.8 | D40: Inter-turn winding insulation stress shall not exceed 5 kV/mm | E40: kV/mm | F40: =VLOOKUP($D$7,'Source Data'!$A$2:$ED$22,31,FALSE) -> <5
B41: 5 | C41: 3.2.9 | D41: Interlayer insulation
B42: 5.1 | D42: Highest interlayer stress in non-tap part of winding (<5kV/mm is not acceptable as the calculated value must be presented) | E42: kV/mm | F42: =VLOOKUP($D$7,'Source Data'!$A$2:$ED$22,33,FALSE) -> < 5
B43: 5.2 | D43: Highest interlayer stress in tap part of winding (<5kV/mm is not acceptable as the calculated value must be presented) | E43: kV/mm | F43: =VLOOKUP($D$7,'Source Data'!$A$2:$ED$22,34,FALSE) -> < 5
B44: 5.3 | D44: Paper type. | F44: =VLOOKUP($D$7,'Source Data'!$A$2:$ED$22,35,FALSE) -> xxxxxxxxxxx
B45: 5.4 | D45: Paper make. | F45: =VLOOKUP($D$7,'Source Data'!$A$2:$ED$22,36,FALSE) -> xxxxxxxxxxx
B46: 6 | C46: 3.2.10 | D46: Tapping connections
B47: 6.1 | D47: Type | F47: =VLOOKUP($D$7,'Source Data'!$A$2:$ED$22,39,FALSE) -> 0, ±2.5, ±5
B48: 6.2 | D48: Tapping range | E48: % | F48: =VLOOKUP($D$7,'Source Data'!$A$2:$ED$22,38,FALSE) -> Switch
B49: 7 | C49: 3.2.12 | D49: MV Cable Termination Enclosures and Bushings
B50: 7.1 | D50: Air filled enclosure on side of the tank | F50: =VLOOKUP($D$7,'Source Data'!$A$2:$ED$22,41,FALSE) -> Yes
B51: 7.2 | D51: Stainless steel fasteners | F51: =VLOOKUP($D$7,'Source Data'!$A$2:$ED$22,42,FALSE) -> Yes
B52: 7.3 | D52: Cable termination type | F52: =VLOOKUP($D$7,'Source Data'!$A$2:$ED$22,43,FALSE) -> Type 4
B53: 7.4 | D53: Earthing terminal height from gland plate | E53: mm | F53: =VLOOKUP($D$7,'Source Data'!$A$2:$ED$22,44,FALSE) -> 100
B54: 7.5 | D54: Gland plate entry hole | E54: mm | F54: =VLOOKUP($D$7,'Source Data'!$A$2:$ED$22,45,FALSE) -> 110
B55: 7.6 | D55: Dimensions between bushings | E55: mm | F55: =VLOOKUP($D$7,'Source Data'!$A$2:$ED$22,46,FALSE) -> Min 135
B56: 7.7 | D56: Clearances within MV cable termination enclosure | E56: mm | F56: =VLOOKUP($D$7,'Source Data'!$A$2:$ED$22,47,FALSE) -> 90
B57: 7.8 | D57: Cable support clamp diameter | E57: mm | F57: =VLOOKUP($D$7,'Source Data'!$A$2:$ED$22,48,FALSE) -> 50-75
B58: 7.9 | D58: Depth of cable box | E58: mm | F58: =VLOOKUP($D$7,'Source Data'!$A$2:$ED$22,49,FALSE) -> >= 350
B59: 7.10' | D59: MV warning sign with aircraft pop rivets | F59: =VLOOKUP($D$7,'Source Data'!$A$2:$ED$22,50,FALSE) -> Yes
B60: 7.11 | D60: Distance from gland plate to MV bushing centre line (clearance e as per SANS 876) | E60: mm | F60: =VLOOKUP($D$7,'Source Data'!$A$2:$ED$22,51,FALSE) -> Clearance "e" as per SANS 876
B61: 7.12 | D61: Sealant used to seal the cable entry into the MV cable termination enclosure. If other than rubber grommet e.g. brass wiping gland? | F61: =VLOOKUP($D$7,'Source Data'!$A$2:$ED$22,52,FALSE) -> Rubber grommet or other offer
B62: 8 | C62: 3.2.12 | D62: LV Bushings
B63: 8.1 | D63: Make | F63: =VLOOKUP($D$7,'Source Data'!$A$2:$ED$22,54,FALSE) -> xxxxxxxxxxx
B64: 8.2 | D64: Product code | F64: =VLOOKUP($D$7,'Source Data'!$A$2:$ED$22,55,FALSE) -> xxxxxxxxxxx
B65: 8.3 | D65: Material (e.g. Porcelain) | F65: =VLOOKUP($D$7,'Source Data'!$A$2:$ED$22,56,FALSE) -> xxxxxxxxxxx
B66: 8.4 | D66: Stem diameter | F66: =VLOOKUP($D$7,'Source Data'!$A$2:$ED$22,57,FALSE) -> M12
B67: 8.5 | D67: Detail of LV cable connection shown on drawing | F67: =VLOOKUP($D$7,'Source Data'!$A$2:$ED$22,58,FALSE) -> Yes
B68: 8.6 | D68: Air filled enclosure on side of the tank | F68: =VLOOKUP($D$7,'Source Data'!$A$2:$ED$22,59,FALSE) -> Yes
B69: 8.7 | D69: Stainless steel fasteners | F69: =VLOOKUP($D$7,'Source Data'!$A$2:$ED$22,60,FALSE) -> Yes
B70: 8.8 | D70: Clearance between ph-ph and ph-earth | E70: mm | F70: =VLOOKUP($D$7,'Source Data'!$A$2:$ED$22,61,FALSE) -> 60
B71: 8.9 | D71: Current denisty of Copper flags for LV cable connections shall not exceed 2 A/mm2 for rated currents up to and including 630 A and 1,6 A/mm2 for rated currents greater than 630 A | E71: A/mm² | F71: =VLOOKUP($D$7,'Source Data'!$A$2:$ED$22,62,FALSE) -> 2.0 A/mm² or 1.6 A/mm²
B72: 8.10' | D72: Earthing terminal welded to centre of side wall | F72: =VLOOKUP($D$7,'Source Data'!$A$2:$ED$22,63,FALSE) -> Yes
B73: 8.11 | D73: Surge arrester mounted on earthing terminal in LV termination enclosure | F73: =VLOOKUP($D$7,'Source Data'!$A$2:$ED$22,64,FALSE) -> Yes
B74: 8.12 | D74: Minimum cross-sectional area of electrolytic copper conductor fitted in parallel with the surge arrester | E74: mm² | F74: =VLOOKUP($D$7,'Source Data'!$A$2:$ED$22,65,FALSE) -> 70
B75: 8.13 | C75: Table 5 | D75: Number of cable gland holes | F75: =VLOOKUP($D$7,'Source Data'!$A$2:$ED$22,66,FALSE) -> 7 (2 per phase, 1 for neutral)
B76: 8.14 | C76: Table 5 | D76: Size of gland hole | E76: mm | F76: =VLOOKUP($D$7,'Source Data'!$A$2:$ED$22,67,FALSE) -> ∅ 50
B77: 8.15 | C77: Table 5 | D77: Clearance around gland hole | E77: mm | F77: =VLOOKUP($D$7,'Source Data'!$A$2:$ED$22,68,FALSE) -> 85
B78: 8.16 | C78: Table 5 | D78: Cable gland type | F78: =VLOOKUP($D$7,'Source Data'!$A$2:$ED$22,69,FALSE) -> Compression Type A2 No. 5
B79: 10 | C79: 3.2.14 | D79: Losses
B80: 10.1 | D80: Loss factor base (Cost of Dx or Gx) | F80: =VLOOKUP($D$7,'Source Data'!$A$2:$ED$22,71,FALSE) -> Distribution | G80: xxxxxxxxxxx
B81: 10.2 | D81: No-load Loss Factor, NLLF | E81: R/kW | F81: =VLOOKUP($D$7,'Source Data'!$A$2:$ED$22,72,FALSE) -> 80500 | G81: xxxxxxxxxxx
B82: 10.3 | D82: Load Loss Factor, LLF | E82: R/kW | F82: =VLOOKUP($D$7,'Source Data'!$A$2:$ED$22,73,FALSE) -> 17500 | G82: xxxxxxxxxxx
B83: 10.4 | D83: Guaranteed no-load losses, PNL | E83: W | F83: =VLOOKUP($D$7,'Source Data'!$A$2:$ED$22,74,FALSE) -> ≤ 1 070
B84: 10.5 | D84: Amorphous Losses (Guaranteed no-load losses, PNL) | E84: W | F84: =VLOOKUP($D$7,'Source Data'!$A$2:$ED$22,75,FALSE) -> ≤ 390
B85: 10.6 | D85: Guaranteed load losses, PLL | E85: W | F85: =VLOOKUP($D$7,'Source Data'!$A$2:$ED$22,76,FALSE) -> ≤ 8900
B86: 11 | C86: 3.2.14 | D86: Impedance voltage & X/R ratio
B87: 11.1 | D87: Impedance at principle tapping (specific design impedances to be stated) | E87: % | F87: =VLOOKUP($D$7,'Source Data'!$A$2:$ED$22,78,FALSE) -> 4,5 to 5,5
B88: 11.2 | D88: X/R ratio | F88: =VLOOKUP($D$7,'Source Data'!$A$2:$ED$22,79,FALSE) -> xxxxxxxxxx
B89: 12 | D89: Audio-sound level (Table 8 of SANS 780)
B90: 12.1 | D90: Maximum limit of transformer audio-sound level | E90: db(A) | F90: =VLOOKUP($D$7,'Source Data'!$A$2:$ED$22,81,FALSE) -> ≤ 56
B91: 13 | D91: MV winding wire
B92: 13.1 | D92: Material (e.g. Cu or Al) | F92: =VLOOKUP($D$7,'Source Data'!$A$2:$ED$22,83,FALSE) -> xxxxxxxxxxx
B93: 13.2 | D93: Type (e.g. Round, Strip or Foil) | F93: =VLOOKUP($D$7,'Source Data'!$A$2:$ED$22,84,FALSE) -> xxxxxxxxxxx
B94: 14 | D94: LV winding wire
B95: 14.1 | D95: Material (e.g. Cu or Al) | F95: =VLOOKUP($D$7,'Source Data'!$A$2:$ED$22,86,FALSE) -> xxxxxxxxxxx
B96: 14.2 | D96: Type (e.g. Round, Strip or Foil) | F96: =VLOOKUP($D$7,'Source Data'!$A$2:$ED$22,87,FALSE) -> xxxxxxxxxxx
B97: 15 | D97: Core material
B98: 15.1 | D98: Core material | F98: =VLOOKUP($D$7,'Source Data'!$A$2:$ED$22,89,FALSE) -> Steel or Amporphous
B99: 15.2 | D99: Type/code | F99: =VLOOKUP($D$7,'Source Data'!$A$2:$ED$22,90,FALSE) -> xxxxxxxxxxx
B100: 15.3 | D100: Maximum Flux Density of Material | F100: =VLOOKUP($D$7,'Source Data'!$A$2:$ED$22,91,FALSE) -> xxxxxxxxxxx
B101: 15.4 | D101: Supplier | F101: =VLOOKUP($D$7,'Source Data'!$A$2:$ED$22,92,FALSE) -> xxxxxxxxxxx
B102: 16 | C102: 3.3.2 | D102: Tank and tank cover
B103: 16.1 | D103: Tank type: Sealed | F103: =VLOOKUP($D$7,'Source Data'!$A$2:$ED$22,94,FALSE) -> Sealed
...
