Workbook
Name _Hlk143960454: 'SCHED 1B-3_SB'!#REF!
Name _Hlk143960454: 'SCHED 1B-4_SB'!#REF!

Sheet SUMMARY
B2: ECDOH GENERAL ELECTRICAL MV MAINTENANCE AND REPAIR CONTRACT
B4: ='SCHED 1A-1_NM'!B3 -> CONTRACT REF. NO: | D4: SCMU3-24/25-0461-HO | E4: Cluster/District: | F4: Cluster Four - Nelson Mandela Metro & Sarah Baartman
B6: ='SCHED 1A-1_NM'!B4 -> ASSET TYPE: | D6: ='SCHED 1A-1_NM'!D4 -> MV INSTALLATIONS
B8: SCHEDULE NUMBER | C8: DESCRIPTION | F8: TENDER AMOUNT
B10: 1A-1 | C10: NMM DISTRICT - | D10: ='SCHED 1A-1_NM'!D6 -> FIXED CHARGE AND VALUE RELATED ITEMS APPLICABLE TO ALL WORK
B12: 1A-2 | C12: NMM DISTRICT - | D12: ='SCHED 1A-2_NM'!D6 -> FIXED CHARGE AND VALUE RELATED ITEMS APPLICABLE TO ALL WORK (continued)
B14: 1A-3 | C14: NMM DISTRICT - | D14: ='SCHED 1A-3_NM'!D6 -> FIXED CHARGE AND VALUE RELATED ITEMS APPLICABLE TO ALL WORK (continued)
B16: 1A-4 | C16: NMM DISTRICT - | D16: ='SCHED 1A-4_NM'!D6 -> FIXED CHARGE AND VALUE RELATED ITEMS APPLICABLE TO ALL WORK
B18: 1B-1 | C18: SB DISTRICT - | D18: ='SCHED 1B-1_SB '!D6 -> FIXED CHARGE AND VALUE RELATED ITEMS APPLICABLE TO ALL WORK
B20: 1B-2 | C20: SB DISTRICT - | D20: ='SCHED 1B-2_SB'!D6 -> FIXED CHARGE AND VALUE RELATED ITEMS APPLICABLE TO ALL WORK (continued)
B22: 1B-3 | C22: SB DISTRICT - | D22: ='SCHED 1B-3_SB'!D6 -> FIXED CHARGE AND VALUE RELATED ITEMS APPLICABLE TO ALL WORK (continued)
B24: 1B-4 | C24: SB DISTRICT - | D24: ='SCHED 1B-4_SB'!D6 -> FIXED CHARGE AND VALUE RELATED ITEMS APPLICABLE TO ALL WORK
B26: 2A-1 | C26: NMM DISTRICT - | D26: ='SCHED 2A-1_NM'!D6 -> FUNCTIONAL REPAIR SCHEDULE
B28: 2A-2 | C28: NMM DISTRICT - | D28: ='SCHED 2A-2_NM'!D6 -> FUNCTIONAL REPAIR SCHEDULE (continued)
B30: 2B-1 | C30: SB DISTRICT - | D30: ='SCHED 2B-1_SB'!D6 -> FUNCTIONAL REPAIR SCHEDULE
B32: 2B-2 | C32: SB DISTRICT - | D32: ='SCHED 2B-2_SB'!D6 -> FUNCTIONAL REPAIR SCHEDULE (continued)
B34: 3A | C34: NMM DISTRICT - | D34: ='SCHEDULE 3A_NM'!D6 -> MAINTENANCE SERVICE SCHEDULE
B36: 3B | C36: SB DISTRICT - | D36: ='SCHEDULE 3B_SB'!D5 -> MAINTENANCE SERVICE SCHEDULE
B38: 4 | C38: ='SCHEDULE 4'!D6 -> TERM REPAIRS SUBJECT TO APPROVAL OF QUOTATION OF THE WORKS
B42: SUBTOTAL AMOUNT OF WORKS (EXCL VAT)
B43: ALLOWANCE FOR VAT AT 15.0%
B44: TOTAL AMOUNT OF WORKS (INCL VAT) - ENTER THIS AMOUNT TO FORM OF OFFER

Sheet SCHED 1A-1_NM
B2: =SUMMARY!B2 -> ECDOH GENERAL ELECTRICAL MV MAINTENANCE AND REPAIR CONTRACT
B3: CONTRACT REF. NO: | D3: =+SUMMARY!D4 -> SCMU3-24/25-0461-HO | E3: Cluster/District: | G3: Nelson Mandela Metro
B4: ASSET TYPE: | D4: MV INSTALLATIONS
B6: SCHEDULE 1A-1: | D6: FIXED CHARGE AND VALUE RELATED ITEMS APPLICABLE TO ALL WORK
B8: ITEM Nr. | C8: PAYMENT REFERS | D8: DESCRIPTION | E8: UNIT | F8: QTY | G8: RATE | H8: AMOUNT
B9: 1A-1 | C9: GM 2.5 | D9: VERIFICATION OF ASSETS ON SITE : Verify assets for each Health Facility vs Asset Register (C4.1), and compile plant layout line drawings including MV Schematic drawing showing connection between each substation or mini-substation as per GM 2.5 (1) and (2).
B10: 1A-1.1 | D10: Port Elizabeth Provincial Hospital
B11: 1A-1.1.1 | D11: 400kVA Transformer | E11: Item | F11: 6
B12: 1A-1.1.2 | D12: MV Switchgear (Isolator, Circuit breaker) | E12: Item | F12: 18
B13: 1A-1.1.3 | D13: Battery Tripping Unit (BTU) | E13: Item | F13: 3
B14: 1A-1.2 | D14: Livingstone Hospital
B15: 1A-1.2.1 | D15: 2000kVA Transformer | E15: Item | F15: 2
B16: 1A-1.2.2 | D16: 1600kVA Transformer | E16: Item | F16: 2
B17: 1A-1.2.3 | D17: 800kVA Transformer | E17: Item | F17: 2
B18: 1A-1.2.4 | D18: 750kVA Transformer | E18: Item | F18: 2
B19: 1A-1.2.5 | D19: 500kVA Transformer | E19: Item | F19: 2
B20: 1A-1.2.6 | D20: MV Switchgear (Isolator, Circuit breaker) | E20: Item | F20: 11
B21: 1A-1.2.7 | D21: Battery Tripping Unit (BTU) | E21: Item | F21: 2
B22: 1A-1.3 | D22: Dora Nginza Hospital
B23: 1A-1.3.1 | D23: 500kVA Transformer | E23: Item | F23: 5
B24: 1A-1.3.2 | D24: 315kVA Transformer | E24: Item | F24: 1
B25: 1A-1.3.3 | D25: 315kVA Mini-substation | E25: Item | F25: 9
B26: 1A-1.3.4 | D26: MV Switchgear (Isolator, Circuit breaker) | E26: Item | F26: 8
B27: 1A-1.3.5 | D27: Ring Main Unit (RMU) | E27: Item | F27: 2
B28: 1A-1.4 | D28: Uitenhage Provincial Hospital
B29: 1A-1.4.1 | D29: 500kVA Transformer | E29: Item | F29: 1
B30: 1A-1.4.2 | D30: MV Switchgear (Isolator, Circuit breaker) | E30: Item | F30: 8
B31: 1A-1.4.3 | D31: Ring Main Unit (RMU) | E31: Item | F31: 1
B32: 1A-1.5 | D32: Elizabeth Donkin Psychiatric Hospital
B33: 1A-1.5.1 | D33: MV Switchgear (Isolator, Circuit breaker) | E33: Item | F33: 8
B38: TOTAL CARRIED FORWARD TO SUMMARY

Sheet SCHED 1A-2_NM
B2: =SUMMARY!B2 -> ECDOH GENERAL ELECTRICAL MV MAINTENANCE AND REPAIR CONTRACT
B3: CONTRACT REF. NO: | D3: =+SUMMARY!D4 -> SCMU3-24/25-0461-HO | E3: Cluster/District: | G3: Nelson Mandela Metro
B4: ASSET TYPE: | D4: MV INSTALLATIONS
B6: SCHEDULE 1A-2: | D6: FIXED CHARGE AND VALUE RELATED ITEMS APPLICABLE TO ALL WORK (continued)
B8: ITEM Nr. | C8: PAYMENT REFERS | D8: DESCRIPTION | E8: UNIT | F8: QTY | G8: RATE | H8: AMOUNT
B9: 1A-2 | C9: GM 2.7 | D9: COMPILING OF OPERATING AND MAINTENANCE MANUALS : Compile three sets of O&M Manuals per site per asset type and asset model as per information from the Asset Register C4.1
B10: 1A-2.1 | D10: Port Elizabeth Provincial Hospital
B11: 1A-2.1.1 | D11: 400kVA Transformer | E11: Item | F11: 6
B12: 1A-2.1.2 | D12: MV Switchgear (Isolator, Circuit breaker) | E12: Item | F12: 18
B13: 1A-2.1.3 | D13: Battery Tripping Unit (BTU) | E13: Item | F13: 3
B14: 1A-2.2 | D14: Livingstone Hospital
B15: 1A-2.2.1 | D15: 2000kVA Transformer | E15: Item | F15: 2
B16: 1A-2.2.2 | D16: 1600kVA Transformer | E16: Item | F16: 2
B17: 1A-2.2.3 | D17: 800kVA Transformer | E17: Item | F17: 1
B18: 1A-2.2.4 | D18: 750kVA Transformer | E18: Item | F18: 2
B19: 1A-2.2.5 | D19: 500kVA Transformer | E19: Item | F19: 1
B20: 1A-2.2.6 | D20: MV Switchgear (Isolator, Circuit breaker) | E20: Item | F20: 11
B21: 1A-2.2.7 | D21: Battery Tripping Unit (BTU) | E21: Item | F21: 2
B22: 1A-2.3 | D22: Dora Nginza Hospital
B23: 1A-2.3.1 | D23: 500kVA Transformer | E23: Item | F23: 5
B24: 1A-2.3.2 | D24: 315kVA Transformer | E24: Item | F24: 1
B25: 1A-2.3.3 | D25: 315kVA Mini-substation | E25: Item | F25: 9
B26: 1A-2.3.4 | D26: MV Switchgear (Isolator, Circuit breaker) | E26: Item | F26: 8
B27: 1A-2.3.5 | D27: Ring Main Unit (RMU) | E27: Item | F27: 2
B28: 1A-2.4 | D28: Uitenhage Provincial Hospital
B29: 1A-2.4.1 | D29: 500kVA Transformer | E29: Item | F29: 1
B30: 1A-2.4.2 | D30: MV Switchgear (Isolator, Circuit breaker) | E30: Item | F30: 8
B31: 1A-2.4.3 | D31: Ring Main Unit (RMU) | E31: Item | F31: 1
B32: 1A-2.5 | D32: Elizabeth Donkin Psychiatric Hospital
B33: 1A-2.5.1 | D33: MV Switchgear (Isolator, Circuit breaker) | E33: Item | F33: 8
B38: TOTAL CARRIED FORWARD TO SUMMARY

Sheet SCHED 1A-3_NM
B2: =SUMMARY!B2 -> ECDOH GENERAL ELECTRICAL MV MAINTENANCE AND REPAIR CONTRACT
B3: CONTRACT REF. NO: | D3: =+SUMMARY!D4 -> SCMU3-24/25-0461-HO | E3: Cluster/District: | G3: Nelson Mandela Metro
B4: ASSET TYPE: | D4: ='SCHED 1A-1_NM'!D4 -> MV INSTALLATIONS
B6: SCHEDULE 1A-3: | D6: FIXED CHARGE AND VALUE RELATED ITEMS APPLICABLE TO ALL WORK (continued)
B8: ITEM Nr. | C8: PAYMENT REFERS | D8: DESCRIPTION | E8: UNIT | F8: QTY | G8: RATE | H8: AMOUNT
B9: 1A-3 | C9: SS 8 & 9 | D9: OPERATOR AND MAINTAINER TRAINING : Provide Operator and Maintainer training for each Health Facility as per SS8 and SS9
B10: 1A-3.1 | D10: Port Elizabeth Provincial Hospital | E10: Hrs | F10: 40
B11: 1A-3.2 | D11: Livingstone Hospital | E11: Hrs | F11: 30
B12: 1A-3.3 | D12: Dora Nginza Hospital | E12: Hrs | F12: 25
B13: 1A-3.4 | D13: Uitenhage Provincial Hospital | E13: Hrs | F13: 15
B14: 1A-3.5 | D14: Elizabeth Donkin Psychiatric Hospital | E14: Hrs | F14: 10
B16: 1A-3.6 | C16: GM 2.15 | D16: ENVIRONMENTAL MANAGEMENT PLAN : The Contractor must compile a basic Environmental plan specific to the type of work that he will be performing at the Health Facilities as per C3.2 | E16: Month | F16: 36
B17: 1A-3.7 | C17: GM 2.15 | D17: OCCUPATIONAL HEALTH AND SAFETY ACT COMPLIANCE COST : The Contractor must comply to the project Health and Safety Specification specific to the type of work that he will be performing on site as per C3.2 | E17: Month | F17: 36
B18: 1A-3.8 | C18: Clause 83.1 | D18: INSURANCE : LIMITATION OF LIABILITY (Amounts applicable for whole Contract)
B19: 1A-3.8.1 | D19: The minimum amount of cover for insurance against loss and damage caused by the Contractor to the Employer’s property liability limit of R5 000 000 to cover requirements of Clause 83.1 in Contract Data | E19: Month | F19: 36
B20: 1A-3.8.2 | D20: The insurance against loss of or damage to the works, Plant and Materials is to include cover for Plant and Materials provided by the Employer to a Minimum liability limit of R5 000 000 to cover requirements of Clause 83.1 in Contract Data | E20: Month | F20: 36
B21: 1A-3.8.3 | D21: The minimum amount of cover for insurance in respect of loss of or damage to property and liability for bodily injury to or death of a person to a Minimum liability limit of R5 000 000 to cover requirements of Clause 83.1 in Contract Data | E21: Month | F21: 36
B22: 1A-3.9 | C22: X13 | D22: PERFORMANCE BOND (Amounts applicable for whole Contract)
B23: 1A-3.9.1 | D23: Provision for a Performance bond of not less than 2,5% of the Tender Value | E23: Month | F23: 36
B28: TOTAL CARRIED FORWARD TO SUMMARY

Sheet SCHED 1A-4_NM
B2: ='SCHED 1A-1_NM'!B2 -> ECDOH GENERAL ELECTRICAL MV MAINTENANCE AND REPAIR CONTRACT
B3: CONTRACT REF. NO: | D3: ='SCHED 1A-1_NM'!D3 -> SCMU3-24/25-0461-HO | E3: Cluster/District: | G3: Nelson Mandela Metro
B4: ASSET TYPE: | D4: ='SCHED 1A-1_NM'!D4 -> MV INSTALLATIONS
B6: SCHEDULE 1A-4: | D6: FIXED CHARGE AND VALUE RELATED ITEMS APPLICABLE TO ALL WORK
B8: ITEM Nr. | C8: PAYMENT REFERS | D8: DESCRIPTION | E8: UNIT | F8: QTY | G8: RATE | H8: AMOUNT
B9: 1A-4 | C9: GM 3 | D9: MAINTENANCE CONTROL PLAN : Compiling of a detailed Maintenance Control Plan for each Health Facility included in this Tender (See SS 3 for facility listing)
B10: 1A-4.1 | D10: Port Elizabeth Provincial Hospital | E10: Item | F10: 1
B11: 1A-4.2 | D11: Livingstone Hospital | E11: Item | F11: 1
B12: 1A-4.3 | D12: Dora Nginza Hospital | E12: Item | F12: 1
B13: 1A-4.4 | D13: Uitenhage Provincial Hospital | E13: Item | F13: 1
B14: 1A-4.5 | D14: Elizabeth Donkin Psychiatric Hospital | E14: Item | F14: 1
B16: 1A-4.6 | C16: SS15 | D16: IN-SERVICE TRAINING OF GRADUATES AND INTERNS : Provisional Sum to pay the costs associated with employing nominated Interns and Graduates for the duration of the Contract
B17: 1A-4.6.1 | D17: Interns | E17: Months | F17: 36
B18: 1A-4.6.2 | D18: Graduates | E18: Months | F18: 36
B19: 1A-4.6.3 | D19: Direct Fee Percentage (Mark-up) to be charged by Contractor on amount in items 6.1 and 6.2 above | E19: %
B20: 1A-4.7 | C20: SS16 | D20: PROVISION OF ASSET APPLICABLE ACCREDITED TRAINING : Arranging of Accredited Asset Applicable Training for Operating and Maintenance Staff as per SS16 | E20: Psum | F20: 1 | G20: 345000 | H20: 345000
B21: 1A-4.7.1 | C21: Clause 11.2(8) | D21: Direct Fee Percentage (Mark-up) to be charged by Contractor on amount above | E21: %
B29: TOTAL CARRIED FORWARD TO SUMMARY | H29: =SUM(H10:H21) -> 345000

Sheet SCHED 1B-1_SB 
B2: =SUMMARY!B2 -> ECDOH GENERAL ELECTRICAL MV MAINTENANCE AND REPAIR CONTRACT
B3: ='SCHED 1A-1_NM'!B3 -> CONTRACT REF. NO: | D3: =+SUMMARY!D4 -> SCMU3-24/25-0461-HO | E3: Cluster/District: | G3: Sarah Baartman
B4: ='SCHED 1A-1_NM'!B4 -> ASSET TYPE: | D4: ='SCHED 1A-1_NM'!D4 -> MV INSTALLATIONS
B6: SCHEDULE 1B-1 : | D6: FIXED CHARGE AND VALUE RELATED ITEMS APPLICABLE TO ALL WORK
B8: ITEM Nr. | C8: PAYMENT REFERS | D8: DESCRIPTION | E8: UNIT | F8: QTY | G8: RATE | H8: AMOUNT
B9: 1B-1 | C9: GM 2.5 | D9: VERIFICATION OF ASSETS ON SITE : Verify assets for each Health Facility vs Asset Register (C4.1), and compile plant layout line drawings including MV Schematic drawing showing connection between each substation or mini-substation as per GM 2.5 (1) and (2).
B10: 1B-1.1 | D10: Andries Vosloo Hospital
B11: 1B.1.1.1 | D11: 500kVA Transformer | E11: Item | F11: 1
B12: 1B.1.1.2 | D12: 200kVA Transformer | E12: Item | F12: 4
B13: 1B.1.1.3 | D13: MV Switchgear (Isolator, Circuit breaker) | E13: Item | F13: 6
B14: 1B.1.1.4 | D14: Ring Main Unit (RMU) | E14: Item | F14: 4
B15: 1B.1.1.5 | D15: Battery Tripping Unit (BTU) | E15: Item | F15: 2
B16: 1B-1.2 | D16: Fort England Hospital
B17: 1B-1.2.1 | D17: 400kVA Transformer | E17: Item | F17: 1
B18: 1B-1.2.2 | D18: 400kVA Mini-substation | E18: Item | F18: 2
B19: 1B-1.2.3 | D19: 315kVA Mini-substation | E19: Item | F19: 1
B20: 1B-1.2.4 | D20: MV Switchgear (Isolator, Circuit breaker) | E20: Item | F20: 4
B21: 1B-1.2.5 | D21: Battery Tripping Unit (BTU) | E21: Item | F21: 2
B22: 1B-1.3 | D22: Settlers Hospital Net Care
B23: 1B-1.3.1 | D23: 400kVA Transformer | E23: Item | F23: 2
B24: 1B-1.3.2 | D24: 315kVA Mini-substation | E24: Item | F24: 1
B25: 1B-1.3.3 | D25: MV Switchgear (Isolator, Circuit breaker) | E25: Item | F25: 4
B26: 1B-1.3.4 | D26: Battery Tripping Unit (BTU) | E26: Item | F26: 2
B27: 1B-1.4 | D27: Humansdorp Hospital
B28: 1B-1.4.1 | D28: 500kVA Transformer | E28: Item | F28: 2
B30: TOTAL CARRIED FORWARD TO SUMMARY

Sheet SCHED 1B-2_SB
B2: =SUMMARY!B2 -> ECDOH GENERAL ELECTRICAL MV MAINTENANCE AND REPAIR CONTRACT
B3: ='SCHED 1A-1_NM'!B3 -> CONTRACT REF. NO: | D3: =+SUMMARY!D4 -> SCMU3-24/25-0461-HO | E3: Cluster/District: | G3: ='SCHED 1B-1_SB '!G3 -> Sarah Baartman
B4: ='SCHED 1A-1_NM'!B4 -> ASSET TYPE: | D4: ='SCHED 1A-1_NM'!D4 -> MV INSTALLATIONS
B6: SCHEDULE 1B-2: | D6: FIXED CHARGE AND VALUE RELATED ITEMS APPLICABLE TO ALL WORK (continued)
B8: ITEM Nr. | C8: PAYMENT REFERS | D8: DESCRIPTION | E8: UNIT | F8: QTY | G8: RATE | H8: AMOUNT
B9: 1B-2 | C9: GM 2.7 | D9: COMPILING OF OPERATING AND MAINTENANCE MANUALS : Compile three sets of O&M Manuals per site per asset type and asset model as per information from the Asset Register C4.1
B10: 1B-2.1 | D10: Andries Vosloo Hospital
B11: 1B-2.1.1 | D11: 500kVA Transformer | E11: Item | F11: 1
B12: 1B-2.1.2 | D12: 200kVA Transformer | E12: Item | F12: 4
B13: 1B-2.1.3 | D13: MV Switchgear (Isolator, Circuit breaker) | E13: Item | F13: 6
B14: 1B-2.1.4 | D14: Ring Main Unit (RMU) | E14: Item | F14: 4
B15: 1B-2.1.5 | D15: Battery Tripping Unit (BTU) | E15: Item | F15: 2
B16: 1B-2.2 | D16: Fort England Hospital
B17: 1B-2.2.1 | D17: 400kVA Transformer | E17: Item | F17: 1
B18: 1B-2.2.2 | D18: 400kVA Mini-substation | E18: Item | F18: 2
B19: 1B-2.2.3 | D19: 315kVA Mini-substation | E19: Item | F19: 1
B20: 1B-2.2.4 | D20: MV Switchgear (Isolator, Circuit breaker) | E20: Item | F20: 4
B21: 1B-2.2.5 | D21: Battery Tripping Unit (BTU) | E21: Item | F21: 2
B22: 1B-2.3 | D22: Settlers Hospital Net Care
B23: 1B-2.3.1 | D23: 400kVA Transformer | E23: Item | F23: 2
B24: 1B-2.3.2 | D24: 315kVA Mini-substation | E24: Item | F24: 1
B25: 1B-2.3.3 | D25: MV Switchgear (Isolator, Circuit breaker) | E25: Item | F25: 4
B26: 1B-2.3.4 | D26: Battery Tripping Unit (BTU) | E26: Item | F26: 2
B27: 1B-2.4 | D27: Humansdorp Hospital
B28: 1B-2.4.1 | D28: 500kVA Transformer | E28: Item | F28: 2
B30: TOTAL CARRIED FORWARD TO SUMMARY

Sheet SCHED 1B-3_SB
B2: =SUMMARY!B2 -> ECDOH GENERAL ELECTRICAL MV MAINTENANCE AND REPAIR CONTRACT
B3: CONTRACT REF. NO: | D3: =+SUMMARY!D4 -> SCMU3-24/25-0461-HO | E3: Cluster/District: | G3: Sarah Baartman
B4: ASSET TYPE: | D4: ='SCHED 1A-1_NM'!D4 -> MV INSTALLATIONS
B6: SCHEDULE 1B-3: | D6: FIXED CHARGE AND VALUE RELATED ITEMS APPLICABLE TO ALL WORK (continued)
B8: ITEM Nr. | C8: PAYMENT REFERS | D8: DESCRIPTION | E8: UNIT | F8: QTY | G8: RATE | H8: AMOUNT
B9: 1B-3 | C9: SS 8 & 9 | D9: OPERATOR AND MAINTAINER TRAINING : Provide Operator and Maintainer training as per SS8 and SS9
B10: 1B-3.1 | D10: Andries Vosloo Hospital | E10: Hrs | F10: 30
B11: 1B-3.2 | D11: Fort England Hospital | E11: Hrs | F11: 20
B12: 1B-3.3 | D12: Settlers Hospital Net Care | E12: Item | F12: 15
B13: 1B-3.4 | D13: Humansdorp Hospital | E13: Item | F13: 10
B15: 1B-3.5 | C15: GM 2.15 | D15: ENVIRONMENTAL MANAGEMENT PLAN : The Contractor must compile a basic Environmental plan specific to the type of work that he will be performing at the Health Facilities as per C3.2 | E15: Item | F15: 36
B16: 1B-3.6 | C16: GM 2.15 | D16: OCCUPATIONAL HEALTH AND SAFETY ACT COMPLIANCE COST : The Contractor must comply to the project Health and Safety Specification specific to the type of work that he will be performing on site as per C3.2 | E16: Month | F16: 36
B17: 1B-3.7 | C17: Clause 83.1 | D17: INSURANCE : LIMITATION OF LIABILITY (Amounts applicable for whole Contract)
B18: 1B-3.7.1 | D18: The minimum amount of cover for insurance against loss and damage caused by the Contractor to the Employer’s property liability limit of R5 000 000 to cover requirements of Clause 83.1 in Contract Data | E18: Month | F18: 36
B19: 1B-3.7.2 | D19: The insurance against loss of or damage to the works, Plant and Materials is to include cover for Plant and Materials provided by the Employer to a Minimum liability limit of R5 000 000 to cover requirements of Clause 83.1 in Contract Data | E19: Month | F19: 36
B20: 1B-3.7.3 | D20: The minimum amount of cover for insurance in respect of loss of or damage to property and liability for bodily injury to or death of a person to a Minimum liability limit of R5 000 000 to cover requirements of Clause 83.1 in Contract Data | E20: Month | F20: 36
B21: 1B-3.8 | C21: X13 | D21: PERFORMANCE BOND (Amounts applicable for whole Contract)
B22: 1B-3.8.1 | D22: Provision for a Performance bond of not less than 2,5% of the Tender Value | E22: Month | F22: 36
B26: TOTAL CARRIED FORWARD TO SUMMARY

Sheet SCHED 1B-4_SB
B2: ='SCHED 1A-1_NM'!B2 -> ECDOH GENERAL ELECTRICAL MV MAINTENANCE AND REPAIR CONTRACT
B3: CONTRACT REF. NO: | D3: =+SUMMARY!D4 -> SCMU3-24/25-0461-HO | E3: Cluster/District: | G3: Sarah Baartman
B4: ASSET TYPE: | D4: ='SCHED 1A-1_NM'!D4 -> MV INSTALLATIONS
B6: SCHEDULE 1B-4: | D6: FIXED CHARGE AND VALUE RELATED ITEMS APPLICABLE TO ALL WORK
B8: ITEM Nr. | C8: PAYMENT REFERS | D8: DESCRIPTION | E8: UNIT | F8: QTY | G8: RATE | H8: AMOUNT
B9: 1B-4 | C9: GM 3 | D9: MAINTENANCE CONTROL PLAN : Compiling of a detailed Maintenance Control Plan for each Health Facility included in this Tender (See SS 3 for facility listing)
B10: 1B-4.1 | D10: Andries Vosloo Hospital | E10: Item | F10: 1
B11: 1B-4.2 | D11: Fort England Hospital | E11: Item | F11: 1
B12: 1B-4.3 | D12: Settlers Hospital Net Care | E12: Item | F12: 1
B13: 1B-4.4 | D13: Humansdorp Hospital | E13: Item | F13: 1
B15: 1B-4.5 | C15: SS 8 & SS 9 | D15: IN-SERVICE TRAINING OF GRADUATES AND INTERNS : Provisional Sum to pay the costs associated with employing nominated Interns and Graduates for the duration of the Contract
B16: 1B-4.5.1 | D16: Interns | E16: Months | F16: 36
B17: 1B-4.5.2 | D17: Graduates | E17: Months | F17: 36
B18: 1B-4.5.3 | D18: Direct Fee Percentage (Mark-up) to be charged by Contractor on amount in items 6.1 and 6.2 above | E18: %
B19: 1B-4.6 | C19: SS 8 & SS 9 | D19: PROVISION OF ASSET APPLICABLE ACCREDITED TRAINING : Arranging of Accredited Asset Applicable Training for Operating and Maintenance Staff | E19: Psum | F19: 1 | G19: 345000 | H19: 345000
B20: 1B-4.6.1 | C20: Clause 11.2(8) | D20: Direct Fee Percentage (Mark-up) to be charged by Contractor on amount above | E20: %
B24: TOTAL CARRIED FORWARD TO SUMMARY | H24: =SUM(H10:H20) -> 345000

Sheet SCHED 2A-1_NM
B2: =SUMMARY!B2 -> ECDOH GENERAL ELECTRICAL MV MAINTENANCE AND REPAIR CONTRACT
B3: CONTRACT REF. NO: | D3: =+SUMMARY!D4 -> SCMU3-24/25-0461-HO | E3: Cluster/District: | G3: Nelson Mandela Metro
B4: ASSET TYPE: | D4: MV INSTALLATIONS
B6: SCHEDULE 2A-1: | D6: FUNCTIONAL REPAIR SCHEDULE
B8: ITEM Nr. | C8: PAYMENT REFERS | D8: DESCRIPTION | E8: UNIT | F8: QTY | G8: RATE | H8: AMOUNT
B9: 2A-1 | C9: GM 2.5 | D9: FUNCTIONAL CONDITION ASSESSMENT : Perform Functional Condition Assessment (Inspection and Testing) on all listed assets at all Health Facilities included in the Tender. Compile Functional Condition Assessment Report for all asset types at all Health Facilities included in the Tender
B10: 2A-1.1 | D10: Port Elizabeth Provincial Hospital
B11: 2A-1.1.1 | D11: 400kVA Transformer | E11: Item | F11: 6
B12: 2A-1.1.2 | D12: MV Switchgear (Isolator, Circuit breaker) | E12: Item | F12: 18
B13: 2A-1.1.3 | D13: Battery Tripping Unit (BTU) | E13: Item | F13: 3
B14: 2A-1.2 | D14: Livingstone Hospital
B15: 2A-1.2.1 | D15: 2000kVA Transformer | E15: Item | F15: 2
B16: 2A-1.2.2 | D16: 1600kVA Transformer | E16: Item | F16: 2
B17: 2A-1.2.3 | D17: 800kVA Transformer | E17: Item | F17: 1
B18: 2A-1.2.4 | D18: 750kVA Transformer | E18: Item | F18: 2
B19: 2A-1.2.5 | D19: 500kVA Transformer | E19: Item | F19: 1
B20: 2A-1.2.6 | D20: MV Switchgear (Isolator, Circuit breaker) | E20: Item | F20: 11
B21: 2A-1.2.7 | D21: Battery Tripping Unit (BTU) | E21: Item | F21: 2
B22: 2A-1.3 | D22: Dora Nginza Hospital
B23: 2A-1.3.1 | D23: 500kVA Transformer | E23: Item | F23: 5
B24: 2A-1.3.2 | D24: 315kVA Transformer | E24: Item | F24: 1
B25: 2A-1.3.3 | D25: 315kVA Mini-substation | E25: Item | F25: 9
B26: 2A-1.3.4 | D26: MV Switchgear (Isolator, Circuit breaker) | E26: Item | F26: 8
B27: 2A-1.3.5 | D27: Ring Main Unit (RMU) | E27: Item | F27: 2
B28: 2A-1.4 | D28: Uitenhage Provincial Hospital
B29: 2A-1.4.1 | D29: 500kVA Transformer | E29: Item | F29: 1
B30: 2A-1.4.2 | D30: MV Switchgear (Isolator, Circuit breaker) | E30: Item | F30: 8
B31: 2A-1.4.3 | D31: Ring Main Unit (RMU) | E31: Item | F31: 1
B32: 2A-1.5 | D32: Elizabeth Donkin Psychiatric Hospital
B33: 2A-1.5.1 | D33: MV Switchgear (Isolator, Circuit breaker) | E33: Item | F33: 8
B35: 2A-3.6 | C35: GM 6 | D35: PROVISION FOR SPECIAL TESTING BY SERVICE MANAGER : Lump sum provision for doing special tests at the Health Facilities as per the prerogative of the Service Manager | E35: PSum | F35: 1 | G35: 130000 | H35: =G35 -> 130000
B36: 2A-3.6.1 | C36: Clause 11.2(8) | D36: Direct Fee Percentage (Mark-up) to be charged by Contractor on amounts above | E36: % | F36: 1
B37: 2A-3.7 | C37: GM 2.6 | D37: MAINTENANCE DOCUMENTATION SITE STORAGE CONSOLE: Provisional sum to supply and install O&M Manual, Log Books, and site Maintenance Records at each equipment type location as directed by the Service Manager | E37: PSum | F37: 1 | G37: 17500 | H37: 17500
B38: 2A-3.7.1 | C38: Clause 11.2(8) | D38: Direct Fee Percentage (Mark-up) to be charged by Contractor on amounts above | E38: % | F38: 1
B42: TOTAL CARRIED FORWARD TO SUMMARY | H42: =SUM(H11:H38) -> 147500

Sheet SCHED 2A-2_NM
B2: =SUMMARY!B2 -> ECDOH GENERAL ELECTRICAL MV MAINTENANCE AND REPAIR CONTRACT
B3: CONTRACT REF. NO: | D3: =+SUMMARY!D4 -> SCMU3-24/25-0461-HO | E3: Cluster/District: | G3: Nelson Mandela Metro
B4: ASSET TYPE: | D4: MV INSTALLATIONS
B6: SCHEDULE 2A-2: | D6: FUNCTIONAL REPAIR SCHEDULE (continued)
B8: ITEM Nr. | C8: PAYMENT REFERS | D8: DESCRIPTION | E8: UNIT | F8: QTY | G8: RATE | H8: AMOUNT
B9: 2A-2 | C9: GM 2.5 | D9: COMPILING OF DETAILED REPAIR SCHEDULE : Compile detailed, comprehensive repair schedule including defect description, recommended repair method, detailed quote including priced spare parts, outsourced work, and provisional work program, for each Health Facility and asset type.
B10: 2A-2.1 | D10: Port Elizabeth Provincial Hospital
B11: 2A-2.1.1 | D11: 400kVA Transformer | E11: Item | F11: 6
B12: 2A-2.1.2 | D12: MV Switchgear (Isolator, Circuit breaker) | E12: Item | F12: 18
B13: 2A-2.1.3 | D13: Battery Tripping Unit (BTU) | E13: Item | F13: 3
B14: 2A-2.2 | D14: Livingstone Hospital
B15: 2A-2.2.1 | D15: 2000kVA Transformer | E15: Item | F15: 2
B16: 2A-2.2.2 | D16: 1600kVA Transformer | E16: Item | F16: 2
B17: 2A-2.2.3 | D17: 800kVA Transformer | E17: Item | F17: 1
B18: 2A-2.2.4 | D18: 750kVA Transformer | E18: Item | F18: 2
B19: 2A-2.2.5 | D19: 500kVA Transformer | E19: Item | F19: 1
B20: 2A-2.2.6 | D20: MV Switchgear (Isolator, Circuit breaker) | E20: Item | F20: 11
B21: 2A-2.2.7 | D21: Battery Tripping Unit (BTU) | E21: Item | F21: 2
B22: 2A-2.3 | D22: Dora Nginza Hospital
B23: 2A-2.3.1 | D23: 500kVA Transformer | E23: Item | F23: 5
B24: 2A-2.3.2 | D24: 315kVA Transformer | E24: Item | F24: 1
B25: 2A-2.3.3 | D25: 315kVA Mini-substation | E25: Item | F25: 9
B26: 2A-2.3.4 | D26: MV Switchgear (Isolator, Circuit breaker) | E26: Item | F26: 8
B27: 2A-2.3.5 | D27: Ring Main Unit (RMU) | E27: Item | F27: 2
B28: 2A-2.4 | D28: Uitenhage Provincial Hospital
B29: 2A-2.4.1 | D29: 500kVA Transformer | E29: Item | F29: 1
B30: 2A-2.4.2 | D30: MV Switchgear (Isolator, Circuit breaker) | E30: Item | F30: 8
B31: 2A-2.4.3 | D31: Ring Main Unit (RMU) | E31: Item | F31: 1
B32: 2A-2.5 | D32: Elizabeth Donkin Psychiatric Hospital
B33: 2A-2.5.1 | D33: MV Switchgear (Isolator, Circuit breaker) | E33: Item | F33: 8
B38: TOTAL CARRIED FORWARD TO SUMMARY

Sheet SCHED 2B-1_SB
B2: =SUMMARY!B2 -> ECDOH GENERAL ELECTRICAL MV MAINTENANCE AND REPAIR CONTRACT
B3: ='SCHED 1A-1_NM'!B3 -> CONTRACT REF. NO: | D3: =+SUMMARY!D4 -> SCMU3-24/25-0461-HO | E3: Cluster/District: | G3: Sarah Baartman
B4: ='SCHED 1A-1_NM'!B4 -> ASSET TYPE: | D4: ='SCHED 1A-1_NM'!D4 -> MV INSTALLATIONS
B6: SCHEDULE 2B-1: | D6: FUNCTIONAL REPAIR SCHEDULE
B8: ITEM Nr. | C8: PAYMENT REFERS | D8: DESCRIPTION | E8: UNIT | F8: QTY | G8: RATE | H8: AMOUNT
B9: 2B-1 | C9: GM 2.5 | D9: FUNCTIONAL CONDITION ASSESSMENT : Perform Functional Condition Assessment (Inspection and Testing) on all listed assets at all Health Facilities included in the Tender. Compile Functional Condition Assessment Report for all asset types at all Health Facilities
B10: 2B-1.1 | D10: Andries Vosloo Hospital
B11: 2B.1.1.1 | D11: 500kVA Transformer | E11: Item | F11: 1
B12: 2B.1.1.2 | D12: 200kVA Transformer | E12: Item | F12: 4
B13: 2B.1.1.3 | D13: MV Switchgear (Isolator, Circuit breaker) | E13: Item | F13: 6
B14: 2B.1.1.4 | D14: Ring Main Unit (RMU) | E14: Item | F14: 4
B15: 2B.1.1.5 | D15: Battery Tripping Unit (BTU) | E15: Item | F15: 2
B16: 2B-1.2 | D16: Fort England Hospital
B17: 2B-1.2.1 | D17: 400kVA Transformer | E17: Item | F17: 1
B18: 2B-1.2.2 | D18: 400kVA Mini-substation | E18: Item | F18: 2
B19: 2B-1.2.3 | D19: 315kVA Mini-substation | E19: Item | F19: 1
B20: 2B-1.2.4 | D20: MV Switchgear (Isolator, Circuit breaker) | E20: Item | F20: 4
B21: 2B-1.2.5 | D21: Battery Tripping Unit (BTU) | E21: Item | F21: 2
B22: 2B-1.3 | D22: Settlers Hospital Net Care
B23: 2B-1.3.1 | D23: 400kVA Transformer | E23: Item | F23: 2
B24: 2B-1.3.2 | D24: 315kVA Mini-substation | E24: Item | F24: 1
B25: 2B-1.3.3 | D25: MV Switchgear (Isolator, Circuit breaker) | E25: Item | F25: 4
B26: 2B-1.3.4 | D26: Battery Tripping Unit (BTU) | E26: Item | F26: 2
B27: 2B-1.4 | D27: Humansdorp Hospital
B28: 2B-1.4.1 | D28: 500kVA Transformer | E28: Item | F28: 2
B30: 2B-3.5 | C30: GM 6 | D30: PROVISION FOR SPECIAL TESTING BY SERVICE MANAGER : Lump sum provision for doing special tests at the Health Facilities as per the prerogative of the Service Manager | E30: PSum | F30: 1 | G30: 130000 | H30: =G30 -> 130000
B31: 2B-3.5.1 | C31: Clause 11.2(8) | D31: Direct Fee Percentage (Mark-up) to be charged by Contractor on amounts above | E31: % | F31: 1
B32: 2B-5.6 | C32: GM 2.6 | D32: MAINTENANCE DOCUMENTATION SITE STORAGE CONSOLE: Provisional sum to supply and install O&M Manual, Log Books, and site Maintenance Records at each equipment type location as directed by the Service Manager | E32: PSum | F32: 1 | G32: 17500 | H32: 17500
B33: 2B-3.6.1 | C33: Clause 11.2(8) | D33: Direct Fee Percentage (Mark-up) to be charged by Contractor on amounts above | E33: % | F33: 1
B34: TOTAL CARRIED FORWARD TO SUMMARY | H34: =SUM(H11:H33) -> 147500

Sheet SCHED 2B-2_SB
B2: =SUMMARY!B2 -> ECDOH GENERAL ELECTRICAL MV MAINTENANCE AND REPAIR CONTRACT
B3: ='SCHED 1A-1_NM'!B3 -> CONTRACT REF. NO: | D3: =+SUMMARY!D4 -> SCMU3-24/25-0461-HO | E3: Cluster/District: | G3: ='SCHED 2B-1_SB'!G3 -> Sarah Baartman
B4: ='SCHED 1A-1_NM'!B4 -> ASSET TYPE: | D4: ='SCHED 1A-1_NM'!D4 -> MV INSTALLATIONS
B6: SCHEDULE 2B-2: | D6: FUNCTIONAL REPAIR SCHEDULE (continued)
B8: ITEM Nr. | C8: PAYMENT REFERS | D8: DESCRIPTION | E8: UNIT | F8: QTY | G8: RATE | H8: AMOUNT
B9: 2B-2 | C9: GM 2.5 | D9: COMPILING OF DETAILED REPAIR SCHEDULE : Compile detailed, comprehensive repair schedule including defect description, recommended repair method, detailed quote including priced spare parts, outsourced work, and provisional work program, for each Health Facility and asset type.
B10: 2B-2.1 | D10: Andries Vosloo Hospital
B11: 2B-2.1.1 | D11: 500kVA Transformer | E11: Item | F11: 1
B12: 2B-2.1.2 | D12: 200kVA Transformer | E12: Item | F12: 4
B13: 2B-2.1.3 | D13: MV Switchgear (Isolator, Circuit breaker) | E13: Item | F13: 6
B14: 2B-2.1.4 | D14: Ring Main Unit (RMU) | E14: Item | F14: 4
B15: 2B-2.1.5 | D15: Battery Tripping Unit (BTU) | E15: Item | F15: 2
B16: 2B-2.2 | D16: Fort England Hospital
B17: 2B-2.2.1 | D17: 400kVA Transformer | E17: Item | F17: 1
B18: 2B-2.2.2 | D18: 400kVA Mini-substation | E18: Item | F18: 2
B19: 2B-2.2.3 | D19: 315kVA Mini-substation | E19: Item | F19: 1
B20: 2B-2.2.4 | D20: MV Switchgear (Isolator, Circuit breaker) | E20: Item | F20: 4
B21: 2B-2.2.5 | D21: Battery Tripping Unit (BTU) | E21: Item | F21: 2
B22: 2B-2.3 | D22: Settlers Hospital Net Care
B23: 2B-2.3.1 | D23: 400kVA Transformer | E23: Item | F23: 2
B24: 2B-2.3.2 | D24: 315kVA Mini-substation | E24: Item | F24: 1
B25: 2B-2.3.3 | D25: MV Switchgear (Isolator, Circuit breaker) | E25: Item | F25: 4
B26: 2B-2.3.4 | D26: Battery Tripping Unit (BTU) | E26: Item | F26: 2
B27: 2B-2.4 | D27: Humansdorp Hospital
B28: 2B-2.4.1 | D28: 500kVA Transformer | E28: Item | F28: 2
B30: TOTAL CARRIED FORWARD TO SUMMARY

Sheet SCHEDULE 3A_NM
B2: =[1]SUMMARY!B2 -> SCHEDULED MAINTENANCE AND REPAIRS OF MV EQUIPMENT
B3: ='[1]SCHED 1A-1_NM'!B3 -> CONTRACT REF. NO: | D3: =+SUMMARY!D4 -> SCMU3-24/25-0461-HO | E3: Cluster/District: | I3: ='[1]SCHED 1A-1_NM'!G3 -> Nelson Mandela Metro
B4: ='[1]SCHED 1A-1_NM'!B4 -> ASSET TYPE: | D4: ='[1]SCHED 1A-1_NM'!D4 -> MEDIUM VOLTAGE EQUIPMENT
B6: SCHEDULE 3A : | D6: MAINTENANCE SERVICE SCHEDULE
B8: ITEM Nr. | C8: PAYMENT REFERS | D8: DESCRIPTION | E8: UNIT | F8: No. of Equipment | G8: No. of Services | H8: QTY (A) | I8: RATE (B) | J8: AMOUNT (C) = (A) x (B)
B9: 3A-1 | C9: GM 3.2 | D9: MAINTENANCE WORKS : Standard servicing and planned Maintenance Costs including all parts, consumables and lubricants, labour, travelling, accommodation and subsistence allowances (Price per Equipment)
D10: Port Elizabeth Provincial Hospital:
B11: 3A-1.1 | D11: Minor Service Cost : Price for Six Monthly Inspections per asset, as per Six Monthly Service Inspection Guideline in C6.
B12: 3A-3.1.1.1 | D12: 400kVA Transformer | E12: Item | F12: 6 | G12: 3 | H12: =G12*F12 -> 18
B13: 3A-3.1.1.2 | D13: MV Switchgear (Isolator, Circuit breaker) | E13: Item | F13: 18 | G13: 3 | H13: =G13*F13 -> 54
B14: 3A-3.1.1.3 | D14: Battery Tripping Unit (BTU) | E14: Item | F14: 3 | G14: 3 | H14: =G14*F14 -> 9
B15: 3A-1.2 | D15: Major Service Cost : Price per Annually Service / Inspection per machine, as per tasks from the Annually Service Inspection Guideline in C6.
B16: 3A-3.1.2.1 | D16: 400kVA Transformer | E16: Item | F16: 6 | G16: 4 | H16: =G16*F16 -> 24
B17: 3A-3.1.2.2 | D17: MV Switchgear (Isolator, Circuit breaker) | E17: Item | F17: 18 | G17: 4 | H17: =G17*F17 -> 72
B18: 3A-3.1.2.3 | D18: Battery Tripping Unit (BTU) | E18: Item | F18: 3 | G18: 4 | H18: =G18*F18 -> 12
D19: Livingstone Hospital:
B20: 3A-1.3 | D20: Minor Service Cost : Price for Six Monthly Inspections per asset, as per Six Monthly Service Inspection Guideline in C6.
B21: 3A-1.3.1 | D21: 2000kVA Transformer | E21: Item | F21: 2 | G21: 3 | H21: =G21*F21 -> 6
B22: 3A-1.3.2 | D22: 1600kVA Transformer | E22: Item | F22: 2 | G22: 3 | H22: =G22*F22 -> 6
B23: 3A-1.3.3 | D23: 800kVA Transformer | E23: Item | F23: 1 | G23: 3 | H23: =G23*F23 -> 3
B24: 3A-1.3.4 | D24: 750kVA Transformer | E24: Item | F24: 2 | G24: 3 | H24: =G24*F24 -> 6
B25: 3A-1.3.5 | D25: 500kVA Transformer | E25: Item | F25: 1 | G25: 3 | H25: =G25*F25 -> 3
B26: 3A-1.3.6 | D26: MV Switchgear (Isolator, Circuit breaker) | E26: Item | F26: 11 | G26: 3 | H26: =G26*F26 -> 33
B27: 3A-1.3.7 | D27: Battery Tripping Unit (BTU) | E27: Item | F27: 2 | G27: 3 | H27: =G27*F27 -> 6
B28: 3A-1.4 | D28: Major Service Cost : Price per Annually Service / Inspection per machine, as per tasks from the Annually Service Inspection Guideline in C6.
B29: 3A-1.4.1 | D29: 2000kVA Transformer | E29: Item | F29: 2 | G29: 4 | H29: =G29*F29 -> 8
B30: 3A-1.4.2 | D30: 1600kVA Transformer | E30: Item | F30: 2 | G30: 4 | H30: =G30*F30 -> 8
B31: 3A-1.4.3 | D31: 800kVA Transformer | E31: Item | F31: 1 | G31: 4 | H31: =G31*F31 -> 4
B32: 3A-1.4.4 | D32: 750kVA Transformer | E32: Item | F32: 2 | G32: 4 | H32: =G32*F32 -> 8
B33: 3A-1.4.5 | D33: 500kVA Transformer | E33: Item | F33: 1 | G33: 4 | H33: =G33*F33 -> 4
B34: 3A-1.4.6 | D34: MV Switchgear (Isolator, Circuit breaker) | E34: Item | F34: 11 | G34: 4 | H34: =G34*F34 -> 44
B35: 3A-1.4.7 | D35: Battery Tripping Unit (BTU) | E35: Item | F35: 2 | G35: 4 | H35: =G35*F35 -> 8
D36: Dora Nginza Hospital:
B37: 3A-1.5 | D37: Minor Service Cost : Price for Six Monthly Inspections per asset, as per Six Monthly Service Inspection Guideline in C6.
B38: 3A-1.5.1 | D38: 500kVA Transformer | E38: Item | F38: 5 | G38: 3 | H38: =G38*F38 -> 15
B39: 3A-1.5.2 | D39: 315kVA Transformer | E39: Item | F39: 1 | G39: 3 | H39: =G39*F39 -> 3
B40: 3A-1.5.3 | D40: 315kVA Mini-substation | E40: Item | F40: 9 | G40: 3 | H40: =G40*F40 -> 27
B41: 3A-1.5.4 | D41: MV Switchgear (Isolator, Circuit breaker) | E41: Item | F41: 8 | G41: 3 | H41: =G41*F41 -> 24
B42: 3A-1.5.5 | D42: Ring Main Unit (RMU) | E42: Item | F42: 2 | G42: 3 | H42: =G42*F42 -> 6
B43: 3A-1.6 | D43: Major Service Cost : Price per Annually Service / Inspection per machine, as per tasks from the Annually Service Inspection Guideline in C6.
...

Sheet SCHEDULE 3B_SB
B1: =[1]SUMMARY!B2 -> SCHEDULED MAINTENANCE AND REPAIRS OF MV EQUIPMENT
B2: ='[1]SCHED 1A-1_NM'!B3 -> CONTRACT REF. NO: | D2: =+SUMMARY!D4 -> SCMU3-24/25-0461-HO | E2: Cluster/District: | I2: Sarah Baartman
B3: ='[1]SCHED 1A-1_NM'!B4 -> ASSET TYPE: | D3: ='[1]SCHED 1A-1_NM'!D4 -> MEDIUM VOLTAGE EQUIPMENT
B5: SCHEDULE 3B : | D5: MAINTENANCE SERVICE SCHEDULE
B7: ITEM Nr. | C7: PAYMENT REFERS | D7: DESCRIPTION | E7: UNIT | F7: No. of Equipment | G7: No. of Services | H7: QTY (A) | I7: RATE (B) | J7: AMOUNT (C) = (A) x (B)
B8: 3B-1 | C8: GM 3.2 | D8: MAINTENANCE WORKS : Standard servicing and planned Maintenance Costs including all parts, consumables and lubricants, labour, travelling, accommodation and subsistence allowances (Price per Equipment)
D9: Andries Vosloo Hospital:
B10: 3B-1.1 | D10: Minor Service Cost : Price for Six Monthly Inspections per asset, as per Six Monthly Service Inspection Guideline in C6.
B11: 3B-1.1.1 | D11: 500kVA Transformer | E11: Item | F11: 1 | G11: 3 | H11: =G11*F11 -> 3
B12: 3B-1.1.2 | D12: 200kVA Transformer | E12: Item | F12: 4 | G12: 3 | H12: =G12*F12 -> 12
B13: 3B-1.1.3 | D13: MV Switchgear (Isolator, Circuit breaker) | E13: Item | F13: 6 | G13: 3 | H13: =G13*F13 -> 18
B14: 3B-1.1.4 | D14: Ring Main Unit (RMU) | E14: Item | F14: 4 | G14: 3 | H14: =G14*F14 -> 12
B15: 3B-1.1.5 | D15: Battery Tripping Unit (BTU) | E15: Item | F15: 2 | G15: 3 | H15: =G15*F15 -> 6
B16: 3B-1.2 | D16: Major Service Cost : Price per Annually Service / Inspection per machine, as per tasks from the Annually Service Inspection Guideline in C6. | E16: No
B17: 3B-1.2.1 | D17: 500kVA Transformer | E17: Item | F17: 1 | G17: 4 | H17: =G17*F17 -> 4
B18: 3B-1.2.2 | D18: 200kVA Transformer | E18: Item | F18: 4 | G18: 4 | H18: =G18*F18 -> 16
B19: 3B-1.2.3 | D19: MV Switchgear (Isolator, Circuit breaker) | E19: Item | F19: 6 | G19: 4 | H19: =G19*F19 -> 24
B20: 3B-1.2.4 | D20: Ring Main Unit (RMU) | E20: Item | F20: 4 | G20: 4 | H20: =G20*F20 -> 16
B21: 3B-1.2.5 | D21: Battery Tripping Unit (BTU) | E21: Item | F21: 2 | G21: 4 | H21: =G21*F21 -> 8
B22: 3B-1.2.6 | D22: REPLACEMENT OF LUBRICATING OIL: Oil found to be contaminated after tests shall be replacement with new oil appropriate for the affected equipment. The price shall include removal of contaminated oil from site and disposal of such | E22: Per Litre | F22: =200 -> 200
D23: Fort England Hospital:
B24: 3B-1.3 | D24: Minor Service Cost : Price for Six Monthly Inspections per asset, as per Six Monthly Service Inspection Guideline in C6.
B25: 3B-1.3.1 | D25: 400kVA Transformer | E25: Item | F25: 1 | G25: 3 | H25: =G25*F25 -> 3
B26: 3B-1.3.2 | D26: 400kVA Mini-substation | E26: Item | F26: 2 | G26: 3 | H26: =G26*F26 -> 6
B27: 3B-1.3.3 | D27: 315kVA Mini-substation | E27: Item | F27: 1 | G27: 3 | H27: =G27*F27 -> 3
B28: 3B-1.3.4 | D28: MV Switchgear (Isolator, Circuit breaker) | E28: Item | F28: 4 | G28: 3 | H28: =G28*F28 -> 12
B29: 3B-1.3.5 | D29: Battery Tripping Unit (BTU) | E29: Item | F29: 2 | G29: 3 | H29: =G29*F29 -> 6
B30: 3B-1.4 | D30: Major Service Cost : Price per Annually Service / Inspection per machine, as per tasks from the Annually Service Inspection Guideline in C6.
B31: 3B-1.4.1 | D31: 400kVA Transformer | E31: Item | F31: 1 | G31: 4 | H31: =G31*F31 -> 4
B32: 3B-1.4.2 | D32: 400kVA Mini-substation | E32: Item | F32: 2 | G32: 4 | H32: =G32*F32 -> 8
B33: 3B-1.4.3 | D33: 315kVA Mini-substation | E33: Item | F33: 1 | G33: 4 | H33: =G33*F33 -> 4
B34: 3B-1.4.4 | D34: MV Switchgear (Isolator, Circuit breaker) | E34: Item | F34: 4 | G34: 4 | H34: =G34*F34 -> 16
B35: 3B-1.4.5 | D35: Battery Tripping Unit (BTU) | E35: Item | F35: 2 | G35: 4 | H35: =G35*F35 -> 8
B36: 3B-1.4.6 | D36: REPLACEMENT OF LUBRICATING OIL: Oil found to be contaminated after tests shall be replacement with new oil appropriate for the affected equipment. The price shall include removal of contaminated oil from site and disposal of such | E36: Per Litre | F36: 300
D37: Settlers Hospital: Transformer
B38: 3B-1.5 | D38: Minor Service Cost : Price for Six Monthly Inspections per asset, as per Six Monthly Service Inspection Guideline in C6.
B39: 3B-1.5.1 | D39: 400kVA Transformer | E39: Item | F39: 2 | G39: 3 | H39: =G39*F39 -> 6
B40: 3B-1.5.2 | D40: 315kVA Mini-substation | E40: Item | F40: 1 | G40: 3 | H40: =G40*F40 -> 3
B41: 3B-1.5.3 | D41: MV Switchgear (Isolator, Circuit breaker) | E41: Item | F41: 4 | G41: 3 | H41: =G41*F41 -> 12
B42: 3B-1.5.4 | D42: Battery Tripping Unit (BTU) | E42: Item | F42: 2 | G42: 3 | H42: =G42*F42 -> 6
...

Sheet SCHEDULE 4
B2: =[1]SUMMARY!B2 -> SCHEDULED MAINTENANCE AND REPAIRS OF MV EQUIPMENT
B3: CONTRACT REF. NO: | D3: =+SUMMARY!D4 -> SCMU3-24/25-0461-HO | E3: Cluster/District: | G3: Nelson Mandela Metro & Sarah Baartman
B4: ASSET TYPE: | D4: ='[1]SCHED 1A-1_NM'!D4 -> MEDIUM VOLTAGE EQUIPMENT
B6: SCHEDULE 4 : | D6: TERM REPAIRS SUBJECT TO APPROVAL OF QUOTATION OF THE WORKS
B8: ITEM Nr. | C8: PAYMENT REFERS | D8: DESCRIPTION | E8: UNIT | F8: QTY | G8: RATE | H8: AMOUNT
B9: 4.1 | C9: GM 2.8 | D9: LABOUR RATES APPLICABLE TO UNSCHEDULED WORK: Labour rates that Contractor will charge for additional adhoc work that is not contained in Schedules 1 to 3.
B10: 4.1.1 | D10: Electrical Maintenance Supervisor | E10: Hr | F10: 300
B11: 4.1.2 | D11: Artisan (Trade Tested) | E11: Hr | F11: 430
B12: 4.1.3 | D12: Artisan Aid | E12: Hr | F12: 500
B14: 4.2 | C14: GM 2.8.3 | D14: TRAVELLING : Travelling cost will be as per the rates for reimbursable expenses published monthly by the National Department of Public Works at the time of rendering the service/repair. (To be paid on proven cost)
B15: 4.2.1 | D15: Vehicle Travelling Estimate | E15: Km | F15: 110000
B16: 4.3 | C16: GM 2.8.3 | D16: ACCOMMODATION AND SUBSISTENCE : Daily Rates per person that the Contractor will claim for approved trips lasting more than one day at a time. (To be paid on proven cost)
B17: 4.3.1 | D17: Accommodation | E17: Per/night | F17: 60
B19: 4.4 | C19: GM 2.5, GM 2.8.1 & GM 2.10.3 | D19: PROVISION TO COVER REPAIRS DURING THE TERM OF THE CONTRACT : Lump Sum Provision to cover repairs and breakdowns during the course of the Contract in addition to the agreed routine servicing of the Assets. | E19: PSum | F19: 1 | G19: 4000000 | H19: =G19 -> 4000000
B20: 4.4.1 | C20: GM 2.8.1 & Clause 11.2(8) | D20: DIRECT FEE PERCENTAGE (MARK-UP) ON MATERIALS AND SERVICES THAT IS NOT INCLUDED IN PRICE LISTS : Mark-up on proven cost for materials and/or Outsourced Services based on the Provisional sum listed in Item 4.4 above. (Apply % to provisional sum in Item 4 above when pricing the tender) | E20: %
B27: TOTAL CARRIED FORWARD TO SUMMARY | H27: =SUM(H10:H20) -> 4000000

Sheet WORK ORDERS  01 LAETITIA BAM CH
A9: QUOTE TO : | F9: Qoute No | H9: 1
A10: Department of Health | F10: Date | H10: 43770
A11: 717 Dukumbana Building | F11: Facility | H11: LAETITIA BAM CHC
A12: Independent Avenue | F12: Work Order | H12: 39138
A13: Bhisho | F13: Tender No | H13: SCMU3 - 17/18-0303 - HO
F14: Contract Term | H14: 24 MONTHS
A15: WORK REQUEST : Generator is faulty.
A16: SCHEDULED WORK
A17: Item 1 | B17: Discription | E17: Unit | F17: Sch No | G17: Quantity | H17: Rate | I17: Amount
I18: =SUM(G18*H18) -> 0
I19: =SUM(G19*H19) -> 0
I20: =SUM(G20*H20) -> 0
A21: Sub Total A | I21: =SUM(I18:I20) -> 0
A22: NON SCHEDULED WORK
A23: Item 2 | B23: Discription | F23: Quantity | G23: Mark -Up | H23: Rate | I23: Amount
A24: 1 | B24: RELAY 11 PIN 12V DC | F24: 2 | G24: 0.15 | H24: 110 | I24: =H24*F24*1.15 -> 253
A25: 2 | B25: RELAY BASE | F25: 2 | G25: 0.15 | H25: 65 | I25: =H25*F25*1.15 -> 149.5
A26: 3 | B26: DEEPSEA CONTROLLER | F26: 1 | G26: 0.15 | H26: 6239 | I26: =H26*F26*1.15 -> 7174.85
A27: 4 | B27: MCB 6A SP | F27: 2 | G27: 0.15 | H27: 21.6 | I27: =H27*F27*1.15 -> 49.68
A28: 5 | B28: RED STOP TWIST RELEASE | F28: 2 | G28: 0.15 | H28: 65.5 | I28: =H28*F28*1.15 -> 150.65
A29: 6 | B29: CONTACT BLOCK 1N/0 + 1N/C | F29: 2 | G29: 0.15 | H29: 68.5 | I29: =H29*F29*1.15 -> 157.55
A32: Sub Total B | I32: =SUM(I24:I31) -> 7935.23
A33: LABOUR
A34: Item 3 | B34: (Normal Rate) | E34: Unit | G34: Quantity | H34: Rate | I34: Amount
A35: 1 | B35: Techinician | E35: HRS | G35: 15 | H35: 450 | I35: =SUM(G35*H35) -> 6750
A36: 2 | B36: Senior Artisan | E36: HRS | H36: 350 | I36: =SUM(G36*H36) -> 0
A37: 3 | B37: Artisan (Trade Tested) | E37: HRS | H37: 300 | I37: =SUM(G37*H37) -> 0
A38: 4 | B38: Utility Man (Non - Trade Tested) | E38: HRS | G38: 15 | H38: 200 | I38: =SUM(G38*H38) -> 3000
A39: 5 | B39: Artisan Aid | E39: HRS | H39: 200 | I39: =SUM(G39*H39) -> 0
A40: 6 | B40: General Worker | E40: HRS | H40: 140 | I40: =SUM(G40*H40) -> 0
A44: Sub Total C | I44: =SUM(I35:I43) -> 9750
A45: TRANSPORT
A46: Item 4 | B46: Destinantion | E46: No of Trips | G46: KMs | H46: Rate | I46: Amount
A47: 12 | B47: Port Elizabeth office to Laetitia Bam
B48: CHC and back. | E48: 2 | G48: 154.4 | H48: 5 | I48: =H48*G48 -> 772
A50: Sub Total D | I50: =SUM(I47:I49) -> 772
G52: Sub Total (A+B+C+D) | I52: =I50+I44+I32+I21 -> 18457.23
G54: Sub Total | I54: =I52+I53 -> 18457.23

Sheet JOSE PEARSON TB HOSPITAL (02)
A9: QUOTE TO : | F9: Qoute No | H9: 2
A10: Department of Health | F10: Date | H10: 43498
A11: 717 Dukumbana Building | F11: Facility | H11: JOSE PEARSON TB HOSPITAL
A12: Independent Avenue | F12: Work Order | H12: 40578
A13: Bhisho | F13: Tender No | H13: SCMU3 - 17/18-0303 - HO
F14: Contract Term | H14: 24 MONTHS
A15: WORK REQUEST : Phamarcy building dep needs to be connected to the gen
A16: SCHEDULED WORK
A17: Item 1 | B17: Discription | E17: Unit | F17: Sch No | G17: Quantity | H17: Rate | I17: Amount
I18: =SUM(G18*H18) -> 0
I19: =SUM(G19*H19) -> 0
I20: =SUM(G20*H20) -> 0
A21: Sub Total A | I21: =SUM(I18:I20) -> 0
A22: NON SCHEDULED WORK
A23: Item 2 | B23: Discription | F23: Quantity | G23: MarK UP | H23: Rate | I23: Amount
A32: Sub Total B | I32: =SUM(I24:I31) -> 0
A33: LABOUR
A34: Item 3 | B34: (Normal Rate) | E34: Unit | G34: Quantity | H34: Rate | I34: Amount
A35: 1 | B35: Techinician | E35: HRS | G35: 6 | H35: 450 | I35: =SUM(G35*H35) -> 2700
A36: 2 | B36: Senior Artisan | E36: HRS | H36: 350 | I36: =SUM(G36*H36) -> 0
A37: 3 | B37: Artisan (Trade Tested) | E37: HRS | H37: 300 | I37: =SUM(G37*H37) -> 0
A38: 4 | B38: Utility Man (Non - Trade Tested) | E38: HRS | G38: 6 | H38: 200 | I38: =SUM(G38*H38) -> 1200
A39: 5 | B39: Artisan Aid | E39: HRS | H39: 200 | I39: =SUM(G39*H39) -> 0
A40: 6 | B40: General Worker | E40: HRS | H40: 140 | I40: =SUM(G40*H40) -> 0
A44: Sub Total C | I44: =SUM(I35:I43) -> 3900
A45: TRANSPORT
A46: Item 4 | B46: Destinantion | E46: No of Trips | G46: KMs | H46: Rate | I46: Amount
A47: 12 | B47: Port Elizabeth office to Jose Pearson
B48: TB Hospital and back. | E48: 1 | G48: 47 | H48: 5 | I48: =H48*G48 -> 235
A50: Sub Total D | I50: =SUM(I47:I49) -> 235
G52: Sub Total (A+B+C+D) | I52: =I50+I44+I32+I21 -> 4135
G54: Sub Total | I54: =I52 -> 4135

Sheet NEW BRIGHTON MORTUARY (03)
A9: QUOTE TO : | F9: Qoute No | H9: 3
A10: Department of Health | F10: Date | H10: 43801
A11: 717 Dukumbana Building | F11: Facility | H11: NEW BRIGHTON MORTUARY
A12: Independent Avenue | F12: Work Order | H12: 41253
A13: Bhisho | F13: Tender No | H13: SCMU3 - 17/18-0303 - HO
F14: Contract Term | H14: 24 MONTHS
A15: WORK REQUEST : Gen does not start.
A16: SCHEDULED WORK
A17: Item 1 | B17: Discription | E17: Unit | F17: Sch No | G17: Quantity | H17: Rate | I17: Amount
I18: =SUM(G18*H18) -> 0
I19: =SUM(G19*H19) -> 0
I20: =SUM(G20*H20) -> 0
A21: Sub Total A | I21: =SUM(I18:I20) -> 0
A22: NON SCHEDULED WORK
A23: Item 2 | B23: Discription | F23: Quantity | G23: MarK UP | H23: Rate | I23: Amount
A32: Sub Total B | I32: =SUM(I24:I31) -> 0
A33: LABOUR
A34: Item 3 | B34: (Normal Rate) | E34: Unit | G34: Quantity | H34: Rate | I34: Amount
A35: 1 | B35: Techinician | E35: HRS | G35: 1.5 | H35: 450 | I35: =SUM(G35*H35) -> 675
A36: 2 | B36: Senior Artisan | E36: HRS | H36: 350 | I36: =SUM(G36*H36) -> 0
A37: 3 | B37: Artisan (Trade Tested) | E37: HRS | H37: 300 | I37: =SUM(G37*H37) -> 0
A38: 4 | B38: Utility Man (Non - Trade Tested) | E38: HRS | G38: 1.5 | H38: 200 | I38: =SUM(G38*H38) -> 300
A39: 5 | B39: Artisan Aid | E39: HRS | H39: 200 | I39: =SUM(G39*H39) -> 0
A40: 6 | B40: General Worker | E40: HRS | H40: 140 | I40: =SUM(G40*H40) -> 0
A44: Sub Total C | I44: =SUM(I35:I43) -> 975
A45: TRANSPORT
A46: Item 4 | B46: Destinantion | E46: No of Trips | G46: KMs | H46: Rate | I46: Amount
A47: 12 | B47: Port Elizabeth office to New Brighton
B48: Mortuary and back. | E48: 1 | G48: 21.4 | H48: 5 | I48: =H48*G48 -> 107
A50: Sub Total D | I50: =SUM(I47:I49) -> 107
G52: Sub Total (A+B+C+D) | I52: =I50+I44+I32+I21 -> 1082
G54: Sub Total | I54: =I52+I53 -> 1082

Sheet DORA NGIZA HOSPITAL (04)
A9: QUOTE TO : | F9: Qoute No | H9: 4
A10: Department of Health | F10: Date | H10: 43771
A11: 717 Dukumbana Building | F11: Facility | H11: DORA NGINZA HOSPITAL
A12: Independent Avenue | F12: Work Order | H12: 41177
A13: Bhisho | F13: Tender No | H13: SCMU3 - 17/18-0303 - HO
F14: Contract Term | H14: 24 MONTHS
A15: WORK REQUEST : Request to repair faulty cable connecting to thechange over switch.
A16: SCHEDULED WORK
A17: Item 1 | B17: Discription | E17: Unit | F17: Sch No | G17: Quantity | H17: Rate | I17: Amount
I18: =SUM(G18*H18) -> 0
I19: =SUM(G19*H19) -> 0
I20: =SUM(G20*H20) -> 0
A21: Sub Total A | I21: =SUM(I18:I20) -> 0
A22: NON SCHEDULED WORK
A23: Item 2 | B23: Discription | F23: Quantity | G23: Mark - Up | H23: Rate | I23: Amount
A24: 1 | B24: ELECTRO PHASE FAILER RELAY 400V | F24: 1 | G24: 0.15 | H24: 396 | I24: =H24*F24*1.15 -> 455.4
A25: 2 | B25: 10 X 38mm FUSE 100KVA | F25: 1 | G25: 0.15 | H25: 12 | I25: =H25*F25*1.15 -> 13.8
A32: Sub Total B | I32: =SUM(I24:I31) -> 469.2
A33: LABOUR
A34: Item 3 | B34: (Normal Rate) | E34: Unit | G34: Quantity | H34: Rate | I34: Amount
A35: 1 | B35: Techinician | E35: HRS | G35: 2 | H35: 450 | I35: =SUM(G35*H35) -> 900
A36: 2 | B36: Senior Artisan | E36: HRS | H36: 350 | I36: =SUM(G36*H36) -> 0
A37: 3 | B37: Artisan (Trade Tested) | E37: HRS | H37: 300 | I37: =SUM(G37*H37) -> 0
A38: 4 | B38: Utility Man (Non - Trade Tested) | E38: HRS | G38: 2 | H38: 200 | I38: =SUM(G38*H38) -> 400
A39: 5 | B39: Artisan Aid | E39: HRS | H39: 200 | I39: =SUM(G39*H39) -> 0
A40: 6 | B40: General Worker | E40: HRS | H40: 140 | I40: =SUM(G40*H40) -> 0
A44: Sub Total C | I44: =SUM(I35:I43) -> 1300
A45: TRANSPORT
A46: Item 4 | B46: Destinantion | E46: No of Trips | G46: KMs | H46: Rate | I46: Amount
A47: 1 | B47: Port Elizabeth office to Dora Nginza
B48: Hospital and back. | E48: 1 | G48: 28.6 | H48: 5 | I48: =H48*G48 -> 143
A50: Sub Total D | I50: =SUM(I47:I49) -> 143
G52: Sub Total (A+B+C+D) | I52: =I50+I44+I32+I21 -> 1912.2
G54: Sub Total | I54: =I52+I53 -> 1912.2

Sheet LAETITIA BAM CHC (05)
A9: QUOTE TO : | F9: Qoute No | H9: 5
A10: Department of Health | F10: Date | H10: 43740
A11: 717 Dukumbana Building | F11: Facility | H11: LAETITIA BAM CHC
A12: Independent Avenue | F12: Work Order | H12: 41140
A13: Bhisho | F13: Tender No | H13: SCMU3 - 17/18-0303 - HO
F14: Contract Term | H14: 24 MONTHS
A15: WORK REQUEST : Gen did not start.
A16: SCHEDULED WORK
A17: Item 1 | B17: Discription | E17: Unit | F17: Sch No | G17: Quantity | H17: Rate | I17: Amount
I18: =SUM(G18*H18) -> 0
I19: =SUM(G19*H19) -> 0
I20: =SUM(G20*H20) -> 0
A21: Sub Total A | I21: =SUM(I18:I20) -> 0
A22: NON SCHEDULED WORK
A23: Item 2 | B23: Discription | F23: Quantity | H23: Rate | I23: Amount
A32: Sub Total B | I32: =SUM(I24:I31) -> 0
A33: LABOUR
A34: Item 3 | B34: (Normal Rate) | E34: Unit | G34: Quantity | H34: Rate | I34: Amount
A35: 1 | B35: Techinician | E35: HRS | G35: 1 | H35: 450 | I35: =SUM(G35*H35) -> 450
A36: 2 | B36: Senior Artisan | E36: HRS | H36: 350 | I36: =SUM(G36*H36) -> 0
A37: 3 | B37: Artisan (Trade Tested) | E37: HRS | H37: 300 | I37: =SUM(G37*H37) -> 0
A38: 4 | B38: Utility Man (Non - Trade Tested) | E38: HRS | G38: 1 | H38: 200 | I38: =SUM(G38*H38) -> 200
A39: 5 | B39: Artisan Aid | E39: HRS | H39: 200 | I39: =SUM(G39*H39) -> 0
A40: 6 | B40: General Worker | E40: HRS | H40: 140 | I40: =SUM(G40*H40) -> 0
A44: Sub Total C | I44: =SUM(I35:I43) -> 650
A45: TRANSPORT
A46: Item 4 | B46: Destinantion | E46: No of Trips | G46: KMs | H46: Rate | I46: Amount
A47: 1 | B47: Port Elizabeth office to Laetitia Bam
B48: CHC and back. | E48: 1 | G48: 77.2 | H48: 5 | I48: =H48*G48 -> 386
A50: Sub Total D | I50: =SUM(I47:I49) -> 386
G52: Sub Total (A+B+C+D) | I52: =I50+I44+I32+I21 -> 1036
G54: Sub Total | I54: =I52+I53 -> 1036

Sheet MOTHERWELL CHC (06)
A9: QUOTE TO : | F9: Qoute No | H9: 6
A10: Department of Health | F10: Date | H10: 13/2/2019
A11: 717 Dukumbana Building | F11: Facility | H11: MOTHERWELL CHC
A12: Independent Avenue | F12: Work Order | H12: 41408
A13: Bhisho | F13: Tender No | H13: SCMU3 - 17/18-0303 - HO
F14: Contract Term | H14: 24 MONTHS
A15: WORK REQUEST : Request to repair gen ,not staring.
A16: SCHEDULED WORK
A17: Item 1 | B17: Discription | E17: Unit | F17: Sch No | G17: Quantity | H17: Rate | I17: Amount
I18: =SUM(G18*H18) -> 0
I19: =SUM(G19*H19) -> 0
I20: =SUM(G20*H20) -> 0
A21: Sub Total A | I21: =SUM(I18:I20) -> 0
A22: NON SCHEDULED WORK
A23: Item 2 | B23: Discription | F23: Quantity | H23: Rate | I23: Amount
A32: Sub Total B | I32: =SUM(I24:I31) -> 0
A33: LABOUR
A34: Item 3 | B34: (Normal Rate) | E34: Unit | G34: Quantity | H34: Rate | I34: Amount
A35: 1 | B35: Techinician | E35: HRS | G35: 1 | H35: 450 | I35: =SUM(G35*H35) -> 450
A36: 2 | B36: Senior Artisan | E36: HRS | H36: 350 | I36: =SUM(G36*H36) -> 0
A37: 3 | B37: Artisan (Trade Tested) | E37: HRS | H37: 300 | I37: =SUM(G37*H37) -> 0
A38: 4 | B38: Utility Man (Non - Trade Tested) | E38: HRS | G38: 1 | H38: 200 | I38: =SUM(G38*H38) -> 200
A39: 5 | B39: Artisan Aid | E39: HRS | H39: 200 | I39: =SUM(G39*H39) -> 0
A40: 6 | B40: General Worker | E40: HRS | H40: 140 | I40: =SUM(G40*H40) -> 0
A44: Sub Total C | I44: =SUM(I35:I43) -> 650
A45: TRANSPORT
A46: Item 4 | B46: Destinantion | E46: No of Trips | G46: KMs | H46: Rate | I46: Amount
A47: 12 | B47: Port Elizabeth office to Motherwell
B48: CHC and back. | E48: 1 | G48: 48.8 | H48: 5 | I48: =H48*G48 -> 244
A50: Sub Total D | I50: =SUM(I47:I49) -> 244
G52: Sub Total (A+B+C+D) | I52: =I50+I44+I32+I21 -> 894
G54: Sub Total | I54: =I52+I53 -> 894

Sheet MOTHERWEL CHC (07)
A9: QUOTE TO : | F9: Qoute No | H9: 7
A10: Department of Health | F10: Date | H10: 18/2/2019
A11: 717 Dukumbana Building | F11: Facility | H11: MOTHERWELL CHC
A12: Independent Avenue | F12: Work Order | H12: 43238
A13: Bhisho | F13: Tender No | H13: SCMU3 - 17/18-0303 - HO
F14: Contract Term | H14: 24 MONTHS
A15: WORK REQUEST : Repair to faulty gen keeps on tripping.
A16: SCHEDULED WORK
A17: Item 1 | B17: Discription | E17: Unit | F17: Sch No | G17: Quantity | H17: Rate | I17: Amount
I18: =SUM(G18*H18) -> 0
I19: =SUM(G19*H19) -> 0
I20: =SUM(G20*H20) -> 0
A21: Sub Total A | I21: =SUM(I18:I20) -> 0
A22: NON SCHEDULED WORK
A23: Item 2 | B23: Discription | F23: Quantity | H23: Rate | I23: Amount
A32: Sub Total B | I32: =SUM(I24:I31) -> 0
A33: LABOUR
A34: Item 3 | B34: (Normal Rate) | E34: Unit | G34: Quantity | H34: Rate | I34: Amount
A35: 1 | B35: Techinician | E35: HRS | G35: 1.5 | H35: 450 | I35: =SUM(G35*H35) -> 675
A36: 2 | B36: Senior Artisan | E36: HRS | H36: 350 | I36: =SUM(G36*H36) -> 0
A37: 3 | B37: Artisan (Trade Tested) | E37: HRS | H37: 300 | I37: =SUM(G37*H37) -> 0
A38: 4 | B38: Utility Man (Non - Trade Tested) | E38: HRS | G38: 1.5 | H38: 200 | I38: =SUM(G38*H38) -> 300
A39: 5 | B39: Artisan Aid | E39: HRS | H39: 200 | I39: =SUM(G39*H39) -> 0
A40: 6 | B40: General Worker | E40: HRS | H40: 140 | I40: =SUM(G40*H40) -> 0
A44: Sub Total C | I44: =SUM(I35:I43) -> 975
A45: TRANSPORT
A46: Item 4 | B46: Destinantion | E46: No of Trips | G46: KMs | H46: Rate | I46: Amount
A47: 1 | B47: Port Elizabeth office to Motherwell
B48: CHC and back. | E48: 1 | G48: 48.8 | H48: 5 | I48: =H48*G48 -> 244
A50: Sub Total D | I50: =SUM(I47:I49) -> 244
G52: Sub Total (A+B+C+D) | I52: =I50+I44+I32+I21 -> 1219
G54: Sub Total | I54: =I52+I53 -> 1219

Sheet ORSMOND TB HOSPITAL (08)
A9: QUOTE TO : | F9: Qoute No | H9: 8
A10: Department of Health | F10: Date | H10: 16/2/2019
A11: 717 Dukumbana Building | F11: Facility | H11: ORSMOND TB HOSPITAL
A12: Independent Avenue | F12: Work Order | H12: 43191
A13: Bhisho | F13: Tender No | H13: SCMU3 - 17/18-0303 - HO
F14: Contract Term | H14: 24 MONTHS
A15: WORK REQUEST : Gen faulty.
A16: SCHEDULED WORK
A17: Item 1 | B17: Discription | E17: Unit | F17: Sch No | G17: Quantity | H17: Rate | I17: Amount
I18: =SUM(G18*H18) -> 0
I19: =SUM(G19*H19) -> 0
I20: =SUM(G20*H20) -> 0
A21: Sub Total A | I21: =SUM(I18:I20) -> 0
A22: NON SCHEDULED WORK
A23: Item 2 | B23: Discription | F23: Quantity | G23: Mark - Up | H23: Rate | I23: Amount
A32: Sub Total B | I32: =SUM(I24:I31) -> 0
A33: LABOUR
A34: Item 3 | B34: (Normal Rate) | E34: Unit | G34: Quantity | H34: Rate | I34: Amount
A35: 1 | B35: Techinician | E35: HRS | G35: 2.5 | H35: 450 | I35: =SUM(G35*H35) -> 1125
A36: 2 | B36: Senior Artisan | E36: HRS | H36: 350 | I36: =SUM(G36*H36) -> 0
A37: 3 | B37: Artisan (Trade Tested) | E37: HRS | H37: 300 | I37: =SUM(G37*H37) -> 0
A38: 4 | B38: Utility Man (Non - Trade Tested) | E38: HRS | G38: 2.5 | H38: 200 | I38: =SUM(G38*H38) -> 500
A39: 5 | B39: Artisan Aid | E39: HRS | H39: 200 | I39: =SUM(G39*H39) -> 0
A40: 6 | B40: General Worker | E40: HRS | H40: 140 | I40: =SUM(G40*H40) -> 0
A44: Sub Total C | I44: =SUM(I35:I43) -> 1625
A45: TRANSPORT
A46: Item 4 | B46: Destinantion | E46: No of Trips | G46: KMs | H46: Rate | I46: Amount
A47: 1 | B47: Port Elizabeth office to Orsmmon TB hospital
B48: and back. | E48: 1 | G48: 81.4 | H48: 5 | I48: =H48*G48 -> 407
A50: Sub Total D | I50: =SUM(I47:I49) -> 407
G52: Sub Total (A+B+C+D) | I52: =I50+I44+I32+I21 -> 2032
G54: Sub Total | I54: =I52+I53 -> 2032

Sheet JOSE PEARSON TB HOSPITAL (09)
A9: QUOTE TO : | F9: Qoute No | H9: 9
A10: Department of Health | F10: Date | H10: 43618
A11: 717 Dukumbana Building | F11: Facility | H11: JOSE PEARSON TB HOSPITAL
A12: Independent Avenue | F12: Work Order | H12: 42608
A13: Bhisho | F13: Tender No | H13: SCMU3 - 17/18-0303 - HO
F14: Contract Term | H14: 24 MONTHS
A15: WORK REQUEST : Repair to a faulty gen and diesel pump.
A16: SCHEDULED WORK
A17: Item 1 | B17: Discription | E17: Unit | F17: Sch No | G17: Quantity | H17: Rate | I17: Amount
I18: =SUM(G18*H18) -> 0
I19: =SUM(G19*H19) -> 0
I20: =SUM(G20*H20) -> 0
A21: Sub Total A | I21: =SUM(I18:I20) -> 0
A22: NON SCHEDULED WORK
A23: Item 2 | B23: Discription | F23: Quantity | G23: Mark -Up | H23: Rate | I23: Amount
A24: 1 | B24: ROTARY PUMP | F24: 1 | G24: 0.15 | H24: 239.13 | I24: =H24*F24*1.15 -> 274.9995
A25: 2 | B25: BOND ADHESIVE | F25: 1 | G25: 0.15 | H25: 52.17 | I25: =H25*F25*1.15 -> 59.9955
A32: Sub Total B | I32: =SUM(I24:I31) -> 334.995
A33: LABOUR
A34: Item 3 | B34: (Normal Rate) | E34: Unit | G34: Quantity | H34: Rate | I34: Amount
A35: 1 | B35: Techinician | E35: HRS | G35: 2 | H35: 450 | I35: =SUM(G35*H35) -> 900
A36: 2 | B36: Senior Artisan | E36: HRS | H36: 350 | I36: =SUM(G36*H36) -> 0
A37: 3 | B37: Artisan (Trade Tested) | E37: HRS | H37: 300 | I37: =SUM(G37*H37) -> 0
A38: 4 | B38: Utility Man (Non - Trade Tested) | E38: HRS | G38: 2 | H38: 200 | I38: =SUM(G38*H38) -> 400
A39: 5 | B39: Artisan Aid | E39: HRS | H39: 200 | I39: =SUM(G39*H39) -> 0
A40: 6 | B40: General Worker | E40: HRS | H40: 140 | I40: =SUM(G40*H40) -> 0
A44: Sub Total C | I44: =SUM(I35:I43) -> 1300
A45: TRANSPORT
A46: Item 4 | B46: Destinantion | E46: No of Trips | G46: KMs | H46: Rate | I46: Amount
A47: 1 | B47: Port Elizabeth office to Jose Pearson
B48: TB and back. | E48: 1 | G48: 47 | H48: 5 | I48: =H48*G48 -> 235
A50: Sub Total D | I50: =SUM(I47:I49) -> 235
G52: Sub Total (A+B+C+D) | I52: =I50+I44+I32+I21 -> 1869.995
G54: Sub Total | I54: =I52+I53 -> 1869.995

Sheet LIVINGSTONE HOSPITAL (10)
A9: QUOTE TO : | F9: Qoute No | H9: 10
A10: Department of Health | F10: Date | H10: 43619
A11: 717 Dukumbana Building | F11: Facility | H11: LIVINGSTONE HOSPITAL
A12: Independent Avenue | F12: Work Order | H12: 42600
A13: Bhisho | F13: Tender No | H13: SCMU3 - 17/18-0303 - HO
F14: Contract Term | H14: 24 MONTHS
A15: WORK REQUEST : Repair to faulty gen.
A16: SCHEDULED WORK
A17: Item 1 | B17: Discription | E17: Unit | F17: Sch No | G17: Quantity | H17: Rate | I17: Amount
I18: =SUM(G18*H18) -> 0
I19: =SUM(G19*H19) -> 0
I20: =SUM(G20*H20) -> 0
A21: Sub Total A | I21: =SUM(I18:I20) -> 0
A22: NON SCHEDULED WORK
A23: Item 2 | B23: Discription | F23: Quantity | G23: Mark - Up | H23: Rate | I23: Amount
A24: 1 | B24: BATTERY 689 SHD | F24: 4 | G24: 0.15 | H24: 3346 | I24: =H24*F24*1.15 -> 15391.6
A25: 2 | B25: BATTERY 689 | F25: 4 | G25: 0.15 | H25: 2213 | I25: =H25*F25*1.15 -> 10179.8
A32: Sub Total B | I32: =SUM(I24:I31) -> 25571.4
A33: LABOUR
A34: Item 3 | B34: (Normal Rate) | E34: Unit | G34: Quantity | H34: Rate | I34: Amount
A35: 1 | B35: Techinician | E35: HRS | G35: 4 | H35: 450 | I35: =SUM(G35*H35) -> 1800
A36: 2 | B36: Senior Artisan | E36: HRS | H36: 350 | I36: =SUM(G36*H36) -> 0
A37: 3 | B37: Artisan (Trade Tested) | E37: HRS | H37: 300 | I37: =SUM(G37*H37) -> 0
A38: 4 | B38: Utility Man (Non - Trade Tested) | E38: HRS | G38: 4 | H38: 200 | I38: =SUM(G38*H38) -> 800
A39: 5 | B39: Artisan Aid | E39: HRS | H39: 200 | I39: =SUM(G39*H39) -> 0
A40: 6 | B40: General Worker | E40: HRS | H40: 140 | I40: =SUM(G40*H40) -> 0
A44: Sub Total C | I44: =SUM(I35:I43) -> 2600
A45: TRANSPORT
A46: Item 4 | B46: Destinantion | E46: No of Trips | G46: KMs | H46: Rate | I46: Amount
A47: 1 | B47: Port Elizabeth office to Livingstone
B48: Hospital and back. | E48: 1 | G48: 23 | H48: 5 | I48: =H48*G48 -> 115
