Workbook

Sheet itemised billing
A1: PRICING SCHEDULE: • SUPPORT GRADE 12 LEARNERS FROM IDENTIFIED SCHOOLS ACROSS THE PROVINCE FOR A PERIOD OF THREE (3) YEARS FROM THE DATE OF APPROVAL
A3: ➢ The number of learners will vary each year. The department reserves the right to either reduce or increase the number of: schools, learners, sessions (days), and subjects based on affordability.
A4: ➢ Price must be all inclusive (e.g. learner support interventions, resources needed (e.g. study guides/material, tuition, meals, etc) to conduct the sessions, management of programs and reports.
A6: Costing should include VAT. No extra costs will be paid.
A7: (NB: One day = 8 hours)
A9: ITEM NUMBER | B9: SUGGESTED ACTIVITIES FOR THE COMPREHENSIVE SUPPORT PROGRAM | C9: TIME FRAMES AND DETAIL BREAKDOWNS | D9: YEAR ONE | F9: YEAR TWO | H9: YEAR THREE
D10: PRICE | F10: PRICE | H10: PRICE
B11: ESTIMATED NUMBER OF LEARNERS PER YEAR | D11: 6000 | F11: 6000 | H11: 6000
D12: Price per learner per day | E12: Price for total number of learners for total number of days | F12: Price per learner per day | G12: Price for total number of learners for total number of days | H12: Price per learner per day | I12: Price for total number of learners for total number of days
A13: 1.1 | B13: Extra Academic support program | C13: 05 days Autumn Support | D13: 05 days Autumn Support
C14: Catering(lunch) | E14: =SUM(D14*5*6000) -> 0 | G14: =SUM(F14*5*6000) -> 0 | I14: =SUM(H14*5*6000) -> 0
C15: Tutoring | E15: =SUM(D15*5*6000) -> 0 | G15: =SUM(F15*5*6000) -> 0 | I15: =SUM(H15*5*6000) -> 0
C16: Material | E16: =SUM(D16*6000) -> 0 | G16: =SUM(F16*6000) -> 0 | I16: =SUM(H16*6000) -> 0
C17: Venues and facilities | E17: =SUM(D17*5*6000) -> 0 | G17: =SUM(F17*5*6000) -> 0 | I17: =SUM(H17*5*6000) -> 0
C18: TOTAL | D18: =SUM(D14:D17) -> 0 | E18: =SUM(E14:E17) -> 0 | F18: =SUM(F14:F17) -> 0 | G18: =SUM(G14:G17) -> 0 | H18: =SUM(H14:H17) -> 0 | I18: =SUM(I14:I17) -> 0
C19: 10 days Winter Camp | D19: 10 days Winter Camp
C20: Catering(breakfast;lunch;dinner) | E20: =SUM(D20*10*6000) -> 0 | G20: =SUM(F20*10*6000) -> 0 | I20: =SUM(H20*10*6000) -> 0
C21: Tutoring | E21: =SUM(D21*10*6000) -> 0 | G21: =SUM(F21*10*6000) -> 0 | I21: =SUM(H21*10*6000) -> 0
C22: Material | E22: =SUM(D22*6000) -> 0 | G22: =SUM(F22*6000) -> 0 | I22: =SUM(H22*6000) -> 0
C23: Venues and facilities | E23: =SUM(D23*10*6000) -> 0 | G23: =SUM(F23*10*6000) -> 0 | I23: =SUM(H23*10*6000) -> 0
C24: TOTAL | D24: =SUM(D20:D23) -> 0 | E24: =SUM(E20:E23) -> 0 | F24: =SUM(F20:F23) -> 0 | G24: =SUM(G20:G23) -> 0 | H24: =SUM(H20:H23) -> 0 | I24: =SUM(I20:I23) -> 0
C25: 5 days Spring Camp | D25: 5 days Spring Camp
C26: Catering(breakfast, lunch,dinner) | E26: =SUM(D26*5*6000) -> 0 | G26: =SUM(F26*5*6000) -> 0 | I26: =SUM(H26*5*6000) -> 0
C27: Tutoring | E27: =SUM(D27*5*6000) -> 0 | G27: =SUM(F27*5*6000) -> 0 | I27: =SUM(H27*5*6000) -> 0
C28: Material | E28: =SUM(D28*6000) -> 0 | G28: =SUM(F28*6000) -> 0 | I28: =SUM(H28*6000) -> 0
C29: Venues and facilities | E29: =SUM(D29*5*6000) -> 0 | G29: =SUM(F29*5*6000) -> 0 | I29: =SUM(H29*5*6000) -> 0
C30: TOTAL | D30: =SUM(D26:D29) -> 0 | E30: =SUM(E26:E29) -> 0 | F30: =SUM(F26:F29) -> 0 | G30: =SUM(G26:G29) -> 0 | H30: =SUM(H26:H29) -> 0 | I30: =SUM(I26:I29) -> 0
A31: 1.2 | B31: Revision program/last push | C31: 10 days | D31: Revision program/last push 10 days
C32: Catering(lunch) | E32: =SUM(D32*10*6000) -> 0 | G32: =SUM(F32*10*6000) -> 0 | I32: =SUM(H32*10*6000) -> 0
C33: Tutoring | E33: =SUM(D33*10*6000) -> 0 | G33: =SUM(F33*10*6000) -> 0 | I33: =SUM(H33*10*6000) -> 0
C34: Material | E34: =SUM(D34*6000) -> 0 | G34: =SUM(F34*6000) -> 0 | I34: =SUM(H34*6000) -> 0
C35: TOTAL | D35: =SUM(D32:D34) -> 0 | E35: =SUM(E32:E34) -> 0 | F35: =SUM(F32:F34) -> 0 | G35: =SUM(G32:G34) -> 0 | H35: =SUM(H32:H34) -> 0 | I35: =SUM(I32:I34) -> 0
B36: TOTAL PER YEAR | D36: =SUM(D18,D24,D35,D30) -> 0 | E36: =SUM(E18,E24,E30,E35) -> 0 | F36: =SUM(F18,F24,F30,F35) -> 0 | G36: =SUM(G18,G24,G30,G35) -> 0 | H36: =SUM(H18,H24,H30,H35) -> 0 | I36: =SUM(I18,I24,I30,I35) -> 0
B38: GRAND TOTAL FOR THREE YEARS FOR ITEM 1.1. TO 1.2 | D38: =SUM(E36,G36,I36) -> 0
B41: COMPANY: _____________________________ SIGNATURE:____________________________________ | E41: DATE: | F41: ___________________

Sheet summary
A1: PRICING SCHEDULE: SUMMARY
A3: ➢ The number of learners will vary each year. The department reserves the right to either reduce or increase the number of: schools, learners, sessions (days), and subjects based on affordability.
A5: ➢ Price must be all inclusive (e.g. learner support interventions, resources needed (e.g. study guides/material, tuition, meals, etc) to conduct the sessions, management of programs and reports.
A7: Costing should include VAT. No extra costs will be paid.
A10: ITEM NUMBER | B10: SUGGESTED ACTIVITIES FOR THE COMPREHENSIVE SUPPORT PROGRAM | C10: TIME FRAMES | D10: YEAR ONE | F10: YEAR TWO | H10: YEAR THREE
D11: PRICE (ALL INCLUSIVE) | F11: PRICE (ALL INCLUSIVE) | H11: PRICE (ALL INCLUSIVE)
B12: ESTIMATED NUMBER OF LEARNERS PER YEAR | D12: 6000 | F12: 6000 | H12: 6000
D13: Price per learner per day | E13: Price for total number of learners for total number of days | F13: Price per learner per day | G13: Price for total number of learners for total number of days | H13: Price per learner per day | I13: Price for total number of learners for total number of days
A14: 1.1 | B14: Extra Academic support program | C14: 05 days Autumn Support | D14: ='itemised billing'!D18 -> 0 | E14: ='itemised billing'!E18 -> 0 | F14: ='itemised billing'!F18 -> 0 | G14: ='itemised billing'!G18 -> 0 | H14: ='itemised billing'!H18 -> 0 | I14: ='itemised billing'!I18 -> 0
C15: 10 days Winter Camp | D15: ='itemised billing'!D24 -> 0 | E15: ='itemised billing'!E24 -> 0 | F15: ='itemised billing'!F24 -> 0 | G15: ='itemised billing'!G24 -> 0 | H15: ='itemised billing'!H24 -> 0 | I15: ='itemised billing'!I24 -> 0
C16: 5 days Spring Camp | D16: ='itemised billing'!D30 -> 0 | E16: ='itemised billing'!E30 -> 0 | F16: ='itemised billing'!F30 -> 0 | G16: ='itemised billing'!G30 -> 0 | H16: ='itemised billing'!H30 -> 0 | I16: ='itemised billing'!I30 -> 0
A17: 1.2 | B17: Revision program/last push | C17: 10 days | D17: ='itemised billing'!D35 -> 0 | E17: ='itemised billing'!E35 -> 0 | F17: ='itemised billing'!F35 -> 0 | G17: ='itemised billing'!G35 -> 0 | H17: ='itemised billing'!H35 -> 0 | I17: ='itemised billing'!I35 -> 0
B19: TOTAL PER YEAR FOR TOTAL NUMBER OF LEARNERS | D19: =SUM(D14:D17) -> 0 | E19: =SUM(E14:E17) -> 0 | F19: =SUM(F14:F17) -> 0 | G19: =SUM(G14:G17) -> 0 | H19: =SUM(H14:H17) -> 0 | I19: =SUM(I14:I17) -> 0
B21: GRAND TOTAL FOR THREE YEARS FOR ITEM 1.1. TO 1.2 (WITH TOTAL | D21: =SUM(E19,G19,I19) -> 0
B26: COMPANY: _____________________________ SIGNATURE:____________________________________ | E26: DATE: | F26: ___________________
