Workbook

Sheet BUILDER'S WORK 
A1: ACTIVITY SCHEDULE: CONSTRUCTION OF BATTERY CHARGE FACILITY FOR GROUND SERVICE EQUIPMENT AT KSIA
A2: REF | B2: SCOPE | C2: UNIT | D2: QTY | E2: RATE | F2: AMOUNT
A3: 1 | B3: BUILDING WORKS
A4: 1.1 | B4: Preliminaries and General (Contractor to allow for Variable, Time Related and Fixed P&G Costs) | C4: % | D4: 0.1 | E4: =F6+F7+F8+F9+F10+F11+F12+F13+F14+F15+F16+F18+F19+F20+F21+F22+F23+F24 -> 0 | F4: =E4*D4 -> 0
A5: 1.2 | B5: Construction of a fully enclosed Airside situated +-4m High, 700m2 Floor Area ratio for Airport Ground Handlers Battery Charging Industrial Facility complete with all necessary elements and finishes (Rates to include cost of appropriate building services from sub structure to superstructure, site infrastructure development, all necessary finishes, vapour proof lighting on trunking, IEC compliant wiring, distribution boards, three phase industrial outlets with suitable cabling, hyrdrogen ventilation systems, fire detection and suppression systems)
A6: 1.2.1 | B6: SUBSTRUCTURE Allow for the construction of a suitable sub-structure from earthworks complete with durability -type reinforced concrete strip footings, ground beams, column bases, plinth finishes, rock excavation and all necessary sundries for the proposed structure 700m2 on plan +- 4m high. | C6: m2 | D6: 700 | E6: 0 | F6: =D6*E6 -> 0
A7: 1.2.2 | B7: GROUND FLOOR Construction of ground floor complete with solid floors, suitable insulation, steps,ramps, service ducts, trenches, pits and bases, sub surface drains, catch pits, sumps and pumps where necessary for the proposed structure 700m2 on plan +- 4m high | C7: m2 | D7: 700 | E7: 0 | F7: =D7*E7 -> 0
A8: 1.2.3 | B8: STRUCTURAL FRAME Construction of a structural steel frame complete with slabs, decking system, ramps, staircases and fire escapes, columns, beams etc complete with all sundries 700m2 on plan +- 4m high | C8: m2 | D8: 700 | E8: 0 | F8: =D8*E8 -> 0
A9: 1.2.4 | B9: EXTERNAL FACADE Construction of external façade complete with suitable masonry to a dado height not exceeding 1m high from ground floor, suitable quality IBR cladding finished with trimmings, complete with suitable galvanised industrial shutter doors, suncontrol, aluminium windows, grilles, screens, louvers and necessary special doors with all sundries 700m2 on plan +- 4m high | C9: m2 | D9: 700 | E9: 0 | F9: =D9*E9 -> 0
A10: 1.2.5 | B10: ROOF Allow for construction of a suitable roof covering complete with roof steel structure, IBR covering with skylights & openings, waterproofing, insulation, eaves, verges, rainwater drainage, ventilators etc 700m2 on plan, +-4m high | C10: m2 | D10: 700 | E10: 0 | F10: =D10*E10 -> 0
A11: 1.2.6 | B11: INTERNAL DIVISIONS Allow internal divisions suitable for 35 charging station steel racks, shopfronts for administration section, doors, toilet partitions, suspended ceilings, skirtings, finishes etc suitable for700m2 floor plan | C11: m2 | D11: 700 | E11: 0 | F11: =D11*E11 -> 0
A12: 1.2.7 | B12: FLOOR FINISHES Suitable Concrete surface bed to be complete with ab acid resistant polyurethane screed floor finish 700m2 on plan | C12: m2 | D12: 700 | E12: 0 | F12: =D12*E12 -> 0
A13: 1.2.8 | B13: PLUMBING Allow for construction of suitable pumbling reticulation complete with sanitarry fittings, pods, ducting, covers, cold & hot water supplies, water storage tanks, grey water systems and builder's work. | C13: m2 | D13: 700 | E13: 0 | F13: =D13*E13 -> 0
A14: 1.2.9 | B14: ELECTRICAL INSTALLATION Design and construction of an electrical reticulation system for the facility complete with mainswitchboard, circuit wiring, luminaires, emergency lighting, special light fittings. allow for vapour proof lighting onto suitable trunking at the lowest roof level, installation of distribution boards consiting of provision for inclusion of photovoltaic supplies. all outlets to be three phase | C14: m2 | D14: 700 | E14: 0 | F14: =D14*E14 -> 0
A15: 1.2.10 | B15: MECHANICAL INSTALLATION Allow for the design of a suitable ventilation system for the facility for management of hydrogen produced during charging, system to be complete with a suitable control philosophy for 700m2 on plan | C15: m2 | D15: 700 | E15: 0 | F15: =D15*E15 -> 0
A16: 1.2.11 | B16: FIRE PROTECTION Allow for fire protection provisions including fire stops, fire resistant paint, fire detection and alarm, building evacuation, fire suppresion, smoke ventilation, extinguishers, hose reels, water supply, water storage tanks, booster pumps etc suitable for facility 700m2 on plan and +- 4m high | C16: m2 | D16: 700 | E16: 0 | F16: =D16*E16 -> 0
A17: 1.3 | B17: External Works (Rates to include cost of appropriate site clearance, earthworks, access route works, parking, sewer reticulation, storm water drainage, signange, fire fighting reticulation, suitable secutity fencing around building area (approximately 200m perimeter) inclusive of gates etc)
A18: 1.3.1 | B18: Allow for site clearance around area 700m2 | C18: m2 | D18: 700 | E18: 0 | F18: =D18*E18 -> 0
A19: 1.3.2 | B19: Allow for construction of suitable site embankment infrastructure | C19: m2 | D19: 500 | E19: 0 | F19: =D19*E19 -> 0
A20: 1.3.3 | B20: Construction and connection of bulk network infrastructure to exisiting infrastructure, complete with stormawater drainage, sewer reticulation, fire firefighting reticulation etc to exisiting bulk network infrastructure | C20: m2 | D20: 700 | E20: 0 | F20: =D20*E20 -> 0
A21: 1.3.3 | B21: Allow for preparing of area for the width of 1 000 mm where fencing is to be erected including removing of steel poles, shrubs etc. not exceeding 200 mm girth. Supply and erect a new 2.1m high approved alluminium zinc, PVC coated fence to boundary complete as per the manufacturer's specification (including posts, panels & top rail). | C21: m | D21: 200 | E21: 0 | F21: =D21*E21 -> 0
A22: 1.3.4 | B22: Supply and fit new approved 4000mm wide x 2100mm high heavy duty sliding vehicle gate matching fence panel cladding, lockable, including heavy duty support posts, stoppers and drop tubes. Gates to be made from steel with minimum yield strenght of 235 N/mm▓.Wing and posts hot dip galvanised in accordance with ISO1461, coated with zinc & polyester. | C22: No | D22: 1 | E22: 0 | F22: =D22*E22 -> 0
A23: 1.3.5 | B23: Allow for suitable heavy duty interlocking S.A.B.S paving blocks laid on and including 50 mm thick layer of sand and treated with weedkill before laying. All paving layed on Selected approved grade G5 quality material supplied by the contractor, spread, well watered and compacted in layers to obtain 95% modified AASHTO dry density under: | C23: m2 | D23: 100 | E23: 0 | F23: =D23*E23 -> 0
A24: 1.4 | B24: Design, supply, installation and commissioning of a 200kW Photovoltaic Solar System on roof of facility +- 4m heigh from ground level (Rates to include cost of appropriate for the development of a comprehensive maintenance plan for the plant ) | C24: Item | D24: 1 | E24: 0 | F24: =D24*E24 -> 0
A25: 2 | B25: SUB-TOTAL 1 - BUILDING WORKS | F25: =SUM(F4:F24) -> 0
A27: 3 | B27: Allow 20% Contingency on Sub-Total 6 (Ref 2) | F27: =F25*20% -> 0
A29: 4 | B29: SUB - TOTAL 2 - (Sub-Total 1 + Ref 2) | F29: =F25+F27 -> 0
A31: 5 | B31: Allow 4% for Contract Price Adjustment Provision on Sub-Total 2 | F31: =F29*4% -> 0
A33: 6 | B33: TOTAL ( TO BE CARRIED TO SUMMARY SCHEDULE, Item 1) | F33: =F29+F31 -> 0
A37: I, the undersigned, do hereby declare that the above is a properly priced Activity Schedule forming part of this Contract Document upon which my/our tender has been based. I/we warrant that no amendments have been made to it from the original, other than amendments issued in any Addenda of this Tender. NB: BIDDERS MUST COMPLETE THE FORM OF OFFER IN FULL AND SIGN. REFER TO C1.1.
A39: SIGNED ON BEHALF OF THE TENDERER: …………………………………………………………………. | F39: DATE….........

Sheet CPM
A1: SCHEDULE C.2.2.1 : CONSTRUCTION PROJECT MANAGER
A2: C2.2 | B2: Pricing Schedule
B3: Estimate | C3: ='BUILDER''S WORK '!F33 -> 0 | D3: 0 | E3: =D3*C3 -> 0
A4: ITEM | B4: Description | C4: Unit | D4: Quantity | E4: Rate | F4: Total
A5: 3.2A | B5: Normal Services
A6: 3.2.1 | B6: Inception | C6: Item | D6: 0.05 | E6: =D6*$E$3 -> 0 | F6: =E6 -> 0
A7: 3.2.2 | B7: Concept and Viablity | C7: Item | D7: 0.15 | E7: =D7*$E$3 -> 0 | F7: =E7 -> 0
A8: 3.2.3 | B8: Detailed Design | C8: Item | D8: 0.35 | E8: =D8*$E$3 -> 0 | F8: =E8 -> 0
A9: 3.2.4 | B9: Contract Administration | C9: Item | D9: 0.4 | E9: =D9*$E$3 -> 0 | F9: =E9 -> 0
A10: 3.2.5 | B10: Close out | C10: Item | D10: 0.05 | E10: =D10*$E$3 -> 0 | F10: =E10 -> 0
B11: Subtotal To Be Carried Forward to Summary Schedule Item No. 10 | F11: =SUM(F6:F10) -> 0
A13: NOTE: | B13: Bidders are to please note that the Rand value will be used for adjudication purposes only. The tendered percentage (%) will be fixed as a basis for any professional fee adjustments during implementation

Sheet ARCH
A1: SCHEDULE C.2.2.2 - ARCHITECT
A2: C2.2 | B2: Pricing Schedule
B3: Estimate | C3: ='BUILDER''S WORK '!F33 -> 0 | D3: 0 | E3: =D3*C3 -> 0
A4: ITEM | B4: Description | C4: Unit | D4: Quantity | E4: Rate | F4: Total
A5: 3.2A | B5: Normal Services
A6: 3.2.1 | B6: Inception | C6: Item | D6: 0.05 | E6: =D6*$E$3 -> 0 | F6: =E6 -> 0
A7: 3.2.2 | B7: Concept and Viablity | C7: Item | D7: 0.15 | E7: =D7*$E$3 -> 0 | F7: =E7 -> 0
A8: 3.2.3 | B8: Detailed Design | C8: Item | D8: 0.35 | E8: =D8*$E$3 -> 0 | F8: =E8 -> 0
A9: 3.2.4 | B9: Contract Administration | C9: Item | D9: 0.4 | E9: =D9*$E$3 -> 0 | F9: =E9 -> 0
A10: 3.2.5 | B10: Close out | C10: Item | D10: 0.05 | E10: =D10*$E$3 -> 0 | F10: =E10 -> 0
B11: Subtotal To Be Carried Forward to Summary Schedule Item No. 10 | F11: =SUM(F6:F10) -> 0
A13: NOTE: | B13: Bidders are to please npte that the Rand value will be used for adjudication purposes only. The tendered percentage (%) will be fixed as a basis for any professional fee adjustments during implementation

Sheet ELEC ENG
A1: SCHEDULE C.2.2.3 - ELECTRICAL ENGINEER
A2: C2.2 | B2: Pricing Schedule
B3: Estimate | C3: ='BUILDER''S WORK '!F33*30% -> 0 | D3: 0 | E3: =D3*C3 -> 0
A4: ITEM | B4: Description | C4: Unit | D4: Quantity | E4: Rate | F4: Total
A5: 3.2A | B5: Normal Services
A6: 3.2.1 | B6: Inception | C6: Item | D6: 0.05 | E6: =D6*$E$3 -> 0 | F6: =E6 -> 0
A7: 3.2.2 | B7: Concept and Viablity | C7: Item | D7: 0.15 | E7: =D7*$E$3 -> 0 | F7: =E7 -> 0
A8: 3.2.3 | B8: Detailed Design | C8: Item | D8: 0.35 | E8: =D8*$E$3 -> 0 | F8: =E8 -> 0
A9: 3.2.4 | B9: Contract Administration | C9: Item | D9: 0.4 | E9: =D9*$E$3 -> 0 | F9: =E9 -> 0
A10: 3.2.5 | B10: Close out | C10: Item | D10: 0.05 | E10: =D10*$E$3 -> 0 | F10: =E10 -> 0
F11: =SUM(F6:F10) -> 0
A13: NOTE: | B13: Bidders are to please npte that the Rand value will be used for adjudication purposes only. The tendered percentage (%) will be fixed as a basis for any professional fee adjustments during implementation

Sheet CIV & STR ENG
A1: SCHEDULE C.2.2.4 - CIVIL & STRUCTURAL ENGINEERING SERVICES
A2: C2.2 | B2: Pricing Schedule
B3: Estimate | C3: ='BUILDER''S WORK '!F33 -> 0 | D3: 0 | E3: =D3*C3 -> 0
A4: ITEM | B4: Description | C4: Unit | D4: Quantity | E4: Rate | F4: Total
A5: 3.2A | B5: Normal Services
A6: 3.2.1 | B6: Inception | C6: Item | D6: 0.05 | E6: =D6*$E$3 -> 0 | F6: =E6 -> 0
A7: 3.2.2 | B7: Concept and Viablity | C7: Item | D7: 0.15 | E7: =D7*$E$3 -> 0 | F7: =E7 -> 0
A8: 3.2.3 | B8: Detailed Design | C8: Item | D8: 0.35 | E8: =D8*$E$3 -> 0 | F8: =E8 -> 0
A9: 3.2.4 | B9: Contract Administration | C9: Item | D9: 0.4 | E9: =D9*$E$3 -> 0 | F9: =E9 -> 0
A10: 3.2.5 | B10: Close out | C10: Item | D10: 0.05 | E10: =D10*$E$3 -> 0 | F10: =E10 -> 0
F11: =SUM(F6:F10) -> 0
A13: NOTE: | B13: Bidders are to please npte that the Rand value will be used for adjudication purposes only. The tendered percentage (%) will be fixed as a basis for any professional fee adjustments during implementation

Sheet MECH ENG
A1: SCHEDULE C.2.2.5 - MECHANICAL & FIRE ENGINEERING SERVICES
A2: C2.2 | B2: Pricing Schedule
B3: Estimate | C3: ='BUILDER''S WORK '!F33*15% -> 0 | D3: 0 | E3: =D3*C3 -> 0
A4: ITEM | B4: Description | C4: Unit | D4: Quantity | E4: Rate | F4: Total
A5: 3.2A | B5: Normal Services
A6: 3.2.1 | B6: Inception | C6: Item | D6: 0.05 | E6: =D6*$E$3 -> 0 | F6: =E6 -> 0
A7: 3.2.2 | B7: Concept and Viablity | C7: Item | D7: 0.15 | E7: =D7*$E$3 -> 0 | F7: =E7 -> 0
A8: 3.2.3 | B8: Detailed Design | C8: Item | D8: 0.35 | E8: =D8*$E$3 -> 0 | F8: =E8 -> 0
A9: 3.2.4 | B9: Contract Administration | C9: Item | D9: 0.4 | E9: =D9*$E$3 -> 0 | F9: =E9 -> 0
A10: 3.2.5 | B10: Close out | C10: Item | D10: 0.05 | E10: =D10*$E$3 -> 0 | F10: =E10 -> 0
F11: =SUM(F6:F10) -> 0
A13: NOTE: | B13: Bidders are to please npte that the Rand value will be used for adjudication purposes only. The tendered percentage (%) will be fixed as a basis for any professional fee adjustments during implementation

Sheet CHSA
A1: SCHEDULE 2.2.6 - CONSTRUCTION HEALTH AND SAFETY AGENT
A2: C2.2 | B2: Pricing Schedule
B3: Estimate | C3: ='BUILDER''S WORK '!F33 -> 0 | D3: 0 | E3: =D3*C3 -> 0
A4: ITEM | B4: Description | C4: Unit | D4: Quantity | E4: Rate | F4: Total
A5: 3.2A | B5: Normal Services
A6: 3.2.1 | B6: Inception | C6: Item | D6: 0.05 | E6: =D6*$E$3 -> 0 | F6: =E6 -> 0
A7: 3.2.2 | B7: Concept and Viablity | C7: Item | D7: 0.15 | E7: =D7*$E$3 -> 0 | F7: =E7 -> 0
A8: 3.2.3 | B8: Detailed Design | C8: Item | D8: 0.35 | E8: =D8*$E$3 -> 0 | F8: =E8 -> 0
A9: 3.2.4 | B9: Contract Administration | C9: Item | D9: 0.4 | E9: =D9*$E$3 -> 0 | F9: =E9 -> 0
A10: 3.2.5 | B10: Close out | C10: Item | D10: 0.05 | E10: =D10*$E$3 -> 0 | F10: =E10 -> 0
B11: Subtotal To Be Carried Forward to Summary Schedule Item No. 10 | F11: =SUM(F6:F10) -> 0
A13: NOTE | B13: Bidders are to please npte that the Rand value will be used for adjudication purposes only. The tendered percentage (%) will be fixed as a basis for any professional fee adjustments during implementation

Sheet QS
A1: SCHEDULE 2.2.7 - QUANTITY SURVEYOR
A2: C2.2 | B2: Pricing Schedule
B3: Estimate | C3: ='BUILDER''S WORK '!F33 -> 0 | D3: 0 | E3: =D3*C3 -> 0
A4: ITEM | B4: Description | C4: Unit | D4: Quantity | E4: Rate | F4: Total
A5: 3.2A | B5: Normal Services
A6: 3.2.1 | B6: Inception | C6: Item | D6: 0.05 | E6: =D6*$E$3 -> 0 | F6: =E6 -> 0
A7: 3.2.2 | B7: Concept and Viablity | C7: Item | D7: 0.15 | E7: =D7*$E$3 -> 0 | F7: =E7 -> 0
A8: 3.2.3 | B8: Detailed Design | C8: Item | D8: 0.35 | E8: =D8*$E$3 -> 0 | F8: =E8 -> 0
A9: 3.2.4 | B9: Contract Administration | C9: Item | D9: 0.4 | E9: =D9*$E$3 -> 0 | F9: =E9 -> 0
A10: 3.2.5 | B10: Close out | C10: Item | D10: 0.05 | E10: =D10*$E$3 -> 0 | F10: =E10 -> 0
B11: Subtotal To Be Carried Forward to Summary Schedule Item No. 10 | F11: =SUM(F6:F10) -> 0
A13: NOTE | B13: Bidders are to please npte that the Rand value will be used for adjudication purposes only. The tendered percentage (%) will be fixed as a basis for any professional fee adjustments during implementation

Sheet % Mark Up on Povisional Sums
A1: SCHEDULE 2.2.8 - MARK UP %
A2: C2.2 | B2: Pricing Schedule
B3: Estimate | E3: =E6++E7+E8+E9 -> 0
A4: ITEM | B4: Description | C4: Unit | D4: Amount (Sum) | E4: Mark-Up % | F4: Total
A5: 3.2A | B5: Sub-Consulting Services
A6: 1 | B6: Obstacle Evaluation Consulting Services | C6: Item | D6: 100000 | E6: 0 | F6: =D6*E6 -> 0
A7: =A6+1 -> 2 | B7: Environmental Practitioner Services | C7: Item | D7: 200000 | E7: 0 | F7: =D7*E7 -> 0
A8: =A7+1 -> 3 | B8: Geotechnical Specialist Sevices | C8: Item | D8: 150000 | E8: 0 | F8: =D8*E8 -> 0
A9: =A8+1 -> 4 | B9: Land Surveying Services | C9: Item | D9: 150000 | E9: 0 | F9: =D9*E9 -> 0
B10: Subtotal To Be Carried Forward to Summary Schedule Item No. 3.5 | F10: =SUM(F6:F9) -> 0
A12: NOTE | B12: Bidders are to please npte that the Rand value will be used for adjudication purposes only. The tendered percentage (%) will be fixed as a basis for any professional fee adjustments during implementation.

Sheet SUMMARY SCHEDULE
A1: SUMMARY SCHEDULE: DESIGN AND BUILDING OF A BATTERY CHARGE FACILITY AT KING SHAKA INTERNATIONAL AIRPORT
A2: NOTE: FAILURE TO COMPLETE AND SIGN THIS DOCUMENT WILL RESULT IN BID BEING NON RESPONSIVE
A3: Item No | B3: Description | C3: Amount in Rands
A4: 1 | B4: Building Works | C4: ='BUILDER''S WORK '!F33 -> 0
A6: 2 | B6: Professional Fees
A7: 2.1 | B7: Construction Project Management (C.2.2.1) | C7: =CPM!F11 -> 0
A8: =A7+0.1 -> 2.2 | B8: Architecture (C.2.2.2) | C8: =ARCH!F11 -> 0
A9: =A8+0.1 -> 2.3 | B9: Electrical Engineering (C.2.2.3) | C9: ='ELEC ENG'!F11 -> 0
A10: =A9+0.1 -> 2.4 | B10: Civil Engineering & Structural Engineering (C.2.2.4) | C10: ='CIV & STR ENG'!F11 -> 0
A11: =A10+0.1 -> 2.5 | B11: Mechanica and Firel Engineering (C.2.2.5) | C11: ='MECH ENG'!F11 -> 0
A12: =A11+0.1 -> 2.6 | B12: Quantity Surveying (C.2.2.6) | C12: =QS!F11 -> 0
A13: =A12+0.1 -> 2.7 | B13: Construction Health and Saftey (C.2.2.7) | C13: =CHSA!F11 -> 0
A15: 2 | B15: Sub-Total 1 (Professional Fees) | C15: =C7+C8+C9+C12+C13+C10+C11 -> 0
A17: 3 | B17: Provisional Sums
A18: 3.1 | B18: Obstacle Evaluation Consulting Services by CAA/ATNS | C18: ='% Mark Up on Povisional Sums'!D6 -> 100000
A19: 3.2 | B19: Environmental Practioner Sub-Consultancy Services | C19: ='% Mark Up on Povisional Sums'!D7 -> 200000
A20: 3.3 | B20: Geotechnical Specialist Sub-Consultancy Services | C20: ='% Mark Up on Povisional Sums'!D8 -> 150000
A21: 3.4 | B21: Land Surveying Sub-Consultancy Services | C21: ='% Mark Up on Povisional Sums'!D9 -> 150000
A23: 3.5 | B23: Mark-Up on Additional Handling and Management of Additional Services (3.1 - 3.4) carried forward | C23: ='% Mark Up on Povisional Sums'!F10 -> 0
A25: 4 | B25: Sub-Total 2 ( Provisional Sums Inc, Mark-Up) | C25: =C18+C19+C23+C20+C21+C22 -> 600000
A27: 5 | B27: Allow for Disbursements and Miscelleneous Services | C27: =(C15)*10% -> 0
A29: 6 | B29: Sub-Total 3 (Disbursments and Miscelleneous Services) | C29: =C27 -> 0
A31: 7 | B31: Contingency at 10% (Fees) | C31: =(C15+C25+C29)*10% -> 60000
A33: 8 | B33: Sub-Total 4 (Building Works + Fees + Provisional Sums + Disbursements+Contingency) | C33: =C4+C15+C25+C29+C31 -> 660000
A35: 9 | B35: Add VAT at 15% | C35: =C33*15% -> 99000
A37: 10 | B37: TOTAL ( TO BE CARRIED TO FORM OF OFFER AND ACCEPTANCE) | C37: =C33+C35 -> 759000
A39: I, the undersigned, do hereby declare that the above is a properly priced Activity Schedule forming part of this Contract Document upon which my/our tender for Tender: THE APPOINTMENT OF A PRINCIPAL CONTRACTOR FOR THE DESIGN AND BUILDING OF A BATTERY CHARGE FACILITY AT KING SHAKA INTERNATIONAL AIRPORT has been based. I/we warrant that no amendments have been made to it from the original, other than amendments issued in any Addenda of this Tender. NB: BIDDERS MUST COMPLETE THE FORM OF OFFER IN FULL AND SIGN. REFER TO C1.1.
A41: SIGNED ON BEHALF OF THE TENDERER: …………………………………………………………………. | C41: DATE….........
