Workbook
Name _Hlk216879692: 'Table 1 - Service Type A'!$A$2
Name _Hlk216879692: 'Table 2 - Service Type B'!$A$2
Name _Hlk216879692: 'Table 3 - Service Type C'!$A$2
Name _Hlk216879692: 'Table 4- Service Type D'!$A$2
Name _Hlk216879692: 'Table 5- K9'!$A$2
Name _Hlk217296480: 'Table 1 - Service Type A'!$A$4
Name _Hlk217296480: 'Table 2 - Service Type B'!$A$4
Name _Hlk217296480: 'Table 3 - Service Type C'!$A$4
Name _Hlk217296480: 'Table 4- Service Type D'!$A$4
Name _Hlk217296480: 'Table 5- K9'!$A$4
Name _Hlk217298992: 'Table 1 - Service Type A'!$A$68
Name _Hlk217301583: 'Table 1 - Service Type A'!$A$60
Name _Hlk217319424: 'Pricing Summary'!$A$5

Sheet Pricing Summary
A2: MT10/2025 Security Services Framework Pricing Schedule
A3: Pricing Summary
A5: SERVICE CATEGORY A: STANDARD PHYSICAL GUARDING | F5: Important information about this Pricing Calculator All the worksheets in this MS-Excel workbook are protected. This means you can only enter your offered RATES into the cells highlighted in GREEN on each of the Service Category worksheets. All other (non-highlighted) cells are either just descriptions or contain the calculated prices. Select each Service Category by clicking the workheet tab below. This Pricing Summary sheet only displays the calculations as auto-carried from the Service Category worksheets, which you can then use to physically write the results into the applicable physical Price Schedule Table and finally into the Pricing Summary in the bid document.
A6: Item | B6: Amount excl VAT | C6: VAT @ 15% | D6: Amount incl VAT
A7: Total Price for Table 1 Items 1 & 2 | B7: ='Table 1 - Service Type A'!F57 -> 0 | C7: =B7*0.15 -> 0 | D7: =B7+C7 -> 0
A8: Total markup/s carried from Table 1 Item 3
A9: Total markup for Overheads & Profit: Cape Town Metro | B9: ='Table 1 - Service Type A'!F67 -> 0 | C9: =B9*0.15 -> 0 | D9: =B9+C9 -> 0
A10: Total markup for Overheads & Profit: Overberg | B10: ='Table 1 - Service Type A'!F71 -> 0 | C10: =B10*0.15 -> 0 | D10: =B10+C10 -> 0
A11: Total markup for Overheads & Profit: West Coast | B11: ='Table 1 - Service Type A'!F75 -> 0 | C11: =B11*0.15 -> 0 | D11: =B11+C11 -> 0
A12: Total markup for Overheads & Profit: Cape Winelands | B12: ='Table 1 - Service Type A'!F79 -> 0 | C12: =B12*0.15 -> 0 | D12: =B12+C12 -> 0
A13: Total markup for Overheads & Profit: Central Karoo | B13: ='Table 1 - Service Type A'!F83 -> 0 | C13: =B13*0.15 -> 0 | D13: =B13+C13 -> 0
A14: Total markup for Overheads & Profit: Garden Route | B14: ='Table 1 - Service Type A'!F87 -> 0 | C14: =B14*0.15 -> 0 | D14: =B14+C14 -> 0
A17: SERVICE CATEGORY B: SPECIAL TACTICAL GUARDING
A18: Item | B18: Amount excl VAT | C18: VAT @ 15% | D18: Amount incl VAT
A19: Total Price for Table 2 Items 1 & 2 | B19: ='Table 2 - Service Type B'!F66 -> 0 | C19: =B19*0.15 -> 0 | D19: =B19+C19 -> 0
A20: Total markup/s carried from Table 2 Item 3
A21: Total markup for Overheads & Profit: Cape Town Metro | B21: ='Table 2 - Service Type B'!F76 -> 0 | C21: =B21*0.15 -> 0 | D21: =B21+C21 -> 0
A22: Total markup for Overheads & Profit: Overberg | B22: ='Table 2 - Service Type B'!F80 -> 0 | C22: =B22*0.15 -> 0 | D22: =B22+C22 -> 0
A23: Total markup for Overheads & Profit: West Coast | B23: ='Table 2 - Service Type B'!F84 -> 0 | C23: =B23*0.15 -> 0 | D23: =B23+C23 -> 0
A24: Total markup for Overheads & Profit: Cape Winelands | B24: ='Table 2 - Service Type B'!F88 -> 0 | C24: =B24*0.15 -> 0 | D24: =B24+C24 -> 0
A25: Total markup for Overheads & Profit: Central Karoo | B25: ='Table 2 - Service Type B'!F92 -> 0 | C25: =B25*0.15 -> 0 | D25: =B25+C25 -> 0
A26: Total markup for Overheads & Profit: Garden Route | B26: ='Table 2 - Service Type B'!F96 -> 0 | C26: =B26*0.15 -> 0 | D26: =B26+C26 -> 0
A29: SERVICE CATEGORY C: SPECIAL EVENTS SECURITY MANAGEMENT
A30: Item | B30: Amount excl VAT | C30: VAT @ 15% | D30: Amount incl VAT
A31: Total Price for Table 3 Items 1 & 2 | B31: ='Table 3 - Service Type C'!F49 -> 0 | C31: =B31*0.15 -> 0 | D31: =B31+C31 -> 0
A32: Total markup/s carried from Table 3 Item 3
A33: Total markup for Overheads & Profit: Cape Town Metro | B33: ='Table 3 - Service Type C'!F59 -> 0 | C33: =B33*0.15 -> 0 | D33: =B33+C33 -> 0
A34: Total markup for Overheads & Profit: Overberg | B34: ='Table 3 - Service Type C'!F63 -> 0 | C34: =B34*0.15 -> 0 | D34: =B34+C34 -> 0
A35: Total markup for Overheads & Profit: West Coast | B35: ='Table 3 - Service Type C'!F67 -> 0 | C35: =B35*0.15 -> 0 | D35: =B35+C35 -> 0
A36: Total markup for Overheads & Profit: Cape Winelands | B36: ='Table 3 - Service Type C'!F71 -> 0 | C36: =B36*0.15 -> 0 | D36: =B36+C36 -> 0
A37: Total markup for Overheads & Profit: Central Karoo | B37: ='Table 3 - Service Type C'!F75 -> 0 | C37: =B37*0.15 -> 0 | D37: =B37+C37 -> 0
A38: Total markup for Overheads & Profit: Garden Route | B38: ='Table 3 - Service Type C'!F79 -> 0 | C38: =B38*0.15 -> 0 | D38: =B38+C38 -> 0
A41: SERVICE CATEGORY D: ARMED RESPONSE
A42: Item | B42: Amount excl VAT | C42: VAT @ 15% | D42: Amount incl VAT
A43: Total Price for Table 4 Item 1 | B43: ='Table 4- Service Type D'!F16 -> 0 | C43: =B43*0.15 -> 0 | D43: =B43+C43 -> 0
A44: Total markup/s carried from Table 4 Item 3
A45: Total markup for Overheads & Profit: Cape Town Metro | B45: ='Table 4- Service Type D'!F26 -> 0 | C45: =B45*0.15 -> 0 | D45: =B45+C45 -> 0
A46: Total markup for Overheads & Profit: Overberg | B46: ='Table 4- Service Type D'!F30 -> 0 | C46: =B46*0.15 -> 0 | D46: =B46+C46 -> 0
A47: Total markup for Overheads & Profit: West Coast | B47: ='Table 4- Service Type D'!F34 -> 0 | C47: =B47*0.15 -> 0 | D47: =B47+C47 -> 0
A48: Total markup for Overheads & Profit: Cape Winelands | B48: ='Table 4- Service Type D'!F38 -> 0 | C48: =B48*0.15 -> 0 | D48: =B48+C48 -> 0
...

Sheet Table 1 - Service Type A
A2: MT10/2025 Price Schedule: Core Services: All Regions
A3: TABLE 1: Service Type A: Standard Physical Guarding Core Service
A4: Complete Price Schedule Table 1 if you are offering the Core Service for Standard Physical Guarding in any of the Western Cape Regions (District Municipalities). If you are not offering services for Service Category A in any Region, leave pricing in Table 1 blank. Rates and Prices to be provided for items in Table 1 EXCLUSIVE OF VAT.
A6: No | B6: Item | C6: Unit | D6: Illustrative | E6: Rate | F6: Price
D7: Quantity | E7: (B) | F7: (A x B)
D8: (A)
A9: 1 | B9: Security Personnel
A10: 1.1 | B10: Monday to Friday: Day Shift: 12-hour shifts, 5 days per week excluding Sundays and public holidays, comprising:
B11: · Direct costs (including basic salary, deductions and contributions, bonuses, etc);
B12: · Indirect Costs (such as management and other expenses);
B13: · All standard operational equipment (such as torches, batons, radios, electronic patrolling system, etc);
B14: but EXCLUDING Overheads & profit (priced separately per region)
A15: 1.1.1 | B15: Guarding/Access Control Grade C | C15: /month | D15: 3 | E15: 0 | F15: =D15*E15 -> 0
A16: 1.1.2 | B16: Guarding/Access Control Grade B | C16: / month | D16: 3 | E16: 0 | F16: =D16*E16 -> 0
A17: 1.1.3 | B17: Guarding/Access Control Grade A | C17: / month | D17: 3 | E17: 0 | F17: =D17*E17 -> 0
A18: 1.1.4 | B18: Operational Supervisor Grade B | C18: / month | D18: 3 | E18: 0 | F18: =D18*E18 -> 0
A19: 1.1.5 | B19: Operational Supervisor Grade A | C19: / month | D19: 3 | E19: 0 | F19: =D19*E19 -> 0
A20: 1.1.6 | B20: Control Room Supervisor Grade B | C20: / month | D20: 3 | E20: 0 | F20: =D20*E20 -> 0
A21: 1.1.7 | B21: Control Room Supervisor Grade A | C21: / month | D21: 3 | E21: 0 | F21: =D21*E21 -> 0
A22: 1.1.8 | B22: CCTV Controller Grade B | C22: / month | D22: 3 | E22: 0 | F22: =D22*E22 -> 0
A23: 1.1.9 | B23: CCTV Controller Grade A | C23: / month | D23: 3 | E23: 0 | F23: =D23*E23 -> 0
A24: 1.2 | B24: Monday to Sunday: Day Shift: 24-hour shifts, 7 days per week including Sundays and public holidays, comprising:
B25: · Direct costs (including basic salary, deductions and contributions, bonuses, etc);
B26: · Indirect Costs (such as management and other expenses);
B27: · All standard operational equipment (such as torches, batons, radios, electronic patrolling system, etc);
B28: but EXCLUDING Overheads & profit (priced separately per region)
A29: 1.2.1 | B29: Guarding/Access Control Grade C | C29: / month | D29: 3 | E29: 0 | F29: =D29*E29 -> 0
A30: 1.2.2 | B30: Guarding/Access Control Grade B | C30: / month | D30: 3 | E30: 0 | F30: =D30*E30 -> 0
A31: 1.2.3 | B31: Guarding/Access Control Grade A | C31: / month | D31: 3 | E31: 0 | F31: =D31*E31 -> 0
A32: 1.2.4 | B32: Operational Supervisor Grade B | C32: / month | D32: 3 | E32: 0 | F32: =D32*E32 -> 0
A33: 1.2.5 | B33: Operational Supervisor Grade A | C33: / month | D33: 3 | E33: 0 | F33: =D33*E33 -> 0
A34: 1.2.6 | B34: Control Room Supervisor Grade B | C34: / month | D34: 3 | E34: 0 | F34: =D34*E34 -> 0
A35: 1.2.7 | B35: Control Room Supervisor Grade A | C35: / month | D35: 3 | E35: 0 | F35: =D35*E35 -> 0
A36: 1.2.8 | B36: CCTV Controller Grade B | C36: / month | D36: 3 | E36: 0 | F36: =D36*E36 -> 0
A37: 1.2.9 | B37: CCTV Controller Grade A | C37: / month | D37: 3 | E37: 0 | F37: =D37*E37 -> 0
A38: 1.3 | B38: Monday to Sunday: Night Shift: 24-hour shifts, 7 days per week including Sundays and public holidays, comprising:
B39: · Direct costs (including basic salary, deductions and contributions, bonuses, etc);
B40: · Indirect Costs (such as management and other expenses);
B41: · All standard operational equipment (such as torches, batons, radios, electronic patrolling system, etc);
B42: but EXCLUDING Overheads & profit (priced separately per region)
...

Sheet Table 2 - Service Type B
A2: MT10/2025 Price Schedule: Core Services: All Regions
A3: TABLE 2: Service Type B: Special Tactical Guarding Core Service
A4: Complete Price Schedule Table 2 if you are offering the Core Service for Special Tactical Guarding in any of the Western Cape Regions (District Municipalities). If you are not offering services for Service Category B in any Region, leave pricing in Table 2 blank. Rates and Prices to be provided for items in Table 1 EXCLUSIVE OF VAT.
A6: No | B6: Item | C6: Unit | D6: Illustrative | E6: Rate | F6: Price
D7: Quantity | E7: (B) | F7: (A x B)
D8: (A)
A9: 1 | B9: Security Personnel
A10: 1.1 | B10: Monday to Friday: Day Shift: 12-hour shifts, 5 days per week excluding Sundays and public holidays, comprising:
B11: · Direct costs (including basic salary, deductions and contributions, bonuses, etc);
B12: · Indirect Costs (such as management and other expenses);
B13: · All standard operational equipment (such as torches, batons, radios, electronic patrolling system, firearms, etc);
B14: but EXCLUDING Overheads & profit (priced separately below)
A15: 1.1.1 | B15: Guarding/Access Control Grade C | C15: / month | D15: 3 | E15: 0 | F15: =D15*E15 -> 0
A16: 1.1.2 | B16: Guarding/Access Control Grade B | C16: / month | D16: 3 | E16: 0 | F16: =D16*E16 -> 0
A17: 1.1.3 | B17: Guarding/Access Control Grade A | C17: / month | D17: 3 | E17: 0 | F17: =D17*E17 -> 0
A18: 1.1.4 | B18: Armed Guard/Access Control Grade C | C18: / month | D18: 3 | E18: 0 | F18: =D18*E18 -> 0
A19: 1.1.5 | B19: Armed Guard /Access Control Grade B | C19: / month | D19: 3 | E19: 0 | F19: =D19*E19 -> 0
A20: 1.1.6 | B20: Armed Guard /Access Control Grade A | C20: / month | D20: 3 | E20: 0 | F20: =D20*E20 -> 0
A21: 1.1.7 | B21: Operational Supervisor Grade B | C21: / month | D21: 3 | E21: 0 | F21: =D21*E21 -> 0
A22: 1.1.8 | B22: Operational Supervisor Grade A | C22: / month | D22: 3 | E22: 0 | F22: =D22*E22 -> 0
A23: 1.1.9 | B23: Control Room Supervisor Grade B | C23: / month | D23: 3 | E23: 0 | F23: =D23*E23 -> 0
A24: 1.1.10 | B24: Control Room Supervisor Grade A | C24: / month | D24: 3 | E24: 0 | F24: =D24*E24 -> 0
A25: 1.1.11 | B25: CCTV Controller Grade B | C25: / month | D25: 3 | E25: 0 | F25: =D25*E25 -> 0
A26: 1.1.12 | B26: CCTV Controller Grade A | C26: / month | D26: 3 | E26: 0 | F26: =D26*E26 -> 0
A27: 1.2 | B27: Monday to Sunday: Day Shift: 24-hour shifts, 7 days per week including Sundays and public holidays, comprising:
B28: · Direct costs (including basic salary, deductions and contributions, bonuses, etc);
B29: · Indirect Costs (such as management and other expenses);
B30: · All standard operational equipment (such as torches, batons, radios, electronic patrolling system, firearms, etc);
B31: but EXCLUDING Overheads & profit (priced separately below)
A32: 1.2.1 | B32: Guarding/Access Control Grade C | C32: / month | D32: 3 | E32: 0 | F32: =D32*E32 -> 0
A33: 1.2.2 | B33: Guarding/Access Control Grade B | C33: / month | D33: 3 | E33: 0 | F33: =D33*E33 -> 0
A34: 1.2.3 | B34: Guarding/Access Control Grade A | C34: / month | D34: 3 | E34: 0 | F34: =D34*E34 -> 0
A35: 1.2.4 | B35: Armed Guard/Access Control Grade C | C35: / month | D35: 3 | E35: 0 | F35: =D35*E35 -> 0
A36: 1.2.5 | B36: Armed Guard /Access Control Grade B | C36: / month | D36: 3 | E36: 0 | F36: =D36*E36 -> 0
A37: 1.2.6 | B37: Armed Guard /Access Control Grade A | C37: / month | D37: 3 | E37: 0 | F37: =D37*E37 -> 0
A38: 1.2.7 | B38: Operational Supervisor Grade B | C38: / month | D38: 3 | E38: 0 | F38: =D38*E38 -> 0
A39: 1.2.8 | B39: Operational Supervisor Grade A | C39: / month | D39: 3 | E39: 0 | F39: =D39*E39 -> 0
A40: 1.2.9 | B40: Control Room Supervisor Grade B | C40: / month | D40: 3 | E40: 0 | F40: =D40*E40 -> 0
A41: 1.2.10 | B41: Control Room Supervisor Grade A | C41: / month | D41: 3 | E41: 0 | F41: =D41*E41 -> 0
A42: 1.2.11 | B42: CCTV Controller Grade B | C42: / month | D42: 3 | E42: 0 | F42: =D42*E42 -> 0
...

Sheet Table 3 - Service Type C
A2: MT10/2025 Price Schedule: Core Services: All Regions
A3: TABLE 3: Service Type C: Special Events Security Management Core Service
A4: Complete Price Schedule Table 3 if you are offering the Core Service for Special Events Management in any of the Western Cape Regions (District Municipalities). If you are not offering services for Service Category C in any Region, leave pricing in Table 3 blank. Rates and Prices to be provided for items in Table 1 EXCLUSIVE OF VAT.
A6: No | B6: Item | C6: Unit | D6: Illustrative | E6: Rate | F6: Price
D7: Quantity | E7: (B) | F7: (A x B)
D8: (A)
A9: 1 | B9: Security Personnel
A10: 1.1 | B10: Weekdays Monday to Friday, comprising:
B11: · Direct costs (including basic salary, deductions and contributions, bonuses, etc);
B12: · Indirect Costs (such as management and other expenses);
B13: · All standard operational equipment (such as torches, batons, radios, electronic patrolling system, firearms, etc);
B14: but EXCLUDING Overheads & profit (priced separately below)
A15: 1.1.1 | B15: Guarding/Access Control Grade C | C15: / hour | D15: 10 | E15: 0 | F15: =D15*E15 -> 0
A16: 1.1.2 | B16: Guarding/Access Control Grade B | C16: / hour | D16: 10 | E16: 0 | F16: =D16*E16 -> 0
A17: 1.1.3 | B17: Guarding/Access Control Grade A | C17: / hour | D17: 10 | E17: 0 | F17: =D17*E17 -> 0
A18: 1.1.4 | B18: Armed Guard/Access Control Grade C | C18: / hour | D18: 10 | E18: 0 | F18: =D18*E18 -> 0
A19: 1.1.5 | B19: Armed Guard /Access Control Grade B | C19: / hour | D19: 10 | E19: 0 | F19: =D19*E19 -> 0
A20: 1.1.6 | B20: Armed Guard /Access Control Grade A | C20: / hour | D20: 10 | E20: 0 | F20: =D20*E20 -> 0
A21: 1.1.7 | B21: Operational Supervisor Grade B | C21: / hour | D21: 10 | E21: 0 | F21: =D21*E21 -> 0
A22: 1.1.8 | B22: Operational Supervisor Grade A | C22: / hour | D22: 10 | E22: 0 | F22: =D22*E22 -> 0
A23: 1.1.9 | B23: Control Room Supervisor Grade B | C23: / hour | D23: 10 | E23: 0 | F23: =D23*E23 -> 0
A24: 1.1.10 | B24: Control Room Supervisor Grade A | C24: / hour | D24: 10 | E24: 0 | F24: =D24*E24 -> 0
A25: 1.1.11 | B25: CCTV Controller Grade B | C25: / hour | D25: 10 | E25: 0 | F25: =D25*E25 -> 0
A26: 1.1.12 | B26: CCTV Controller Grade A | C26: / hour | D26: 10 | E26: 0 | F26: =D26*E26 -> 0
A27: 1.2 | B27: Weekends and public holidays comprising:
B28: · Direct costs (including basic salary, deductions and contributions, bonuses, etc);
B29: · Indirect Costs (such as management and other expenses);
B30: · All standard operational equipment (such as torches, batons, radios, electronic patrolling system, firearms, etc);
B31: but EXCLUDING Overheads & profit (priced separately below)
A32: 1.2.1 | B32: Guarding/Access Control Grade C | C32: / hour | D32: 10 | E32: 0 | F32: =D32*E32 -> 0
A33: 1.2.2 | B33: Guarding/Access Control Grade B | C33: / hour | D33: 10 | E33: 0 | F33: =D33*E33 -> 0
A34: 1.2.3 | B34: Guarding/Access Control Grade A | C34: / hour | D34: 10 | E34: 0 | F34: =D34*E34 -> 0
A35: 1.2.4 | B35: Armed Guard/Access Control Grade C | C35: / hour | D35: 10 | E35: 0 | F35: =D35*E35 -> 0
A36: 1.2.5 | B36: Armed Guard /Access Control Grade B | C36: / hour | D36: 10 | E36: 0 | F36: =D36*E36 -> 0
A37: 1.2.6 | B37: Armed Guard /Access Control Grade A | C37: / hour | D37: 10 | E37: 0 | F37: =D37*E37 -> 0
A38: 1.2.7 | B38: Operational Supervisor Grade B | C38: / hour | D38: 10 | E38: 0 | F38: =D38*E38 -> 0
A39: 1.2.8 | B39: Operational Supervisor Grade A | C39: / hour | D39: 10 | E39: 0 | F39: =D39*E39 -> 0
A40: 1.2.9 | B40: Control Room Supervisor Grade B | C40: / hour | D40: 10 | E40: 0 | F40: =D40*E40 -> 0
A41: 1.2.10 | B41: Control Room Supervisor Grade A | C41: / hour | D41: 10 | E41: 0 | F41: =D41*E41 -> 0
A42: 1.2.11 | B42: CCTV Controller Grade B | C42: / hour | D42: 10 | E42: 0 | F42: =D42*E42 -> 0
...

Sheet Table 4- Service Type D
A2: MT10/2025 Price Schedule: Core Services: All Regions
A3: TABLE 4: Service Type D: Armed Response Core Service
A4: Complete Price Schedule Table 4 if you are offering the Core Service for Armed Response in any of the Western Cape Regions (District Municipalities). If you are not offering services for Service Category D in any Region, leave pricing in Table 4 blank. Rates and Prices to be provided for items in Table 1 EXCLUSIVE OF VAT.
A6: No | B6: Item | C6: Unit | D6: Illustrative | E6: Rate | F6: Price
D7: Quantity | E7: (B) | F7: (A x B)
D8: (A)
A9: 1 | B9: Security Personnel
A10: 1.1 | B10: Monday to Sunday: 24-hour availability, 7 days per week including Sundays and public holidays, comprising:
B11: · Direct costs (including basic salary, deductions and contributions, bonuses, etc);
B12: · Indirect Costs (such as management and other expenses);
B13: · All standard operational equipment (such as torches, batons, radios, electronic patrolling system, firearms, etc);
B14: but EXCLUDING Overheads & profit (priced separately below)
A15: 1.1.1 | B15: Armed response service, inclusive of armed response, vehicle/s, off-site alarm monitoring, antenna installation, annual radio license fee and any other incidental costs. | C15: / month | D15: 3 | E15: 0 | F15: =D15*E15 -> 0
B16: Total of the Prices for Item 1 above: Table 4 | F16: =F15 -> 0
A19: 2 | B19: Overheads and profit for Core Service D in the various Regions
B20: Overhead costs inclusive of uniforms, transport, administration, mobile communication devices and all other incidentals and costs incurred to provide the Service to the standards as per the Scope of Goods and Services, tendered as a percentage factor to be ADDED to the rates of Core Service D, as applicable to the location of the Service in the various Regions. PLEASE NOTE: Services to be offered and priced within the borders of any Region. No cross-border Work Orders will as a general rule be issued during the term of this contract, however the Purchaser may consider exceptions in the event of insufficient availability of service providers in any particular Region or geographic location.
A21: No | B21: Region and distance from main centres | C21: Unit: | D21: Total amount from Table 4 | E21: Tendered percentage | F21: Total
F22: Service D (excl VAT)
A23: 2.1 | B23: Cape Town Metro
A24: 2.1.1 | B24: 0-50km radius from Cape Town CBD (measured from cnr Wale & Loop Streets) | C24: % | D24: =F16 -> 0 | E24: 0 | F24: =D24*E24 -> 0
A25: 2.1.2 | B25: Over 50km radius from Cape Town CBD (measured from cnr Wale & Loop Streets) | C25: % | D25: =F16 -> 0 | E25: 0 | F25: =D25*E25 -> 0
A26: Total: Cape Town Metro | F26: =SUM(F24:F25) -> 0
A27: 2.2 | B27: Overberg District Municipality
A28: 2.2.1 | B28: 0-50km radius from main town centres of Caledon, Hermanus, Grabouw, Villiersdorp, Swellendam, Bredasdorp. | C28: % | D28: =F16 -> 0 | E28: 0 | F28: =D28*E28 -> 0
A29: 2.2.2 | B29: Over 50km radius from main town centres of Caledon, Hermanus, Grabouw, Villiersdorp, Swellendam, Bredasdorp. | C29: % | D29: =F16 -> 0 | E29: 0 | F29: =D29*E29 -> 0
A30: Total: Overberg District Municipality | F30: =SUM(F28:F29) -> 0
A31: 2.3 | B31: West Coast District Municipality
A32: 2.3.1 | B32: 0-50km radius from main town centres of Saldanha Bay, Malmesbury, Citrusdal, Clanwilliam, Vredendal. | C32: % | D32: =F16 -> 0 | E32: 0 | F32: =D32*E32 -> 0
A33: 2.3.2 | B33: Over 50km radius from main town centres of Saldanha Bay, Malmesbury, Citrusdal, Clanwilliam, Vredendal. | C33: % | D33: =F16 -> 0 | E33: 0 | F33: =D33*E33 -> 0
A34: Total: West Coast District Municipality | F34: =SUM(F32:F33) -> 0
A35: 2.4 | B35: Cape Winelands District Municipality
A36: 2.4.1 | B36: 0-50km radius from main town centres of Stellenbosch, Paarl, Worcester, Ceres. | C36: % | D36: =F16 -> 0 | E36: 0 | F36: =D36*E36 -> 0
A37: 2.4.2 | B37: Over 50km radius from main town centres of Stellenbosch, Paarl, Worcester, Ceres. | C37: % | D37: =F16 -> 0 | E37: 0 | F37: =D37*E37 -> 0
A38: Total: Cape Winelands District Municipality | F38: =SUM(F36:F37) -> 0
A39: 2.5 | B39: Central Karoo District Municipality
A40: 2.5.1 | B40: 0-50km radius from main town centres of Beaufort West, Laingsburg. | C40: % | D40: =F16 -> 0 | E40: 0 | F40: =D40*E40 -> 0
A41: 2.5.2 | B41: Over 50km radius from main town centres of Beaufort West, Laingsburg. | C41: % | D41: =F16 -> 0 | E41: 0 | F41: =D41*E41 -> 0
A42: Total: Central Karoo District Municipality | F42: =SUM(F40:F41) -> 0
A43: 2.6 | B43: Garden Route District Municipality
A44: 2.6.1 | B44: 0-50km radius from main town centres of George, Mossel Bay, Riversdale, Oudtshoorn, Ladismith, Knysna. | C44: % | D44: =F16 -> 0 | E44: 0 | F44: =D44*E44 -> 0
...

Sheet Table 5- K9
A2: MT10/2025 Price Schedule: Core Services: All Regions
A3: TABLE 5: Optional Service Element for Service Categories: K9
A4: Complete Price Schedule Table 5 if you are offering the optional Service Element K9 below in any of the Western Cape Regions (District Municipalities). If you are not offering these optional services in any Region, leave pricing in Table 5 blank. Rates and Prices to be provided for items in Table 1 EXCLUSIVE OF VAT.
A6: No | B6: Item | C6: Unit | D6: Illustrative | E6: Rate | F6: Price
D7: Quantity | E7: (B) | F7: (A x B)
D8: (A)
A9: 1 | B9: K9 Security Personnel and dogs
A10: 1.1 | B10: Monday to Sunday: Day Shift: 24-hour availability, 7 days per week including Sundays and public holidays, comprising:
B11: · Direct costs (including basic salary, deductions and contributions, bonuses, etc);
B12: · Indirect Costs (such as management and other expenses);
B13: · All standard operational equipment (such as torches, batons, radios, electronic patrolling system, dog leashes and hand loops, bridle snaps, etc);
B14: but EXCLUDING Overheads & profit (priced separately below)
A15: 1.1.1 | B15: Dog Handler Grade C | C15: / month | D15: 3 | E15: 0 | F15: =D15*E15 -> 0
A16: 1.1.2 | B16: Dog Handler Grade B | C16: / month | D16: 3 | E16: 0 | F16: =D16*E16 -> 0
A17: 1.1.3 | B17: Dog Handler Grade A | C17: / month | D17: 3 | E17: 0 | F17: =D17*E17 -> 0
A18: 1.1.4 | B18: K9 Operational Supervisor Grade B | C18: / month | D18: 3 | E18: 0 | F18: =D18*E18 -> 0
A19: 1.1.5 | B19: K9 Operational Supervisor Grade A | C19: / month | D19: 3 | E19: 0 | F19: =D19*E19 -> 0
A20: 1.1.6 | B20: K9 Control Room Supervisor Grade B | C20: / month | D20: 3 | E20: 0 | F20: =D20*E20 -> 0
A21: 1.1.7 | B21: K9 Control Room Supervisor Grade A | C21: / month | D21: 3 | E21: 0 | F21: =D21*E21 -> 0
A22: 1.1.8 | B22: Dog | C22: / month | D22: 3 | E22: 0 | F22: =D22*E22 -> 0
A23: 1.2 | B23: Monday to Sunday: Night Shift: 24-hour availability, 7 days per week including Sundays and public holidays, comprising:
B24: · Direct costs (including basic salary, deductions and contributions, bonuses, etc);
B25: · Indirect Costs (such as management and other expenses);
B26: · All standard operational equipment (such as torches, batons, radios, electronic patrolling system, dog leashes and hand loops, bridle snaps, etc);
B27: but EXCLUDING Overheads & profit (priced separately below)
A28: 1.2.1 | B28: Dog Handler Grade C | C28: / month | D28: 3 | E28: 0 | F28: =D28*E28 -> 0
A29: 1.2.2 | B29: Dog Handler Grade B | C29: / month | D29: 3 | E29: 0 | F29: =D29*E29 -> 0
A30: 1.2.3 | B30: Dog Handler Grade A | C30: / month | D30: 3 | E30: 0 | F30: =D30*E30 -> 0
A31: 1.2.4 | B31: K9 Operational Supervisor Grade B | C31: / month | D31: 3 | E31: 0 | F31: =D31*E31 -> 0
A32: 1.2.5 | B32: K9 Operational Supervisor Grade A | C32: / month | D32: 3 | E32: 0 | F32: =D32*E32 -> 0
A33: 1.2.6 | B33: K9 Control Room Supervisor Grade B | C33: / month | D33: 3 | E33: 0 | F33: =D33*E33 -> 0
A34: 1.2.7 | B34: K9 Control Room Supervisor Grade A | C34: / month | D34: 3 | E34: 0 | F34: =D34*E34 -> 0
A35: 1.2.8 | B35: Dog | C35: / month | D35: 3 | E35: 0 | F35: =D35*E35 -> 0
A36: 2 | B36: Equipment
A37: 2.1 | B37: Equipment cost per month, irrespective of 5-day or 7-day week EXCLUDING Overheads & profit (priced separately below)
A38: 2.1.1 | B38: Designed and equipped K9 vehicle/trailer | C38: / month | D38: 3 | E38: 0 | F38: =D38*E38 -> 0
B39: Total of the Prices for Items 1 and 2 above: Table 5 | F39: =SUM(F15:F22,F28:F35,F38) -> 0
A42: 3 | B42: Overheads and profit for K9 Service in the various Regions
B43: Overhead costs inclusive of uniforms, transport, administration, mobile communication devices and all other incidentals and costs incurred to provide the Service to the standards as per the Scope of Goods and Services, tendered as a percentage factor to be ADDED to the rates of optional K9 Service, as applicable to the location of the Service in the various Regions. PLEASE NOTE: Services to be offered and priced within the borders of any Region. No cross-border Work Orders will as a general rule be issued during the term of this contract, however the Purchaser may consider exceptions in the event of insufficient availability of service providers in any particular Region or geographic location.
A44: No | B44: Region and distance from main centres | C44: Unit: | D44: Total amount from Table 5 | E44: Tendered percentage | F44: Total
...
