Workbook

Sheet P & G
A2: Item No. | B2: Description | C2: Unit | D2: Qty | E2: Rate | F2: Amount
B3: Preliminary & General
A5: 1 | B5: Contractual requirements | C5: % | F5: =E5 -> 0
A6: 2 | B6: Company cost and overheads | C6: % | F6: =E6 -> 0
A7: 3 | B7: Health and Safety | C7: % | F7: =E7 -> 0
A8: 4 | B8: Quality control management | C8: % | F8: =E8 -> 0
A9: 5 | B9: Extraordinary cost (December holidays) | C9: % | F9: =E9 -> 0
A10: 6 | B10: Environmental | C10: % | F10: =E10 -> 0
B13: SUB-TOTAL | F13: =SUM(F3:F12) -> 0

Sheet Repairs
A2: Item No. | B2: Description | C2: Unit | D2: Qty | E2: Rate- year 1 | F2: Rate- year 2 | G2: Rate- year 3 | H2: Amount
A3: A | B3: PLANT & EQUIPMENT
A5: 1 | B5: TLB | C5: Hr | D5: 240 | H5: =D5*G5 -> 0
A6: 2 | B6: 40 ton lowbed truck | C6: Hr | D6: 240 | H6: =D6*G6 -> 0
A7: 3 | B7: 17 ton crane truck | C7: Hr | D7: 240 | H7: =D7*G7 -> 0
A8: 4 | B8: 32 ton Crane truck | C8: Hr | D8: 240 | H8: =D8*G8 -> 0
A9: 5 | B9: 8 inch trailer mounted diesel pump | C9: Hr | D9: 240 | H9: =D9*G9 -> 0
A10: 6 | B10: trailer mounted diesel bowser | C10: Hr | D10: 240 | H10: =D10*G10 -> 0
A11: 7 | B11: 6 inch trailer mounted electric pump | C11: Hr | D11: 240 | H11: =D11*G11 -> 0
A12: 8 | B12: 75kVA trailer mounted generator | C12: Hr | D12: 240 | H12: =D12*G12 -> 0
A13: 9 | B13: 4x4 bakkie | C13: Hr | D13: 240 | H13: =D13*G13 -> 0
A14: 10 | B14: 4x2 bakkie | C14: Hr | D14: 240 | H14: =D14*G14 -> 0
A15: 11 | B15: Concrete barricades | C15: Hr | D15: 240 | H15: =D15*G15 -> 0
A16: 12 | B16: Plastic barricades | C16: Hr | D16: 240 | H16: =D16*G16 -> 0
... A32: 28 | B32: Tipper truck | C32: Hr | D32: 240 | H32: =D32*G32 -> 0
A35: B | B35: FUEL
A36: 1 | B36: Diesel | C36: litres | D36: 1000 | H36: =D36*G36 -> 0
A37: 2 | B37: Petrol | C37: litres | D37: 1000 | H37: =D37*G37 -> 0
A40: C | B40: LABOUR
A42: 1 | B42: Contract manager | C42: hr | D42: 240 | H42: =D42*G42 -> 0
A43: 2 | B43: Site agent | C43: hr | D43: 240 | H43: =D43*G43 -> 0
A44: 3 | B44: Supervisor | C44: hr | D44: 240 | H44: =D44*G44 -> 0
A45: 4 | B45: Safety officer | C45: hr | D45: 240 | H45: =D45*G45 -> 0
A46: 5 | B46: Welder | C46: hr | D46: 240 | H46: =D46*G46 -> 0
A47: 6 | B47: Boilermaker | C47: hr | D47: 240 | H47: =D47*G47 -> 0
A48: 7 | B48: Welder Assistant | C48: hr | D48: 240 | H48: =D48*G48 -> 0
A49: 8 | B49: Machine Operator | C49: hr | D49: 240 | H49: =D49*G49 -> 0
A50: 9 | B50: Skilled labour | C50: hr | D50: 240 | H50: =D50*G50 -> 0
A51: 10 | B51: Semi-skilled labour | C51: hr | D51: 240 | H51: =D51*G51 -> 0
A52: 11 | B52: Labour | C52: hr | D52: 240 | H52: =D52*G52 -> 0
A55: D | B55: PROVISIONAL SUM FOR SERVICES
A56: 1 | B56: Estimated provisional sum amount of services to be out-sourced | C56: Prov. Sum | D56: 1 | E56: 2000000 | H56: =D56*E56 -> 2000000
A57: 2 | B57: Mark-Up for Sub-contracting of special services | C57: % | H57: =D57*G57 -> 0
A58: 3 | B58: Mark-Up for Security services | C58: % | H58: =D58*G58 -> 0
A60: E | B60: MATERIALS
A62: 1 | B62: Procurement of special materials (sand) | C62: m3 | D62: 600 | H62: =G62*D62 -> 0
A63: 2 | B63: Consumables (welding rods) | C63: kg | D63: 50 | H63: =G63*D63 -> 0
A64: 3 | B64: Acetylene | C64: kg | D64: 80 | H64: =G64*D64 -> 0
A65: 4 | B65: oxygen | C65: kg | D65: 80 | H65: =G65*D65 -> 0
A66: 5 | B66: Bitumen wrapping | C66: roll | D66: 10 | H66: =G66*D66 -> 0
...

Sheet SUMMARY
B1: NON-DISRUPTIVE REPAIRS OF LEAKS ON RAND WATER’S BULK WATER SUPPLY PIPELINES
B4: SUMMARY : REPAIR WORKS
A6: Section | B6: Description | C6: Amount
A8: A | B8: PLANT & EQUIPMENT | C8: =SUM(Repairs!H5:H28) -> 0
A10: B | B10: FUEL | C10: =SUM(Repairs!H36:H37) -> 0
A12: C | B12: LABOUR | C12: =SUM(Repairs!H42:H52) -> 0
A14: D | B14: PROVISIONAL SUM FOR SERVICES | C14: =SUM(Repairs!H56:H58) -> 2000000
A16: E | B16: MATERIALS | C16: =SUM(Repairs!H62:H66) -> 0
A18: F | B18: PROVISIONAL SUM FOR MATERIAL | C18: =Repairs!H69 -> 2000000
A20: G | B20: PRELIMINARY AND GENERAL | C20: ='P & G'!F13 -> 0
B23: SUBTOTAL | C23: =SUM(C8:C20) -> 4000000
B25: Vat at 15% | C25: =C23*0.15 -> 600000
B27: TOTAL | C27: =C23+C25 -> 4600000
B29: SECTION C CARRIED FORWARD TO TENDER SUMMARY
A34: NAME OF COMPANY REPRESENTATIVE:
A35: DATE:
A36: SIGNATURE:
