Workbook

Sheet Cover 
B2: TECHNICAL ADVISORY SERVICES FOR
B3: ESKOM RENEWABLE BUSINESS UNIT
B4: SOLAR PV PLANTS
B8: BILLS OF QUANTITIES
B10: REQUEST FOR TENDER
B12: ENQUIRY No.
B14: TENDERER’S NAME:
B18: THE PRICE: IN ZAR | C18: ='Summary '!E15 -> 0
B19: (excluding VAT)
B20: RAND VALUE IN WORDS
B25: DATE :
B27: FULL NAMES OF SIGNATORY:
B31: DESIGNATION OF SIGNATORY:
B35: SIGNATURE :

Sheet Summary 
C4: Technical Transaction Advisory Services for Eskom Renewable Business Unit
C5: Item No | D5: Description | E5: Amount
C7: 1 | D7: Arnot Power Station | E7: ='Arnot Power Station'!G30 -> 0
C9: 2 | D9: Duvha Power Station | E9: ='Duvha Power Station'!G29 -> 0
C11: 3 | D11: Majuba Power Station | E11: ='Majuba Power Station'!G29 -> 0
C13: 4 | D13: Tutuka Power Station | E13: ='Tutuka Power Station'!G29 -> 0
D15: TOTAL AMOUNT | E15: =SUM(E7:E14) -> 0

Sheet Arnot Power Station
B4: Technical Transaction Advisory Services for Eskom Renewable Business Unit- ARNOT
B5: Item No | C5: Description | D5: Unit | E5: Quantity | F5: Rate | G5: Amount
B7: 1 | C7: Project Manager | D7: hour | G7: =F7*E7 -> 0
B9: 2 | C9: Engineering Manager | D9: hour | G9: =F9*E9 -> 0
B11: 3 | C11: Electrical Enginner | D11: hour | G11: =F11*E11 -> 0
B13: 4 | C13: C & I Engineer | D13: hour | G13: =F13*E13 -> 0
B15: 5 | C15: Civil Engineer | D15: hour | G15: =F15*E15 -> 0
B17: 6 | C17: PV Design Engineer | D17: hour | G17: =F17*E17 -> 0
G19: =SUM(G7:G17) -> 0
C21: Disbursements
C23: Description | D23: Unit | E23: Quantity | F23: Rate | G23: Amount
B25: 6 | C25: Travelling | D25: km | G25: =F25*E25 -> 0
B26: 7 | C26: Accommodation | D26: day | G26: =F26*E26 -> 0
B27: 8 | C27: Living Out Allowance | D27: day | G27: =F27*E27 -> 0
G28: =SUM(G25:G27) -> 0
E30: TOTAL AMOUNT | G30: =G28+G19 -> 0

Sheet Duvha Power Station
B3: Technical Transaction Advisory Services for Eskom Renewable Business Unit-DUVHA
B4: Item No | C4: Description | D4: Unit | E4: Quantity | F4: Rate | G4: Amount
B6: 1 | C6: Project Manager | D6: hour | G6: =F6*E6 -> 0
B8: 2 | C8: Engineering Manager | D8: hour | G8: =F8*E8 -> 0
B10: 3 | C10: Electrical Enginner | D10: hour | G10: =F10*E10 -> 0
B12: 4 | C12: C & I Engineer | D12: hour | G12: =F12*E12 -> 0
B14: 5 | C14: Civil Engineer | D14: hour | G14: =F14*E14 -> 0
B16: 6 | C16: PV Design Engineer | D16: hour | G16: =F16*E16 -> 0
G18: =SUM(G6:G16) -> 0
C20: Disbursements
C22: Description | D22: Unit | E22: Quantity | F22: Rate | G22: Amount
B24: 6 | C24: Travelling | D24: km | G24: =F24*E24 -> 0
B25: 7 | C25: Accommodation | D25: day | G25: =F25*E25 -> 0
B26: 8 | C26: Living Out Allowance | D26: day | G26: =F26*E26 -> 0
G27: =SUM(G24:G26) -> 0
E29: TOTAL AMOUNT | G29: =G27+G18 -> 0

Sheet Majuba Power Station
B3: Technical Transaction Advisory Services for Eskom Renewable Business Unit-MAJUBA
B4: Item No | C4: Description | D4: Unit | E4: Quantity | F4: Rate | G4: Amount
B6: 1 | C6: Project Manager | D6: hour | G6: =F6*E6 -> 0
B8: 2 | C8: Engineering Manager | D8: hour | G8: =F8*E8 -> 0
B10: 3 | C10: Electrical Enginner | D10: hour | G10: =F10*E10 -> 0
B12: 4 | C12: C & I Engineer | D12: hour | G12: =F12*E12 -> 0
B14: 5 | C14: Civil Engineer | D14: hour | G14: =F14*E14 -> 0
B16: 6 | C16: PV Design Engineer | D16: hour | G16: =F16*E16 -> 0
G18: =SUM(G6:G16) -> 0
C20: Disbursements
C22: Description | D22: Unit | E22: Quantity | F22: Rate | G22: Amount
B24: 6 | C24: Travelling | D24: km | G24: =F24*E24 -> 0
B25: 7 | C25: Accommodation | D25: day | G25: =F25*E25 -> 0
B26: 8 | C26: Living Out Allowance | D26: day | G26: =F26*E26 -> 0
G27: =SUM(G24:G26) -> 0
E29: TOTAL AMOUNT | G29: =G27+G18 -> 0

Sheet Tutuka Power Station
B3: Technical Transaction Advisory Services for Eskom Renewable Business Unit- TUTUKA
B4: Item No | C4: Description | D4: Unit | E4: Quantity | F4: Rate | G4: Amount
B6: 1 | C6: Project Manager | D6: hour | G6: =F6*E6 -> 0
B8: 2 | C8: Engineering Manager | D8: hour | G8: =F8*E8 -> 0
B10: 3 | C10: Electrical Enginner | D10: hour | G10: =F10*E10 -> 0
B12: 4 | C12: C & I Engineer | D12: hour | G12: =F12*E12 -> 0
B14: 5 | C14: Civil Engineer | D14: hour | G14: =F14*E14 -> 0
B16: 6 | C16: PV Design Engineer | D16: hour | G16: =F16*E16 -> 0
G18: =SUM(G6:G16) -> 0
C20: Disbursements
C22: Description | D22: Unit | E22: Quantity | F22: Rate | G22: Amount
B24: 6 | C24: Travelling | D24: km | G24: =F24*E24 -> 0
B25: 7 | C25: Accommodation | D25: day | G25: =F25*E25 -> 0
B26: 8 | C26: Living Out Allowance | D26: day | G26: =F26*E26 -> 0
G27: =SUM(G24:G26) -> 0
E29: TOTAL AMOUNT | G29: =G27+G18 -> 0
