Workbook

Sheet SUMMARY
B2: SCHEDULED MAINTENANCE TO REFRIGERATION EQUIPMENT AND HEAT PUMPS AT CLUSTER 3
B4: CONTRACT REF. NO: | D4: SCMU3-2526-0268-HO | E4: Cluster/District: | F4: BCM & AMATHOLE
B6: ASSET TYPE: | D6: REFRIGERATION EQUIPMENT AND HEAT PUMPS
B8: SCHEDULE NUMBER | C8: DESCRIPTION | F8: TENDER AMOUNT
B10: 1A-1 | C10: BCM AND AMATHOLE | D10: ='SCHED 1A-1_Cluster 3'!D4 -> VERIFICATION OF ASSETS AND SPARE PART INVENTORY | F10: ='SCHED 1A-1_Cluster 3'!H83 -> 0
B12: 1A-2 | C12: BCM AND AMATHOLE | D12: ='SCHED 1A-2_Cluster 3'!D4 -> OPERATING AND MAINTENANCE MANUALS | F12: ='SCHED 1A-2_Cluster 3'!H83 -> 0
B14: 1A-5 | C14: BCM AND AMATHOLE | D14: ='SCHED 1A-3_Cluster 3'!D4 -> MAINTENACE CONTROL AND ENVIRINMENTAL MANAGEMENT PLAN | F14: ='SCHED 1A-3_Cluster 3'!H51 -> 0
B16: 2A-1 | C16: BCM AND AMATHOLE | D16: ='SCHED 2A-1_BCM_ADM'!$D$5 -> FUNCTIONAL CONDITION ASSESSMENT SCHEDULE | F16: ='SCHED 2A-1_BCM_ADM'!$H$84 -> 0
B18: 2A-2 | C18: BCM AND AMATHOLE | D18: ='SCHED 2A-2_BCM_ADM'!$D$5 -> DETAILED REPAIR SCHEDULE AND CONDITION ASSESSMENT REPORT | F18: ='SCHED 2A-2_BCM_ADM'!$H$85 -> 0
B20: 2A-3 | C20: BCM AND AMATHOLE | D20: ='SCHED 2A-3_BCM_ADM'!D5 -> TRAINING AND DOCUMENTATION PROVISSIONAL SUMS | F20: ='SCHED 2A-3_BCM_ADM'!H23 -> 0
B22: 3A | C22: BCM AND AMATHOLE | D22: ='SCHED 3A_MORTUARY'!$D$5 -> MAINTENANCE SERVICE SCHEDULE - MORTUARY | F22: ='SCHED 3A_MORTUARY'!$I$200 -> 0
B24: 3B | C24: BCM AND AMATHOLE | D24: ='SCHED 3B_HEAT PUMPS'!D5 -> MAINTENANCE SERVICE SCHEDULE - HEAT PUMPS | F24: ='SCHED 3B_HEAT PUMPS'!I31 -> 0
B26: 3C | C26: BCM AND AMATHOLE | D26: ='SCHED 3C_FRIDGES'!D5 -> MAINTENANCE SERVICE SCHEDULE - FRIDGES | F26: ='SCHED 3C_FRIDGES'!I111 -> 0
B28: 4 | C28: ='SCHEDULE 4'!$D$6 -> TERM REPAIRS SUBJECT TO APPROVAL OF QUOTATION OF THE WORKS | F28: ='SCHEDULE 4'!H26 -> 0
B43: SUBTOTAL AMOUNT OF WORKS (EXCL VAT) | F43: =SUM(F9:F41) -> 0
B44: ALLOWANCE FOR VAT AT 15.0% | F44: =F43*15% -> 0
B45: TOTAL AMOUNT OF WORKS (INCL VAT) - ENTER THIS AMOUNT TO FORM OF OFFER | F45: =F43+F44 -> 0

Sheet SCHED 1A-1_Cluster 3
B1: =SUMMARY!$B$2 -> SCHEDULED MAINTENANCE TO REFRIGERATION EQUIPMENT AND HEAT PUMPS AT CLUSTER 3
B2: CONTRACT REF. NO: | D2: =SUMMARY!D4 -> SCMU3-2526-0268-HO | E2: Cluster/District: | G2: BCM AND AMATHOLE
B3: ASSET TYPE: | D3: REFRIGERATION EQUIPMENT AND HEAT PUMPS
B4: SCHEDULE 1A-1: | D4: VERIFICATION OF ASSETS AND SPARE PART INVENTORY
B6: ITEM Nr. | C6: PAYMENT REFERS | D6: DESCRIPTION | E6: UNIT | F6: QTY | G6: RATE | H6: AMOUNT
B7: 1 | C7: GM 2.5 | D7: VERIFICATION OF ASSETS ON SITE : Verify assets on site vs Asset Register (C4.1), and compile plant layout line drawings as per GM 2.5 (1) and (2).
D8: BUFFALO CITY DISTRICT
B9: 1.1 | D9: Bhisho Hospital | E9: Item | F9: 1
B10: 1.2 | D10: Cecilia Makiwane Hospital | E10: Item | F10: 1
B11: 1.3 | D11: Dimbaza CHC | E11: Item | F11: 1
B12: 1.4 | D12: Duncan Village CHC | E12: Item | F12: 1
B13: 1.5 | D13: Empilweni Gompo CHC | E13: Item | F13: 1
B14: 1.6 | D14: Frere Hospital | E14: Item | F14: 1
B15: 1.7 | D15: Grey Hospital | E15: Item | F15: 1
B16: 1.8 | D16: Mount Coke CHC | E16: Item | F16: 1
B17: 1.9 | D17: Nkqubela Hospital | E17: Item | F17: 1
B18: 1.10 | D18: Nontyatyambo CHC | E18: Item | F18: 1
B19: 1.11 | D19: Woodbrook Forensic Lab | E19: Item | F19: 1
B20: 1.12 | D20: Mdantsane Forensic Lab | E20: Item | F20: 1
B21: 1.13 | D21: Bhisho Forensic Lab | E21: Item | F21: 1
D22: AMATHOLE DISTRICT
B23: 1.14 | D23: Adelaide Hospital | E23: Item | F23: 1
B24: 1.15 | D24: Bedford Hospital | E24: Item | F24: 1
B25: 1.16 | D25: Butterworth Hospital | E25: Item | F25: 1
B26: 1.17 | D26: CathCart Hospital | E26: Item | F26: 1
B27: 1.18 | D27: Fort Beaufort Hospital | E27: Item | F27: 1
B28: 1.19 | D28: Idutywa Village CHC | E28: Item | F28: 1
B29: 1.20 | D29: Komga Hospital | E29: Item | F29: 1
B30: 1.21 | D30: Madwaleni Hospital | E30: Item | F30: 1
B31: 1.22 | D31: Middledrift CHC | E31: Item | F31: 1
B32: 1.23 | D32: Nompumelelo (Peddie) Hospital | E32: Item | F32: 1
B33: 1.24 | D33: Ngqamakwe CHC | E33: Item | F33: 1
B34: 1.25 | D34: SS Gida Hospital | E34: Item | F34: 1
... B43: 1.34 | D43: Idutywa Forensic Lab | E43: Item | F43: 1
B44: TOTAL CARRIED TO NEXT PAGE
B45: TOTAL FROM PREVIOUS PAGE
B46: 2 | C46: GM 2.5 | D46: VERIFICATION OF SPARE PART INVENTORY ON SITE : Find and verify all spares for the asset type that is currently available on site
D47: BUFFALO CITY DISTRICT
B48: 2.1 | D48: Bhisho Hospital | E48: Item | F48: 1
B49: 2.2 | D49: Cecilia Makiwane Hospital | E49: Item | F49: 1
...

Sheet SCHED 1A-2_Cluster 3
B1: =SUMMARY!$B$2 -> SCHEDULED MAINTENANCE TO REFRIGERATION EQUIPMENT AND HEAT PUMPS AT CLUSTER 3
B2: CONTRACT REF. NO: | D2: ='SCHED 1A-1_Cluster 3'!D2 -> SCMU3-2526-0268-HO | E2: Cluster/District: | G2: BCM AND AMATHOLE
B3: ASSET TYPE: | D3: REFRIGERATION EQUIPMENT AND HEAT PUMPS
B4: SCHEDULE 1A-2: | D4: OPERATING AND MAINTENANCE MANUALS
B6: ITEM Nr. | C6: PAYMENT REFERS | D6: DESCRIPTION | E6: UNIT | F6: QTY | G6: RATE | H6: AMOUNT
B7: 1 | C7: GM 2.5 | D7: COMPILING OF OPERATING AND MAINTENANCE MANUALS : Compile three sets of O&M Manuals per site, this includes As-built drawings.
D8: BUFFALO CITY DISTRICT
B9: 1.1 | D9: Bhisho Hospital | E9: Item | F9: 1
B10: 1.2 | D10: Cecilia Makiwane Hospital | E10: Item | F10: 1
B11: 1.3 | D11: Dimbaza CHC | E11: Item | F11: 1
B12: 1.4 | D12: Duncan Village CHC | E12: Item | F12: 1
B13: 1.5 | D13: Empilweni Gompo CHC | E13: Item | F13: 1
B14: 1.6 | D14: Frere Hospital | E14: Item | F14: 1
B15: 1.7 | D15: Grey Hospital | E15: Item | F15: 1
B16: 1.8 | D16: Mount Coke CHC | E16: Item | F16: 1
B17: 1.9 | D17: Nkqubela Hospital | E17: Item | F17: 1
B18: 1.10 | D18: Nontyatyambo CHC | E18: Item | F18: 1
B19: 1.11 | D19: Woodbrook Forensic Lab | E19: Item | F19: 1
B20: 1.12 | D20: Mdantsane Forensic Lab | E20: Item | F20: 1
B21: 1.13 | D21: Bhisho Forensic Lab | E21: Item | F21: 1
D22: AMATHOLE DISTRICT
B23: 1.14 | D23: Adelaide Hospital | E23: Item | F23: 1
B24: 1.15 | D24: Bedford Hospital | E24: Item | F24: 1
B25: 1.16 | D25: Butterworth Hospital | E25: Item | F25: 1
B26: 1.17 | D26: CathCart Hospital | E26: Item | F26: 1
B27: 1.18 | D27: Fort Beaufort Hospital | E27: Item | F27: 1
B28: 1.19 | D28: Idutywa Village CHC | E28: Item | F28: 1
B29: 1.20 | D29: Komga Hospital | E29: Item | F29: 1
B30: 1.21 | D30: Madwaleni Hospital | E30: Item | F30: 1
B31: 1.22 | D31: Middledrift CHC | E31: Item | F31: 1
B32: 1.23 | D32: Nompumelelo (Peddie) Hospital | E32: Item | F32: 1
B33: 1.24 | D33: Ngqamakwe CHC | E33: Item | F33: 1
B34: 1.25 | D34: SS Gida Hospital | E34: Item | F34: 1
... B43: 1.34 | D43: Idutywa Forensic Lab | E43: Item | F43: 1
B44: TOTAL CARRIED TO NEXT PAGE
B45: TOTAL FROM PREVIOUS PAGE
B46: 2 | C46: GM 2.5 | D46: OPERATOR AND MAINTAINER TRAINING : Provide Operator and Maintainer training
D47: BUFFALO CITY DISTRICT
B48: 2.1 | D48: Bhisho Hospital | E48: Item | F48: 3
B49: 2.2 | D49: Cecilia Makiwane Hospital | E49: Item | F49: 3
...

Sheet SCHED 1A-3_Cluster 3
B1: =SUMMARY!$B$2 -> SCHEDULED MAINTENANCE TO REFRIGERATION EQUIPMENT AND HEAT PUMPS AT CLUSTER 3
B2: CONTRACT REF. NO: | D2: ='SCHED 1A-2_Cluster 3'!D2 -> SCMU3-2526-0268-HO | E2: Cluster/District: | G2: BCM AND AMATHOLE
B3: ASSET TYPE: | D3: ='SCHED 1A-2_Cluster 3'!D3 -> REFRIGERATION EQUIPMENT AND HEAT PUMPS
B4: SCHEDULE 1A-3: | D4: MAINTENACE CONTROL AND ENVIRINMENTAL MANAGEMENT PLAN
B6: ITEM Nr. | C6: PAYMENT REFERS | D6: DESCRIPTION | E6: UNIT | F6: QTY | G6: RATE | H6: AMOUNT
B7: 1 | C7: GM 2.5 | D7: MAINTENANCE CONTROL PLAN : Compiling of a detailed Maintenance Control Plan for each Health Facility included in this Tender (See SS 3 for facility listing)
D8: BUFFALO CITY DISTRICT
B9: 1.1 | D9: Bhisho Hospital | E9: Item | F9: 1
B10: 1.2 | D10: Cecilia Makiwane Hospital | E10: Item | F10: 1
B11: 1.3 | D11: Dimbaza CHC | E11: Item | F11: 1
B12: 1.4 | D12: Duncan Village CHC | E12: Item | F12: 1
B13: 1.5 | D13: Empilweni Gompo CHC | E13: Item | F13: 1
B14: 1.6 | D14: Frere Hospital | E14: Item | F14: 1
B15: 1.7 | D15: Grey Hospital | E15: Item | F15: 1
B16: 1.8 | D16: Mount Coke CHC | E16: Item | F16: 1
B17: 1.9 | D17: Nkqubela Hospital | E17: Item | F17: 1
B18: 1.10 | D18: Nontyatyambo CHC | E18: Item | F18: 1
B19: 1.11 | D19: Woodbrook Forensic Lab | E19: Item | F19: 1
B20: 1.12 | D20: Mdantsane Forensic Lab | E20: Item | F20: 1
B21: 1.13 | D21: Bhisho Forensic Lab | E21: Item | F21: 1
D22: AMATHOLE DISTRICT
B23: 1.14 | D23: Adelaide Hospital | E23: Item | F23: 1
B24: 1.12 | D24: Bedford Hospital | E24: Item | F24: 1
B25: 1.13 | D25: Butterworth Hospital | E25: Item | F25: 1
B26: 1.14 | D26: CathCart Hospital | E26: Item | F26: 1
B27: 1.15 | D27: Fort Beaufort Hospital | E27: Item | F27: 1
B28: 1.16 | D28: Idutywa Village CHC | E28: Item | F28: 1
B29: 1.17 | D29: Komga Hospital | E29: Item | F29: 1
B30: 1.18 | D30: Madwaleni Hospital | E30: Item | F30: 1
B31: 1.19 | D31: Middledrift CHC | E31: Item | F31: 1
B32: 1.20 | D32: Nompumelelo (Peddie) Hospital | E32: Item | F32: 1
B33: 1.21 | D33: Ngqamakwe CHC | E33: Item | F33: 1
B34: 1.22 | D34: SS Gida Hospital | E34: Item | F34: 1
... B43: 1.31 | D43: Idutywa Forensic Lab | E43: Item | F43: 1
B44: 2 | C44: GM 2.15 | D44: ENVIRONMENTAL MANAGEMENT PLAN : The Contractor must compile a basic Environmental plan specific to the type of work that he will be performing at the Health Facilities as per C3.2 | E44: Item | F44: 17
B45: 3 | C45: GM 2.15 | D45: OCCUPATIONAL HEALTH AND SAFETY ACT COMPLIANCE COST : The Contractor must comply to the project Health and Safety Specification specific to the type of work that he will be performing on site as per C3.2 | E45: Month | F45: 36
B46: 4 | C46: Clause 83.1 | D46: INSURANCE : LIMITATION OF LIABILITY (Amounts applicable for whole Contract)
B47: 4.1 | D47: Provision for General Contractor's Insurance (Minimum liability limit must be equal to R2,000 000) to cover requirements of Clause 83.1 in Contract Data | E47: Month | F47: 36
B48: 5 | C48: X13 | D48: PERFORMANCE BOND (Amounts applicable for whole Contract)
B49: 5.1 | D49: Provision for a Performance bond of not less than 2,5% of the Tender Value | E49: Month | F49: 36
...

Sheet SCHED 2A-1_BCM_ADM
B2: =SUMMARY!$B$2 -> SCHEDULED MAINTENANCE TO REFRIGERATION EQUIPMENT AND HEAT PUMPS AT CLUSTER 3
B3: CONTRACT REF. NO: | D3: ='SCHED 1A-3_Cluster 3'!D2 -> SCMU3-2526-0268-HO | E3: Cluster/District: | G3: BCM AND AMATHOLE
B4: ASSET TYPE: | D4: ='SCHED 1A-3_Cluster 3'!D3 -> REFRIGERATION EQUIPMENT AND HEAT PUMPS
B5: SCHEDULE 2A-1: | D5: FUNCTIONAL CONDITION ASSESSMENT SCHEDULE
B7: ITEM Nr. | C7: PAYMENT REFERS | D7: DESCRIPTION | E7: UNIT | F7: QTY | G7: RATE | H7: AMOUNT
B8: 1 | C8: GM 2.5 | D8: FUNCTIONAL CONDITION ASSESSMENT : Perform Functional Condition Assessment (Inspection and Testing) on all listed assets at all Health Facilities included in the Tender
D9: BUFFALO CITY DISTRICT
B10: 1.1 | D10: Bhisho Hospital | E10: Item | F10: 1
B11: 1.2 | D11: Cecilia Makiwane Hospital | E11: Item | F11: 1
B12: 1.3 | D12: Dimbaza CHC | E12: Item | F12: 1
B13: 1.4 | D13: Duncan Village CHC | E13: Item | F13: 1
B14: 1.5 | D14: Empilweni Gompo CHC | E14: Item | F14: 1
B15: 1.6 | D15: Frere Hospital | E15: Item | F15: 1
B16: 1.7 | D16: Grey Hospital | E16: Item | F16: 1
B17: 1.8 | D17: Mount Coke CHC | E17: Item | F17: 1
B18: 1.9 | D18: Nkqubela Hospital | E18: Item | F18: 1
B19: 1.10 | D19: Nontyatyambo CHC | E19: Item | F19: 1
B20: 1.11 | D20: Woodbrook Forensic Lab | E20: Item | F20: 1
B21: 1.12 | D21: Mdantsane Forensic Lab | E21: Item | F21: 1
B22: 1.13 | D22: Bhisho Forensic Lab | E22: Item | F22: 1
D23: AMATHOLE DISTRICT
B24: 1.14 | D24: Adelaide Hospital | E24: Item | F24: 1
B25: 1.15 | D25: Bedford Hospital | E25: Item | F25: 1
B26: 1.16 | D26: Butterworth Hospital | E26: Item | F26: 1
B27: 1.17 | D27: CathCart Hospital | E27: Item | F27: 1
B28: 1.18 | D28: Fort Beaufort Hospital | E28: Item | F28: 1
B29: 1.19 | D29: Idutywa Village CHC | E29: Item | F29: 1
B30: 1.20 | D30: Komga Hospital | E30: Item | F30: 1
B31: 1.21 | D31: Madwaleni Hospital | E31: Item | F31: 1
B32: 1.22 | D32: Middledrift CHC | E32: Item | F32: 1
B33: 1.23 | D33: Nompumelelo (Peddie) Hospital | E33: Item | F33: 1
B34: 1.24 | D34: Ngqamakwe CHC | E34: Item | F34: 1
B35: 1.25 | D35: SS Gida Hospital | E35: Item | F35: 1
... B44: 1.34 | D44: Idutywa Forensic Lab | E44: Item | F44: 1
B45: TOTAL CARRIED TO NEXT PAGE
B46: TOTAL FROM PREVIOUS PAGE
B47: 2 | C47: GM 2.5.(5) | D47: COMPILING OF PRICED SPARE PART LISTS : Compile detailed, comprehensive priced spare parts lists for each site and asset type (based on Contrcator's cost price). NOTE: The Employer retains the right to negotiate the offered spare part prices, if they are not in line with national price norms.
D48: BUFFALO CITY DISTRICT
B49: 2.1 | D49: Bhisho Hospital | E49: Item | F49: 1
B50: 2.2 | D50: Cecilia Makiwane Hospital | E50: Item | F50: 1
...

Sheet SCHED 2A-2_BCM_ADM
B2: =SUMMARY!$B$2 -> SCHEDULED MAINTENANCE TO REFRIGERATION EQUIPMENT AND HEAT PUMPS AT CLUSTER 3
B3: CONTRACT REF. NO: | D3: ='SCHED 2A-1_BCM_ADM'!D3 -> SCMU3-2526-0268-HO | E3: Cluster/District: | G3: BCM AND AMATHOLE
B4: ASSET TYPE: | D4: ='SCHED 2A-1_BCM_ADM'!D4 -> REFRIGERATION EQUIPMENT AND HEAT PUMPS
B5: SCHEDULE 2A-2: | D5: DETAILED REPAIR SCHEDULE AND CONDITION ASSESSMENT REPORT
B7: ITEM Nr. | C7: PAYMENT REFERS | D7: DESCRIPTION | E7: UNIT | F7: QTY | G7: RATE | H7: AMOUNT
B8: 1 | C8: GM 2.5 | D8: COMPILING OF DETAILED REPAIR SCHEDULE : Compile detailed, comprehensive repair schedule including defect description, recommended repair method, detailed quote including priced spare parts, outsourced work, and provisional work program, for each Health Facility and asset type.
D9: BUFFALO CITY DISTRICT
B10: 1.1 | D10: Bhisho Hospital | E10: Item | F10: 1
B11: 1.2 | D11: Cecilia Makiwane Hospital | E11: Item | F11: 1
B12: 1.3 | D12: Dimbaza CHC | E12: Item | F12: 1
B13: 1.4 | D13: Duncan Village CHC | E13: Item | F13: 1
B14: 1.5 | D14: Empilweni Gompo CHC | E14: Item | F14: 1
B15: 1.6 | D15: Frere Hospital | E15: Item | F15: 1
B16: 1.7 | D16: Grey Hospital | E16: Item | F16: 1
B17: 1.8 | D17: Mount Coke CHC | E17: Item | F17: 1
B18: 1.9 | D18: Nkqubela Hospital | E18: Item | F18: 1
B19: 1.10 | D19: Nontyatyambo CHC | E19: Item | F19: 1
B20: 1.11 | D20: Woodbrook Forensic Lab | E20: Item | F20: 1
B21: 1.12 | D21: Mdantsane Forensic Lab | E21: Item | F21: 1
B22: 1.13 | D22: Bhisho Forensic Lab | E22: Item | F22: 1
D23: AMATHOLE DISTRICT
B24: 1.14 | D24: Adelaide Hospital | E24: Item | F24: 1
B25: 1.15 | D25: Bedford Hospital | E25: Item | F25: 1
B26: 1.16 | D26: Butterworth Hospital | E26: Item | F26: 1
B27: 1.17 | D27: CathCart Hospital | E27: Item | F27: 1
B28: 1.18 | D28: Fort Beaufort Hospital | E28: Item | F28: 1
B29: 1.19 | D29: Idutywa Village CHC | E29: Item | F29: 1
B30: 1.20 | D30: Komga Hospital | E30: Item | F30: 1
B31: 1.21 | D31: Madwaleni Hospital | E31: Item | F31: 1
B32: 1.22 | D32: Middledrift CHC | E32: Item | F32: 1
B33: 1.23 | D33: Nompumelelo (Peddie) Hospital | E33: Item | F33: 1
B34: 1.24 | D34: Ngqamakwe CHC | E34: Item | F34: 1
B35: 1.25 | D35: SS Gida Hospital | E35: Item | F35: 1
... B44: 1.34 | D44: Idutywa Forensic Lab | E44: Item | F44: 1
B45: TOTAL CARRIED TO NEXT PAGE
B46: TOTAL FROM PREVIOUS PAGE
B48: 2 | C48: GM 2.6 | D48: COMPILE FUNCTIONAL CONDITION ASSESSMENT REPORT: Compile Functional Condition Assessment Report for all asset types at all Health Facilities included in the Tender
D49: BUFFALO CITY DISTRICT
B50: 2.1 | D50: Bhisho Hospital | E50: Item | F50: 1
B51: 2.2 | D51: Cecilia Makiwane Hospital | E51: Item | F51: 1
...

Sheet SCHED 2A-3_BCM_ADM
B2: =SUMMARY!$B$2 -> SCHEDULED MAINTENANCE TO REFRIGERATION EQUIPMENT AND HEAT PUMPS AT CLUSTER 3
B3: CONTRACT REF. NO: | D3: ='SCHED 2A-2_BCM_ADM'!D3 -> SCMU3-2526-0268-HO | E3: Cluster/District: | G3: BCM AND AMATHOLE
B4: ASSET TYPE: | D4: ='SCHED 2A-2_BCM_ADM'!D4 -> REFRIGERATION EQUIPMENT AND HEAT PUMPS
B5: SCHEDULE 2A-3: | D5: TRAINING AND DOCUMENTATION PROVISSIONAL SUMS
B7: ITEM Nr. | C7: PAYMENT REFERS | D7: DESCRIPTION | E7: UNIT | F7: QTY | G7: RATE | H7: AMOUNT
B8: 1 | C8: SS15 | D8: IN-SERVICE TRAINING OF GRADUATES AND INTERNS : Provisional Sum to pay the costs associated with employing nominated Interns and Graduates for the duration of the Contract
B9: 1.1 | D9: Interns | E9: Months | F9: 36 | G9: 6000 | H9: =G9*F9 -> 216000
B10: 1.2 | D10: Interns | E10: Months | F10: 36 | G10: 6000 | H10: =G10*F10 -> 216000
B11: 1.3 | D11: Graduates | E11: Months | F11: 36 | G11: 8000 | H11: =G11*F11 -> 288000
B12: 1.4 | D12: Graduates | E12: Months | F12: 36 | G12: 8000 | H12: =G12*F12 -> 288000
B13: 1.5 | D13: Direct Fee Percentage (Mark-up) to be charged by Contractor on amount above | E13: %
B14: 2 | C14: SS16 | D14: PROVISION OF ASSET APPLICABLE ACCREDITED TRAINING : Arranging of Accredited Asset Applicable Training for Operating and Maintenance Staff as per SS16 | E14: Psum | F14: 1 | G14: 345000 | H14: =G14*F14 -> 345000
B15: 2.1 | C15: Clause 11.2(8) | D15: Direct Fee Percentage (Mark-up) to be charged by Contractor on amount above | E15: %
B17: 3 | C17: GM 6 | D17: PROVISION FOR SPECIAL TESTING BY SERVICE MANAGER : Lump sum provision for doing special tests at the Health Facilities as per the prerogative of the Service Manager | E17: PSum | F17: 1 | G17: 105000 | H17: 105000
B18: 3.1 | C18: Clause 11.2(8) | D18: Direct Fee Percentage (Mark-up) to be charged by Contractor on amounts above | E18: %
B19: 4 | C19: GM 2.6 | D19: MAINTENANCE DOCUMENTATION SITE STORAGE CONSOLE: Provisional sum to supply and install O&M Manual, Log Books, and site Maintenance Records at each equipment type location as directed by the Service Manager | E19: PSum | F19: 1 | G19: 25000 | H19: 25000
B20: 4.1 | C20: Clause 11.2(8) | D20: Direct Fee Percentage (Mark-up) to be charged by Contractor on amounts above | E20: %
B23: TOTAL CARRIED FORWARD TO SUMMARY

Sheet SCHED 3A_MORTUARY
B1: =SUMMARY!$B$2 -> SCHEDULED MAINTENANCE TO REFRIGERATION EQUIPMENT AND HEAT PUMPS AT CLUSTER 3
B2: CONTRACT Ref. | D2: ='SCHED 2A-3_BCM_ADM'!D3 -> SCMU3-2526-0268-HO | E2: Cluster/District: | H2: ='SCHED 2A-3_BCM_ADM'!G3 -> BCM AND AMATHOLE
B3: ASSET TYPE: | D3: =SUMMARY!$D$6 -> REFRIGERATION EQUIPMENT AND HEAT PUMPS
B5: SCHEDULE 3A : | D5: MAINTENANCE SERVICE SCHEDULE - MORTUARY
B7: ITEM Nr. | C7: PAYMENT REFERS | D7: DESCRIPTION | E7: UNIT | F7: EQUIPMENT QTY | G7: QTY | H7: RATE | I7: AMOUNT
B8: 1 | C8: GM 3.2 | D8: MAINTENANCE WORKS : Standard servicing and planned Maintenance Costs including all parts, consumables and lubricants, labour, travelling, accommodation and subsistence allowances (Price per machine)
B9: 1.1 | D9: Bhisho Hospital: 3 Tier Fridge
B10: 1.1.1 | D10: Minor Service Cost : Price per Six Monthly Service / Inspection per machine, as per tasks from the Six Monthly Service Inspection Guideline in C6. | E10: No | F10: 4 | G10: 3
B11: 1.1.2 | D11: Major Service Cost : Price per Annual Service / Inspection per machine, as per tasks from the Annual Service Inspection Guideline in C6. | E11: No | F11: 4 | G11: 3
B12: 1.2 | D12: Bhisho Hospital: Candiver Lift
B13: 1.2.1 | D13: Minor Service Cost : Price per Six Monthly Service / Inspection per machine, as per tasks from the Six Monthly Service Inspection Guideline in C6. | E13: No | F13: 1 | G13: 3
B14: 1.2.2 | D14: Major Service Cost : Price per Annual Service / Inspection per machine, as per tasks from the Annual Service Inspection Guideline in C6. | E14: No | F14: 1 | G14: 3
B15: 1.3 | D15: Cecilia Makhiwane Hospital : Walk-in with 2 evaporators
B16: 1.3.1 | D16: Minor Service Cost : Price per Six Monthly Service / Inspection per machine, as per tasks from the Six Monthly Service Inspection Guideline in C6. | E16: No | F16: 2 | G16: 3
B17: 1.3.2 | D17: Major Service Cost : Price per Annual Service / Inspection per machine, as per tasks from the Annual Service Inspection Guideline in C6. | E17: No | F17: 2 | G17: 3
B18: 1.4 | D18: Cecilia Makhiwane Hospital : Walk-in outdoor Compressors
B19: 1.4.1 | D19: Minor Service Cost : Price per Six Monthly Service / Inspection per machine, as per tasks from the Six Monthly Service Inspection Guideline in C6. | E19: No | F19: 2 | G19: 3
B20: 1.4.2 | D20: Major Service Cost : Price per Annual Service / Inspection per machine, as per tasks from the Annual Service Inspection Guideline in C6. | E20: No | F20: 2 | G20: 3
B21: 1.5 | D21: Cecilia Makhiwane Hospital : Walk in indoor evaporators
B22: 1.5.1 | D22: Minor Service Cost : Price per Six Monthly Service / Inspection per machine, as per tasks from the Six Monthly Service Inspection Guideline in C6. | E22: No | F22: 2 | G22: 3
B23: 1.5.2 | D23: Major Service Cost : Price per Annual Service / Inspection per machine, as per tasks from the Annual Service Inspection Guideline in C6. | E23: No | F23: 2 | G23: 3
B24: 1.6 | D24: Cecilia Makhiwane Hospital : Cadaver Lift
B25: 1.6.1 | D25: Minor Service Cost : Price per Six Monthly Service / Inspection per machine, as per tasks from the Six Monthly Service Inspection Guideline in C6. | E25: No | F25: 2 | G25: 3
B26: 1.6.2 | D26: Major Service Cost : Price per Annual Service / Inspection per machine, as per tasks from the Annual Service Inspection Guideline in C6. | E26: No | F26: 2 | G26: 3
B27: 1.7 | D27: Frere Hospital : Walk-in Freezer Outdoor (Compressor)
B28: 1.7.1 | D28: Minor Service Cost : Price per Six Monthly Service / Inspection per machine, as per tasks from the Six Monthly Service Inspection Guideline in C6. | E28: No | F28: 3 | G28: 3
B29: 1.7.2 | D29: Major Service Cost : Price per Annual Service / Inspection per machine, as per tasks from the Annual Service Inspection Guideline in C6. | E29: No | F29: 3 | G29: 3
B30: 1.8 | D30: Frere Hospital : Walk-in Freezer indoor (evaporator)
B31: 1.8.1 | D31: Minor Service Cost : Price per Six Monthly Service / Inspection per machine, as per tasks from the Six Monthly Service Inspection Guideline in C6. | E31: No | F31: 3 | G31: 3
B32: 1.8.2 | D32: Major Service Cost : Price per Annual Service / Inspection per machine, as per tasks from the Annual Service Inspection Guideline in C6. | E32: No | F32: 3 | G32: 3
B33: TOTAL CARRIED TO NEXT PAGE
B34: TOTAL FROM PREVIOUS PAGE
B35: 1.9 | D35: Frere Hospital : 4 Tier Fridge
B36: 1.9.1 | D36: Minor Service Cost : Price per Six Monthly Service / Inspection per machine, as per tasks from the Six Monthly Service Inspection Guideline in C6. | E36: No | F36: 1 | G36: 3
B37: 1.9.2 | D37: Major Service Cost : Price per Annual Service / Inspection per machine, as per tasks from the Annual Service Inspection Guideline in C6. | E37: No | F37: 1 | G37: 3
B38: 1.10 | D38: Frere Hospital : 3 Tier Fridge
B39: 1.10.1 | D39: Minor Service Cost : Price per Six Monthly Service / Inspection per machine, as per tasks from the Six Monthly Service Inspection Guideline in C6. | E39: No | F39: 3 | G39: 3
B40: 1.10.2 | D40: Major Service Cost : Price per Annual Service / Inspection per machine, as per tasks from the Annual Service Inspection Guideline in C6. | E40: No | F40: 3 | G40: 3
B41: 1.11 | D41: Frere Hospital : Cadaver Lift
B42: 1.11.1 | D42: Minor Service Cost : Price per Six Monthly Service / Inspection per machine, as per tasks from the Six Monthly Service Inspection Guideline in C6. | E42: No | F42: 4 | G42: 3
...

Sheet SCHED 3B_HEAT PUMPS
B1: =SUMMARY!$B$2 -> SCHEDULED MAINTENANCE TO REFRIGERATION EQUIPMENT AND HEAT PUMPS AT CLUSTER 3
B2: CONTRACT Ref. | D2: ='SCHED 3A_MORTUARY'!D2 -> SCMU3-2526-0268-HO | E2: Cluster/District: | H2: BUFFALO CITY MUNICIPALITY
B3: ASSET TYPE: | D3: =SUMMARY!$D$6 -> REFRIGERATION EQUIPMENT AND HEAT PUMPS
B5: SCHEDULE 3B : | D5: MAINTENANCE SERVICE SCHEDULE - HEAT PUMPS
B7: ITEM Nr. | C7: PAYMENT REFERS | D7: DESCRIPTION | E7: UNIT | F7: EQUIPMENT QTY | G7: QTY | H7: RATE | I7: AMOUNT
B8: 1 | C8: GM 3.2 | D8: MAINTENANCE WORKS : Standard servicing and planned Maintenance Costs including all parts, consumables and lubricants, labour, travelling, accommodation and subsistence allowances (Price per machine)
B9: 1.1 | D9: Cecilia Makhiwane Hospital: 19kW Heat pump
B10: 1.1.1 | D10: Minor Service Cost : Price per Six Monthly Service / Inspection per machine, as per tasks from the Six Monthly Service Inspection Guideline in C6. | E10: No | F10: 4 | G10: 3
B11: 1.1.2 | D11: Major Service Cost : Price per Annual Service / Inspection per machine, as per tasks from the Annual Service Inspection Guideline in C6. | E11: No | F11: 4 | G11: 3
B12: 1.2 | D12: Frere Hospital: 30kW Heat pump
B13: 1.2.1 | D13: Minor Service Cost : Price per Six Monthly Service / Inspection per machine, as per tasks from the Six Monthly Service Inspection Guideline in C6. | E13: No | F13: 1 | G13: 3
B14: 1.2.2 | D14: Major Service Cost : Price per Annual Service / Inspection per machine, as per tasks from the Annual Service Inspection Guideline in C6. | E14: No | F14: 1 | G14: 3
B15: 1.3 | D15: Frere Hospital: 17kW Heat pump
B16: 1.3.1 | D16: Minor Service Cost : Price per Six Monthly Service / Inspection per machine, as per tasks from the Six Monthly Service Inspection Guideline in C6. | E16: No | F16: 2 | G16: 3
B17: 1.3.2 | D17: Major Service Cost : Price per Annual Service / Inspection per machine, as per tasks from the Annual Service Inspection Guideline in C6. | E17: No | F17: 2 | G17: 3
B18: 1.4 | D18: Grey Hospital: 38kW Heat pump
B19: 1.4.1 | D19: Minor Service Cost : Price per Six Monthly Service / Inspection per machine, as per tasks from the Six Monthly Service Inspection Guideline in C6. | E19: No | F19: 2 | G19: 3
B20: 1.4.2 | D20: Major Service Cost : Price per Annual Service / Inspection per machine, as per tasks from the Annual Service Inspection Guideline in C6. | E20: No | F20: 2 | G20: 3
B21: 1.5 | D21: Butterworth Hospital: 80kW Heat pump
B22: 1.5.1 | D22: Minor Service Cost : Price per Six Monthly Service / Inspection per machine, as per tasks from the Six Monthly Service Inspection Guideline in C6. | E22: No | F22: 1 | G22: 3
B23: 1.5.2 | D23: Major Service Cost : Price per Annual Service / Inspection per machine, as per tasks from the Annual Service Inspection Guideline in C6. | E23: No | F23: 1 | G23: 3
B24: 1.6 | D24: Fort Beaufort Hospital: 45kW Heat pump
B25: 1.6.1 | D25: Minor Service Cost : Price per Six Monthly Service / Inspection per machine, as per tasks from the Six Monthly Service Inspection Guideline in C6. | E25: No | F25: 1 | G25: 3
B26: 1.6.2 | D26: Major Service Cost : Price per Annual Service / Inspection per machine, as per tasks from the Annual Service Inspection Guideline in C6. | E26: No | F26: 1 | G26: 3
B27: 1.7 | D27: Tafalofefe Hospital: 35kW Heat pump
B28: 1.7.1 | D28: Minor Service Cost : Price per Six Monthly Service / Inspection per machine, as per tasks from the Six Monthly Service Inspection Guideline in C6. | E28: No | F28: 3 | G28: 3
B29: 1.7.2 | D29: Major Service Cost : Price per Annual Service / Inspection per machine, as per tasks from the Annual Service Inspection Guideline in C6. | E29: No | F29: 3 | G29: 3
B31: TOTAL CARRIED FORWARD TO SUMMARY

Sheet SCHED 3C_FRIDGES
B1: =SUMMARY!$B$2 -> SCHEDULED MAINTENANCE TO REFRIGERATION EQUIPMENT AND HEAT PUMPS AT CLUSTER 3
B2: CONTRACT Ref. | D2: ='SCHED 3B_HEAT PUMPS'!D2 -> SCMU3-2526-0268-HO | E2: Cluster/District: | H2: ='SCHED 2A-3_BCM_ADM'!G3 -> BCM AND AMATHOLE
B3: ASSET TYPE: | D3: =SUMMARY!$D$6 -> REFRIGERATION EQUIPMENT AND HEAT PUMPS
B5: SCHEDULE 3A : | D5: MAINTENANCE SERVICE SCHEDULE - FRIDGES
B7: ITEM Nr. | C7: PAYMENT REFERS | D7: DESCRIPTION | E7: UNIT | F7: EQUIPMENT QTY | G7: QTY | H7: RATE | I7: AMOUNT
B8: 1 | C8: GM 3.2 | D8: MAINTENANCE WORKS : Standard servicing and planned Maintenance Costs including all parts, consumables and lubricants, labour, travelling, accommodation and subsistence allowances (Price per machine)
B9: 1.1 | D9: Bhisho Hospital: Fridge
B10: 1.1.1 | D10: Minor Service Cost : Price per Six Monthly Service / Inspection per machine, as per tasks from the Six Monthly Service Inspection Guideline in C6. | E10: No | F10: 21 | G10: 3
B11: 1.1.2 | D11: Major Service Cost : Price per Annual Service / Inspection per machine, as per tasks from the Annual Service Inspection Guideline in C6. | E11: No | F11: 21 | G11: 3
B12: 1.2 | D12: Cecilia Makhiwane Hospital : Beverage Cooler
B13: 1.2.1 | D13: Minor Service Cost : Price per Six Monthly Service / Inspection per machine, as per tasks from the Six Monthly Service Inspection Guideline in C6. | E13: No | F13: 4 | G13: 3
B14: 1.2.2 | D14: Major Service Cost : Price per Annual Service / Inspection per machine, as per tasks from the Annual Service Inspection Guideline in C6. | E14: No | F14: 4 | G14: 3
B15: 1.3 | D15: Dimbaza CHC : Fridge
B16: 1.3.1 | D16: Minor Service Cost : Price per Six Monthly Service / Inspection per machine, as per tasks from the Six Monthly Service Inspection Guideline in C6. | E16: No | F16: 9 | G16: 3
B17: 1.3.2 | D17: Major Service Cost : Price per Annual Service / Inspection per machine, as per tasks from the Annual Service Inspection Guideline in C6. | E17: No | F17: 9 | G17: 3
B18: 1.4 | D18: Duncan Village CHC : Fridge
B19: 1.4.1 | D19: Minor Service Cost : Price per Six Monthly Service / Inspection per machine, as per tasks from the Six Monthly Service Inspection Guideline in C6. | E19: No | F19: 7 | G19: 3
B20: 1.4.2 | D20: Major Service Cost : Price per Annual Service / Inspection per machine, as per tasks from the Annual Service Inspection Guideline in C6. | E20: No | F20: 7 | G20: 3
B21: 1.5 | D21: Empilweni Gompo CHC : Fridge
B22: 1.5.1 | D22: Minor Service Cost : Price per Six Monthly Service / Inspection per machine, as per tasks from the Six Monthly Service Inspection Guideline in C6. | E22: No | F22: 19 | G22: 3
B23: 1.5.2 | D23: Major Service Cost : Price per Annual Service / Inspection per machine, as per tasks from the Annual Service Inspection Guideline in C6. | E23: No | F23: 19 | G23: 3
B24: 1.6 | D24: Frere Hospital : Cold Rooms
B25: 1.6.1 | D25: Minor Service Cost : Price per Six Monthly Service / Inspection per machine, as per tasks from the Six Monthly Service Inspection Guideline in C6. | E25: No | F25: 2 | G25: 3
B26: 1.6.2 | D26: Major Service Cost : Price per Annual Service / Inspection per machine, as per tasks from the Annual Service Inspection Guideline in C6. | E26: No | F26: 2 | G26: 3
B27: 1.7 | D27: Frere Hospital : Fridge
B28: 1.7.1 | D28: Minor Service Cost : Price per Six Monthly Service / Inspection per machine, as per tasks from the Six Monthly Service Inspection Guideline in C6. | E28: No | F28: 11 | G28: 3
B29: 1.7.2 | D29: Major Service Cost : Price per Annual Service / Inspection per machine, as per tasks from the Annual Service Inspection Guideline in C6. | E29: No | F29: 11 | G29: 3
B30: 1.8 | D30: Grey Hospital : Fridge
B31: 1.8.1 | D31: Minor Service Cost : Price per Six Monthly Service / Inspection per machine, as per tasks from the Six Monthly Service Inspection Guideline in C6. | E31: No | F31: 11 | G31: 3
B32: 1.8.2 | D32: Major Service Cost : Price per Annual Service / Inspection per machine, as per tasks from the Annual Service Inspection Guideline in C6. | E32: No | F32: 11 | G32: 3
B33: TOTAL CARRIED TO NEXT PAGE
B34: TOTAL FROM PREVIOUS PAGE
B35: 1.9 | D35: Mount Coke CHC : Fridge
B36: 1.9.1 | D36: Minor Service Cost : Price per Six Monthly Service / Inspection per machine, as per tasks from the Six Monthly Service Inspection Guideline in C6. | E36: No | F36: 4 | G36: 3
B37: 1.9.2 | D37: Major Service Cost : Price per Annual Service / Inspection per machine, as per tasks from the Annual Service Inspection Guideline in C6. | E37: No | F37: 4 | G37: 3
B38: 1.6 | D38: Nkqubela Hospital : Fridge
B39: 1.6.1 | D39: Minor Service Cost : Price per Six Monthly Service / Inspection per machine, as per tasks from the Six Monthly Service Inspection Guideline in C6. | E39: No | F39: 42 | G39: 3
B40: 1.6.2 | D40: Major Service Cost : Price per Annual Service / Inspection per machine, as per tasks from the Annual Service Inspection Guideline in C6. | E40: No | F40: 42 | G40: 3
B41: 1.6 | D41: Nontyatyambo CHC : Fridge
B42: 1.6.1 | D42: Minor Service Cost : Price per Six Monthly Service / Inspection per machine, as per tasks from the Six Monthly Service Inspection Guideline in C6. | E42: No | F42: 26 | G42: 3
...

Sheet SCHEDULE 4
B2: =SUMMARY!$B$2 -> SCHEDULED MAINTENANCE TO REFRIGERATION EQUIPMENT AND HEAT PUMPS AT CLUSTER 3
B3: CONTRACT REF. NO: | D3: ='SCHED 3B_HEAT PUMPS'!D2 -> SCMU3-2526-0268-HO | E3: Cluster/District: | G3: BCM AND AMATHOLE
B4: ASSET TYPE: | D4: =SUMMARY!$D$6 -> REFRIGERATION EQUIPMENT AND HEAT PUMPS
B6: SCHEDULE 4 : | D6: TERM REPAIRS SUBJECT TO APPROVAL OF QUOTATION OF THE WORKS
B8: ITEM Nr. | C8: PAYMENT REFERS | D8: DESCRIPTION | E8: UNIT | F8: QTY | G8: RATE | H8: AMOUNT
B9: 1 | C9: GM 2.8 | D9: LABOUR RATES APPLICABLE TO UNSCHEDULED WORK: Labour rates that Contractor will charge for additional adhoc work that is not contained in Schedules 1 to 3.
B10: 1.1 | D10: Technician | E10: Hr | F10: =((4*36)*17)/4 -> 612
B11: 1.2 | D11: Senior Artisan (Trade Tested & Additional Certification) | E11: Hr | F11: =((4*36)*17)/4 -> 612
B12: 1.3 | D12: Artisan (Trade Tested) | E12: Hr | F12: =((4*36)*17) -> 2448
B13: 1.4 | D13: Utility Man (Non-Trade Tested) | E13: Hr | F13: =((4*36)*17)/4 -> 612
B14: 1.5 | D14: Artisan Aid | E14: Hr | F14: =((4*36)*17) -> 2448
B15: 1.6 | D15: General Worker | E15: Hr | F15: =((4*36)*17)/4 -> 612
B16: 2 | C16: GM 2.8.3 | D16: TRAVELLING : Travelling cost will be as per the rates for reimbursable expenses published monthly by the National Department of Public Works at the time of rendering the service/repair.
B17: 2.1 | D17: Vehicle Travelling Estimate | E17: Km | F17: =(110*2*36)*17 -> 134640
B18: 3 | C18: GM 2.8.3 | D18: ACCOMMODATION AND SUBSISTENCE : Daily Rates per person that the Contractor will claim for approved trips lasting more than one day at a time.
B19: 3.1 | D19: Accommodation | E19: Per/night | F19: 65
B20: 3.2 | D20: Subsistence | E20: Per/day | F20: 65
B21: 4 | C21: GM 2.5 (10), GM 2.8.1 & GM 2.10.3 | D21: PROVISION TO COVER REPAIRS DURING THE TERM OF THE CONTRACT : Lump Sum Provision to cover repairs and breakdowns during the course of the Contract in addition to the agreed routine servicing of the Assets. | E21: PSum | F21: 1 | G21: 2000000 | H21: =G21 -> 2000000
B22: 5 | C22: GM 2.8.1 & Clause 11.2(8) | D22: DIRECT FEE PERCENTAGE (MARK-UP) ON MATERIALS AND SERVICES THAT IS NOT INCLUDED IN PRICE LISTS : Mark-up on proven cost for materials and/or Outsourced Services based on the Provisional sum listed in Item 4. above. (Apply % to provisional sum in Item 4 above when pricing the tender) | E22: %
B23: 6 | D23: PROVISION TO COVER MAINTENANCE OF FRIDGES IN CLINICS DURING THE TERM OF THE CONTRACT | E23: PSum | F23: 1 | G23: 500000 | H23: =G23 -> 500000
B24: 7 | D24: DIRECT FEE PERCENTAGE (MARK-UP) ON MATERIALS AND SERVICES THAT IS NOT INCLUDED IN PRICE LISTS : Mark-up on proven cost for materials and/or Outsourced Services based on the Provisional sum listed in Item 4. above. (Apply % to provisional sum in Item 6 above when pricing the tender) | E24: %
B26: TOTAL CARRIED FORWARD TO SUMMARY

Sheet WORK ORDERS  01 LAETITIA BAM CH
A9: QUOTE TO : | F9: Qoute No | H9: 1
A10: Department of Health | F10: Date | H10: 43770
A11: 717 Dukumbana Building | F11: Facility | H11: LAETITIA BAM CHC
A12: Independent Avenue | F12: Work Order | H12: 39138
A13: Bhisho | F13: Tender No | H13: SCMU3 - 17/18-0303 - HO
F14: Contract Term | H14: 24 MONTHS
A15: WORK REQUEST : Generator is faulty.
A16: SCHEDULED WORK
A17: Item 1 | B17: Discription | E17: Unit | F17: Sch No | G17: Quantity | H17: Rate | I17: Amount
I18: =SUM(G18*H18) -> 0
I19: =SUM(G19*H19) -> 0
I20: =SUM(G20*H20) -> 0
A21: Sub Total A | I21: =SUM(I18:I20) -> 0
A22: NON SCHEDULED WORK
A23: Item 2 | B23: Discription | F23: Quantity | G23: Mark -Up | H23: Rate | I23: Amount
A24: 1 | B24: RELAY 11 PIN 12V DC | F24: 2 | G24: 0.15 | H24: 110 | I24: =H24*F24*1.15 -> 253
A25: 2 | B25: RELAY BASE | F25: 2 | G25: 0.15 | H25: 65 | I25: =H25*F25*1.15 -> 149.5
A26: 3 | B26: DEEPSEA CONTROLLER | F26: 1 | G26: 0.15 | H26: 6239 | I26: =H26*F26*1.15 -> 7174.85
A27: 4 | B27: MCB 6A SP | F27: 2 | G27: 0.15 | H27: 21.6 | I27: =H27*F27*1.15 -> 49.68
A28: 5 | B28: RED STOP TWIST RELEASE | F28: 2 | G28: 0.15 | H28: 65.5 | I28: =H28*F28*1.15 -> 150.65
A29: 6 | B29: CONTACT BLOCK 1N/0 + 1N/C | F29: 2 | G29: 0.15 | H29: 68.5 | I29: =H29*F29*1.15 -> 157.55
A32: Sub Total B | I32: =SUM(I24:I31) -> 7935.23
A33: LABOUR
A34: Item 3 | B34: (Normal Rate) | E34: Unit | G34: Quantity | H34: Rate | I34: Amount
A35: 1 | B35: Techinician | E35: HRS | G35: 15 | H35: 450 | I35: =SUM(G35*H35) -> 6750
A36: 2 | B36: Senior Artisan | E36: HRS | H36: 350 | I36: =SUM(G36*H36) -> 0
A37: 3 | B37: Artisan (Trade Tested) | E37: HRS | H37: 300 | I37: =SUM(G37*H37) -> 0
A38: 4 | B38: Utility Man (Non - Trade Tested) | E38: HRS | G38: 15 | H38: 200 | I38: =SUM(G38*H38) -> 3000
A39: 5 | B39: Artisan Aid | E39: HRS | H39: 200 | I39: =SUM(G39*H39) -> 0
A40: 6 | B40: General Worker | E40: HRS | H40: 140 | I40: =SUM(G40*H40) -> 0
A44: Sub Total C | I44: =SUM(I35:I43) -> 9750
A45: TRANSPORT
A46: Item 4 | B46: Destinantion | E46: No of Trips | G46: KMs | H46: Rate | I46: Amount
A47: 12 | B47: Port Elizabeth office to Laetitia Bam
B48: CHC and back. | E48: 2 | G48: 154.4 | H48: 5 | I48: =H48*G48 -> 772
A50: Sub Total D | I50: =SUM(I47:I49) -> 772
G52: Sub Total (A+B+C+D) | I52: =I50+I44+I32+I21 -> 18457.23
G54: Sub Total | I54: =I52+I53 -> 18457.23

Sheet JOSE PEARSON TB HOSPITAL (02)
A9: QUOTE TO : | F9: Qoute No | H9: 2
A10: Department of Health | F10: Date | H10: 43498
A11: 717 Dukumbana Building | F11: Facility | H11: JOSE PEARSON TB HOSPITAL
A12: Independent Avenue | F12: Work Order | H12: 40578
A13: Bhisho | F13: Tender No | H13: SCMU3 - 17/18-0303 - HO
F14: Contract Term | H14: 24 MONTHS
A15: WORK REQUEST : Phamarcy building dep needs to be connected to the gen
A16: SCHEDULED WORK
A17: Item 1 | B17: Discription | E17: Unit | F17: Sch No | G17: Quantity | H17: Rate | I17: Amount
I18: =SUM(G18*H18) -> 0
I19: =SUM(G19*H19) -> 0
I20: =SUM(G20*H20) -> 0
A21: Sub Total A | I21: =SUM(I18:I20) -> 0
A22: NON SCHEDULED WORK
A23: Item 2 | B23: Discription | F23: Quantity | G23: MarK UP | H23: Rate | I23: Amount
A32: Sub Total B | I32: =SUM(I24:I31) -> 0
A33: LABOUR
A34: Item 3 | B34: (Normal Rate) | E34: Unit | G34: Quantity | H34: Rate | I34: Amount
A35: 1 | B35: Techinician | E35: HRS | G35: 6 | H35: 450 | I35: =SUM(G35*H35) -> 2700
A36: 2 | B36: Senior Artisan | E36: HRS | H36: 350 | I36: =SUM(G36*H36) -> 0
A37: 3 | B37: Artisan (Trade Tested) | E37: HRS | H37: 300 | I37: =SUM(G37*H37) -> 0
A38: 4 | B38: Utility Man (Non - Trade Tested) | E38: HRS | G38: 6 | H38: 200 | I38: =SUM(G38*H38) -> 1200
A39: 5 | B39: Artisan Aid | E39: HRS | H39: 200 | I39: =SUM(G39*H39) -> 0
A40: 6 | B40: General Worker | E40: HRS | H40: 140 | I40: =SUM(G40*H40) -> 0
A44: Sub Total C | I44: =SUM(I35:I43) -> 3900
A45: TRANSPORT
A46: Item 4 | B46: Destinantion | E46: No of Trips | G46: KMs | H46: Rate | I46: Amount
A47: 12 | B47: Port Elizabeth office to Jose Pearson
B48: TB Hospital and back. | E48: 1 | G48: 47 | H48: 5 | I48: =H48*G48 -> 235
A50: Sub Total D | I50: =SUM(I47:I49) -> 235
G52: Sub Total (A+B+C+D) | I52: =I50+I44+I32+I21 -> 4135
G54: Sub Total | I54: =I52 -> 4135

Sheet NEW BRIGHTON MORTUARY (03)
A9: QUOTE TO : | F9: Qoute No | H9: 3
A10: Department of Health | F10: Date | H10: 43801
A11: 717 Dukumbana Building | F11: Facility | H11: NEW BRIGHTON MORTUARY
A12: Independent Avenue | F12: Work Order | H12: 41253
A13: Bhisho | F13: Tender No | H13: SCMU3 - 17/18-0303 - HO
F14: Contract Term | H14: 24 MONTHS
A15: WORK REQUEST : Gen does not start.
A16: SCHEDULED WORK
A17: Item 1 | B17: Discription | E17: Unit | F17: Sch No | G17: Quantity | H17: Rate | I17: Amount
I18: =SUM(G18*H18) -> 0
I19: =SUM(G19*H19) -> 0
I20: =SUM(G20*H20) -> 0
A21: Sub Total A | I21: =SUM(I18:I20) -> 0
A22: NON SCHEDULED WORK
A23: Item 2 | B23: Discription | F23: Quantity | G23: MarK UP | H23: Rate | I23: Amount
A32: Sub Total B | I32: =SUM(I24:I31) -> 0
A33: LABOUR
A34: Item 3 | B34: (Normal Rate) | E34: Unit | G34: Quantity | H34: Rate | I34: Amount
A35: 1 | B35: Techinician | E35: HRS | G35: 1.5 | H35: 450 | I35: =SUM(G35*H35) -> 675
A36: 2 | B36: Senior Artisan | E36: HRS | H36: 350 | I36: =SUM(G36*H36) -> 0
A37: 3 | B37: Artisan (Trade Tested) | E37: HRS | H37: 300 | I37: =SUM(G37*H37) -> 0
A38: 4 | B38: Utility Man (Non - Trade Tested) | E38: HRS | G38: 1.5 | H38: 200 | I38: =SUM(G38*H38) -> 300
A39: 5 | B39: Artisan Aid | E39: HRS | H39: 200 | I39: =SUM(G39*H39) -> 0
A40: 6 | B40: General Worker | E40: HRS | H40: 140 | I40: =SUM(G40*H40) -> 0
A44: Sub Total C | I44: =SUM(I35:I43) -> 975
A45: TRANSPORT
A46: Item 4 | B46: Destinantion | E46: No of Trips | G46: KMs | H46: Rate | I46: Amount
A47: 12 | B47: Port Elizabeth office to New Brighton
B48: Mortuary and back. | E48: 1 | G48: 21.4 | H48: 5 | I48: =H48*G48 -> 107
A50: Sub Total D | I50: =SUM(I47:I49) -> 107
G52: Sub Total (A+B+C+D) | I52: =I50+I44+I32+I21 -> 1082
G54: Sub Total | I54: =I52+I53 -> 1082

Sheet DORA NGIZA HOSPITAL (04)
A9: QUOTE TO : | F9: Qoute No | H9: 4
A10: Department of Health | F10: Date | H10: 43771
A11: 717 Dukumbana Building | F11: Facility | H11: DORA NGINZA HOSPITAL
A12: Independent Avenue | F12: Work Order | H12: 41177
A13: Bhisho | F13: Tender No | H13: SCMU3 - 17/18-0303 - HO
F14: Contract Term | H14: 24 MONTHS
A15: WORK REQUEST : Request to repair faulty cable connecting to thechange over switch.
A16: SCHEDULED WORK
A17: Item 1 | B17: Discription | E17: Unit | F17: Sch No | G17: Quantity | H17: Rate | I17: Amount
I18: =SUM(G18*H18) -> 0
I19: =SUM(G19*H19) -> 0
I20: =SUM(G20*H20) -> 0
A21: Sub Total A | I21: =SUM(I18:I20) -> 0
A22: NON SCHEDULED WORK
A23: Item 2 | B23: Discription | F23: Quantity | G23: Mark - Up | H23: Rate | I23: Amount
A24: 1 | B24: ELECTRO PHASE FAILER RELAY 400V | F24: 1 | G24: 0.15 | H24: 396 | I24: =H24*F24*1.15 -> 455.4
A25: 2 | B25: 10 X 38mm FUSE 100KVA | F25: 1 | G25: 0.15 | H25: 12 | I25: =H25*F25*1.15 -> 13.8
A32: Sub Total B | I32: =SUM(I24:I31) -> 469.2
A33: LABOUR
A34: Item 3 | B34: (Normal Rate) | E34: Unit | G34: Quantity | H34: Rate | I34: Amount
A35: 1 | B35: Techinician | E35: HRS | G35: 2 | H35: 450 | I35: =SUM(G35*H35) -> 900
A36: 2 | B36: Senior Artisan | E36: HRS | H36: 350 | I36: =SUM(G36*H36) -> 0
A37: 3 | B37: Artisan (Trade Tested) | E37: HRS | H37: 300 | I37: =SUM(G37*H37) -> 0
A38: 4 | B38: Utility Man (Non - Trade Tested) | E38: HRS | G38: 2 | H38: 200 | I38: =SUM(G38*H38) -> 400
A39: 5 | B39: Artisan Aid | E39: HRS | H39: 200 | I39: =SUM(G39*H39) -> 0
A40: 6 | B40: General Worker | E40: HRS | H40: 140 | I40: =SUM(G40*H40) -> 0
A44: Sub Total C | I44: =SUM(I35:I43) -> 1300
A45: TRANSPORT
A46: Item 4 | B46: Destinantion | E46: No of Trips | G46: KMs | H46: Rate | I46: Amount
A47: 1 | B47: Port Elizabeth office to Dora Nginza
B48: Hospital and back. | E48: 1 | G48: 28.6 | H48: 5 | I48: =H48*G48 -> 143
A50: Sub Total D | I50: =SUM(I47:I49) -> 143
G52: Sub Total (A+B+C+D) | I52: =I50+I44+I32+I21 -> 1912.2
G54: Sub Total | I54: =I52+I53 -> 1912.2

Sheet LAETITIA BAM CHC (05)
A9: QUOTE TO : | F9: Qoute No | H9: 5
A10: Department of Health | F10: Date | H10: 43740
A11: 717 Dukumbana Building | F11: Facility | H11: LAETITIA BAM CHC
A12: Independent Avenue | F12: Work Order | H12: 41140
A13: Bhisho | F13: Tender No | H13: SCMU3 - 17/18-0303 - HO
F14: Contract Term | H14: 24 MONTHS
A15: WORK REQUEST : Gen did not start.
A16: SCHEDULED WORK
A17: Item 1 | B17: Discription | E17: Unit | F17: Sch No | G17: Quantity | H17: Rate | I17: Amount
I18: =SUM(G18*H18) -> 0
I19: =SUM(G19*H19) -> 0
I20: =SUM(G20*H20) -> 0
A21: Sub Total A | I21: =SUM(I18:I20) -> 0
A22: NON SCHEDULED WORK
A23: Item 2 | B23: Discription | F23: Quantity | H23: Rate | I23: Amount
A32: Sub Total B | I32: =SUM(I24:I31) -> 0
A33: LABOUR
A34: Item 3 | B34: (Normal Rate) | E34: Unit | G34: Quantity | H34: Rate | I34: Amount
A35: 1 | B35: Techinician | E35: HRS | G35: 1 | H35: 450 | I35: =SUM(G35*H35) -> 450
A36: 2 | B36: Senior Artisan | E36: HRS | H36: 350 | I36: =SUM(G36*H36) -> 0
A37: 3 | B37: Artisan (Trade Tested) | E37: HRS | H37: 300 | I37: =SUM(G37*H37) -> 0
A38: 4 | B38: Utility Man (Non - Trade Tested) | E38: HRS | G38: 1 | H38: 200 | I38: =SUM(G38*H38) -> 200
A39: 5 | B39: Artisan Aid | E39: HRS | H39: 200 | I39: =SUM(G39*H39) -> 0
A40: 6 | B40: General Worker | E40: HRS | H40: 140 | I40: =SUM(G40*H40) -> 0
A44: Sub Total C | I44: =SUM(I35:I43) -> 650
A45: TRANSPORT
A46: Item 4 | B46: Destinantion | E46: No of Trips | G46: KMs | H46: Rate | I46: Amount
A47: 1 | B47: Port Elizabeth office to Laetitia Bam
B48: CHC and back. | E48: 1 | G48: 77.2 | H48: 5 | I48: =H48*G48 -> 386
A50: Sub Total D | I50: =SUM(I47:I49) -> 386
G52: Sub Total (A+B+C+D) | I52: =I50+I44+I32+I21 -> 1036
G54: Sub Total | I54: =I52+I53 -> 1036

Sheet MOTHERWELL CHC (06)
A9: QUOTE TO : | F9: Qoute No | H9: 6
A10: Department of Health | F10: Date | H10: 13/2/2019
A11: 717 Dukumbana Building | F11: Facility | H11: MOTHERWELL CHC
A12: Independent Avenue | F12: Work Order | H12: 41408
A13: Bhisho | F13: Tender No | H13: SCMU3 - 17/18-0303 - HO
F14: Contract Term | H14: 24 MONTHS
A15: WORK REQUEST : Request to repair gen ,not staring.
A16: SCHEDULED WORK
A17: Item 1 | B17: Discription | E17: Unit | F17: Sch No | G17: Quantity | H17: Rate | I17: Amount
I18: =SUM(G18*H18) -> 0
I19: =SUM(G19*H19) -> 0
I20: =SUM(G20*H20) -> 0
A21: Sub Total A | I21: =SUM(I18:I20) -> 0
A22: NON SCHEDULED WORK
A23: Item 2 | B23: Discription | F23: Quantity | H23: Rate | I23: Amount
A32: Sub Total B | I32: =SUM(I24:I31) -> 0
A33: LABOUR
A34: Item 3 | B34: (Normal Rate) | E34: Unit | G34: Quantity | H34: Rate | I34: Amount
A35: 1 | B35: Techinician | E35: HRS | G35: 1 | H35: 450 | I35: =SUM(G35*H35) -> 450
A36: 2 | B36: Senior Artisan | E36: HRS | H36: 350 | I36: =SUM(G36*H36) -> 0
A37: 3 | B37: Artisan (Trade Tested) | E37: HRS | H37: 300 | I37: =SUM(G37*H37) -> 0
A38: 4 | B38: Utility Man (Non - Trade Tested) | E38: HRS | G38: 1 | H38: 200 | I38: =SUM(G38*H38) -> 200
A39: 5 | B39: Artisan Aid | E39: HRS | H39: 200 | I39: =SUM(G39*H39) -> 0
A40: 6 | B40: General Worker | E40: HRS | H40: 140 | I40: =SUM(G40*H40) -> 0
A44: Sub Total C | I44: =SUM(I35:I43) -> 650
A45: TRANSPORT
A46: Item 4 | B46: Destinantion | E46: No of Trips | G46: KMs | H46: Rate | I46: Amount
A47: 12 | B47: Port Elizabeth office to Motherwell
B48: CHC and back. | E48: 1 | G48: 48.8 | H48: 5 | I48: =H48*G48 -> 244
A50: Sub Total D | I50: =SUM(I47:I49) -> 244
G52: Sub Total (A+B+C+D) | I52: =I50+I44+I32+I21 -> 894
G54: Sub Total | I54: =I52+I53 -> 894

Sheet MOTHERWEL CHC (07)
A9: QUOTE TO : | F9: Qoute No | H9: 7
A10: Department of Health | F10: Date | H10: 18/2/2019
A11: 717 Dukumbana Building | F11: Facility | H11: MOTHERWELL CHC
A12: Independent Avenue | F12: Work Order | H12: 43238
A13: Bhisho | F13: Tender No | H13: SCMU3 - 17/18-0303 - HO
F14: Contract Term | H14: 24 MONTHS
A15: WORK REQUEST : Repair to faulty gen keeps on tripping.
A16: SCHEDULED WORK
A17: Item 1 | B17: Discription | E17: Unit | F17: Sch No | G17: Quantity | H17: Rate | I17: Amount
I18: =SUM(G18*H18) -> 0
I19: =SUM(G19*H19) -> 0
I20: =SUM(G20*H20) -> 0
A21: Sub Total A | I21: =SUM(I18:I20) -> 0
A22: NON SCHEDULED WORK
A23: Item 2 | B23: Discription | F23: Quantity | H23: Rate | I23: Amount
A32: Sub Total B | I32: =SUM(I24:I31) -> 0
A33: LABOUR
A34: Item 3 | B34: (Normal Rate) | E34: Unit | G34: Quantity | H34: Rate | I34: Amount
A35: 1 | B35: Techinician | E35: HRS | G35: 1.5 | H35: 450 | I35: =SUM(G35*H35) -> 675
A36: 2 | B36: Senior Artisan | E36: HRS | H36: 350 | I36: =SUM(G36*H36) -> 0
A37: 3 | B37: Artisan (Trade Tested) | E37: HRS | H37: 300 | I37: =SUM(G37*H37) -> 0
A38: 4 | B38: Utility Man (Non - Trade Tested) | E38: HRS | G38: 1.5 | H38: 200 | I38: =SUM(G38*H38) -> 300
A39: 5 | B39: Artisan Aid | E39: HRS | H39: 200 | I39: =SUM(G39*H39) -> 0
A40: 6 | B40: General Worker | E40: HRS | H40: 140 | I40: =SUM(G40*H40) -> 0
A44: Sub Total C | I44: =SUM(I35:I43) -> 975
A45: TRANSPORT
A46: Item 4 | B46: Destinantion | E46: No of Trips | G46: KMs | H46: Rate | I46: Amount
A47: 1 | B47: Port Elizabeth office to Motherwell
B48: CHC and back. | E48: 1 | G48: 48.8 | H48: 5 | I48: =H48*G48 -> 244
A50: Sub Total D | I50: =SUM(I47:I49) -> 244
G52: Sub Total (A+B+C+D) | I52: =I50+I44+I32+I21 -> 1219
G54: Sub Total | I54: =I52+I53 -> 1219

Sheet ORSMOND TB HOSPITAL (08)
A9: QUOTE TO : | F9: Qoute No | H9: 8
A10: Department of Health | F10: Date | H10: 16/2/2019
A11: 717 Dukumbana Building | F11: Facility | H11: ORSMOND TB HOSPITAL
A12: Independent Avenue | F12: Work Order | H12: 43191
A13: Bhisho | F13: Tender No | H13: SCMU3 - 17/18-0303 - HO
F14: Contract Term | H14: 24 MONTHS
A15: WORK REQUEST : Gen faulty.
A16: SCHEDULED WORK
A17: Item 1 | B17: Discription | E17: Unit | F17: Sch No | G17: Quantity | H17: Rate | I17: Amount
I18: =SUM(G18*H18) -> 0
I19: =SUM(G19*H19) -> 0
I20: =SUM(G20*H20) -> 0
A21: Sub Total A | I21: =SUM(I18:I20) -> 0
A22: NON SCHEDULED WORK
A23: Item 2 | B23: Discription | F23: Quantity | G23: Mark - Up | H23: Rate | I23: Amount
A32: Sub Total B | I32: =SUM(I24:I31) -> 0
A33: LABOUR
A34: Item 3 | B34: (Normal Rate) | E34: Unit | G34: Quantity | H34: Rate | I34: Amount
A35: 1 | B35: Techinician | E35: HRS | G35: 2.5 | H35: 450 | I35: =SUM(G35*H35) -> 1125
A36: 2 | B36: Senior Artisan | E36: HRS | H36: 350 | I36: =SUM(G36*H36) -> 0
A37: 3 | B37: Artisan (Trade Tested) | E37: HRS | H37: 300 | I37: =SUM(G37*H37) -> 0
A38: 4 | B38: Utility Man (Non - Trade Tested) | E38: HRS | G38: 2.5 | H38: 200 | I38: =SUM(G38*H38) -> 500
A39: 5 | B39: Artisan Aid | E39: HRS | H39: 200 | I39: =SUM(G39*H39) -> 0
A40: 6 | B40: General Worker | E40: HRS | H40: 140 | I40: =SUM(G40*H40) -> 0
A44: Sub Total C | I44: =SUM(I35:I43) -> 1625
A45: TRANSPORT
A46: Item 4 | B46: Destinantion | E46: No of Trips | G46: KMs | H46: Rate | I46: Amount
A47: 1 | B47: Port Elizabeth office to Orsmmon TB hospital
B48: and back. | E48: 1 | G48: 81.4 | H48: 5 | I48: =H48*G48 -> 407
A50: Sub Total D | I50: =SUM(I47:I49) -> 407
G52: Sub Total (A+B+C+D) | I52: =I50+I44+I32+I21 -> 2032
G54: Sub Total | I54: =I52+I53 -> 2032

Sheet JOSE PEARSON TB HOSPITAL (09)
A9: QUOTE TO : | F9: Qoute No | H9: 9
A10: Department of Health | F10: Date | H10: 43618
A11: 717 Dukumbana Building | F11: Facility | H11: JOSE PEARSON TB HOSPITAL
A12: Independent Avenue | F12: Work Order | H12: 42608
A13: Bhisho | F13: Tender No | H13: SCMU3 - 17/18-0303 - HO
F14: Contract Term | H14: 24 MONTHS
A15: WORK REQUEST : Repair to a faulty gen and diesel pump.
A16: SCHEDULED WORK
A17: Item 1 | B17: Discription | E17: Unit | F17: Sch No | G17: Quantity | H17: Rate | I17: Amount
I18: =SUM(G18*H18) -> 0
I19: =SUM(G19*H19) -> 0
I20: =SUM(G20*H20) -> 0
A21: Sub Total A | I21: =SUM(I18:I20) -> 0
A22: NON SCHEDULED WORK
A23: Item 2 | B23: Discription | F23: Quantity | G23: Mark -Up | H23: Rate | I23: Amount
A24: 1 | B24: ROTARY PUMP | F24: 1 | G24: 0.15 | H24: 239.13 | I24: =H24*F24*1.15 -> 274.9995
A25: 2 | B25: BOND ADHESIVE | F25: 1 | G25: 0.15 | H25: 52.17 | I25: =H25*F25*1.15 -> 59.9955
A32: Sub Total B | I32: =SUM(I24:I31) -> 334.995
A33: LABOUR
A34: Item 3 | B34: (Normal Rate) | E34: Unit | G34: Quantity | H34: Rate | I34: Amount
A35: 1 | B35: Techinician | E35: HRS | G35: 2 | H35: 450 | I35: =SUM(G35*H35) -> 900
A36: 2 | B36: Senior Artisan | E36: HRS | H36: 350 | I36: =SUM(G36*H36) -> 0
A37: 3 | B37: Artisan (Trade Tested) | E37: HRS | H37: 300 | I37: =SUM(G37*H37) -> 0
A38: 4 | B38: Utility Man (Non - Trade Tested) | E38: HRS | G38: 2 | H38: 200 | I38: =SUM(G38*H38) -> 400
A39: 5 | B39: Artisan Aid | E39: HRS | H39: 200 | I39: =SUM(G39*H39) -> 0
A40: 6 | B40: General Worker | E40: HRS | H40: 140 | I40: =SUM(G40*H40) -> 0
A44: Sub Total C | I44: =SUM(I35:I43) -> 1300
A45: TRANSPORT
A46: Item 4 | B46: Destinantion | E46: No of Trips | G46: KMs | H46: Rate | I46: Amount
A47: 1 | B47: Port Elizabeth office to Jose Pearson
B48: TB and back. | E48: 1 | G48: 47 | H48: 5 | I48: =H48*G48 -> 235
A50: Sub Total D | I50: =SUM(I47:I49) -> 235
G52: Sub Total (A+B+C+D) | I52: =I50+I44+I32+I21 -> 1869.995
G54: Sub Total | I54: =I52+I53 -> 1869.995

Sheet LIVINGSTONE HOSPITAL (10)
A9: QUOTE TO : | F9: Qoute No | H9: 10
A10: Department of Health | F10: Date | H10: 43619
A11: 717 Dukumbana Building | F11: Facility | H11: LIVINGSTONE HOSPITAL
A12: Independent Avenue | F12: Work Order | H12: 42600
A13: Bhisho | F13: Tender No | H13: SCMU3 - 17/18-0303 - HO
F14: Contract Term | H14: 24 MONTHS
A15: WORK REQUEST : Repair to faulty gen.
A16: SCHEDULED WORK
A17: Item 1 | B17: Discription | E17: Unit | F17: Sch No | G17: Quantity | H17: Rate | I17: Amount
I18: =SUM(G18*H18) -> 0
I19: =SUM(G19*H19) -> 0
I20: =SUM(G20*H20) -> 0
A21: Sub Total A | I21: =SUM(I18:I20) -> 0
A22: NON SCHEDULED WORK
A23: Item 2 | B23: Discription | F23: Quantity | G23: Mark - Up | H23: Rate | I23: Amount
A24: 1 | B24: BATTERY 689 SHD | F24: 4 | G24: 0.15 | H24: 3346 | I24: =H24*F24*1.15 -> 15391.6
A25: 2 | B25: BATTERY 689 | F25: 4 | G25: 0.15 | H25: 2213 | I25: =H25*F25*1.15 -> 10179.8
A32: Sub Total B | I32: =SUM(I24:I31) -> 25571.4
A33: LABOUR
A34: Item 3 | B34: (Normal Rate) | E34: Unit | G34: Quantity | H34: Rate | I34: Amount
A35: 1 | B35: Techinician | E35: HRS | G35: 4 | H35: 450 | I35: =SUM(G35*H35) -> 1800
A36: 2 | B36: Senior Artisan | E36: HRS | H36: 350 | I36: =SUM(G36*H36) -> 0
A37: 3 | B37: Artisan (Trade Tested) | E37: HRS | H37: 300 | I37: =SUM(G37*H37) -> 0
A38: 4 | B38: Utility Man (Non - Trade Tested) | E38: HRS | G38: 4 | H38: 200 | I38: =SUM(G38*H38) -> 800
A39: 5 | B39: Artisan Aid | E39: HRS | H39: 200 | I39: =SUM(G39*H39) -> 0
A40: 6 | B40: General Worker | E40: HRS | H40: 140 | I40: =SUM(G40*H40) -> 0
A44: Sub Total C | I44: =SUM(I35:I43) -> 2600
A45: TRANSPORT
A46: Item 4 | B46: Destinantion | E46: No of Trips | G46: KMs | H46: Rate | I46: Amount
A47: 1 | B47: Port Elizabeth office to Livingstone
B48: Hospital and back. | E48: 1 | G48: 23 | H48: 5 | I48: =H48*G48 -> 115
A50: Sub Total D | I50: =SUM(I47:I49) -> 115
G52: Sub Total (A+B+C+D) | I52: =I50+I44+I32+I21 -> 28286.4
G54: Sub Total | I54: =I52+I53 -> 28286.4

Sheet LAETITIA BAM CHC (11)
A9: QUOTE TO : | F9: Qoute No | H9: 11
A10: Department of Health | F10: Date | H10: 28/3/2019
A11: 717 Dukumbana Building | F11: Facility | H11: LAETITIA BAM CHC
A12: Independent Avenue | F12: Work Order | H12: 43269
A13: Bhisho | F13: Tender No | H13: SCMU3 - 17/18-0303 - HO
F14: Contract Term | H14: 24 MONTHS
A15: WORK REQUEST : Generator does not kick start.
A16: SCHEDULED WORK
A17: Item 1 | B17: Description | E17: Unit | F17: Sch No | G17: Quantity | H17: Rate | I17: Amount
I18: =SUM(G18*H18) -> 0
I19: =SUM(G19*H19) -> 0
I20: =SUM(G20*H20) -> 0
A21: Sub Total A | I21: =SUM(I18:I20) -> 0
A22: NON SCHEDULED WORK
A23: Item 2 | B23: Description | G23: Quantity | H23: Rate | I23: Amount
A32: Sub Total | I32: =SUM(I24:I31) -> 0
A33: Mark - Up 15% | I33: =I32*0.15 -> 0
A34: SUb Total B | I34: =I32+I33 -> 0
A35: LABOUR
A36: Item 3 | B36: (Normal Rate) | E36: Unit | G36: Quantity | H36: Rate | I36: Amount
A37: 1 | B37: Techinician | E37: HRS | G37: 2 | H37: 450 | I37: =SUM(G37*H37) -> 900
A38: 2 | B38: Senior Artisan | E38: HRS | H38: 350 | I38: =SUM(G38*H38) -> 0
A39: 3 | B39: Artisan (Trade Tested) | E39: HRS | H39: 300 | I39: =SUM(G39*H39) -> 0
A40: 4 | B40: Utility Man (Non - Trade Tested) | E40: HRS | G40: 2 | H40: 200 | I40: =SUM(G40*H40) -> 400
A41: 5 | B41: Artisan Aid | E41: HRS | H41: 200 | I41: =SUM(G41*H41) -> 0
A42: 6 | B42: General Worker | E42: HRS | H42: 140 | I42: =SUM(G42*H42) -> 0
A46: Sub Total C | I46: =SUM(I37:I45) -> 1300
A47: TRANSPORT
A48: Item 4 | B48: Destinantion | E48: No of Trips | G48: KMs | H48: Rate | I48: Amount
A49: 1 | B49: Port Elizabeth office to Laetitia CHC
B50: and back. | E50: 1 | G50: 77.4 | H50: 5 | I50: =H50*G50 -> 387
A52: Sub Total D | I52: =SUM(I49:I51) -> 387
G54: Sub Total (A+B+C+D) | I54: =I52+I46+I34 -> 1687
G56: Sub Total | I56: =I54+I55 -> 1687

Sheet WEST END (12)
A9: QUOTE TO : | F9: Qoute No | H9: 12
A10: Department of Health | F10: Date | H10: 22/3/2019
A11: 717 Dukumbana Building | F11: Facility | H11: West End CHC
A12: Independent Avenue | F12: Work Order | H12: 43444
A13: Bhisho | F13: Tender No | H13: SCMU3 - 17/18-0303 - HO
F14: Contract Term | H14: 24 MONTHS
A15: WORK REQUEST : The generator is leaking oil.
A16: SCHEDULED WORK
A17: Item 1 | B17: Description | E17: Unit | F17: Sch No | G17: Quantity | H17: Rate | I17: Amount
I18: =SUM(G18*H18) -> 0
I19: =SUM(G19*H19) -> 0
I20: =SUM(G20*H20) -> 0
A21: Sub Total A | I21: =SUM(I18:I20) -> 0
A22: NON SCHEDULED WORK
A23: Item 2 | B23: Description | G23: Quantity | H23: Rate | I23: Amount
A24: 1 | B24: REAR OIL SEAL (6105) | G24: 1 | H24: 172.17 | I24: =H24*G24 -> 172.17
A25: 2 | B25: RIMULA R4 X 15W40 | G25: 1 | H25: 665.1 | I25: =H25*G25 -> 665.1
A32: Sub Total | I32: =SUM(I24:I31) -> 837.27
A33: Mark - Up 15% | I33: =I32*0.15 -> 125.5905
A34: SUb Total B | I34: =I32+I33 -> 962.8605
A35: LABOUR
A36: Item 3 | B36: (Normal Rate) | E36: Unit | G36: Quantity | H36: Rate | I36: Amount
A37: 1 | B37: Techinician | E37: HRS | G37: 9 | H37: 450 | I37: =SUM(G37*H37) -> 4050
A38: 2 | B38: Senior Artisan | E38: HRS | H38: 350 | I38: =SUM(G38*H38) -> 0
A39: 3 | B39: Artisan (Trade Tested) | E39: HRS | H39: 300 | I39: =SUM(G39*H39) -> 0
A40: 4 | B40: Utility Man (Non - Trade Tested) | E40: HRS | G40: 9 | H40: 200 | I40: =SUM(G40*H40) -> 1800
A41: 5 | B41: Artisan Aid | E41: HRS | H41: 200 | I41: =SUM(G41*H41) -> 0
A42: 6 | B42: General Worker | E42: HRS | H42: 140 | I42: =SUM(G42*H42) -> 0
A46: Sub Total C | I46: =SUM(I37:I45) -> 5850
A47: TRANSPORT
A48: Item 4 | B48: Destinantion | E48: No of Trips | G48: KMs | H48: Rate | I48: Amount
A49: 1 | B49: Port Elizabeth office to West End
B50: Mortuary and back. | E50: 1 | G50: 73.6 | H50: 5 | I50: =H50*G50 -> 368
A52: Sub Total D | I52: =SUM(I49:I51) -> 368
G54: Sub Total (A+B+C+D) | I54: =I52+I46+I34+I21 -> 7180.8605
G56: Sub Total | I56: =I54+I55 -> 7180.8605

Sheet PORT ELIZABETH PRO.(13)
A9: QUOTE TO : | F9: Qoute No | H9: 13
A10: Department of Health | F10: Date | H10: 29/3/2019
A11: 717 Dukumbana Building | F11: Facility | H11: PORT ELIZABETH HOSPITAL PROV
A12: Independent Avenue | F12: Work Order | H12: 43856
A13: Bhisho | F13: Tender No | H13: SCMU3 - 17/18-0303 - HO
F14: Contract Term | H14: 24 MONTHS
A15: WORK REQUEST : The back up generator is faulty.
A16: SCHEDULED WORK
A17: Item 1 | B17: Description | E17: Unit | F17: Sch No | G17: Quantity | H17: Rate | I17: Amount
I18: =SUM(G18*H18) -> 0
I19: =SUM(G19*H19) -> 0
I20: =SUM(G20*H20) -> 0
A21: Sub Total A | I21: =SUM(I18:I20) -> 0
A22: NON SCHEDULED WORK
A23: Item 2 | B23: Description | G23: Quantity | H23: Rate | I23: Amount
A24: 1 | B24: 12 V REALY | G24: 1 | H24: 110 | I24: =H24*G24 -> 110
A32: Sub Total | I32: =SUM(I24:I31) -> 110
A33: Mark - Up 15% | I33: =I32*0.15 -> 16.5
A34: SUb Total B | I34: =I32+I33 -> 126.5
A35: LABOUR
A36: Item 3 | B36: (Normal Rate) | E36: Unit | G36: Quantity | H36: Rate | I36: Amount
A37: 1 | B37: Techinician | E37: HRS | G37: 2 | H37: 450 | I37: =SUM(G37*H37) -> 900
A38: 2 | B38: Senior Artisan | E38: HRS | H38: 350 | I38: =SUM(G38*H38) -> 0
A39: 3 | B39: Artisan (Trade Tested) | E39: HRS | H39: 300 | I39: =SUM(G39*H39) -> 0
A40: 4 | B40: Utility Man (Non - Trade Tested) | E40: HRS | G40: 2 | H40: 200 | I40: =SUM(G40*H40) -> 400
A41: 5 | B41: Artisan Aid | E41: HRS | H41: 200 | I41: =SUM(G41*H41) -> 0
A42: 6 | B42: General Worker | E42: HRS | H42: 140 | I42: =SUM(G42*H42) -> 0
