Workbook

Sheet Year 1
B1: APPENDIX A - PRICING SHEET
B2: RFQ - APPOINT A SUITABLY QUALIFIED SERVICE PROVIDER IN SOUTH AFRICA FOR THE PROVISION OF MICROSFT OFFICE 365, MICROSOFT PROJECT AND MICROSOFT VISIO FOR THREE YEARS
B3: Bid No: BS/2022/RFQ1061
A5: Specification / Description A | E5: Qty | F5: Unit Price ( Ex Vat) | G5: TOTAL AMOUNT
A6: Supply licensing subscription of Microsoft Office 365 A5 | E6: 200 | G6: =F6*E6 -> 0
A7: Supply licensing subscription of Microsoft Office Projects | E7: 15 | G7: =F7*E7 -> 0
A8: Supply licensing subscription of Microsoft Office Visio | E8: 10 | G8: =F8*E8 -> 0
A9: Provisioning Technical Support of Microsoft Office 365 A5 ( Hourly rate) (As and when needed) | E9: 10 | G9: =F9*E9 -> 0
A10: Other Items not included in above - BIDDER TO SPECIFY | E10: Qty | F10: Unit Price ( Ex Vat) | G10: TOTAL AMOUNT
A11: 1 | G11: =F11*E11 -> 0
A12: 2 | G12: =F12*E12 -> 0
A13: 3 | G13: =F13*E13 -> 0
A14: 4 | G14: =F14*E14 -> 0
A15: 5 | G15: =F15*E15 -> 0
A16: 6 | G16: =F16*E16 -> 0
A17: OPTIONAL ADDITION | G17: =SUM(G11:G16) -> 0
C19: Total excluding VAT | F19: =SUM(G6,G7,G8,G9,)+G17 -> 0
C20: VAT if Applicable (If VAT registered) | F20: =F19*15% -> 0
C21: TOTAL BIDDING PRICE INCL VAT | F21: =SUM(F19:F20) -> 0
A22: Notes:
A23: Pricing must cover all items detailed in the Terms of Reference
A24: Pricing must remain firm for the duration of the Project.
A25: Pricing must include Value Added Tax (VAT)
A26: Service provider must complte blocks in yellow. Total values in this spreadsheet are automatically calculated and filled in.
A27: The hourly rate for technical support will be cummulative
A28: Date:
A29: Service Provider Name
A30: Name of Person Signing
A31: Signature

Sheet Year 2
B1: APPENDIX A - PRICING SHEET
B2: RFQ - APPOINT A SUITABLY QUALIFIED SERVICE PROVIDER IN SOUTH AFRICA FOR THE PROVISION OF MICROSFT OFFICE 365, MICROSOFT PROJECT AND MICROSOFT VISIO FOR THREE YEARS
B3: Bid No: BS/2022/RFQ1061
A5: Specification / Description A | E5: Qty | F5: Unit Price ( Ex Vat) | G5: TOTAL AMOUNT
A6: Supply licensing subscription of Microsoft Office 365 A5 | E6: 200 | G6: =F6*E6 -> 0
A7: Supply licensing subscription of Microsoft Office Projects | E7: 15 | G7: =F7*E7 -> 0
A8: Supply licensing subscription of Microsoft Office Visio | E8: 10 | G8: =F8*E8 -> 0
A9: Provisioning Technical Support of Microsoft Office 365 A5 ( Hourly rate) (As and when needed) | E9: 10 | G9: =F9*E9 -> 0
A10: Other Items not included in above - BIDDER TO SPECIFY | E10: Qty | F10: Unit Price ( Ex Vat) | G10: TOTAL AMOUNT
A11: 1 | G11: =F11*E11 -> 0
A12: 2 | G12: =F12*E12 -> 0
A13: 3 | G13: =F13*E13 -> 0
A14: 4 | G14: =F14*E14 -> 0
A15: 5 | G15: =F15*E15 -> 0
A16: 6 | G16: =F16*E16 -> 0
A17: OPTIONAL ADDITION | G17: =SUM(G11:G16) -> 0
C19: Total excluding VAT | F19: =SUM(G6,G7,G8,G9,)+G17 -> 0
C20: VAT if Applicable (If VAT registered) | F20: =F19*15% -> 0
C21: TOTAL BIDDING PRICE INCL VAT | F21: =SUM(F19:F20) -> 0
A22: Notes:
A23: Pricing must cover all items detailed in the Terms of Reference
A24: Pricing must remain firm for the duration of the Project.
A25: Pricing must include Value Added Tax (VAT)
A26: Service provider must complte blocks in yellow. Total values in this spreadsheet are automatically calculated and filled in.
A27: The hourly rate for technical support will be cumulative
A28: Date:
A29: Service Provider Name
A30: Name of Person Signing
A31: Signature

Sheet Year 3
B1: APPENDIX A - PRICING SHEET
B2: RFQ - APPOINT A SUITABLY QUALIFIED SERVICE PROVIDER IN SOUTH AFRICA FOR THE PROVISION OF MICROSFT OFFICE 365, MICROSOFT PROJECT AND MICROSOFT VISIO FOR THREE YEARS
B3: Bid No: BS/2022/RFQ1061
A5: Specification / Description A | E5: Qty | F5: Unit Price ( Ex Vat) | G5: TOTAL AMOUNT
A6: Supply licensing subscription of Microsoft Office 365 A5 | E6: 200 | G6: =F6*E6 -> 0
A7: Supply licensing subscription of Microsoft Office Projects | E7: 15 | G7: =F7*E7 -> 0
A8: Supply licensing subscription of Microsoft Office Visio | E8: 10 | G8: =F8*E8 -> 0
A9: Provisioning Technical Support of Microsoft Office 365 A5 ( Hourly rate) (As and when needed) | E9: 10 | G9: =F9*E9 -> 0
A10: Other Items not included in above - BIDDER TO SPECIFY | E10: Qty | F10: Unit Price ( Ex Vat) | G10: TOTAL AMOUNT
A11: 1 | G11: =F11*E11 -> 0
A12: 2 | G12: =F12*E12 -> 0
A13: 3 | G13: =F13*E13 -> 0
A14: 4 | G14: =F14*E14 -> 0
A15: 5 | G15: =F15*E15 -> 0
A16: 6 | G16: =F16*E16 -> 0
A17: OPTIONAL ADDITION | G17: =SUM(G11:G16) -> 0
C19: Total excluding VAT | F19: =SUM(G6,G7,G8,G9,)+G17 -> 0
C20: VAT if Applicable (If VAT registered) | F20: =F19*15% -> 0
C21: TOTAL BIDDING PRICE INCL VAT | F21: =SUM(F19:F20) -> 0
A22: Notes:
A23: Pricing must cover all items detailed in the Terms of Reference
A24: Pricing must remain firm for the duration of the Project.
A25: Pricing must include Value Added Tax (VAT)
A26: Service provider must complte blocks in yellow. Total values in this spreadsheet are automatically calculated and filled in.
A27: The hourly rate for technical support is cumulative
A28: Date:
A29: Service Provider Name
A30: Name of Person Signing
A31: Signature

Sheet Total
B1: APPENDIX A - PRICING SHEET
B2: RFQ - APPOINT A SUITABLY QUALIFIED SERVICE PROVIDER IN SOUTH AFRICA FOR THE PROVISION OF MICROSFT OFFICE 365, MICROSOFT PROJECT AND MICROSOFT VISIO FOR THREE YEARS
B3: Bid No: BS/2022/RFQ1061
A5: Specification / Description A | E5: Qty | F5: Unit Price ( Ex Vat) | G5: TOTAL AMOUNT
A6: Supply licensing subscription of Microsoft Office 365 A5 | E6: ='Year 1'!E6+'Year 2'!E6+'Year 3'!E6 -> 600 | G6: ='Year 1'!G6+'Year 2'!G6+'Year 3'!G6 -> 0
A7: Supply licensing subscription of Microsoft Office Projects | E7: ='Year 1'!E7+'Year 2'!E7+'Year 3'!E7 -> 45 | G7: ='Year 1'!G7+'Year 2'!G7+'Year 3'!G7 -> 0
A8: Supply licensing subscription of Microsoft Office Visio | E8: ='Year 1'!E8+'Year 2'!E8+'Year 3'!E8 -> 30 | G8: ='Year 1'!G8+'Year 2'!G8+'Year 3'!G8 -> 0
A9: Provisioning Technical Support of Microsoft Office 365 A5 ( Hourly rate) (As and when needed) | E9: ='Year 1'!E9+'Year 2'!E9+'Year 3'!E9 -> 30 | G9: ='Year 1'!G9+'Year 2'!G9+'Year 3'!G9 -> 0
A10: Other Items not included in above - BIDDER TO SPECIFY | E10: Qty | F10: Unit Price ( Ex Vat) | G10: TOTAL AMOUNT
A11: 1 | G11: ='Year 1'!G11+'Year 2'!G11+'Year 3'!G11 -> 0
A12: 2 | G12: ='Year 1'!G12+'Year 2'!G12+'Year 3'!G12 -> 0
A13: 3 | G13: ='Year 1'!G13+'Year 2'!G13+'Year 3'!G13 -> 0
A14: 4 | G14: ='Year 1'!G14+'Year 2'!G14+'Year 3'!G14 -> 0
A15: 5 | G15: ='Year 1'!G15+'Year 2'!G15+'Year 3'!G15 -> 0
A16: 6 | G16: ='Year 1'!G16+'Year 2'!G16+'Year 3'!G16 -> 0
A17: OPTIONAL ADDITION | G17: =SUM(G11:G16) -> 0
C19: Total excluding VAT | F19: =SUM(G6,G7,G8,G9,)+G17 -> 0
C20: VAT if Applicable (If VAT registered) | F20: =F19*15% -> 0
C21: TOTAL BIDDING PRICE INCL VAT | F21: =SUM(F19:F20) -> 0
A22: Notes:
A23: Pricing must cover all items detailed in the Terms of Reference
A24: Pricing must remain firm for the duration of the Project.
A25: Pricing must include Value Added Tax (VAT)
A26: Service provider must complte blocks in yellow. Total values in this spreadsheet are automatically calculated and filled in.
A27: The hourly rate for technical support is cumulative
A28: Date:
A29: Service Provider Name
A30: Name of Person Signing
A31: Signature
