Workbook
Name ________________SEC1200: #REF!
Name _______________SEC1200: #REF!
Name ______________SEC1200: #REF!
Name _____________SEC1200: #REF!
Name ____________SEC1200: #REF!
Name ___________SEC1200: #REF!
Name __________SEC1200: #REF!
Name _________SEC1200: #REF!
Name _______SEC1200: #REF!
Name ______SEC1200: #REF!
Name _____SEC1200: #REF!
Name ____SEC1200: #REF!
Name ____tax1: #REF!
Name ____tax2: #REF!
Name ____tax3: #REF!
Name ____tax4: #REF!
Name ___SEC1200: #REF!
Name __SEC1200: #REF!
Name __tax1: #REF!
Name __tax2: #REF!
Name __tax3: #REF!
Name __tax4: #REF!
Name _sch1: #REF!
Name _sch1: #REF!
Name _sch1: #REF!
Name _sch1: #REF!
Name _sch1: #REF!
Name _sch1: #REF!
Name _sch2: #REF!
Name _sch2: #REF!
Name _sch2: #REF!
Name _sch2: #REF!
Name _sch2: #REF!
Name _sch2: #REF!
Name _SEC1200: #REF!
Name _SEC13: #REF!
Name _tax1: #REF!
Name _tax2: #REF!
Name _tax3: #REF!
Name _tax4: #REF!
Name A: #REF!
Name A_11: #REF!
Name A_2: #REF!
Name A_8: '[1]50 kl'!#REF!
Name banzieast: #REF!
Name banzieast_11: #REF!
Name banzieast_2: #REF!
Name banzieasthh: #REF!
Name banzieasthh_11: #REF!
Name banzieasthh_2: #REF!
Name Bedding: #REF!
Name Bedding_11: #REF!
Name Bedding_2: #REF!
Name boxes: #REF!
Name button_area_1: #REF!
Name carol: #REF!
Name CC: '[2]Customize Your Invoice'!$G$22:$G$25
Name CCT: #REF!
Name cdk: #REF!
Name cec: #REF!

Sheet COVER
B2: BATATISE CONSULTING PTY LTD
B12: PROVISIONAL BILLS OF QUANTITIES REV00
B13: (BLANK)
A17: MUTALE RAW WATER SCHEME - 20ML RAW WATER DAM CONSTRUCTION AND EXISTING RAW WATER DAM RENOVATIONS
A18: CONTRACT 1: VDM/TECH/25/07/2024/04
B20: FOR
B22: VHEMBE DISTRICT MUNICIPALITY
B26: CONFIDENTIAL
B28: Batatise Consulting Pty Ltd Stoney Ridge Office Park Sandton, 2151 www.batatise.com jabula.nkomo@batatise.com Tel: 082 552 7498 Cell: 082 552 7498
E30: =TODAY()-2 -> 45585

Sheet Bill 1 P&G's
A1: VHEMBE DISTRICT MUNICIPALITY | H1: Bill 1
A2: MUTALE WATER SYSTEM UPGRADE C4: 20ML RAW WATER DAM CONSTRUCTION AND EXISTING RAW WATER DAM RENOVATIONS | H2: Preliminary and General
A3: TENDER NO. VDM/TECH/25/07/2024/04
A4: BILL 1 : PRELIMINARY AND GENERAL
A5: ITEM | B5: PAYM. | C5: DESCRIPTION | E5: UNIT | F5: QTY | G5: RATE | H5: AMOUNT
A6: NO. | B6: REF.
B7: SABS | H7: =+G7*F7 -> 0 | J7: 1
B8: 1200A | C8: GENERAL | H8: =+G8*F8 -> 0 | J8: 2
A9: 1.1 | B9: 8.3 | C9: FIXED CHARGE AND VALUE-RELATED ITEMS | H9: =+G9*F9 -> 0 | J9: 3
A10: 1.1.1 | B10: 8.3.1 | C10: Contractual Requirements | E10: sum | F10: 1 | H10: =+G10*F10 -> 0 | J10: 4
H11: =+G11*F11 -> 0 | J11: 5
A12: 1.1.2 | B12: 8.3.2 | C12: Establish facilities on site | H12: =+G12*F12 -> 0 | J12: 6
A13: 1.1.2.1 | B13: 8.3.2.1 | C13: i) Facilities for Engineer | H13: =+G13*F13 -> 0 | J13: 7
C14: a) | D14: Name Boards (3 no) Supply & erect three | H14: =+G14*F14 -> 0 | J14: 8
D15: name boards as per Dwg | E15: no | F15: 2 | H15: =+G15*F15 -> 0 | J15: 9
H16: =+G16*F16 -> 0 | J16: 10
C17: b) | D17: Furnished Office (PSAB4.1) | E17: sum | F17: 1 | J17: 11
J18: 12
C19: d) | D19: Survey assistant and equipment | E19: sum | F19: 1 | J19: 13
H20: =+G20*F20 -> 0 | J20: 14
C21: d) | D21: Cellular phones and data (PSAB4.2) | E21: month | F21: 12 | J21: 15
J22: 16
A23: 1.1.2.2 | B23: 8.3.2.2 | C23: ii) Facilities for Contractor | J23: 17
C24: a) | D24: Offices and storage sheds | E24: sum | F24: 1 | J24: 18
J25: 19
C26: b) | D26: Workshops | E26: sum | F26: 1 | J26: 20
J27: 21
C28: c) | D28: Ablution and latrine facilities | E28: sum | F28: 1 | J28: 22
J29: 23
C30: d) | D30: Tools and equipment | E30: sum | F30: 1 | J30: 24
J31: 25
C32: e) | D32: Water supplies, electric power & communi- | J32: 26
C33: communications | D33: cations | E33: sum | F33: 1 | J33: 27
J34: 28
C35: f) | D35: Dealing with water | E35: sum | F35: 1 | J35: 29
J36: 30
C37: g) | D37: Access | E37: sum | F37: 1 | J37: 31
J38: 32
C39: h) | D39: Plant | E39: sum | F39: 1 | J39: 33
J40: 34
...

Sheet Bill 2 - 20ML RW Dam
A1: ='Bill 1 P&G''s'!A1 -> VHEMBE DISTRICT MUNICIPALITY | G1: Bill 2
A2: ='Bill 1 P&G''s'!A2 -> MUTALE WATER SYSTEM UPGRADE C4: 20ML RAW WATER DAM CONSTRUCTION AND EXISTING RAW WATER DAM RENOVATIONS | G2: 20ML Raw Water Dam
A3: ='Bill 1 P&G''s'!A3 -> TENDER NO. VDM/TECH/25/07/2024/04
A4: BILL 2 : 20ML RAW WATER DAM CONSTRUCTION
A5: ITEM | B5: PAYM. | C5: DESCRIPTION | D5: UNIT | E5: QTY | F5: RATE | G5: AMOUNT
A6: NO. | B6: REF.
C8: SECTION 1 - EARTHWORKS
C11: SITE CLEARANCE
B13: 16.001 | C13: Clear and strip site | D13: m2 | E13: 100000 | G13: =F13*E13 -> 0
C15: Remove and grub large trees (complete with stumps) or stumps only, as scheduled, of girth
B17: 16.002(a) | C17: Over 1 m and up to and including 2 m | D17: No | E17: 15 | G17: =F17*E17 -> 0
C19: Removal of surface rocks
B21: 16.003 | C21: Extra-over 16.001 for removal of rocks | D21: m3 | E21: 500 | G21: =F21*E21 -> 0
C23: Remove topsoil
B25: 16.007 | C25: Remove topsoil to nominal depth 150 mm | D25: m3 | E25: 15000 | G25: =F25*E25 -> 0
C27: In-situ treatment of foundations
B29: 9.009(b) | C29: In-situ treatment by ripping | D29: m3 | E29: 1494 | G29: =F29*E29 -> 0
C31: EXCAVATION
C33: Material unsuitable for embankment
B35: 16.008(a) | C35: i) To spoil at designated spoil site | D35: m3 | E35: =+E25*0.5 -> 7500 | G35: =F35*E35 -> 0
C37: Material suitable for embankment from essential excavations for
B39: 16.008(b) | C39: (5) Cut to fill from excavation of reservoir basin for embankment walls | D39: m3 | E39: 1697.75 | G39: =F39*E39 -> 0
C41: Extra-over items (b) (1)-(4) for excavation in:
B43: 16.008(c) | C43: (2) Hard rock material | D43: m3 | E43: 550 | G43: =F43*E43 -> 0
C45: Forming embankment
C47: Refer to drawing ….......... & …......... for embankment compaction densities
B49: 16.010(a) | C49: i) Selected semi-pervious material: Imported material from borrow pits | D49: m3 | E49: 1360 | G49: =F49*E49 -> 0
B51: 16.010(a) | C51: ii) Selected semi-pervious material: In-situ embankment excavated material | D51: m3 | E51: 1360 | G51: =F51*E51 -> 0
C53: CARRIED FORWARD | G53: =SUM(G7:G52) -> 0
C54: BROUGHT FORWARD | G54: =G53 -> 0
B56: 16.010(b) | C56: i) Unselected pervious material: Imported material from borrow pits (homogeneous) | D56: m3 | E56: 6590 | G56: =F56*E56 -> 0
B58: 16.010(b) | C58: ii) Unselected pervious material: In-situ embankment excavated material (homogeneous) | D58: m3 | E58: 3395 | G58: =F58*E58 -> 0
B60: 16.010(d) | C60: Topsoil from stockpile to downstream slope | D60: m3 | E60: 7500 | G60: =F60*E60 -> 0
B62: 16.010(g) | C62: Gravel capping | D62: m3 | E62: 2850 | G62: =F62*E62 -> 0
C64: Overhaul
B66: 16.013(a) | C66: Between 1km up to and including 3km | D66: m3 | E66: 34415.306 | G66: =F66*E66 -> 0
B68: 16.013(b) | C68: Between 3km up to and including 5km | D68: m3 | E68: 41298.368 | G68: =F68*E68 -> 0
B70: 16.013(c) | C70: Between 5km up to and including 7km | D70: m3 | E70: 16060.476 | G70: =F70*E70 -> 0
B72: 16.013(d) | C72: Between 7km up to and including 9km | D72: m3 | E72: 22943.537 | G72: =F72*E72 -> 0
B74: 16.013(e) | C74: Between 9km up to and including 11km | D74: m3 | E74: 25016.122 | G74: =F74*E74 -> 0
...

Sheet Bill 3 - Exist. RW Dam
A1: ='Bill 2 - 20ML RW Dam'!A1 -> VHEMBE DISTRICT MUNICIPALITY | H1: Bill 3
A2: ='Bill 2 - 20ML RW Dam'!A2 -> MUTALE WATER SYSTEM UPGRADE C4: 20ML RAW WATER DAM CONSTRUCTION AND EXISTING RAW WATER DAM RENOVATIONS | H2: Raw Water Dam Repairs
A3: ='Bill 1 P&G''s'!A3 -> TENDER NO. VDM/TECH/25/07/2024/04
A4: BILL 3 : RAW WATER DAM RENOVATIONS
A5: ITEM | B5: PAYM. | C5: DESCRIPTION | E5: UNIT | F5: QTY | G5: RATE | H5: AMOUNT
A6: NO. | B6: REF.
C8: Storage Dam Minor Refurbishment
C10: a) | D10: Allowance for refurbishment of minor components, lining and dam basin within the existing storage dam to ensure all components, basin, waterproofing and drainage are in working order prior to scheme operation. | E10: PS | F10: 1 | G10: 2200000 | H10: =G10*F10 -> 2200000
C12: b) | D12: Contractor's charges and profit | E12: % | H12: =H10*F12 -> 0
C15: c) | D15: Empty Existing Balancing dam | E15: Sum | F15: 1 | H15: =G15*F15 -> 0
C17: d) | D17: Supply crane truck to remove and install parts | E17: Sum | F17: 1 | H17: =G17*F17 -> 0
C19: e) | D19: Commissioning and handover | E19: Sum | F19: 1 | H19: =G19*F19 -> 0
C50: TOTAL BILL 3 CARRIED FORWARD TO SUMMARY | H50: =SUM(H9:H44) -> 2200000

Sheet Bill 4-Dayworks
A1: ='Bill 3 - Exist. RW Dam'!A1 -> VHEMBE DISTRICT MUNICIPALITY | G1: Bill 4
A2: ='Bill 1 P&G''s'!A2 -> MUTALE WATER SYSTEM UPGRADE C4: 20ML RAW WATER DAM CONSTRUCTION AND EXISTING RAW WATER DAM RENOVATIONS | G2: Dayworks
A3: ='Bill 1 P&G''s'!A3 -> TENDER NO. VDM/TECH/25/07/2024/04
A4: BILL 4 : DAYWORKS
A5: ITEM | B5: PAYM. | C5: DESCRIPTION | D5: UNIT | E5: QTY | F5: RATE | G5: AMOUNT
A6: NO. | B6: REF.
C8: DAYWORK CHARGES - LABOUR
C10: Varied work instructed by the Engineer to be executed on daywork basis
B12: 1.009 | C12: General Unskilled Labour | D12: hr | G12: Rate Only
B13: 1.009 | C13: General Semi-Skilled Labour | D13: hr | G13: Rate Only
B14: 1.009 | C14: General Skilled Labour | D14: hr | G14: Rate Only
B15: 1.009 | C15: Artisan | D15: hr | G15: Rate Only
B16: 1.009 | C16: Boilermaker (Pipe Fabricator) | D16: hr | G16: Rate Only
B17: 1.009 | C17: Boilermaker Assistant | D17: hr | G17: Rate Only
B18: 1.009 | C18: Qualified Welder | D18: hr | G18: Rate Only
B19: 1.009 | C19: Welder Assistant | D19: hr | G19: Rate Only
B20: 1.009 | C20: Fitter | D20: hr | G20: Rate Only
B21: 1.009 | C21: Fitter Assistant | D21: hr | G21: Rate Only
B22: 1.009 | C22: Grinder | D22: hr | G22: Rate Only
B23: 1.009 | C23: Qualified Electrician | D23: hr | G23: Rate Only
... B33: 1.009 | C33: Bus Driver | D33: hr | G33: Rate Only
C35: DAYWORK CHARGES - EQUIPMENT
C37: Varied work instructed by the Engineer to be executed under daywork basis. Rate to include operator, fuel, maintenance, insurances and all other costs. Dry rate must be completed else value = "nil" ("Dry rate" = "Wet rate" less Fuel)
C39: Backhoe Loaders (TLB's)
B40: 1.009 | C40: 4x2 Size > 5 ton / small (Dry rate = __________) | D40: hr | G40: Rate Only
B41: 1.009 | C41: 4x4 Size > 7 ton / medium (Dry rate = __________) | D41: hr | G41: Rate Only
B42: 1.009 | C42: 4x4 Size > 9 ton / large (Dry rate = __________) | D42: hr | G42: Rate Only
C45: CARRIED FORWARD | G45: =SUM(G9:G43) -> 0
C46: BROUGHT FORWARD | G46: =G45 -> 0
C48: Bulldozers
B49: 1.009 | C49: Size D6 > 125 kW (Dry rate = ___________) | D49: hr | G49: Rate Only
B50: 1.009 | C50: Size D8 > 200 kW (Dry rate = ___________) | D50: hr | G50: Rate Only
B51: 1.009 | C51: Size D10 > 400 kW (Dry rate = ___________) | D51: hr | G51: Rate Only
B52: 1.009 | C52: Other Size ___________ , ______ kW (Dry rate = ___________) | D52: hr | G52: Rate Only
C54: Flatbed Truck with crane
B55: 1.009 | C55: Capacity 4 ton / small (Dry rate = _______) | D55: hr | G55: Rate Only
B56: 1.009 | C56: Capacity 6 ton / medium (Dry rate = _______) | D56: hr | G56: Rate Only
B57: 1.009 | C57: Capacity 10 ton / large (Dry rate = _______) | D57: hr | G57: Rate Only
C60: Off highway dump trucks
B61: 1.009 | C61: Capacity 8m³ / small (Dry rate = _______) | D61: hr | G61: Rate Only
...

Sheet Bill 5 Prov Sums & Relocations
A1: ='Bill 3 - Exist. RW Dam'!A1 -> VHEMBE DISTRICT MUNICIPALITY | G1: Bill 5
A2: ='Bill 1 P&G''s'!A2 -> MUTALE WATER SYSTEM UPGRADE C4: 20ML RAW WATER DAM CONSTRUCTION AND EXISTING RAW WATER DAM RENOVATIONS | G2: Prov Sums/ Relocations
A3: ='Bill 1 P&G''s'!A3 -> TENDER NO. VDM/TECH/25/07/2024/04
A4: BILL 5 : PROVISIONAL SUMS AND RELOCATIONS
A5: ITEM | B5: PAYM. | C5: DESCRIPTION | D5: UNIT | E5: QTY | F5: RATE | G5: AMOUNT
A6: NO. | B6: REF.
B9: 1.009 | C9: Demolitions of existing and unwanted structures, concrete, etc | D9: PS | E9: 1 | F9: 3200000 | G9: =F9*E9 -> 3200000
B11: 1.009 | C11: Contractor's charges and profit | D11: % | G11: =G9*E11 -> 0
C44: TOTAL BILL 5 CARRIED FORWARD TO SUMMARY

Sheet Bill 6 C&I
A1: ='Bill 3 - Exist. RW Dam'!A1 -> VHEMBE DISTRICT MUNICIPALITY | G1: Bill 6
A2: ='Bill 1 P&G''s'!A2 -> MUTALE WATER SYSTEM UPGRADE C4: 20ML RAW WATER DAM CONSTRUCTION AND EXISTING RAW WATER DAM RENOVATIONS | G2: COMMUNICATION & INSTRUMENTATION
A3: ='Bill 1 P&G''s'!A3 -> TENDER NO. VDM/TECH/25/07/2024/04
A4: BILL 6 : COMMUNICATION AND INSTRUMENTATION
A5: ITEM | B5: PAYM. | C5: DESCRIPTION | D5: UNIT | E5: QTY | F5: RATE | G5: AMOUNT
A6: NO. | B6: REF.
C8: CONTROL AND INSTRUMENTATION SYSTEMS, COMMUNICATION AND SECURITY
B10: 1.009 | C10: Full Integration between the Mutale WTP, Mutale High-lift Pump Station and Mutale Low-lift Pump Station Communication and Control System | D10: PS | E10: 1 | F10: 600000 | G10: =F10*E10 -> 600000
B12: 1.009 | C12: Contractor's charges and profit | D12: % | E12: 0.15 | G12: =G10*E12 -> 90000
B14: 1.009 | C14: SCADA system programme updating | D14: PS | E14: 1 | F14: 280000 | G14: =F14*E14 -> 280000
B16: 1.009 | C16: Contractor's charges and profit | D16: % | E16: 0.15 | G16: =G14*E16 -> 42000
C18: MISCELLANEOUS
C20: ADDITIONAL SPARES CONSIDERED NECESSARY BY THE EMPLOYER
B22: 1.009 | C22: Civil Works | D22: PS | E22: 1 | F22: 410000 | G22: =F22*E22 -> 410000
B24: 1.009 | C24: Contractor's charges and profit | D24: % | E24: 0.15 | G24: =G22*E24 -> 61500
B26: 1.009 | C26: Mechanical Works | D26: PS | E26: 1 | F26: 610000 | G26: =F26*E26 -> 610000
B28: 1.009 | C28: Contractor's charges and profit | D28: % | E28: 0.15 | G28: =G26*E28 -> 91500
B30: 1.009 | C30: Electrical Works | D30: PS | E30: 1 | F30: 480000 | G30: =F30*E30 -> 480000
B32: 1.009 | C32: Contractor's charges and profit | D32: % | E32: 0.15 | G32: =G30*E32 -> 72000
B34: 1.009 | C34: Control Systems, Wireless Communication and Security Control | D34: PS | E34: 1 | F34: 380000 | G34: =F34*E34 -> 380000
B36: 1.009 | C36: Contractor's charges and profit | D36: % | E36: 0.15 | G36: =G34*E36 -> 57000
C54: TOTAL BILL 6 CARRIED FORWARD TO SUMMARY | G54: =SUM(G7:G53) -> 3174000

Sheet Summary
A1: VHEMBE DISTRICT MUNICIPALITY
A2: ='Bill 1 P&G''s'!A2 -> MUTALE WATER SYSTEM UPGRADE C4: 20ML RAW WATER DAM CONSTRUCTION AND EXISTING RAW WATER DAM RENOVATIONS
A3: ='Bill 1 P&G''s'!A3 -> TENDER NO. VDM/TECH/25/07/2024/04
A5: SUMMARY OF BILLS
A7: DESCRIPTION | D7: AMOUNT
A8: ='Bill 1 P&G''s'!A4 -> BILL 1 : PRELIMINARY AND GENERAL | D8: ='Bill 1 P&G''s'!H145 -> 0
A9: ='Bill 2 - 20ML RW Dam'!A4 -> BILL 2 : 20ML RAW WATER DAM CONSTRUCTION | D9: ='Bill 2 - 20ML RW Dam'!G652 -> 0
A10: ='Bill 3 - Exist. RW Dam'!A4 -> BILL 3 : RAW WATER DAM RENOVATIONS | D10: ='Bill 3 - Exist. RW Dam'!H50 -> 2200000
A11: ='Bill 4-Dayworks'!A4 -> BILL 4 : DAYWORKS | D11: ='Bill 4-Dayworks'!G194 -> 0
A12: ='Bill 5 Prov Sums & Relocations'!A4 -> BILL 5 : PROVISIONAL SUMS AND RELOCATIONS | D12: ='Bill 5 Prov Sums & Relocations'!G44 -> 0
A13: ='Bill 6 C&I'!A4 -> BILL 6 : COMMUNICATION AND INSTRUMENTATION
A14: SUB-TOTAL | D14: =SUM(D8:D13) -> 2200000
A15: CONTINGENCIES @ 10% | D15: =D14*0.1 -> 220000
A16: ESCALATION @ 5% | D16: =D14*5% -> 110000
A17: SUB-TOTAL | D17: =D14+D15+D16 -> 2530000
A18: VAT @ 15% | D18: =D17*0.15 -> 379500
A19: TOTAL CARRIED FORWARD TO FORM OF OFFER (Page C1.1) | D19: =D17+D18 -> 2909500
