Workbook
Name _Hlk143960454: 'SCHED 1B-1_AN'!#REF!
Name _Hlk143960454: 'SCHED 1B-1_OR'!#REF!
Name _Hlk143960454: 'SCHED 1B-2_AN'!#REF!
Name _Hlk143960454: 'SCHED 1B-2_OR'!#REF!
Name _Hlk143960454: 'SCHED 1B-3A_AN'!#REF!
Name _Hlk143960454: 'SCHED 1B-3A_OR'!#REF!
Name _Hlk143960454: 'SCHED 1B-4_AN'!#REF!
Name _Hlk143960454: 'SCHED 1B-4_OR'!#REF!
Name _Hlk143960454: 'SCHED 1B-5_AN'!#REF!
Name _Hlk143960454: 'SCHED 1B-5_OR'!#REF!
Name _Hlk143960454: 'SCHED 1B-6_AN'!#REF!
Name _Hlk143960454: 'SCHED 1B-6_OR'!#REF!

Sheet SUMMARY
B2: SCHEDULE MAINTENANCE OF FIRE DETECTION AND PROTECTION EQUIPMENT AT CLUSTER ONE (1) – OR TAMBO AND ALFRED NZO DISTRICT – HEALTH FACILITIES (36 MONTHS)
B3: CONTRACT REF NO | D3: SCMU3-2526-0191-HO | E3: Cluster/District: | F3: OR TAMBO DISTRICT & ALFRED NZO
D4: C1.1a: FINAL SUMMARY PAGE
B5: ASSET TYPE | D5: FIRE DETECTION AND PROTECTION SYSTEM
C7: DESCRIPTION | F7: TOTAL AMOUNT OF WORKS (EXCL VAT)
B8: 1 | C8: OR TAMBO DISTRICT
B10: 2 | C10: ALFRED NZO DISTRICT
B12: 3 | C12: Schedule 4: Term Repairs Subject to Approval of Quotation of the Works
B14: 4 | C14: Schedule 5: Equipment, Parts and Consumables
B16: 5 | C16: Sub-total of Schedules
B18: 6 | C18: Add contingencies (10%)
B27: SUBTOTAL AMOUNT OF WORKS (EXCL VAT)
B28: ALLOWANCE FOR VAT AT 15%
B29: TOTAL AMOUNT OF WORKS (INCL VAT) - ENTER THIS AMOUNT TO FORM OF OFFER
B32: C1.1a IS A MANDATORY RETURNABLE DOCUMENT. FAILURE TO COMPLETE AND SUBMIT THIS DOCUMENT WILL RESULT IN DISQUALIFICATION OF THE TENDERER

Sheet SUMMARY (2)
B2: SCHEDULE MAINTENANCE OF FIRE DETECTION & PREVENTION EQUIPMENT AT CLUSTER ONE (1) – OR TAMBO AND ALFRED NZO DISTRICT – HEALTH FACILITIES (36 MONTHS)
B4: CONTRACT REF NO | D4: SCMU3-2526-0191-HO | E4: Cluster/District: | F4: OR TAMBO DISTRICT
D5: Sub Summary Page | F5: Cluster 1
B6: ASSET TYPE | D6: Fire detection and prevention equipment
B8: SCHEDULE NUMBER | C8: DESCRIPTION | F8: TENDER AMOUNT
B10: 1B-1 | C10: OR DISTRICT - | D10: ='SCHED 1B-1_OR'!D6 -> FIXED CHARGE AND VALUE RELATED ITEMS APPLICABLE TO ALL WORK
B12: 1B-2 | C12: OR DISTRICT - | D12: ='SCHED 1B-2_OR'!D6 -> FIXED CHARGE AND VALUE RELATED ITEMS APPLICABLE TO ALL WORK (continued)
B14: 1B-3 | C14: OR DISTRICT - | D14: ='SCHED 1B-4_OR'!D6 -> FIXED CHARGE AND VALUE RELATED ITEMS APPLICABLE TO ALL WORK (continued)
B16: 1B-4 | C16: OR DISTRICT - | D16: ='SCHED 1B-5_OR'!D6 -> FIXED CHARGE AND VALUE RELATED ITEMS APPLICABLE TO ALL WORK (continued)
B18: 1B-5 | C18: OR DISTRICT - | D18: ='SCHED 1B-6_OR'!D6 -> FIXED CHARGE AND VALUE RELATED ITEMS APPLICABLE TO ALL WORK
B20: 1B-6 | C20: OR DISTRICT - | D20: ='SCHED 1B-6_OR'!D6 -> FIXED CHARGE AND VALUE RELATED ITEMS APPLICABLE TO ALL WORK
B22: 2B-1 | C22: OR DISTRICT - | D22: ='SCHED 2B-1_OR'!D6 -> FUNCTIONAL REPAIR SCHEDULE
B24: 2B-2 | C24: OR DISTRICT - | D24: ='SCHED 2B-2_OR'!D6 -> FUNCTIONAL REPAIR SCHEDULE (continued)
B26: 2B-3 | C26: OR DISTRICT - | D26: ='SCHED 2B-3_OR'!D6 -> FUNCTIONAL REPAIR SCHEDULE (continued)
B28: 2B-4 | C28: OR DISTRICT - | D28: ='SCHED 2B-4_OR'!D6 -> FUNCTIONAL REPAIR SCHEDULE
B30: 3B | C30: OR DISTRICT - | D30: ='SCHEDULE 3B_OR'!D6 -> MAINTENANCE SERVICE SCHEDULE
B33: TOTAL AMOUNT OF WORKS (INCL VAT) - ENTER THIS AMOUNT TO FORM PART OF FINAL SUMMARY

Sheet SCHED 1B-1_OR
B2: ='SUMMARY (2)'!B2 -> SCHEDULE MAINTENANCE OF FIRE DETECTION & PREVENTION EQUIPMENT AT CLUSTER ONE (1) – OR TAMBO AND ALFRED NZO DISTRICT – HEALTH FACILITIES (36 MONTHS)
B3: CONTRACT REF. NO: | D3: ='SUMMARY (2)'!D4 -> SCMU3-2526-0191-HO | E3: Cluster/District: | G3: ='SUMMARY (2)'!F4 -> OR TAMBO DISTRICT
B4: ASSET TYPE: | D4: ='SUMMARY (2)'!D6 -> Fire detection and prevention equipment | G4: ='SUMMARY (2)'!F5 -> Cluster 1
B6: SCHEDULE 1B-1 : | D6: FIXED CHARGE AND VALUE RELATED ITEMS APPLICABLE TO ALL WORK
B8: ITEM Nr. | C8: PAYMENT REFERS | D8: DESCRIPTION | E8: UNIT | F8: QTY | G8: RATE | H8: AMOUNT
B9: 1 | C9: GM 2.5 | D9: VERIFICATION OF ASSETS ON SITE : Verify assets on site vs Asset Register (C4.1), and compile plant layout line drawings as per GM 2.5 (1) and (2).
B10: 1.1 | D10: Baziya Clinic | E10: Item | F10: 1
B11: 1.2 | D11: Bedford Orthopedic Hospital | E11: Item | F11: 1
B12: 1.3 | D12: Bityi Clinic | E12: Item | F12: 1
B13: 1.4 | D13: Bumbane Clinic | E13: Item | F13: 1
B14: 1.5 | D14: Centuli Clinic | E14: Item | F14: 1
B15: 1.6 | D15: Civic Centre Clinic | E15: Item | F15: 1
B16: 1.7 | D16: Efata Clinic | E16: Item | F16: 1
B17: 1.8 | D17: Gengqe Clinic | E17: Item | F17: 1
B18: 1.9 | D18: Health District Office | E18: Item | F18: 1
B19: 1.10 | D19: Hlabatshane Clinic | E19: Item | F19: 1
B20: 1.11 | D20: Jalamba Clinic | E20: Item | F20: 1
B21: 1.12 | D21: Kambi Clinic | E21: Item | F21: 1
... B177: 1.168 | D177: Xurana Clinic | E177: Item | F177: 1
B180: TOTAL CARRIED FORWARD TO SUB SUMMARY

Sheet SCHED 1B-2_OR
B2: ='SUMMARY (2)'!B2 -> SCHEDULE MAINTENANCE OF FIRE DETECTION & PREVENTION EQUIPMENT AT CLUSTER ONE (1) – OR TAMBO AND ALFRED NZO DISTRICT – HEALTH FACILITIES (36 MONTHS)
B3: CONTRACT REF. NO: | D3: ='SUMMARY (2)'!D4 -> SCMU3-2526-0191-HO | E3: Cluster/District: | G3: ='SUMMARY (2)'!F4 -> OR TAMBO DISTRICT
B4: ASSET TYPE: | D4: ='SUMMARY (2)'!D6 -> Fire detection and prevention equipment | G4: ='SUMMARY (2)'!F5 -> Cluster 1
B6: SCHEDULE 1B-2: | D6: FIXED CHARGE AND VALUE RELATED ITEMS APPLICABLE TO ALL WORK (continued)
B8: ITEM Nr. | C8: PAYMENT REFERS | D8: DESCRIPTION | E8: UNIT | F8: QTY | G8: RATE | H8: AMOUNT
B9: 2 | C9: GM 2.5 & 3.2 | D9: VERIFICATION OF SPARE PART INVENTORY ON SITE : Find and verify all spares for the asset type that is currently available on site
B10: 2.1 | D10: Baziya Clinic | E10: Item | F10: 1
B11: 2.2 | D11: Bedford Orthopedic Hospital | E11: Item | F11: 1
B12: 2.3 | D12: Bityi Clinic | E12: Item | F12: 1
B13: 2.4 | D13: Bumbane Clinic | E13: Item | F13: 1
B14: 2.5 | D14: Centuli Clinic | E14: Item | F14: 1
B15: 2.6 | D15: Civic Centre Clinic | E15: Item | F15: 1
B16: 2.7 | D16: Efata Clinic | E16: Item | F16: 1
B17: 2.8 | D17: Gengqe Clinic | E17: Item | F17: 1
B18: 2.9 | D18: Health District Office | E18: Item | F18: 1
B19: 2.10 | D19: Hlabatshane Clinic | E19: Item | F19: 1
B20: 2.11 | D20: Jalamba Clinic | E20: Item | F20: 1
B21: 2.12 | D21: Kambi Clinic | E21: Item | F21: 1
... B177: 2.168 | D177: Xurana Clinic | E177: Item | F177: 1
B182: TOTAL CARRIED FORWARD TO SUB SUMMARY

Sheet SCHED 1B-3A_OR
B2: ='SUMMARY (2)'!B2 -> SCHEDULE MAINTENANCE OF FIRE DETECTION & PREVENTION EQUIPMENT AT CLUSTER ONE (1) – OR TAMBO AND ALFRED NZO DISTRICT – HEALTH FACILITIES (36 MONTHS)
B3: CONTRACT REF. NO: | D3: ='SUMMARY (2)'!D4 -> SCMU3-2526-0191-HO | E3: Cluster/District: | G3: ='SUMMARY (2)'!F4 -> OR TAMBO DISTRICT
B4: ASSET TYPE: | D4: ='SUMMARY (2)'!D6 -> Fire detection and prevention equipment | G4: ='SUMMARY (2)'!F5 -> Cluster 1
B6: SCHEDULE 1B-3: | D6: FIXED CHARGE AND VALUE RELATED ITEMS APPLICABLE TO ALL WORK (continued)
B8: ITEM Nr. | C8: PAYMENT REFERS | D8: DESCRIPTION | E8: UNIT | F8: QTY | G8: RATE | H8: AMOUNT
B9: 3 | C9: GM 2.7 | D9: COMPILING OF CONDITIONAL AND PERFORMANCE INSPECTION REPORT: Compile a inspection report on the current status and operation of the existing generating sets on site. The report shall be in line with the inspection report template included in this tender.
B10: 3.1 | D10: Baziya Clinic | E10: Item | F10: 1
B11: 3.2 | D11: Bedford Orthopedic Hospital | E11: Item | F11: 1
B12: 3.3 | D12: Bityi Clinic | E12: Item | F12: 1
B13: 3.4 | D13: Bumbane Clinic | E13: Item | F13: 1
B14: 3.5 | D14: Centuli Clinic | E14: Item | F14: 1
B15: 3.6 | D15: Civic Centre Clinic | E15: Item | F15: 1
B16: 3.7 | D16: Efata Clinic | E16: Item | F16: 1
B17: 3.8 | D17: Gengqe Clinic | E17: Item | F17: 1
B18: 3.9 | D18: Health District Office | E18: Item | F18: 1
B19: 3.10 | D19: Hlabatshane Clinic | E19: Item | F19: 1
B20: 3.11 | D20: Jalamba Clinic | E20: Item | F20: 1
B21: 3.12 | D21: Kambi Clinic | E21: Item | F21: 1
... B177: 3.168 | D177: Xurana Clinic | E177: Item | F177: 1
B182: TOTAL CARRIED FORWARD TO SUB SUMMARY

Sheet SCHED 1B-4_OR
B2: ='SUMMARY (2)'!B2 -> SCHEDULE MAINTENANCE OF FIRE DETECTION & PREVENTION EQUIPMENT AT CLUSTER ONE (1) – OR TAMBO AND ALFRED NZO DISTRICT – HEALTH FACILITIES (36 MONTHS)
B3: CONTRACT REF. NO: | D3: ='SUMMARY (2)'!D4 -> SCMU3-2526-0191-HO | E3: Cluster/District: | G3: ='SUMMARY (2)'!F4 -> OR TAMBO DISTRICT
B4: ASSET TYPE: | D4: ='SUMMARY (2)'!D6 -> Fire detection and prevention equipment | G4: ='SUMMARY (2)'!F5 -> Cluster 1
B6: SCHEDULE 1B-4: | D6: FIXED CHARGE AND VALUE RELATED ITEMS APPLICABLE TO ALL WORK (continued)
B8: ITEM Nr. | C8: PAYMENT REFERS | D8: DESCRIPTION | E8: UNIT | F8: QTY | G8: RATE | H8: AMOUNT
B9: 4 | C9: GM 2.7 | D9: COMPILING OF OPERATING AND MAINTENANCE MANUALS : Compile three sets of O&M Manuals per site per asset type and asset model as per information from the Asset Register C4.1
B10: 4.1 | D10: Baziya Clinic | E10: Item | F10: 1
B11: 4.2 | D11: Bedford Orthopedic Hospital | E11: Item | F11: 1
B12: 4.3 | D12: Bityi Clinic | E12: Item | F12: 1
B13: 4.4 | D13: Bumbane Clinic | E13: Item | F13: 1
B14: 4.5 | D14: Centuli Clinic | E14: Item | F14: 1
B15: 4.6 | D15: Civic Centre Clinic | E15: Item | F15: 1
B16: 4.7 | D16: Efata Clinic | E16: Item | F16: 1
B17: 4.8 | D17: Gengqe Clinic | E17: Item | F17: 1
B18: 4.9 | D18: Health District Office | E18: Item | F18: 1
B19: 4.10 | D19: Hlabatshane Clinic | E19: Item | F19: 1
B20: 4.11 | D20: Jalamba Clinic | E20: Item | F20: 1
B21: 4.12 | D21: Kambi Clinic | E21: Item | F21: 1
... B177: 4.168 | D177: Xurana Clinic | E177: Item | F177: 1
B181: TOTAL CARRIED FORWARD TO SUB SUMMARY

Sheet SCHED 1B-5_OR
B2: ='SUMMARY (2)'!B2 -> SCHEDULE MAINTENANCE OF FIRE DETECTION & PREVENTION EQUIPMENT AT CLUSTER ONE (1) – OR TAMBO AND ALFRED NZO DISTRICT – HEALTH FACILITIES (36 MONTHS)
B3: CONTRACT REF. NO: | D3: ='SUMMARY (2)'!D4 -> SCMU3-2526-0191-HO | E3: Cluster/District: | G3: ='SUMMARY (2)'!F4 -> OR TAMBO DISTRICT
B4: ASSET TYPE: | D4: ='SUMMARY (2)'!D6 -> Fire detection and prevention equipment | G4: ='SUMMARY (2)'!F5 -> Cluster 1
B6: SCHEDULE 1B-5: | D6: FIXED CHARGE AND VALUE RELATED ITEMS APPLICABLE TO ALL WORK (continued)
B8: ITEM Nr. | C8: PAYMENT REFERS | D8: DESCRIPTION | E8: UNIT | F8: QTY | G8: RATE | H8: AMOUNT
B9: 5 | C9: SS 8 & 9 | D9: OPERATOR AND MAINTAINER TRAINING : Provide Operator and Maintainer training as per SS8 and SS9
B10: 5.1 | D10: Baziya Clinic | E10: Hrs | F10: 16
B11: 5.2 | D11: Bedford Orthopedic Hospital | E11: Hrs | F11: 16
B12: 5.3 | D12: Bityi Clinic | E12: Hrs | F12: 16
B13: 5.4 | D13: Bumbane Clinic | E13: Hrs | F13: 16
B14: 5.5 | D14: Centuli Clinic | E14: Hrs | F14: 16
B15: 5.6 | D15: Civic Centre Clinic | E15: Hrs | F15: 16
B16: 5.7 | D16: Efata Clinic | E16: Hrs | F16: 16
B17: 5.8 | D17: Gengqe Clinic | E17: Hrs | F17: 16
B18: 5.9 | D18: Health District Office | E18: Hrs | F18: 16
B19: 5.10 | D19: Hlabatshane Clinic | E19: Hrs | F19: 16
B20: 5.11 | D20: Jalamba Clinic | E20: Hrs | F20: 16
B21: 5.12 | D21: Kambi Clinic | E21: Hrs | F21: 16
... B177: 5.168 | D177: Xurana Clinic | E177: Hrs | F177: 16
B183: TOTAL CARRIED FORWARD TO SUB SUMMARY

Sheet SCHED 1B-6_OR
B2: ='SUMMARY (2)'!B2 -> SCHEDULE MAINTENANCE OF FIRE DETECTION & PREVENTION EQUIPMENT AT CLUSTER ONE (1) – OR TAMBO AND ALFRED NZO DISTRICT – HEALTH FACILITIES (36 MONTHS)
B3: CONTRACT REF. NO: | D3: ='SUMMARY (2)'!D4 -> SCMU3-2526-0191-HO | E3: Cluster/District: | G3: ='SUMMARY (2)'!F4 -> OR TAMBO DISTRICT
B4: ASSET TYPE: | D4: ='SUMMARY (2)'!D6 -> Fire detection and prevention equipment | G4: ='SUMMARY (2)'!F5 -> Cluster 1
B6: SCHEDULE 1B-6: | D6: FIXED CHARGE AND VALUE RELATED ITEMS APPLICABLE TO ALL WORK
B8: ITEM Nr. | C8: PAYMENT REFERS | D8: DESCRIPTION | E8: UNIT | F8: QTY | G8: RATE | H8: AMOUNT
B9: 6 | C9: GM 3 | D9: MAINTENANCE CONTROL PLAN : Compiling of a detailed Maintenance Control Plan for each Health Facility included in this Tender (See SS 3 for facility listing)
B10: 6.1 | D10: Baziya Clinic | E10: Item | F10: 1
B11: 6.2 | D11: Bedford Orthopedic Hospital | E11: Item | F11: 1
B12: 6.3 | D12: Bityi Clinic | E12: Item | F12: 1
B13: 6.4 | D13: Bumbane Clinic | E13: Item | F13: 1
B14: 6.5 | D14: Centuli Clinic | E14: Item | F14: 1
B15: 6.6 | D15: Civic Centre Clinic | E15: Item | F15: 1
B16: 6.7 | D16: Efata Clinic | E16: Item | F16: 1
B17: 6.8 | D17: Gengqe Clinic | E17: Item | F17: 1
B18: 6.9 | D18: Health District Office | E18: Item | F18: 1
B19: 6.10 | D19: Hlabatshane Clinic | E19: Item | F19: 1
B20: 6.11 | D20: Jalamba Clinic | E20: Item | F20: 1
B21: 6.12 | D21: Kambi Clinic | E21: Item | F21: 1
... B177: 6.168 | D177: Xurana Clinic | E177: Item | F177: 1
B181: TOTAL CARRIED FORWARD TO SUB SUMMARY

Sheet SCHED 2B-1_OR
B2: ='SUMMARY (2)'!B2 -> SCHEDULE MAINTENANCE OF FIRE DETECTION & PREVENTION EQUIPMENT AT CLUSTER ONE (1) – OR TAMBO AND ALFRED NZO DISTRICT – HEALTH FACILITIES (36 MONTHS)
B3: CONTRACT REF. NO: | D3: ='SUMMARY (2)'!D4 -> SCMU3-2526-0191-HO | E3: Cluster/District: | G3: ='SCHED 1B-1_OR'!G3 -> OR TAMBO DISTRICT
B4: ASSET TYPE: | D4: ='SUMMARY (2)'!D6 -> Fire detection and prevention equipment | G4: ='SUMMARY (2)'!F5 -> Cluster 1
B6: SCHEDULE 2B-1: | D6: FUNCTIONAL REPAIR SCHEDULE
B8: ITEM Nr. | C8: PAYMENT REFERS | D8: DESCRIPTION | E8: UNIT | F8: QTY | G8: RATE | H8: AMOUNT
B9: 1 | C9: GM 2.5 | D9: FUNCTIONAL CONDITION ASSESSMENT : Perform Functional Condition Assessment (Inspection and Testing) on all listed assets at all Health Facilities included in the Tender
B10: 1.1 | D10: Baziya Clinic | E10: Item | F10: 1
B11: 1.2 | D11: Bedford Orthopedic Hospital | E11: Item | F11: 1
B12: 1.3 | D12: Bityi Clinic | E12: Item | F12: 1
B13: 1.4 | D13: Bumbane Clinic | E13: Item | F13: 1
B14: 1.5 | D14: Centuli Clinic | E14: Item | F14: 1
B15: 1.6 | D15: Civic Centre Clinic | E15: Item | F15: 1
B16: 1.7 | D16: Efata Clinic | E16: Item | F16: 1
B17: 1.8 | D17: Gengqe Clinic | E17: Item | F17: 1
B18: 1.9 | D18: Health District Office | E18: Item | F18: 1
B19: 1.10 | D19: Hlabatshane Clinic | E19: Item | F19: 1
B20: 1.11 | D20: Jalamba Clinic | E20: Item | F20: 1
B21: 1.12 | D21: Kambi Clinic | E21: Item | F21: 1
... B177: 1.168 | D177: Xurana Clinic | E177: Item | F177: 1
B181: TOTAL CARRIED FORWARD TO SUB SUMMARY

Sheet SCHED 2B-2_OR
B2: ='SUMMARY (2)'!B2 -> SCHEDULE MAINTENANCE OF FIRE DETECTION & PREVENTION EQUIPMENT AT CLUSTER ONE (1) – OR TAMBO AND ALFRED NZO DISTRICT – HEALTH FACILITIES (36 MONTHS)
B3: CONTRACT REF. NO: | D3: ='SUMMARY (2)'!D4 -> SCMU3-2526-0191-HO | E3: Cluster/District: | G3: ='SCHED 1B-1_OR'!G3 -> OR TAMBO DISTRICT
B4: ASSET TYPE: | D4: ='SUMMARY (2)'!D6 -> Fire detection and prevention equipment | G4: ='SUMMARY (2)'!F5 -> Cluster 1
B6: SCHEDULE 2B-2: | D6: FUNCTIONAL REPAIR SCHEDULE (continued)
B8: ITEM Nr. | C8: PAYMENT REFERS | D8: DESCRIPTION | E8: UNIT | F8: QTY | G8: RATE | H8: AMOUNT
B9: 2 | C9: GM 2.5.(5) | D9: COMPILING OF PRICED SPARE PART LISTS : Compile detailed, comprehensive priced spare parts lists for each site and asset type (based on Contrcator's cost price). NOTE: The Employer retains the right to negotiate the offered spare part prices, if they are not in line with national price norms.
B10: 2.1 | D10: Baziya Clinic | E10: Item | F10: 1
B11: 2.2 | D11: Bedford Orthopedic Hospital | E11: Item | F11: 1
B12: 2.3 | D12: Bityi Clinic | E12: Item | F12: 1
B13: 2.4 | D13: Bumbane Clinic | E13: Item | F13: 1
B14: 2.5 | D14: Centuli Clinic | E14: Item | F14: 1
B15: 2.6 | D15: Civic Centre Clinic | E15: Item | F15: 1
B16: 2.7 | D16: Efata Clinic | E16: Item | F16: 1
B17: 2.8 | D17: Gengqe Clinic | E17: Item | F17: 1
B18: 2.9 | D18: Health District Office | E18: Item | F18: 1
B19: 2.10 | D19: Hlabatshane Clinic | E19: Item | F19: 1
B20: 2.11 | D20: Jalamba Clinic | E20: Item | F20: 1
B21: 2.12 | D21: Kambi Clinic | E21: Item | F21: 1
... B177: 2.168 | D177: Xurana Clinic | E177: Item | F177: 1
B181: TOTAL CARRIED FORWARD TO SUB SUMMARY

Sheet SCHED 2B-3_OR
B2: ='SUMMARY (2)'!B2 -> SCHEDULE MAINTENANCE OF FIRE DETECTION & PREVENTION EQUIPMENT AT CLUSTER ONE (1) – OR TAMBO AND ALFRED NZO DISTRICT – HEALTH FACILITIES (36 MONTHS)
B3: CONTRACT REF. NO: | D3: ='SUMMARY (2)'!D4 -> SCMU3-2526-0191-HO | E3: Cluster/District: | G3: ='SCHED 1B-1_OR'!G3 -> OR TAMBO DISTRICT
B4: ASSET TYPE: | D4: ='SUMMARY (2)'!D6 -> Fire detection and prevention equipment | G4: ='SUMMARY (2)'!F5 -> Cluster 1
B6: SCHEDULE 2B-3: | D6: FUNCTIONAL REPAIR SCHEDULE (continued)
B8: ITEM Nr. | C8: PAYMENT REFERS | D8: DESCRIPTION | E8: UNIT | F8: QTY | G8: RATE | H8: AMOUNT
B9: 3 | C9: GM 2.5 | D9: COMPILING OF DETAILED REPAIR SCHEDULE : Compile detailed, comprehensive repair schedule including defect description, recommended repair method, detailed quote including priced spare parts, outsourced work, and provisional work program, for each Health Facility and asset type.
B10: 3.1 | D10: Baziya Clinic | E10: Item | F10: 1
B11: 3.2 | D11: Bedford Orthopedic Hospital | E11: Item | F11: 1
B12: 3.3 | D12: Bityi Clinic | E12: Item | F12: 1
B13: 3.4 | D13: Bumbane Clinic | E13: Item | F13: 1
B14: 3.5 | D14: Centuli Clinic | E14: Item | F14: 1
B15: 3.6 | D15: Civic Centre Clinic | E15: Item | F15: 1
B16: 3.7 | D16: Efata Clinic | E16: Item | F16: 1
B17: 3.8 | D17: Gengqe Clinic | E17: Item | F17: 1
B18: 3.9 | D18: Health District Office | E18: Item | F18: 1
B19: 3.10 | D19: Hlabatshane Clinic | E19: Item | F19: 1
B20: 3.11 | D20: Jalamba Clinic | E20: Item | F20: 1
B21: 3.12 | D21: Kambi Clinic | E21: Item | F21: 1
... B177: 3.168 | D177: Xurana Clinic | E177: Item | F177: 1
B180: TOTAL CARRIED FORWARD TO SUB SUMMARY

Sheet SCHED 2B-4_OR
B2: ='SUMMARY (2)'!B2 -> SCHEDULE MAINTENANCE OF FIRE DETECTION & PREVENTION EQUIPMENT AT CLUSTER ONE (1) – OR TAMBO AND ALFRED NZO DISTRICT – HEALTH FACILITIES (36 MONTHS)
B3: CONTRACT REF. NO: | D3: ='SUMMARY (2)'!D4 -> SCMU3-2526-0191-HO | E3: Cluster/District: | G3: ='SCHED 1B-1_OR'!G3 -> OR TAMBO DISTRICT
B4: ASSET TYPE: | D4: ='SUMMARY (2)'!D6 -> Fire detection and prevention equipment | G4: ='SUMMARY (2)'!F5 -> Cluster 1
B6: SCHEDULE 2B-4: | D6: FUNCTIONAL REPAIR SCHEDULE
B8: ITEM Nr. | C8: PAYMENT REFERS | D8: DESCRIPTION | E8: UNIT | F8: QTY | G8: RATE | H8: AMOUNT
B9: 4 | C9: GM 2.6 | D9: COMPILE FUNCTIONAL CONDITION ASSESSMENT REPORT: Compile Functional Condition Assessment Report for all asset types at all Health Facilities included in the Tender
B10: 4.1 | D10: Baziya Clinic | E10: Item | F10: 1
B11: 4.2 | D11: Bedford Orthopedic Hospital | E11: Item | F11: 1
B12: 4.3 | D12: Bityi Clinic | E12: Item | F12: 1
B13: 4.4 | D13: Bumbane Clinic | E13: Item | F13: 1
B14: 4.5 | D14: Centuli Clinic | E14: Item | F14: 1
B15: 4.6 | D15: Civic Centre Clinic | E15: Item | F15: 1
B16: 4.7 | D16: Efata Clinic | E16: Item | F16: 1
B17: 4.8 | D17: Gengqe Clinic | E17: Item | F17: 1
B18: 4.9 | D18: Health District Office | E18: Item | F18: 1
B19: 4.10 | D19: Hlabatshane Clinic | E19: Item | F19: 1
B20: 4.11 | D20: Jalamba Clinic | E20: Item | F20: 1
B21: 4.12 | D21: Kambi Clinic | E21: Item | F21: 1
... B177: 4.168 | D177: Xurana Clinic | E177: Item | F177: 1
B182: TOTAL CARRIED FORWARD TO SUB SUMMARY

Sheet SCHEDULE 3B_OR
B2: ='SUMMARY (2)'!B2 -> SCHEDULE MAINTENANCE OF FIRE DETECTION & PREVENTION EQUIPMENT AT CLUSTER ONE (1) – OR TAMBO AND ALFRED NZO DISTRICT – HEALTH FACILITIES (36 MONTHS)
B3: CONTRACT REF. NO: | D3: ='SUMMARY (2)'!D4 -> SCMU3-2526-0191-HO | E3: Cluster/District: | H3: ='SCHED 1B-1_OR'!G3 -> OR TAMBO DISTRICT
B4: ASSET TYPE: | D4: ='SUMMARY (2)'!D6 -> Fire detection and prevention equipment | H4: ='SUMMARY (2)'!F5 -> Cluster 1
B6: SCHEDULE 3B : | D6: MAINTENANCE SERVICE SCHEDULE
B8: ITEM Nr. | C8: PAYMENT REFERS | D8: DESCRIPTION | E8: UNIT | F8: EQUIPMENT/SYSTEM QTY | G8: QTY OF SERVICE PER EQUIPMENT/SYSTEM | H8: RATE | I8: AMOUNT
B9: 1 | C9: GM 3.2 | D9: MAINTENANCE WORKS : Standard servicing and planned Maintenance Costs including all parts, consumables and lubricants, labour, travelling, accommodation and subsistence allowances (Price per equipment/system)
B10: 1.1 | D10: Fire Extinguishers - DCP - 2kg
D11: Major Service Cost : Price per Annual Service / Inspection per machine, as per tasks from the Annual Service Inspection Guideline in C6.
B12: 1.1.1 | D12: Maxwele Clinic | E12: No | F12: 1 | G12: 3
B13: 1.1.2 | D13: Mbekweni CHC | E13: No | F13: 1 | G13: 3
B14: 1.1.3 | D14: St Barnabas Hospital | E14: No | F14: 3 | G14: 3
B15: 1.1.4 | D15: Nessie Knight District Hospital | E15: No | F15: 2 | G15: 3
B18: 1.2 | D18: Fire Extinguishers - DCP - 4,5kg
D19: Major Service Cost : Price per Annual Service / Inspection per machine, as per tasks from the Annual Service Inspection Guideline in C6.
B20: 1.2.1 | D20: Baziya Clinic | E20: No | F20: 9 | G20: 3
B21: 1.2.2 | D21: Bedford Orthopedic Hospital | E21: No | F21: 30 | G21: 3
B22: 1.2.3 | D22: Bityi Clinic | E22: No | F22: 10 | G22: 3
B23: 1.2.4 | D23: Bumbane Clinic | E23: No | F23: 8 | G23: 3
B24: 1.2.5 | D24: Centuli Clinic | E24: No | F24: 9 | G24: 3
B25: 1.2.6 | D25: Civic Centre Clinic | E25: No | F25: 10 | G25: 3
B26: 1.2.7 | D26: Efata Clinic | E26: No | F26: 9 | G26: 3
B27: 1.2.8 | D27: Gengqe Clinic | E27: No | F27: 5 | G27: 3
B28: 1.2.9 | D28: Health District Office | E28: No | F28: 50 | G28: 3
B29: 1.2.10 | D29: Hlabatshane Clinic | E29: No | F29: 10 | G29: 3
B30: 1.2.11 | D30: Jalamba Clinic | E30: No | F30: 10 | G30: 3
B31: 1.2.12 | D31: Kambi Clinic | E31: No | F31: 9 | G31: 3
... B179: 1.2.160 | D179: Xurana Clinic | E179: No | F179: 12 | G179: 3
B182: 1.3 | D182: Fire Extinguishers - DCP - 5kg
D183: Major Service Cost : Price per Annual Service / Inspection per machine, as per tasks from the Annual Service Inspection Guideline in C6.
B184: 1.3.1 | D184: Mbekweni CHC | E184: No | F184: 1 | G184: 3
B185: 1.3.2 | D185: Mpeko Clinic | E185: No | F185: 9 | G185: 3
B186: 1.3.3 | D186: Nelson Mandela Academic District Hospital | E186: No | F186: 30 | G186: 3
B187: 1.3.4 | D187: St Barnabas Hospital | E187: No | F187: 12 | G187: 3
B188: 1.3.5 | D188: Nothembile Clinic | E188: No | F188: 3 | G188: 3
B189: 1.3.6 | D189: Qumbu EMS Station | E189: No | F189: 10 | G189: 3
B190: 1.3.7 | D190: St Lucy's District Hospital | E190: No | F190: 6 | G190: 3
B193: 1.4 | D193: Fire Extinguishers - DCP - 9kg
D194: Major Service Cost : Price per Annual Service / Inspection per machine, as per tasks from the Annual Service Inspection Guideline in C6.
B195: 1.4.1 | D195: Bedford Orthopedic Hospital | E195: No | F195: 20 | G195: 3
B196: 1.4.2 | D196: Centuli Clinic | E196: No | F196: 2 | G196: 3
...

Sheet SUMMARY (3)
B2: SCHEDULE MAINTENANCE OF FIRE DETECTION & PREVENTION EQUIPMENT AT CLUSTER ONE (1) – OR TAMBO AND ALFRED NZO DISTRICT – HEALTH FACILITIES (36 MONTHS)
B4: CONTRACT REF NO | D4: SCMU3-2526-0191-HO | E4: Cluster/District: | F4: ALFRED NZO DISTRICT
D5: Sub Summary Page | F5: Cluster 1
B6: ASSET TYPE | D6: Fire detection and prevention equipment
B8: SCHEDULE NUMBER | C8: DESCRIPTION | F8: TENDER AMOUNT
B10: 1B-1 | C10: AN DISTRICT - | D10: ='[1]SCHED 1B-1_AN'!D6 -> FIXED CHARGE AND VALUE RELATED ITEMS APPLICABLE TO ALL WORK
B12: 1B-2 | C12: AN DISTRICT - | D12: ='[1]SCHED 1B-2_AN'!D6 -> FIXED CHARGE AND VALUE RELATED ITEMS APPLICABLE TO ALL WORK
B14: 1B-3 | C14: AN DISTRICT - | D14: ='[1]SCHED 1B-4_AN'!D6 -> FIXED CHARGE AND VALUE RELATED ITEMS APPLICABLE TO ALL WORK (continued)
B16: 1B-4 | C16: AN DISTRICT - | D16: ='[1]SCHED 1B-5_AN'!D6 -> FIXED CHARGE AND VALUE RELATED ITEMS APPLICABLE TO ALL WORK (continued)
B18: 1B-5 | C18: AN DISTRICT - | D18: ='[1]SCHED 1B-6_AN'!D6 -> FIXED CHARGE AND VALUE RELATED ITEMS APPLICABLE TO ALL WORK
B20: 1B-6 | C20: AN DISTRICT - | D20: ='[1]SCHED 1B-6_AN'!D6 -> FIXED CHARGE AND VALUE RELATED ITEMS APPLICABLE TO ALL WORK
B22: 2B-1 | C22: AN DISTRICT - | D22: ='[1]SCHED 2B-1_AN'!D6 -> FUNCTIONAL REPAIR SCHEDULE
B24: 2B-2 | C24: AN DISTRICT - | D24: ='[1]SCHED 2B-2_AN'!D6 -> FUNCTIONAL REPAIR SCHEDULE (continued)
B26: 2B-3 | C26: AN DISTRICT - | D26: ='[1]SCHED 2B-3_AN'!D6 -> FUNCTIONAL REPAIR SCHEDULE (continued)
B28: 2B-4 | C28: AN DISTRICT - | D28: ='[1]SCHED 2B-4_AN'!D6 -> FUNCTIONAL REPAIR SCHEDULE
B30: 3B | C30: AN DISTRICT - | D30: ='[1]SCHEDULE 3B-1_AN'!D6 -> MAINTENANCE SERVICE SCHEDULE
B33: TOTAL AMOUNT OF WORKS (EXCL VAT) - ENTER THIS AMOUNT TO FORM PART OF FINAL SUMMARY

Sheet SCHED 1B-1_AN
B2: =[1]SUMMARY!B2 -> SCHEDULE MAINTENANCE OF FIRE DETECTION & PREVENTION EQUIPMENT AT CLUSTER ONE (1) – OR TAMBO AND ALFRED NZO DISTRICT – HEALTH FACILITIES (36 MONTHS)
B3: CONTRACT REF. NO: | D3: =[1]SUMMARY!D4 -> SCMU3-2526-0191-HO | E3: Cluster/District: | G3: =[1]SUMMARY!F4 -> ALFRED NZO DISTRICT
B4: ASSET TYPE: | D4: =[1]SUMMARY!D6 -> Fire detection and prevention equipment | G4: =[1]SUMMARY!F5 -> Cluster 1
B6: SCHEDULE 1B-1 : | D6: FIXED CHARGE AND VALUE RELATED ITEMS APPLICABLE TO ALL WORK
B8: ITEM Nr. | C8: PAYMENT REFERS | D8: DESCRIPTION | E8: UNIT | F8: QTY | G8: RATE | H8: AMOUNT
B9: 1 | C9: GM 2.5 | D9: VERIFICATION OF ASSETS ON SITE : Verify assets on site vs Asset Register (C4.1), and compile plant layout line drawings as per GM 2.5 (1) and (2).
B10: 1.1 | D10: Afsondering Clinic | E10: Item | F10: 1
B11: 1.2 | D11: Elukholweni Clinic | E11: Item | F11: 1
B12: 1.3 | D12: Isilindini Clinic | E12: Item | F12: 1
B13: 1.4 | D13: Khotsong TB Hospital | E13: Item | F13: 1
B14: 1.5 | D14: Likhetlane Clinic | E14: Item | F14: 1
B15: 1.6 | D15: Madlangala Clinic | E15: Item | F15: 1
B16: 1.7 | D16: Magadla Clinic | E16: Item | F16: 1
B17: 1.8 | D17: Maluti CHC | E17: Item | F17: 1
B18: 1.9 | D18: Matatiele Community Clinic | E18: Item | F18: 1
B19: 1.10 | D19: Matatiele EMS Station | E19: Item | F19: 1
B20: 1.11 | D20: Mount Hargreaves Clinic | E20: Item | F20: 1
B21: 1.12 | D21: Mpharane Clinic | E21: Item | F21: 1
... B97: 1.88 | D97: Zulu Clinic | E97: Item | F97: 1
B100: TOTAL CARRIED FORWARD TO SUB SUMMARY

Sheet SCHED 1B-2_AN
B2: =[1]SUMMARY!B2 -> SCHEDULE MAINTENANCE OF FIRE DETECTION & PREVENTION EQUIPMENT AT CLUSTER ONE (1) – OR TAMBO AND ALFRED NZO DISTRICT – HEALTH FACILITIES (36 MONTHS)
B3: CONTRACT REF. NO: | D3: =[1]SUMMARY!D4 -> SCMU3-2526-0191-HO | E3: Cluster/District: | G3: =[1]SUMMARY!F4 -> ALFRED NZO DISTRICT
B4: ASSET TYPE: | D4: =[1]SUMMARY!D6 -> Fire detection and prevention equipment | G4: =[1]SUMMARY!F5 -> Cluster 1
B6: SCHEDULE 1B-2 : | D6: FIXED CHARGE AND VALUE RELATED ITEMS APPLICABLE TO ALL WORK
B8: ITEM Nr. | C8: PAYMENT REFERS | D8: DESCRIPTION | E8: UNIT | F8: QTY | G8: RATE | H8: AMOUNT
B9: 2 | C9: GM 2.5 & 3.2 | D9: VERIFICATION OF SPARE PART INVENTORY ON SITE : Find and verify all spares for the asset type that is currently available on site
B10: 1.1 | D10: Afsondering Clinic | E10: Item | F10: 1
B11: 1.2 | D11: Elukholweni Clinic | E11: Item | F11: 1
B12: 1.3 | D12: Isilindini Clinic | E12: Item | F12: 1
B13: 1.4 | D13: Khotsong TB Hospital | E13: Item | F13: 1
B14: 1.5 | D14: Likhetlane Clinic | E14: Item | F14: 1
B15: 1.6 | D15: Madlangala Clinic | E15: Item | F15: 1
B16: 1.7 | D16: Magadla Clinic | E16: Item | F16: 1
B17: 1.8 | D17: Maluti CHC | E17: Item | F17: 1
B18: 1.9 | D18: Matatiele Community Clinic | E18: Item | F18: 1
B19: 1.10 | D19: Matatiele EMS Station | E19: Item | F19: 1
B20: 1.11 | D20: Mount Hargreaves Clinic | E20: Item | F20: 1
B21: 1.12 | D21: Mpharane Clinic | E21: Item | F21: 1
... B97: 1.88 | D97: Zulu Clinic | E97: Item | F97: 1
B100: TOTAL CARRIED FORWARD TO SUB SUMMARY

Sheet SCHED 1B-3A_AN
B2: =[1]SUMMARY!B2 -> SCHEDULE MAINTENANCE OF FIRE DETECTION & PREVENTION EQUIPMENT AT CLUSTER ONE (1) – OR TAMBO AND ALFRED NZO DISTRICT – HEALTH FACILITIES (36 MONTHS)
B3: CONTRACT REF. NO: | D3: =[1]SUMMARY!D4 -> SCMU3-2526-0191-HO | E3: Cluster/District: | G3: =[1]SUMMARY!F4 -> ALFRED NZO DISTRICT
B4: ASSET TYPE: | D4: =[1]SUMMARY!D6 -> Fire detection and prevention equipment | G4: =[1]SUMMARY!F5 -> Cluster 1
B6: SCHEDULE 1B-3: | D6: FIXED CHARGE AND VALUE RELATED ITEMS APPLICABLE TO ALL WORK (continued)
B8: ITEM Nr. | C8: PAYMENT REFERS | D8: DESCRIPTION | E8: UNIT | F8: QTY | G8: RATE | H8: AMOUNT
B9: 3 | C9: GM 2.7 | D9: COMPILING OF CONDITIONAL AND PERFORMANCE INSPECTION REPORT: Compile a inspection report on the current status and operation of the existing generating sets on site. The report shall be in line with the inspection report template included in this tender.
B10: 3.1 | D10: Afsondering Clinic | E10: Item | F10: 1
B11: 3.2 | D11: Elukholweni Clinic | E11: Item | F11: 1
B12: 3.3 | D12: Isilindini Clinic | E12: Item | F12: 1
B13: 3.4 | D13: Khotsong TB Hospital | E13: Item | F13: 1
B14: 3.5 | D14: Likhetlane Clinic | E14: Item | F14: 1
B15: 3.6 | D15: Madlangala Clinic | E15: Item | F15: 1
B16: 3.7 | D16: Magadla Clinic | E16: Item | F16: 1
B17: 3.8 | D17: Maluti CHC | E17: Item | F17: 1
B18: 3.9 | D18: Matatiele Community Clinic | E18: Item | F18: 1
B19: 3.10 | D19: Matatiele EMS Station | E19: Item | F19: 1
B20: 3.11 | D20: Mount Hargreaves Clinic | E20: Item | F20: 1
B21: 3.12 | D21: Mpharane Clinic | E21: Item | F21: 1
... B97: 3.88 | D97: Zulu Clinic | E97: Item | F97: 1
B99: TOTAL CARRIED FORWARD TO SUB SUMMARY

Sheet SCHED 1B-4_AN
B2: =[1]SUMMARY!B2 -> SCHEDULE MAINTENANCE OF FIRE DETECTION & PREVENTION EQUIPMENT AT CLUSTER ONE (1) – OR TAMBO AND ALFRED NZO DISTRICT – HEALTH FACILITIES (36 MONTHS)
B3: CONTRACT REF. NO: | D3: =[1]SUMMARY!D4 -> SCMU3-2526-0191-HO | E3: Cluster/District: | G3: =[1]SUMMARY!F4 -> ALFRED NZO DISTRICT
B4: ASSET TYPE: | D4: =[1]SUMMARY!D6 -> Fire detection and prevention equipment | G4: =[1]SUMMARY!F5 -> Cluster 1
B6: SCHEDULE 1B-4: | D6: FIXED CHARGE AND VALUE RELATED ITEMS APPLICABLE TO ALL WORK (continued)
B8: ITEM Nr. | C8: PAYMENT REFERS | D8: DESCRIPTION | E8: UNIT | F8: QTY | G8: RATE | H8: AMOUNT
B9: 4 | C9: GM 2.7 | D9: COMPILING OF OPERATING AND MAINTENANCE MANUALS : Compile three sets of O&M Manuals per site per asset type and asset model as per information from the Asset Register C4.1
B10: 4.1 | D10: Afsondering Clinic | E10: Item | F10: 1
B11: 4.2 | D11: Elukholweni Clinic | E11: Item | F11: 1
B12: 4.3 | D12: Isilindini Clinic | E12: Item | F12: 1
B13: 4.4 | D13: Khotsong TB Hospital | E13: Item | F13: 1
B14: 4.5 | D14: Likhetlane Clinic | E14: Item | F14: 1
B15: 4.6 | D15: Madlangala Clinic | E15: Item | F15: 1
B16: 4.7 | D16: Magadla Clinic | E16: Item | F16: 1
B17: 4.8 | D17: Maluti CHC | E17: Item | F17: 1
B18: 4.9 | D18: Matatiele Community Clinic | E18: Item | F18: 1
B19: 4.10 | D19: Matatiele EMS Station | E19: Item | F19: 1
B20: 4.11 | D20: Mount Hargreaves Clinic | E20: Item | F20: 1
B21: 4.12 | D21: Mpharane Clinic | E21: Item | F21: 1
... B97: 4.88 | D97: Zulu Clinic | E97: Item | F97: 1
B101: TOTAL CARRIED FORWARD TO SUB SUMMARY

Sheet SCHED 1B-5_AN
B2: =[1]SUMMARY!B2 -> SCHEDULE MAINTENANCE OF FIRE DETECTION & PREVENTION EQUIPMENT AT CLUSTER ONE (1) – OR TAMBO AND ALFRED NZO DISTRICT – HEALTH FACILITIES (36 MONTHS)
B3: CONTRACT REF. NO: | D3: =[1]SUMMARY!D4 -> SCMU3-2526-0191-HO | E3: Cluster/District: | G3: =[1]SUMMARY!F4 -> ALFRED NZO DISTRICT
B4: ASSET TYPE: | D4: =[1]SUMMARY!D6 -> Fire detection and prevention equipment | G4: =[1]SUMMARY!F5 -> Cluster 1
B6: SCHEDULE 1B-5: | D6: FIXED CHARGE AND VALUE RELATED ITEMS APPLICABLE TO ALL WORK (continued)
B8: ITEM Nr. | C8: PAYMENT REFERS | D8: DESCRIPTION | E8: UNIT | F8: QTY | G8: RATE | H8: AMOUNT
B9: 5 | C9: SS 8 & 9 | D9: OPERATOR AND MAINTAINER TRAINING : Provide Operator and Maintainer training as per SS8 and SS9
B10: 5.1 | D10: Afsondering Clinic | E10: Hrs | F10: 16
B11: 5.2 | D11: Elukholweni Clinic | E11: Hrs | F11: 16
B12: 5.3 | D12: Isilindini Clinic | E12: Hrs | F12: 16
B13: 5.4 | D13: Khotsong TB Hospital | E13: Hrs | F13: 16
B14: 5.5 | D14: Likhetlane Clinic | E14: Hrs | F14: 16
B15: 5.6 | D15: Madlangala Clinic | E15: Hrs | F15: 16
B16: 5.7 | D16: Magadla Clinic | E16: Hrs | F16: 16
B17: 5.8 | D17: Maluti CHC | E17: Hrs | F17: 16
B18: 5.9 | D18: Matatiele Community Clinic | E18: Hrs | F18: 16
B19: 5.10 | D19: Matatiele EMS Station | E19: Hrs | F19: 16
B20: 5.11 | D20: Mount Hargreaves Clinic | E20: Hrs | F20: 16
B21: 5.12 | D21: Mpharane Clinic | E21: Hrs | F21: 16
... B97: 5.88 | D97: Zulu Clinic | E97: Hrs | F97: 16
B101: TOTAL CARRIED FORWARD TO SUB SUMMARY

Sheet SCHED 1B-6_AN
B2: =[1]SUMMARY!B2 -> SCHEDULE MAINTENANCE OF FIRE DETECTION & PREVENTION EQUIPMENT AT CLUSTER ONE (1) – OR TAMBO AND ALFRED NZO DISTRICT – HEALTH FACILITIES (36 MONTHS)
B3: CONTRACT REF. NO: | D3: =[1]SUMMARY!D4 -> SCMU3-2526-0191-HO | E3: Cluster/District: | G3: =[1]SUMMARY!F4 -> ALFRED NZO DISTRICT
B4: ASSET TYPE: | D4: =[1]SUMMARY!D6 -> Fire detection and prevention equipment | G4: =[1]SUMMARY!F5 -> Cluster 1
B6: SCHEDULE 1B-6: | D6: FIXED CHARGE AND VALUE RELATED ITEMS APPLICABLE TO ALL WORK
B8: ITEM Nr. | C8: PAYMENT REFERS | D8: DESCRIPTION | E8: UNIT | F8: QTY | G8: RATE | H8: AMOUNT
B9: 6 | C9: GM 3 | D9: MAINTENANCE CONTROL PLAN : Compiling of a detailed Maintenance Control Plan for each Health Facility included in this Tender (See SS 3 for facility listing)
B10: 6.1 | D10: Afsondering Clinic | E10: Item | F10: 1
B11: 6.2 | D11: Elukholweni Clinic | E11: Item | F11: 1
B12: 6.3 | D12: Isilindini Clinic | E12: Item | F12: 1
B13: 6.4 | D13: Khotsong TB Hospital | E13: Item | F13: 1
B14: 6.5 | D14: Likhetlane Clinic | E14: Item | F14: 1
B15: 6.6 | D15: Madlangala Clinic | E15: Item | F15: 1
B16: 6.7 | D16: Magadla Clinic | E16: Item | F16: 1
B17: 6.8 | D17: Maluti CHC | E17: Item | F17: 1
B18: 6.9 | D18: Matatiele Community Clinic | E18: Item | F18: 1
B19: 6.10 | D19: Matatiele EMS Station | E19: Item | F19: 1
B20: 6.11 | D20: Mount Hargreaves Clinic | E20: Item | F20: 1
B21: 6.12 | D21: Mpharane Clinic | E21: Item | F21: 1
... B97: 6.88 | D97: Zulu Clinic | E97: Item | F97: 1
B100: TOTAL CARRIED FORWARD TO SUB SUMMARY

Sheet SCHED 2B-1_AN
B2: =[1]SUMMARY!B2 -> SCHEDULE MAINTENANCE OF FIRE DETECTION & PREVENTION EQUIPMENT AT CLUSTER ONE (1) – OR TAMBO AND ALFRED NZO DISTRICT – HEALTH FACILITIES (36 MONTHS)
B3: CONTRACT REF. NO: | D3: =[1]SUMMARY!D4 -> SCMU3-2526-0191-HO | E3: Cluster/District: | G3: ='SCHED 1B-1_AN'!G3 -> ALFRED NZO DISTRICT
B4: ASSET TYPE: | D4: =[1]SUMMARY!D6 -> Fire detection and prevention equipment | G4: =[1]SUMMARY!F5 -> Cluster 1
B6: SCHEDULE 2B-1: | D6: FUNCTIONAL REPAIR SCHEDULE
B8: ITEM Nr. | C8: PAYMENT REFERS | D8: DESCRIPTION | E8: UNIT | F8: QTY | G8: RATE | H8: AMOUNT
B9: 1 | C9: GM 2.5 | D9: FUNCTIONAL CONDITION ASSESSMENT : Perform Functional Condition Assessment (Inspection and Testing) on all listed assets at all Health Facilities included in the Tender
B10: 1.1 | D10: Afsondering Clinic | E10: Item | F10: 1
B11: 1.2 | D11: Elukholweni Clinic | E11: Item | F11: 1
B12: 1.3 | D12: Isilindini Clinic | E12: Item | F12: 1
B13: 1.4 | D13: Khotsong TB Hospital | E13: Item | F13: 1
B14: 1.5 | D14: Likhetlane Clinic | E14: Item | F14: 1
B15: 1.6 | D15: Madlangala Clinic | E15: Item | F15: 1
B16: 1.7 | D16: Magadla Clinic | E16: Item | F16: 1
B17: 1.8 | D17: Maluti CHC | E17: Item | F17: 1
B18: 1.9 | D18: Matatiele Community Clinic | E18: Item | F18: 1
B19: 1.10 | D19: Matatiele EMS Station | E19: Item | F19: 1
B20: 1.11 | D20: Mount Hargreaves Clinic | E20: Item | F20: 1
B21: 1.12 | D21: Mpharane Clinic | E21: Item | F21: 1
... B97: 1.88 | D97: Zulu Clinic | E97: Item | F97: 1
B100: TOTAL CARRIED FORWARD TO SUB SUMMARY

Sheet SCHED 2B-2_AN
B2: =[1]SUMMARY!B2 -> SCHEDULE MAINTENANCE OF FIRE DETECTION & PREVENTION EQUIPMENT AT CLUSTER ONE (1) – OR TAMBO AND ALFRED NZO DISTRICT – HEALTH FACILITIES (36 MONTHS)
B3: CONTRACT REF. NO: | D3: =[1]SUMMARY!D4 -> SCMU3-2526-0191-HO | E3: Cluster/District: | G3: ='SCHED 1B-1_AN'!G3 -> ALFRED NZO DISTRICT
B4: ASSET TYPE: | D4: =[1]SUMMARY!D6 -> Fire detection and prevention equipment | G4: =[1]SUMMARY!F5 -> Cluster 1
B6: SCHEDULE 2B-2: | D6: FUNCTIONAL REPAIR SCHEDULE (continued)
B8: ITEM Nr. | C8: PAYMENT REFERS | D8: DESCRIPTION | E8: UNIT | F8: QTY | G8: RATE | H8: AMOUNT
B9: 2 | C9: GM 2.5.(5) | D9: COMPILING OF PRICED SPARE PART LISTS : Compile detailed, comprehensive priced spare parts lists for each site and asset type (based on Contrcator's cost price). NOTE: The Employer retains the right to negotiate the offered spare part prices, if they are not in line with national price norms.
B10: 2.1 | D10: Afsondering Clinic | E10: Item | F10: 1
B11: 2.2 | D11: Elukholweni Clinic | E11: Item | F11: 1
B12: 2.3 | D12: Isilindini Clinic | E12: Item | F12: 1
B13: 2.4 | D13: Khotsong TB Hospital | E13: Item | F13: 1
B14: 2.5 | D14: Likhetlane Clinic | E14: Item | F14: 1
B15: 2.6 | D15: Madlangala Clinic | E15: Item | F15: 1
B16: 2.7 | D16: Magadla Clinic | E16: Item | F16: 1
B17: 2.8 | D17: Maluti CHC | E17: Item | F17: 1
B18: 2.9 | D18: Matatiele Community Clinic | E18: Item | F18: 1
B19: 2.10 | D19: Matatiele EMS Station | E19: Item | F19: 1
B20: 2.11 | D20: Mount Hargreaves Clinic | E20: Item | F20: 1
B21: 2.12 | D21: Mpharane Clinic | E21: Item | F21: 1
... B97: 2.88 | D97: Zulu Clinic | E97: Item | F97: 1
B99: TOTAL CARRIED FORWARD TO SUB SUMMARY

Sheet SCHED 2B-3_AN
B2: =[1]SUMMARY!B2 -> SCHEDULE MAINTENANCE OF FIRE DETECTION & PREVENTION EQUIPMENT AT CLUSTER ONE (1) – OR TAMBO AND ALFRED NZO DISTRICT – HEALTH FACILITIES (36 MONTHS)
B3: CONTRACT REF. NO: | D3: =[1]SUMMARY!D4 -> SCMU3-2526-0191-HO | E3: Cluster/District: | G3: ='SCHED 1B-1_AN'!G3 -> ALFRED NZO DISTRICT
B4: ASSET TYPE: | D4: =[1]SUMMARY!D6 -> Fire detection and prevention equipment | G4: =[1]SUMMARY!F5 -> Cluster 1
B6: SCHEDULE 2B-3: | D6: FUNCTIONAL REPAIR SCHEDULE (continued)
B8: ITEM Nr. | C8: PAYMENT REFERS | D8: DESCRIPTION | E8: UNIT | F8: QTY | G8: RATE | H8: AMOUNT
B9: 3 | C9: GM 2.5 | D9: COMPILING OF DETAILED REPAIR SCHEDULE : Compile detailed, comprehensive repair schedule including defect description, recommended repair method, detailed quote including priced spare parts, outsourced work, and provisional work program, for each Health Facility and asset type.
B10: 3.1 | D10: Afsondering Clinic | E10: Item | F10: 1
B11: 3.2 | D11: Elukholweni Clinic | E11: Item | F11: 1
B12: 3.3 | D12: Isilindini Clinic | E12: Item | F12: 1
B13: 3.4 | D13: Khotsong TB Hospital | E13: Item | F13: 1
B14: 3.5 | D14: Likhetlane Clinic | E14: Item | F14: 1
B15: 3.6 | D15: Madlangala Clinic | E15: Item | F15: 1
B16: 3.7 | D16: Magadla Clinic | E16: Item | F16: 1
B17: 3.8 | D17: Maluti CHC | E17: Item | F17: 1
B18: 3.9 | D18: Matatiele Community Clinic | E18: Item | F18: 1
B19: 3.10 | D19: Matatiele EMS Station | E19: Item | F19: 1
B20: 3.11 | D20: Mount Hargreaves Clinic | E20: Item | F20: 1
B21: 3.12 | D21: Mpharane Clinic | E21: Item | F21: 1
... B97: 3.88 | D97: Zulu Clinic | E97: Item | F97: 1
B99: TOTAL CARRIED FORWARD TO SUB SUMMARY

Sheet SCHED 2B-4_AN
B2: =[1]SUMMARY!B2 -> SCHEDULE MAINTENANCE OF FIRE DETECTION & PREVENTION EQUIPMENT AT CLUSTER ONE (1) – OR TAMBO AND ALFRED NZO DISTRICT – HEALTH FACILITIES (36 MONTHS)
B3: CONTRACT REF. NO: | D3: =[1]SUMMARY!D4 -> SCMU3-2526-0191-HO | E3: Cluster/District: | G3: ='SCHED 1B-1_AN'!G3 -> ALFRED NZO DISTRICT
B4: ASSET TYPE: | D4: =[1]SUMMARY!D6 -> Fire detection and prevention equipment | G4: =[1]SUMMARY!F5 -> Cluster 1
B6: SCHEDULE 2B-4: | D6: FUNCTIONAL REPAIR SCHEDULE
B8: ITEM Nr. | C8: PAYMENT REFERS | D8: DESCRIPTION | E8: UNIT | F8: QTY | G8: RATE | H8: AMOUNT
B9: 4 | C9: GM 2.6 | D9: COMPILE FUNCTIONAL CONDITION ASSESSMENT REPORT: Compile Functional Condition Assessment Report for all asset types at all Health Facilities included in the Tender
B10: 4.1 | D10: Afsondering Clinic | E10: Item | F10: 1
B11: 4.2 | D11: Elukholweni Clinic | E11: Item | F11: 1
B12: 4.3 | D12: Isilindini Clinic | E12: Item | F12: 1
B13: 4.4 | D13: Khotsong TB Hospital | E13: Item | F13: 1
B14: 4.5 | D14: Likhetlane Clinic | E14: Item | F14: 1
B15: 4.6 | D15: Madlangala Clinic | E15: Item | F15: 1
B16: 4.7 | D16: Magadla Clinic | E16: Item | F16: 1
B17: 4.8 | D17: Maluti CHC | E17: Item | F17: 1
B18: 4.9 | D18: Matatiele Community Clinic | E18: Item | F18: 1
B19: 4.10 | D19: Matatiele EMS Station | E19: Item | F19: 1
B20: 4.11 | D20: Mount Hargreaves Clinic | E20: Item | F20: 1
B21: 4.12 | D21: Mpharane Clinic | E21: Item | F21: 1
... B97: 4.88 | D97: Zulu Clinic | E97: Item | F97: 1
B99: TOTAL CARRIED FORWARD TO SUB SUMMARY

Sheet SCHEDULE 3B-1_AN
B2: =[1]SUMMARY!B2 -> SCHEDULE MAINTENANCE OF FIRE DETECTION & PREVENTION EQUIPMENT AT CLUSTER ONE (1) – OR TAMBO AND ALFRED NZO DISTRICT – HEALTH FACILITIES (36 MONTHS)
B3: CONTRACT REF. NO: | D3: SCMU3-2526-0191-HO | E3: Cluster/District: | H3: ='SCHED 1B-1_AN'!G3 -> ALFRED NZO DISTRICT
B4: ASSET TYPE: | D4: =[1]SUMMARY!D6 -> Fire detection and prevention equipment | H4: =[1]SUMMARY!F5 -> Cluster 1
B6: SCHEDULE 3B-1 : | D6: MAINTENANCE SERVICE SCHEDULE
B7: ITEM Nr. | C7: PAYMENT REFERS | D7: DESCRIPTION | E7: UNIT | F7: EQUIPMENT/SYSTEM QTY | G7: QTY OF SERVICE PER EQUIPMENT/SYSTEM | H7: RATE | I7: AMOUNT
B8: 1 | C8: GM 3 | D8: MAINTENANCE WORKS : Standard servicing and planned Maintenance Costs including all parts, consumables and lubricants, labour, travelling, accommodation and subsistence allowances (Price per equipment/system)
B9: 1.1 | D9: Fire Extinguishers- DCP -2kg
D10: Major Service Cost : Price per Annual Service / Inspection per machine, as per tasks from the Annual Service Inspection Guideline in C6.
B11: 1.1.1 | D11: Amadiba Clinic | E11: No | F11: 3 | G11: 3
B12: 1.1.2 | D12: Sipetu Hospital | E12: No | F12: 10 | G12: 3
B15: 1.2 | D15: Fire Extinguishers- DCP - 4.5kg
D16: Major Service Cost : Price per Annual Service / Inspection per machine, as per tasks from the Annual Service Inspection Guideline in C6.
B17: 1.2.1 | D17: Afsondering Clinic | E17: No | F17: 10 | G17: 3
B18: 1.2.2 | D18: Elukholweni Clinic | E18: No | F18: 8 | G18: 3
B19: 1.2.3 | D19: Isilindini Clinic | E19: No | F19: 9 | G19: 3
B20: 1.2.4 | D20: Khotsong TB Hospital | E20: No | F20: 25 | G20: 3
B21: 1.2.5 | D21: Likhetlane Clinic | E21: No | F21: 9 | G21: 3
B22: 1.2.6 | D22: Madlangala Clinic | E22: No | F22: 8 | G22: 3
B23: 1.2.7 | D23: Magadla Clinic | E23: No | F23: 7 | G23: 3
B24: 1.2.8 | D24: Maluti CHC | E24: No | F24: 16 | G24: 3
B25: 1.2.9 | D25: Matatiele Community Clinic | E25: No | F25: 17 | G25: 3
B26: 1.2.10 | D26: Matatiele EMS Station | E26: No | F26: 12 | G26: 3
B27: 1.2.11 | D27: Mount Hargreaves Clinic | E27: No | F27: 11 | G27: 3
B28: 1.2.12 | D28: Mpharane Clinic | E28: No | F28: 9 | G28: 3
... B102: 1.2.86 | D102: Zulu Clinic | E102: No | F102: 7 | G102: 3
B105: 1.3 | D105: Fire Extinguishers- DCP - 5kg
D106: Major Service Cost : Price per Annual Service / Inspection per machine, as per tasks from the Annual Service Inspection Guideline in C6.
B107: 1.3.1 | D107: Greenville Hospital | E107: No | F107: 6 | G107: 3
B108: 1.3.2 | D108: St Patrick's Hospital | E108: No | F108: 6 | G108: 3
B111: 1.4 | D111: Fire Extinguishers- DCP - 9kg
D112: Major Service Cost : Price per Annual Service / Inspection per machine, as per tasks from the Annual Service Inspection Guideline in C6.
B113: 1.4.1 | D113: Khotsong TB Hospital | E113: No | F113: 9 | G113: 3
B114: 1.4.2 | D114: Maluti CHC | E114: No | F114: 5 | G114: 3
B115: 1.4.3 | D115: Shepherds Hope Clinic | E115: No | F115: 5 | G115: 3
B116: 1.4.4 | D116: Madzikane kaZulu Memorial Hospital | E116: No | F116: 6 | G116: 3
B117: 1.4.5 | D117: Mangqamzeni Clinic | E117: No | F117: 5 | G117: 3
B118: 1.4.6 | D118: Mapheleni Clinic | E118: No | F118: 6 | G118: 3
B119: 1.4.7 | D119: Mount Ayliff Gateway Clinic | E119: No | F119: 4 | G119: 3
B120: 1.4.8 | D120: Mount Ayliff Hospital | E120: No | F120: 10 | G120: 3
B121: 1.4.9 | D121: Mount Frere Gateway Clinic | E121: No | F121: 6 | G121: 3
...

Sheet SCHEDULE 4
B2: SCHEDULE MAINTENANCE OF FIRE DETECTION & PREVENTION EQUIPMENT AT CLUSTER ONE (1) - OR TAMBO AND ALFRED NZO DISTRICT - HEALTH FACILITIES (36 MONTHS)
B3: CONTRACT REF. NO: | D3: SCMU3-2526-0191-HO | E3: Cluster/District: | G3: =[2]SUMMARY!F4 -> OR TAMBO & ALFRED NZO
B4: ASSET TYPE: | D4: FIRE DETECTION & FIRE PREVENTION | G4: =[2]SUMMARY!F5 -> Cluster 1
B6: SCHEDULE 4 : | D6: TERM REPAIRS SUBJECT TO APPROVAL OF QUOTATION OF THE WORKS
B8: ITEM Nr. | C8: PAYMENT REFERS | D8: DESCRIPTION | E8: UNIT | F8: QTY | G8: RATE | H8: AMOUNT
B9: 1 | C9: GM 2.8 | D9: LABOUR RATES APPLICABLE TO UNSCHEDULED WORK (DAY RATES): Labour rates that Contractor will charge for additional adhoc work that is not contained in Schedules 1 to 3.
B10: 1.1 | D10: Technician | E10: R/Hr | F10: 300
B11: 1.2 | D11: Senior Artisan (Trade Tested & Additional Certification) | E11: R/Hr | F11: 600
B12: 1.3 | D12: Artisan (Trade Tested) | E12: R/Hr | F12: 430
B13: 1.4 | D13: Utility Man (Non-Trade Tested) | E13: R/Hr | F13: 850
B14: 1.5 | D14: Artisan Aid | E14: R/Hr | F14: 500
B15: 1.6 | D15: General Worker | E15: R/Hr | F15: 990
C16: GM 2.8 | D16: LABOUR RATES APPLICABLE TO UNSCHEDULED WORK (NIGHT RATES): Labour rates that Contractor will charge for additional adhoc work that is not contained in Schedules 1 to 3.
B17: 1.1 | D17: Technician | E17: R/Hr | F17: 75
B18: 1.2 | D18: Senior Artisan (Trade Tested & Additional Certification) | E18: R/Hr | F18: 150
B19: 1.3 | D19: Artisan (Trade Tested) | E19: R/Hr | F19: 108
B20: 1.4 | D20: Utility Man (Non-Trade Tested) | E20: R/Hr | F20: 213
B21: 1.5 | D21: Artisan Aid | E21: R/Hr | F21: 125
B22: 1.6 | D22: General Worker | E22: R/Hr | F22: 250
B23: 2 | C23: GM 2.8.3 | D23: TRAVELLING : Travelling cost will be as per the rates for reimbursable expenses published monthly by the National Department of Public Works at the time of rendering the service/repair.
B24: 2.1 | D24: Vehicle Travelling Estimate | E24: Km | F24: 80000
B25: 3 | C25: GM 2.8.3 | D25: ACCOMMODATION AND SUBSISTENCE : Daily Rates per person that the Contractor will claim for approved trips lasting more than one day at a time.
B26: 3.1 | D26: Accommodation | E26: Per/night | F26: 60
B27: 3.2 | D27: Subsistence | E27: Per/day | F27: 60
B28: 4 | C28: GM 2.5 (10), GM 2.8.1 & GM 2.10.3 | D28: PROVISION TO COVER REPAIRS DURING THE TERM OF THE CONTRACT : Lump Sum Provision to cover repairs and breakdowns during the course of the Contract in addition to the agreed routine servicing of the Assets. | E28: PSum | F28: 1 | G28: 8000000 | H28: =G28 -> 8000000
B29: 5 | C29: GM 2.8.1 & Clause 11.2(8) | D29: DIRECT FEE PERCENTAGE (MARK-UP) ON MATERIALS AND SERVICES THAT IS NOT INCLUDED IN PRICE LISTS : Mark-up on proven cost for materials and/or Outsourced Services based on the Provisional sum listed in Item 4. above. (Apply % to provisional sum in Item 4 above when pricing the tender) | E29: % | G29: 8000000
B31: 6 | C31: GM 2.15 | D31: ENVIRONMENTAL MANAGEMENT PLAN : The Contractor must compile a basic Environmental plan specific to the type of work that he will be performing at the Health Facilities as per C3.2 | E31: Item | F31: 1
B32: 7 | C32: GM 2.15 | D32: OCCUPATIONAL HEALTH AND SAFETY ACT COMPLIANCE COST : The Contractor must comply to the project Health and Safety Specification specific to the type of work that he will be performing on site as per C3.2 | E32: Month | F32: 36
B33: 8 | C33: Clause 83.1 | D33: INSURANCE : LIMITATION OF LIABILITY (Amounts applicable for whole Contract)
B34: 8.1 | D34: Provision for General Contractor's Insurance (Minimum liability limit must be equal to R5,000 000) to cover requirements of Clause 83.1 in Contract Data | E34: Month | F34: 36
B35: 9 | C35: X13 | D35: PERFORMANCE BOND (Amounts applicable for whole Contract)
B36: 9.1 | D36: Provision for a Performance bond of not less than 2,5% of the Tender Value | E36: Month | F36: 36
B37: 10 | C37: SS15 | D37: IN-SERVICE TRAINING OF GRADUATES AND INTERNS : Provisional Sum to pay the costs associated with employing nominated Interns and Graduates for the duration of the Contract
B38: 10.1 | D38: Interns(1 Interns @R6000 per month) | E38: Months | F38: 36
B39: 10.2 | D39: Graduates(1 Graduates @R8000 per month) | E39: Months | F39: 36
B40: 11 | C40: GM 6 | D40: PROVISION FOR SPECIAL TESTING BY SERVICE MANAGER : Lump sum provision for doing special tests at the Health Facilities as per the prerogative of the Service Manager | E40: PSum | F40: 1 | G40: 345000 | H40: 345000
B41: 11.1 | C41: Clause 11.2(8) | D41: Direct Fee Percentage (Mark-up) to be charged by Contractor on amounts above | E41: % | G41: 345000
B42: 12 | C42: GM 2.6 | D42: MAINTENANCE DOCUMENTATION SITE STORAGE CONSOLE: Provisional sum to supply and install O&M Manual, Log Books, and site Maintenance Records at each equipment type location as directed by the Service Manager | E42: PSum | F42: 1 | G42: 105000 | H42: 105000
B43: 12.1 | C43: Clause 11.2(8) | D43: Direct Fee Percentage (Mark-up) to be charged by Contractor on amounts above | E43: % | G43: 105000
B46: TOTAL CARRIED FORWARD TO FINAL SUMMARY

Sheet SCHEDULE 5
B2: SCHEDULE MAINTENANCE OF FIRE DETECTION & PREVENTION EQUIPMENT AT CLUSTER ONE (1) - OR TAMBO AND ALFRED NZO DISTRICT - HEALTH FACILITIES (36 MONTHS)
B3: CONTRACT REF. NO: | D3: SCMU3-2526-0191-HO | E3: Cluster/District: | G3: =[2]SUMMARY!F4 -> OR TAMBO & ALFRED NZO
B4: ASSET TYPE: | D4: FIRE DETECTION & FIRE PREVENTION | G4: =[2]SUMMARY!F5 -> Cluster 1
B6: SCHEDULE 5 : | D6: EQUIPMENT, PARTS AND CONSUMABLES
B8: ITEM Nr. | C8: PAYMENT REFERS | D8: DESCRIPTION | E8: UNIT | F8: QTY | G8: RATE | H8: AMOUNT
D9: EQUIPMENT, PARTS AND CONSUMABLES: Costs shall including all parts, fittings, fixtures, associated equipment, consumables and lubricants, supply, labour, travelling, accommodation and subsistence allowances (Price per equipment/system)
B11: 1 | D11: Photo Luminous signs- 900x900 - directional | E11: Item | F11: 1980
B13: =B11+1 -> 2 | D13: Fire Extinguisher Reflective Safety Sign | E13: Item | F13: 1980
B15: =B13+1 -> 3 | D15: Hose Reel Reflective Safety Sign | E15: Item | F15: 144
B17: =B15+1 -> 4 | D17: SABS Fire Hydrant, Fire Extinguisher, Fire Hose Reel And Red Arrow Right, photoluminescent (glow in the dark) safety sign | E17: Item | F17: 144
B19: =B17+1 -> 5 | D19: SABS Red Arrow down with Fire Extinguisher photoluminescent (glow in the dark) safety sign | E19: Item | F19: 1980
B21: =B19+1 -> 6 | D21: SABS Red Arrow down, Fire Extinguisher And Fire Hose Reel photoluminescent (glow in the dark) safety sign | E21: Item | F21: 144
B23: =B21+1 -> 7 | D23: SABS Fire Extinguisher photoluminescent (glow in the dark) safety sign (F28) | E23: Item | F23: 1980
B25: =B23+1 -> 8 | D25: SABS Fire Extinguisher, Fire Hose Reel and Red Arrow Right Photoluminescent (glow in the dark)safety sign | E25: Item | F25: 144
B28: TOTAL CARRIED FORWARD TO FINAL SUMMARY

Sheet WORK ORDERS  01 LAETITIA BAM CH
A9: QUOTE TO : | F9: Qoute No | H9: 1
A10: Department of Health | F10: Date | H10: 43770
A11: 717 Dukumbana Building | F11: Facility | H11: LAETITIA BAM CHC
A12: Independent Avenue | F12: Work Order | H12: 39138
A13: Bhisho | F13: Tender No | H13: SCMU3 - 17/18-0303 - HO
F14: Contract Term | H14: 24 MONTHS
A15: WORK REQUEST : Generator is faulty.
A16: SCHEDULED WORK
A17: Item 1 | B17: Discription | E17: Unit | F17: Sch No | G17: Quantity | H17: Rate | I17: Amount
I18: =SUM(G18*H18) -> 0
I19: =SUM(G19*H19) -> 0
I20: =SUM(G20*H20) -> 0
A21: Sub Total A | I21: =SUM(I18:I20) -> 0
A22: NON SCHEDULED WORK
A23: Item 2 | B23: Discription | F23: Quantity | G23: Mark -Up | H23: Rate | I23: Amount
A24: 1 | B24: RELAY 11 PIN 12V DC | F24: 2 | G24: 0.15 | H24: 110 | I24: =H24*F24*1.15 -> 253
A25: 2 | B25: RELAY BASE | F25: 2 | G25: 0.15 | H25: 65 | I25: =H25*F25*1.15 -> 149.5
A26: 3 | B26: DEEPSEA CONTROLLER | F26: 1 | G26: 0.15 | H26: 6239 | I26: =H26*F26*1.15 -> 7174.85
A27: 4 | B27: MCB 6A SP | F27: 2 | G27: 0.15 | H27: 21.6 | I27: =H27*F27*1.15 -> 49.68
A28: 5 | B28: RED STOP TWIST RELEASE | F28: 2 | G28: 0.15 | H28: 65.5 | I28: =H28*F28*1.15 -> 150.65
A29: 6 | B29: CONTACT BLOCK 1N/0 + 1N/C | F29: 2 | G29: 0.15 | H29: 68.5 | I29: =H29*F29*1.15 -> 157.55
A32: Sub Total B | I32: =SUM(I24:I31) -> 7935.23
A33: LABOUR
A34: Item 3 | B34: (Normal Rate) | E34: Unit | G34: Quantity | H34: Rate | I34: Amount
A35: 1 | B35: Techinician | E35: HRS | G35: 15 | H35: 450 | I35: =SUM(G35*H35) -> 6750
A36: 2 | B36: Senior Artisan | E36: HRS | H36: 350 | I36: =SUM(G36*H36) -> 0
A37: 3 | B37: Artisan (Trade Tested) | E37: HRS | H37: 300 | I37: =SUM(G37*H37) -> 0
A38: 4 | B38: Utility Man (Non - Trade Tested) | E38: HRS | G38: 15 | H38: 200 | I38: =SUM(G38*H38) -> 3000
A39: 5 | B39: Artisan Aid | E39: HRS | H39: 200 | I39: =SUM(G39*H39) -> 0
A40: 6 | B40: General Worker | E40: HRS | H40: 140 | I40: =SUM(G40*H40) -> 0
A44: Sub Total C | I44: =SUM(I35:I43) -> 9750
A45: TRANSPORT
A46: Item 4 | B46: Destinantion | E46: No of Trips | G46: KMs | H46: Rate | I46: Amount
A47: 12 | B47: Port Elizabeth office to Laetitia Bam
B48: CHC and back. | E48: 2 | G48: 154.4 | H48: 5 | I48: =H48*G48 -> 772
A50: Sub Total D | I50: =SUM(I47:I49) -> 772
G52: Sub Total (A+B+C+D) | I52: =I50+I44+I32+I21 -> 18457.23
G54: Sub Total | I54: =I52+I53 -> 18457.23

Sheet JOSE PEARSON TB HOSPITAL (02)
A9: QUOTE TO : | F9: Qoute No | H9: 2
A10: Department of Health | F10: Date | H10: 43498
A11: 717 Dukumbana Building | F11: Facility | H11: JOSE PEARSON TB HOSPITAL
A12: Independent Avenue | F12: Work Order | H12: 40578
A13: Bhisho | F13: Tender No | H13: SCMU3 - 17/18-0303 - HO
F14: Contract Term | H14: 24 MONTHS
A15: WORK REQUEST : Phamarcy building dep needs to be connected to the gen
A16: SCHEDULED WORK
A17: Item 1 | B17: Discription | E17: Unit | F17: Sch No | G17: Quantity | H17: Rate | I17: Amount
I18: =SUM(G18*H18) -> 0
I19: =SUM(G19*H19) -> 0
I20: =SUM(G20*H20) -> 0
A21: Sub Total A | I21: =SUM(I18:I20) -> 0
A22: NON SCHEDULED WORK
A23: Item 2 | B23: Discription | F23: Quantity | G23: MarK UP | H23: Rate | I23: Amount
A32: Sub Total B | I32: =SUM(I24:I31) -> 0
A33: LABOUR
A34: Item 3 | B34: (Normal Rate) | E34: Unit | G34: Quantity | H34: Rate | I34: Amount
A35: 1 | B35: Techinician | E35: HRS | G35: 6 | H35: 450 | I35: =SUM(G35*H35) -> 2700
A36: 2 | B36: Senior Artisan | E36: HRS | H36: 350 | I36: =SUM(G36*H36) -> 0
A37: 3 | B37: Artisan (Trade Tested) | E37: HRS | H37: 300 | I37: =SUM(G37*H37) -> 0
A38: 4 | B38: Utility Man (Non - Trade Tested) | E38: HRS | G38: 6 | H38: 200 | I38: =SUM(G38*H38) -> 1200
A39: 5 | B39: Artisan Aid | E39: HRS | H39: 200 | I39: =SUM(G39*H39) -> 0
A40: 6 | B40: General Worker | E40: HRS | H40: 140 | I40: =SUM(G40*H40) -> 0
A44: Sub Total C | I44: =SUM(I35:I43) -> 3900
A45: TRANSPORT
A46: Item 4 | B46: Destinantion | E46: No of Trips | G46: KMs | H46: Rate | I46: Amount
A47: 12 | B47: Port Elizabeth office to Jose Pearson
B48: TB Hospital and back. | E48: 1 | G48: 47 | H48: 5 | I48: =H48*G48 -> 235
A50: Sub Total D | I50: =SUM(I47:I49) -> 235
G52: Sub Total (A+B+C+D) | I52: =I50+I44+I32+I21 -> 4135
G54: Sub Total | I54: =I52 -> 4135

Sheet NEW BRIGHTON MORTUARY (03)
A9: QUOTE TO : | F9: Qoute No | H9: 3
A10: Department of Health | F10: Date | H10: 43801
A11: 717 Dukumbana Building | F11: Facility | H11: NEW BRIGHTON MORTUARY
A12: Independent Avenue | F12: Work Order | H12: 41253
A13: Bhisho | F13: Tender No | H13: SCMU3 - 17/18-0303 - HO
F14: Contract Term | H14: 24 MONTHS
A15: WORK REQUEST : Gen does not start.
A16: SCHEDULED WORK
A17: Item 1 | B17: Discription | E17: Unit | F17: Sch No | G17: Quantity | H17: Rate | I17: Amount
I18: =SUM(G18*H18) -> 0
I19: =SUM(G19*H19) -> 0
I20: =SUM(G20*H20) -> 0
A21: Sub Total A | I21: =SUM(I18:I20) -> 0
A22: NON SCHEDULED WORK
A23: Item 2 | B23: Discription | F23: Quantity | G23: MarK UP | H23: Rate | I23: Amount
A32: Sub Total B | I32: =SUM(I24:I31) -> 0
A33: LABOUR
A34: Item 3 | B34: (Normal Rate) | E34: Unit | G34: Quantity | H34: Rate | I34: Amount
A35: 1 | B35: Techinician | E35: HRS | G35: 1.5 | H35: 450 | I35: =SUM(G35*H35) -> 675
A36: 2 | B36: Senior Artisan | E36: HRS | H36: 350 | I36: =SUM(G36*H36) -> 0
A37: 3 | B37: Artisan (Trade Tested) | E37: HRS | H37: 300 | I37: =SUM(G37*H37) -> 0
A38: 4 | B38: Utility Man (Non - Trade Tested) | E38: HRS | G38: 1.5 | H38: 200 | I38: =SUM(G38*H38) -> 300
A39: 5 | B39: Artisan Aid | E39: HRS | H39: 200 | I39: =SUM(G39*H39) -> 0
A40: 6 | B40: General Worker | E40: HRS | H40: 140 | I40: =SUM(G40*H40) -> 0
A44: Sub Total C | I44: =SUM(I35:I43) -> 975
A45: TRANSPORT
A46: Item 4 | B46: Destinantion | E46: No of Trips | G46: KMs | H46: Rate | I46: Amount
A47: 12 | B47: Port Elizabeth office to New Brighton
B48: Mortuary and back. | E48: 1 | G48: 21.4 | H48: 5 | I48: =H48*G48 -> 107
A50: Sub Total D | I50: =SUM(I47:I49) -> 107
G52: Sub Total (A+B+C+D) | I52: =I50+I44+I32+I21 -> 1082
G54: Sub Total | I54: =I52+I53 -> 1082

Sheet DORA NGIZA HOSPITAL (04)
A9: QUOTE TO : | F9: Qoute No | H9: 4
A10: Department of Health | F10: Date | H10: 43771
A11: 717 Dukumbana Building | F11: Facility | H11: DORA NGINZA HOSPITAL
A12: Independent Avenue | F12: Work Order | H12: 41177
A13: Bhisho | F13: Tender No | H13: SCMU3 - 17/18-0303 - HO
F14: Contract Term | H14: 24 MONTHS
A15: WORK REQUEST : Request to repair faulty cable connecting to thechange over switch.
A16: SCHEDULED WORK
A17: Item 1 | B17: Discription | E17: Unit | F17: Sch No | G17: Quantity | H17: Rate | I17: Amount
I18: =SUM(G18*H18) -> 0
I19: =SUM(G19*H19) -> 0
I20: =SUM(G20*H20) -> 0
A21: Sub Total A | I21: =SUM(I18:I20) -> 0
A22: NON SCHEDULED WORK
A23: Item 2 | B23: Discription | F23: Quantity | G23: Mark - Up | H23: Rate | I23: Amount
A24: 1 | B24: ELECTRO PHASE FAILER RELAY 400V | F24: 1 | G24: 0.15 | H24: 396 | I24: =H24*F24*1.15 -> 455.4
A25: 2 | B25: 10 X 38mm FUSE 100KVA | F25: 1 | G25: 0.15 | H25: 12 | I25: =H25*F25*1.15 -> 13.8
A32: Sub Total B | I32: =SUM(I24:I31) -> 469.2
A33: LABOUR
A34: Item 3 | B34: (Normal Rate) | E34: Unit | G34: Quantity | H34: Rate | I34: Amount
A35: 1 | B35: Techinician | E35: HRS | G35: 2 | H35: 450 | I35: =SUM(G35*H35) -> 900
A36: 2 | B36: Senior Artisan | E36: HRS | H36: 350 | I36: =SUM(G36*H36) -> 0
A37: 3 | B37: Artisan (Trade Tested) | E37: HRS | H37: 300 | I37: =SUM(G37*H37) -> 0
A38: 4 | B38: Utility Man (Non - Trade Tested) | E38: HRS | G38: 2 | H38: 200 | I38: =SUM(G38*H38) -> 400
A39: 5 | B39: Artisan Aid | E39: HRS | H39: 200 | I39: =SUM(G39*H39) -> 0
A40: 6 | B40: General Worker | E40: HRS | H40: 140 | I40: =SUM(G40*H40) -> 0
A44: Sub Total C | I44: =SUM(I35:I43) -> 1300
A45: TRANSPORT
A46: Item 4 | B46: Destinantion | E46: No of Trips | G46: KMs | H46: Rate | I46: Amount
A47: 1 | B47: Port Elizabeth office to Dora Nginza
B48: Hospital and back. | E48: 1 | G48: 28.6 | H48: 5 | I48: =H48*G48 -> 143
A50: Sub Total D | I50: =SUM(I47:I49) -> 143
G52: Sub Total (A+B+C+D) | I52: =I50+I44+I32+I21 -> 1912.2
G54: Sub Total | I54: =I52+I53 -> 1912.2

Sheet LAETITIA BAM CHC (05)
A9: QUOTE TO : | F9: Qoute No | H9: 5
A10: Department of Health | F10: Date | H10: 43740
A11: 717 Dukumbana Building | F11: Facility | H11: LAETITIA BAM CHC
A12: Independent Avenue | F12: Work Order | H12: 41140
A13: Bhisho | F13: Tender No | H13: SCMU3 - 17/18-0303 - HO
F14: Contract Term | H14: 24 MONTHS
A15: WORK REQUEST : Gen did not start.
A16: SCHEDULED WORK
A17: Item 1 | B17: Discription | E17: Unit | F17: Sch No | G17: Quantity | H17: Rate | I17: Amount
I18: =SUM(G18*H18) -> 0
I19: =SUM(G19*H19) -> 0
I20: =SUM(G20*H20) -> 0
A21: Sub Total A | I21: =SUM(I18:I20) -> 0
A22: NON SCHEDULED WORK
A23: Item 2 | B23: Discription | F23: Quantity | H23: Rate | I23: Amount
A32: Sub Total B | I32: =SUM(I24:I31) -> 0
A33: LABOUR
A34: Item 3 | B34: (Normal Rate) | E34: Unit | G34: Quantity | H34: Rate | I34: Amount
A35: 1 | B35: Techinician | E35: HRS | G35: 1 | H35: 450 | I35: =SUM(G35*H35) -> 450
A36: 2 | B36: Senior Artisan | E36: HRS | H36: 350 | I36: =SUM(G36*H36) -> 0
A37: 3 | B37: Artisan (Trade Tested) | E37: HRS | H37: 300 | I37: =SUM(G37*H37) -> 0
A38: 4 | B38: Utility Man (Non - Trade Tested) | E38: HRS | G38: 1 | H38: 200 | I38: =SUM(G38*H38) -> 200
