Workbook
Name Compliance_Description: [1]!Table2[Score Description]
Name Compliance_Description: [2]!Table2[Score Description]
Name Compliance_Description: [1]!Table2[Score Description]
Name Compliance_Description: [1]!Table2[Score Description]
Name Compliance_Description: [2]!Table2[Score Description]
Name Compliance_Score: [1]!Table2[Score Ratings]
Name Compliance_Score: [2]!Table2[Score Ratings]
Name Compliance_Score: [1]!Table2[Score Ratings]
Name Compliance_Score: [1]!Table2[Score Ratings]
Name Compliance_Score: [2]!Table2[Score Ratings]
Name Conv_actual_date_range: [3]Milestones!#REF!
Name Conv_actual_date_range: [3]Milestones!#REF!
Name Conv_actual_date_range: [3]Milestones!#REF!
Name Conv_actual_date_range: [3]Milestones!#REF!
Name Conv_actual_date_range: [3]Milestones!#REF!
Name Conv_actual_date_range: [3]Milestones!#REF!
Name Conv_actual_date_range: [3]Milestones!#REF!
Name Conv_actual_date_range: [3]Milestones!#REF!
Name Conv_actual_date_range: [3]Milestones!#REF!
Name Conv_actual_date_range: [3]Milestones!#REF!
Name Conv_actual_date_range: [3]Milestones!#REF!
Name Conv_actual_date_range: [3]Milestones!#REF!
Name Conv_plan_date_range: [3]Milestones!#REF!
Name Conv_plan_date_range: [3]Milestones!#REF!
Name Conv_plan_date_range: [3]Milestones!#REF!
Name Conv_plan_date_range: [3]Milestones!#REF!
Name Conv_plan_date_range: [3]Milestones!#REF!
Name Conv_plan_date_range: [3]Milestones!#REF!
Name Conv_plan_date_range: [3]Milestones!#REF!
Name Conv_plan_date_range: [3]Milestones!#REF!
Name Conv_plan_date_range: [3]Milestones!#REF!
Name Conv_plan_date_range: [3]Milestones!#REF!
Name Conv_plan_date_range: [3]Milestones!#REF!
Name Conv_plan_date_range: [3]Milestones!#REF!
Name Copy_Excel_BuiltIn_FilterDatabase_5: #REF!
Name Copy_Excel_BuiltIn_FilterDatabase_5: #REF!
Name Copy_Excel_BuiltIn_FilterDatabase_5: #REF!
Name Copy_Priority: [4]Config!$E$3:$E$9
Name Evidence_Description: [1]!Table4[Description]
Name Evidence_Description: [2]!Table4[Description]
Name Evidence_Description: [1]!Table4[Description]
Name Evidence_Description: [1]!Table4[Description]
Name Evidence_Description: [2]!Table4[Description]
Name Evidence_Score: [1]!Table4[Score]
Name Evidence_Score: [2]!Table4[Score]
Name Evidence_Score: [1]!Table4[Score]
Name Evidence_Score: [1]!Table4[Score]
Name Evidence_Score: [2]!Table4[Score]
Name Excel_BuiltIn__FilterDatabase_5: #REF!
Name Excel_BuiltIn__FilterDatabase_5: #REF!
Name Excel_BuiltIn__FilterDatabase_5: #REF!
Name Excel_BuiltIn__FilterDatabase_5: #REF!
Name Excel_BuiltIn__FilterDatabase_5: #REF!
Name Excel_BuiltIn__FilterDatabase_5: #REF!
Name Excel_BuiltIn__FilterDatabase_5: #REF!
Name Functional_Description: [1]!Table3[Description]
Name Functional_Description: [2]!Table3[Description]
Name Functional_Description: [1]!Table3[Description]
Name Functional_Description: [1]!Table3[Description]
Name Functional_Description: [2]!Table3[Description]

Sheet Approval Page
B2: By signing this document, the people listed record their agreement on the contents of this document.
B4: DOCUMENT ACCEPTANCE | C4: Technical evaluation criteria: 2433618 Replacement of Learning Management System (LMS)
B6: Business Analyst | C6: Name: | D6: Seshnee Govender
C7: Signature: | D7: ____________________________________
C8: Date: | D8: ____________________________________
B10: Business Requestor (HR) | C10: Name: | D10: Ntoapelo Galeboe
C11: Signature: | D11: ____________________________________
C12: Date: | D12: ____________________________________
B14: HR SME (LMS CORE) | C14: Name: | D14: Potego Mmako
C15: Signature: | D15: ____________________________________
C16: Date: | D16: ____________________________________
B18: HR SME (Authoring Tool) | C18: Name: | D18: Jill Meder
C19: Signature: | D19: ____________________________________
C20: Date: | D20: ____________________________________
B22: HR SME (Mentorship) | C22: Name: | D22: Jabulile Kawula
C23: Signature: | D23: ____________________________________
C24: Date: | D24: ____________________________________
B26: HR SME (Further Studies) | C26: Name: | D26: Vinnolia Jele
C27: Signature: | D27: ____________________________________
C28: Date: | D28: ____________________________________
B30: Solution Architect | C30: Name: | D30: Johann Marx
C31: Signature: | D31: ____________________________________
C32: Date: | D32: ____________________________________
B34: Integration CoE | C34: Name: | D34: Leigh-Ann Vermaak
C35: Signature: | D35: ____________________________________
C36: Date: | D36: ____________________________________
B38: Testing CoE | C38: Name: | D38: Kholo Motadi
C39: Signature: | D39: ____________________________________
C40: Date: | D40: ____________________________________
B42: Security | C42: Name: | D42: Skhumbuzo Gama
C43: Signature: | D43: ____________________________________
C44: Date: | D44: ____________________________________
B46: Group IT BSDS Snr. Manager | C46: Name: | D46: Anthenia Phuku
C47: Signature: | D47: ____________________________________
C48: Date: | D48: ____________________________________

Sheet Evaluation Summary
A2: Project Name: | B2: Replacement of Learning Management System (LMS)
A3: CORP xxxx Tender: | B3: Eskom Project Manager to Capture
A4: Tenderer: | B4: Tenderer to Capture
A5: Evaluated by: | B5: Eskom Evaluator to Capture
A8: Important Notes:
A9: 1. Please indicate location of answers to the criteria and where required answer yes or no. To be included in Comments tab per sheet.
A10: 2. The qualified solution service provider shall do a product demo of the proposed product to be presented to Eskom. This is mandatory.
A11: 3. "Tenderer(s) to take note of the following key instructions - Please follow the structure of the technical evaluation sheet provided when responding to this enquiry.
A12: 4. DO NOT just give YES/NO kind of response to the questions which require more details and information.
A13: 5. Provide full information to your answer(s) in line with the details of the question(s) in point."
A14: 6. If any of the criteria listed in the Gatekeepers are not met, the tenderer will be disqualified.
A17: GATEKEEPERS - Evaluation on Elimination Criteria
A19: **If any of these criteria are not met, the tenderer will be disqualified.
A20: Criteria (Gate Keepers) | E20: Criteria Met? | F20: Motivate YES answers AND list supporting document(s), section(s), page(s), paragraph(s) etc.
A21: If Eskom's Data needs to be hosted and used in the tenderer's Cloud hosted Solution/s, the tenderer's Cloud hosting data centre must be within the borders of EU and/or South Africa. | E21: Yes
E22: =IF(OR(E21="No",ISBLANK(E21),E21="No",ISBLANK(E21)),"Disqualified","Qualified") -> Qualified
A24: Notes regarding the scoring table below:
A25: STAGE 1: Desktop Evaluation (Paper Exercise)
A26: - The total weighting for the Paper exercise evaluation is 50%.
A27: - The threshold for the Paper exercise is 75%. Failiure to meet or exceed this threshold will result in disqualification from the process and the tenderer will not be evaluated further.
A28: STAGE 2: Demonstration | B28: All tenderers that pass the paper exercise evaluation threshold, shall do a product demo of the proposed solution to Eskom. This is mandatory
A29: - The total weighting for the Demo is 50%.
A30: - The threshold for the Demo is 80%. Failiure to meet or exceed this threshold will result in disqualification from the process and the tenderer will not be evaluated further.
C33: Weighting | E33: STAGE 1: Paper evaluation threshold is 75%
A34: Paper evaluation | B34: LMS Core - Functional Requirements | C34: 0.15
B35: Authoring Tool - Functional Requirements | C35: 0.1
B36: Mentorship - Functional Requirements | C36: 0.05
B37: Further Studies - Functional Requirements | C37: 0.1
B38: Reports | C38: 0.05
B39: Supplier Implementation Evaluation | C39: 0.15
B40: Architecture | C40: 0.1
B41: Cloud Requirements | C41: 0.1
B42: Cyber Security | C42: 0.1
B43: Integration & Testing | C43: 0.1
B44: TOTAL | C44: =SUM(C34:C43) -> 1
A47: Demo | B47: Demo TOTAL | C47: 1 | D47: =Demo!M87 -> 0 | E47: STAGE 2: Demonstration threshold is 80%

Sheet LMS Core
E1: Full Description of the Selection Options for "Tenderer Compliance" Selections & "Eskom Evaluator" Scoring selections, please see Column K
B2: Evaluation Area: | C2: LMS Core
B3: Project Name: | C3: ='Evaluation Summary'!B2 -> Replacement of Learning Management System (LMS)
A4: ='Evaluation Summary'!A3 -> CORP xxxx Tender: | C4: ='Evaluation Summary'!B3 -> Eskom Project Manager to Capture
B5: Tenderer: | C5: ='Evaluation Summary'!B4 -> Tenderer to Capture
B6: Evaluated by: | C6: ='Evaluation Summary'!B5 -> Eskom Evaluator to Capture
H9: Priority and Weight | K9: Eskom Evaluator Scoring
A10: ID | B10: Type | C10: Functionality Area | D10: Requirement | E10: Tenderer Compliance Tenderer to select compliance to requirement from the drop-down list provided | F10: Tenderer Evidence Tenderer to indicate location of evidence e.g. document, section, page, paragraph, etc. | G10: Tenderer Comments Tenderer to indicate any applicable comments based on Compliance | H10: Priority Rating | I10: Priority description | J10: Weighted Question | K10: Eskom Evaluator Scoring | L10: Answer Evaluator to select scoring to requirement from the drop-down list provided | M10: Weighted Answer | N10: Eskom Evaluator Comments
A11: LMS 1 | B11: Meeting the Scope of Work Required | C11: Usability | D11: Describe how your solution caters to the following requirement: Provides a training recommendation engine. As part of your description include the following information: Does it have the ability to automatically make learner-specific recommendations (based on interests, job role, skill level, historical activities)? If YES, explain how the functionality works. If NO, describe how your LMS can provide for such functionality as an add-on or in a future release | H11: 5 | I11: =LOOKUP(H11,'[7]Priority Ratings '!$B$21:$C$27) -> Critical | J11: =H11/$H$104 -> 0.0091240876 | K11: 5 - (100%) Fully compliant (NO non-standard configuration required); 4 - (80%) Compliant with non-standard configuration (tenderer to tailor existing built-in options and features); 3 - (60%) Compliant with development (tenderer to tailor application AND ensure changes are preserved in future upgrades); 2 - (40%) Compliant with customization (tenderer to code new functionality BUT changes NOT preserved in future upgrades); 1 - (20%) Partially compliant (additional coding required but tenderer has NO intent to customize or develop); 0 - (0%) Non-compliant (no functionality available) | L11: 0 | M11: =J11*L11 -> 0
A12: LMS 2 | B12: Meeting the Scope of Work Required | C12: Usability | D12: Describe how your solution caters to the following requirement: Provides Embedded gamification (badging/recognition, leaderboards, levels, etc.) As part of your description include the following information: Do you provide gamification? If YES, describe the embedded gamification functionality offered by your solution? If NO, describe how your LMS can provide for such functionality as an add-on or in a future release? | H12: 6 | I12: =LOOKUP(H12,'[7]Priority Ratings '!$B$21:$C$27) -> Show stopper | J12: =H12/$H$104 -> 0.010948905 | K12: 5 - (100%) Fully compliant (NO non-standard configuration required); 4 - (80%) Compliant with non-standard configuration (tenderer to tailor existing built-in options and features); 3 - (60%) Compliant with development (tenderer to tailor application AND ensure changes are preserved in future upgrades); 2 - (40%) Compliant with customization (tenderer to code new functionality BUT changes NOT preserved in future upgrades); 1 - (20%) Partially compliant (additional coding required but tenderer has NO intent to customize or develop); 0 - (0%) Non-compliant (no functionality available) | L12: 0 | M12: =J12*L12 -> 0
A13: LMS 3 | B13: Meeting the Scope of Work Required | C13: Usability | D13: Describe how your solution caters to the following requirement: Linking to learning objects (LOs) and services. The following is mandatory criteria: The solution links to LOs hosted internally and externally. Examples of LOs include videos, quizzes, documents, interactive simulations, and assessments.LOs should be accessible to systems within the organisation (such as OpenText) as well as external sites (such as YouTube) | H13: 6 | I13: =LOOKUP(H13,'[7]Priority Ratings '!$B$21:$C$27) -> Show stopper | J13: =H13/$H$104 -> 0.010948905 | K13: 5 - (100%) Fully compliant (functionality AND mandatory criteria are met - no non-standard configuration required); 4 - (80%) Compliant with configuration (functionality available but mandatory criteria requires the tenderer to tailor existing built-in options and features); 3 - (60%) Compliant with development (functionality available but mandatory criteria requires the tenderer to tailor application AND ensure changes are preserved in future upgrades); 2 - (40%) Compliant with customization (functionality available but mandatory criteria requires the tenderer to code new functionality AND the changes are NOT preserved in future upgrades); 1 - (20%) Partially compliant (functionality available but mandatory criteria requires additional coding AND tenderer has NO intent to customize or develop it); 0 - (0%) Non-compliant (no functionality AND NO mandatory criteria are met) | L13: 0 | M13: =J13*L13 -> 0
A14: LMS 4 | B14: Meeting the Scope of Work Required | C14: Usability | D14: Describe how your solution caters to the following requirement: Navigating / transitioning between different modules within a course | H14: 6 | I14: =LOOKUP(H14,'[7]Priority Ratings '!$B$21:$C$27) -> Show stopper | J14: =H14/$H$104 -> 0.010948905 | K14: 5 - (100%) Fully compliant (NO non-standard configuration required); 4 - (80%) Compliant with non-standard configuration (tenderer to tailor existing built-in options and features); 3 - (60%) Compliant with development (tenderer to tailor application AND ensure changes are preserved in future upgrades); 2 - (40%) Compliant with customization (tenderer to code new functionality BUT changes NOT preserved in future upgrades); 1 - (20%) Partially compliant (additional coding required but tenderer has NO intent to customize or develop); 0 - (0%) Non-compliant (no functionality available) | L14: 0 | M14: =J14*L14 -> 0
A15: LMS 5 | B15: Meeting the Scope of Work Required | C15: Usability | D15: Describe how your solution caters to the following requirement: Bookmarking of learning objects, videos and services | H15: 6 | I15: =LOOKUP(H15,'[7]Priority Ratings '!$B$21:$C$27) -> Show stopper | J15: =H15/$H$104 -> 0.010948905 | K15: 5 - (100%) Fully compliant (NO non-standard configuration required); 4 - (80%) Compliant with non-standard configuration (tenderer to tailor existing built-in options and features); 3 - (60%) Compliant with development (tenderer to tailor application AND ensure changes are preserved in future upgrades); 2 - (40%) Compliant with customization (tenderer to code new functionality BUT changes NOT preserved in future upgrades); 1 - (20%) Partially compliant (additional coding required but tenderer has NO intent to customize or develop); 0 - (0%) Non-compliant (no functionality available) | L15: 0 | M15: =J15*L15 -> 0
A16: LMS 6 | B16: Meeting the Scope of Work Required | C16: Usability | D16: Describe how your solution caters to the following requirement: Provides profile-based Access control management to the system and data based on user role type. In addition, confirm that you can do user-based access using external sources (databases). For example: The following Learning Material Repository mandatory requirements / criteria must be met: The solution should provide access control management. The solution should have access to specific features based on the user roles. User Role Type: National Administrator (Super User) National Administrator (Super User) user access role and right are as follows: - Ability for an administrator to allocate and/or manage user access roles to control / limit what users can access. - Create, Link, Read, Update, Modify, Upload and Delete etc. learning material, learning programmes, associated categories and sub-categories - Should be able to: have access to a test environment and live / production environment of the solution - Perform all activities (e.g. add/edit/delete/link) on the administrator test environment before publishing on the live / production environment, - Publish to the production environment - Prompt the system to send mail to accredited facilitators informing of new/revised learning material - View/export the reports (including audit logs) - Ability to archive all learning material - Perform version control and revert to previous versions of all learning material when needed | H16: 6 | I16: =LOOKUP(H16,'[7]Priority Ratings '!$B$21:$C$27) -> Show stopper | J16: =H16/$H$104 -> 0.010948905 | K16: 5 - (100%) Fully compliant (NO non-standard configuration required); 4 - (80%) Compliant with non-standard configuration (tenderer to tailor existing built-in options and features); 3 - (60%) Compliant with development (tenderer to tailor application AND ensure changes are preserved in future upgrades); 2 - (40%) Compliant with customization (tenderer to code new functionality BUT changes NOT preserved in future upgrades); 1 - (20%) Partially compliant (additional coding required but tenderer has NO intent to customize or develop); 0 - (0%) Non-compliant (no functionality available) | L16: 0 | M16: =J16*L16 -> 0
A17: LMS 8 | B17: Meeting the Scope of Work Required | C17: Usability | D17: Describe how your solution caters to the following requirement: Provides an Audit trail / audit log for all activities on LMS and content (learning material) repository, and all metadata. The following are mandatory criteria: Logins, creation, modification and deletions As part of the description include the following information: Describe how an administrator can access the audit trail / log (e.g. through reports / dashboards / etc.) Describe how the audit log can be exported, preferably to Excel | H17: 6 | I17: =LOOKUP(H17,'[7]Priority Ratings '!$B$21:$C$27) -> Show stopper | J17: =H17/$H$104 -> 0.010948905 | K17: 5 - (100%) Fully compliant (functionality AND mandatory criteria are met - no non-standard configuration required); 4 - (80%) Compliant with configuration (functionality available but mandatory criteria requires the tenderer to tailor existing built-in options and features); 3 - (60%) Compliant with development (functionality available but mandatory criteria requires the tenderer to tailor application AND ensure changes are preserved in future upgrades); 2 - (40%) Compliant with customization (functionality available but mandatory criteria requires the tenderer to code new functionality AND the changes are NOT preserved in future upgrades); 1 - (20%) Partially compliant (functionality available but mandatory criteria requires additional coding AND tenderer has NO intent to customize or develop it); 0 - (0%) Non-compliant (no functionality AND NO mandatory criteria are met) | L17: 0 | M17: =J17*L17 -> 0
A18: LMS 9 | B18: Meeting the Scope of Work Required | C18: Usability | D18: Describe how your solution caters to the following requirement: Administrator must be able to restrict courses (based on defined criteria e.g. area specific (Koeberg), task grades, divisions, qualifications, other) for a specific target audience / group of learners. E.g. Senior Management Development programme is reserved for certain higher level task grades. | H18: 6 | I18: =LOOKUP(H18,'[7]Priority Ratings '!$B$21:$C$27) -> Show stopper | J18: =H18/$H$104 -> 0.010948905 | K18: 5 - (100%) Fully compliant (NO non-standard configuration required); 4 - (80%) Compliant with non-standard configuration (tenderer to tailor existing built-in options and features); 3 - (60%) Compliant with development (tenderer to tailor application AND ensure changes are preserved in future upgrades); 2 - (40%) Compliant with customization (tenderer to code new functionality BUT changes NOT preserved in future upgrades); 1 - (20%) Partially compliant (additional coding required but tenderer has NO intent to customize or develop); 0 - (0%) Non-compliant (no functionality available) | L18: 0 | M18: =J18*L18 -> 0
A19: LMS 10 | B19: Meeting the Scope of Work Required | C19: Usability | D19: Describe how your solution caters to the following requirement: Allow external learner to browse course catalogue External learner: those individuals who are not registered on the Eskom network (i.e. persons who don’t have a valid employee number). | H19: 6 | I19: =LOOKUP(H19,'[7]Priority Ratings '!$B$21:$C$27) -> Show stopper | J19: =H19/$H$104 -> 0.010948905 | K19: 5 - (100%) Fully compliant (NO non-standard configuration required); 4 - (80%) Compliant with non-standard configuration (tenderer to tailor existing built-in options and features); 3 - (60%) Compliant with development (tenderer to tailor application AND ensure changes are preserved in future upgrades); 2 - (40%) Compliant with customization (tenderer to code new functionality BUT changes NOT preserved in future upgrades); 1 - (20%) Partially compliant (additional coding required but tenderer has NO intent to customize or develop); 0 - (0%) Non-compliant (no functionality available) | L19: 0 | M19: =J19*L19 -> 0
A20: LMS 11 | B20: Meeting the Scope of Work Required | C20: Usability | D20: Describe how your solution caters to the following requirement: Allow external users/ learners to be registered for courses | H20: 6 | I20: =LOOKUP(H20,'[7]Priority Ratings '!$B$21:$C$27) -> Show stopper | J20: =H20/$H$104 -> 0.010948905 | K20: 5 - (100%) Fully compliant (NO non-standard configuration required); 4 - (80%) Compliant with non-standard configuration (tenderer to tailor existing built-in options and features); 3 - (60%) Compliant with development (tenderer to tailor application AND ensure changes are preserved in future upgrades); 2 - (40%) Compliant with customization (tenderer to code new functionality BUT changes NOT preserved in future upgrades); 1 - (20%) Partially compliant (additional coding required but tenderer has NO intent to customize or develop); 0 - (0%) Non-compliant (no functionality available) | L20: 0 | M20: =J20*L20 -> 0
A21: LMS 12 | B21: Meeting the Scope of Work Required | C21: Data capture | D21: Describe how your solution caters to the following requirement: Ability for compulsory and optional user-specified information (eg, details of the trainer, cost of training, etc) to be captured before a course can be scheduled and a learner can be booked on the course. | H21: 6 | I21: =LOOKUP(H21,'[7]Priority Ratings '!$B$21:$C$27) -> Show stopper | J21: =H21/$H$104 -> 0.010948905 | K21: 5 - (100%) Fully compliant (NO non-standard configuration required); 4 - (80%) Compliant with non-standard configuration (tenderer to tailor existing built-in options and features); 3 - (60%) Compliant with development (tenderer to tailor application AND ensure changes are preserved in future upgrades); 2 - (40%) Compliant with customization (tenderer to code new functionality BUT changes NOT preserved in future upgrades); 1 - (20%) Partially compliant (additional coding required but tenderer has NO intent to customize or develop); 0 - (0%) Non-compliant (no functionality available) | L21: 0 | M21: =J21*L21 -> 0
A22: LMS 13 | B22: Meeting the Scope of Work Required | C22: Usability | D22: Describe how your solution caters to the following requirement: Automated AND customisable feedback/course evaluation forms As part of your description include the following information: Describe how the evaluation forms can be customised. List the different learning delivery methods (e.g. classroom training, online, etc) that the evaluation forms can be customised for. | H22: 6 | I22: =LOOKUP(H22,'[7]Priority Ratings '!$B$21:$C$27) -> Show stopper | J22: =H22/$H$104 -> 0.010948905 | K22: 5 - (100%) Fully compliant (NO non-standard configuration required); 4 - (80%) Compliant with non-standard configuration (tenderer to tailor existing built-in options and features); 3 - (60%) Compliant with development (tenderer to tailor application AND ensure changes are preserved in future upgrades); 2 - (40%) Compliant with customization (tenderer to code new functionality BUT changes NOT preserved in future upgrades); 1 - (20%) Partially compliant (additional coding required but tenderer has NO intent to customize or develop); 0 - (0%) Non-compliant (no functionality available) | L22: 0 | M22: =J22*L22 -> 0
... A101: LMS 113 | B101: Meeting the Scope of Work Required | C101: Usability | D101: Describe how your solution caters to the following requirement: Straightforward graphical user interface (GUI) and navigation. Provide evidence using screenshots of the solution. | H101: 6 | I101: =LOOKUP(H101,'[7]Priority Ratings '!$B$21:$C$27) -> Show stopper | J101: =H101/$H$104 -> 0.010948905 | K101: 5 - (100%) Fully compliant (NO non-standard configuration required); 4 - (80%) Compliant with non-standard configuration (tenderer to tailor existing built-in options and features); 3 - (60%) Compliant with development (tenderer to tailor application AND ensure changes are preserved in future upgrades); 2 - (40%) Compliant with customization (tenderer to code new functionality BUT changes NOT preserved in future upgrades); 1 - (20%) Partially compliant (additional coding required but tenderer has NO intent to customize or develop); 0 - (0%) Non-compliant (no functionality available) | L101: 0 | M101: =J101*L101 -> 0
A102: LMS 114 | B102: Meeting the Scope of Work Required | C102: Usability | D102: Describe how your solution cater to the following requirement: Provides a browser-based interface. The following are mandatory criteria: Solution is able to work on MS Edge AND Chrome AND Firefox As part of your description include the following information: Specify all browsers that are supported. | E102: 3 - (60%) Compliant with development | H102: 6 | I102: =LOOKUP(H102,'[7]Priority Ratings '!$B$21:$C$27) -> Show stopper | J102: =H102/$H$104 -> 0.010948905 | K102: 5 - (100%) Fully compliant (NO non-standard configuration required); 4 - (80%) Compliant with non-standard configuration (tenderer to tailor existing built-in options and features); 3 - (60%) Compliant with development (tenderer to tailor application AND ensure changes are preserved in future upgrades); 2 - (40%) Compliant with customization (tenderer to code new functionality BUT changes NOT preserved in future upgrades); 1 - (20%) Partially compliant (additional coding required but tenderer has NO intent to customize or develop); 0 - (0%) Non-compliant (no functionality available) | L102: 0 | M102: =J102*L102 -> 0
A103: LMS 115 | B103: Meeting the Scope of Work Required | C103: Usability | D103: Describe how your solution caters to the following requirement: Natively supports mobile operating systems (iOS, Android, Windows, etc.) List all supported mobile operating systems | H103: 6 | I103: =LOOKUP(H103,'[7]Priority Ratings '!$B$21:$C$27) -> Show stopper | J103: =H103/$H$104 -> 0.010948905 | K103: 5 - (100%) Fully compliant (NO non-standard configuration required); 4 - (80%) Compliant with non-standard configuration (tenderer to tailor existing built-in options and features); 3 - (60%) Compliant with development (tenderer to tailor application AND ensure changes are preserved in future upgrades); 2 - (40%) Compliant with customization (tenderer to code new functionality BUT changes NOT preserved in future upgrades); 1 - (20%) Partially compliant (additional coding required but tenderer has NO intent to customize or develop); 0 - (0%) Non-compliant (no functionality available) | L103: 0 | M103: =J103*L103 -> 0
H104: =SUM(H11:H103) -> 548 | J104: =SUM(J11:J103) -> 1 | L104: TOTAL SCORE | M104: =SUM(M11:M103) -> 0

Sheet Authoring Tool
E1: Full Description of the Selection Options for "Tenderer Compliance" Selections & "Eskom Evaluator" Scoring selections, please see Column K
B2: Evaluation Area: | C2: Authoring Tool | E2: 5 - Fully compliant (no configuration required)
B3: Project Name: | C3: ='Evaluation Summary'!B2 -> Replacement of Learning Management System (LMS) | E3: 4 - Compliant with configuration (tenderer to tailor existing built-in options and features)
B4: ='Evaluation Summary'!A3 -> CORP xxxx Tender: | C4: ='Evaluation Summary'!B3 -> Eskom Project Manager to Capture | E4: 3 - Compliant with development (tenderer to tailor application AND ensure changes are preserved in future upgrades)
B5: Tenderer: | C5: ='Evaluation Summary'!B4 -> Tenderer to Capture | E5: 2 - Compliant with customization (tenderer to code new functionality BUT changes NOT preserved in future upgrades)
B6: Evaluated by: | C6: ='Evaluation Summary'!B5 -> Eskom Evaluator to Capture | E6: 1 - Partially compliant (additional coding required but tenderer has NO intent to customize or develop)
E7: 0 - Non-compliant (no functionality available and tenderer has NO intent to develop it)
H9: Priority and Weight | K9: Eskom Evaluator Scoring
A10: ID | B10: Type | C10: Functionality Area | D10: Requirement | E10: Tenderer Compliance Tenderer to select compliance to requirement from the drop-down list provided | F10: Tenderer Evidence Tenderer to indicate location of evidence e.g. document, section, page, paragraph, etc. | G10: Tenderer Comments Tenderer to indicate any applicable comments based on Compliance | H10: Priority Rating | I10: Priority description | J10: Weighted Question | K10: Eskom Evaluator Scoring | L10: Answer Evaluator to select scoring to requirement from the drop-down list provided | M10: Weighted Answer | N10: Eskom Evaluator Comments
A11: AT 1 | B11: Meeting the Scope of Work Required | C11: Notifications | D11: Describe how your solution caters to the following requirement: Provide notifications (emails, sms, in-app notifications)for various events Confirm for each of the below. The following are mandatory criteria: a. Notification (emails, sms, in-app notifications) to accredited facilitators regarding new/revised learning material published linked to their specific accreditation (as per NFDb). The message should include the user defined Course number (in some cases this will defined by the administrator) and Course title of the learning material published b. Send notification before an authorisation / certification expires c. Notify user when access has been revoked or when a user role changes. Use cases include: expiring certifications/authorisations, notifying a specific target audience (e.g. accredited facilitators base on their current accreditation status on the National Facilitator Database) of availability of a course material. | H11: 4 | I11: =LOOKUP(H11,'[7]Priority Ratings '!$B$21:$C$27) -> Very important | J11: =H11/$H$15 -> 0.18181818 | K11: 5 - (100%) Fully compliant (functionality AND mandatory criteria are met - no non-standard configuration required); 4 - (80%) Compliant with configuration (functionality available but mandatory criteria requires the tenderer to tailor existing built-in options and features); 3 - (60%) Compliant with development (functionality available but mandatory criteria requires the tenderer to tailor application AND ensure changes are preserved in future upgrades); 2 - (40%) Compliant with customization (functionality available but mandatory criteria requires the tenderer to code new functionality AND the changes are NOT preserved in future upgrades); 1 - (20%) Partially compliant (functionality available but mandatory criteria requires additional coding AND tenderer has NO intent to customize or develop it); 0 - (0%) Non-compliant (no functionality AND NO mandatory criteria are met) | L11: 0 | M11: =J11*L11 -> 0
A12: AT 2 | B12: Meeting the Scope of Work Required | C12: Learning Content Authoring and Development | D12: Describe how your solution caters to the following requirement: Upload / Link documentation (including bulk uploads) in your solution. As part of your description include the following information: Describe this functionality for learners, facilitators and administrators. Describe this in relation to the content management repository and console | H12: 6 | I12: =LOOKUP(H12,'[7]Priority Ratings '!$B$21:$C$27) -> Show stopper | J12: =H12/$H$15 -> 0.27272727 | K12: 5 - (100%) Fully compliant (NO non-standard configuration required); 4 - (80%) Compliant with non-standard configuration (tenderer to tailor existing built-in options and features); 3 - (60%) Compliant with development (tenderer to tailor application AND ensure changes are preserved in future upgrades); 2 - (40%) Compliant with customization (tenderer to code new functionality BUT changes NOT preserved in future upgrades); 1 - (20%) Partially compliant (additional coding required but tenderer has NO intent to customize or develop); 0 - (0%) Non-compliant (no functionality available) | L12: 0 | M12: 0
A13: AT 3 | B13: Meeting the Scope of Work Required | C13: Learning Content Authoring and Development | D13: Describe how your solution caters to the following requirement: Upload / Link documentation of various formats (eg, word, powerpoint, pdf, mp4, wav, etc). As part of your description include the following information: Describe if an administrator can load / linking documents per course that appears in one or more learning programmes. This should update the content across the associated learning programmes. | H13: 6 | I13: =LOOKUP(H13,'[7]Priority Ratings '!$B$21:$C$27) -> Show stopper | J13: =H13/$H$15 -> 0.27272727 | K13: 5 - (100%) Fully compliant (NO non-standard configuration required); 4 - (80%) Compliant with non-standard configuration (tenderer to tailor existing built-in options and features); 3 - (60%) Compliant with development (tenderer to tailor application AND ensure changes are preserved in future upgrades); 2 - (40%) Compliant with customization (tenderer to code new functionality BUT changes NOT preserved in future upgrades); 1 - (20%) Partially compliant (additional coding required but tenderer has NO intent to customize or develop); 0 - (0%) Non-compliant (no functionality available) | L13: 0 | M13: 0
A14: AT 4 | B14: Meeting the Scope of Work Required | C14: Integration | D14: Describe how your solution caters to the following requirement: Integrate with National Facilitator database and update the LMS with the necessary information related to access control (accessing system and/or accessing rights specific data) The following must be satisfied: The solution to authenticate the facilitator according to the course/s that they are currently accredited to facilitate. Access limited to the current status of their facilitator accreditation. If not accredited, accreditation expired or has been revoked to facilitate courses then they should default/revert to learner user rights and a message to inform that they are not accredited to access the specific learning material as a Facilitator | H14: 6 | I14: =LOOKUP(H14,'[7]Priority Ratings '!$B$21:$C$27) -> Show stopper | J14: =H14/$H$15 -> 0.27272727 | K14: 5 - (100%) Fully compliant (NO non-standard configuration required); 4 - (80%) Compliant with non-standard configuration (tenderer to tailor existing built-in options and features); 3 - (60%) Compliant with development (tenderer to tailor application AND ensure changes are preserved in future upgrades); 2 - (40%) Compliant with customization (tenderer to code new functionality BUT changes NOT preserved in future upgrades); 1 - (20%) Partially compliant (additional coding required but tenderer has NO intent to customize or develop); 0 - (0%) Non-compliant (no functionality available) | L14: 0 | M14: 0
H15: =SUM(H11:H14) -> 22 | J15: =SUM(J11:J14) -> 1 | L15: TOTAL SCORE | M15: =SUM(M11:M14) -> 0
D19: Confirm during SD&L session (NIPP)

Sheet Mentorship
E1: Full Description of the Selection Options for "Tenderer Compliance" Selections & "Eskom Evaluator" Scoring selections, please see Column K
B2: Evaluation Area: | C2: Mentorship | E2: 5 - Fully compliant (no configuration required)
B3: Project Name: | C3: ='Evaluation Summary'!B2 -> Replacement of Learning Management System (LMS) | E3: 4 - Compliant with configuration (tenderer to tailor existing built-in options and features)
B4: ='Evaluation Summary'!A3 -> CORP xxxx Tender: | C4: ='Evaluation Summary'!B3 -> Eskom Project Manager to Capture | E4: 3 - Compliant with development (tenderer to tailor application AND ensure changes are preserved in future upgrades)
B5: Tenderer: | C5: ='Evaluation Summary'!B4 -> Tenderer to Capture | E5: 2 - Compliant with customization (tenderer to code new functionality BUT changes NOT preserved in future upgrades)
B6: Evaluated by: | C6: ='Evaluation Summary'!B5 -> Eskom Evaluator to Capture | E6: 1 - Partially compliant (additional coding required but tenderer has NO intent to customize or develop)
E7: 0 - Non-compliant (no functionality available and tenderer has NO intent to develop it)
H9: Priority and Weight | K9: Eskom Evaluator Scoring
A10: ID | B10: Type | C10: Functionality Area | D10: Requirement | E10: Tenderer Compliance Tenderer to select compliance to requirement from the drop-down list provided | F10: Tenderer Evidence Tenderer to indicate location of evidence e.g. document, section, page, paragraph, etc. | G10: Tenderer Comments Tenderer to indicate any applicable comments based on Compliance | H10: Priority Rating | I10: Priority description | J10: Weighted Question | K10: Eskom Evaluator Scoring | L10: Answer Evaluator to select scoring to requirement from the drop-down list provided | M10: Weighted Answer | N10: Eskom Evaluator Comments
A11: MENT 1 | B11: Meeting the Scope of Work Required | C11: Pairing Algorithm | D11: Describe how your solution caters to the following requirement: Automate the matching of mentees and mentors via a Matching/Pairing Algorithm (i.e. pair the mentee with an suitable mentor based on user specified criteria e.g. the required skill set) Describe how the matching is done? If no, describe how your LMS can provide for such functionality as an add-on or in a future release? | H11: 4 | I11: =LOOKUP(H11,'[7]Priority Ratings '!$B$21:$C$27) -> Very important | J11: =H11/$H$21 -> 0.088888889 | K11: 5 - (100%) Fully compliant (NO non-standard configuration required); 4 - (80%) Compliant with non-standard configuration (tenderer to tailor existing built-in options and features); 3 - (60%) Compliant with development (tenderer to tailor application AND ensure changes are preserved in future upgrades); 2 - (40%) Compliant with customization (tenderer to code new functionality BUT changes NOT preserved in future upgrades); 1 - (20%) Partially compliant (additional coding required but tenderer has NO intent to customize or develop); 0 - (0%) Non-compliant (no functionality available) | L11: 0 | M11: 0
A12: MENT 2 | B12: Meeting the Scope of Work Required | C12: Usability | D12: Describe how your solution caters to the following requirement: Upload, add, edit, delete mentorship documentation (e.g., Mentorship agreement, mentorship evaluations, etc) | H12: 3 | I12: =LOOKUP(H12,'[7]Priority Ratings '!$B$21:$C$27) -> Important | J12: =H12/$H$21 -> 0.066666667 | K12: 5 - (100%) Fully compliant (NO non-standard configuration required); 4 - (80%) Compliant with non-standard configuration (tenderer to tailor existing built-in options and features); 3 - (60%) Compliant with development (tenderer to tailor application AND ensure changes are preserved in future upgrades); 2 - (40%) Compliant with customization (tenderer to code new functionality BUT changes NOT preserved in future upgrades); 1 - (20%) Partially compliant (additional coding required but tenderer has NO intent to customize or develop); 0 - (0%) Non-compliant (no functionality available) | L12: 0 | M12: 0
A13: MENT 3 | B13: Meeting the Scope of Work Required | C13: Usability | D13: Describe how your solution caters to the following requirement: Link mentors to a course (e.g. a mentor who is a specialist in Organisational Effectiveness is linked to a Change management course) | H13: 6 | I13: =LOOKUP(H13,'[7]Priority Ratings '!$B$21:$C$27) -> Show stopper | J13: =H13/$H$21 -> 0.13333333 | K13: 5 - (100%) Fully compliant (NO non-standard configuration required); 4 - (80%) Compliant with non-standard configuration (tenderer to tailor existing built-in options and features); 3 - (60%) Compliant with development (tenderer to tailor application AND ensure changes are preserved in future upgrades); 2 - (40%) Compliant with customization (tenderer to code new functionality BUT changes NOT preserved in future upgrades); 1 - (20%) Partially compliant (additional coding required but tenderer has NO intent to customize or develop); 0 - (0%) Non-compliant (no functionality available) | L13: 0 | M13: 0
A14: MENT 4 | B14: Meeting the Scope of Work Required | C14: Usability | D14: Describe how your solution caters to the following requirement: Allow learners who are Trained Mentors to manually add themselves on LMS as a mentor Describe if your LMS would allow for this to occur? | H14: 6 | I14: =LOOKUP(H14,'[7]Priority Ratings '!$B$21:$C$27) -> Show stopper | J14: =H14/$H$21 -> 0.13333333 | K14: 5 - (100%) Fully compliant (NO non-standard configuration required); 4 - (80%) Compliant with non-standard configuration (tenderer to tailor existing built-in options and features); 3 - (60%) Compliant with development (tenderer to tailor application AND ensure changes are preserved in future upgrades); 2 - (40%) Compliant with customization (tenderer to code new functionality BUT changes NOT preserved in future upgrades); 1 - (20%) Partially compliant (additional coding required but tenderer has NO intent to customize or develop); 0 - (0%) Non-compliant (no functionality available) | L14: 0 | M14: 0
A15: MENT 5 | B15: Meeting the Scope of Work Required | C15: Usability | D15: Describe how your solution caters to the following requirement: Automatically add mentors that have been trained internally on Mentorship (i.e. those who have successfully passed the Eskom Mentorship training) | H15: 6 | I15: =LOOKUP(H15,'[7]Priority Ratings '!$B$21:$C$27) -> Show stopper | J15: =H15/$H$21 -> 0.13333333 | K15: 5 - (100%) Fully compliant (NO non-standard configuration required); 4 - (80%) Compliant with non-standard configuration (tenderer to tailor existing built-in options and features); 3 - (60%) Compliant with development (tenderer to tailor application AND ensure changes are preserved in future upgrades); 2 - (40%) Compliant with customization (tenderer to code new functionality BUT changes NOT preserved in future upgrades); 1 - (20%) Partially compliant (additional coding required but tenderer has NO intent to customize or develop); 0 - (0%) Non-compliant (no functionality available) | L15: 0 | M15: 0
A16: MENT 6 | B16: Meeting the Scope of Work Required | C16: Usability | D16: Describe how your solution caters to the following requirement: Ability for mentors to have the option to opt out of the mentorship role. Note: Mentorship is voluntary. | H16: 4 | I16: =LOOKUP(H16,'[7]Priority Ratings '!$B$21:$C$27) -> Very important | J16: =H16/$H$21 -> 0.088888889 | K16: 5 - (100%) Fully compliant (NO non-standard configuration required); 4 - (80%) Compliant with non-standard configuration (tenderer to tailor existing built-in options and features); 3 - (60%) Compliant with development (tenderer to tailor application AND ensure changes are preserved in future upgrades); 2 - (40%) Compliant with customization (tenderer to code new functionality BUT changes NOT preserved in future upgrades); 1 - (20%) Partially compliant (additional coding required but tenderer has NO intent to customize or develop); 0 - (0%) Non-compliant (no functionality available) | L16: 0 | M16: 0
A17: MENT 7 | B17: Meeting the Scope of Work Required | C17: Notifications | D17: Describe how your solution caters to the following requirement: Ability to send notifications via email and SMS (e.g., reminders to participants regarding mentoring sessions) | H17: 2 | I17: =LOOKUP(H17,'[7]Priority Ratings '!$B$21:$C$27) -> Useful | J17: =H17/$H$21 -> 0.044444444 | K17: 5 - (100%) Fully compliant (NO non-standard configuration required); 4 - (80%) Compliant with non-standard configuration (tenderer to tailor existing built-in options and features); 3 - (60%) Compliant with development (tenderer to tailor application AND ensure changes are preserved in future upgrades); 2 - (40%) Compliant with customization (tenderer to code new functionality BUT changes NOT preserved in future upgrades); 1 - (20%) Partially compliant (additional coding required but tenderer has NO intent to customize or develop); 0 - (0%) Non-compliant (no functionality available) | L17: 0 | M17: 0
A18: MENT 8 | B18: Meeting the Scope of Work Required | C18: Search | D18: Describe how your solution caters to the following requirement: Advance Search functionality - the solution to allow users to filter and provide the ability to search for mentors by user specified fields including gender, area of speciality/interest, years of experience in particular area, qualifications, available to mentor | H18: 6 | I18: =LOOKUP(H18,'[7]Priority Ratings '!$B$21:$C$27) -> Show stopper | J18: =H18/$H$21 -> 0.13333333 | K18: 5 - (100%) Fully compliant (NO non-standard configuration required); 4 - (80%) Compliant with non-standard configuration (tenderer to tailor existing built-in options and features); 3 - (60%) Compliant with development (tenderer to tailor application AND ensure changes are preserved in future upgrades); 2 - (40%) Compliant with customization (tenderer to code new functionality BUT changes NOT preserved in future upgrades); 1 - (20%) Partially compliant (additional coding required but tenderer has NO intent to customize or develop); 0 - (0%) Non-compliant (no functionality available) | L18: 0 | M18: =J18*L18 -> 0
A19: MENT 9 | B19: Meeting the Scope of Work Required | C19: Search | D19: Describe how your solution caters to the following requirement: Search functionality - The solution to allow users to filter and add additional user specified criteria for searching (e.g., gender, development programme, area of speciality/interest, years of experience in particular area, qualifications, available to mentor) | H19: 6 | I19: =LOOKUP(H19,'[7]Priority Ratings '!$B$21:$C$27) -> Show stopper | J19: =H19/$H$21 -> 0.13333333 | K19: 5 - (100%) Fully compliant (NO non-standard configuration required); 4 - (80%) Compliant with non-standard configuration (tenderer to tailor existing built-in options and features); 3 - (60%) Compliant with development (tenderer to tailor application AND ensure changes are preserved in future upgrades); 2 - (40%) Compliant with customization (tenderer to code new functionality BUT changes NOT preserved in future upgrades); 1 - (20%) Partially compliant (additional coding required but tenderer has NO intent to customize or develop); 0 - (0%) Non-compliant (no functionality available) | L19: 0 | M19: 0
A20: MENT 10 | B20: Meeting the Scope of Work Required | C20: Notifications | D20: Describe how your solution caters to the following requirement: Automated notifications via email to managers and learners when a mentorship agreement is uploaded to learner profile | H20: 2 | I20: =LOOKUP(H20,'[7]Priority Ratings '!$B$21:$C$27) -> Useful | J20: =H20/$H$21 -> 0.044444444 | K20: 5 - (100%) Fully compliant (NO non-standard configuration required); 4 - (80%) Compliant with non-standard configuration (tenderer to tailor existing built-in options and features); 3 - (60%) Compliant with development (tenderer to tailor application AND ensure changes are preserved in future upgrades); 2 - (40%) Compliant with customization (tenderer to code new functionality BUT changes NOT preserved in future upgrades); 1 - (20%) Partially compliant (additional coding required but tenderer has NO intent to customize or develop); 0 - (0%) Non-compliant (no functionality available) | L20: 0 | M20: =J20*L20 -> 0
H21: =SUM(H11:H20) -> 45 | J21: =SUM(J11:J20) -> 1 | L21: TOTAL SCORE | M21: =SUM(M11:M20) -> 0
D25: Confirm during SD&L session (NIPP)

Sheet Further Studies
E1: Full Description of the Selection Options for "Tenderer Compliance" Selections & "Eskom Evaluator" Scoring selections, please see Column K
B2: Evaluation Area: | C2: Further Studies
B3: Project Name: | C3: ='Evaluation Summary'!B2 -> Replacement of Learning Management System (LMS)
B4: ='Evaluation Summary'!A3 -> CORP xxxx Tender: | C4: ='Evaluation Summary'!B3 -> Eskom Project Manager to Capture
B5: Tenderer: | C5: ='Evaluation Summary'!B4 -> Tenderer to Capture
B6: Evaluated by: | C6: ='Evaluation Summary'!B5 -> Eskom Evaluator to Capture
H9: Priority and Weight | K9: Eskom Evaluator Scoring
A10: ID | B10: Type | C10: Functionality Area | D10: Requirement | E10: Tenderer Compliance Tenderer to select compliance to requirement from the drop-down list provided | F10: Tenderer Evidence Tenderer to indicate location of evidence e.g. document, section, page, paragraph, etc. | G10: Tenderer Comments Tenderer to indicate any applicable comments based on Compliance | H10: Priority Rating | I10: Priority description | J10: Weighted Question | K10: Eskom Evaluator Scoring | L10: Answer Evaluator to select scoring to requirement from the drop-down list provided | M10: Weighted Answer | N10: Eskom Evaluator Comments
A11: FS 1 | B11: Meeting the Scope of Work Required | C11: Usability | D11: Describe how your solution caters to the following requirement: Ability to read data from PDFs and update specified fields in LMS. E.g. is a pdf of exam results are uploaded then LMS updates the exam results fields | H11: 5 | I11: =LOOKUP(H11,'[7]Priority Ratings '!$B$21:$C$27) -> Critical | J11: =H11/$H$29 -> 0.051020408 | K11: 5 - (100%) Fully compliant (NO non-standard configuration required); 4 - (80%) Compliant with non-standard configuration (tenderer to tailor existing built-in options and features); 3 - (60%) Compliant with development (tenderer to tailor application AND ensure changes are preserved in future upgrades); 2 - (40%) Compliant with customization (tenderer to code new functionality BUT changes NOT preserved in future upgrades); 1 - (20%) Partially compliant (additional coding required but tenderer has NO intent to customize or develop); 0 - (0%) Non-compliant (no functionality available) | L11: 0 | M11: 0
A12: FS 2 | B12: Meeting the Scope of Work Required | C12: Upload documentation | D12: Describe how your solution caters to the following requirement: Upload documentation (including bulk uploads) i.e. upload LMS (FS application) documentation as part of the LMS (FS application). Example: Once payment is done, FS Coordinator or FS Applicant / Learner uploads remittance advice / proof of payment documents to the LMS FS Application Profile Example: approved Further Studies learners to be able to upload exam timetable to their LMS FS Application Profile. Describe this functionality for learners and administrators. | H12: 5 | I12: =LOOKUP(H12,'[7]Priority Ratings '!$B$21:$C$27) -> Critical | J12: =H12/$H$29 -> 0.051020408 | K12: 5 - (100%) Fully compliant (NO non-standard configuration required); 4 - (80%) Compliant with non-standard configuration (tenderer to tailor existing built-in options and features); 3 - (60%) Compliant with development (tenderer to tailor application AND ensure changes are preserved in future upgrades); 2 - (40%) Compliant with customization (tenderer to code new functionality BUT changes NOT preserved in future upgrades); 1 - (20%) Partially compliant (additional coding required but tenderer has NO intent to customize or develop); 0 - (0%) Non-compliant (no functionality available) | L12: 0 | M12: 0
A13: FS 3 | B13: Meeting the Scope of Work Required | C13: Upload documentation | D13: Describe how your solution caters to the following requirement: Upload documentation (including bulk uploads) - When uploading documentation can the solution enable certain criteria to be met when certain documents are uploaded? E.g. application should not move to the next approval stage without the following documents being loaded: - Budget Letter - List of Prescribed Books per Subject - Quotation of Prescribed Books - Official Quotation from Relevant Institution - Updated Further Study Results - Approved Individual Development Plan (IDP) which includes the Further Study qualification - Compulsory Study School Schedule | H13: 5 | I13: =LOOKUP(H13,'[7]Priority Ratings '!$B$21:$C$27) -> Critical | J13: =H13/$H$29 -> 0.051020408 | K13: 5 - (100%) Fully compliant (NO non-standard configuration required); 4 - (80%) Compliant with non-standard configuration (tenderer to tailor existing built-in options and features); 3 - (60%) Compliant with development (tenderer to tailor application AND ensure changes are preserved in future upgrades); 2 - (40%) Compliant with customization (tenderer to code new functionality BUT changes NOT preserved in future upgrades); 1 - (20%) Partially compliant (additional coding required but tenderer has NO intent to customize or develop); 0 - (0%) Non-compliant (no functionality available) | L13: 0 | M13: 0
A14: FS 4 | B14: Meeting the Scope of Work Required | C14: Usability | D14: Describe how your solution caters to the following requirement: Open, sign and save the uploaded document from the system. If this is not possible, describe if your solution can integrate with a tool that allows signing of documentation | H14: 5 | I14: =LOOKUP(H14,'[7]Priority Ratings '!$B$21:$C$27) -> Critical | J14: =H14/$H$29 -> 0.051020408 | K14: 5 - (100%) Fully compliant (NO non-standard configuration required); 4 - (80%) Compliant with non-standard configuration (tenderer to tailor existing built-in options and features); 3 - (60%) Compliant with development (tenderer to tailor application AND ensure changes are preserved in future upgrades); 2 - (40%) Compliant with customization (tenderer to code new functionality BUT changes NOT preserved in future upgrades); 1 - (20%) Partially compliant (additional coding required but tenderer has NO intent to customize or develop); 0 - (0%) Non-compliant (no functionality available) | L14: 0 | M14: =J14*L14 -> 0
A15: FS 5 | B15: Meeting the Scope of Work Required | C15: Workflow | D15: Describe how your solution caters to the following requirement: Provide workflow Can your solution provide workflow where the FS Coordinator is notified of new documentation that has been uploaded for a specific learner and verify these documents as correct OR reject specific documents for resolution by the learner. | H15: 5 | I15: =LOOKUP(H15,'[7]Priority Ratings '!$B$21:$C$27) -> Critical | J15: =H15/$H$29 -> 0.051020408 | K15: 5 - (100%) Fully compliant (NO non-standard configuration required); 4 - (80%) Compliant with non-standard configuration (tenderer to tailor existing built-in options and features); 3 - (60%) Compliant with development (tenderer to tailor application AND ensure changes are preserved in future upgrades); 2 - (40%) Compliant with customization (tenderer to code new functionality BUT changes NOT preserved in future upgrades); 1 - (20%) Partially compliant (additional coding required but tenderer has NO intent to customize or develop); 0 - (0%) Non-compliant (no functionality available) | L15: 0 | M15: =J15*L15 -> 0
A16: FS 6 | B16: Meeting the Scope of Work Required | C16: Workflow | D16: Describe how your solution caters to the following requirement: Provide workflow Flag documents after verification by FS Coordinator has been completed as either verified or approved. | H16: 5 | I16: =LOOKUP(H16,'[7]Priority Ratings '!$B$21:$C$27) -> Critical | J16: =H16/$H$29 -> 0.051020408 | K16: 5 - (100%) Fully compliant (NO non-standard configuration required); 4 - (80%) Compliant with non-standard configuration (tenderer to tailor existing built-in options and features); 3 - (60%) Compliant with development (tenderer to tailor application AND ensure changes are preserved in future upgrades); 2 - (40%) Compliant with customization (tenderer to code new functionality BUT changes NOT preserved in future upgrades); 1 - (20%) Partially compliant (additional coding required but tenderer has NO intent to customize or develop); 0 - (0%) Non-compliant (no functionality available) | L16: 0 | M16: =J16*L16 -> 0
A17: FS 7 | B17: Meeting the Scope of Work Required | C17: Workflow | D17: Describe how your solution caters to the following requirement: Provide workflow Allow the learner to upload the document but before the document (i.e. learner statement of results) can be visible on the system it must be verified by the FS Coordinator. Once verified , the document will become visible. If results have not been verified, it should not appear on the system. | H17: 5 | I17: =LOOKUP(H17,'[7]Priority Ratings '!$B$21:$C$27) -> Critical | J17: =H17/$H$29 -> 0.051020408 | K17: 5 - (100%) Fully compliant (NO non-standard configuration required); 4 - (80%) Compliant with non-standard configuration (tenderer to tailor existing built-in options and features); 3 - (60%) Compliant with development (tenderer to tailor application AND ensure changes are preserved in future upgrades); 2 - (40%) Compliant with customization (tenderer to code new functionality BUT changes NOT preserved in future upgrades); 1 - (20%) Partially compliant (additional coding required but tenderer has NO intent to customize or develop); 0 - (0%) Non-compliant (no functionality available) | L17: 0 | M17: =J17*L17 -> 0
A18: FS 8 | B18: Meeting the Scope of Work Required | C18: Data capture | D18: Describe how your solution caters to the following requirement: Data Capture - Describe how, once learner's statement of results are provided from the institution, approved FS learners would be able to capture this onto their LMS FS Application Profile The process is as follows: 1: Learner captures the modules and the pass marks required 2: Learner capture results 3: FS Coordinator Verifies the results 4. On LMS the results must be flagged as verified or approved by the FS Coordinator on the system | H18: 6 | I18: =LOOKUP(H18,'[7]Priority Ratings '!$B$21:$C$27) -> Show stopper | J18: =H18/$H$29 -> 0.06122449 | K18: 5 - (100%) Fully compliant (NO non-standard configuration required); 4 - (80%) Compliant with non-standard configuration (tenderer to tailor existing built-in options and features); 3 - (60%) Compliant with development (tenderer to tailor application AND ensure changes are preserved in future upgrades); 2 - (40%) Compliant with customization (tenderer to code new functionality BUT changes NOT preserved in future upgrades); 1 - (20%) Partially compliant (additional coding required but tenderer has NO intent to customize or develop); 0 - (0%) Non-compliant (no functionality available) | L18: 0 | M18: =J18*L18 -> 0
