Workbook

Sheet P&G
A1: ITEM | B1: PAYMENT REFERS | C1: LIC | D1: DESCRIPTION | E1: UNIT | F1: QUANTITY | G1: RATE | H1: AMOUNT
A2: A.1 | B2: SANS 1200 A | D2: SCHEDULE A: PRELIMINARY AND GENERAL | J2: Duration = | K2: 12 | L2: months
B3: 8.3 | D3: Fixed-Charge and Value-Related Items
A4: A.1.1 | B4: 8.3.1 | D4: Contractual Requirements | E4: Sum | F4: 1
A5: A.1.2 | B5: 8.3.2 | D5: Establish facilities on the Site
A6: A.1.2.1 | B6: 8.3.2.3 | D6: Facilities for Engineer:
A7: A1.2.1.1 | B7: PSAB 3.2 | D7: (a) Furnished offices (1 No.) | E7: Sum | F7: 1
A8: A1.2.1.2 | D8: (b) Telephone | E8: Sum | F8: 1
A9: A1.2.1.3 | D9: (c) Nameboards (2 No.) | E9: Sum | F9: 2
A10: A1.2.1.4 | D10: (d) Provision of survey equipment | E10: Sum | F10: 1
A11: A1.2.1.5 | D11: (e) Engineers Equipment | E11: Sum | F11: 1
A13: A.1.2.2 | D13: Facilities for Contractor for duration of construction except where otherwise stated
A14: A1.2.2.1 | D14: (a) Offices, workshops and storage sheds | E14: Sum | F14: 1
A15: A1.2.2.2 | B15: PS 7.2 | D15: (b) Ablution and latrine facilities | E15: Sum | F15: 1
A16: A1.2.2.3 | B16: PS 7.6 | D16: (c) Living Accomodation | E16: Sum | F16: 1
A17: A1.2.2.4 | D17: (d) Tools and equipment | E17: Sum | F17: 1
A18: A1.2.2.5 | B18: PS 7.1 | D18: (e) Water supplies, electric power and communications | E18: Sum | F18: 1
A19: A1.2.2.6 | D19: (f) Dealing with water (Subclause 5.5) | E19: Sum | F19: 1
A20: A1.2.2.7 | D20: (g) Access (see 5.8) | E20: Sum | F20: 1
A21: A1.2.2.8 | D21: (h) Plant | E21: Sum | F21: 1
B22: SANS 1200 AA
A23: A.1.3 | B23: 8.3.3 | D23: Other Fixed-Charge Obligations | E23: Sum | F23: 1
A24: A.1.4 | B24: 8.3.4 | D24: Removal of Engineer's and Contractor's site establishment on completion | E24: Sum | F24: 1
A25: A.1.5 | B25: PD | D25: Compliance with Occupational Health & Safety. The sum shall cover the fixed cost associated with the Contractor's Health & Safety Obligations | E25: Sum | F25: 1
A26: A.1.6 | B26: PE | D26: Compliance with Environmental Management Obligations. The sum shall cover the fixed cost associated with the Contractor's Environmental Management Obligations | E26: Sum | F26: 1
A27: A.1.7 | D27: Allowance for Health and Safety Officer | E27: Sum | F27: 1
A28: A.1.8 | D28: Compliance with As-Built Requirements | E28: Sum | F28: 1
A30: A.2 | B30: 8.4 | D30: Scheduled Time-Related Items
A31: A.2.1 | B31: 8.4.1 | D31: Contractural Requirements | E31: Sum | F31: 1
A32: A.2.2 | B32: 8.4.2 | D32: Operation and Maintenance of Facilities on Site, for Duration of Construction, except where otherwise stated for engineer
A33: A.2.2.1 | B33: 8.4.2.1 | D33: Facilities for the Engineer:
A34: A2.2.1.1 | D34: (a) Furnished Office | E34: Sum | F34: 1
A35: A2.2.1.2 | D35: (c) Nameboards (2 No.) | E35: Sum | F35: 2
A37: TOTAL CARRIED FORWARD
A38: BROUGHT FORWARD
A39: A2.2.1.3 | D39: Contractor's responsibility for executing the Expanded Public Works Programme / Plan | E39: Sum | F39: 1
A41: A.2.2.2 | B41: 8.4.2.2 | D41: Facilities for Contractor:
A42: A2.2.2.1 | D42: (a) Offices, workshops and storage sheds | E42: Sum | F42: 1
A43: A2.2.2.2 | B43: PS 7.2 | D43: (b) Ablution and latrine facilities | E43: Sum | F43: 1
A44: A2.2.2.3 | B44: PS 7.6 | D44: (c) Living Accomodation | E44: Sum | F44: 1
...

Sheet Site Clearance
A1: ITEM | B1: PAYMENT REFERS | C1: LIC | D1: DESCRIPTION | E1: UNIT | F1: QUANTITY | G1: RATE | H1: AMOUNT
A2: B1 | B2: SANS 1200 C | D2: SCHEDULE B: SITE CLEARANCE
D3: Water Pipes
A4: B.1.1 | B4: 8.2.1 | C4: LI | D4: Clear and grub for pipeline routes up to a width of 2m. | E4: m | F4: 11825.5
A5: B.1.2 | B5: 8.2.2 | D5: Remove and grub large trees and tree stumps of girth:
A6: B.1.2.1 | C6: LI | D6: a) Over 1.0m and up to 2.0m | E6: No. | F6: 6
A7: B.1.3 | B7: PSC1 | C7: LI | D7: Remove topsoil along the trench width of pipelines to a depth of 150mm and stockpile differently from other excavations at positions to be directed by the Engineer. | E7: m³ | F7: =F4*0.15*2 -> 3547.65
A8: B.1.4 | B8: 8.2.5 | D8: Take down existing fences:
A9: B.1.4.1 | B9: PSC3 | C9: LI | D9: Remove and/or secure existing fences that intersect a trench
A10: B.1.4.1.1 | C10: LI | D10: Diamond mesh fencing up to 2m high | E10: m | F10: 15
A11: B.1.4.2 | B11: PSC3 | C11: LI | D11: Remove and secure existing fences that adjoin a trench
A12: B.1.4.2.1 | C12: LI | D12: Diamond mesh fencing up to 2m high | E12: m | F12: 13
A14: B.2 | D14: MISCELLANEOUS
A15: B.2.1 | C15: LI | D15: Diversion berm, to detail, across road inclusive of imported gravel, compaction and shaping | E15: m³ | F15: 12
A16: B.2.2 | B16: PSD 2 8.3.2a) | C16: LI | D16: Ungrouted stone pitching, to detail, to from shallow ditch drain at berm outlet | E16: m² | F16: 12
A17: B.2.3 | C17: LI | D17: Construct concrete V-drain, to detail, inclusive of excavation and re-inforcement | E17: m² | F17: 15
A35: TOTAL OF SCHEDULE B CARRIED FORWARD TO SUMMARY

Sheet Earthworks
A1: ITEM | B1: PAYMENT REFERS | C1: LIC | D1: DESCRIPTION | E1: UNIT | F1: QUANTITY | G1: RATE | H1: AMOUNT
A2: C.1 | B2: SABS 1200 DB | D2: SCHEDULE C: EARTHWORKS
D3: Excavation (Provisional)
A4: C.1.1 | B4: 8.3.2(a) | D4: Excavate in all materials for trenches backfill, compact, and dispose of surplus/unsuitable material, for pipes up to 400mm dia for total trench depth: (ref. PSDB1, PSDB2, PSDB3 and PSDB5)
A5: C.1.1.1 | C5: LI | D5: 0.0 m to 1.0 m | E5: m³ | F5: 10
A6: C.1.1.2 | D6: 1.0 m to 1.5 m | E6: m³ | F6: 9258.4
A7: C.1.1.3 | D7: 1.5m to 2.0m | E7: m³ | F7: 129.5
A9: C.1.1.6 | B9: 8.3.2(b) | D9: Extra over items C.1.1 for excavation (provisional) in: (ref. PSDB3)
A10: C.1.1.7 | D10: Hard Rock Material | E10: m³ | F10: 10
A11: C.1.1.8 | D11: Boulder excavation, class A | E11: m³ | H11: Rate Only
A12: C.1.1.9 | B12: 8.3.2(c) | C12: LI | D12: Excavate unsuitable material from bottom of trench, incl. backfill compact and dispose of surplus material within freehaul distance of 1 km (ref PSDB4) | E12: m³ | F12: 70
A14: C.1.2 | B14: 8.3.3 | D14: Excavation ancillaries
A15: C.1.2.1 | B15: 8.3.3.1 (c) | D15: Make up deficiency in backfill material, by importation from borrow pit selected by Contractor | E15: m³ | F15: 30
A16: C.1.2.2 | B16: 8.3.3.3 | C16: LI | D16: Compaction in road reserves (ref. PSDB 3.5)
A17: C.1.2.3 | D17: Compact with material from commercial source to 95% Mod AASHTO | E17: m³ | F17: 26
A18: C.1.2.4 | B18: PSDB1 | C18: LI | D18: Backfilling trenches using 13mm washed stone | E18: m³ | H18: Rate Only
A19: C.1.2.5 | B19: 8.3.3.4 | D19: Extra-over Items 8.3.3.1 (c) for overhaul, in excess of freehaul distance of 1 km | E19: m³.km | F19: 135
A21: C.1.3 | B21: 8.3.5 | D21: Existing Services that Intersect or Adjoin a Pipe Trench
A22: C.1.3.1 | D22: (a) Services that intersect a trench a pipe trench
A23: C.1.3.1.1 | D23: i) ESKOM cables | E23: No. | F23: 3
A24: C.1.3.1.2 | C24: LI | D24: iii) Watermains up to 300mm dia | E24: No. | F24: 3
A25: C.1.4.2 | D25: (b) Services that adjoin a trench a pipe trench
A26: C.1.4.2.1 | D26: i) ESKOM cables | E26: m | F26: 3
A27: C.1.4.2.2 | C27: LI | D27: iii) Watermains up to 300mm dia | E27: m | F27: 1
A33: TOTAL OF SCHEDULE C CARRIED FORWARD TO SUMMARY

Sheet Medium-Pressure
A1: ITEM | B1: PAYMENT REFERS | C1: LIC | D1: DESCRIPTION | E1: UNIT | F1: QUANTITY | G1: RATE | H1: AMOUNT
A2: D.1 | B2: SABS 1200 L | D2: SCHEDULE D: MEDIUM-PRESSURE PIPELINES
A3: D.1.1 | B3: 8.2.1 | D3: Supply, bed, lay, disinfect, join and test potable water pipelines on class C bedding, complete with couplings. All works inclusive in the rate, except where specific items are provided. All activites in accordance with project specifications:
A4: D.1.1.1 | C4: LI | D4: 50mm dia. HDPE Class PN 12.5 | E4: m | F4: 2560.7
A5: D.1.1.2 | C5: LI | D5: 63mm dia. HDPE Class PN 12.5 | E5: m | F5: 6330.4
A6: D.1.1.3 | C6: LI | D6: 75mm dia. HDPE Class PN 12.5 | E6: m | F6: 4706.7
A7: D.1.1.4 | C7: LI | D7: 90mm dia. PVC-O Class 12 | E7: m | F7: 476.1
A8: D.1.1.5 | C8: LI | D8: 110mm dia. PVC-O Class 12 | E8: m | F8: 261.9
A9: D.1.1.6 | C9: LI | D9: 350mm dia. PVC-O Class 12 | E9: m | F9: 3240
A11: D.1.2 | D11: Steel Pipes as per specification PSL and to SANS 719 Grade 300WA
A12: D.1.2.1 | D12: Take delivery of from UKDM stockpile, inspect, repair (if necessary) transport to site, lay in appropriate bedding, generally in 12 metre lengths, welded joint as required, test, and disinfect Spirally Welded (SAW) steel pipes manufactured to API 5L X42 with a wall thickness of 10 mm with two component cross linked epoxy coating and lining in accordance with SANS 1217, mechanically protected (buried pipelines) by suitable tape wrapping system for potable water pipelines (subject to change in accordance with corrosion protection investigation report) - for Diameters:
A13: D.1.2.1.1 | D13: 350mm NB | E13: m | F13: 1 | H13: Rate Only
A14: D.1.2.1.2 | D14: 400mm NB | E14: m | F14: 868.4
A15: D.1.2.1.4 | D15: Conduct non-destructive integrity testing of the steel pipe through Holiday Tests | E15: m | F15: =SUM(F13:F14) -> 869.4
A16: D.1.2.1.5 | D16: Apply corrosion protection coatings external damaged sections of the steel pipe to prevent corrosion and extend service life | E16: m | F16: =ROUND(25%*F15,0) -> 217
A17: D.1.2.1.6 | D17: Loading, Transportation from UKDM stock pile to contractor's yard, and Off-Loading of pipes - only pipes that have been approved after testing and repairs is to be transported from stock yard | E17: R/Pipe | F17: =ROUND(F15*1.05/12,0) -> 76
A18: D.1.2.1.7 | D18: Install sacrificial anodes or cathodic protection systems where applicable to mitigate corrosion risks | E18: m | F18: =F15*0.85 -> 738.99
A19: D.1.2.1.8 | D19: Supply and apply DENSO wrapping on all joints | E19: No | F19: =ROUND((F15/12),0) -> 72
A20: D.1.2.1.9 | D20: Provide CCTV camera for internal site inspection before and aftr installation for proof that the installed pipe's integrity is not compromised during handling. | E20: No | F20: =F18*2 -> 1477.98
A22: D.3 | B22: 8.2.3 | D22: Extra-over item 8.2.1 for the supplying, fixing and Bedding of Valves as indicated below:
D23: Isolation Valves Complete with Protective Chamber:
A24: D.3.1 | B24: PSL 3.13.2 | D24: Supply and install the following flanged Resilient seal Gate valves complete with prefabricated valve chamber, PN 16 with non-rising spindle, Clockwise closing, including all gaskets, bolts, nuts and washers as per detailed drawings. All valve chambers will be installed by SMME contractors
A25: D3.1.1 | C25: LI | D25: 50mm | E25: No. | F25: 3
A27: TOTAL CARRIED FORWARD
A28: BROUGHT FORWARD
A29: D3.1.2 | C29: LI | D29: 75mm | E29: No. | F29: 8
D31: Check / Non Return Valves Complete with Protective Chamber:
A32: D3.2 | B32: 8.2.5 | D32: Supply and install Check / Non Return Valve assemblies complete with preacast chamber as per detailed drawings. Rate is inclusive of valve chamber and all specials. All valve chambers will be installed by SMME contractors
A33: D3.2.1 | C33: LI | D33: 80mm | E33: No. | F33: 1
D35: Bulk Water Meter Complete with Protective Chamber:
A36: D3.3 | B36: 8.2.5 | D36: Supply and install Bulk Water Meter assemblies complete with prefabricated meter chamber as per detailed drawings. Note: All valve chambers will be installed by SMME contractors
A37: D3.3.1 | C37: LI | D37: 100mm | E37: No. | F37: 1
A39: D4 | B39: 8.2.2 | D39: Anchor/thrust blocks and pedestals
A40: D4.1 | D40: a) Concrete (15MPa/19) | E40: m3 | F40: 90
A41: D4.2 | D41: Tie-Ins/Connecting to existing mains, any type of Tie-ins including "hot tapping " | E41: Sum | F41: 1
A43: D5 | D43: Marker Posts
A44: D5.1 | C44: LI | D44: Supply, paint and install precast concrete marker post as directed by the Engineer | E44: No | F44: 56
A46: D6 | D46: WATER DRAW-OFF ARRANGEMENTS
A47: D6.1 | C47: LI | D47: Supply and install standpipes complete as per detail drawings including stopcock, splash pad, riser pipe assembly, dole valve, lockable plastic valve box, base etc. as per drawing. Taps have a 20mm Bibcock outlet. | E47: No | F47: 269
A48: D6.2 | C48: LI | D48: Single house connection as per detail | E48: No | F48: 269
...

Sheet Pipe Fittings
A1: ITEM | B1: PAYMENT REFERS | C1: LIC | D1: DESCRIPTION | E1: UNIT | F1: QUANTITY | G1: RATE | H1: AMOUNT
A2: E.1 | B2: SANS 1200 L | D2: SCHEDULE E: PIPE FITTINGS AND SPECIALS
B3: 8.2.2 PSL 8.2.4 PSL 8.2.5 | D3: Extra-over 8.2.1 for the Supplying, Laying and Bedding of Specials complete with Couplings as follows:
A4: E.1.1 | B4: 8.2.4 PSL 8.2.6 | D4: Supply, lay, joint and bed including cutting pipes where required for the following:
A6: E.1.1.1 | D6: uPVC Pipe Bends (Class 16)
A7: E.1.1.1.1 | C7: LI | D7: 75mm dia. x 45° bends. | E7: No. | F7: 3
A8: E.1.1.1.2 | C8: LI | D8: 90mm dia. x 11.25° bends. | E8: No. | F8: 1
A9: E.1.1.1.3 | C9: LI | D9: 110mm dia. x 11.25° bends. | E9: No. | F9: 1
A10: E.1.1.1.4 | C10: LI | D10: 110mm dia. x 45° bends. | E10: No. | H10: Rate Only
B12: 8.2.2 | D12: Extra-over 8.2.1 for the supplying, laying, and bedding of steel specials complete with couplings:
A13: E.1.1.2 | D13: Steel Pipe Bends
A14: E.1.1.2.3 | C14: LI | D14: 400mm dia. x 22.5° bends. | E14: No. | F14: 1
A15: E.1.1.2.4 | C15: LI | D15: 400mm dia. x 45° bends. | E15: No. | F15: 1
D17: HDPE Reducers
A18: E.1.1.3 | D18: HDPE PE100 reducer with a SDR of 11 and a pressure rating of 16 bar. The reducers must be suitable for butt welding on to PE100 HDPE pipe. All reducers must comply with SANS/ISO 4427
A19: E.1.1.3.1 | C19: LI | D19: 63mm x 50 mm | E19: No. | F19: 10
A20: E.1.1.3.2 | C20: LI | D20: 75mm x 50 mm | E20: No. | F20: 3
A21: E.1.1.3.3 | C21: LI | D21: 75mm x 63mm | E21: No. | F21: 4
A22: E.1.1.3.4 | C22: LI | D22: 90mm x 75mm | E22: No. | F22: 1
A24: E.1.1.4 | D24: uPVC Reducers (Class 16)
A25: E.1.1.4.1 | C25: LI | D25: 110mm x 90mm | E25: No. | F25: 1
A26: E.1.1.4.2 | C26: LI | D26: 400mm x 110mm | E26: No. | F26: 1
A28: E.1.1.6 | D28: Equal Tees (PN16)
A29: E.1.1.6.1 | C29: LI | D29: 50mm x 50mm | E29: No. | F29: 1
A30: E.1.1.6.2 | C30: LI | D30: 63mm x 63mm | E30: No. | F30: 2
A31: E.1.1.6.3 | C31: LI | D31: 75mm x 75mm | E31: No. | F31: 5
A33: E.1.1.7 | D33: Reducing Tees (PN16)
A34: E.1.1.7.1 | C34: LI | D34: 63mm x 50mm | E34: No. | F34: 7
A35: E.1.1.7.2 | C35: LI | D35: 75mm x 50mm | E35: No. | F35: 1
A36: E.1.1.7.3 | C36: LI | D36: 75mm x 63mm | E36: No. | F36: 11
A38: TOTAL CARRIED FORWARD
A39: BROUGHT FORWARD
A40: E.1.1.7.4 | C40: LI | D40: 90mm x 63mm | E40: No. | F40: 1
A42: E.1.1.8 | D42: Steel Tees
A43: E.1.1.8.1 | C43: LI | D43: a) 4.5mm thick 250mmx250mmx200 mm Steel Tee (Grade C as per SANS 719). All ends flanged and Rilsan coated as per specifications. | E43: No. | F43: 1
A45: E.1.1.9 | D45: Cross
A46: E.1.1.9.1 | C46: LI | D46: 50mm x 50mm | E46: No. | F46: 2
A47: E.1.1.9.2 | C47: LI | D47: 63mm x 63mm | E47: No. | F47: 9
A48: E.1.1.9.3 | C48: LI | D48: 75mm x 63mm | E48: No. | F48: 6
A50: E.1.1.10 | D50: End Caps
...

Sheet Bedding
A1: ITEM | B1: PAYMENT REFERS | C1: LIC | D1: DESCRIPTION | E1: UNIT | F1: QUANTITY | G1: RATE | H1: AMOUNT
A2: F.1 | B2: SANS 1200 LB | D2: SCHEDULE F: BEDDING (PIPES)
A3: F.1.1 | B3: 8.2.1 & PS LB 3.1 | D3: Provision of Bedding from Trench Excavation
A4: F.1.1.1 | B4: 8.2.1 (a) | C4: LI | D4: Selected granular material | E4: m³ | F4: 2491.6
A5: F.1.1.2 | B5: 8.2.1 (b) | C5: LI | D5: Selected fill material | E5: m³ | F5: 1674.7
A6: F.1.2 | B6: 8.2.2.2 | D6: Bedding from Borrow Pits
A7: F.1.2.1 | B7: 8.2.2.2 (a) | C7: LI | D7: Selected granular material | E7: m³ | F7: 872.8
A8: F.1.2.2 | B8: 8.2.2.2 (b) | C8: LI | D8: Selected fill material | E8: m³ | F8: 643
A9: F.1.2.3 | D9: Screening / processing of selected fill materials to produce specified size (excluding granular materials from commercial sources) | E9: m³ | F9: 394.7
A10: F.1.2.4 | D10: Screening / processing of selected fill materials to produce specified size (excluding granular materials from commercial sources) | E10: m³ | F10: 247.1
A12: F.1.3 | B12: 8.2.2.3 | D12: Imported from commercial source (including haul).
A13: F.1.3.1 | B13: 8.2.2.3 (a) | C13: LI | D13: Selected granular material | E13: m³ | F13: 200
A14: F.1.3.2 | B14: 8.2.2.3 (b) | C14: LI | D14: Selected fill material | E14: m³ | F14: 200
A36: TOTAL OF SCHEDULE F CARRIED FORWARD TO SUMMARY

Sheet Reservoirs
A1: ITEM | B1: PAYMENT REFERS | C1: LIC | D1: DESCRIPTION | E1: UNIT | F1: QUANTITY | G1: RATE | H1: AMOUNT
A2: G.1 | B2: SANS 1200 DK | D2: SCHEDULE G: RESERVOIRS
D3: Refer to attached separate Reservoir schedules on this tender document & put totals here
A4: G.1.1 | D4: 2 Mℓ KwaGedleza Reservoir | E4: Sum | F4: 1
D6: RESERVOIR ANCILLARIES
A7: G.1.2 | D7: Reservoir Inlet Systems
D8: Supply and install complete reservoir inlet system as per Drawing indicated below. The rate to include valve, valve chamber, reducers, necessary adaptors, couplings and the like. Equilibrium float control valve measured elsewhere:
C9: LI | D9: 600mm ø for 2 Mℓ reservoir, as per detail. | E9: No | F9: 1
A11: G.1.3 | D11: Reservoir Outlet Systems
C12: LI | D12: Supply and install reservoir reticulation outlet Type A as per detail complete with manhole, reducers, flanged adaptors, valve, strainer, pipework and fittings to suit. | E12: No | F12: 1
C13: LI | D13: Supply and install reservoir reticulation outlet Type B as per detail complete with manhole, reducers, flanged adaptors, valve, strainer, pipework and fittings to suit. | E13: No | H13: Rate Only
A14: G.1.4 | D14: Reservoir Scour Outlet System
C15: LI | D15: Supply and install reservoir outlet system, complete with valves, manholes and pipewok and fittings to suit as per detail. The rate to include a 10m trapezoidal open drain for overflow. | E15: No | F15: 1
A17: G.1.5 | D17: Float Valve Control System
D18: Supply and install float valves to Village Storage reservior with fittings to suite.
A19: G.1.5.1 | C19: LI | D19: 160mm Flanged cast iron level contol valve | E19: No | H19: Rate Only
A20: G.1.5.2 | C20: LI | D20: 90mm Flanged cast iron level control valve | E20: No | F20: 1
D22: PREFABRICATED STEEL TANKS
D23: Storage Tanks (Including inlet/outlet control chamber)
A24: G2 | D24: Supply and erect galvinised mild steel tank stands or similar approveds with corosion resistance qualities with handrails, walkway and lightning protection
D25: Sibongile Elevated Steel Tank
A26: G2.1 | D26: Supply, delivery, erection and assembly of a 100kl elevated Prestank including stand and associated pipework, Pressed Steel Tank with 5m high structural steel stand Incl. elevated walkway | E26: No | F26: 1
B28: SANS 1200 G 8.1.3 | D28: FOUNDATION REINFORCEMENT DETAILS:
A29: G2.1.1 | D29: High tensile steel bars:
A30: G2.1.1.1 | C30: LI | D30: (a) Y12 bars | E30: kg | F30: 207
A31: G2.1.1.2 | C31: LI | D31: (b) Y16 bars | E31: kg | F31: 360
A32: TOTAL CARRIED FORWARD
A33: BROUGHT FORWARD
D35: FOUNDATION CONCRETE DETAILS:
A36: G2.1.2 | B36: 8.4.3 | D36: Strength concrete, Grade 30 MPa/19 mm:
A37: G2.1.2.1 | C37: LI | D37: Tank stand | E37: m3 | F37: 10
A38: G2.1.2.2 | C38: LI | D38: Excavations and formwork preparations for the reservoir platform | E38: No. | F38: 1
D40: Hlalanathi Elevated Steel Tank
A41: G2.2 | D41: Supply, delivery, erection and assembly of a 100kl elevated Prestank including stand and associated pipework, Pressed Steel Tank with 10m high structural steel stand Incl. elevated walkway | E41: No | F41: 1
B43: SANS 1200 G 8.1.3 | D43: FOUNDATION REINFORCEMENT DETAILS:
A44: G2.2.1 | D44: High tensile steel bars:
A45: G2.2.1.1 | C45: LI | D45: (a) Y12 bars | E45: kg | F45: 207
A46: G2.2.1.2 | C46: LI | D46: (b) Y16 bars | E46: kg | F46: 360
D48: FOUNDATION CONCRETE DETAILS:
A49: G2.2.2 | B49: 8.4.3 | D49: Strength concrete, Grade 30 MPa/19 mm:
...

Sheet Fencing
A1: ITEM | B1: PAYMENT REFERS | C1: LIC | D1: DESCRIPTION | E1: UNIT | F1: QUANTITY | G1: RATE | H1: AMOUNT
A2: H.1 | D2: SCHEDULE H: SECURITY FENCING
B3: SABS 1200 C | D3: SITE CLEARANCE
A4: H.1.1 | B4: 8.2.1 | C4: LI | D4: Clear and grub vegetation in strip 2m wide of 150mm topsoil depth on fencing route. Rate to include for trees of girth upto and including 1m. | E4: m | F4: 264
A6: H.1.2 | B6: SABS 1200 DA | D6: EXCAVATION
D7: Excavate by hand in all materials to clear fencing route (maximum slot trench width is 0.3m), backfill and compact and dispose of as ordered by the Engineer
D8: Excavate by hand in all materials for fencing construction trenches, backfill, compact and dispose of surplus material as directed by the Engineer:
A9: H.1.2.1 | C9: LI | D9: 0 - 1m depth | E9: m3 | F9: =ROUND(((F4/2)*0.45*0.45*0.5),1) -> 13.4
A10: H.1.3 | C10: LI | D10: Trench, Supply, storage, deliver, handling, erect, mount and Installation of 2.4m high clearview or similar approved galvanised steel coated fencing at 2.4m square posts with panels of 76mm X 12mm apertures of 4mm black coated wire with top anticlimb spike rack. Posts To be installed with with 500mm X 300mm X 300mm post anchor blocks below ground level for 2 ML reservoir site fencing boundary. Total post height = 3.0m | E10: m | F10: 240
A11: H.1.4 | C11: LI | D11: Fabricate, Supply, Handle, Store, Take Delivery of a Vehicle access swing gates (left and right pieces consists 1 set) of 3.0m high by 6m long total length in clearview or similar approved posts and panels of 76mm X 12mm apertures of 4mm thick black coated wire with anticlimb spike racks on the top. Cost to include for trenching, mounting, concrete works, erecting supporting framework, gate, railing and 50mm brass padlock (with two sets keys) | E11: No | F11: 1
A13: J.2 | B13: SABS 1200 G | D13: CONCRETE (STRUCTURAL)
A14: J.2.1 | B14: 8.4.3 | C14: LI | D14: Strength concrete 25MPa/19mm to fencing posts anchor blocks for dimensions of 0.3m x 0.3m x 0.5m per fencing marker post. Posts spaced at 2m intervals | E14: m3 | F14: 6
A18: TOTAL OF SCHEDULE H CARRIED FORWARD TO SUMMARY

Sheet Access Road
A1: ITEM | B1: PAYMENT REFERS | C1: LIC | D1: DESCRIPTION | E1: UNIT | F1: QUANTITY | G1: RATE | H1: AMOUNT
A2: J.1 | B2: SABS 1200 DM | D2: SCHEDULE J: ACCESS ROAD TO 2 Mℓ RESERVOIR
A3: J.1.1 | B3: 8.3.1 | D3: SITE CLEARANCE
A4: J.1.1.1 | D4: Clear and grub boulders, trees and bush over full width of roadway (road = 3.5m wide) | E4: m | F4: 60
A6: J.1.2 | B6: 8.3.2 | D6: PREPARATION OF SITE
A7: J.1.2.1 | C7: LI | D7: Preparation and stripping of site/removal of topsoil to a 300mm depth, stockpile and maintain | E7: m | F7: 60
A8: J.1.2.2 | C8: LI | D8: Preparation and stripping of site/removal to a 300mm depth, haulage (within a freehaul distance of 2km) and spreading to a 150mm depth | E8: m | F8: 60
A10: J.1.3 | B10: 8.3.5 | D10: TREATMENT OF ROAD-BED
A11: J.1.3.1 | D11: Treatment of road-bed and compaction of materials to 93% MOD AASHTO density. (Materials scarified to 200mm depth). | E11: m³ | F11: 50.4
A12: J.1.4 | D12: Cut-to-fill, borrow to fill
A13: J.1.4.1 | D13: (a) Cut-to-fill compacted to 90% MOD AASHTO density | E13: m³ | F13: 18
A14: J.1.4.2 | D14: (a) Borrow-to-fill compacted to 90% MOD AASHTO density | E14: m³
A16: J.1.5 | B16: 8.3.5 | D16: Selected layer
A17: J.1.5.1 | D17: Provision of 200mm thick layer of wearing course material compacted to 95% MOD AASHTO density with material from borrow pits. | E17: m³ | F17: 58
A19: J.1.6 | B19: 8.3.6 | D19: Extra-over for excavating and breaking down materials in:
A20: J1.6.1 | B20: 8.3.12 | D20: Overhaul
A21: J1.6.1.1 | D21: Haulage of materials in excess of 2 km free haul | E21: m³.km | F21: 900
A32: TOTAL OF SCHEDULE J CARRIED FORWARD TO SUMMARY

Sheet Road Crossing
A1: ITEM | B1: PAYMENT REFERS | C1: LIC | D1: DESCRIPTION | E1: UNIT | F1: QUANTITY | G1: RATE | H1: AMOUNT
A2: K | D2: SCHEDULE K: ROAD CROSSING
A3: K.1 | B3: SANS 1200 LG 8.1.1-A | D3: Road Crossing
A4: K.1.1 | B4: 8.2.4 | D4: Excavation
A5: K.1.1.1 | C5: LI | D5: Excavate in soft and intermediate material for pipes at road crossing, including removal and disposal of material | E5: m³ | F5: 100
A7: K.1.1.2 | B7: 8.2.5 | D7: Extra-over to Item D1.2.1 to excavate in hard rock | E7: m³ | F7: 15
A9: K.1.2 | B9: 8.2.6 | D9: Supply and install pipe sleeve
A10: K.1.2.1 | D10: DN 900 Class 100 D Type SC reinforced concrete pipes | E10: m | F10: 51.24
A12: K.1.3 | D12: Miscellaneous
A13: K.1.3.1 | C13: LI | D13: Brick-up ends of DN 900 concrete pipe sleeve | E13: N° | F13: 4
A15: K.1.3.2 | B15: 8.2.1 | D15: Extra-over to Item C2.1 for supply, lay, joint, fix and test the following pipes in the pipe sleeves
D16: (Installation as shown on Drawing UKDM-STD-405)
A18: K.1.3.3 | D18: DN 350 Grade X42 steel pipe | E18: m | F18: 25
A19: K.1.3.3.1 | D19: 110mm dia. PVC-O Class 12 | E19: m | F19: 25
A36: TOTAL OF SCHEDULE K CARRIED FORWARD TO SUMMARY

Sheet Pipe Bridge
A1: ITEM | B1: PAYMENT REFERS | C1: LIC | D1: DESCRIPTION | E1: UNIT | F1: QUANTITY | G1: RATE | H1: AMOUNT
D2: SCHEDULE L: WATER PIPE BRIDGE
A3: L1 | D3: EXCAVATION
D4: Excavate in all materials for abutments, backfill, compact, and dispose of surplus/unsuitable material: | E4: m3 | F4: 3.5
A5: L1.1 | B5: SABS 1200 G | D5: CONCRETE (STRUCTURAL)
B6: 8.2 | D6: SCHEDULED FORMWORK ITEMS
A7: L1.1.1 | B7: 8.2.1 | D7: Rough Finish
A8: L1.1.1 | C8: LI | D8: (a) Abutment base edge | E8: m2 | F8: 4
A9: L1.1.2 | B9: 8.2.2 | D9: Smooth Finish
D10: Vertical
A11: L1.1.2.1 | C11: LI | D11: (a) Abutment walls | E11: m2 | F11: 6
D12: Horizontal
A13: L1.1.2.2 | C13: LI | D13: (a) Top of concrete wall | E13: m2 | F13: 3
A14: L1.1.2.3 | C14: LI | D14: (b) Abutment base | E14: m2 | F14: 4
A15: L1.2 | B15: 8.3 | D15: SCHEDULED REINFORCEMENT ITEMS
B16: 8.3.1 | D16: Mild steel bars:
A17: L1.2.1 | C17: LI | D17: (a) R10 bars | E17: kg
B18: 8.3.1 | D18: High tensile steel bars:
A19: L1.2.2 | C19: LI | D19: (a) Y10 bars | E19: kg | F19: 45
A20: L1.2.3 | C20: LI | D20: (b) Y12 bars | E20: kg | F20: 210
A21: L1.2.4 | C21: LI | D21: (c) Y16 bars | E21: kg | F21: 50
A23: L1.3 | B23: 8.4 | D23: SCHEDULED CONCRETE ITEMS
A24: L1.3.1 | B24: 8.4.1 | D24: Prescribed Mix Concrete
A25: L1.3.1.1 | C25: LI | D25: (a) No-fines Concrete, 13 mm stone, 1 cement to 6 aggregate (by volume), maximum water to cement ratio of 2.5:1 | E25: m3 | F25: 2
A26: L1.3.2 | B26: 8.4.3 | D26: Strength Concrete, Grade
D27: 35 MPa Concrete - 19 mm coarse aggregate in:
A28: L1.3.2.1 | C28: LI | D28: (a) Abutment base | E28: m3 | F28: 2.65
A29: L1.3.2.2 | C29: LI | D29: (b) Abutments | E29: m3 | F29: 10
A30: L1.3.3 | B30: 8.4.4 | D30: Unformed Surface Finishes
D31: (a) Wood-floated finish for the following areas:
A32: L1.3.3.1 | C32: LI | D32: (i) Abutment base | E32: m2 | F32: 3.8
A33: L1.3.3.2 | C33: LI | D33: (ii) Abutments | E33: m2 | F33: 3
A34: L1.4 | B34: 8.4.5 | D34: Aggregate
A35: L1.4.1 | C35: LI | D35: a) 19mm concrete stone levelling layer | E35: m2 | F35: 14
A37: L1.5 | B37: 8.5 | D37: JOINTS
A38: L1.5.1 | C38: LI | D38: Construction Joints | E38: m | F38: 5
A40: TOTAL CARRIED FORWARD
A41: BROUGHT FORWARD
A42: L2 | B42: SABS 1200 H | D42: STRUCTURAL STEELWORK
A43: L2.1 | B43: 8.3 | D43: SCHEDULED ITEMS
...

Sheet SUMMARY
A1: Umkhanyakude District Municipality
A2: KwaJobe Community Water Supply Scheme - Phase 1: Secondary Bulk, Reticulation & Reservoirs
A3: Tender No.: SCMU003/2026/2027
A4: SUMMARY OF SECTIONS
A5: SCHEDULE | B5: DESCRIPTION | C5: AMOUNT
A6: A | B6: ='P&G'!D2 -> SCHEDULE A: PRELIMINARY AND GENERAL
A7: B | B7: ='Site Clearance'!D2 -> SCHEDULE B: SITE CLEARANCE
A8: C | B8: =Earthworks!D2 -> SCHEDULE C: EARTHWORKS
A9: D | B9: ='Medium-Pressure'!D2 -> SCHEDULE D: MEDIUM-PRESSURE PIPELINES
A10: E | B10: ='Pipe Fittings'!D2 -> SCHEDULE E: PIPE FITTINGS AND SPECIALS
A11: F | B11: =Bedding!D2 -> SCHEDULE F: BEDDING (PIPES)
A12: G | B12: =Reservoirs!D2 -> SCHEDULE G: RESERVOIRS
A13: H | B13: =Fencing!D2 -> SCHEDULE H: SECURITY FENCING
A14: J | B14: ='Access Road'!D2 -> SCHEDULE J: ACCESS ROAD TO 2 Mℓ RESERVOIR
A15: K | B15: ='Road Crossing'!D2 -> SCHEDULE K: ROAD CROSSING
A16: L | B16: ='Pipe Bridge'!D2 -> SCHEDULE L: WATER PIPE BRIDGE
A17: M | B17: SUB-TOTAL 1
A18: N | B18: ADD: CONTINGENCIES @ 10%
A19: O | B19: SUB-TOTAL 2 | G19: Budget | H19: 1.1116702e+08
A20: P | B20: ADD: VAT @ 15% | G20: Construction cost | H20: =C21+[1]SUMMARY!$C$19 -> 0
A21: Q | B21: TOTAL CONTRACT AMOUNT | G21: Professional Fees | H21: 20414422
G22: Total | H22: =H20+H21 -> 20414422
C23: Length of Pipelines = | D23: =SUM('Medium-Pressure'!F4:F14)*(10^-3) -> 18.4452 | E23: km
C24: Rate/km = | D24: =C17/D23 -> 0 | E24: Excl. VAT
D25: =C21/D23 -> 0 | E25: Incl. VAT + Contingency
