Workbook
Name _Toc387842075: 'S001'!$C$40

Sheet S001
G1: =SUMMARY!C1 -> PART C2: PRICING DATA
A2: Contract: WSBU 02 – 2026/27: TENDER FOR THE REPAIRS AND MAINTENANCE OF SANITATION INFRASTRUCTURE WITHIN THE CITY OF TSHWANE BOUNDARIES ON AN AS AND WHEN REQUIRED BASIS FOR A THREE (3) YEAR PERIOD
G3: SERIES O: GENERAL - GENERAL REQUIREMENTS AND CHARGES : SECTION 001
A4: Item | B4: LC/LI | C4: Description | D4: Unit | E4: Qty | F4: Rate | G4: Amount
A5: 001.03 Li | B5: Li | C5: Excavate by hand to expose existing services, and backfill | D5: m3 | E5: 50 | G5: =ROUND(F5*E5,2) -> 0
A7: B001.04 | C7: COMPLAINCE WITH THE OCCUPATIONAL HEALTH AND SAFETY ACT AND APPLICABLE REGULATIONS | G7: =ROUND(F7*E7,2) -> 0
C8: B001.04.01 Provision of Health and Safety Plan | D8: Lsum/per project (Region) | E8: 1 | G8: =ROUND(F8*E8,2) -> 0
C9: B001.04.02 Provision of Health and Safety file | D9: Lsum/per project (Region) | E9: 1 | G9: =ROUND(F9*E9,2) -> 0
C10: B001.04.03 Provision of Site Supervisors | D10: per month/ per project (Region) | E10: 36 | G10: =ROUND(F10*E10,2) -> 0
C11: B001.04.04 Provision of a Safety Officer (full time) | D11: per month/ per project (Region) | E11: 36 | G11: =ROUND(F11*E11,2) -> 0
C12: B001.04.08.01 Implementation of OHS Act (including provision of personal protective clothing, equipment, training, safety fences, etc.) | D12: Lsum/per project (Region) | E12: 1 | G12: =ROUND(F12*E12,2) -> 0
A14: B001.09 | C14: TRAINING OF TARGETED LABOR
A15: B001.09.01 | C15: Training of Targeted Labor (minimum for 20 people) | D15: Each person | E15: 20 | G15: =ROUND(F15*E15,2) -> 0
A16: B001.09.02 | C16: B001.09 .02 Charges required by the Contractor on sub-item B001.09.01 above. The % shall be limited to maximum of 10. | D16: percentage (%)
A18: B001.12 | C18: DAY WORKS | G18: =ROUND(F18*E18,2) -> 0
A19: B001.12.01 | C19: Provision of a qualified Artisan (Plumber) | D19: hour | E19: 8760 | G19: =ROUND(F19*E19,2) -> 0
A20: B001.12.02 | C20: Provision of labour (general workers) | D20: hour | E20: 8760 | G20: 0
A21: B001.12.03 | C21: Provision of Sewer Pump Station Operator | D21: hour | E21: 712 | G21: 0
A22: B001.12.04 | C22: Provision of Sewer Blockage Removal Team (Unit) (Consists of (LDV) min GVM of 2700kg, Artisan (Plumber), 4x general workers) | D22: hour | E22: 8760 | G22: 0
G23: 0
F28: carry forward
F29: brought forward
A30: B001.13. | C30: EQUIPMENTS, PLANT AND MACHINERY
A31: B001.13.01 | C31: Combination sewer jet with an certified (trained) operator and two assistants (Labourers) (with a storage size of 10 kl or better, complete with high pressure washing and vacuum suction facility) | D31: hour | E31: 1460
A32: B001.13.02 | C32: Combination Back Acting 4x4 Excavators/ Front End loaders – TLBs | D32: hour | E32: 1460 | G32: 0
A33: B001.13.03 | C33: Excavator – Hydraulic Type Operating weight: 18000 – 22 000 kg | D33: hour | E33: 1460 | G33: 0
A34: B001.13.04 | C34: 7/8 Ton Drop side Truck with Crane Side Tipper | D34: hour | E34: 1460 | G34: 0
A35: B001.13.05 | C35: Provision of blockage removal vehicle (LDV) min GVM of 2700kg | D35: hour | E35: 8760
A36: B001.13.06 | C36: Fuel Driven Water Pump with minimum pump capacity of 25 l/s | D36: hour | E36: 1460
A37: B001.13.07 | C37: Fuel Driven Water Pump with minimum pump 10 l/s | D37: hour | E37: 1460
A39: B001.14 | C39: PENALTIESTO APPLY
C40: A penalty of 10% of the value of work (task) per day must apply for the late completion of work. That is the work that was not completed within the specified time frames in line with the applicable norms and standards. 10% of the total cost of the task for every calendar day that elapses between “Due Completion Date” and the actual completion date.
A42: B001.14.01 | C42: OHS Transgression
A43: B001.14.01 | C43: Failure to clean and rehabilitate site after completion of task (i.e. clearing of sewer blockages) | D43: 10% of total cost of task per day
A44: B001.14.02 | C44: Employees not wearing PPE | D44: per incident | F44: R5 000
A45: B001.14.03 | C45: Hazardous chemical/oil spill and/or dumping in non-approved sites. | D45: per incident | F45: 10000
A46: B001.14.04 | C46: Damage to cultural and historical sites. | D46: per incident | F46: 10000
A47: B001.14.05 | C47: Transportation of workers in an unsecure vehicle (transporting tools, equipment and material). | D47: per incident | F47: 5000
A48: B001.14.06 | C48: Insufficient road signs or unavailability of flag personnel or improper road signs layout. | D48: per incident | F48: 5000
A49: B001.14.07 | C49: No OHS Officer appointed by the contractor. | D49: R10 000 + work stoppage per incident
...

Sheet S101
F1: =SUMMARY!C1 -> PART C2: PRICING DATA | G1: =SUMMARY!C1 -> PART C2: PRICING DATA
A2: Contract: WSBU 02 – 2026/27: TENDER FOR THE REPAIRS AND MAINTENANCE OF SANITATION INFRASTRUCTURE WITHIN THE CITY OF TSHWANE BOUNDARIES ON AN AS AND WHEN REQUIRED BASIS FOR A THREE (3) YEAR PERIOD
F3: SERIES 1 : ANCILLARY WORKS - SITE CLEARING AND GRUBBING : SECTION 101
A4: Item | B4: Description | C4: Unit | D4: Qty | E4: Rate | F4: Amount
A5: 101.01 | B5: CLEARING AND GRUBBING
A6: Li | B6: 101.01.01 Areas | C6: m2 | D6: 250 | F6: =ROUND(E6*D6,2) -> 0
A8: 101.02 | B8: Cutting and removal of large trees with a girth
A9: Li | B9: 101.02.01 Exceeding 1m to 2m | C9: No | D9: 5 | F9: =ROUND(E9*D9,2) -> 0
A10: Li | B10: 101.02.02 Exceeding 2m to 3m | C10: No | D10: 5 | F10: =ROUND(E10*D10,2) -> 0
A12: 101.03 | B12: Grubbing and removal of large stumps and roots or large trees with a girth:
A13: Li | B13: 101.03.01 Exceeding 1m to 2m | C13: No | D13: 5 | F13: =ROUND(E13*D13,2) -> 0
A14: Li | B14: 101.03.02 Exceeding 2m to 3m | C14: No | D14: 5 | F14: =ROUND(E14*D14,2) -> 0
E39: Total carried forward to Summary | F39: =SUM(F5:F38) -> 0

Sheet S102
F1: =SUMMARY!C1 -> PART C2: PRICING DATA | G1: =SUMMARY!C1 -> PART C2: PRICING DATA
A2: ='S101'!A2 -> Contract: WSBU 02 – 2026/27: TENDER FOR THE REPAIRS AND MAINTENANCE OF SANITATION INFRASTRUCTURE WITHIN THE CITY OF TSHWANE BOUNDARIES ON AN AS AND WHEN REQUIRED BASIS FOR A THREE (3) YEAR PERIOD
F3: SERIES 1 : ANCILLARY WORKS - ACCOMMODATION OF TRAFFIC : SECTION 102
A4: Item | B4: Description | C4: Unit | D4: Qty | E4: Rate | F4: Amount
A5: 102.12 | B5: Provision of temporary bridges for maintaining access to properties
A6: Li | B6: 102.12.01 Temporary pedestrain bridges | C6: No | D6: 5 | F6: =+D6*E6 -> 0
A7: Li | B7: 102.12.02 Temporary vehicular bridges | C7: No | D7: 5 | F7: =+D7*E7 -> 0
A9: 102.13 | B9: Moving of temporary bridges to and their re-erection in entirely new positions
A10: Li | B10: 102.13.01 Temporary pedestrian bridges | C10: No | D10: 5 | F10: =+D10*E10 -> 0
A11: Li | B11: 102.13.02 Temporary vehicular bridges | C11: No | D11: 5 | F11: =+D11*E11 -> 0
E39: Total carried forward to Summary | F39: =SUM(F5:F38) -> 0

Sheet S202
F1: =SUMMARY!C1 -> PART C2: PRICING DATA | G1: =SUMMARY!C1 -> PART C2: PRICING DATA
A2: Contract: WSBU 02 – 2026/27: TENDER FOR THE REPAIRS AND MAINTENANCE OF SANITATION INFRASTRUCTURE WITHIN THE CITY OF TSHWANE BOUNDARIES ON AN AS AND WHEN REQUIRED BASIS FOR A THREE (3) YEAR PERIOD
F3: SERIES 2 : EARTHWORKS - TRENCHING : SECTION 202
A4: Item | B4: Description | C4: Unit | D4: Qty | E4: Rate | F4: Amount
A5: 202.01 (Li) | B5: Trench excavations.
A6: Li | B6: 202.01.01 Up to 1.0m deep | C6: m3 | D6: 500 | F6: =ROUND(E6*D6,2) -> 0
B7: 202.01.02 Over 1.0m and up to 2m deep | C7: m3 | D7: 500 | F7: =ROUND(E7*D7,2) -> 0
B8: 202.01.03 Over 2m and up to 3m deep | C8: m3 | D8: 250 | F8: =ROUND(E8*D8,2) -> 0
B9: 202.01.04 Over 3m and up to 4m deep | C9: m3 | D9: 250 | F9: =ROUND(E9*D9,2) -> 0
B10: 202.01.05 Over 4m and up to 5m deep | C10: m3 | D10: 150 | F10: =ROUND(E10*D10,2) -> 0
A12: 202.02 Li | B12: Extra over item 202.01, 202.03, 202.04 for excavating in- Hard material
B13: 202.02.02 Hard material | C13: m2 | D13: 250 | F13: =ROUND(E13*D13,2) -> 0
A15: B202.03 Li | B15: Excavations outside the normal trench profile | C15: m3 | D15: 250 | F15: =ROUND(E15*D15,2) -> 0
A17: 202.04 Li | B17: Hand excavation (extra over item 202.01) | C17: m3 | D17: 100 | F17: =ROUND(E17*D17,2) -> 0
A19: 202.06 Li | B19: The backfilling of trenches (excluding backfill around the pipe barrel) with material obtained from excavations | C19: m3 | D19: 100 | F19: =ROUND(E19*D19,2) -> 0
A21: 202.07 Li | B21: Extra over item 202.06 for using backfill material obtained -
B22: 202.07.01 From borrow areas | C22: m3 | D22: 100 | F22: =ROUND(E22*D22,2) -> 0
B23: 202.07.02 From sources provided by the Contractor | C23: m3 | D23: 100 | F23: =ROUND(E23*D23,2) -> 0
E41: Total carried forward to Summary | F41: =SUM(F5:F40) -> 0

Sheet S302
F1: =SUMMARY!C1 -> PART C2: PRICING DATA | G1: =SUMMARY!C1 -> PART C2: PRICING DATA
A2: ='S202'!A2 -> Contract: WSBU 02 – 2026/27: TENDER FOR THE REPAIRS AND MAINTENANCE OF SANITATION INFRASTRUCTURE WITHIN THE CITY OF TSHWANE BOUNDARIES ON AN AS AND WHEN REQUIRED BASIS FOR A THREE (3) YEAR PERIOD
F3: SERIES 3 : SEWERS - CONSTRUCTION : SECTION 302
A4: Item | B4: Description | C4: Unit | D4: Qty | E4: Rate | F4: Amount
A5: 302.01 | B5: Supplying, laying, jointing of sewer pipes irrespective of depth/width of trench.
B6: 302.01.01. 110 mm Class PE100 PN 6, SDR25 | C6: m | D6: 200
B7: 302.01.02. 160mm Class PE100 PN 6, SDR26 | C7: m | D7: 500
B8: 302.01.03. 200mm Class PE100 PN 6, SDR26 | C8: m | D8: 100
B9: 302.01.04. 225mm Class PE100 PN 6, SDR26 | C9: m | D9: 75
B10: 302.01.05. 250mm Class PE100 PN 6, SDR26 | C10: m | D10: 42
B11: 302.01.06. 280mm Class PE100 PN 6, SDR26 | C11: m | D11: 42
B12: 302.01.07. 315mm Class PE100 PN 6, SDR26 | C12: m | D12: 42
B13: 302.01.08. 355mm Class PE100 PN 6, SDR26 | C13: m | D13: 42
B14: 302.01.09. 400mm Class PE100 PN 6, SDR26 | C14: m | D14: 42
B15: 302.01.10. 450mm Class PE100 PN 6, SDR26 | C15: m | D15: 42
B16: 302.01.11. 500mm Class PE100 PN 6, SDR26 | C16: m | D16: 42
B17: 302.01.12. 560mm Class PE100 PN 6, SDR26 | C17: m | D17: 42
... B22: 302.01.17. 110 mm PVC Class 400 | C22: m | D22: 200
B23: 302.01.18. 160mm PVC Class 400 | C23: m | D23: 500 | F23: =ROUND(E23*D23,2) -> 0
B24: 302.01.19. 200mm PVC Class 400 | C24: m | D24: 100 | F24: =ROUND(E24*D24,2) -> 0
B25: 302.01.20. 250mm PVC Class 400 | C25: m | D25: 75 | F25: =ROUND(E25*D25,2) -> 0
B26: 302.01.21. 315mm PVC Class 34 | C26: m | D26: 42 | F26: =ROUND(E26*D26,2) -> 0
B27: 302.01.22. 355mm PVC Class 34 | C27: m | D27: 42 | F27: =ROUND(E27*D27,2) -> 0
B28: 302.01.23. 400mm PVC Class 34 | C28: m | D28: 42 | F28: =ROUND(E28*D28,2) -> 0
B29: 302.01.24. 450mm PVC Class 34 | C29: m | D29: 42 | F29: =ROUND(E29*D29,2) -> 0
B30: 302.01.25. 500mm PVC Class 34 | C30: m | D30: 42 | F30: =ROUND(E30*D30,2) -> 0
B31: 302.01.26. 630mm PVC Class 34 | C31: m | D31: 42 | F31: =ROUND(E31*D31,2) -> 0
E38: carry forward | F38: =SUM(F3:F37) -> 0
E39: brought forward | F39: =F38 -> 0
A40: 302.02 | B40: Construction of pipe bedding
B41: 302.02.01 Class B bedding
B42: 302.01.01. 110 mm Nominal Diameter | C42: m | D42: 200
B43: 302.01.02. 160mm Nominal Diameter | C43: m | D43: 500 | F43: =ROUND(E43*D43,2) -> 0
B44: 302.01.03. 200mm Nominal Diameter | C44: m | D44: 100 | F44: =ROUND(E44*D44,2) -> 0
B45: 302.01.04. 225mm Nominal Diameter | C45: m | D45: 100 | F45: =ROUND(E45*D45,2) -> 0
B46: 302.01.05. 250mm Nominal Diameter | C46: m | D46: 75 | F46: =ROUND(E46*D46,2) -> 0
B47: 302.01.06. 280mm Nominal Diameter | C47: m | D47: 42 | F47: =ROUND(E47*D47,2) -> 0
B48: 302.01.07. 315mm Nominal Diameter | C48: m | D48: 42 | F48: =ROUND(E48*D48,2) -> 0
B49: 302.01.08. 355mm Nominal Diameter | C49: m | D49: 42 | F49: =ROUND(E49*D49,2) -> 0
B50: 302.01.09. 400mm Nominal Diameter | C50: m | D50: 42 | F50: =ROUND(E50*D50,2) -> 0
...

Sheet B303
F1: =SUMMARY!C1 -> PART C2: PRICING DATA | G1: =SUMMARY!C1 -> PART C2: PRICING DATA
A2: Contract: WSBU 02 – 2026/27: TENDER FOR THE REPAIRS AND MAINTENANCE OF SANITATION INFRASTRUCTURE WITHIN THE CITY OF TSHWANE BOUNDARIES ON AN AS AND WHEN REQUIRED BASIS FOR A THREE (3) YEAR PERIOD
F3: SERIES 3 : SEWERS - TESTING : SECTION 303
A4: Item | B4: Description | C4: Unit | D4: Qty | E4: Rate | F4: Amount
A5: B303.03 | B5: CCTV Camera Inspection
A6: B303.03.01 | B6: Sewer Pipe inspection using CCTV Camera (110mm to 1000mm diameter) | C6: m | D6: 6000
A7: B303.03.02 | B7: Sewer Pipe inspection using CCTV Camera (above 1000mm diameter) | C7: m | D7: 4000 | F7: =ROUND(E7*D7,2) -> 0
F8: =ROUND(E8*D8,2) -> 0
F9: =ROUND(E9*D9,2) -> 0
F10: =ROUND(E10*D10,2) -> 0
F11: =ROUND(E11*D11,2) -> 0
F12: =ROUND(E12*D12,2) -> 0
F13: =ROUND(E13*D13,2) -> 0
F14: =ROUND(E14*D14,2) -> 0
F15: =ROUND(E15*D15,2) -> 0
F16: =ROUND(E16*D16,2) -> 0
F17: =ROUND(E17*D17,2) -> 0
F18: =ROUND(E18*D18,2) -> 0
F19: =ROUND(E19*D19,2) -> 0
... F35: =ROUND(E35*D35,2) -> 0
E36: carry forward | F36: =SUM(F7:F35) -> 0
E37: brought forward | F37: =F36 -> 0

Sheet B304
F1: =SUMMARY!C1 -> PART C2: PRICING DATA | G1: =SUMMARY!C1 -> PART C2: PRICING DATA
A2: Contract: WSBU 02 – 2026/27: TENDER FOR THE REPAIRS AND MAINTENANCE OF SANITATION INFRASTRUCTURE WITHIN THE CITY OF TSHWANE BOUNDARIES ON AN AS AND WHEN REQUIRED BASIS FOR A THREE (3) YEAR PERIOD
F3: SERIES 3 : SEWERS - SEWER BLOCKAGE REMOVAL : SECTION 304
A4: Item | B4: Description | C4: Unit | D4: Qty | E4: Rate | F4: Amount
A5: B304.01 | B5: Removal and Clearing of stubborn and outfall sewer network blockages of sand, silt, roots, etc. (all causes) from sewer pipes using various methods:
A6: B304.01.01 | B6: 110mm nominal diameter | C6: Per task | D6: 500 | F6: =ROUND(E6*D6,2) -> 0
A7: B304.01.02 | B7: 160mm nominal diameter | C7: Per task | D7: 600 | F7: =ROUND(E7*D7,2) -> 0
A8: B304.01.03 | B8: 200mm nominal diameter | C8: Per task | D8: 500 | F8: =ROUND(E8*D8,2) -> 0
A9: B304.01.04 | B9: 250mm nominal diameter | C9: Per task | D9: 500 | F9: =ROUND(E9*D9,2) -> 0
A10: B304.01.05 | B10: 300mm nominal diameter | C10: Per task | D10: 600 | F10: =ROUND(E10*D10,2) -> 0
A11: B304.01.06 | B11: 350mm nominal diameter | C11: Per task | D11: 100 | F11: =ROUND(E11*D11,2) -> 0
A12: B304.01.07 | B12: 375mm nominal diameter | C12: Per task | D12: 100 | F12: =ROUND(E12*D12,2) -> 0
A13: B304.01.08 | B13: 400mm nominal diameter | C13: Per task | D13: 200 | F13: =ROUND(E13*D13,2) -> 0
A14: B304.01.09 | B14: 425mm nominal diameter and above | C14: Per task | D14: 200 | F14: =ROUND(E14*D14,2) -> 0
F15: =ROUND(E15*D15,2) -> 0
F16: =ROUND(E16*D16,2) -> 0
F17: =ROUND(E17*D17,2) -> 0
F18: =ROUND(E18*D18,2) -> 0
F19: =ROUND(E19*D19,2) -> 0
F20: =ROUND(E20*D20,2) -> 0
F21: =ROUND(E21*D21,2) -> 0
E22: carry forward | F22: =SUM(F6:F21) -> 0
E23: brought forward | F23: =F22 -> 0
E38: Total carried forward to Summary | F38: =SUM(F23:F37) -> 0

Sheet B305
F1: =SUMMARY!C1 -> PART C2: PRICING DATA | G1: =SUMMARY!C1 -> PART C2: PRICING DATA
A2: Contract: WSBU 02 – 2026/27: TENDER FOR THE REPAIRS AND MAINTENANCE OF SANITATION INFRASTRUCTURE WITHIN THE CITY OF TSHWANE BOUNDARIES ON AN AS AND WHEN REQUIRED BASIS FOR A THREE (3) YEAR PERIOD
F3: SERIES 5 : DRAINAGE AND EROSION PROTECTION - DEALING WITH SEWERS : SECTION 305
A4: Item | B4: Description | C4: Unit | D4: Qty | E4: Rate | F4: Amount
A5: B305.01 | B5: Cleaning And Rehabilitation of Polluted Area as a Result Of Sewer Spillage
A6: B305.01.01 (Li) | B6: Removal and disposal of rubble and other waste resulting from the sewer spillage | C6: m² | D6: 2000 | F6: =ROUND(E6*D6,2) -> 0
A7: B305.01.02 (Li) | B7: Cleaning and rehabilitation of the spillage area by applying sewer odour removing agent (lime) | C7: m² | D7: 2000
A9: B305.02. | B9: Blocking of sewers before inspection and repairs for pipe diameter:
A10: B305.02.01 | B10: 100-300mm | C10: No | D10: 30
A11: B305.02.02 | B11: 325-600mm | C11: No | D11: 30
A12: B305.02.03 | B12: >600mm | C12: No | D12: 30
A14: B305.03 | B14: Dealing with sewage flow by overpumping with a water pump able to handle peak dry weather flow
A15: B305.03.01 | B15: Up to 15 litres /second | C15: hrs | D15: 50
A16: B305.03.02 | B16: Between 15 and 25 litres /second | C16: hrs | D16: 50
E33: Total carried forward to Summary | F33: =SUM(F5:F32) -> 0

Sheet SUMMARY
C1: PART C2: PRICING DATA | G1: =SUMMARY!C1 -> PART C2: PRICING DATA
A2: Contract: WSBU 02 – 2026/27: TENDER FOR THE REPAIRS AND MAINTENANCE OF SANITATION INFRASTRUCTURE WITHIN THE CITY OF TSHWANE BOUNDARIES ON AN AS AND WHEN REQUIRED BASIS FOR A THREE (3) YEAR PERIOD
A3: PART C2: PRICING DATA: SUMMARY
A4: SERIES 0: GENERAL
B5: SECTION 001: GENERAL REQUIREMENTS AND CHARGES | C5: ='S001'!G63 -> 0
C6: =#REF! -> #REF!
A7: SERIES 1: ANCILLARY WORKS
B8: SECTION 101 : SITE CLEARING AND GRUBBING | C8: ='S101'!F39 -> 0
B9: SECTION 102 : ACCOMMODATION OF TRAFFIC | C9: ='S102'!F39 -> 0
A10: SERIES 2 : EARTHWORKS
B11: SECTION 202 : TRENCHING | C11: =#REF! -> #REF!
A12: SERIES 3 : SEWERS
B13: SECTION 302 : CONSTRUCTION
B14: SECTION 303: TESTING
B15: SECTION 304: BLOCKAGE REMOVAL
B16: SECTION 305:DEALING WITH SEWERS
A19: (a) SUBTOTAL (CONTRACT PRICE) | C19: =SUM(C4:C18) -> #REF!
A20: (b) SUBTOTAL: ESCALATIONS 10% OF (a) | C20: =C19*10% -> #REF!
A21: TOTAL = (a) + (b) = TENDER AMOUNT | C21: =C19+C20+#REF! -> #REF!
A22: VAT @ 15% | C22: =ROUND(C21*0.15,2) -> #REF!
A23: TENDER AMOUNT carried forward to Form of Offer - Part C1 | C23: =C22+C21 -> #REF!
