Workbook
Name AA: #REF!
Name Answers_to_Template4_Q: #REF!
Name Answers_to_Template4_Q: #REF!
Name Cost_Changes: #REF!
Name Cost_Changes: #REF!
Name EE: #REF!
Name Names_cells: #REF!
Name Names_cells: #REF!
Name QQ: #REF!
Name RR: #REF!
Name SS: #REF!
Name TOTAL_E: #REF!
Name TOTAL_E: #REF!
Name TOTAL_I: #REF!
Name TOTAL_I: #REF!
Name TOTAL_M: #REF!
Name TOTAL_M: #REF!
Name TT: #REF!
Name WW: #REF!
Name XX: #REF!
Name Years: #REF!
Name Years: #REF!
Name YY: #REF!

Sheet COVER SHEET
J2: ANNEXURE A3
A14: PRICING SUBMISSION
A17: RFP NO: | E17: NERSA-2425-FMG-TAA-BID009
A19: RFP NAME: | E19: THE APPOINTMENT OF TRAVEL MANAGEMENT SERVICES LOCALLY AND INTERNATIONALLY TO THE NATIONAL ENERGY REGULATOR OF SOUTH AFRICA (NERSA) FOR A PERIOD OF THREE (3) YEARS
A21: BIDDER NAME | E21: <NAME OF BIDDER TO BE FILLED IN HERE>
A24: PRICE INSTRUCTIONS
A26: 1. STRUCTURE OF THE TENDER
A27: This spreadsheet for RFP/BID:NERSA-2425-FMG-TAA-BID009 contains the financial response templates for the bid. The bid pricing submission instructions in this document must be read in conjunction with instructions or notes embedded in the various tabs of spreadsheet (Pricing Schedule).
A29: 2. GENERAL INSTRUCTIONS FOR COMPLETING THE PRICING SCHEDULE TEMPLATES
A30: 2.1 Tender submission format
A31: 2.1.1 Bidders must submit a paper copy and an electronic copy of the Pricing Schedule. In the event of a discrepancy, the paper copy will prevail.
A32: 2.1.2 Bidders must sign all paper copies of their Pricing Schedule.
A33: 2.1.3 Bidders must complete and submit the templates attached ,which is the transactional fee model offsite
A34: 2.1.4 Bidders must reference RFP/BID main document section 14.2 for current travel volumes.
A35: 2.2 Input spreadsheets
A36: 2.2.1 The Pricing Schedule templates are contained within the one (1) Excel Workbook
A37: 2.2.2 Bidders must not make any changes to the spreadsheets or change the formatting of the Pricing Schedule.
... A45: 2.3.3 The Pricing Schedule template is designed such that VAT will be calculated on Bidders’ input pricing; therefore Bidders must complete the templates with unit prices excluding VAT.

Sheet 2. TRANSACTION FEE OFFSITE 
C1: TEMPLATE 2: TRANSACTION FEE MODEL
C4: OFF-SITE SERVICES
A7: RFP NO: | C7: ='COVER SHEET'!$E17 -> NERSA-2425-FMG-TAA-BID009
A8: RFP NAME: | C8: ='COVER SHEET'!$E19 -> THE APPOINTMENT OF TRAVEL MANAGEMENT SERVICES LOCALLY AND INTERNATIONALLY TO THE NATIONAL ENERGY REGULATOR OF SOUTH AFRICA (NERSA) FOR A PERIOD OF THREE (3) YEARS
A9: BIDDER NAME | C9: ='COVER SHEET'!$E21 -> <NAME OF BIDDER TO BE FILLED IN HERE>
A11: 1.1 TRANSACTION FEES
D12: TRADITIONAL BOOKINGS | G12: ONLINE BOOKINGS
A13: ITEM | B13: Transaction Type | C13: Estimated Volume | D13: Unit Price (excl VAT) | E13: Unit Price (incl VAT) | F13: TOTAL Price (incl VAT) | G13: Unit Price (excl VAT) | H13: Unit Price (incl VAT) | I13: TOTAL Price (incl VAT)
A14: 1 | B14: Air Travel – International | C14: 51 | E14: =D14*1.14 -> 0 | F14: =E14*C14 -> 0 | H14: =G14*1.14 -> 0 | I14: =H14*C14 -> 0
A15: 2 | B15: Air Travel – Regional | C15: 22 | E15: =D15*1.14 -> 0 | F15: =E15*C15 -> 0 | H15: =G15*1.14 -> 0 | I15: =H15*C15 -> 0
A16: 3 | B16: Air Travel – Domestic | C16: 761 | E16: =D16*1.14 -> 0 | F16: =E16*C16 -> 0 | H16: =G16*1.14 -> 0 | I16: =H16*C16 -> 0
A17: 4 | B17: Air Travel – International (Re-issue) | E17: =D17*1.14 -> 0 | F17: =E17*C17 -> 0 | H17: =G17*1.14 -> 0 | I17: =H17*C17 -> 0
A18: 5 | B18: Air Travel – Regional (Re-issue) | E18: =D18*1.14 -> 0 | F18: =E18*C18 -> 0 | H18: =G18*1.14 -> 0 | I18: =H18*C18 -> 0
A19: 6 | B19: Air Travel – Domestic (Re-issue) | E19: =D19*1.14 -> 0 | F19: =E19*C19 -> 0 | H19: =G19*1.14 -> 0 | I19: =H19*C19 -> 0
A20: 7 | B20: Refunds – Air Domestic | E20: =D20*1.14 -> 0 | F20: =E20*C20 -> 0 | H20: =G20*1.14 -> 0 | I20: =H20*C20 -> 0
A21: 8 | B21: Refunds – Air Regional | E21: =D21*1.14 -> 0 | F21: =E21*C21 -> 0 | H21: =G21*1.14 -> 0 | I21: =H21*C21 -> 0
A22: 9 | B22: Refunds – Air International | E22: =D22*1.14 -> 0 | F22: =E22*C22 -> 0 | H22: =G22*1.14 -> 0 | I22: =H22*C22 -> 0
A23: 10 | B23: Car Rental – Domestic | C23: 235 | E23: =D23*1.14 -> 0 | F23: =E23*C23 -> 0 | H23: =G23*1.14 -> 0 | I23: =H23*C23 -> 0
A24: 11 | B24: Car Rental – Regional | E24: =D24*1.14 -> 0 | F24: =E24*C24 -> 0 | H24: =G24*1.14 -> 0 | I24: =H24*C24 -> 0
A25: 12 | B25: Car Rental – International | E25: =D25*1.14 -> 0 | F25: =E25*C25 -> 0 | H25: =G25*1.14 -> 0 | I25: =H25*C25 -> 0
A26: 13 | B26: Transfers/Shuttle – Domestic | C26: 600 | E26: =D26*1.14 -> 0 | F26: =E26*C26 -> 0 | H26: =G26*1.14 -> 0 | I26: =H26*C26 -> 0
A27: 14 | B27: Transfers/Shuttle – Regional | E27: =D27*1.14 -> 0 | F27: =E27*C27 -> 0 | H27: =G27*1.14 -> 0 | I27: =H27*C27 -> 0
A28: 15 | B28: Transfers/Shuttle – International | C28: 4 | E28: =D28*1.14 -> 0 | F28: =E28*C28 -> 0 | H28: =G28*1.14 -> 0 | I28: =H28*C28 -> 0
A29: 16 | B29: Accommodation – Domestic | C29: 719 | E29: =D29*1.14 -> 0 | F29: =E29*C29 -> 0 | H29: =G29*1.14 -> 0 | I29: =H29*C29 -> 0
A30: 17 | B30: Accommodation – Regional | E30: =D30*1.14 -> 0 | F30: =E30*C30 -> 0 | H30: =G30*1.14 -> 0 | I30: =H30*C30 -> 0
A31: 18 | B31: Accommodation – International | C31: 42 | E31: =D31*1.14 -> 0 | F31: =E31*C31 -> 0 | H31: =G31*1.14 -> 0 | I31: =H31*C31 -> 0
A32: 19 | B32: Bus/Coach Bookings | E32: =D32*1.14 -> 0 | F32: =E32*C32 -> 0 | H32: =G32*1.14 -> 0 | I32: =H32*C32 -> 0
A33: 20 | B33: Train bookings – International | E33: =D33*1.14 -> 0 | F33: =E33*C33 -> 0 | H33: =G33*1.14 -> 0 | I33: =H33*C33 -> 0
A34: 21 | B34: Visa Assistance (Provision of documents and advice) | E34: =D34*1.14 -> 0 | F34: =E34*C34 -> 0 | H34: =G34*1.14 -> 0 | I34: =H34*C34 -> 0
A35: 22 | B35: Courier services for travel documentation (visa & passports) | E35: =D35*1.14 -> 0 | F35: =E35*C35 -> 0 | H35: =G35*1.14 -> 0 | I35: =H35*C35 -> 0
A36: 23 | B36: SMS Notifications | E36: =D36*1.14 -> 0 | F36: =E36*C36 -> 0 | H36: =G36*1.14 -> 0 | I36: =H36*C36 -> 0
A37: 24 | B37: Parking bookings | C37: 2 | E37: =D37*1.14 -> 0 | F37: =E37*C37 -> 0 | H37: =G37*1.14 -> 0 | I37: =H37*C37 -> 0
A38: 25 | B38: Cancellations | E38: =D38*1.14 -> 0 | F38: =E38*C38 -> 0 | H38: =G38*1.14 -> 0 | I38: =H38*C38 -> 0
A39: 26 | B39: Changes to bookings | E39: =D39*1.14 -> 0 | F39: =E39*C39 -> 0 | H39: =G39*1.14 -> 0 | I39: =H39*C39 -> 0
A40: 27 | B40: After Hours Services | C40: 9 | E40: =D40*1.14 -> 0 | F40: =E40*C40 -> 0 | H40: =G40*1.14 -> 0 | I40: =H40*C40 -> 0
A41: 28 | B41: Additional Ad-hoc Reports (per report) | E41: =D41*1.14 -> 0 | F41: =E41*C41 -> 0 | H41: =G41*1.14 -> 0 | I41: =H41*C41 -> 0
A42: 29 | B42: Customised Reports (per report) | E42: =D42*1.14 -> 0 | F42: =E42*C42 -> 0 | H42: =G42*1.14 -> 0 | I42: =H42*C42 -> 0
A43: 30 | B43: Travel Lodge card Reconciliation | E43: =D43*1.14 -> 0 | F43: =E43*C43 -> 0 | H43: =G43*1.14 -> 0 | I43: =H43*C43 -> 0
A44: 31 | B44: Debtors Account Reconciliation | E44: =D44*1.14 -> 0 | F44: =E44*C44 -> 0 | H44: =G44*1.14 -> 0 | I44: =H44*C44 -> 0
A45: 32 | B45: Conference venue bookings | C45: 10 | E45: =D45*1.14 -> 0 | F45: =E45*C45 -> 0 | H45: =G45*1.14 -> 0 | I45: =H45*C45 -> 0
...

Sheet Price Declaration 
A8: RFP NO: | C8: ='COVER SHEET'!$E$17 -> NERSA-2425-FMG-TAA-BID009
A9: RFP NAME: | C9: ='COVER SHEET'!$E$19 -> THE APPOINTMENT OF TRAVEL MANAGEMENT SERVICES LOCALLY AND INTERNATIONALLY TO THE NATIONAL ENERGY REGULATOR OF SOUTH AFRICA (NERSA) FOR A PERIOD OF THREE (3) YEARS
A10: BIDDER NAME | C10: ='COVER SHEET'!$E$21 -> <NAME OF BIDDER TO BE FILLED IN HERE>
A13: Price Declaration
A14: Dear Sir/Madam,
A16: Having read through and examined the Request For Proposal (RFP) Document, the General Conditions, The Requirement and all other Annexures to the RFP Document, we offer to provide OFF-SITE travel management service to the NERSA at the following total amounts (including VAT)
A18: Template 1: Transaction Fee (On-Site)
C19: (incl. VAT)
A20: In words:
A24: Template 2: Transaction Fee (Off-Site)
A25: ='2. TRANSACTION FEE OFFSITE '!E53 -> 0 | C25: (incl. VAT)
A26: In words:
A30: Template 3: Management Fee (On-Site)
C31: (incl. VAT)
A32: In words:
A36: Template 4: Management Fee (Off-Site)
C37: (incl. VAT)
A38: In words:
A41: We undertake to hold this offer open for acceptance for a period of 120 days from the date of submission of offers. We further undertake that upon final acceptance of our offer, we will commence with the provision of service when required to do so by the NERSA
A43: We understand that NERSA are not bound to accept the lowest or any offer and that we must bear all costs which we have incurred in connection with preparing and submitting this bid.
A45: We hereby undertake for the period during which this bid remains open for acceptance not to divulge to any persons, other than the persons to which the bid is submitted, any information relating to the submission of this bid or the details therein except where such is necessary for the submission of this bid.
A47: Signature | E47: Date
A48: Print name of signatory: …………………………………………………………………………….
A49: Designation: ………………………………………………………………………………………….
A51: FOR AND ON BEHALF OF:
A53: Tel No: ……………………………………….
A54: Fax No: ……………………………………….
A55: Cell No: ……………………………………….
A56: Email:………………………………………….
