Workbook
Name Print_Area_MI: '[1]SEC-A'!#REF!
Name Print_Area_MI: 'SEC-B'!#REF!
Name Print_Area_MI: 'SEC-C'!#REF!
Name Print_Area_MI: 'SEC-D'!#REF!
Name Print_Area_MI: 'SEC-E'!#REF!
Name Print_Area_MI: 'SEC-F'!#REF!
Name Print_Area_MI: SUMMARY!#REF!
Name Print_Area_MI: 'SEC-A'!#REF!

Sheet SUMMARY
A1: CLIENT: KOPANONG LOCAL MUNICIPALITY
A2: CONTRACT NO. MIG/FS1184/CF/17/19
A3: UPGRADING OF PHILIPPOLIS SPORTS FACILITY
A4: ENGINEER: SOLENG (PTY) LTD
A5: SCHEDULE: SUMMARY PAGE
A7: SECTION | B7: DESCRIPTION | C7: AMOUNT
A10: A | B10: PRELIMINARIES & GENERALS | C10: ='SEC-A'!H107 -> 116800
A12: B | B12: SITEWORKS, ROADS AND LANDSCAPING | C12: ='SEC-B'!H143 -> 0
A14: C | B14: ATHLETICS TRACK, SOCCER PITCH & COMBINATION COURTS | C14: ='SEC-C'!H154 -> 0
A16: D | B16: ='SEC-D'!A5 -> SCHEDULE D: CHANGE ROOMS | C16: ='SEC-D'!H410 -> 45000
A18: E | B18: ='SEC-E'!A5 -> SCHEDULE E: SECURITY GATE & TOILETS | C18: ='SEC-E'!H259 -> 30000
A20: F | B20: INTERCONNECTING PIPEWORK AND BOXES | C20: ='SEC-F'!H184 -> 0
A22: G | B22: GRAND STAND | C22: ='SEC - G'!H116 -> 195000
A24: H | B24: ='SEC - H'!A5 -> SCHEDULE H: CARETAKER HOUSE | C24: ='SEC - H'!H407 -> 15000
A26: I | B26: FENCING AND DETAILS | C26: ='SEC - I'!H57 -> 0
A28: SUB-TOTAL 1 | C28: =SUM(C9:C27) -> 401800
A29: PLUS: Allowance for 10% Contingencies | C29: =C28*0.1 -> 40180
A30: SUB-TOTAL 2 | C30: =C28+C29 -> 441980
A31: PLUS: Allowance for 15% VAT | C31: =C30*0.15 -> 66297
A32: TOTAL CONSTRUCTION COSTS CARRIED FORWARD TO PAGE OF OFFER | C32: =C30+C31 -> 508277

Sheet SEC-A
A1: CLIENT: KOPANONG LOCAL MUNICIPALITY
A2: CONTRACT NO. MIG/FS1184/CF/17/19
A3: UPGRADING OF PHILIPPOLIS SPORTS FACILITY
A4: ENGINEER: SOLENG (PTY) LTD
A5: SCHEDULE A: PRELIMINARY AND GENERAL
A7: ITEM | B7: PAYMENT | C7: DESCRIPTION | D7: LIC | E7: UNIT | F7: QTY | G7: RATE | H7: AMOUNT
A8: NO | B8: CLAUSE
A9: A.1 | B9: SANS
B10: 1200A | C10: FIXED CHARGED ITEMS
B11: 8.3
A12: A.1.1 | B12: 8.3.1 | C12: contractual requirements | E12: sum | F12: 1 | H12: =G12*F12 -> 0
B14: 8.3.2 | C14: ESTABLISH FACILITIES ON THE SITE
B15: 8.3.2.1 | C15: FACILITIES FOR THE ENGINEER
A17: A.1.2 | B17: PSAB 3.1 | C17: name board | E17: no | F17: 1 | H17: =G17*F17 -> 0
A18: A.1.3 | B18: PSAB 3.2 | C18: engineer's office and facilities as per clause PS AB 3.2 | E18: sum | F18: 1 | H18: =G18*F18 -> 0
A19: A.1.4 | B19: PSAB 4.1 | C19: telephone (provisional item) | E19: prov. Sum | F19: 1 | G19: 5000 | H19: =G19*F19 -> 5000
A20: A.1.5 | C20: contractor's mark up on Item A.1.4 above | E20: % | G20: =H19 -> 5000 | H20: =G20*F20 -> 0
B22: 8.3.2.2 | C22: FACILITIES FOR CONTRACTOR
A24: A.1.6 | C24: office and storage sheds | E24: sum | F24: 1 | H24: =G24*F24 -> 0
A25: A.1.7 | C25: workshops | E25: sum | F25: 1 | H25: =G25*F25 -> 0
A26: A.1.8 | C26: living accommodation | E26: sum | F26: 1 | H26: =G26*F26 -> 0
A27: A.1.9 | C27: ablution and toilet facilities | E27: sum | F27: 1 | H27: =G27*F27 -> 0
A28: A.1.10 | C28: tools and equipment | E28: sum | F28: 1 | H28: =G28*F28 -> 0
A29: A.1.11 | C29: water supply, eclectic power and communications | E29: sum | F29: 1 | H29: =G29*F29 -> 0
A30: A.1.12 | C30: dealing with water (sub clause PSA 5.5 & PS D 5.2.7) | E30: sum | F30: 1 | H30: =G30*F30 -> 0
A31: A.1.13 | C31: access | E31: sum | F31: 1 | H31: =G31*F31 -> 0
A32: A.1.14 | C32: other fixed charged obligations (please specify) | E32: sum | F32: 1 | H32: =G32*F32 -> 0
A33: A.1.15 | C33: remove engineer's and contractor's site establishment on | E33: sum | F33: 1 | H33: =G33*F33 -> 0
C34: completion of contract
A36: A.2 | B36: 8.4 | C36: TIME RELATED ITEMS
A38: A.2.1 | B38: 8.4.1 | C38: contractual requirements | E38: Months | F38: 4 | H38: =G38*F38 -> 0
B40: 8.4.2 | C40: OPERATION AND MAINTENANCE OF
C41: FACILITIES ON SITE FOR DURATION OF
C42: CONSTRUCTION
B44: 8.4.2.1 | C44: FACILITIES FOR ENGINEER
A46: A.2.2 | B46: PSAB 3.1 | C46: name board | E46: Months | F46: 4 | H46: =G46*F46 -> 0
A47: A.2.3 | B47: PSAB 3.2 | C47: engineer's office and facilities | E47: Months | F47: 4 | H47: =G47*F47 -> 0
A48: A.2.4 | B48: PSAB 4.1 | C48: telephone (provisional item) | E48: prov. Sum | F48: 1 | G48: =200*4 -> 800 | H48: =G48*F48 -> 800
A49: A.2.5 | C49: contractor's mark up on Item A.2.4 above | E49: % | G49: =H48 -> 800 | H49: =G49*F49 -> 0
B51: 8.4.2.2 | C51: FACILITIES FOR CONTRACTOR FOR THE DURATION OF
...

Sheet SEC-B
A1: ='SEC-A'!A1 -> CLIENT: KOPANONG LOCAL MUNICIPALITY
A2: ='SEC-A'!A2 -> CONTRACT NO. MIG/FS1184/CF/17/19
A3: ='SEC-A'!A3 -> UPGRADING OF PHILIPPOLIS SPORTS FACILITY
A4: ='SEC-A'!A4 -> ENGINEER: SOLENG (PTY) LTD
A5: SCHEDULE B: SITE WORKS, ROADS, LANDSCAPING AND FENCING
A7: ITEM | B7: PAYMENT | C7: DESCRIPTION | D7: LIC | E7: UNIT | F7: QTY | G7: RATE | H7: AMOUNT
A8: NO | B8: CLAUSE
A10: B.1 | B10: SANS
B11: 1200C | C11: SITE CLEARANCE
A13: B.1.1 | B13: 8.2.1 | C13: clear area and grub small trees and bushes for buildings, roads and paving and maintain clean for the duration of the project. | D13: LIC | E13: m² | F13: =1600 -> 1600 | H13: =G13*F13 -> 0
B15: 8.2.2 | C15: REMOVE AND GRUB LARGE TREES AND TREE STUMPS OF GIRTH
A17: B.1.2 | B17: (a) | C17: over 1 m and up to 2 m | E17: no | F17: 1 | H17: =G17*F17 -> 0
A18: B.1.3 | B18: 8.2.4 | C18: reclear surfaces (provisional) (where ordered by the Engineer) | D18: LIC | E18: m² | F18: 25 | H18: =G18*F18 -> 0
B20: SANS | C20: EARTHWORKS
B21: 1200D
A22: B.2 | B22: 8.3.2 | C22: EXCAVATION
A24: B.2.1 | B24: 8.3.1.2 | C24: remove topsoil to nominal depth of 100 mm, stockpile and maintain | E24: m³ | F24: 50 | H24: =G24*F24 -> 0
C26: BULK EARTHWORKS
B28: 8.3.2(a) | C28: EXCAVATE IN ALL MATERIALS AND USE FOR EMBANKMENT, TERRACE CONSTRUCTION, BACKFIL OR DISPOSE WITHIN 1.5 km
A30: B.2.2 | C30: cut to fill for forming terraces compacted to 93% MOD AASHTO density | E30: m³ | F30: 50 | H30: =G30*F30 -> 0
A31: B.2.3 | C31: cut to stockpile for forming terraces (only when ordered) | E31: m³ | F31: 50 | H31: =G31*F31 -> 0
A32: B.2.4 | C32: stockpile to fill for forming terraces (only when ordered) compacted to 93% MOD AASHTO density | E32: m³ | F32: 50 | H32: =G32*F32 -> 0
A33: B.2.5 | C33: cut to spoil | E33: m³ | F33: 25 | H33: =G33*F33 -> 0
B35: 8.3.3(b) | C35: EXTRA OVER ITEMS B.2.2 to B.2.5 FOR EXCAVATIONS IN:
A37: B.2.6 | C37: hard Intermediate material | E37: m³ | F37: 50 | H37: =G37*F37 -> 0
A38: B.2.7 | C38: hard rock material | E38: m³ | F38: 10 | H38: =G38*F38 -> 0
A39: B.2.8 | B39: 8.3.6 | C39: overhaul (provisional) | E39: m³km | F39: =F38*5 -> 50 | H39: =G39*F39 -> 0
C41: STORMWATER TRENCH CONSTRUCTION
A43: B.2.9 | C43: construct stormwater cut-off trench or mitre drain complete with | D43: LIC | E43: m | F43: 200 | H43: =G43*F43 -> 0
C44: cross section
A46: B.3 | C46: LANDSCAPING AND GRASSING
B48: PSVA 8.3 | C48: PREPARING AREAS FOR GRASSING
A50: B.3.1 | C50: scarifying area to receive grassing (horizontal and sloping) | E50: m² | F50: 300 | H50: Rate Only
C52: SUB-TOTAL CARRIED FORWARD | H52: =SUM(H9:H51) -> 0
C54: brought forward | H54: =H52 -> 0
A56: B.4 | B56: SANS 1200MJ | C56: CONCRETE BLOCK PAVING AROUND STRUCTURES ON TERRACES
A58: B.4.1 | C58: preparation of area to be paved | E58: m² | F58: 500 | H58: =G58*F58 -> 0
A59: B.4.2 | B59: 8.2.2 | C59: construction of paving with 60 mm thick concrete blocks (natural colour) including sandbed complete | D59: LIC | E59: m² | F59: 500 | H59: Rate Only
A60: B.4.3 | B60: 8.2.1 | C60: extra over item B.4.2 for provision and installation of edge restraints consisting of kerbing as per SANS 927 Fig. 6 | D60: LIC | E60: m | F60: 500 | H60: =G60*F60 -> 0
B62: 8.2.3 | C62: CUTTING UNITS TO FIT EDGE RESTRAINTS
...

Sheet SEC-C
A1: ='SEC-A'!A1 -> CLIENT: KOPANONG LOCAL MUNICIPALITY
A2: ='SEC-A'!A2 -> CONTRACT NO. MIG/FS1184/CF/17/19
A3: ='SEC-A'!A3 -> UPGRADING OF PHILIPPOLIS SPORTS FACILITY
A4: ='SEC-A'!A4 -> ENGINEER: SOLENG (PTY) LTD
A5: SCHEDULE C: ATHLETICS TRACK, SOCCER PITCH & COMBINATION COURTS
A7: ITEM | B7: PAYMENT | C7: DESCRIPTION | D7: LIC | E7: UNIT | F7: QTY | G7: RATE | H7: AMOUNT
A8: NO | B8: CLAUSE
A10: C.1 | B10: SANS
B11: 1200C | C11: SITE CLEARANCE
A12: C.1.1 | B12: 8.2.1 | C12: clear and grub small trees and bushes | D12: LIC | E12: m² | F12: 100 | H12: =G12*F12 -> 0
A13: C.1.2 | C13: clear and grub strip 0.5m to 1 m wide for pipeline | D13: LIC | E13: m² | F13: 25 | H13: =G13*F13 -> 0
B15: 8.2.2 | C15: REMOVE AND GRUB LARGE TREES AND TREE STUMPS OF GIRTH
A16: C.1.3 | B16: (a) | C16: over 1 m and up to 2 m | E16: no | F16: 1 | H16: =G16*F16 -> 0
A17: C.1.4 | B17: 8.2.4 | C17: reclear surfaces (provisional) (where ordered by the Engineer) | D17: LIC | E17: m² | F17: 10 | H17: =G17*F17 -> 0
B19: SANS | C19: EARTHWORKS
B20: 1200D
A21: C.2 | B21: 8.3.2 | C21: EXCAVATION
A22: C.2.1 | B22: 8.3.1.2 | C22: remove topsoil to nominal depth of 100 mm, stockpile and maintain | E22: m² | F22: 0 | H22: =G22*F22 -> 0
C24: BULK EARTHWORKS
B26: 8.3.2(a) | C26: EXCAVATE IN ALL MATERIALS & USE FOR EMBANKMENT, TERRACE CONSTRUCTION, BACKFIL OR DISPOSE WITHIN 1.5 km
A28: C.2.2 | C28: cut to fill for forming terraces compacted to 93% MOD AASHTO density | E28: m³ | F28: =270*4*0.45 -> 486 | H28: =G28*F28 -> 0
A29: C.2.3 | C29: cut to stockpile for forming terraces (only when ordered) | E29: m³ | F29: 500 | H29: =G29*F29 -> 0
A30: C.2.4 | C30: stockpile to fill for forming terraces (only when ordered) compacted to 93% MOD AASHTO density | E30: m³ | F30: 55 | H30: =G30*F30 -> 0
A31: C.2.5 | C31: cut to spoil | E31: m³ | F31: 50 | H31: =G31*F31 -> 0
B33: 8.3.3(b) | C33: EXTRA OVER ITEMS C.2.2 to C.2.5 FOR EXCAVATIONS IN:
A35: B.2.6 | C35: hard Intermediate material | E35: m³ | F35: 90 | H35: =G35*F35 -> 0
A36: C.2.7 | C36: hard rock material | E36: m³ | F36: 30 | H36: =G36*F36 -> 0
A37: C.2.8 | B37: 8.3.6 | C37: overhaul (provisional) | E37: m³km | F37: =100*5 -> 500 | H37: =G37*F37 -> 0
C39: STORMWATER TRENCH CONSTRUCTION
A40: C.2.9 | C40: construct stormwater cut-off trench or mitre drain complete with | D40: LIC | E40: m | F40: 100 | H40: =G40*F40 -> 0
C41: cross section as detailed on dwg 1184/01/02 including setting out
A43: C.3 | C43: LANDSCAPING AND GRASSING
H44: 0
B45: PSVA 8.3 | C45: SURFACE PREPARATION (Soccer & Athletic Track)
A46: C.3.1 | C46: Gravel Wearing Course (Stabilised G7 Material) applied and compacted in 150mm thickness to 93% Mod. AASHTO ( on horizontal and sloping areas) | E46: m³ | F46: =14500*0.25 -> 3625 | H46: =G46*F46 -> 0
C48: TOPSOILING ON HORIZONTAL AND SLOPING SURFACES WITH:
A49: C.3.2 | C49: topsoil obtained from the stockpile (100 mm thick) | E49: m³ | F49: =F46*0.1 -> 362.5 | H49: Rate Only
A50: C.3.3 | C50: topsoil obtained from borrow areas within a freehaul distance of 1.5 | E50: m³ | F50: 50 | H50: Rate Only
C51: km
C53: SUPPLYING AND APPLYING CHEMICAL FERTILIZER @ 50 g/m² ON HORIZONTAL AND SLOPING SURFACES
...

Sheet SEC-D
A1: ='SEC-A'!A1 -> CLIENT: KOPANONG LOCAL MUNICIPALITY
A2: ='SEC-A'!A2 -> CONTRACT NO. MIG/FS1184/CF/17/19
A3: ='SEC-A'!A3 -> UPGRADING OF PHILIPPOLIS SPORTS FACILITY
A4: ='SEC-A'!A4 -> ENGINEER: SOLENG (PTY) LTD
A5: SCHEDULE D: CHANGE ROOMS
A7: ITEM | B7: PAYMENT | C7: DESCRIPTION | D7: LIC | E7: UNIT | F7: QTY | G7: RATE | H7: AMOUNT
A8: NO | B8: CLAUSE
A10: D.1 | B10: SANS
B11: 1200D | C11: EARTHWORKS
A13: D.1.1 | C13: EXCAVATIONS
A14: D.1.1.1 | B14: 8.3.3(a) | C14: Excavate in compacted pick able material as defined not exceeding 2 m deep below reduced or filled up ground level, part return, fill in and ram and remainder deposit on site where directed. | D14: LIC | E14: m3 | F14: 20 | H14: =G14*F14 -> 0
A15: D.1.1.2 | B15: 8.3.3(b) | C15: Excavate for surface trenches. | D15: LIC | E15: m3 | F15: 8 | H15: =G15*F15 -> 0
B17: 1200G | C17: Excavation in earth not exceeding 2m deep:
A18: D.1.1.3 | C18: Excavate in earth not exceeding 2 m deep in reduced ground level. | E18: m3 | F18: 1 | H18: =G18*F18 -> 0
C20: Extra over trench and hole excavations in earth for excavation
A21: D.1.1.4 | B21: 8.4.3 | C21: Soft rock as described. | E21: m3 | F21: 0.5 | H21: =G21*F21 -> 0
A23: D.1.1.5 | C23: Hard rock as described. | E23: m3 | F23: 1 | H23: =G23*F23 -> 0
C25: Extra over all excavations for carting away
A26: D.1.1.6 | C26: Surplus material from excavations and / or stockpiles on site to a dumping site to be located by the contractor | E26: m3 | F26: 12 | H26: =G26*F26 -> 0
C28: FILLING, ETC: | H28: =G28*F28 -> 0
C30: Earth filling obtained from the excavations
A31: D.1.1.7 | C31: Excavated material in backfill, saturated to optimum moisture content and compacted to 93% modified AASHTO under surface beds. | D31: LIC | E31: m3 | F31: 10 | H31: =G31*F31 -> 0
C33: Compaction of surfaces : | H33: =G33*F33 -> 0
A34: D.1.1.8 | C34: Scarify to a depth of 150mm, level and compact earth under solid floors, etc. | D34: LIC | E34: m2 | F34: 40 | H34: =G34*F34 -> 0
C36: Earth filling imported by the contractor
A38: D.1.1.9 | C38: Earth filling, saturated to optimum moisture content and compacted to 95% modified AASHTO under raft foundations. | D38: LIC | E38: m3 | F38: 6 | H38: =G38*F38 -> 0
C40: Approved weed killer in strict accordance with manufacturers instructions
A41: D.1.1.10 | C41: Under floors, pavings, etc. including forming and poisoning shallow furrows against foundation walls etc., filling in furrows and ramming. | D41: LIC | E41: m2 | F41: 82 | H41: =G41*F41 -> 0
A43: D.2 | C43: REINFORCED CONCRETE CAST AGAINST EXCAVATED SURFACES
C44: 20 MPa/19 mm concrete
A46: D.2.1 | C46: Strip footings (Provisional) | D46: LIC | E46: m3 | F46: 7 | H46: =G46*F46 -> 0
C48: REINFORCED CONCRETE
C49: 20 MPa/19 mm concrete
H50: =G50*F50 -> 0
A51: D.2.2 | C51: Surface beds cast on waterproofing | D51: LIC | E51: m3 | F51: 4 | H51: =G51*F51 -> 0
A52: D.2.3 | C52: In apron | D52: LIC | E52: m3 | F52: 2 | H52: =G52*F52 -> 0
A53: D.2.4 | C53: 100mm thick pavings in panels | D53: LIC | E53: m2 | F53: 1 | H53: =G53*F53 -> 0
C55: Strike off and cure
H56: =G56*F56 -> 0
A57: D.2.5 | C57: Strike off and curing of concrete paving and leave a broom swept non-slip finish | D57: LIC | E57: m2 | F57: 30 | H57: =G57*F57 -> 0
...

Sheet SEC-E
A1: ='SEC-A'!A1 -> CLIENT: KOPANONG LOCAL MUNICIPALITY
A2: ='SEC-A'!A2 -> CONTRACT NO. MIG/FS1184/CF/17/19
A3: ='SEC-A'!A3 -> UPGRADING OF PHILIPPOLIS SPORTS FACILITY
A4: ='SEC-A'!A4 -> ENGINEER: SOLENG (PTY) LTD
A5: SCHEDULE E: SECURITY GATE & TOILETS
A7: ITEM | B7: PAYMENT | C7: DESCRIPTION | D7: LIC | E7: UNIT | F7: QTY | G7: RATE | H7: AMOUNT
A8: NO | B8: CLAUSE
B10: SANS
A11: E.1 | B11: 1200D | C11: EARTHWORKS
C13: EXCAVATIONS
B14: 8.3.3(a) | C14: Excavate in compacted pick able material as defined not exceeding 2 m deep below reduced or filled up ground level, part return, fill in and ram and remainder deposit on site where directed.
A16: E.1.1 | C16: Excavate for surface trenches. | D16: LIC | E16: m3 | F16: 6 | H16: =G16*F16 -> 0
B17: 8.3.3(b)
C18: Excavation in earth not exceeding 2m deep:
A19: E.1.2 | C19: Excavate in earth not exceeding 2 m deep in reduced ground level. | E19: m3 | F19: 2 | H19: =G19*F19 -> 0
B20: 1200G
C21: Extra over trench and hole excavations in earth for excavation
A22: E.1.3 | B22: 8.4.3 | C22: Soft rock as described. | E22: m3 | F22: 0.5 | H22: =G22*F22 -> 0
C24: Extra over all excavations for carting away
A25: E.1.4 | C25: Surplus material from excavations and / or stockpiles on site to a dumping site to be located by the contractor | E25: m3 | F25: 4 | H25: =G25*F25 -> 0
C27: FILLING, ETC:
C29: Earth filling obtained from the excavations
A30: E.1.5 | C30: Excavated material in backfill, saturated to optimum moisture content and compacted to 93% modified AASHTO under surface beds. | D30: LIC | E30: m3 | F30: 3 | H30: =G30*F30 -> 0
C32: Earth filling imported by the contractor
A33: E.1.6 | C33: Earth filling, saturated to optimum moisture content and compacted to 95% modified AASHTO under raft foundations. | D33: LIC | E33: m3 | F33: 1 | H33: =G33*F33 -> 0
A35: E.2 | C35: BRICKWORK IN CEMENT MORTAR | H35: =G35*F35 -> 0
C36: Brickwork of NFX bricks (14 MPa nominal compressive
C37: strength) in class I mortar in foundations (Provisional)
A39: E.2.1 | B39: 8.2.18 | C39: One brick wall | D39: LIC | E39: m2 | F39: 6 | H39: =G39*F39 -> 0
C41: Brickwork of NFP bricks in class II mortar | H41: =G41*F41 -> 0
H42: =G42*F42 -> 0
A43: E.2.2 | C43: One brick wall. | D43: LIC | E43: m2 | F43: 27 | H43: =G43*F43 -> 0
A44: E.2.3 | C44: One brick walls above wall plate level | D44: LIC | E44: m2 | F44: 2 | H44: =G44*F44 -> 0
A46: E.3 | B46: PSPB | C46: BRICKWORK SUNDRIES
B47: 8.2.17 | C47: Brick reinforcement | H47: =G47*F47 -> 0
A49: E.3.1 | C49: 150mm 'Brick force' into One Brick walls | D49: LIC | E49: m | F49: 120 | H49: =G49*F49 -> 0
A50: E.3.2 | C50: 150mm 'Brick force' into One Brick walls in foundations (Provisional) | D50: LIC | E50: m | F50: 60 | H50: =G50*F50 -> 0
C52: Pre-stressed fabricated lintels
A53: E.3.3 | C53: 110 x 75 mm Lintels in lengths not exceeding 3 m | D53: LIC | E53: m | F53: 16 | H53: =G53*F53 -> 0
C55: Turning pieces
...

Sheet SEC-F
A1: ='SEC-A'!A1 -> CLIENT: KOPANONG LOCAL MUNICIPALITY
A2: ='SEC-A'!A2 -> CONTRACT NO. MIG/FS1184/CF/17/19
A3: ='SEC-A'!A3 -> UPGRADING OF PHILIPPOLIS SPORTS FACILITY
A4: ='SEC-A'!A4 -> ENGINEER: SOLENG (PTY) LTD
A5: SCHEDULE F: INTERCONNECTING PIPEWORK AND BOXES
A7: ITEM | B7: PAYMENT | C7: DESCRIPTION | D7: LIC | E7: UNIT | G7: RATE | H7: AMOUNT
A8: NO | B8: CLAUSE
A10: F.1 | B10: SANS | C10: EARTHWORKS (PIPE TRENCHES)
B11: 1200DB
B12: 8.3.2 | C12: EXCAVATION
B14: 8.3.2(a) | C14: EXCAVATE IN ALL MATERIALS FOR TRENCHES,
C15: BACKFILL AND COMPACT, INCLUDING DISPOSAL
C16: OF SURPLUS UITSUITABLE MATERIAL WITHIN
C17: THE FREEHAUL DISTANCE FOR PIPES, CABLE DUCTS
C18: AND PIPE SLEEVES
C20: UP TO 110mm DIAMETER FOR DEPTHS
C21: OVER AND UP TO:
A22: F.1.1 | C22: 0,0m - 1,0m | E22: m | F22: 300 | H22: =G22*F22 -> 0
A23: F.1.2 | C23: 1,0m - 2,0m | E23: m | F23: 50 | H23: =G23*F23 -> 0
C25: OVER 100mm UP TO 300mm DIAMETER FOR DEPTHS
A26: F.1.3 | C26: 0,0m - 1,0m | E26: m | F26: 10 | H26: =G26*F26 -> 0
A27: F.1.4 | B27: 8.3.2(b) | C27: extra over Item F.1.3 for excavation in hardrock material (provisional) | E27: m³ | F27: 100 | H27: =G27*F27 -> 0
A28: F.1.5 | B28: PSDB | C28: excavate by hand in soft material to expose existing services | E28: m³ | F28: 100 | H28: =G28*F28 -> 0
B29: 8.3.2(d)
A30: F.1.6 | B30: PSDB | C30: excavate and backfill by hand in restriced areas | E30: m³ | F30: 30 | H30: =G30*F30 -> 0
B31: 8.3.2 (e)
A32: F.1.7 | B32: 8.2.4 | C32: shoring of trenches where instructed by the engineer (shoring will be carried out on boths sides of the excavation but measured as a single linear meter. | E32: m | F32: 100 | H32: =G32*F32 -> 0
B34: 8.3.3.1 | C34: IMPORT BACKFILL MATERIALS FROM
A35: F.1.8 | B35: (a) | C35: other excavations on site | E35: m³ | F35: 25 | H35: =G35*F35 -> 0
A37: F.2 | B37: SANS | C37: MEDIUM PRESSURE PIPELINES
B38: 1200L
B39: 8.2.1 | C39: SUPPLY, HANDLE, LAY AND BED FOR FLEXIBLE PIPES
C41: uPVC class 6
A42: F.2.1 | C42: 110mm diameter class 6 | D42: LIC | E42: m | F42: 200 | H42: =G42*F42 -> 0
A43: F.2.2 | C43: 160mm diameter class 6 | D43: LIC | E43: m | F43: 50 | H43: Rate Only
B45: 8.2.2 | C45: SPECIALS AND FITTINGS
C46: SUPPLY, LAY, JOINT, BED FOR FLEXIBLE PIPES (DRAWING LB-1b) AND TEST, INCLUDING CUTTING PIPES SUPPLYING FLEXIBLE COUPLINGS AND CORROSION PROTECTION WHERE APPLICABLE
C48: EXTRA OVER ITEMS H.3.1 TO H.3.7 FOR PIPE LAYING
C49: uPVC 90° BENDS
A50: F.2.4 | C50: 110mm diameter | D50: LIC | E50: no | F50: 4 | H50: =G50*F50 -> 0
...

Sheet SEC - G
A1: ='SEC-A'!A1 -> CLIENT: KOPANONG LOCAL MUNICIPALITY
A2: ='SEC-A'!A2 -> CONTRACT NO. MIG/FS1184/CF/17/19
A3: ='SEC-A'!A3 -> UPGRADING OF PHILIPPOLIS SPORTS FACILITY
A4: ='SEC-A'!A4 -> ENGINEER: SOLENG (PTY) LTD
A5: SCHEDULE G: SPORTSFIELD GRAND STAND CONSTRUCTION
A7: ITEM | B7: PAYMENT | C7: DESCRIPTION | D7: LIC | E7: UNIT | F7: QTY | G7: RATE | H7: AMOUNT
A8: NO | B8: CLAUSE
A10: G.1 | B10: SANS 1200 C | C10: SITE CLEARANCE
A12: G.1.1 | B12: 8.2.1 | C12: Clear area and grub small trees and bushes for buildings, | E12: m2 | F12: 50 | H12: =G12*F12 -> 0
C13: and paving.
A15: G.2 | B15: SANS 1200 D | C15: EARTHWORKS
A17: G.2.1 | B17: 8.3.2 | C17: EXCAVATION
A19: G.2.1.1 | B19: 8.3.1.2 | C19: Remove topsoil to nominal depth of 100 mm, stockpile and | E19: m3 | F19: 15 | H19: =G19*F19 -> 0
C20: maintain
A22: G.2.1.2 | B22: 8.3.1.3 | C22: Trench. | E22: m3 | F22: 30 | H22: =G22*F22 -> 0
A24: G.2.2 | B24: 8.3.3(b) | C24: EXTRA OVER EXCAVATIONS IN:
A26: G.2.2.1 | C26: Soft rock material | E26: m3 | F26: 3 | H26: =G26*F26 -> 0
A28: G.2.2.2 | C28: Hard rock material | E28: m3 | F28: 2 | H28: =G28*F28 -> 0
A30: G.2.2.3 | C30: Carting away unwanted excavated material | E30: m3 | F30: 15 | H30: =G30*F30 -> 0
A32: G.2.3 | C32: COMPACTION OF SURFACES
A34: G.2.3.1 | C34: Carting away unwanted excavated material. | E34: m2 | F34: 12 | H34: =G34*F34 -> 0
A36: G.2.4 | C36: FILLING
C37: From commercial sources.
A39: G.2.4.1 | C39: Earth filling, saturated to optimum moisture content and | E39: m3 | F39: 10 | H39: =G39*F39 -> 0
C40: compacted to 95% modified AASHTO under structures.
C42: From excavated material.
A44: G.2.4.2 | C44: Earth filling, saturated to optimum moisture content and compacted | E44: m3 | F44: =(15*15*0.55)*2 -> 247.5 | H44: =G44*F44 -> 0
C45: to 95% modified AASHTO to sides of foundation walls,
C46: concrete columns, etc
A48: G.3 | C48: SPORTS FIELD STEEL GRANDSTAND
C50: The rate in this item shall include design, preparation of drawings, manufacture, fabricate, supply, deliver and install on site a structural Steel Grandstand Complete. The rate shall further included all welding tests, designs and production of shop drawings by the grand stand manufacture/specialist. All designs and drawings to be presented to the Client's Representative or Project Engineer for approval before manufacturing can commence. The Grand Stands shall be designed and manufactured to the following sizes:
A52: G.3.1 | C52: 6-Tier, 50 Seater Heavey Duty Structural Steel Grand Stand | E52: No. | F52: 2 | H52: =G52*F52 -> 0
C54: 5-Tier, 30 Seater Heavey Duty Structural Steel Grand Stand | E54: No. | F54: 2 | H54: =G54*F54 -> 0
H60: =SUM(H9:H59) -> 0
C61: SUB-TOTAL CARRIED FORWARD
C62: brought forward | H62: =H60 -> 0
A64: G.3.2 | C64: PAINTING ON METAL
C65: One coat Zinc Chromate Metal Primer, one coat Universal Undercoat and two coats enamel paint
A67: G.3.2.1 | C67: Painting of structural steel grands stand complete on all sides included all areas out of sight. | E67: No. | F67: 4 | H67: =G67*F67 -> 0
C69: Apply two coats of high-quality polyurethane paint to outdoor steel structures.
...

Sheet SEC - H
A1: ='SEC-A'!A1 -> CLIENT: KOPANONG LOCAL MUNICIPALITY
A2: ='SEC-A'!A2 -> CONTRACT NO. MIG/FS1184/CF/17/19
A3: ='SEC-A'!A3 -> UPGRADING OF PHILIPPOLIS SPORTS FACILITY
A4: ='SEC-A'!A4 -> ENGINEER: SOLENG (PTY) LTD
A5: SCHEDULE H: CARETAKER HOUSE
A7: ITEM | B7: PAYMENT | C7: DESCRIPTION | D7: LIC | E7: UNIT | F7: QTY | G7: RATE | H7: AMOUNT
A8: NO | B8: CLAUSE
B9: SANS
A10: H.1 | B10: 1200D | C10: EARTHWORKS
C12: EXCAVATIONS
B13: 8.3.3(a) | C13: Excavate in compacted pick able material as defined not exceeding 2 m deep below reduced or filled up ground level, part return, fill in and ram and remainder deposit on site where directed.
A15: H.1.1 | C15: Excavate for surface trenches. | E15: m3 | F15: 24 | H15: =G15*F15 -> 0
B16: 8.3.3(b) | D16: LIC
C17: Excavation in earth not exceeding 2m deep:
A18: H.1.2 | C18: Excavate in earth not exceeding 2 m deep in reduced ground level. | E18: m3 | F18: 8.5 | H18: =G18*F18 -> 0
B19: 1200G
C20: Extra over trench and hole excavations in earth for excavation
A21: H.1.3 | B21: 8.4.3 | C21: Soft rock as described. | E21: m3 | F21: 1 | H21: =G21*F21 -> 0
A23: H.1.4 | C23: Hard rock as described. | E23: m3 | F23: 0.5 | H23: =G23*F23 -> 0
C25: Extra over all excavations for carting away
A26: H.1.5 | C26: Surplus material from excavations and / or stockpiles on site to a dumping site to be located by the contractor | E26: m3 | F26: 13 | H26: =G26*F26 -> 0
C28: FILLING, ETC: | H28: =G28*F28 -> 0
C30: Earth filling obtained from the excavations
A31: H.1.6 | C31: Excavated material in backfill, saturated to optimum moisture content and compacted to 93% modified AASHTO under surface beds. | D31: LIC | E31: m3 | F31: 11 | H31: =G31*F31 -> 0
C33: Compaction of surfaces : | H33: =G33*F33 -> 0
A34: H.1.7 | C34: Scarify to a depth of 150mm, level and compact earth under solid floors, etc. | D34: LIC | E34: m2 | F34: 55 | H34: =G34*F34 -> 0
H35: =G35*F35 -> 0
C36: Earth filling imported by the contractor
A38: H.1.8 | C38: Earth filling, saturated to optimum moisture content and compacted to 95% modified AASHTO under raft foundations. | D38: LIC | E38: m3 | F38: 9 | H38: =G38*F38 -> 0
C40: Approved weed killer in strict accordance with manufacturers instructions
A41: H.1.9 | C41: Under floors, pavings, etc. including forming and poisoning shallow furrows against foundation walls etc., filling in furrows and ramming. | D41: LIC | E41: m2 | F41: 140 | H41: =G41*F41 -> 0
A43: H.2 | C43: REINFORCED CONCRETE CAST AGAINST EXCAVATED SURFACES
C44: 20 MPa/19 mm concrete
A46: H.2.1 | C46: Strip footings (Provisional) | D46: LIC | E46: m3 | F46: 8 | H46: =G46*F46 -> 0
C48: REINFORCED CONCRETE
C49: 20 MPa/19 mm concrete
H50: =G50*F50 -> 0
A51: H.2.2 | C51: Surface beds cast on waterproofing | D51: LIC | E51: m3 | F51: 6 | H51: =G51*F51 -> 0
A52: H.2.3 | C52: In apron | D52: LIC | E52: m3 | F52: 2.5 | H52: =G52*F52 -> 0
A53: H.2.4 | C53: 100mm thick pavings in panels | D53: LIC | E53: m2 | F53: 0.5 | H53: =G53*F53 -> 0
...

Sheet SEC - I
A1: ='[1]SEC-A'!A1 -> CLIENT: KOPANONG LOCAL MUNICIPALITY
A2: ='[1]SEC-A'!A2 -> CONTRACT NO. MIG/FS1184/CF/17/19
A3: ='[1]SEC-A'!A3 -> UPGRADING OF PHILIPPOLIS SPORTS FACILITY
A4: ='[1]SEC-A'!A4 -> ENGINEER: SOLENG (PTY) LTD
A5: SCHEDULE I: FENCING & DETAILS
A7: ITEM | B7: PAYMENT | C7: DESCRIPTION | D7: LIC | E7: UNIT | F7: QTY | G7: RATE | H7: AMOUNT
A8: NO | B8: CLAUSE
A10: I.1 | B10: SANS
B11: 1200C | C11: SITE CLEARANCE
A12: I.1.1 | C12: Clear and grub strip 0.5m to 1 m wide for fence | D12: LIC | E12: m² | F12: 250 | H12: =G12*F12 -> 0
B14: 8.2.2 | C14: REMOVE AND GRUB LARGE TREES AND TREE STUMPS OF GIRTH
A15: I.1.2 | B15: (a) | C15: over 1 m and up to 2 m | E15: no | F15: 1 | H15: =G15*F15 -> 0
A16: I.1.3 | B16: 8.2.4 | C16: Reclear surfaces (provisional) (where ordered by the Engineer) | D16: LIC | E16: m² | F16: 20 | H16: =G16*F16 -> 0
B18: SANS | C18: EARTHWORKS
B19: 1200D
A20: I.2 | B20: 8.3.2 | C20: EXCAVATION
C22: RESTRICTED EXCAVATION
A24: I.2.1 | C24: Excavate for holes, backfill and cart away unwanted material. | E24: m³ | F24: 15 | H24: =G24*F24 -> 0
B26: 8.3.3(b) | C26: EXTRA OVER ITEMS I.2.2 to I.2.5 FOR EXCAVATIONS IN:
A28: I.2.2 | C28: hard Intermediate material | E28: m³ | F28: 5 | H28: =G28*F28 -> 0
A29: I.2.3 | C29: hard rock material | E29: m³ | F29: 1 | H29: =G29*F29 -> 0
A31: I.3 | C31: CONCRETE
C33: STRENGTH CONCRETE 20/19
A35: I.3.1 | C35: 10MPa Concrete casted against concerete poles | E35: m³ | F35: 15 | H35: =G35*F35 -> 0
A36: I.3.2 | C36: 10MPa Concrete beam barrier casted underneath Clear view fence. The rate shall include shattering and making neat all edges of concrete, for which corners shall be chamfered to 25mm x 25mm | E36: m³ | F36: =140*0.15*0.15 -> 3.15 | H36: =G36*F36 -> 0
A38: I.4 | B38: PA8.2 | C38: SUPPLY AND ERECT NEW FENCE
A40: I.4.1 | C40: 1400 x 2400mm high precast concete panel fence complete with slabs and poles casted into concrete. | D40: LIC | E40: No | F40: 65 | H40: =G40*F40 -> 0
A41: I.4.2 | C41: 3050 x 2100mm high Medium security PVC coated welded mesh Clear View Type fence including all required fence posts, The fence shall be of Anti-Cut Non-penetratable mesh, fitted with Unti-Tamper Locks at gates and spikes across the lenth of the fencing. | D41: LIC | E41: m | F41: 140 | H41: =G41*F41 -> 0
C43: REPLACEMENT OF MISSING/ DAMAGED CONCRETE SLABS
A45: I.4.3 | C45: 1400 X 300mm precast concrete slabs as per manufacturer's specialist | D45: LIC | E45: no | F45: 30 | H45: =G45*F45 -> 0
A47: I.5 | B47: PA8.3 | C47: SUPPLY AND ERECT NEW GATES
A49: I.5.1 | C49: 12m x 2100mm high Medium security clear view vehicular sliding gate complete with rails and posts casted into concrete. This rate to include complete installation for both Concrete Fence and Clearview fencing. | D49: LIC | E49: no | F49: 2 | H49: =G49*F49 -> 0
A50: I.5.2 | C50: 1200mm x 2400mm high Medium security clear view pedestrian gate complete with all hinges and posts casted into concrete. This rate to include complete installation for both Concrete Fence and Clearview fencing. | D50: LIC | E50: no | F50: 3 | H50: =G50*F50 -> 0
A52: I.6 | B52: PA 8.5 | C52: DISMANTLE EXISTING FENCE & GATES
A54: I.6.1 | C54: dismantle existing fence, relocate and re-install at new position | E54: sum | F54: 1 | H54: =G54*F54 -> 0
C55: within 0,5km radius of site.
C57: TOTAL FOR SECTION C (CARRIED FORWARD TO SUMMARY) | H57: =SUM(H10:H55) -> 0
