Workbook
Name Consequence: '[1]Drop Down Lists'!$A$3:$A$8
Name Likelihood: '[1]Drop Down Lists'!$B$3:$B$7
Name RCE: '[1]Drop Down Lists'!$D$3:$D$7

Sheet Contractors
A3: Occupational Health and Safety Baseline risk assessment template
A4: Business Unit | B4: East Grid | J4: Department: | K4: Transmission East Grid | U4: Next Review Date (every 2 years): | V4: 46142 | W4: Template identifier: | X4: 240-70044602
A6: Date: | B6: 45314 | J6: Prepared by: | K6: Nonkululeko Mabaso, Wiseman Xulu, Hendrick Madondo, Faith Dube and Gift Buthelethzi | M6: Authorised by: | O6: Name: Naresh Ramparshad | W6: Document identifier
O7: Designation:East Grid Manager | W7: Revision number: | X7: 5
O8: Date: | W8: Revision date: | X8: 46507
A9: Refer to Occupational Health and Safety Risk assessment procedure 32-520
A10: List activity | B10: Activity type (Routine/Non-routine) | C10: Hazard nr | D10: Hazard Identification | E10: Risk Nr | F10: Associated risk | G10: Risk type | H10: Cause(s) of the risk | I10: Exposed group/employees | J10: Risk Owner | K10: Exposure patterns | L10: What are the possible consequences? | M10: Existing Controls | P10: Risk Priority Rating | R10: Additional Controls or Tasks Aimed at improving Existing Controls | S10: Monitoring Mechanisms | T10: Control Owner | U10: Legal and Other Requirements | V10: Target Date | W10: Current Status | X10: Integrated Risk Management (IRM) reference number
A11: List specific activities to be performed taking into consideration the equipment to be used, the personnel involved in the task. | B11: Indicate R or N 1. Routine activities and situations create hazards through day-to-day operations and normal work activities; 2. Non-routine activities and situations are occasional or unplanned; | C11: # | D11: Anything with potential to cause of harm. Note: A hazard can pose more than one risk. | E11: # | F11: A chance that injury , ill health or damage could occur as a result of uncontrolled hazard. | G11: Safety or health | H11: What causes the risk to come into effect? | I11: Who is exposed to the hazard i.e. visitors, members of the public, etc. | J11: Who is accountable for making sure the controls and monitors are: - in place, - implemented, - regularly reviewed for effectiveness. | K11: The frequency and duration the person/group is exposed to the hazard e.g. Daily for 3 hrs. | L11: Consider the worse case scenario without controls? | M11: Include: - Preventative Controls (controls implemented to eliminate hazards or reduce the likelihood of the risk occurring), and - Reactive Controls (controls implemented to reduce the immediate impact of the risk occurring) Elimination Substitution Engineering controls Administrative controls Personal protective equipment (PPE) | N11: Consequence | O11: Likelihood | Q11: RCE Risk Control Effectiveness | R11: Include: - Preventative Controls (controls implemented to eliminate hazards or reduce the likelihood of the risk occurring), and - Reactive Controls (controls implemented to reduce the immediate impact of the risk occurring) Elimination Substitution Engineering controls Administrative controls Personal protective equipment (PPE) NB: The risk shall be evaluated, assessed and rated again once additional controls have been implemented and those controls listed as existing controls. | S11: How we know if we are succeeding. Include comments on effectiveness. This may include i.e. measurements, inspections, supervision where necessary. | T11: Person allocated the responsibility for implementing the agreed controls (if applicable) | U11: Where relevant, list the relevant legislative and or Eskom requirements that prescribe the control. | V11: Once a date has been agreed to, this can not be changed (if applicable) | W11: Pending, In Progress, Complete (if applicable) | X11: Where applicable, add IRM system reference number for tracking of treatment actions. (applicable to risks that have an impact on business objectives or require intervention from Senior or Executive management such as impementing major engineering projects as a control)
A12: Driving National road Public road Terrain / servitudes | B12: R | C12: 1 | D12: Sub standard Vehicles/ Unroad worthy Vehicles | E12: 1.1 | F12: Motor vehicle accident Property Damage | G12: Safety | H12: - Inadequate communication between Supervisor, Driver and fleet. - Lack of vehicle pre-trip inspection - Lack of vehicle maintenance - Vehicles not replaced as per the request | I12: Contractor employees | J12: Contractor Manager | K12: Daily, 3hrs | L12: Fatality; Lost Time Injury; Medical Incident Financial Loss | M12: Elimination: None Substitution: None Engineering controls: None Administrative controls: 1. Conduct awareness on Vehicle and Driver Safety Procedures 2. Defensive driver training (where the risk has been identified). 3. Travel Route Risk Assessment 4. Vehicle Inspection. 5. Driver Observation Personal protective equipment (PPE ):None | N12: 3 | O12: B | P12: III | Q12: Fully effective | R12: Elimination: None Substitution: None Engineering controls: None Administrative controls :Nothing more to be done except review and monitor the existing controls. Personal protective equipment (PPE):None | S12: 1. Vehicle Inspections 2. Audits 3. Keeping Maintanance records. | T12: Site Supervisor | U12: OHSA no. 85 of 1993 ( section 8 & 14) COIDA no. 130 of 1993 (Section 22, 38, 39, 41, 42 & 43) National Road Management Traffic Act 93 of 1996 (Section 63 & 64 ) 32-727 Eskom SHEQ policy; 32-95 Occupational Health and Safety Incident Management Procedure; 32-520 Occupational Health & Safety Risk Assessment Procedure; 240-62946386 Eskom Vehicle Safety and Driver Management procedure; 32-345 Eskom Vehicle Safety Specifications procedure; | V12: Not Applicable | W12: Not Applicable | X12: Not Applicable
B13: R | C13: 2 | D13: Excessive Driving/ travelling | E13: 2.1 | F13: Motor vehicle accidents Property Damage | G13: Safety | H13: - Not taking rest period when required - Prolonged driving (long distance driving); - Traffic congestion. Fatigue. | I13: Contractor employees | J13: Contractor Manager | K13: Daily, 3hrs | L13: Fatality Lost Time Injury Property damage Medical Financial Loss | M13: Elimination: None Substitution: None Engineering controls: None Administrative controls : 1. Video or teleconferencing 2. Check restrictions on the medical fitness certificate 3. Awareness training on Fatigue Management and Distractions 4. Travel Route Risk Assessment 6. encourage employees to declare when using medication that will affect the ability of the employee to drive 7. Campaigns on Vehicle and Driver safety Personal protective equipment (PPE ): None | N13: 3 | O13: B | P13: III | Q13: Fully effective | R13: Elimination: None Substitution: None Engineering controls: None Administrative controls :Nothing more to be done except review and monitor the existing controls. Personal protective equipment (PPE):None s | S13: 1. Onboard monitoring device 2. Medical fitness records. 3. Record Keeping. | T13: Site Supervisor | U13: OHSA no.85 of 1993( Section 8& 14); COIDA no. 130 of 1993 ( Section 22, 38, 39, 41, 42 & 43); National Road Management Traffic Act 93 of 1996 Section 63 & 64; 32-727 Eskom SHEQ policy; 32-95 Occupational Health and Safety Incident Management Procedure; 32-520 Occupational Health & Safety Risk Assessment Procedure; 240-62946386 Eskom Vehicle Safety and Driver Management procedure; 32-345 Eskom Vehicle Safety Specifications procedure; | V13: Not Applicable | W13: Not Applicable | X13: Not Applicable
B14: R | C14: 3 | D14: Failure to observe when reversing | E14: 3.1 | F14: Collision with an object while reversing/Motor vehicle accident; Property Damage | G14: Safety | H14: - Poor observation and judgement - Lack of concentration | I14: Contractor Employees | J14: Contractor Manager | K14: Daily; 30min | L14: Property damage, Lost time injury; Medical Incident; First Aid incident | M14: Elimination: None Substitution: None Engineering controls: None Administrative controls : Defencive Driving Have a guide when reversing. Pesonal Protective Equipment:None | N14: 3 | O14: B | P14: III | Q14: Fully effective | R14: Elimination: None Substitution: None Engineering controls: None Administrative controls :Nothing more to be done except review and monitor the existing controls. Personal protective equipment (PPE):None | S14: Behavioral Safety Observation. On board Monitoring Device, Reverse sensors. | T14: Site Supervisor | U14: OHSA no.85 of 1993 section 8 & 14 ; 240-62196227 Eskom life saving rules procedure; 240-62946386 Vehicle Driver Safety Management Procedure; 32-95 incident management Procedure; | V14: Not Applicable | W14: Not Applicable | X14: Not Applicable
B15: R | C15: 4 | D15: Substance abuse or driving under influence of alcohol | E15: 4.1 | F15: Motor vehicle accidents, property damage, Fatality | G15: Safety | H15: - Failure to adhere to road safety and Eskom rules (Life Saving Rule) | I15: Contractors Employees | J15: Contractor Manager | K15: Daily, 3hrs | L15: Lost Time Injury Medical Incident Property damage/ Fatality. Finacial Loss | M15: Elimination: None Substitution: None Engineering controls: None Administrative controls : 1. Drivers are not allowed to drive vehicle when under the influence of any intoxicating substances. 2. Awareness campaigns are coducted. Life saving rules are done and employees sign the acknowlegdment. 3. There is substance abuse standard and precautions are kept in place 4. Only medically fit drivers are allowed to drive. (Vehicle driversafety management procedure) 5. Substance abuse is prohibited to all employees and screening is constantly executed anytime anywhere to everyone (Substance abuse procedure). Personal Protective Control (PPE):None | N15: 3 | O15: B | P15: III | Q15: Fully effective | R15: Elimination: None Substitution: None Engineering controls: None Administrative controls :Nothing more to be done except review and monitor the existing controls. Personal protective equipment (PPE):None | S15: Alcohol Screening, Behavioral Safety Observation Drive Cam downloading Reports | T15: Site Supervisor | U15: OHSA no.85 f 1993 section 8 &14; - National Road Traffic Act, 1996 (Act No. 93 of 1996) - 240-62196227 Eskom life saving rules procedure - 240-62946386 Vehicle Driver Safety Management Procedure | V15: Not Applicable | W15: Not Applicable | X15: Not Applicable
B16: R | C16: 5 | D16: Negligent Driving and failure to follow road safety rules | E16: 5.1 | F16: Motor vehicle accidents, property damage, Fatality | G16: Safety | H16: - Negligence and recklessness - Overtaking unsafely leading to accidents - Talking on cellphone while driving leading to accidents | I16: Contractors Employees | J16: Contracttor Manager | K16: Daily, 3hrs | L16: Lost Time Injury , Fatality, Medicals Property damage | M16: Elimination: None Substitution: None Engineering controls: None Administrative controls 1. Monitor and analyse driver behaviour on Eskom Driver Behaviour Monitoring System and encourage good driving 2.Discuss good driver attitude in Safety meetings / departmental meetings 3. Compliance to Vehicle driver & safety management procedure 4.Compliance to National Road Traffic Act 5.Adherence to rules and procedures by utilising Drivecam 6. R17OBC is monitored. 7.Vehicle Safety Campaigns with External interested parties (Department of Transport & Tyre Companies) Personal protective equipment (PPE ):None | N16: 3 | O16: B | P16: III | Q16: Fully effective | R16: Elimination: None Substitution: None Engineering controls: None Administrative controls :Nothing more to be done except review and monitor the existing controls. Personal protective equipment (PPE):None | S16: Monitoring Behavior Systems Safety Observation | T16: Site Supervisor | U16: OHSA no. 85 of 1993 section 8 &14 ; National Road Traffic Act, 1996 (Act No. 93 of 1996) - 240-62196227 Eskom life saving rules procedure - 240-62946386 Vehicle Driver Safety Management Procedure | V16: Not Applicable | W16: Not Applicable | X16: Not Applicable
B17: R | C17: 6 | D17: Inexperienced Driver | E17: 6.1 | F17: Motor vehicle accidents, property damage, injuries | G17: Health | H17: - Lack of driver training - Lack of confidence & experience - Inadequate Risk assessment | I17: Contractors Employees | J17: Contractor Manager | K17: Daily, 3hrs | L17: Fatalities Lost Time Injury Medical Incident Property damage | M17: Elimination: None Substitution: None Engineering controls: None Administrative controls 1.All drivers are in possession of valid driver's licence. Drivers do undergo advanced driver training and driver evaluation before issued with Eskom driver permit or authorised to drive for Eskom business. - All inexperienced drivers are evaluated and Job Observed done before being issued with Driver permit Personal Protective Equipment:None | N17: 3 | O17: B | P17: III | Q17: Fully effective | R17: Elimination: None Substitution: None Engineering controls: None Administrative controls :Nothing more to be done except review and monitor the existing controls. Personal protective equipment (PPE):None | S17: Vehicle Inspection Inspection Audit Valid driver's licence Valid driver's permits | T17: Site Supervisor | U17: OHSA no.85 of 1993 section 8&14; National Road Traffic Act, 1996 (Act No. 93 of 1996) - 240-62196227 Acknowladgement of Eskom life saving rules no.3 procedure - 240-62946386 Vehicle Driver Safety Management Procedure . -East Grid Travel Route Risk assessment | V17: Not Applicable | W17: Not Applicable | X17: Not Applicable
B18: R | C18: 7 | D18: Medical Unfitness | E18: 7.1 | F18: Motor vehicle accidents, property damage, Fatality | G18: Health | H18: - Inadequate medical surveillance - Ignored restrictions. Unforeseen medical conditions | I18: Contractor employees | J18: Contractor Manager | K18: Daily, 3hrs | L18: Fatalities Lost Time Injury Medical Incident Property damage | M18: Elimination: None Substitution: None Engineering controls: None Administrative controls : 1.All drivers before allowed to drive for Eskom business must do driver risk assessment, medical surveillance and be in possession of valid driver licence. 2.Drivers are encouraged to inform their Managers/ Supervisors of any health conditions that render them unfit to drive. 3.Medical Centres confimation of restrictrictions on the Medical Fitness Certificates and implementation by Line Managers thereof Personal protective equipment (PPE ) : None | N18: 3 | O18: B | P18: III | Q18: Fully effective | R18: Elimination: None Substitution: None Engineering controls: None Administrative controls :Nothing more to be done except review and monitor the existing controls. Personal protective equipment (PPE):None | S18: Vehicle Inspection Audit Medical Fitness Certificates | T18: Site Supervisor | U18: OHSA no.85 of 1993 section 8&14; - National Road Traffic Act, 1996 (Act No. 93 of 1996) - 240-62196227 Eskom life saving rule No.3 procedure - 240-62946386 Vehicle Driver Safety Management Procedure - 32-95 Environmental, Occupational Health and Safety Incident Management Procedure - 32-285 Medical surveillance - 32-520 Occupational Health & Safety Risk Assessment Procedure | V18: Not Applicable | W18: Not Applicable | X18: Not Applicable
B19: R | C19: 8 | D19: Bad Weather Conditions | E19: 8.1 | F19: Poor visibility due to rain, mists, and slippery roads leading to accidents. | G19: Safety | H19: - Inadequate planning - Lack of driver experience | I19: Contractor employees | J19: Contractor Manager | K19: Depending on season or weather condition | L19: Fatality Lost Time Injury Medical Incident Property damage | M19: Elimination: None Substitution: None Engineering controls: None Administrative controls : Drivers conduct travel route risk assessment before travelling - Adjust speed as per the environmental weather condition. - Drivers are cautious when driving in an adverse weather condition and plan the routes properly and adjust accordingly when the weather changes. - Drivers check the weather forecast before travelling, and advised to cancel any trip if not safe to travel - Awareness are frequently done on driving in adverse weather condition Personal protective equipment (PPE ) : None - | N19: 3 | O19: B | P19: III | Q19: Fully effective | R19: Elimination: None Substitution: None Engineering controls: None Administrative controls :Nothing more to be done except review and monitor the existing controls. Personal protective equipment (PPE):None | S19: Observation Monitoring | T19: Site Supervisor | U19: OHSA no.85 of 1993 section 8&14; - National Road Traffic Act, 1996 (Act No. 93 of 1996) - 32-477 Safety Health and Environment Training and Development - 32-520 Occupational Health & Safety Risk Assessment Procedure - 32-95 Environmental, Occupational Health and Safety Incident Management Procedure | V19: Not Applicable | W19: Not Applicable | X19: Not Applicable
B20: R | C20: 9 | D20: Stray Animals | E20: 9.1 | F20: Crashing on animals with vehicles can lead to Motor vehicle accidents, property damage and injuries | G20: Safety | H20: - Inadequate Risk assessment - Driving very early in the morning or at night. - Overspeeding | I20: Contractor employees | J20: Contractor Manager | K20: Daily, 3hrs | L20: Lost Time Injury Medical Incident Property damage, Fatality. | M20: Elimination: None Substitution: None Engineering controls: None Administrative controls : 1.Employees are always on a look out of stray / wild animals and adjust speed where necessary as per the road warning signs. 2. Drivers conduct travel route risk assessment before travelling 3. Night driving avoided 4. Sharing of Lessons learnt from similar incidents Personal protective equipment (PPE):None | N20: 3 | O20: B | P20: III | Q20: Fully effective | R20: Elimination: None Substitution: None Engineering controls: None Administrative controls :Nothing more to be done except review and monitor the existing controls. Personal protective equipment (PPE):None | S20: Observation Incident Stats | T20: Site Supervisor | U20: - 240-62196227 Eskom life saving rules procedure - 32-520 Occupational Health & Safety Risk Assessment Procedure - 240-62946386 Vehicle Driver Safety Management Procedure -Travel Route Risk Assessment -32-95 Incident Management Procedure | V20: Not Applicable | W20: Not Applicable | X20: Not Applicable
B21: R | C21: 10 | D21: Substandard Road Conditions | E21: 10.1 | F21: Motor vehicle accident. | G21: Safety | H21: - Inadequate Travel Route Risk assessment - - Uneven, damaged and gravel road conditions and bad terrain - Poor vehicle maintenance | I21: Contractor employees | J21: Contractor Manager | K21: Daily, 3hrs | L21: Fatality Lost Time Injury Medical Incident Property damage | M21: Elimination: None Substitution: None Engineering controls: None Administrative controls 1.Caution is taken when driving in an uneven, damaged and gravel road conditions or an alternative route should be taken. 2.Speed get reduced as per road condition. 3. Prescribed speed limit and road warning signs are adhered to. 5. Adequate and regular maintenance of the vehicles 6.Eskom approved behaviour monitoring system has installed on vehicles to moniter driver's behavior on the road. Personal protective equipment (PPE):None | N21: 3 | O21: B | P21: III | Q21: Fully effective | R21: Elimination: None Substitution: None Engineering controls: None Administrative controls :Nothing more to be done except review and monitor the existing controls. Personal protective equipment (PPE):None | S21: Observation Incident Stats | T21: Site Supervisor | U21: OHSA no.85 of 1993 section 8&14; - National Road Traffic Act, 1996 (Act No. 93 of 1996) - 240-62946386 Vehicle Driver Safety Management Procedure - 32-520 Occupational Health & Safety Risk Assessment Procedure. -Travel Route Risk Assessment | V21: Not Applicable | W21: Not Applicable | X21: Not Applicable
A22: Interaction amongst employees (Refer to the Psychosocial Issues Risk Assessment for more details) | B22: N | C22: 11 | D22: Bullying | E22: 11.1 | F22: Compromised self eesteem causing depression and suicidal employees | G22: Safety | H22: Lack of interpersonal skills and relationship with other employees | I22: Contractor employees | J22: Contractor Manager | K22: Daily, 8hrs | L22: Fatality due to suicide Depression | M22: Elimination: None Substitution: None Engineering controls: None Administrative controls : 1. HR policies addressing bullying practices have been improved. 2. Awareness Personal protective equipment (PPE ):None | N22: 3 | O22: B | P22: III | Q22: Mostly effective | R22: Elimination: None Substitution: None Engineering controls: None Administrative controls Personal protective equipment (PPE ):None | S22: Audits by Full Time Health and Safety Representative EAP Cases | T22: Site Supervisor | U22: OHSA no.85 of 1993 section 8 & 14; - 240-43848327 Right to Refuse to Work in an unsafe condition procedure - 32-520 Occupational Health & Safety Risk Assessment Procedure - 32-477 Safety Health and Environment Training and Development - 32-95 Rev. 4 Environmental, Occupational Health and Safety Incident Management Procedure. | V22: March 2024 | W22: In Progress | X22: Not Applicable
B23: N | C23: 12 | D23: Drug abuse | E23: 12.1 | F23: Poor judgement leading to incidents | G23: Health | H23: Peer pressure | I23: Contractor employees | J23: Contractor Manager | K23: Daily, 8hrs | L23: Fatality due to suicide Depression | M23: Elimination: None Substitution: None Engineering controls: None Administrative controls 1.Self or Employer recommendations to visit Employee Assistant programme facilities always welcomed. 2. HR policies addressing bullying practices have been improved. 3. Awareness Personal protective equipment (PPE ):None | N23: 3 | O23: B | P23: III | Q23: Mostly effective | R23: Elimination: None Substitution: None Engineering controls: None Administrative controls: Finalise Psychosocial Issues Risk Assessment Personal protective equipment (PPE ):None | S23: Audits by Full Time Health and Safety Representative EAP Cases | T23: Site Supervisor | U23: OHSA No. 85 of 1993 section 8 ; -32-37 Eskom Substance Abuse Procedure - 32-520 Occupational Health & Safety Risk Assessment Procedure - 32-477 Safety Health and Environment Training and Development - 32-285 Medical surveillance - 32-95 Rev. 4 Environmental, Occupational Health and Safety Incident Management Procedure | V23: March 2024 | W23: In Progress | X23: Not Applicable
B24: N | C24: 13 | D24: Gender discrimination | E24: 13.1 | F24: Compromised self esteem | G24: Health | H24: Gender intolerance leading to suicidal employees | I24: Contractor employees | J24: Contractor Manager | K24: Daily, 8hrs | L24: Fatality due to suicide Depression | M24: Elimination: None Substitution: None Engineering controls: None Administrative controls : 1. Improvement awereness on HR polices 2.Managing gender based discrimination is implemented. Personal protective equipment (PPE):None | N24: 3 | O24: B | P24: III | Q24: Mostly effective | R24: Elimination: None Substitution: None Engineering controls: None Administrative controls : : Finalise Psychosocial Issues Risk Assessment Personal Protective Equipment(PPE):None | S24: Audits by Full Time Health and Safety Representative EAP Cases | T24: Site Supervisor | U24: OHSA No.85 of 1993 section 8; - 240-43848327 Right to Refuse to Work in an unsafe condition procedure - 32-520 Occupational Health & Safety Risk Assessment Procedure | V24: March 2024 | W24: In Progress | X24: Not Applicable
B25: N | C25: 14 | D25: Labour unrest | E25: 14.1 | F25: Employees fear for their lives or get injured and Eskom property/ Vehicle. | G25: Safety | H25: Poor service delivery | I25: Contractor employees | J25: Contractor Manager | K25: As and when they occur | L25: Fatalities Lost Time Injury Medical Incident | M25: Elimination: None Substitution: None Engineering controls: None Administrative controls: 1. Implementation of Emergency Preparedness Plan 2. Liaison with Security Intelligence 3. Local Police liaison with the organisation if there are road blocks around. 4. Employees use alternative roads for access Personal protective equipment (PPE):None | N25: 3 | O25: A | P25: IV | Q25: Fully effective | R25: Elimination: None Substitution: None Engineering controls: None Administrative controls Personal protective equipment (PPE ):None M | S25: Audits by Full Time Health and Safety Representative Reported cases | T25: Site Supervisor | U25: OHSA No.85 of 1993 section 8; - 240-43848327 Right to Refuse to Work in an unsafe condition procedure - 32-520 Occupational Health & Safety Risk Assessment Procedure | V25: Not Applicable | W25: Not Applicable | X25: Not Applicable
A26: Circuit Breaker Maintenance (Gas and oil breakers) - Preventative maintenance task (PMT) - Major Overhaul Task (MOT) | B26: R | C26: 15 | D26: Circuit breaker with SF6 (Sulphur Hexaflouride) gas | E26: 15.1 | F26: Electrocution | G26: Safety | H26: - Climbing on the wrong structure - Working in a live yard - Violation of ORHVS Electrical contact whilst carrying metal containing equipment in the HV yard including ladders, scaffolding etc | I26: Contractor Employees | J26: Contractor Manager | K26: Annually for +/- 30 minutes | L26: Electric shock Psychological damage Physical burns Neurological damage Ventricular fibrillation resulting in fatality Lost time Injury Medical Incident, Fatality. | M26: Elimination: None Substitution: None Engineering controls: None Administrative controls : - Technicians always ensure that equipment is opened, isolated and safe to work on. - An equipotential safety zone is created for each worker on the job site by earthing, bonding and/or insulating according to approved procedures to avoid contact by charging the equipment being tested. - Authorised person has certified and shown all team members that the apparatus is safe to work on. - Pre-task risk assessment to identify all risks and hazards has been conducted and complete workers register prior to any work commencing. - Permit is always issued before commencement of the testing activities. - Emergency preparedness plan is reviewed and discussed before any work commences. - Test Equipment. - Use updated drawings. - Fire extimguisher ,first aid kit ,FAS Rescue kit Personal protective equipment (PPE):(encompassing non-slip safety boots, electrical shock-resistant boots, long sleeve and long pants),and restriction on wearing of jewellery, long breem safety hat.) carry equipment horizontally in the HV Yard as per Eskom standards | N26: 3 | O26: B | P26: III | Q26: Mostly effective | R26: Elimination: None Substitution: None Engineering controls: None Administrative controls : - Emergency drill (Accidental release of SF6 gas) Personal protective equipment (PPE):None | S26: Inspections Audits Supervision | T26: Site Supervisor | U26: OHSA no. 85 of 1993 ,section 8,14 &24,Electrical Machinery Regulations,2011 _8,9,19&22 COIDA no.130 of 1993 ,section 22,23,24 & 25 GSR 3 GAR 8&9 32-846 Operating Regulations for High Voltage System - 240-43848327 Right to Refuse to Work in an unsafe condition procedure - 240-44175132 Eskom Personal Protective Equipment - - 32-520 Occupational Health & Safety Risk Assessment Procedure - Eskom Life Saving Rule No. 1 | V26: 45746 | W26: In Progress | X26: Not Applicable
B27: R | C27: 15 | D27: Circuit breaker with SF6 (Sulphur Hexaflouride) gas | E27: 15.2 | F27: Charged closing and tripping strings | G27: Safety | H27: - Not discharging the closing and tripping springs | I27: Contractor Employees | J27: Contractor Manager | K27: Annually for +/- 30 minutes | L27: Lost Time Injury Medical Incident | M27: Elimination: None Substitution: None Engineering controls: None Administrative controls : Before commencing any work inside mechanism, ensure that the springs are discharged and the circuit breaker made safe - Fire extimguisher ,first aid kit ,FAS Rescue kit Pesonal Protective Equipment(PPE):None | N27: 3 | O27: B | P27: III | Q27: Mostly effective | R27: Elimination: None Substitution: None Engineering controls: None Administrative controls : - Emergency drill (Accidental release of SF6 gas) Personal protective equipment (PPE):None | S27: Inspections Audits Supervision | T27: Site Supervisor | U27: OHSA no. 85 of 1993 ,section 8,14 &24,Electrical Machinery Regulations,2011 _8,9,19&22 COIDA no.130 of 1993 ,section 22,23,24 & 25 GSR 3 GAR 8&9 32-846 Operating Regulations for High Voltage System - 240-43848327 Right to Refuse to Work in an unsafe condition procedure - 240-44175132 Eskom Personal Protective Equipment - - 32-520 Occupational Health & Safety Risk Assessment Procedure - Eskom Life Saving Rule No. 1 | V27: 45746 | W27: In Progress | X27: Not Applicable
B28: R | C28: 15 | D28: Circuit breaker with SF6 (Sulphur Hexaflouride) gas | E28: 15.3 | F28: Operating on the wrong bay | G28: Safety | H28: - No proper barricading, No proper toolbox talk, not being properly informed, Failure to adhere to standard, procedures resulting in a fatality due to electrical shock state of mind | I28: Contractor Employees | J28: Contractor Manager | K28: Annually for +/- 30 minutes | L28: Fatality Loss of power supply Property damage Lost Time Injury Electrocution or Medical Incident, | M28: Elimination: None Substitution: None Engineering controls: None Administrative controls : Carry operating instruction form with you, check that you are at the correct bay. Follow ORHVS regulations (put up working on apparatus signs) Ensure you have a healthy state of mind with no distractions - Fire extimguisher ,first aid kit ,FAS Rescue kit Personal Protective Equipment(PPE):None | N28: 3 | O28: B | P28: III | Q28: Mostly effective | R28: Elimination: None Substitution: None Engineering controls: None Administrative controls :- Emergency drill (Accidental release of SF6 gas) Personal protective equipment (PPE):None | S28: Inspections Audits Supervision | T28: Site Supervisor | U28: OHSA no. 85 of 1993 ,section 8,14 &24,Electrical Machinery Regulations,2011 _8,9,19&22 COIDA no.130 of 1993 ,section 22,23,24 & 25 GSR 3 GAR 8&9 32-846 Operating Regulations for High Voltage System - 240-43848327 Right to Refuse to Work in an unsafe condition procedure - 240-44175132 Eskom Personal Protective Equipment - - 32-520 Occupational Health & Safety Risk Assessment Procedure - Eskom Life Saving Rule No. 1 | V28: 45381 | W28: In Progress | X28: Not Applicable
C29: 15 | D29: Circuit breaker with SF6 (Sulphur Hexaflouride) gas | E29: 15.4 | F29: Exposure to SF6 gas | G29: Health | H29: - Accidental release of SF6 gas which may cause eye, lung and skin irritation | I29: Contractor Employees | J29: Contractor Manager | K29: Daily for 8hrs | L29: Lost Time Injury Medical Incident | M29: Elimination: None Substitution: None Engineering controls: None Administrative controls : Ensure standards and procedures are followed using safe work methods where applicable Ensure correct tools are used and all tools have been inspected, calibrated, tested and approved. Ensure gas bottles are transported correctly with the substation grounds and secured when topping up to avoid falling. - Fire extimguisher ,first aid kit ,FAS Rescue kit Personal Protective Equipment : gloves, masks etc..) | N29: 3 | O29: B | P29: III | Q29: Mostly effective | R29: Elimination: None Substitution: None Engineering controls: None Administrative controls :Emergency drill (Accidental release of SF6 gas) Personal protective equipment (PPE):None | S29: Inspections Audits Supervision | T29: Site Supervisor | U29: OHSA no. 85 of 1993 ,section 8,14 &24,Regulations for Hazardous Chemical Aagents ,2021 (3,410,11,12,14A &14B) ,Electrical Machinery Regulations,2011 _8,9,19&22 COIDA no.130 of 1993 ,section 22,23,24 & 25 GSR 3 GAR 8&9 32-846 Operating Regulations for High Voltage System - 240-43848327 Right to Refuse to Work in an unsafe condition procedure - 240-44175132 Eskom Personal Protective Equipment - - 32-520 Occupational Health & Safety Risk Assessment Procedure - Eskom Life Saving Rule No. 1 | V29: 45746 | W29: In Progress | X29: Not Applicable
B30: R | C30: 15 | D30: Circuit breaker with SF6 (Sulphur Hexaflouride) gas | E30: 15.5 | F30: Explosion of vessels under pressure and pressurised pipes | G30: Safety | H30: - SF6 containers when involved in fire may rupture or burst in the heat of the fire causing fatalities | I30: Contractor Employees | J30: Contractor Manager | K30: Daily for 8hrs | L30: Multiple Fatalities Lost Time Injury Medical Incident | M30: Elimination: None Substitution: None Engineering controls: None Administrative controls - Conduct HCS Awareness - Cylinders should be stored upright and be firmly secured to prevent falling or being knocked-over. - Cylinders can be stored in the open, but in such cases, should be protected against extremes of weather and from the dampness of the ground to prevent rusting. - Cylinders should be stored in dry, well-ventilated areas away from sources of heat, ignition and direct sunlight. - Keep storage area clear of materials which can burn. - Emergency preparedness plan is reviewed and discussed before any work commences - Fire extimguisher ,first aid kit ,FAS Rescue kit Personal protective equipment (PPE):- Correct PPE i.e. Safety shoes, Overall, gloves, hard hat, eye protection are worn | N30: 3 | O30: B | P30: III | Q30: Mostly effective | R30: Elimination: None Substitution: None Engineering controls: None Administrative controls :Emergency drill (Accidental release of SF6 gas) Personal protective equipment (PPE):None | S30: Inspections Audits Supervision, Suitable PPE | T30: Site Supervisor | U30: OHSA no. 85 of 1993 ,section 8,14 &24,Regulations for Hazardous Chemical Aagents ,2021 (3,410,11,12,14A &14B) ,Pressure Equipment Regulations ,2009 (9,10,11,18 &19) ,Electrical Machinery Regulations,2011 _8,9,19&22 COIDA no.130 of 1993 ,section 22,23,24 & 25 GSR 3 GAR 8&9 32-846 Operating Regulations for High Voltage System - 240-43848327 Right to Refuse to Work in an unsafe condition procedure | V30: 45746 | W30: In Progress | X30: Not Applicable
C31: 15 | D31: Circuit breaker with SF6 (Sulphur Hexaflouride) gas | E31: 15.6 | F31: Use of faulty or incorrect equipment / tools | G31: Safety | H31: - Lack of training and knowledge - Inadequate Risk assessment - Inadequate Inspection and maintenance leading to incidents | I31: Contractor Employees | J31: Contractor Manager | K31: Daily for 8hrs | L31: Medical Incident First Aid Incident Lost time Injury. | M31: Elimination: None Substitution: None Engineering controls: None Administrative controls - Proper work plan to ensure that all required tool and equipments are available when doing circuit breaker maintanance - Ensure that risk assessment is done before work commences. - Tools, equipment and PPE i.e. gloves, etc to be checked for damage before use. -Ensure correct tools are used and all tools have been inspected, calibrated, tested and approved. - Fire extimguisher ,first aid kit ,FAS Rescue kit Personal protective equipment (PPE): None | N31: 3 | O31: B | P31: III | Q31: Mostly effective | R31: Elimination: None Substitution: None Engineering controls: None Administrative controls :Emergency drill (Accidental release of SF6 gas) Personal protective equipment (PPE):None | S31: Inspections Audits Supervision | T31: HV Plant Manager | U31: - Occupational Health and Safety Act, 1993 No. 85 of 1993 section 8 & 14 | V31: 45746 | W31: In Progress | X31: Not Applicable
B32: R | C32: 16 | D32: Substandard condition Circuit breakers with Oil | E32: 16.1 | F32: Electrocution | G32: Safety | H32: - Climbing on the wrong panel - Working in a live yard - Violation of ORHVS | I32: Contractor Employees | J32: Contractor Manager | K32: Daily for 8hrs | L32: Electric shock Psychological damage Physical burns Neurological damage Ventricular fibrillation resulting in fatality | M32: Elimination: None Substitution: None Engineering controls: None Administrative controls - Technicians always ensure that equipment is opened, isolated and safe to work on. - An equipotential safety zone is created for each worker on the job site by earthing, bonding and/or insulating according to approved procedures to avoid contact by charging the equipment being tested. - Authorised person (team leader) has certified and shown all team members that the apparatus is safe to work on. - Pre-task risk assessment to identify all risks and hazards has been conducted and complete workers register prior to any work commencing. - Enforcement of ORHVS. - Planned Task Observations are conducted. - Permit is always issued before commencement of the testing activities. - PPE issued:(encompassing non-slip safety boots, electrical shock-resistant boots, long sleeve and long pants),and restriction on wearing of jewellery, long breem safety hat. - Emergency preparedness plan is reviewed and discussed before any work commences. - Test Equipment.- Use updated drawings. | N32: 3 | O32: A | P32: IV | Q32: Fully effective | R32: Elimination: None Substitution: None Engineering controls: None Administrative controls :Nothing more to be done except review and monitor the existing controls. Personal protective equipment (PPE):None | S32: Inspections Audits Supervision, Job Observation, Retrain | T32: Site Supervisor | U32: OHSA no. 85 of 1993 ,section 8,14 &24 ,Electrical Machinery Regulations,2011 _8,9,19&22 COIDA no.130 of 1993 ,section 22,23,24 & 25 GSR 3 GAR 8&9 32-846 Operating Regulations for High Voltage System - 240-43848327 Right to Refuse to Work in an unsafe condition procedure - 240-44175132 Eskom Personal Protective Equipment - - 32-520 Occupational Health & Safety Risk Assessment Procedure - Eskom Life Saving Rule No. 1 | V32: Not Applicable | W32: Not Applicable | X32: Not Applicable
B33: R | C33: 16 | D33: Substandard condition Circuit breakers with Oil | E33: 16.2 | F33: Charged closing and tripping strings | G33: Safety | H33: - Not discharging the closing and tripping strings | I33: Contractor Employees | J33: Contractor Manager | K33: Annually for +/- 30 minutes | L33: Lost Time Injury Medical Incident | M33: Elimination: None Substitution: None Engineering controls: None Administrative controls: - Before commencing any work inside mechanism, staff ensures that the springs are discharged and the circuit breaker made safe. - Enforce current control. - Enforce compliance to ORHVS Personal protective equipment (PPE ): Safety shoes ,gloves , | N33: 3 | O33: A | P33: IV | Q33: Fully effective | R33: Elimination: None Substitution: None Engineering controls: None Administrative controls :Nothing more to be done except review and monitor the existing controls. Personal protective equipment (PPE):None | S33: Inspections Audits Supervision | T33: Site Supervisor | U33: OHSA no. 85 of 1993 ,section 8,14 &24 COIDA no.130 of 1993 ,section 22,23,24 & 25 GSR 3 GAR 8&9 32-846 Operating Regulations for High Voltage System - 240-43848327 Right to Refuse to Work in an unsafe condition procedure - 240-44175132 Eskom Personal Protective Equipment - 32-285 32-95 Environmental, Occupational Health and Safety Incident | V33: Not Applicable | W33: Not Applicable | X33: Not Applicable
B34: R | C34: 16 | D34: Substandard condition Circuit breakers with Oil | E34: 16.3 | F34: Operating on the wrong Bay | G34: Safety | H34: - No proper barricading, No proper toolbox talk, not being properly informed, Failure to adhere to standard, procedures resulting in a fatality due to electrical shock | I34: Contractor Employees | J34: Contractor Manager | K34: Daily for 8hrs | L34: Loss of power supply Property damage , Lost Time Injury Electrocution or Medical Incident or Fatal | M34: Elimination: None Substitution: None Engineering controls: None Administrative controls - The requirements of the ORHVS Regulation i.e. ORHVS training and authorisation, access management, conduct pre-task risk assessment, complete workers register, work permit in place and, barricading the work environment is implemented. - The panel to worked on gets properly barricaded. - Before work commences site specific risk assessment as per scope of work is conducted. - All risks identified and the control measures get discussed with everyone involved in the task. - All applicable rules, standards and procedures are adhered to, at all times - Emergency preparedness plan is reviewed and discussed before any work commences - Job observation when doing critical task and SMAT (Behavioural) Observations. Personal protective equipment (PPE ):None | N34: 3 | O34: A | P34: IV | R34: Elimination: None Substitution: None Engineering controls: None Administrative controls :Nothing more to be done except review and monitor the existing controls. Personal protective equipment (PPE):None | S34: Inspections Audits Supervision | T34: Site Supervisor | U34: OHSA no. 85 of 1993 ,section 8,14 &24 COIDA no.130 of 1993 ,section 22,23,24 & 25 GSR 3 GAR 8&9 32-846 Operating Regulations for High Voltage System - 240-43848327 Right to Refuse to Work in an unsafe condition procedure - 240-44175132 Eskom Personal Protective Equipment 32-95 Environmental, Occupational Health and Safety Incident | V34: Not Applicable | W34: Not Applicable | X34: Not Applicable
B35: R | C35: 16 | D35: Substandard condition Circuit breakers with Oil | E35: 16.4 | F35: Use of faulty or incorrect equipment / tools | G35: Safety | H35: - Lack of training and knowledge - Inadequate Risk assessment - Inadequate Inspection and maintenance leading to incidents | I35: Contractor Employees | J35: Contractor Manager | K35: Daily for 8hrs | L35: Medical Incident First Aid Incident, Lost time Injury. | M35: Elimination: None Substitution: None Engineering controls: None Administrative controls - Proper work plan to ensure that all required tool and equipments are available when doing circuit breaker maintanance is prapred. - The risk assessment is always done before work commences. - Tools, equipment and PPE i.e. gloves, etc are checked for damage before use. Personal protective equipment (PPE ):None | N35: 3 | O35: A | P35: IV | Q35: Fully effective | R35: Elimination: None Substitution: None Engineering controls: None Administrative controls :Nothing more to be done except review and monitor the existing controls. Personal protective equipment (PPE):None | S35: Inspections Audits Supervision | T35: Site Supervisor | U35: OHSA no. 85 of 1993 ,section 8,14 &24 COIDA no.130 of 1993 ,section 22,23,24 & 25 GSR 3 GAR 8&9 32-846 Operating Regulations for High Voltage System - 240-43848327 Right to Refuse to Work in an unsafe condition procedure - 240-44175132 Eskom Personal Protective Equipment - 32-285 - - 32-95 Environmental, Occupational Health and Safety Incident | V35: Not Applicable | W35: Not Applicable | X35: Not Applicable
B36: R | C36: 16 | D36: Substandard condition Circuit breakers with Oil | E36: 16.5 | F36: Contact with circuit breaker oil | G36: Safety | H36: - Accidental leakage of circuit braker oil resulting in incidents | I36: Contractor Employees | J36: Contractor Manager | K36: Daily for 8hrs | L36: Lost Time Injury Eye, noseand throat irritation Dermatitis (Inflammation) | M36: Elimination: None Substitution: None Engineering controls: None Administrative controls : - All equipment that are leaking oil are repaired - SDS for the oil is available and employees are trained on SDS and control measures in case of contact incident - The risk assessment is always done B6before work commences. - Tools, equipment and PPE i.e. gloves, etc are checked for damages before use. - Ensure oil spill kit is available and is adequate. Personal protective equipment (PPE):gloves | N36: 3 | O36: A | P36: IV | Q36: Fully effective | R36: Elimination: None Substitution: None Engineering controls: None Administrative controls :Nothing more to be done except review and monitor the existing controls. Personal protective equipment (PPE):None | S36: Inspections Audits Supervision | T36: Site Supervisor | U36: OHSA no. 85 of 1993 ,section 8,14 &24 ,Electrical Machinery Regulations,2011 _8,9,19&22, Hazardous Chemical Agents 3,4,10,12,14A &14B COIDA no.130 of 1993 ,section 22,23,24 & 25 GSR 3 GAR 8&9 32-846 Operating Regulations for High Voltage System - 240-43848327 Right to Refuse to Work in an unsafe condition procedure - 240-44175132 Eskom Personal Protective Equipment - - 32-520 Occupational Health & Safety Risk Assessment Procedure - Eskom Life Saving Rule No. 1 | V36: Not Applicable | W36: Not Applicable | X36: Not Applicable
B37: R | C37: 16 | D37: Circuit breaker with SF6 (Sulphur Hexaflouride) gas | E37: 16.6 | F37: Exposure to SF6 gas which may cause eye, lung and skin irritation | G37: Health | H37: - Accidental release of SF6 gas | I37: Contractor Employees | J37: Contractor Manager | K37: As and when required | L37: Lost Time Injury Medical Incident | M37: Elimination: None Substitution: None Engineering controls: None Administrative controls: - Tools, equipment and PPE get C5checked for damages before use. -Emergency preparedness plan is reviewed and discussed before any work commences - Job observation when doing critical task and SMAT (Behavioural) Observations. Personal Protective Equipment (PPE): Safety shoes, Overall, gloves, hard hat, eye protection | N37: 3 | O37: A | P37: IV | Q37: Fully effective | R37: Elimination: None Substitution: None Engineering controls: None Administrative controls :Nothing more to be done except review and monitor the existing controls. Personal protective equipment (PPE):None Maintain existing controls | S37: Inspections Audits Supervision | T37: Site Supervisor | U37: OHSA no. 85 of 1993 ,section 8,14 &24 ,Electrical Machinery Regulations,2011 _8,9,19&22, Hazardous Chemical Agents 3,4,10,12,14A &14B COIDA no.130 of 1993 ,section 22,23,24 & 25 GSR 3 GAR 8&9 32-846 Operating Regulations for High Voltage System - 240-43848327 Right to Refuse to Work in an unsafe condition procedure - 240-44175132 Eskom Personal Protective Equipment - - 32-520 Occupational Health & Safety Risk Assessment Procedure - Eskom Life Saving Rule No. 1 | V37: Not Applicable | W37: Not Applicable | X37: Not Applicable
B38: R | C38: 16 | D38: Circuit breaker with SF6 (Sulphur Hexaflouride) gas | E38: 16.7 | F38: Explosion of vessels under pressure and SF6 pressurised pipes | G38: Health | H38: - SF6 containers when involved in fire may rupture or burst in the heat of the fire. - Pressurised SF6 gas pipes | I38: Contractor Employees | J38: Contractor Manager | K38: As and when required | L38: Medical Incident | M38: Elimination: None Substitution: None Engineering controls: None Administrative controls : - Cylinders are stored upright and firmly secured to prevent falling or being knocked-over. - Cylinders are stored in the open spaces, but also protected against extremes of weather and from the dampness of the ground to prevent rusting. - Cylinders are stored in dry, well-ventilated areas away from sources of heat, ignition and direct sunlight. - Storages areas are kept clear of materials which can burn. - Emergency preparedness plan is reviewed and discussed before any work commences. Personal Protective Equipment (PPE) : Safety shoes, Overall, gloves, hard hat, eye protection | N38: 3 | O38: A | P38: IV | Q38: Fully effective | R38: Elimination: None Substitution: None Engineering controls: None Administrative controls :Nothing more to be done except review and monitor the existing controls. Personal protective equipment (PPE):None | S38: Inspections Audits Supervision | T38: Site Supervisor | U38: OHSA no. 85 of 1993 ,section 8,14 &24 ,Electrical Machinery Regulations,2011 _8,9,19&22, Hazardous Chemical Agents 3,4,10,12,14A ,14B &19) COIDA no.130 of 1993 ,section 22,23,24 & 25 GSR 3 GAR 8&9 32-846 Operating Regulations for High Voltage System - 240-43848327 Right to Refuse to Work in an unsafe condition procedure - 240-44175132 Eskom Personal Protective Equipment - - 32-520 Occupational Health & Safety Risk Assessment Procedure - Eskom Life Saving Rule No. 1 | V38: Not Applicable | W38: Not Applicable | X38: Not Applicable
B39: R | C39: 16 | E39: 16.7 | F39: Use of faulty or incorrect equipment / tools | G39: Safety | H39: - Lack of training and knowledge -Inadequate Risk assessment - Inadequate Inspection and maintenance | I39: Contractor Employees | J39: Contractor Manager | K39: As and when required | L39: Medical Incident First Aid Incident, Lost time Injury. | M39: Elimination: None Substitution: None Engineering controls: None Administrative controls : - Proper work plan is developed to ensure that all required tool and equipments are available when doing circuit breaker maintanance - Risk assessment is done before work commences. - Tools, equipment and PPE gloves, etc are checked for damages before use. Personal Protective Equipment:None | N39: 3 | O39: A | P39: IV | Q39: Fully effective | R39: Elimination: None Substitution: None Engineering controls: None Administrative controls :Nothing more to be done except review and monitor the existing controls. Personal protective equipment (PPE):None | S39: Inspections Audits Supervision | T39: Site Supervisor | U39: OHSA no. 85 of 1993 ,section 8,14 &24 ,Electrical Machinery Regulations,2011 _8,9,19&22 COIDA no.130 of 1993 ,section 22,23,24 & 25 GSR 3 GAR 8&9 32-846 Operating Regulations for High Voltage System - 240-43848327 Right to Refuse to Work in an unsafe condition procedure - 240-44175132 Eskom Personal Protective Equipment - - 32-520 Occupational Health & Safety Risk Assessment Procedure - Eskom Life Saving Rule No. 1 | V39: Not Applicable | W39: Not Applicable | X39: Not Applicable
B40: R | C40: 17 | D40: Crane truck mechanical failure | E40: 17.1 | F40: Rigging using a truck-mounted crane to overhaul circuit breaker | G40: Safety | H40: - Mechanical failure of truck-mounted crane - Lack of training on the truck-mounted crane operating. - Lack of load test certificate and inspection of truck-mounted crane operating. | I40: Contractor Employees | J40: Contractor Manager | K40: As and when required | L40: Lost Time Injury Medical Incident Property Damage | M40: Elimination: None Substitution: None Engineering controls: None Administrative controls : - The truck-mounted crane and slings are load tested annually and inspected 3 monthly by a competent person and inspected before use. - Truck-mounted crane is operated by trained / competent person when maintenance is done. The Crane and Load is ensure free movement, not tied down before operating. - Tools, equipment and PPE get checked for damages before use. - Employees are medically tested by the Occupational Health Practitiner and fit for work. -Employees ensure that there is no overhead live conductor to prevent electrical induction. - The area gets barricaded where there is lifting activity to prevent unauthorised persons - Emergency preparedness plan is reviewed and discussed before any work commences - Job observation when doing critical task and SMAT (Behavioural) Observations. Personal Protective Equipment (PPE): gloves | N40: 3 | O40: A | P40: IV | Q40: Fully effective | R40: Elimination: None Substitution: None Engineering controls: None Administrative controls :Nothing more to be done except review and monitor the existing controls. Personal protective equipment (PPE):None | S40: Inspections Audits Supervision | T40: Site Supervisor | U40: OHSA no. 85 of 1993 ,section 8,14 &24 ,Electrical Machinery Regulations,2011 _8,9,19&22 COIDA no.130 of 1993 ,section 22,23,24 & 25 GSR 3 ,Driven Machinery Regulations ,2015 (18), GAR 8&9 32-846 Operating Regulations for High Voltage System - 240-43848327 Right to Refuse to Work in an unsafe condition procedure - 240-44175132 Eskom Personal Protective Equipment - - 32-520 Occupational Health & Safety Risk Assessment Procedure - Eskom Life Saving Rule No. 1 | V40: Not Applicable | W40: Not Applicable | X40: Not Applicable
A41: Isolator Maintenance | B41: R | C41: 18 | D41: Substandard condition Isolator | E41: 18.1 | F41: AC/DC Volt electrocution on motorised isolators | G41: Safety | H41: - Working in a live yard result in exposure to live parts of the plant , equipment or machinery - Violation of ORHVS - Inadequate or inappropriate training - Working on or near equipment which is thought to be dead - Inadequate risk assessment - Taking shortcuts - Lack of concentration - Inadequate communication - Failure to adhere to standards, procedure and instruction | I41: Contractor Employees | J41: Contractor Manager | K41: Weekly for 8hrs | L41: Electric shock Psychological damage Physical burns Neurological damage Ventricular fibrillation resulting in fatality | M41: Elimination:None Substitution: None Engineering Controls:None Administrative Controls: - Technicians always ensure that equipment is opened, isolated and earthed and or bonded and safe to work on. - Compliance to ORHVS - Planned Task Observations (PTO) - An equipotential safety zone is created for each worker on the job site by earthing, bonding and/or insulating according to approved procedures to avoid contact by charging the equipment being tested. - Authorised person (team leader) has certified and shown all team members that the apparatus is safe to work on. - Pre-task risk assessment to identify all risks and hazards has been conducted and complete workers register prior to any work commencing. - Permit is always issued before commencement of the testing activities. - PPE issued:(encompassing non-slip safety boots, electrical shock-resistant boots, long sleeve and long pants),and restriction on wearing of jewellery, long breem safety hat. - Emergency preparedness plan is reviewed and discussed before any work commences. - Test Equipment.- Use updated drawings. Personal Protective Equipment (PPE):goggles,safety shoes,overall | N41: 3 | O41: A | P41: IV | Q41: Fully effective | R41: Elimination: None Substitution: None Engineering controls: None Administrative controls :Nothing more to be done except review and monitor the existing controls. Personal protective equipment (PPE):None | S41: Inspections, Audits Supervision | T41: Site Supervisor | U41: OHSA no. 85 of 1993 ,section 8,14 &24 ,Electrical Machinery Regulations,2011 _8,9,19&22 COIDA no.130 of 1993 ,section 22,23,24 & 25 GSR 3 ,Driven Machinery Regulations ,2015 (18), GAR 8&9 32-846 Operating Regulations for High Voltage System - 240-43848327 Right to Refuse to Work in an unsafe condition procedure - 240-44175132 Eskom Personal Protective Equipment - - 32-520 Occupational Health & Safety Risk Assessment Procedure - Eskom Life Saving Rule No. 1 | V41: Not Applicable | W41: Not Applicable | X41: Not Applicable
B42: R | C42: 18 | D42: Substandard condition Isolator | E42: 18.2 | F42: Substandard or defective tools and equipment. | G42: Safety | H42: - Lack of training and knowledge - Inadequate Risk assessment - Inadequate Inspection and maintenance leading to incidents | I42: Contractor Employees | J42: Contractor Manager | K42: Weekly for 8hrs | L42: Medical Incident First Aid Incident, Lost time Injury. | M42: Elimination:None Substitution: None Engineering Controls:None Administrative Controls: - Proper work plan is developed to ensure that all required tools and equipments are available when conducting circuit breaker maintanance - Employees ensure that risk assessment is done before work commences. Personal Protective Equipmenyt (PPE): gloves, safety shoes,overall | N42: 3 | O42: A | P42: IV | Q42: Fully effective | R42: Elimination: None Substitution: None Engineering controls: None Administrative controls :Nothing more to be done except review and monitor the existing controls. Personal protective equipment (PPE):None | S42: Inspections Audits Supervision | T42: Site Supervisor | U42: OHSA no. 85 of 1993 ,section 8,14 &24 ,Electrical Machinery Regulations,2011 _8,9,19&22 COIDA no.130 of 1993 ,section 22,23,24 & 25 GSR 3 ,Driven Machinery Regulations ,2015 (18), GAR 8&9 32-846 Operating Regulations for High Voltage System - 240-43848327 Right to Refuse to Work in an unsafe condition procedure - 240-44175132 Eskom Personal Protective Equipment - - 32-520 Occupational Health & Safety Risk Assessment Procedure - Eskom Life Saving Rule No. 1 | V42: Not Applicable | W42: Not Applicable | X42: Not Applicable
B43: R | C43: 18 | D43: Substandard condition Isolator | E43: 18.4 | F43: Rigging using a truck-mounted crane to overhaul the isolator | G43: Safety | H43: Fatality resulting from: - Mechanical failure of truck-mounted crane - Lack of training on the truck-mounted crane operating. - Lack of load test certificate and inspection of truck-mounted crane operating | I43: Contractor Employees | J43: Contractor Manager | K43: Weekly for 8hrs | L43: Fatality Lost Time Injury Medical Incident Property Damage | M43: Elimination:None Substitution: None Engineering Controls:None Administrative Controls: - The truck-mounted crane and slings are load tested annually and inspected 3 monthly by a competent person and inspected before use. - Truck-mounted crane get operated by trained / competent person and isolator maintenance to be done. Ensure that Skyjack, Aerial bucket (Cherrypicker), Man lift or any similar device is not tied down and is free to move before operating commences. - Tools, equipment and PPE are checked for damage before use. - Employees are medically tested by the Occupational Health Practitioner and fit for work. - Employees ensure that there is no overhead live conductor to prevent electrical induction. - Employees ensure that the area is barricaded where there is lifting activity to prevent unauthorised persons - Emergency preparedness plan is reviewed and discussed before any work commences - Job observation when doing critical task and Behavioural Observations. Personal Protective quipment (PPE): safety shoes,hearing protection,overall | N43: 3 | O43: A | P43: IV | Q43: Fully effective | R43: Elimination: None Substitution: None Engineering controls: None Administrative controls :Nothing more to be done except review and monitor the existing controls. Personal protective equipment (PPE):None | S43: Inspections Audits Supervision | T43: Site Supervisor | U43: OHSA no. 85 of 1993 ,section 8,14 &24 ,Electrical Machinery Regulations,2011 _8,9,19&22 COIDA no.130 of 1993 ,section 22,23,24 & 25 GSR 3 ,Driven Machinery Regulations ,2015 (18), GAR 8&9 32-846 Operating Regulations for High Voltage System - 240-43848327 Right to Refuse to Work in an unsafe condition procedure - 240-44175132 Eskom Personal Protective Equipment - - 32-520 Occupational Health & Safety Risk Assessment Procedure - Eskom Life Saving Rule No. 1 | V43: Not Applicable | W43: Not Applicable | X43: Not Applicable
...

Sheet Contractor Baseline template
A3: Occupational Health and Safety Baseline risk assessment template
A4: Business/Operating unit: | K4: Next Review Date (every 2 years): | L4: Template identifier:
A6: Date: | F6: Authorised by: | H6: Name: | K6: Document identifier | AA6: R | AB6: Safety | AC6: 1 | AD6: A | AE6: Fully effective | AF6: I
H7: Designation: | K7: Revision number: | L7: 5 | AA7: N | AB7: Health | AC7: 2 | AD7: B | AE7: Mostly effective | AF7: II
H8: Signed: | K8: Revision date: | L8: 45777 | AC8: 3 | AD8: C | AE8: Mostly ineffective | AF8: III
A9: Refer to Occupational Health and Safety Risk assessment procedure 32-520 | AC9: 5 | AD9: E
A10: List activity | B10: Hazard Identification | C10: Associated risk | D10: Risk type | E10: What are the possible consequences? | F10: Existing Controls | I10: Risk Priority Rating | K10: Control Owner | L10: Legal and Other Requirements | AC10: 6
