Workbook
Name Consequence: '[1]Drop Down Lists'!$A$3:$A$8
Name Likelihood: '[1]Drop Down Lists'!$B$3:$B$7
Name RCE: '[1]Drop Down Lists'!$D$3:$D$7

Sheet Contractors
A3: Occupational Health and Safety Baseline risk assessment template
A4: Business Unit | B4: East Grid | J4: Department: | K4: Transmission East Grid | U4: Next Review Date (every 2 years): | V4: 46142 | W4: Template identifier: | X4: 240-70044602
A6: Date: | B6: 45314 | J6: Prepared by: | K6: Nonkululeko Mabaso, Wiseman Xulu, Hendrick Madondo, Faith Dube and Gift Buthelethzi | M6: Authorised by: | O6: Name: Naresh Ramparshad | W6: Document identifier
O7: Designation:East Grid Manager | W7: Revision number: | X7: 5
O8: Date: | W8: Revision date: | X8: 46507
A9: Refer to Occupational Health and Safety Risk assessment procedure 32-520
A10: List activity | B10: Activity type (Routine/Non-routine) | C10: Hazard nr | D10: Hazard Identification | E10: Risk Nr | F10: Associated risk | G10: Risk type | H10: Cause(s) of the risk | I10: Exposed group/employees | J10: Risk Owner | K10: Exposure patterns | L10: What are the possible consequences? | M10: Existing Controls | P10: Risk Priority Rating | R10: Additional Controls or Tasks Aimed at improving Existing Controls | S10: Monitoring Mechanisms | T10: Control Owner | U10: Legal and Other Requirements | V10: Target Date | W10: Current Status | X10: Integrated Risk Management (IRM) reference number
A11: List specific activities to be performed taking into consideration the equipment to be used, the personnel involved in the task. | B11: Indicate R or N 1. Routine activities and situations create hazards through day-to-day operations and normal work activities; 2. Non-routine activities and situations are occasional or unplanned; | C11: # | D11: Anything with potential to cause of harm. Note: A hazard can pose more than one risk. | E11: # | F11: A chance that injury , ill health or damage could occur as a result of uncontrolled hazard. | G11: Safety or health | H11: What causes the risk to come into effect? | I11: Who is exposed to the hazard i.e. visitors, members of the public, etc. | J11: Who is accountable for making sure the controls and monitors are: - in place, - implemented, - regularly reviewed for effectiveness. | K11: The frequency and duration the person/group is exposed to the hazard e.g. Daily for 3 hrs. | L11: Consider the worse case scenario without controls? | M11: Include: - Preventative Controls (controls implemented to eliminate hazards or reduce the likelihood of the risk occurring), and - Reactive Controls (controls implemented to reduce the immediate impact of the risk occurring) Elimination Substitution Engineering controls Administrative controls Personal protective equipment (PPE) | N11: Consequence | O11: Likelihood | Q11: RCE Risk Control Effectiveness | R11: Include: - Preventative Controls (controls implemented to eliminate hazards or reduce the likelihood of the risk occurring), and - Reactive Controls (controls implemented to reduce the immediate impact of the risk occurring) Elimination Substitution Engineering controls Administrative controls Personal protective equipment (PPE) NB: The risk shall be evaluated, assessed and rated again once additional controls have been implemented and those controls listed as existing controls. | S11: How we know if we are succeeding. Include comments on effectiveness. This may include i.e. measurements, inspections, supervision where necessary. | T11: Person allocated the responsibility for implementing the agreed controls (if applicable) | U11: Where relevant, list the relevant legislative and or Eskom requirements that prescribe the control. | V11: Once a date has been agreed to, this can not be changed (if applicable) | W11: Pending, In Progress, Complete (if applicable) | X11: Where applicable, add IRM system reference number for tracking of treatment actions. (applicable to risks that have an impact on business objectives or require intervention from Senior or Executive management such as impementing major engineering projects as a control)
A12: Driving National road Public road Terrain / servitudes | B12: R | C12: 1 | D12: Sub standard Vehicles/ Unroad worthy Vehicles | E12: 1.1 | F12: Motor vehicle accident Property Damage | G12: Safety | H12: - Inadequate communication between Supervisor, Driver and fleet. - Lack of vehicle pre-trip inspection - Lack of vehicle maintenance - Vehicles not replaced as per the request | I12: Contractor employees | J12: Contractor Manager | K12: Daily, 3hrs | L12: Fatality; Lost Time Injury; Medical Incident Financial Loss | M12: Elimination: None Substitution: None Engineering controls: None Administrative controls: 1. Conduct awareness on Vehicle and Driver Safety Procedures 2. Defensive driver training (where the risk has been identified). 3. Travel Route Risk Assessment 4. Vehicle Inspection. 5. Driver Observation Personal protective equipment (PPE ):None | N12: 3 | O12: B | P12: III | Q12: Fully effective | R12: Elimination: None Substitution: None Engineering controls: None Administrative controls :Nothing more to be done except review and monitor the existing controls. Personal protective equipment (PPE):None | S12: 1. Vehicle Inspections 2. Audits 3. Keeping Maintanance records. | T12: Site Supervisor | U12: OHSA no. 85 of 1993 ( section 8 & 14) COIDA no. 130 of 1993 (Section 22, 38, 39, 41, 42 & 43) National Road Management Traffic Act 93 of 1996 (Section 63 & 64 ) 32-727 Eskom SHEQ policy; 32-95 Occupational Health and Safety Incident Management Procedure; 32-520 Occupational Health & Safety Risk Assessment Procedure; 240-62946386 Eskom Vehicle Safety and Driver Management procedure; 32-345 Eskom Vehicle Safety Specifications procedure; | V12: Not Applicable | W12: Not Applicable | X12: Not Applicable
B13: R | C13: 2 | D13: Excessive Driving/ travelling | E13: 2.1 | F13: Motor vehicle accidents Property Damage | G13: Safety | H13: - Not taking rest period when required - Prolonged driving (long distance driving); - Traffic congestion. Fatigue. | I13: Contractor employees | J13: Contractor Manager | K13: Daily, 3hrs | L13: Fatality Lost Time Injury Property damage Medical Financial Loss | M13: Elimination: None Substitution: None Engineering controls: None Administrative controls : 1. Video or teleconferencing 2. Check restrictions on the medical fitness certificate 3. Awareness training on Fatigue Management and Distractions 4. Travel Route Risk Assessment 6. encourage employees to declare when using medication that will affect the ability of the employee to drive 7. Campaigns on Vehicle and Driver safety Personal protective equipment (PPE ): None | N13: 3 | O13: B | P13: III | Q13: Fully effective | R13: Elimination: None Substitution: None Engineering controls: None Administrative controls :Nothing more to be done except review and monitor the existing controls. Personal protective equipment (PPE):None s | S13: 1. Onboard monitoring device 2. Medical fitness records. 3. Record Keeping. | T13: Site Supervisor | U13: OHSA no.85 of 1993( Section 8& 14); COIDA no. 130 of 1993 ( Section 22, 38, 39, 41, 42 & 43); National Road Management Traffic Act 93 of 1996 Section 63 & 64; 32-727 Eskom SHEQ policy; 32-95 Occupational Health and Safety Incident Management Procedure; 32-520 Occupational Health & Safety Risk Assessment Procedure; 240-62946386 Eskom Vehicle Safety and Driver Management procedure; 32-345 Eskom Vehicle Safety Specifications procedure; | V13: Not Applicable | W13: Not Applicable | X13: Not Applicable
B14: R | C14: 3 | D14: Failure to observe when reversing | E14: 3.1 | F14: Collision with an object while reversing/Motor vehicle accident; Property Damage | G14: Safety | H14: - Poor observation and judgement - Lack of concentration | I14: Contractor Employees | J14: Contractor Manager | K14: Daily; 30min | L14: Property damage, Lost time injury; Medical Incident; First Aid incident | M14: Elimination: None Substitution: None Engineering controls: None Administrative controls : Defencive Driving Have a guide when reversing. Pesonal Protective Equipment:None | N14: 3 | O14: B | P14: III | Q14: Fully effective | R14: Elimination: None Substitution: None Engineering controls: None Administrative controls :Nothing more to be done except review and monitor the existing controls. Personal protective equipment (PPE):None | S14: Behavioral Safety Observation. On board Monitoring Device, Reverse sensors. | T14: Site Supervisor | U14: OHSA no.85 of 1993 section 8 & 14 ; 240-62196227 Eskom life saving rules procedure; 240-62946386 Vehicle Driver Safety Management Procedure; 32-95 incident management Procedure; | V14: Not Applicable | W14: Not Applicable | X14: Not Applicable
B15: R | C15: 4 | D15: Substance abuse or driving under influence of alcohol | E15: 4.1 | F15: Motor vehicle accidents, property damage, Fatality | G15: Safety | H15: - Failure to adhere to road safety and Eskom rules (Life Saving Rule) | I15: Contractors Employees | J15: Contractor Manager | K15: Daily, 3hrs | L15: Lost Time Injury Medical Incident Property damage/ Fatality. Finacial Loss | M15: Elimination: None Substitution: None Engineering controls: None Administrative controls : 1. Drivers are not allowed to drive vehicle when under the influence of any intoxicating substances. 2. Awareness campaigns are coducted. Life saving rules are done and employees sign the acknowlegdment. 3. There is substance abuse standard and precautions are kept in place 4. Only medically fit drivers are allowed to drive. (Vehicle driversafety management procedure) 5. Substance abuse is prohibited to all employees and screening is constantly executed anytime anywhere to everyone (Substance abuse procedure). Personal Protective Control (PPE):None | N15: 3 | O15: B | P15: III | Q15: Fully effective | R15: Elimination: None Substitution: None Engineering controls: None Administrative controls :Nothing more to be done except review and monitor the existing controls. Personal protective equipment (PPE):None | S15: Alcohol Screening, Behavioral Safety Observation Drive Cam downloading Reports | T15: Site Supervisor | U15: OHSA no.85 f 1993 section 8 &14; - National Road Traffic Act, 1996 (Act No. 93 of 1996) - 240-62196227 Eskom life saving rules procedure - 240-62946386 Vehicle Driver Safety Management Procedure | V15: Not Applicable | W15: Not Applicable | X15: Not Applicable
B16: R | C16: 5 | D16: Negligent Driving and failure to follow road safety rules | E16: 5.1 | F16: Motor vehicle accidents, property damage, Fatality | G16: Safety | H16: - Negligence and recklessness - Overtaking unsafely leading to accidents - Talking on cellphone while driving leading to accidents | I16: Contractors Employees | J16: Contracttor Manager | K16: Daily, 3hrs | L16: Lost Time Injury , Fatality, Medicals Property damage | M16: Elimination: None Substitution: None Engineering controls: None Administrative controls 1. Monitor and analyse driver behaviour on Eskom Driver Behaviour Monitoring System and encourage good driving 2.Discuss good driver attitude in Safety meetings / departmental meetings 3. Compliance to Vehicle driver & safety management procedure 4.Compliance to National Road Traffic Act 5.Adherence to rules and procedures by utilising Drivecam 6. R17OBC is monitored. 7.Vehicle Safety Campaigns with External interested parties (Department of Transport & Tyre Companies) Personal protective equipment (PPE ):None | N16: 3 | O16: B | P16: III | Q16: Fully effective | R16: Elimination: None Substitution: None Engineering controls: None Administrative controls :Nothing more to be done except review and monitor the existing controls. Personal protective equipment (PPE):None | S16: Monitoring Behavior Systems Safety Observation | T16: Site Supervisor | U16: OHSA no. 85 of 1993 section 8 &14 ; National Road Traffic Act, 1996 (Act No. 93 of 1996) - 240-62196227 Eskom life saving rules procedure - 240-62946386 Vehicle Driver Safety Management Procedure | V16: Not Applicable | W16: Not Applicable | X16: Not Applicable
B17: R | C17: 6 | D17: Inexperienced Driver | E17: 6.1 | F17: Motor vehicle accidents, property damage, injuries | G17: Health | H17: - Lack of driver training - Lack of confidence & experience - Inadequate Risk assessment | I17: Contractors Employees | J17: Contractor Manager | K17: Daily, 3hrs | L17: Fatalities Lost Time Injury Medical Incident Property damage | M17: Elimination: None Substitution: None Engineering controls: None Administrative controls 1.All drivers are in possession of valid driver's licence. Drivers do undergo advanced driver training and driver evaluation before issued with Eskom driver permit or authorised to drive for Eskom business. - All inexperienced drivers are evaluated and Job Observed done before being issued with Driver permit Personal Protective Equipment:None | N17: 3 | O17: B | P17: III | Q17: Fully effective | R17: Elimination: None Substitution: None Engineering controls: None Administrative controls :Nothing more to be done except review and monitor the existing controls. Personal protective equipment (PPE):None | S17: Vehicle Inspection Inspection Audit Valid driver's licence Valid driver's permits | T17: Site Supervisor | U17: OHSA no.85 of 1993 section 8&14; National Road Traffic Act, 1996 (Act No. 93 of 1996) - 240-62196227 Acknowladgement of Eskom life saving rules no.3 procedure - 240-62946386 Vehicle Driver Safety Management Procedure . -East Grid Travel Route Risk assessment | V17: Not Applicable | W17: Not Applicable | X17: Not Applicable
B18: R | C18: 7 | D18: Medical Unfitness | E18: 7.1 | F18: Motor vehicle accidents, property damage, Fatality | G18: Health | H18: - Inadequate medical surveillance - Ignored restrictions. Unforeseen medical conditions | I18: Contractor employees | J18: Contractor Manager | K18: Daily, 3hrs | L18: Fatalities Lost Time Injury Medical Incident Property damage | M18: Elimination: None Substitution: None Engineering controls: None Administrative controls : 1.All drivers before allowed to drive for Eskom business must do driver risk assessment, medical surveillance and be in possession of valid driver licence. 2.Drivers are encouraged to inform their Managers/ Supervisors of any health conditions that render them unfit to drive. 3.Medical Centres confimation of restrictrictions on the Medical Fitness Certificates and implementation by Line Managers thereof Personal protective equipment (PPE ) : None | N18: 3 | O18: B | P18: III | Q18: Fully effective | R18: Elimination: None Substitution: None Engineering controls: None Administrative controls :Nothing more to be done except review and monitor the existing controls. Personal protective equipment (PPE):None | S18: Vehicle Inspection Audit Medical Fitness Certificates | T18: Site Supervisor | U18: OHSA no.85 of 1993 section 8&14; - National Road Traffic Act, 1996 (Act No. 93 of 1996) - 240-62196227 Eskom life saving rule No.3 procedure - 240-62946386 Vehicle Driver Safety Management Procedure - 32-95 Environmental, Occupational Health and Safety Incident Management Procedure - 32-285 Medical surveillance - 32-520 Occupational Health & Safety Risk Assessment Procedure | V18: Not Applicable | W18: Not Applicable | X18: Not Applicable
B19: R | C19: 8 | D19: Bad Weather Conditions | E19: 8.1 | F19: Poor visibility due to rain, mists, and slippery roads leading to accidents. | G19: Safety | H19: - Inadequate planning - Lack of driver experience | I19: Contractor employees | J19: Contractor Manager | K19: Depending on season or weather condition | L19: Fatality Lost Time Injury Medical Incident Property damage | M19: Elimination: None Substitution: None Engineering controls: None Administrative controls : Drivers conduct travel route risk assessment before travelling - Adjust speed as per the environmental weather condition. - Drivers are cautious when driving in an adverse weather condition and plan the routes properly and adjust accordingly when the weather changes. - Drivers check the weather forecast before travelling, and advised to cancel any trip if not safe to travel - Awareness are frequently done on driving in adverse weather condition Personal protective equipment (PPE ) : None - | N19: 3 | O19: B | P19: III | Q19: Fully effective | R19: Elimination: None Substitution: None Engineering controls: None Administrative controls :Nothing more to be done except review and monitor the existing controls. Personal protective equipment (PPE):None | S19: Observation Monitoring | T19: Site Supervisor | U19: OHSA no.85 of 1993 section 8&14; - National Road Traffic Act, 1996 (Act No. 93 of 1996) - 32-477 Safety Health and Environment Training and Development - 32-520 Occupational Health & Safety Risk Assessment Procedure - 32-95 Environmental, Occupational Health and Safety Incident Management Procedure | V19: Not Applicable | W19: Not Applicable | X19: Not Applicable
B20: R | C20: 9 | D20: Stray Animals | E20: 9.1 | F20: Crashing on animals with vehicles can lead to Motor vehicle accidents, property damage and injuries | G20: Safety | H20: - Inadequate Risk assessment - Driving very early in the morning or at night. - Overspeeding | I20: Contractor employees | J20: Contractor Manager | K20: Daily, 3hrs | L20: Lost Time Injury Medical Incident Property damage, Fatality. | M20: Elimination: None Substitution: None Engineering controls: None Administrative controls : 1.Employees are always on a look out of stray / wild animals and adjust speed where necessary as per the road warning signs. 2. Drivers conduct travel route risk assessment before travelling 3. Night driving avoided 4. Sharing of Lessons learnt from similar incidents Personal protective equipment (PPE):None | N20: 3 | O20: B | P20: III | Q20: Fully effective | R20: Elimination: None Substitution: None Engineering controls: None Administrative controls :Nothing more to be done except review and monitor the existing controls. Personal protective equipment (PPE):None | S20: Observation Incident Stats | T20: Site Supervisor | U20: - 240-62196227 Eskom life saving rules procedure - 32-520 Occupational Health & Safety Risk Assessment Procedure - 240-62946386 Vehicle Driver Safety Management Procedure -Travel Route Risk Assessment -32-95 Incident Management Procedure | V20: Not Applicable | W20: Not Applicable | X20: Not Applicable
B21: R | C21: 10 | D21: Substandard Road Conditions | E21: 10.1 | F21: Motor vehicle accident. | G21: Safety | H21: - Inadequate Travel Route Risk assessment - - Uneven, damaged and gravel road conditions and bad terrain - Poor vehicle maintenance | I21: Contractor employees | J21: Contractor Manager | K21: Daily, 3hrs | L21: Fatality Lost Time Injury Medical Incident Property damage | M21: Elimination: None Substitution: None Engineering controls: None Administrative controls 1.Caution is taken when driving in an uneven, damaged and gravel road conditions or an alternative route should be taken. 2.Speed get reduced as per road condition. 3. Prescribed speed limit and road warning signs are adhered to. 5. Adequate and regular maintenance of the vehicles 6.Eskom approved behaviour monitoring system has installed on vehicles to moniter driver's behavior on the road. Personal protective equipment (PPE):None | N21: 3 | O21: B | P21: III | Q21: Fully effective | R21: Elimination: None Substitution: None Engineering controls: None Administrative controls :Nothing more to be done except review and monitor the existing controls. Personal protective equipment (PPE):None | S21: Observation Incident Stats | T21: Site Supervisor | U21: OHSA no.85 of 1993 section 8&14; - National Road Traffic Act, 1996 (Act No. 93 of 1996) - 240-62946386 Vehicle Driver Safety Management Procedure - 32-520 Occupational Health & Safety Risk Assessment Procedure. -Travel Route Risk Assessment | V21: Not Applicable | W21: Not Applicable | X21: Not Applicable
A22: Interaction amongst employees (Refer to the Psychosocial Issues Risk Assessment for more details) | B22: N | C22: 11 | D22: Bullying | E22: 11.1 | F22: Compromised self eesteem causing depression and suicidal employees | G22: Safety | H22: Lack of interpersonal skills and relationship with other employees | I22: Contractor employees | J22: Contractor Manager | K22: Daily, 8hrs | L22: Fatality due to suicide Depression | M22: Elimination: None Substitution: None Engineering controls: None Administrative controls : 1. HR policies addressing bullying practices have been improved. 2. Awareness Personal protective equipment (PPE ):None | N22: 3 | O22: B | P22: III | Q22: Mostly effective | R22: Elimination: None Substitution: None Engineering controls: None Administrative controls Personal protective equipment (PPE ):None | S22: Audits by Full Time Health and Safety Representative EAP Cases | T22: Site Supervisor | U22: OHSA no.85 of 1993 section 8 & 14; - 240-43848327 Right to Refuse to Work in an unsafe condition procedure - 32-520 Occupational Health & Safety Risk Assessment Procedure - 32-477 Safety Health and Environment Training and Development - 32-95 Rev. 4 Environmental, Occupational Health and Safety Incident Management Procedure. | V22: March 2024 | W22: In Progress | X22: Not Applicable
B23: N | C23: 12 | D23: Drug abuse | E23: 12.1 | F23: Poor judgement leading to incidents | G23: Health | H23: Peer pressure | I23: Contractor employees | J23: Contractor Manager | K23: Daily, 8hrs | L23: Fatality due to suicide Depression | M23: Elimination: None Substitution: None Engineering controls: None Administrative controls 1.Self or Employer recommendations to visit Employee Assistant programme facilities always welcomed. 2. HR policies addressing bullying practices have been improved. 3. Awareness Personal protective equipment (PPE ):None | N23: 3 | O23: B | P23: III | Q23: Mostly effective | R23: Elimination: None Substitution: None Engineering controls: None Administrative controls: Finalise Psychosocial Issues Risk Assessment Personal protective equipment (PPE ):None | S23: Audits by Full Time Health and Safety Representative EAP Cases | T23: Site Supervisor | U23: OHSA No. 85 of 1993 section 8 ; -32-37 Eskom Substance Abuse Procedure - 32-520 Occupational Health & Safety Risk Assessment Procedure - 32-477 Safety Health and Environment Training and Development - 32-285 Medical surveillance - 32-95 Rev. 4 Environmental, Occupational Health and Safety Incident Management Procedure | V23: March 2024 | W23: In Progress | X23: Not Applicable
B24: N | C24: 13 | D24: Gender discrimination | E24: 13.1 | F24: Compromised self esteem | G24: Health | H24: Gender intolerance leading to suicidal employees | I24: Contractor employees | J24: Contractor Manager | K24: Daily, 8hrs | L24: Fatality due to suicide Depression | M24: Elimination: None Substitution: None Engineering controls: None Administrative controls : 1. Improvement awereness on HR polices 2.Managing gender based discrimination is implemented. Personal protective equipment (PPE):None | N24: 3 | O24: B | P24: III | Q24: Mostly effective | R24: Elimination: None Substitution: None Engineering controls: None Administrative controls : : Finalise Psychosocial Issues Risk Assessment Personal Protective Equipment(PPE):None | S24: Audits by Full Time Health and Safety Representative EAP Cases | T24: Site Supervisor | U24: OHSA No.85 of 1993 section 8; - 240-43848327 Right to Refuse to Work in an unsafe condition procedure - 32-520 Occupational Health & Safety Risk Assessment Procedure | V24: March 2024 | W24: In Progress | X24: Not Applicable
B25: N | C25: 14 | D25: Labour unrest | E25: 14.1 | F25: Employees fear for their lives or get injured and Eskom property/ Vehicle. | G25: Safety | H25: Poor service delivery | I25: Contractor employees | J25: Contractor Manager | K25: As and when they occur | L25: Fatalities Lost Time Injury Medical Incident | M25: Elimination: None Substitution: None Engineering controls: None Administrative controls: 1. Implementation of Emergency Preparedness Plan 2. Liaison with Security Intelligence 3. Local Police liaison with the organisation if there are road blocks around. 4. Employees use alternative roads for access Personal protective equipment (PPE):None | N25: 3 | O25: A | P25: IV | Q25: Fully effective | R25: Elimination: None Substitution: None Engineering controls: None Administrative controls Personal protective equipment (PPE ):None M | S25: Audits by Full Time Health and Safety Representative Reported cases | T25: Site Supervisor | U25: OHSA No.85 of 1993 section 8; - 240-43848327 Right to Refuse to Work in an unsafe condition procedure - 32-520 Occupational Health & Safety Risk Assessment Procedure | V25: Not Applicable | W25: Not Applicable | X25: Not Applicable
A26: Circuit Breaker Maintenance (Gas and oil breakers) - Preventative maintenance task (PMT) - Major Overhaul Task (MOT) | B26: R | C26: 15 | D26: Circuit breaker with SF6 (Sulphur Hexaflouride) gas | E26: 15.1 | F26: Electrocution | G26: Safety | H26: - Climbing on the wrong structure - Working in a live yard - Violation of ORHVS Electrical contact whilst carrying metal containing equipment in the HV yard including ladders, scaffolding etc | I26: Contractor Employees | J26: Contractor Manager | K26: Annually for +/- 30 minutes | L26: Electric shock Psychological damage Physical burns Neurological damage Ventricular fibrillation resulting in fatality Lost time Injury Medical Incident, Fatality. | M26: Elimination: None Substitution: None Engineering controls: None Administrative controls : - Technicians always ensure that equipment is opened, isolated and safe to work on. - An equipotential safety zone is created for each worker on the job site by earthing, bonding and/or insulating according to approved procedures to avoid contact by charging the equipment being tested. - Authorised person has certified and shown all team members that the apparatus is safe to work on. - Pre-task risk assessment to identify all risks and hazards has been conducted and complete workers register prior to any work commencing. - Permit is always issued before commencement of the testing activities. - Emergency preparedness plan is reviewed and discussed before any work commences. - Test Equipment. - Use updated drawings. - Fire extimguisher ,first aid kit ,FAS Rescue kit Personal protective equipment (PPE):(encompassing non-slip safety boots, electrical shock-resistant boots, long sleeve and long pants),and restriction on wearing of jewellery, long breem safety hat.) carry equipment horizontally in the HV Yard as per Eskom standards | N26: 3 | O26: B | P26: III | Q26: Mostly effective | R26: Elimination: None Substitution: None Engineering controls: None Administrative controls : - Emergency drill (Accidental release of SF6 gas) Personal protective equipment (PPE):None | S26: Inspections Audits Supervision | T26: Site Supervisor | U26: OHSA no. 85 of 1993 ,section 8,14 &24,Electrical Machinery Regulations,2011 _8,9,19&22 COIDA no.130 of 1993 ,section 22,23,24 & 25 GSR 3 GAR 8&9 32-846 Operating Regulations for High Voltage System - 240-43848327 Right to Refuse to Work in an unsafe condition procedure - 240-44175132 Eskom Personal Protective Equipment - - 32-520 Occupational Health & Safety Risk Assessment Procedure - Eskom Life Saving Rule No. 1 | V26: 45746 | W26: In Progress | X26: Not Applicable
B27: R | C27: 15 | D27: Circuit breaker with SF6 (Sulphur Hexaflouride) gas | E27: 15.2 | F27: Charged closing and tripping strings | G27: Safety | H27: - Not discharging the closing and tripping springs | I27: Contractor Employees | J27: Contractor Manager | K27: Annually for +/- 30 minutes | L27: Lost Time Injury Medical Incident | M27: Elimination: None Substitution: None Engineering controls: None Administrative controls : Before commencing any work inside mechanism, ensure that the springs are discharged and the circuit breaker made safe - Fire extimguisher ,first aid kit ,FAS Rescue kit Pesonal Protective Equipment(PPE):None | N27: 3 | O27: B | P27: III | Q27: Mostly effective | R27: Elimination: None Substitution: None Engineering controls: None Administrative controls : - Emergency drill (Accidental release of SF6 gas) Personal protective equipment (PPE):None | S27: Inspections Audits Supervision | T27: Site Supervisor | U27: OHSA no. 85 of 1993 ,section 8,14 &24,Electrical Machinery Regulations,2011 _8,9,19&22 COIDA no.130 of 1993 ,section 22,23,24 & 25 GSR 3 GAR 8&9 32-846 Operating Regulations for High Voltage System - 240-43848327 Right to Refuse to Work in an unsafe condition procedure - 240-44175132 Eskom Personal Protective Equipment - - 32-520 Occupational Health & Safety Risk Assessment Procedure - Eskom Life Saving Rule No. 1 | V27: 45746 | W27: In Progress | X27: Not Applicable
B28: R | C28: 15 | D28: Circuit breaker with SF6 (Sulphur Hexaflouride) gas | E28: 15.3 | F28: Operating on the wrong bay | G28: Safety | H28: - No proper barricading, No proper toolbox talk, not being properly informed, Failure to adhere to standard, procedures resulting in a fatality due to electrical shock state of mind | I28: Contractor Employees | J28: Contractor Manager | K28: Annually for +/- 30 minutes | L28: Fatality Loss of power supply Property damage Lost Time Injury Electrocution or Medical Incident, | M28: Elimination: None Substitution: None Engineering controls: None Administrative controls : Carry operating instruction form with you, check that you are at the correct bay. Follow ORHVS regulations (put up working on apparatus signs) Ensure you have a healthy state of mind with no distractions - Fire extimguisher ,first aid kit ,FAS Rescue kit Personal Protective Equipment(PPE):None | N28: 3 | O28: B | P28: III | Q28: Mostly effective | R28: Elimination: None Substitution: None Engineering controls: None Administrative controls :- Emergency drill (Accidental release of SF6 gas) Personal protective equipment (PPE):None | S28: Inspections Audits Supervision | T28: Site Supervisor | U28: OHSA no. 85 of 1993 ,section 8,14 &24,Electrical Machinery Regulations,2011 _8,9,19&22 COIDA no.130 of 1993 ,section 22,23,24 & 25 GSR 3 GAR 8&9 32-846 Operating Regulations for High Voltage System - 240-43848327 Right to Refuse to Work in an unsafe condition procedure - 240-44175132 Eskom Personal Protective Equipment - - 32-520 Occupational Health & Safety Risk Assessment Procedure - Eskom Life Saving Rule No. 1 | V28: 45381 | W28: In Progress | X28: Not Applicable
C29: 15 | D29: Circuit breaker with SF6 (Sulphur Hexaflouride) gas | E29: 15.4 | F29: Exposure to SF6 gas | G29: Health | H29: - Accidental release of SF6 gas which may cause eye, lung and skin irritation | I29: Contractor Employees | J29: Contractor Manager | K29: Daily for 8hrs | L29: Lost Time Injury Medical Incident | M29: Elimination: None Substitution: None Engineering controls: None Administrative controls : Ensure standards and procedures are followed using safe work methods where applicable Ensure correct tools are used and all tools have been inspected, calibrated, tested and approved. Ensure gas bottles are transported correctly with the substation grounds and secured when topping up to avoid falling. - Fire extimguisher ,first aid kit ,FAS Rescue kit Personal Protective Equipment : gloves, masks etc..) | N29: 3 | O29: B | P29: III | Q29: Mostly effective | R29: Elimination: None Substitution: None Engineering controls: None Administrative controls :Emergency drill (Accidental release of SF6 gas) Personal protective equipment (PPE):None | S29: Inspections Audits Supervision | T29: Site Supervisor | U29: OHSA no. 85 of 1993 ,section 8,14 &24,Regulations for Hazardous Chemical Aagents ,2021 (3,410,11,12,14A &14B) ,Electrical Machinery Regulations,2011 _8,9,19&22 COIDA no.130 of 1993 ,section 22,23,24 & 25 GSR 3 GAR 8&9 32-846 Operating Regulations for High Voltage System - 240-43848327 Right to Refuse to Work in an unsafe condition procedure - 240-44175132 Eskom Personal Protective Equipment - - 32-520 Occupational Health & Safety Risk Assessment Procedure - Eskom Life Saving Rule No. 1 | V29: 45746 | W29: In Progress | X29: Not Applicable
B30: R | C30: 15 | D30: Circuit breaker with SF6 (Sulphur Hexaflouride) gas | E30: 15.5 | F30: Explosion of vessels under pressure and pressurised pipes | G30: Safety | H30: - SF6 containers when involved in fire may rupture or burst in the heat of the fire causing fatalities | I30: Contractor Employees | J30: Contractor Manager | K30: Daily for 8hrs | L30: Multiple Fatalities Lost Time Injury Medical Incident | M30: Elimination: None Substitution: None Engineering controls: None Administrative controls - Conduct HCS Awareness - Cylinders should be stored upright and be firmly secured to prevent falling or being knocked-over. - Cylinders can be stored in the open, but in such cases, should be protected against extremes of weather and from the dampness of the ground to prevent rusting. - Cylinders should be stored in dry, well-ventilated areas away from sources of heat, ignition and direct sunlight. - Keep storage area clear of materials which can burn. - Emergency preparedness plan is reviewed and discussed before any work commences - Fire extimguisher ,first aid kit ,FAS Rescue kit Personal protective equipment (PPE):- Correct PPE i.e. Safety shoes, Overall, gloves, hard hat, eye protection are worn | N30: 3 | O30: B | P30: III | Q30: Mostly effective | R30: Elimination: None Substitution: None Engineering controls: None Administrative controls :Emergency drill (Accidental release of SF6 gas) Personal protective equipment (PPE):None | S30: Inspections Audits Supervision, Suitable PPE | T30: Site Supervisor | U30: OHSA no. 85 of 1993 ,section 8,14 &24,Regulations for Hazardous Chemical Aagents ,2021 (3,410,11,12,14A &14B) ,Pressure Equipment Regulations ,2009 (9,10,11,18 &19) ,Electrical Machinery Regulations,2011 _8,9,19&22 COIDA no.130 of 1993 ,section 22,23,24 & 25 GSR 3 GAR 8&9 32-846 Operating Regulations for High Voltage System - 240-43848327 Right to Refuse to Work in an unsafe condition procedure | V30: 45746 | W30: In Progress | X30: Not Applicable
C31: 15 | D31: Circuit breaker with SF6 (Sulphur Hexaflouride) gas | E31: 15.6 | F31: Use of faulty or incorrect equipment / tools | G31: Safety | H31: - Lack of training and knowledge - Inadequate Risk assessment - Inadequate Inspection and maintenance leading to incidents | I31: Contractor Employees | J31: Contractor Manager | K31: Daily for 8hrs | L31: Medical Incident First Aid Incident Lost time Injury. | M31: Elimination: None Substitution: None Engineering controls: None Administrative controls - Proper work plan to ensure that all required tool and equipments are available when doing circuit breaker maintanance - Ensure that risk assessment is done before work commences. - Tools, equipment and PPE i.e. gloves, etc to be checked for damage before use. -Ensure correct tools are used and all tools have been inspected, calibrated, tested and approved. - Fire extimguisher ,first aid kit ,FAS Rescue kit Personal protective equipment (PPE): None | N31: 3 | O31: B | P31: III | Q31: Mostly effective | R31: Elimination: None Substitution: None Engineering controls: None Administrative controls :Emergency drill (Accidental release of SF6 gas) Personal protective equipment (PPE):None | S31: Inspections Audits Supervision | T31: HV Plant Manager | U31: - Occupational Health and Safety Act, 1993 No. 85 of 1993 section 8 & 14 | V31: 45746 | W31: In Progress | X31: Not Applicable
B32: R | C32: 16 | D32: Substandard condition Circuit breakers with Oil | E32: 16.1 | F32: Electrocution | G32: Safety | H32: - Climbing on the wrong panel - Working in a live yard - Violation of ORHVS | I32: Contractor Employees | J32: Contractor Manager | K32: Daily for 8hrs | L32: Electric shock Psychological damage Physical burns Neurological damage Ventricular fibrillation resulting in fatality | M32: Elimination: None Substitution: None Engineering controls: None Administrative controls - Technicians always ensure that equipment is opened, isolated and safe to work on. - An equipotential safety zone is created for each worker on the job site by earthing, bonding and/or insulating according to approved procedures to avoid contact by charging the equipment being tested. - Authorised person (team leader) has certified and shown all team members that the apparatus is safe to work on. - Pre-task risk assessment to identify all risks and hazards has been conducted and complete workers register prior to any work commencing. - Enforcement of ORHVS. - Planned Task Observations are conducted. - Permit is always issued before commencement of the testing activities. - PPE issued:(encompassing non-slip safety boots, electrical shock-resistant boots, long sleeve and long pants),and restriction on wearing of jewellery, long breem safety hat. - Emergency preparedness plan is reviewed and discussed before any work commences. - Test Equipment.- Use updated drawings. | N32: 3 | O32: A | P32: IV | Q32: Fully effective | R32: Elimination: None Substitution: None Engineering controls: None Administrative controls :Nothing more to be done except review and monitor the existing controls. Personal protective equipment (PPE):None | S32: Inspections Audits Supervision, Job Observation, Retrain | T32: Site Supervisor | U32: OHSA no. 85 of 1993 ,section 8,14 &24 ,Electrical Machinery Regulations,2011 _8,9,19&22 COIDA no.130 of 1993 ,section 22,23,24 & 25 GSR 3 GAR 8&9 32-846 Operating Regulations for High Voltage System - 240-43848327 Right to Refuse to Work in an unsafe condition procedure - 240-44175132 Eskom Personal Protective Equipment - - 32-520 Occupational Health & Safety Risk Assessment Procedure - Eskom Life Saving Rule No. 1 | V32: Not Applicable | W32: Not Applicable | X32: Not Applicable
B33: R | C33: 16 | D33: Substandard condition Circuit breakers with Oil | E33: 16.2 | F33: Charged closing and tripping strings | G33: Safety | H33: - Not discharging the closing and tripping strings | I33: Contractor Employees | J33: Contractor Manager | K33: Annually for +/- 30 minutes | L33: Lost Time Injury Medical Incident | M33: Elimination: None Substitution: None Engineering controls: None Administrative controls: - Before commencing any work inside mechanism, staff ensures that the springs are discharged and the circuit breaker made safe. - Enforce current control. - Enforce compliance to ORHVS Personal protective equipment (PPE ): Safety shoes ,gloves , | N33: 3 | O33: A | P33: IV | Q33: Fully effective | R33: Elimination: None Substitution: None Engineering controls: None Administrative controls :Nothing more to be done except review and monitor the existing controls. Personal protective equipment (PPE):None | S33: Inspections Audits Supervision | T33: Site Supervisor | U33: OHSA no. 85 of 1993 ,section 8,14 &24 COIDA no.130 of 1993 ,section 22,23,24 & 25 GSR 3 GAR 8&9 32-846 Operating Regulations for High Voltage System - 240-43848327 Right to Refuse to Work in an unsafe condition procedure - 240-44175132 Eskom Personal Protective Equipment - 32-285 32-95 Environmental, Occupational Health and Safety Incident | V33: Not Applicable | W33: Not Applicable | X33: Not Applicable
B34: R | C34: 16 | D34: Substandard condition Circuit breakers with Oil | E34: 16.3 | F34: Operating on the wrong Bay | G34: Safety | H34: - No proper barricading, No proper toolbox talk, not being properly informed, Failure to adhere to standard, procedures resulting in a fatality due to electrical shock | I34: Contractor Employees | J34: Contractor Manager | K34: Daily for 8hrs | L34: Loss of power supply Property damage , Lost Time Injury Electrocution or Medical Incident or Fatal | M34: Elimination: None Substitution: None Engineering controls: None Administrative controls - The requirements of the ORHVS Regulation i.e. ORHVS training and authorisation, access management, conduct pre-task risk assessment, complete workers register, work permit in place and, barricading the work environment is implemented. - The panel to worked on gets properly barricaded. - Before work commences site specific risk assessment as per scope of work is conducted. - All risks identified and the control measures get discussed with everyone involved in the task. - All applicable rules, standards and procedures are adhered to, at all times - Emergency preparedness plan is reviewed and discussed before any work commences - Job observation when doing critical task and SMAT (Behavioural) Observations. Personal protective equipment (PPE ):None | N34: 3 | O34: A | P34: IV | R34: Elimination: None Substitution: None Engineering controls: None Administrative controls :Nothing more to be done except review and monitor the existing controls. Personal protective equipment (PPE):None | S34: Inspections Audits Supervision | T34: Site Supervisor | U34: OHSA no. 85 of 1993 ,section 8,14 &24 COIDA no.130 of 1993 ,section 22,23,24 & 25 GSR 3 GAR 8&9 32-846 Operating Regulations for High Voltage System - 240-43848327 Right to Refuse to Work in an unsafe condition procedure - 240-44175132 Eskom Personal Protective Equipment 32-95 Environmental, Occupational Health and Safety Incident | V34: Not Applicable | W34: Not Applicable | X34: Not Applicable
B35: R | C35: 16 | D35: Substandard condition Circuit breakers with Oil | E35: 16.4 | F35: Use of faulty or incorrect equipment / tools | G35: Safety | H35: - Lack of training and knowledge - Inadequate Risk assessment - Inadequate Inspection and maintenance leading to incidents | I35: Contractor Employees | J35: Contractor Manager | K35: Daily for 8hrs | L35: Medical Incident First Aid Incident, Lost time Injury. | M35: Elimination: None Substitution: None Engineering controls: None Administrative controls - Proper work plan to ensure that all required tool and equipments are available when doing circuit breaker maintanance is prapred. - The risk assessment is always done before work commences. - Tools, equipment and PPE i.e. gloves, etc are checked for damage before use. Personal protective equipment (PPE ):None | N35: 3 | O35: A | P35: IV | Q35: Fully effective | R35: Elimination: None Substitution: None Engineering controls: None Administrative controls :Nothing more to be done except review and monitor the existing controls. Personal protective equipment (PPE):None | S35: Inspections Audits Supervision | T35: Site Supervisor | U35: OHSA no. 85 of 1993 ,section 8,14 &24 COIDA no.130 of 1993 ,section 22,23,24 & 25 GSR 3 GAR 8&9 32-846 Operating Regulations for High Voltage System - 240-43848327 Right to Refuse to Work in an unsafe condition procedure - 240-44175132 Eskom Personal Protective Equipment - 32-285 - - 32-95 Environmental, Occupational Health and Safety Incident | V35: Not Applicable | W35: Not Applicable | X35: Not Applicable
B36: R | C36: 16 | D36: Substandard condition Circuit breakers with Oil | E36: 16.5 | F36: Contact with circuit breaker oil | G36: Safety | H36: - Accidental leakage of circuit braker oil resulting in incidents | I36: Contractor Employees | J36: Contractor Manager | K36: Daily for 8hrs | L36: Lost Time Injury Eye, noseand throat irritation Dermatitis (Inflammation) | M36: Elimination: None Substitution: None Engineering controls: None Administrative controls : - All equipment that are leaking oil are repaired - SDS for the oil is available and employees are trained on SDS and control measures in case of contact incident - The risk assessment is always done B6before work commences. - Tools, equipment and PPE i.e. gloves, etc are checked for damages before use. - Ensure oil spill kit is available and is adequate. Personal protective equipment (PPE):gloves | N36: 3 | O36: A | P36: IV | Q36: Fully effective | R36: Elimination: None Substitution: None Engineering controls: None Administrative controls :Nothing more to be done except review and monitor the existing controls. Personal protective equipment (PPE):None | S36: Inspections Audits Supervision | T36: Site Supervisor | U36: OHSA no. 85 of 1993 ,section 8,14 &24 ,Electrical Machinery Regulations,2011 _8,9,19&22, Hazardous Chemical Agents 3,4,10,12,14A &14B COIDA no.130 of 1993 ,section 22,23,24 & 25 GSR 3 GAR 8&9 32-846 Operating Regulations for High Voltage System - 240-43848327 Right to Refuse to Work in an unsafe condition procedure - 240-44175132 Eskom Personal Protective Equipment - - 32-520 Occupational Health & Safety Risk Assessment Procedure - Eskom Life Saving Rule No. 1 | V36: Not Applicable | W36: Not Applicable | X36: Not Applicable
B37: R | C37: 16 | D37: Circuit breaker with SF6 (Sulphur Hexaflouride) gas | E37: 16.6 | F37: Exposure to SF6 gas which may cause eye, lung and skin irritation | G37: Health | H37: - Accidental release of SF6 gas | I37: Contractor Employees | J37: Contractor Manager | K37: As and when required | L37: Lost Time Injury Medical Incident | M37: Elimination: None Substitution: None Engineering controls: None Administrative controls: - Tools, equipment and PPE get C5checked for damages before use. -Emergency preparedness plan is reviewed and discussed before any work commences - Job observation when doing critical task and SMAT (Behavioural) Observations. Personal Protective Equipment (PPE): Safety shoes, Overall, gloves, hard hat, eye protection | N37: 3 | O37: A | P37: IV | Q37: Fully effective | R37: Elimination: None Substitution: None Engineering controls: None Administrative controls :Nothing more to be done except review and monitor the existing controls. Personal protective equipment (PPE):None Maintain existing controls | S37: Inspections Audits Supervision | T37: Site Supervisor | U37: OHSA no. 85 of 1993 ,section 8,14 &24 ,Electrical Machinery Regulations,2011 _8,9,19&22, Hazardous Chemical Agents 3,4,10,12,14A &14B COIDA no.130 of 1993 ,section 22,23,24 & 25 GSR 3 GAR 8&9 32-846 Operating Regulations for High Voltage System - 240-43848327 Right to Refuse to Work in an unsafe condition procedure - 240-44175132 Eskom Personal Protective Equipment - - 32-520 Occupational Health & Safety Risk Assessment Procedure - Eskom Life Saving Rule No. 1 | V37: Not Applicable | W37: Not Applicable | X37: Not Applicable
B38: R | C38: 16 | D38: Circuit breaker with SF6 (Sulphur Hexaflouride) gas | E38: 16.7 | F38: Explosion of vessels under pressure and SF6 pressurised pipes | G38: Health | H38: - SF6 containers when involved in fire may rupture or burst in the heat of the fire. - Pressurised SF6 gas pipes | I38: Contractor Employees | J38: Contractor Manager | K38: As and when required | L38: Medical Incident | M38: Elimination: None Substitution: None Engineering controls: None Administrative controls : - Cylinders are stored upright and firmly secured to prevent falling or being knocked-over. - Cylinders are stored in the open spaces, but also protected against extremes of weather and from the dampness of the ground to prevent rusting. - Cylinders are stored in dry, well-ventilated areas away from sources of heat, ignition and direct sunlight. - Storages areas are kept clear of materials which can burn. - Emergency preparedness plan is reviewed and discussed before any work commences. Personal Protective Equipment (PPE) : Safety shoes, Overall, gloves, hard hat, eye protection | N38: 3 | O38: A | P38: IV | Q38: Fully effective | R38: Elimination: None Substitution: None Engineering controls: None Administrative controls :Nothing more to be done except review and monitor the existing controls. Personal protective equipment (PPE):None | S38: Inspections Audits Supervision | T38: Site Supervisor | U38: OHSA no. 85 of 1993 ,section 8,14 &24 ,Electrical Machinery Regulations,2011 _8,9,19&22, Hazardous Chemical Agents 3,4,10,12,14A ,14B &19) COIDA no.130 of 1993 ,section 22,23,24 & 25 GSR 3 GAR 8&9 32-846 Operating Regulations for High Voltage System - 240-43848327 Right to Refuse to Work in an unsafe condition procedure - 240-44175132 Eskom Personal Protective Equipment - - 32-520 Occupational Health & Safety Risk Assessment Procedure - Eskom Life Saving Rule No. 1 | V38: Not Applicable | W38: Not Applicable | X38: Not Applicable
B39: R | C39: 16 | E39: 16.7 | F39: Use of faulty or incorrect equipment / tools | G39: Safety | H39: - Lack of training and knowledge -Inadequate Risk assessment - Inadequate Inspection and maintenance | I39: Contractor Employees | J39: Contractor Manager | K39: As and when required | L39: Medical Incident First Aid Incident, Lost time Injury. | M39: Elimination: None Substitution: None Engineering controls: None Administrative controls : - Proper work plan is developed to ensure that all required tool and equipments are available when doing circuit breaker maintanance - Risk assessment is done before work commences. - Tools, equipment and PPE gloves, etc are checked for damages before use. Personal Protective Equipment:None | N39: 3 | O39: A | P39: IV | Q39: Fully effective | R39: Elimination: None Substitution: None Engineering controls: None Administrative controls :Nothing more to be done except review and monitor the existing controls. Personal protective equipment (PPE):None | S39: Inspections Audits Supervision | T39: Site Supervisor | U39: OHSA no. 85 of 1993 ,section 8,14 &24 ,Electrical Machinery Regulations,2011 _8,9,19&22 COIDA no.130 of 1993 ,section 22,23,24 & 25 GSR 3 GAR 8&9 32-846 Operating Regulations for High Voltage System - 240-43848327 Right to Refuse to Work in an unsafe condition procedure - 240-44175132 Eskom Personal Protective Equipment - - 32-520 Occupational Health & Safety Risk Assessment Procedure - Eskom Life Saving Rule No. 1 | V39: Not Applicable | W39: Not Applicable | X39: Not Applicable
B40: R | C40: 17 | D40: Crane truck mechanical failure | E40: 17.1 | F40: Rigging using a truck-mounted crane to overhaul circuit breaker | G40: Safety | H40: - Mechanical failure of truck-mounted crane - Lack of training on the truck-mounted crane operating. - Lack of load test certificate and inspection of truck-mounted crane operating. | I40: Contractor Employees | J40: Contractor Manager | K40: As and when required | L40: Lost Time Injury Medical Incident Property Damage | M40: Elimination: None Substitution: None Engineering controls: None Administrative controls : - The truck-mounted crane and slings are load tested annually and inspected 3 monthly by a competent person and inspected before use. - Truck-mounted crane is operated by trained / competent person when maintenance is done. The Crane and Load is ensure free movement, not tied down before operating. - Tools, equipment and PPE get checked for damages before use. - Employees are medically tested by the Occupational Health Practitiner and fit for work. -Employees ensure that there is no overhead live conductor to prevent electrical induction. - The area gets barricaded where there is lifting activity to prevent unauthorised persons - Emergency preparedness plan is reviewed and discussed before any work commences - Job observation when doing critical task and SMAT (Behavioural) Observations. Personal Protective Equipment (PPE): gloves | N40: 3 | O40: A | P40: IV | Q40: Fully effective | R40: Elimination: None Substitution: None Engineering controls: None Administrative controls :Nothing more to be done except review and monitor the existing controls. Personal protective equipment (PPE):None | S40: Inspections Audits Supervision | T40: Site Supervisor | U40: OHSA no. 85 of 1993 ,section 8,14 &24 ,Electrical Machinery Regulations,2011 _8,9,19&22 COIDA no.130 of 1993 ,section 22,23,24 & 25 GSR 3 ,Driven Machinery Regulations ,2015 (18), GAR 8&9 32-846 Operating Regulations for High Voltage System - 240-43848327 Right to Refuse to Work in an unsafe condition procedure - 240-44175132 Eskom Personal Protective Equipment - - 32-520 Occupational Health & Safety Risk Assessment Procedure - Eskom Life Saving Rule No. 1 | V40: Not Applicable | W40: Not Applicable | X40: Not Applicable
A41: Isolator Maintenance | B41: R | C41: 18 | D41: Substandard condition Isolator | E41: 18.1 | F41: AC/DC Volt electrocution on motorised isolators | G41: Safety | H41: - Working in a live yard result in exposure to live parts of the plant , equipment or machinery - Violation of ORHVS - Inadequate or inappropriate training - Working on or near equipment which is thought to be dead - Inadequate risk assessment - Taking shortcuts - Lack of concentration - Inadequate communication - Failure to adhere to standards, procedure and instruction | I41: Contractor Employees | J41: Contractor Manager | K41: Weekly for 8hrs | L41: Electric shock Psychological damage Physical burns Neurological damage Ventricular fibrillation resulting in fatality | M41: Elimination:None Substitution: None Engineering Controls:None Administrative Controls: - Technicians always ensure that equipment is opened, isolated and earthed and or bonded and safe to work on. - Compliance to ORHVS - Planned Task Observations (PTO) - An equipotential safety zone is created for each worker on the job site by earthing, bonding and/or insulating according to approved procedures to avoid contact by charging the equipment being tested. - Authorised person (team leader) has certified and shown all team members that the apparatus is safe to work on. - Pre-task risk assessment to identify all risks and hazards has been conducted and complete workers register prior to any work commencing. - Permit is always issued before commencement of the testing activities. - PPE issued:(encompassing non-slip safety boots, electrical shock-resistant boots, long sleeve and long pants),and restriction on wearing of jewellery, long breem safety hat. - Emergency preparedness plan is reviewed and discussed before any work commences. - Test Equipment.- Use updated drawings. Personal Protective Equipment (PPE):goggles,safety shoes,overall | N41: 3 | O41: A | P41: IV | Q41: Fully effective | R41: Elimination: None Substitution: None Engineering controls: None Administrative controls :Nothing more to be done except review and monitor the existing controls. Personal protective equipment (PPE):None | S41: Inspections, Audits Supervision | T41: Site Supervisor | U41: OHSA no. 85 of 1993 ,section 8,14 &24 ,Electrical Machinery Regulations,2011 _8,9,19&22 COIDA no.130 of 1993 ,section 22,23,24 & 25 GSR 3 ,Driven Machinery Regulations ,2015 (18), GAR 8&9 32-846 Operating Regulations for High Voltage System - 240-43848327 Right to Refuse to Work in an unsafe condition procedure - 240-44175132 Eskom Personal Protective Equipment - - 32-520 Occupational Health & Safety Risk Assessment Procedure - Eskom Life Saving Rule No. 1 | V41: Not Applicable | W41: Not Applicable | X41: Not Applicable
B42: R | C42: 18 | D42: Substandard condition Isolator | E42: 18.2 | F42: Substandard or defective tools and equipment. | G42: Safety | H42: - Lack of training and knowledge - Inadequate Risk assessment - Inadequate Inspection and maintenance leading to incidents | I42: Contractor Employees | J42: Contractor Manager | K42: Weekly for 8hrs | L42: Medical Incident First Aid Incident, Lost time Injury. | M42: Elimination:None Substitution: None Engineering Controls:None Administrative Controls: - Proper work plan is developed to ensure that all required tools and equipments are available when conducting circuit breaker maintanance - Employees ensure that risk assessment is done before work commences. Personal Protective Equipmenyt (PPE): gloves, safety shoes,overall | N42: 3 | O42: A | P42: IV | Q42: Fully effective | R42: Elimination: None Substitution: None Engineering controls: None Administrative controls :Nothing more to be done except review and monitor the existing controls. Personal protective equipment (PPE):None | S42: Inspections Audits Supervision | T42: Site Supervisor | U42: OHSA no. 85 of 1993 ,section 8,14 &24 ,Electrical Machinery Regulations,2011 _8,9,19&22 COIDA no.130 of 1993 ,section 22,23,24 & 25 GSR 3 ,Driven Machinery Regulations ,2015 (18), GAR 8&9 32-846 Operating Regulations for High Voltage System - 240-43848327 Right to Refuse to Work in an unsafe condition procedure - 240-44175132 Eskom Personal Protective Equipment - - 32-520 Occupational Health & Safety Risk Assessment Procedure - Eskom Life Saving Rule No. 1 | V42: Not Applicable | W42: Not Applicable | X42: Not Applicable
B43: R | C43: 18 | D43: Substandard condition Isolator | E43: 18.4 | F43: Rigging using a truck-mounted crane to overhaul the isolator | G43: Safety | H43: Fatality resulting from: - Mechanical failure of truck-mounted crane - Lack of training on the truck-mounted crane operating. - Lack of load test certificate and inspection of truck-mounted crane operating | I43: Contractor Employees | J43: Contractor Manager | K43: Weekly for 8hrs | L43: Fatality Lost Time Injury Medical Incident Property Damage | M43: Elimination:None Substitution: None Engineering Controls:None Administrative Controls: - The truck-mounted crane and slings are load tested annually and inspected 3 monthly by a competent person and inspected before use. - Truck-mounted crane get operated by trained / competent person and isolator maintenance to be done. Ensure that Skyjack, Aerial bucket (Cherrypicker), Man lift or any similar device is not tied down and is free to move before operating commences. - Tools, equipment and PPE are checked for damage before use. - Employees are medically tested by the Occupational Health Practitioner and fit for work. - Employees ensure that there is no overhead live conductor to prevent electrical induction. - Employees ensure that the area is barricaded where there is lifting activity to prevent unauthorised persons - Emergency preparedness plan is reviewed and discussed before any work commences - Job observation when doing critical task and Behavioural Observations. Personal Protective quipment (PPE): safety shoes,hearing protection,overall | N43: 3 | O43: A | P43: IV | Q43: Fully effective | R43: Elimination: None Substitution: None Engineering controls: None Administrative controls :Nothing more to be done except review and monitor the existing controls. Personal protective equipment (PPE):None | S43: Inspections Audits Supervision | T43: Site Supervisor | U43: OHSA no. 85 of 1993 ,section 8,14 &24 ,Electrical Machinery Regulations,2011 _8,9,19&22 COIDA no.130 of 1993 ,section 22,23,24 & 25 GSR 3 ,Driven Machinery Regulations ,2015 (18), GAR 8&9 32-846 Operating Regulations for High Voltage System - 240-43848327 Right to Refuse to Work in an unsafe condition procedure - 240-44175132 Eskom Personal Protective Equipment - - 32-520 Occupational Health & Safety Risk Assessment Procedure - Eskom Life Saving Rule No. 1 | V43: Not Applicable | W43: Not Applicable | X43: Not Applicable
B44: R | C44: 19 | D44: Substandard Condition of Earth Switch | E44: 19.1 | F44: Electrocution | G44: Health | H44: - Working in a live yard result in exposure to live parts of the plant , equipment or machinery - Violation of ORHVS - Inadequate or inappropriate training - Working on or near equipment which is thought to be dead - Inadequate risk assessment - Taking shortcuts - Lack of concentration - Inadequate communication - Failure to adhere to standards, procedure and instruction | I44: Contractor Employees | J44: Contractor Manager | K44: Weekly for 8hrs | L44: Electric shock Psychological damage Physical burns Neurological damage Ventricular fibrillation resulting in fatality | M44: Elimination:None Substitution: None Engineering Controls:None Administrative Controls: - Technicians always ensure that equipment is opened, isolated and safe to work on. - An equipotential safety zone is created for each worker on the job site by earthing, bonding and/or insulating according to approved procedures to avoid contact by charging the equipment being tested. - Compliance to ORHVS - Responsible Person (team leader) has certified and shown all team members that the apparatus is safe to work on. - Pre-task risk assessment to identify all risks and hazards has been conducted and complete workers register prior to any work commencing. - Permit is always issued before commencement of the testing activities. - PPE issued:(encompassing non-slip safety boots, electrical shock-resistant boots, long sleeve and long pants),and restriction on wearing of jewellery, long breem safety hat. - Emergency preparedness plan is reviewed and discussed before any work commences. - Test Equipment.- Use updated drawings. Personal Protective Equipment (PPE) :Safety shoes,hearing protection,overall | N44: 3 | O44: A | P44: IV | Q44: Fully effective | R44: Elimination: None Substitution: None Engineering controls: None Administrative controls :Nothing more to be done except review and monitor the existing controls. Personal protective equipment (PPE):None | S44: Inspections Audits Supervision | T44: Site Supervisor | U44: OHSA no. 85 of 1993 ,section 8,14 &24 ,Electrical Machinery Regulations,2011 _8,9,19&22 COIDA no.130 of 1993 ,section 22,23,24 & 25 GSR 3 ,Driven Machinery Regulations ,2015 (18), GAR 8&9 32-846 Operating Regulations for High Voltage System - 240-43848327 Right to Refuse to Work in an unsafe condition procedure - 240-44175132 Eskom Personal Protective Equipment - - 32-520 Occupational Health & Safety Risk Assessment Procedure - Eskom Life Saving Rule No. 1 | V44: Not Applicable | W44: Not Applicable | X44: Not Applicable
B45: R | C45: 20 | D45: Substandard condition Isolator | E45: 20.1 | F45: Slip, trip and fall on the same level due to uneven surface resulting in injuries | G45: Safety | H45: - Uneven surfaces - Failure to identify the risk - Lack of concentration - Open trench covers | I45: Contractor Employees | J45: Contractor Manager | K45: Weekly for 8hrs | L45: Lost Time Injury Medical Incident First Aid Incident | M45: Elimination:None Substitution: None Engineering Controls:None Administrative Controls: - Personal protective equipment (e.g. slip-resistant footwear) are provided. - The risk assessment is always done before work commences. - Inspection of work areas on a regular basis as per the procedure and implement control measures is also executed. - Employees are trained on slip, trips and fall risks and control measures. Open trench covers are to be barricaded with danger tape. Damaged trench covers to be removed and replaced. Disks to be written on the abnormal board in substations. Personal Protective Equipment (PPE) -safety shoes,overall . | N45: 3 | O45: A | P45: IV | Q45: Fully effective | R45: Elimination: None Substitution: None Engineering controls: None Administrative controls :Nothing more to be done except review and monitor the existing controls. Personal protective equipment (PPE):None | S45: Inspections Audits Supervision | T45: Site Supervisor | U45: OHSA no. 85 of 1993 ,section 8,14 &24 ,Electrical Machinery Regulations,2011 _8,9,19&22 COIDA no.130 of 1993 ,section 22,23,24 & 25 GSR 3 ,Driven Machinery Regulations ,2015 (18), GAR 8&9 32-846 Operating Regulations for High Voltage System - 240-43848327 Right to Refuse to Work in an unsafe condition procedure - 240-44175132 Eskom Personal Protective Equipment - - 32-520 Occupational Health & Safety Risk Assessment Procedure - Eskom Life Saving Rule No. 1 | V45: Not Applicable | W45: Not Applicable | X45: Not Applicable
B46: R | C46: 20 | D46: Substandard condition Isolator | E46: 20.2 | F46: Incidents due to working when cleaning contacts | G46: Safety | H46: - Incorrect or dirty chemical used for cleaning contacts - Ineffective PPE | I46: Contractor Employees | J46: Contractor Manager | K46: Weekly for 8hrs | L46: Static electrical contact | M46: Elimination:None Substitution: None Engineering Controls:None Administrative Controls: Pre-task risk assessment to identify all risks and hazards get conducted and complete workers register prior to any work commencing. - The permits are issued before commencement of the testing activities. - Ensure approved chemicals are used as per standards/procedures. - Personal Protective Equipment : issued:(encompassing non-slip safety boots, electrical shock-resistant boots, long sleeve and long pants),and restriction on wearing of jewellery, long brim safety hat. | N46: 3 | O46: A | P46: IV | Q46: Fully effective | R46: Elimination: None Substitution: None Engineering controls: None Administrative controls :Nothing more to be done except review and monitor the existing controls. Personal protective equipment (PPE):None | S46: Inspections Audits Supervision | T46: Site Supervisor | U46: OHSA no. 85 of 1993 ,section 8,14 &24 ,Electrical Machinery Regulations,2011 _8,9,19&22 COIDA no.130 of 1993 ,section 22,23,24 & 25 GSR 3 ,Driven Machinery Regulations ,2015 (18), GAR 8&9 32-846 Operating Regulations for High Voltage System - 240-43848327 Right to Refuse to Work in an unsafe condition procedure - 240-44175132 Eskom Personal Protective Equipment - - 32-520 Occupational Health & Safety Risk Assessment Procedure - Eskom Life Saving Rule No. 1 | V46: Not Applicable | W46: Not Applicable | X46: Not Applicable
B47: R | C47: 20 | D47: Standard Condition Isolater | E47: 20.3 | F47: Muscularskeletal disorders cause by Poor Ergonomics practices | G47: Safety | H47: - Work posture due to prolonged crouching position - Awkward body postures | I47: Contractor Employees | J47: Contractor Manager | K47: 3-Yearly for 3hrs (with 30 minutes every 3hrs) | L47: Work related Musculo-skeletal disorder: Overuse or overexertion injuries, osteo-arthritis, degenerative joint disease, and repetitive strain injuries | M47: Elimination:None Substitution: None Engineering Controls:None Administrative Controls: - Safe Working Procedures Personal Protective Equipment(PPE):gloves,safety shoes,overall | N47: 3 | O47: A | P47: IV | Q47: Fully effective | R47: Elimination: None Substitution: None Engineering controls: None Administrative controls :Maintain existing controls Personal protective equipment (PPE):None | S47: Surveys Reports Inspection Audit | T47: Site supervisor | U47: OHSA no. 85 of 1993 ,section 8,14 &24 ,Electrical Machinery Regulations,2011 _8,9,19&22 COIDA no.130 of 1993 ,section 22,23,24 & 25 GSR 3 ,Driven Machinery Regulations ,2015 (18),Ergonomics Regulations ,2019 (6,8) GAR 8&9 32-846 Operating Regulations for High Voltage System - 240-43848327 Right to Refuse to Work in an unsafe condition procedure - 240-44175132 Eskom Personal Protective Equipment - - 32-520 Occupational Health & Safety Risk Assessment Procedure - Eskom Life Saving Rule No. 1 | V47: March 2024 | W47: In progress | X47: Not Applicable
B48: R | C48: 20 | D48: Standard Condition Isolater | E48: 20.4 | F48: Exposure to degreaser when cleaning the isolator causing skin irritation | G48: Safety | H48: Skin Contact with grease | I48: Contractor Employees | J48: BU Manager | K48: 3-Yearly for 3hrs (with 30 minutes every 3hrs) | L48: Dermatisis (Inflammation) | M48: Elimination:None Substitution: None Engineering Controls:None Administrative Controls: - Compliance to Safety Data Sheet - Pre-task risk assessment to identify all risks and hazards has been conducted and complete workers register prior to any work commencing. - Ensure that the permit is issued before commencement of the testing activities. - Personal Protective Equipment (PPE ):(encompassing non-slip safety boots, electrical shock-resistant boots, long sleeve and long pants),and restriction on wearing of jewellery, long brim safety hat), gloves. | N48: 3 | O48: A | P48: IV | R48: Elimination: None Substitution: None Engineering controls: None Administrative controls :Maintain existing controls Personal protective equipment (PPE):None | S48: MSDS Reported cases | T48: HV Plant Manager | U48: OHSA no. 85 of 1993 ,section 8,14 &24 ,Electrical Machinery Regulations,2011 _8,9,19&22 COIDA no.130 of 1993 ,section 22,23,24 & 25 GSR 3 ,Driven Machinery Regulations ,2015 (18),Ergonomics Regulations ,2019 (6,8) GAR 8&9 32-846 Operating Regulations for High Voltage System - 240-43848327 Right to Refuse to Work in an unsafe condition procedure - 240-44175132 Eskom Personal Protective Equipment - - 32-520 Occupational Health & Safety Risk Assessment Procedure - Eskom Life Saving Rule No. 1 | V48: Not Applicable | W48: Not Applicable | X48: Not Applicable
A49: Battery Room Maintenance - Battery first line maintenance - Conduct measurements on batteries | B49: R | C49: 21 | D49: Battery acid and fumes | E49: 21.1 | F49: Inhalation and contact with Battery acids | G49: Health | H49: - Lack of training and knowledge - Ineffective PPE - Lack of concentration - Inadequate Risk assessment - Inadequate communication - Failure to adhere to standards, procedure and instruction | I49: Eskom HV Plant Employees | J49: BU Manager | K49: Weekly for 3hrs | L49: Lost Time Injury Medical Incident Occupational diseases | M49: Elimination:None Substitution: None Engineering Controls:None Administrative Controls: • Employees are trained on the SOPs of all activities of the battery room, safety aspects and emergency measures. • Emergency shower and eyewash fountain is provided. • Safety goggles; battery room overalls; suitable gloves to operators are provided • Lead acid with alkaline batteries and vice versa are not stored. • Acid equipment on alkaline cells or vice versa is not allowed. The different electrolytes will nuetralise each other. • Present HCS awarenes training. • Conduct Behavioural Observations and Planned Task Observations -Ensure extractor fan is working and there is sufficient ventilation Personal Protective Equipment (PPE ):(encompassing non-slip safety boots, electrical shock-resistant boots, long sleeve and long pants),and restriction on wearing of jewellery, long brim safety hat), full face-shield, gloves, acid-resistant overalls. | N49: 3 | O49: A | P49: IV | Q49: Fully effective | R49: Elimination: None Substitution: None Engineering controls: None Administrative controls :Maintain existing controls Personal protective equipment (PPE):None | S49: Inspections Audits Supervision | T49: HV Plant Manager | U49: OHSA no. 85 of 1993 ,section 8,14 &24 ,Electrical Machinery Regulations,2011 _8,9,19&22 COIDA no.130 of 1993 ,section 22,23,24 & 25,Hazardous Chemical Agents,201 3,4,10,11,12,14A &14B) GSR 3 ,Driven Machinery Regulations ,2015 (18),Ergonomics Regulations ,2019 (6,8) GAR 8&9 32-846 Operating Regulations for High Voltage System - 240-43848327 Right to Refuse to Work in an unsafe condition procedure - 240-44175132 Eskom Personal Protective Equipment - - 32-520 Occupational Health & Safety Risk Assessment Procedure - Eskom Life Saving Rule No. 1 | V49: March 2024 | W49: In Progress | X49: Not Applicable
B50: R | C50: 21 | D50: Battery acid and fumes | E50: 21.2 | F50: Build-up of gas inside the cell causing risk of cell explosion | G50: Safety | H50: - Lack of training and knowledge - Ineffective PPE - Lack of concentration - Inadequate Risk assessment - Inadequate communication - Failure to adhere to standards, procedure and instruction | I50: Eskom HV Plant Employees | J50: BU Manager | K50: Weekly for 3hrs | L50: Lost Time Injury Medical Incident Occupational diseases | M50: Elimination:None Substitution: None Engineering Controls:None Administrative Controls: • Employees are trained on the SOPs of all activities of the battery room, safety aspects and emergency measures. • Emergency shower and eyewash fountain is provided. • Safety goggles; battery room overalls; suitable gloves to operators are provided • Lead acid with alkaline batteries and vice versa are not stored. • Acid equipment on alkaline cells or vice versa is not allowed. The different electrolytes will nuetralise each other. • Present HCS awarenes training. • Conduct Behavioural Observatons and Planned task Observations -Ensure there is bicarbonate of soda in the battery room to neutralise acid spills -Ensure extractor fan is working and there is sufficient ventilation Personal Protective Equipment (PPE ):(encompassing non-slip safety boots, electrical shock-resistant boots, long sleeve and long pants),and restriction on wearing of jewellery, long brim safety hat), full face-shield, gloves, acid-resistant overalls. | N50: 3 | O50: A | P50: IV | Q50: Fully effective | R50: Elimination: None Substitution: None Engineering controls: None Administrative controls :Maintain existing controls Personal protective equipment (PPE):None | S50: Inspections Audits Supervision | T50: HV Plant Manager | U50: OHSA no. 85 of 1993 ,section 8,14 &24 ,Electrical Machinery Regulations,2011 _8,9,19&22 COIDA no.130 of 1993 ,section 22,23,24 & 25,Hazardous Chemical Agents,201 3,4,10,11,12,14A &14B) GSR 3 ,Driven Machinery Regulations ,2015 (18),Ergonomics Regulations ,2019 (6,8) GAR 8&9 32-846 Operating Regulations for High Voltage System - 240-43848327 Right to Refuse to Work in an unsafe condition procedure - 240-44175132 Eskom Personal Protective Equipment - - 32-520 Occupational Health & Safety Risk Assessment Procedure - Eskom Life Saving Rule No. 1 | V50: Not Applicable | W50: Not Applicable | X50: Not Applicable
B51: R | C51: 21 | D51: Battery acid and fumes | E51: 21.3 | F51: Hydrogen and Sulfuric Acid gas is released when the batteries are charged and can easily be ignited if a spark or on open flame is created in the battery room. | G51: Safety | H51: - Lack of training and knowledge - Lack of concentration - Inadequate Risk assessment - Inadequate communication - Failure to adhere to standards, procedure and instruction | I51: Eskom HV Plant Employees | J51: BU Manager | K51: Weekly for 3hrs | L51: Fatality Lost Time Injury Medical Incident Occupational diseases | M51: Elimination:None Substitution: None Engineering Controls:None Administrative Controls: • Do not wear synthetic clothes, rags or brushes for these could get charged with static electricity and cause an explosion. • Acid-proof safety clothing is used. • Our staff ensure that there is no spillage of electrolyte; it is corrosive and toxic. If electrolyte comes in contact with eyes, flush with water and report to the medical centre immediately. - Ensure extractor fan is working and there is sufficient ventilation Personal Protective Equipment (PPE ):(encompassing non-slip safety boots, electrical shock-resistant boots, long sleeve and long pants),and restriction on wearing of jewellery, long brim safety hat), full face-shield, gloves, acid-resistant overalls. | N51: 3 | O51: A | P51: IV | Q51: Fully effective | R51: Elimination: None Substitution: None Engineering controls: None Administrative controls :Maintain existing controls Personal protective equipment (PPE):None | S51: Inspections Audits Supervision | T51: HV Plant Manager | U51: OHSA no. 85 of 1993 ,section 8,14 &24 ,Electrical Machinery Regulations,2011 _8,9,19&22 COIDA no.130 of 1993 ,section 22,23,24 & 25,Hazardous Chemical Agents,201 3,4,10,11,12,14A &14B) GSR 3 ,Driven Machinery Regulations ,2015 (18),Ergonomics Regulations ,2019 (6,8) GAR 8&9 32-846 Operating Regulations for High Voltage System - 240-43848327 Right to Refuse to Work in an unsafe condition procedure - 240-44175132 Eskom Personal Protective Equipment - - 32-520 Occupational Health & Safety Risk Assessment Procedure - Eskom Life Saving Rule No. 1 | V51: March 2024 | W51: In Progress | X51: Not Applicable
B52: R | C52: 21 | D52: Battery acid and fumes | E52: 21.4 | F52: • Exposure to hazardous substances i.e. Hydrogen; Sulphuric acid and Potassium hydroxide • Sulphuric acid which is highly corrosive . | G52: Health | H52: - Lack of training and knowledge - Ineffective PPE - Lack of concentration - Inadequate Risk assessment - Inadequate communication - Failure to adhere to standards, procedure and instruction | I52: Eskom HV Plant Employees | J52: BU Manager | K52: Weekly for 3hrs | L52: Lost Time Injury Medical Incident Occupational diseases | M52: Elimination:None Substitution: None Engineering Controls:None Administrative Controls: • Employees are trained on the SOPs of all activities of the battery room, safety aspects and emergency measures. • Emergency shower and eyewash fountain is provided. • Safety goggles; battery room overalls; suitable gloves to operators are provided • Lead acid with alkaline batteries and vice versa are not stored. • Acid equipment on alkaline cells or vice versa is not allowed. The different electrolytes will nuetralise each other. - Ensure extractor fan is working and there is sufficient ventilation Personal Protective Equipment (PPE ):(encompassing non-slip safety boots, electrical shock-resistant boots, long sleeve and long pants),and restriction on wearing of jewellery, long brim safety hat), full face-shield, gloves, acid-resistant overalls. | N52: 3 | O52: A | P52: IV | Q52: Fully effective | R52: Elimination: None Substitution: None Engineering controls: None Administrative controls :Maintain existing controls Personal protective equipment (PPE):None | S52: Inspections Audits Supervision | T52: HV Plant Manager | U52: OHSA no. 85 of 1993 ,section 8,14 &24 ,Electrical Machinery Regulations,2011 _8,9,19&22 COIDA no.130 of 1993 ,section 22,23,24 & 25,Hazardous Chemical Agents,201 3,4,10,11,12,14A &14B) GSR 3 ,Driven Machinery Regulations ,2015 (18),Ergonomics Regulations ,2019 (6,8) GAR 8&9 32-846 Operating Regulations for High Voltage System - 240-43848327 Right to Refuse to Work in an unsafe condition procedure - 240-44175132 Eskom Personal Protective Equipment - - 32-520 Occupational Health & Safety Risk Assessment Procedure - Eskom Life Saving Rule No. 1 | V52: March 2024 | W52: In Progress | X52: Not Applicable
B53: R | C53: 22 | E53: 22.1 | F53: Poor illumination causing eye strain | G53: Health | H53: - Lack of training and knowledge - Ineffective PPE - Lack of concentration - Inadequate Risk assessment - Inadequate communication - Failure to adhere to standards, procedure and instruction | I53: Eskom HV Plant Employees | J53: BU Manager | K53: Weekly for 3hrs | L53: Eyestrain Fatigue Double-vision | M53: Elimination:None Substitution: None Engineering Controls:None Administrative Controls: - Employees are trained on the risk and hazards associated with work inside the battery room - Sufficient flame proof lighting when working inside the battery room is provided. - Employees are provided with required PPE as per the risk assessment - Risk assessment is conducted before work commences and implement the control measures - Emergency preparedness plan is reviewed and discussed before any work commences. - Complete illumination surveys 2 yearly or when required. Personal Protective Equipment (PPE ):(encompassing non-slip safety boots, electrical shock-resistant boots, long sleeve and long pants),and restriction on wearing of jewellery, long brim safety hat) | N53: 3 | O53: A | P53: IV | Q53: Fully effective | R53: Elimination: None Substitution: None Engineering controls: None Administrative controls :Maintain existing controls Personal protective equipment (PPE):None | S53: Inspections Audits Supervision | T53: HV Plant Manager | U53: . OHSA No.85 of 1993 , Environmental Regulations for Workplaces 3 -Illumination surveys based on Environmental Regulations for work places minimum average values of maintained illuminance schedule - 32-520 Occupational Health & Safety Risk Assessment Procedure | V53: March 2024 | W53: In Progress | X53: Not Applicable
A54: Bay Equipment Maintenance - Light inspection / maintenance - Label inspection / maintenance - Security fence inspection and maintaining access gate | B54: R | C54: 23 | D54: Substandard condition Substation label | E54: 22.1 | F54: Hand injuries when changing safety signs along the substation fence. | G54: Safety | H54: - Lack of training and knowledge - Ineffective PPE - Lack of concentration - Inadequate Risk assessment - Inadequate communication - Failure to adhere to standards, procedure and instruction | I54: Eskom HV Plant and Contractor Employees | J54: BU Manager | K54: daily | L54: Lost Time Injury Medical Incident | M54: Elimination:None Substitution: None Engineering Controls:None Administrative Controls: All Handtools, whether private or company tools, must be listed on the prescribed checklist and checked for integrity at prescribed intervals. No unsafe Handtools or purpose made tools may be used.Enforce use of PPE, Training on material handling. Personal Protective Equipment (PPE ):(encompassing non-slip safety boots, electrical shock-resistant boots, long sleeve and long pants),and restriction on wearing of jewellery, long brim safety hat) , gloves | N54: 3 | O54: A | P54: IV | Q54: Fully effective | R54: Elimination: None Substitution: None Engineering controls: None Administrative controls :Maintain existing controls Personal protective equipment (PPE):None | S54: Audits and Inspections, | T54: HV Plant Manager | U54: OHSA no. 85 of 1993 ,section 8,14 &24 ,Electrical Machinery Regulations,2011 _8,9,19&22 COIDA no.130 of 1993 ,section 22,23,24 & 25,Hazardous Chemical Agents,201 3,4,10,11,12,14A &14B) GSR 3 ,Driven Machinery Regulations ,2015 (18),Ergonomics Regulations ,2019 (6,8) GAR 8&9 32-846 Operating Regulations for High Voltage System - 240-43848327 Right to Refuse to Work in an unsafe condition procedure - 240-44175132 Eskom Personal Protective Equipment - - 32-520 Occupational Health & Safety Risk Assessment Procedure - Eskom Life Saving Rule No. 1 | V54: Not Applicable | W54: Not Applicable | X54: Not Applicable
B55: R | C55: 24 | D55: Security fence and access gate | E55: 21.1 | F55: Slipping, tripping and falling while walking on uneven surfaces | G55: Safety | H55: - Lack of awarenessand knowledge - Ineffective PPE - Lack of concentration - Inadequate Risk assessment - Failure to adhere to standards, procedure and instruction | I55: Eskom HV Plant and Contractor Employees | J55: BU Manager | K55: Monthly | L55: Lost Time Injury Medical Incident | M55: Elimination:None Substitution: None Engineering Controls:None Administrative Controls: Pre-task risk assessment is done to identify all risks and hazards has been conducted and complete workers register prior to any work commencing. - Permit is issued before commencement of the testing activities. Personal Protective Equipment (PPE ):(encompassing non-slip safety boots, electrical shock-resistant boots, long sleeve and long pants),and restriction on wearing of jewellery, long brim safety hat) | N55: 3 | O55: A | P55: IV | Q55: Fully effective | R55: Elimination: None Substitution: None Engineering controls: None Administrative controls :Maintain existing controls Personal protective equipment (PPE):None | S55: Inspections Audits Supervision | T55: HV Plant Manager | U55: OHSA no. 85 of 1993 ,section 8,14 &24 ,Electrical Machinery Regulations,2011 _8,9,19&22 COIDA no.130 of 1993 ,section 22,23,24 & 25,Hazardous Chemical Agents,201 3,4,10,11,12,14A &14B) GSR 3 ,Driven Machinery Regulations ,2015 (18),Ergonomics Regulations ,2019 (6,8) GAR 8&9 32-846 Operating Regulations for High Voltage System - 240-43848327 Right to Refuse to Work in an unsafe condition procedure - 240-44175132 Eskom Personal Protective Equipment - - 32-520 Occupational Health & Safety Risk Assessment Procedure - Eskom Life Saving Rule No. 1 | V55: Not Applicable | W55: Not Applicable | X55: Not Applicable
A56: Static Variation Compensator (SVC) preventative maintenance | B56: R | C56: 25 | D56: Substandard Condition Static Variation Compensator | E56: 25.1 | F56: Electric Shock | G56: Safety | H56: - Lack of training and knowledge - Ineffective PPE - Lack of concentration - Inadequate Risk assessment - Inadequate communication - Failure to adhere to standards, procedure and instruction | I56: Eskom HV Plant and Contractor Employees | J56: BU Manager | K56: Monthly | L56: Fatality, -Lost Time Injury -Medical Incident | M56: Elimination:None Substitution: None Engineering Controls:None Administrative Controls: - Technicians always ensure that equipment is opened, isolated and safe to work on. - An equipotential safety zone is created for each worker on the job site by earthing, bonding and/or insulating according to approved procedures to avoid contact by charging the equipment being tested. - Authorised person (team leader) has certified and shown all team members that the apparatus is safe to work on. - Pre-task risk assessment to identify all risks and hazards has been conducted and complete workers register prior to any work commencing. - Permit is always issued before commencement of the testing activities. - Emergency preparedness plan is reviewed and discussed before any work commences. - Test Equipment.- Use updated drawings. -Adhere to ORHVS regulations. Personal Protective Equipment (PPE ):(encompassing non-slip safety boots, electrical shock-resistant boots, long sleeve and long pants),and restriction on wearing of jewellery, long brim safety hat) | N56: 3 | O56: A | P56: IV | Q56: Fully effective | R56: Elimination: None Substitution: None Engineering controls: None Administrative controls :Maintain existing controls Personal protective equipment (PPE):None | S56: Inspections Audits Supervision | T56: HV Plant Manager | U56: OHSA no. 85 of 1993 ,section 8,14 &24 ,Electrical Machinery Regulations,2011 _8,9,19&22 COIDA no.130 of 1993 ,section 22,23,24 & 25,Hazardous Chemical Agents,201 3,4,10,11,12,14A &14B) GSR 3 ,Driven Machinery Regulations ,2015 (18),Ergonomics Regulations ,2019 (6,8) GAR 8&9 32-846 Operating Regulations for High Voltage System - 240-43848327 Right to Refuse to Work in an unsafe condition procedure - 240-44175132 Eskom Personal Protective Equipment - - 32-520 Occupational Health & Safety Risk Assessment Procedure - Eskom Life Saving Rule No. 1 | V56: Not Applicable | W56: Not Applicable | X56: Not Applicable
B57: R | C57: 26 | D57: Substandard Condition Static Variation Compensator | E57: 26.1 | F57: Hoisting and rigging at capacitor banks; Lifting hazards which may result in property damage and personal injuries | G57: Safety | H57: - Lack of training and knowledge - Ineffective PPE - Lack of concentration - Inadequate Risk assessment - Inadequate communication - Failure to adhere to standards, procedure and instruction | I57: Eskom HV Plant employees and Contractor Employees | J57: BU Manager | K57: Monthly | L57: Lost Time Injury Medical Incident, Fatality. | M57: Elimination:None Substitution: None Engineering Controls:None Administrative Controls: • The capacitor units shall be carefully lifted by the structural metal part only, the insulators, bushings or conductors shall not be used for lifting. • Ensure that the capacitor bank yard gate is locked with the live chamber lock. Ensure that the Load is not tied down and is free to move before the operator moves it. • No climbing on the capacitor cans insulators or bushings shall be done as they cannot withstand high mechanical stresses and an accidental breakage may cause injury. • The correctly rated nylon slings shall be used to lift the capacitor units and no metal slings shall be used for lifting the capacitor units. • Caution: Lift all parts carefully and only by the lifting lugs to avoid equipment damage and accidental injury. Do not lift by the bushings, insulators or conductors. always guide capacitor units while lifting. avaoid swinging. Personal Protective Equipment (PPE ):(encompassing non-slip safety boots, electrical shock-resistant boots, long sleeve and long pants),and restriction on wearing of jewellery, long brim safety hat) | N57: 3 | O57: A | P57: IV | Q57: Fully effective | R57: Elimination: None Substitution: None Engineering controls: None Administrative controls :Maintain existing controls Personal protective equipment (PPE):None | S57: Inspections Audits Supervision | T57: HV Plant Manager | U57: OHSA no. 85 of 1993 ,section 8,14 &24 ,Electrical Machinery Regulations,2011 _8,9,19&22 COIDA no.130 of 1993 ,section 22,23,24 & 25,Hazardous Chemical Agents,201 3,4,10,11,12,14A &14B) GSR 3 ,Driven Machinery Regulations ,2015 (18),Ergonomics Regulations ,2019 (6,8) GAR 8&9 32-846 Operating Regulations for High Voltage System - 240-43848327 Right to Refuse to Work in an unsafe condition procedure - 240-44175132 Eskom Personal Protective Equipment - - 32-520 Occupational Health & Safety Risk Assessment Procedure - Eskom Life Saving Rule No. 1 | V57: Not Applicable | W57: Not Applicable | X57: Not Applicable
A58: Operating | B58: R | C58: 27 | D58: Substandard condition Plant Machinery | E58: 27.1 | F58: - Working in a live yard result in exposure to live parts of the plant , equipment or machinery - Violation of ORHVS - Inadequate or inappropriate training - Working on or near equipment which is thought to be dead - Inadequate risk assessment - Taking shortcuts - Lack of concentration - Inadequate communication - Failure to adhere to standards, procedure and instruction | H58: - Working in a live yard result in exposure to live parts of the plant , equipment or machinery - Violation of ORHVS - Inadequate or inappropriate training - Working on or near equipment which is thought to be dead - Inadequate risk assessment - Taking shortcuts - Lack of concentration - Inadequate communication - Failure to adhere to standards, procedure and instruction | I58: Eskom HV Plant Employees | J58: BU Manager | K58: Daily | L58: Electric shock Psychological damage Physical burns Neurological damage Ventricular fibrillation resulting in fatality | M58: Elimination:None Substitution: None Engineering Controls:None Administrative Controls: - Technicians always ensure that equipment is opened, isolated and safe to work on. -Ensure that Supervision is in place - Enforce compliance to ORHVS - Ensure that Planned Task Observations are conducted - An equipotential safety zone is created for each worker on the job site by earthing, bonding and/or insulating according to approved procedures to avoid contact by charging the equipment being tested. - Responsible Person (team leader) has certified and shown all team members that the apparatus is safe to work on. - Pre-task risk assessment to identify all risks and hazards has been conducted and complete workers register prior to any work commencing. - Permit is always issued before commencement of the testing activities. - PPE issued:(encompassing non-slip safety boots, electrical shock-resistant boots, long sleeve and long pants),and restriction on wearing of jewellery, long breem safety hat. - Emergency preparedness plan is reviewed and discussed before any work commences. - Test Equipment.- Use updated drawings. do not allow machinery without certification and correct paperwork into substations and do not use such machinery to carry out any tasks. Personal Protective Equipment (PPE ):(encompassing non-slip safety boots, electrical shock-resistant boots, long sleeve and long pants),and restriction on wearing of jewellery, long brim safety hat) | N58: 3 | O58: A | P58: IV | R58: Elimination: None Substitution: None Engineering controls: None Administrative controls :Maintain existing controls Personal protective equipment (PPE):None | S58: Inspections Audits Supervision | T58: HV Plant Manager | U58: OHSA no. 85 of 1993 ,section 8,14 &24 ,Electrical Machinery Regulations,2011 _8,9,19&22 COIDA no.130 of 1993 ,section 22,23,24 & 25,Hazardous Chemical Agents,201 3,4,10,11,12,14A &14B) GSR 3 ,Driven Machinery Regulations ,2015 (18),Ergonomics Regulations ,2019 (6,8) GAR 8&9 32-846 Operating Regulations for High Voltage System - 240-43848327 Right to Refuse to Work in an unsafe condition procedure - 240-44175132 Eskom Personal Protective Equipment - - 32-520 Occupational Health & Safety Risk Assessment Procedure - Eskom Life Saving Rule No. 1 | V58: Not Applicable | W58: Not Applicable | X58: Not Applicable
B59: R | C59: 28 | D59: operating on the wrong panel | E59: 28.1 | F59: - No proper barricading - No proper toolbox talk - No being of being properly informed - Failure to adhere to standard, procedures - Lack of concentration - Inadequate communication | H59: - No proper barricading - No proper toolbox talk - No being of being properly informed - Failure to adhere to standard, procedures - Lack of concentration - Inadequate communication | I59: Eskom HV Plant Employees | J59: BU Manager | K59: Monthly | L59: Loss of power supply Property damage | M59: Elimination:None Substitution: None Engineering Controls:None Administrative Controls: - The requirements of the ORHVS Regulation i.e. ORHVS training and authorisation, access management, conduct pre-task risk assessment, complete workers register, work permit in place and, barricading the work environment is implemented. - The panel to worked on gets properly barricaded. - Before work commences site specific risk assessment as per scope of work is conducted. - All risks identified and the control measures get discussed with everyone involved in the task. - All applicable rules, standards and procedures are adhered to, at all times - Emergency preparedness plan is reviewed and discussed before any work commences - Job observation when doing critical task and Behavioural Observation - Ensure operating instruction forms are carried when doing operating. Personal Protective Equipment (PPE ):(encompassing non-slip safety boots, electrical shock-resistant boots, long sleeve and long pants),and restriction on wearing of jewellery, long brim safety hat) | N59: 3 | O59: A | P59: IV | Q59: Fully effective | R59: Elimination: None Substitution: None Engineering controls: None Administrative controls :Maintain existing controls Personal protective equipment (PPE):None | S59: Inspections Audits Supervision | T59: HV Plant Manager | U59: OHSA no. 85 of 1993 ,section 8,14 &24 ,Electrical Machinery Regulations,2011 _8,9,19&22 COIDA no.130 of 1993 ,section 22,23,24 & 25,Hazardous Chemical Agents,201 3,4,10,11,12,14A &14B) GSR 3 ,Driven Machinery Regulations ,2015 (18),Ergonomics Regulations ,2019 (6,8) GAR 8&9 32-846 Operating Regulations for High Voltage System - 240-43848327 Right to Refuse to Work in an unsafe condition procedure - 240-44175132 Eskom Personal Protective Equipment - - 32-520 Occupational Health & Safety Risk Assessment Procedure - Eskom Life Saving Rule No. 1 | V59: Not Applicable | W59: Not Applicable | X59: Not Applicable
B60: R | C60: 29 | D60: Ergonomics | E60: 29.1 | F60: - Work posture due to prolonged crouching position - Awkward body postures | H60: - Work posture due to prolonged crouching position - Awkward body postures | I60: Eskom HV Plant Employees | J60: BU Manager | K60: Monthly | L60: Work related Musculo-skeletal disorder: Overuse or overexertion injuries, osteo-arthritis, degenerative joint disease, and repetitive strain injuries | M60: Elimination:None Substitution: None Engineering Controls:None Administrative Controls: - Plant ergonomics program are developed and implemented. - Occupational hygiene surveys are conducted as per the OHS Act requirments. Personal Protective Equipment (PPE ):(encompassing non-slip safety boots, electrical shock-resistant boots, long sleeve and long pants),and restriction on wearing of jewellery, long brim safety hat) | N60: 3 | O60: A | P60: IV | Q60: Fully effective | R60: Elimination: None Substitution: None Engineering controls: None Administrative controls :Maintain existing controls Personal protective equipment (PPE):None | S60: Surveys Inspection Audit | T60: HV Plant Manager | U60: OHSA no. 85 of 1993 ,section 8,14 &24 ,Electrical Machinery Regulations,2011 _8,9,19&22 COIDA no.130 of 1993 ,section 22,23,24 & 25,Hazardous Chemical Agents,201 3,4,10,11,12,14A &14B) GSR 3 ,Driven Machinery Regulations ,2015 (18),Ergonomics Regulations ,2019 (6,8) GAR 8&9 32-846 Operating Regulations for High Voltage System - 240-43848327 Right to Refuse to Work in an unsafe condition procedure - 240-44175132 Eskom Personal Protective Equipment - - 32-520 Occupational Health & Safety Risk Assessment Procedure - Eskom Life Saving Rule No. 1 | V60: Not Applicable | W60: Not Applicable | X60: Not Applicable
B61: R | C61: 29 | D61: Substandard condition Plant Machinery | E61: 29.2 | F61: - Working in a live yard result in exposure to live parts of the plant , equipment or machinery - Violation of ORHVS - Inadequate or inappropriate training - Working on or near equipment which is thought to be dead - Inadequate risk assessment - Taking shortcuts - Lack of concentration - Inadequate communication - Failure to adhere to standards, procedure and instruction | H61: - Working in a live yard result in exposure to live parts of the plant , equipment or machinery - Violation of ORHVS - Inadequate or inappropriate training - Working on or near equipment which is thought to be dead - Inadequate risk assessment - Taking shortcuts - Lack of concentration - Inadequate communication - Failure to adhere to standards, procedure and instruction | I61: Eskom HV Plant Employees | J61: BU Manager | K61: Monthly | L61: Electric shock Psychological damage Physical burns Neurological damage Ventricular fibrillation resulting in fatality | M61: Elimination:None Substitution: None Engineering Controls:None Administrative Controls: - Technicians always ensure that equipment is opened, isolated and safe to work on. - An equipotential safety zone is created for each worker on the job site by earthing, bonding and/or insulating according to approved procedures to avoid contact by charging the equipment being tested. - Responsible Person(team leader) has certified and shown all team members that the apparatus is safe to work on. - Pre-task risk assessment to identify all risks and hazards has been conducted and complete workers register prior to any work commencing. - Permit is always issued before commencement of the testing activities. - Emergency preparedness plan is reviewed and discussed before any work commences. - Test Equipment.- Use updated drawings. Personal Protective Equipment (PPE ):(encompassing non-slip safety boots, electrical shock-resistant boots, long sleeve and long pants),and restriction on wearing of jewellery, long brim safety hat) | N61: 3 | O61: A | P61: IV | Q61: Fully effective | R61: Elimination: None Substitution: None Engineering controls: None Administrative controls :Maintain existing controls Personal protective equipment (PPE):None | S61: Inspections Audits Supervision | T61: HV Plant Manager | U61: OHSA no. 85 of 1993 ,section 8,14 &24 ,Electrical Machinery Regulations,2011 _8,9,19&22 COIDA no.130 of 1993 ,section 22,23,24 & 25,Hazardous Chemical Agents,201 3,4,10,11,12,14A &14B) GSR 3 ,Driven Machinery Regulations ,2015 (18),Ergonomics Regulations ,2019 (6,8) GAR 8&9 32-846 Operating Regulations for High Voltage System - 240-43848327 Right to Refuse to Work in an unsafe condition procedure - 240-44175132 Eskom Personal Protective Equipment - - 32-520 Occupational Health & Safety Risk Assessment Procedure - Eskom Life Saving Rule No. 1 | V61: Not Applicable | W61: Not Applicable | X61: Not Applicable
A62: Substation General Maintenance - Substation monthly routine inspection - Substation safety inspection (by safety representatives) - Substation fire extinguisher maintenance - Substation building and facility maintenance | B62: R | C62: 30 | D62: Substandard Substation Yard Environment | E62: 30.1 | F62: Poor housekeeping leading to injuries (eg. Sharp objects, slips,trips,and fall..) | G62: Health | H62: Improper inspections, clean-up, repair & maintenance | I62: -Eskom HV Plant Employees -Contractor Employees | J62: BU Manager | K62: Daily | L62: Lost Time Injury, Medical Injuries | M62: Elimination:None Substitution: None Engineering Controls:None Administrative Controls: - Management of General waiste. -Risk Assessment is conducted prior the commencement with work, -Ensure HV yard is free of vegetation ensure spare are stored corectly in accordance with the standard Personal Protective Equipment (PPE ):(encompassing non-slip safety boots, electrical shock-resistant boots, long sleeve and long pants),and restriction on wearing of jewellery, long brim safety hat) | N62: 3 | O62: A | P62: IV | Q62: Fully effective | R62: Elimination: None Substitution: None Engineering controls: None Administrative controls :Maintain existing controls Personal protective equipment (PPE):None | S62: Inspections Audits | T62: HV Plant Manager | U62: OHSA no. 85 of 19OHSA no. 85 of 1993 ,section 8,14 &24 ,Electrical Machinery Regulations,2011 _8,9,19&22 COIDA no.130 of 1993 ,section 22,23,24 & 25, GSR3 ; -OHS Housekeeping inspection. - Environmental Regulations for Workplaces 6(1)(2) &(3) - 240-43848327 Right to Refuse to Work in an unsafe condition procedure - 32-520 Occupational Health & Safety Risk Assessment Procedure | V62: Not Applicable | W62: Not Applicable | X62: Not Applicable
B63: R | C63: 30 | D63: Substandard Substation Yard Environment | E63: 30.2 | F63: Overgrown vegetation which might harbour snakes, etc. | G63: Safety | H63: Improper inspections, clean-up, repair & maintenance | I63: -Eskom HV Plant Employees -Contractor Employees | J63: BU Manager | K63: Monthly | L63: Lost time injury, Fatality | M63: Elimination:None Substitution: None Engineering Controls:None Administrative Controls: - Snake catchers numbers are always available, -Snake awareness is also presented to everyone. - Ensure substation grounds are free of vegetation. Personal Protective Equipment (PPE ):(encompassing non-slip safety boots, electrical shock-resistant boots, long sleeve and long pants),and restriction on wearing of jewellery, long brim safety hat) | N63: 3 | O63: A | P63: IV | Q63: Fully effective | R63: Elimination: None Substitution: None Engineering controls: None Administrative controls :Maintain existing controls Personal protective equipment (PPE):None | S63: Inspections Audits | T63: HV Plant Manager | U63: OHS Act Sections 8 & 14; GSR 2 & 3; Environmental Regulations for Workplaces 6(1)(2) &(3) | V63: Not Applicable | W63: Not Applicable | X63: Not Applicable
B64: R | C64: 30 | D64: Substandard Substation Yard Environment | E64: 30.3 | F64: Broken, open or damaged trench covers in the HV Yard | G64: Safety | H64: Improper inspections, clean-up, repair & maintenance | I64: -Eskom HV Plant Employees -Contractor Employees | J64: BU Manager | K64: Weekly | L64: Lost time injury | M64: Elimination:None Substitution: None Engineering Controls:None Administrative Controls: - Engineering Assistants do ensure that sites and worklaces are inspected and kept in good order, - Risk assessment is conducted. -Damaged trench covers to be removed and replaced. -Areas of broken pr missing trench covers to be demarcated and barricaded with danger tape. Personal Protective Equipment (PPE ):(encompassing non-slip safety boots, electrical shock-resistant boots, long sleeve and long pants),and restriction on wearing of jewellery, long brim safety hat) | N64: 3 | O64: A | P64: IV | Q64: Fully effective | R64: Elimination: None Substitution: None Engineering controls: None Administrative controls :Maintain existing controls Personal protective equipment (PPE):None | S64: Inspections Audits | T64: HV Plant Manager | U64: OHS Act Sections 8 & 14; GSR 2 & 3; Environmental Regulations for Workplaces 6(1)(2) &(3) | V64: Not Applicable | W64: Not Applicable | X64: Not Applicable
B65: R | C65: 30 | D65: Substandard Substation Yard Environment | E65: 30.4 | F65: Uneven surface environment which might result in slips, trips and falls. | G65: Safety | H65: Improper inspections, clean-up, repair & maintenance | I65: -Eskom HV Plant Employees -Contractor Employees | J65: BU Manager | K65: Weekly | L65: Lost time injury | M65: Elimination:None Substitution: None Engineering Controls:None Administrative Controls: - Engineering Assistants do ensure that sites and worklaces are inspected and kept in good order, - Risk assessment is conducted priot commencememnt of the job. Personal Protective Equipment (PPE ):(encompassing non-slip safety boots, electrical shock-resistant boots, long sleeve and long pants),and restriction on wearing of jewellery, long brim safety hat) | N65: 3 | O65: A | P65: IV | Q65: Fully effective | R65: Elimination: None Substitution: None Engineering controls: None Administrative controls :Maintain existing controls Personal protective equipment (PPE):None | S65: Inspections Audits | T65: HV Plant Manager | U65: OHS Act no.85 of 1993 Sections 8 & 14; GSR 2 & 3; Environmental Regulations for Workplaces 6(1)(2) &(3) | V65: Not Applicable | W65: Not Applicable | X65: Not Applicable
B66: R | C66: 30 | D66: Substandard Substation Yard Environment | E66: 30.5 | F66: Exposure to thermal stress (excessive cold and heat) depending on the season. | G66: Health | H66: - Ultra-violet radiation from the sun - Inclement Weather Conditions (extremely cold / hot conditions) | I66: -Eskom HV Plant Employees -Contractor Employees | J66: BU Manager | K66: Monthly | L66: Heat rashes Heat stroke Heat edema Heat exhaustion Heat syncope Heat cramps Heat cramps Hypothermia | M66: Elimination:None Substitution: None Engineering Controls:None Administrative Controls: - Drinking lot of fluids to prevent dehydration. do help our employees. - Work-rest Regime:Employees are allways encouraged to take resting period or stop an activity when there are warnings of extreme weather condition. - Employees reduces duration of exposure. If exposure occurs, it occurs over short durations. - Employees are subjected to training and education (induction), which includes heat exposure, cold exposure and PPE including control measures. - Employees are acclimatised on working in these weather condition particular hot environment. - Natural ventilation: work is performed outdoors under adequate natural ventilation conditions. The effectiveness of the ventilation condition is mainly determined by weather conditions. - Mechanical ventilation: air conditioning units are installed in the control room in order to regulate indoor temperatures. -use of sunscreen for protection Personal Protective Equipment (PPE ):(encompassing non-slip safety boots, electrical shock-resistant boots, long sleeve and long pants),and restriction on wearing of jewellery, long brim safety hat) | N66: 3 | O66: A | P66: IV | Q66: Fully effective | R66: Elimination: None Substitution: None Engineering controls: None Administrative controls :Maintain existing controls Personal protective equipment (PPE):None | S66: Inspection Audit | T66: HV Plant Manager | U66: - Occupational Health and Safety Act no.85 of 1993 ,section 14 - Environmental Regulations for Workplaces 2,4&5 | V66: Not Applicable | W66: Not Applicable | X66: Not Applicable
B67: R | C67: 30 | D67: Substandard Substation Yard Environment | E67: 30.6 | F67: Electrical Faults leading to equipment failure and system errors; exposure risks | G67: Safety | H67: Scheduled testing, maintenance, repair | I67: Eskom HV Plant Employees | J67: BU Manager | K67: 6 Yearly | L67: Injury , equipment loss, Lost time injury | M67: Elimination:None Substitution: None Engineering Controls:None Administrative Controls: Megger test; Inspections & reporting Personal Protective Equipment (PPE ):(encompassing non-slip safety boots, electrical shock-resistant boots, long sleeve and long pants),and restriction on wearing of jewellery, long brim safety hat) | N67: 3 | O67: A | P67: IV | Q67: Fully effective | R67: Elimination: None Substitution: None Engineering controls: None Administrative controls :Maintain existing controls Personal protective equipment (PPE):None | S67: Scheduled Testing | T67: HV Plant Manager | U67: OHS Act no.85 of 1993 Electrical Machinery Regulations ,2011 (18) & - Eskom Standard Earthing Standard - 24-82736997 | V67: Not Applicable | W67: Not Applicable | X67: Not Applicable
B68: R | C68: 30 | D68: Substandard Substation Yard Environment | E68: 30.7 | F68: Overheating; melting of portable earth; failure & delay | G68: Safety | H68: Scheduled testing & Inspection | I68: Eskom HV Plant Employees | J68: BU Manager | K68: Monthly | L68: Burn injury, Trips, Delays, Fatality. | M68: Elimination:None Substitution: None Engineering Controls:None Administrative Controls: -ORHVS Regulation i.e. ORHVS training and authorisation is implemented. - Engineering Assistants do ensure that equipment is tested (scheduled tests & inspection before use. - Ensuring enforcement compliance to ORHVS, - Ensuring Planned Task Observations are conducted. - Effective defect management Personal Protective Equipment (PPE ):(encompassing non-slip safety boots, electrical shock-resistant boots, long sleeve and long pants),and restriction on wearing of jewellery, long brim safety hat) | N68: 3 | O68: A | P68: IV | Q68: Fully effective | R68: Elimination: None Substitution: None Engineering controls: None Administrative controls :Maintain existing controls Personal protective equipment (PPE):None | S68: Scheduled Testing & Inspection before use | T68: HV Plant Manager | U68: OHS Act no.85 of 1993 Electrical Machinery Regulations ,2011 (18) & - Eskom Standard Earthing Standard - 24-82736997 | V68: Not Applicable | W68: Not Applicable | X68: Not Applicable
B69: R | C69: 30 | D69: Substandard Substation Yard Environment | E69: 30.8 | F69: Grinding / Cutting | G69: Safety | H69: Hot work, Sparks, flying metal particles, noise, sharp edges, | I69: Eskom HV Plant Employees | J69: BU Manager | K69: Bi-monthly | L69: Burns, cuts, object in eye, Lost time injury, Fatality. | M69: Elimination:None Substitution: None Engineering Controls:None Administrative Controls: Permits are issued to control,maintain tools & equipment. Personal Protective Equipment (PPE ):(encompassing non-slip safety boots, electrical shock-resistant boots, long sleeve and long pants),and restriction on wearing of jewellery, long brim safety hat) | N69: 3 | O69: A | P69: IV | Q69: Fully effective | R69: Elimination: None Substitution: None Engineering controls: None Administrative controls :Maintain existing controls Personal protective equipment (PPE):None | S69: Site audits, Contractor Pre- and Post- audits, H&S Rep Inspections, Statutory meetings | T69: HV Plant Manager | U69: Occupational Health and Safety Act, 1993 (Act No. 85 of 1993) ,General Safety Regulations 9(1)(2)(3) | V69: Not Applicable | W69: Not Applicable | X69: Not Applicable
B70: R | C70: 30 | D70: Substandard Substation Yard Environment | E70: 30.9 | F70: Drilling | G70: Safety | H70: Flying metal particles, noise, sharp edges, | I70: Eskom HV Plant Employees | J70: BU Manager | K70: Bi-monthly | L70: Cuts, object in eye, Lost time injury | M70: Elimination:None Substitution: None Engineering Controls:None Administrative Controls: Permits are issued to control,maintain tools & equipment. Personal Protective Equipment (PPE ):(encompassing non-slip safety boots, electrical shock-resistant boots, long sleeve and long pants),and restriction on wearing of jewellery, long brim safety hat), gloves, full face shields | N70: 3 | O70: A | P70: IV | Q70: Fully effective | R70: Elimination: None Substitution: None Engineering controls: None Administrative controls :Maintain existing controls Personal protective equipment (PPE):None | S70: Site audits, Contractor Pre- and Post- audits, H&S Rep Inspections, Statutory meetings | T70: HV Plant Manager | U70: Occupational Health and Safety Act, 1993 (Act No. 85 of 1993) ,General Safety Regulations 9(1)(2)(3) | V70: Not Applicable | W70: Not Applicable | X70: Not Applicable
B71: R | C71: 30 | D71: Substandard Substation Yard Environment | E71: 30.10 | F71: Manual handling | G71: Safety | H71: Physical strain, fatigue, awkward positions | I71: Eskom HV Plant Employees | J71: BU Manager | K71: Bi-monthly | L71: Sprains & strains, Cut, Bruise & Crush, Lost time injury. | M71: Elimination:None Substitution: None Engineering Controls:None Administrative Controls: Permits are issued to control,maintain tools & equipment. - Bend knees while lifting, avoid straining the spine Personal Protective Equipment (PPE ):(encompassing non-slip safety boots, electrical shock-resistant boots, long sleeve and long pants),and restriction on wearing of jewellery, long brim safety hat), gloves. | N71: 3 | O71: A | P71: IV | Q71: Fully effective | R71: Elimination: None Substitution: None Engineering controls: None Administrative controls :Maintain existing controls Personal protective equipment (PPE):None | S71: Site audits, Contractor Pre- and Post- audits, H&S Rep Inspections, Statutory meetings | T71: HV Plant Manager | U71: - Occupational Health and Safety Act, No. 85 of 1993 _Ergonomics regulations3,6 &11 - General Safety Regulations 9 | V71: Not Applicable | W71: Not Applicable | X71: Not Applicable
B72: R | C72: 30 | D72: Substandard Substation Yard Environment | E72: 30.11 | F72: Minor painting: exposure to solvents and fumes inhalation | G72: Health | H72: Prolonged periods of work, No PPE, Inadequate ventilation | I72: Eskom HV Plant Employees | J72: BU Manager | K72: 3 Monthly | L72: Lost Time Injury Medical Incident | M72: Elimination:None Substitution: None Engineering Controls:None Administrative Controls: - Tools, equipment and PPE to be checked for damage before use. - Correct PPE i.e. Safety shoes, Overall, gloves, hard hat, eye protection are worn when doing breaker maintenance - Emergency preparedness plan is reviewed and discussed before any work commences - Job observation when doing critical task and Behavioural Observations -Approved Personal Protective Equipment (PPE ):(encompassing non-slip safety boots, electrical shock-resistant boots, long sleeve and long pants),and restriction on wearing of jewellery, long brim safety hat), gloves, masks. | N72: 3 | O72: A | P72: IV | Q72: Fully effective | R72: Elimination: None Substitution: None Engineering controls: None Administrative controls :Maintain existing controls Personal protective equipment (PPE):None | S72: Inspections Audits Supervision | T72: HV Plant Manager | U72: - Occupational Health and Safety Act, 1993 No. 85 of 1993 Hazardous Chemical Agents ,2021 ,8,11,14A & 14B | V72: Not Applicable | W72: Not Applicable | X72: Not Applicable
B73: R | C73: 30 | D73: Substandard Substation Yard Environment | E73: 30.12 | F73: Ergonomics | G73: Safety | H73: - Work posture due to prolonged crouching position - Awkward body postures | I73: Eskom HV Plant Employees | J73: BU Manager | K73: Daily | L73: Work related Musculo-skeletal disorder: Overuse or overexertion injuries, osteo-arthritis, degenerative joint disease, and repetitive strain injuries | M73: Elimination:None Substitution: None Engineering Controls:None Administrative Controls: - Plant ergonomics program are developed and implemented. To be removed as there is currently no plans to implement this control - Occupational hygiene surveys are conducted as per the OHS Act requirments. Personal Protective Equipment (PPE ):(encompassing non-slip safety boots, electrical shock-resistant boots, long sleeve and long pants),and restriction on wearing of jewellery, long brim safety hat) | N73: 3 | O73: A | P73: IV | Q73: Fully effective | R73: Elimination: None Substitution: None Engineering controls: None Administrative controls :Maintain existing controls Personal protective equipment (PPE):None | S73: Surveys Inspection Audit | T73: HV Plant Manager | U73: - Occupational Health and Safety Act No.V76 85 of 1993 ,Ergonomics Regulations 6,8,9&11 | V73: Not Applicable | W73: Not Applicable | X73: Not Applicable
B74: R | C74: 30 | D74: Substandard Substation Yard Environment | E74: 30.13 | F74: Exposure to noise when using a grinder and driller | G74: Health | H74: - Lack of training and knowledge - Ineffective PPE - Lack of concentration - Inadequate Risk assessment - Inadequate communication - Failure to adhere to standards, procedure and instruction | I74: Eskom HV Plant Employees | J74: BU Manager | K74: Bi-monthly | L74: Lost Time Injury Medical Incident | M74: Elimination:None Substitution: None Engineering Controls:None Administrative Controls: Exposure to Noise sources: NIHL, Discomfort, Stress, Max 85d(b)A, Switch off before work, employees must be screened as required. Personal Protective Equipment (PPE ):(encompassing non-slip safety boots, electrical shock-resistant boots, long sleeve and long pants),and restriction on wearing of jewellery, long brim safety hat), ear protection, ear muffs. | N74: 3 | O74: A | P74: IV | Q74: Fully effective | R74: Elimination: None Substitution: None Engineering controls: None Administrative controls :Maintain existing controls Personal protective equipment (PPE):None | S74: Inspections Audits Supervision | T74: HV Plant Manager | U74: • Occupational Health and Safety Act No.85 1993 _Noise Induced Hearing Loss Regulations 3,4,5,7,9&10 . Noise Occupational Hygiene Surveys | V74: Not Applicable | W74: Not Applicable | X74: Not Applicable
A75: Use of noise-emitting machinery (Compressors, generators, proximity to engines, Power tools , etc.) | B75: R | C75: 32 | D75: Noise emitting machinery | E75: 32.1 | F75: Exposure to Noise sources: NIHL, Discomfort, Stress, Max 85d(b)A | G75: Health | H75: Compressor installations, Construction Machinery & equipment | I75: Employees Contractors | J75: BU Manager | K75: Daily for 25 min | L75: Adverse Health/Hygiene/Physical effect | M75: Elimination:None Substitution: None Engineering Controls:None Administrative Controls: - Noise inhibitors - Training - Enforcing compliance Personal Protective Equipment (PPE ):Double ear protection | N75: 3 | O75: A | P75: IV | Q75: Fully effective | R75: Elimination: None Substitution: None Engineering controls: None Administrative controls :Maintain existing controls Personal protective equipment (PPE):None | S75: Site audits, Contractor Pre- and Post- audits, H&S Rep Inspections, Statutory meetings | T75: HV Plant Manager | U75: • Occupational Health and Safety Act, 1993 _Noise Induced Hearing Loss Regulations 3,4,5,7,9&10 . Noise Occupational Hygiene Surveys | V75: Not Applicable | W75: Not Applicable | X75: Not Applicable
A76: Handling of asbestos containing material | B76: N | C76: 33 | D76: Asbestos fibres and dust | E76: 33.1 | F76: - Lung function impairment - Mesothelomia of pleura - Malignancy of lungs - Pleural thickening | H76: Released to environmernt from unsealed building materials that has not yet been phased out. | I76: Eskom HV Plant Employees, Linesmen, Contractor, EA, Visitors & Public | J76: BU Manager | K76: Infrequent | L76: Adverse Health/Hygiene/Physical effect | M76: Elimination:None Substitution: None Engineering Controls:None Administrative Controls: - Only trained employees to work with asbestos (removal). Air Monitoring & Medical Surveillance must be done as per provisions of Asbestos Regulations - PPE to be used as required per Asbestos Abatement Regulations - Training records in hazard on File - Good housekeeping and adherence to Asbestos Abatement Regulations requirements - Method statements and work plan – Project Specific on File - identify and report all asbestos containing material. Personal Protective Equipment (PPE ):(encompassing non-slip safety boots, electrical shock-resistant boots, long sleeve and long pants),and restriction on wearing of jewellery, long brim safety hat), masks. | N76: 3 | O76: A | P76: IV | Q76: Fully effective | R76: Elimination: None Substitution: None Engineering controls: None Administrative controls :Maintain existing controls Personal protective equipment (PPE):None | S76: Site audits, Contractor Pre- and Post- audits, H&S Rep Inspections, Statutory meetings | T76: HV Plant Manager | U76: - Safety Act, 1993 No. 85 of 1993 ,Asbestos Abatement Regulations ,2020(8) - General Safety Regulations, 1986 - General Administrative Regulations, 2003 - Eskom Asbestos Management Procedure 32-303 | V76: Not Applicable | W76: Not Applicable | X76: Not Applicable
A77: Workers performing tasks that necessitate leaving ground level. | B77: N | C77: 34 | D77: Falling | E77: 34.1 | F77: Slip and Fall Fall from height | H77: Height above ground level, work methodology, - Inadequate communication - Failure to adhere to standards, procedure - Lack of training - Lack of concentration - Inadequate Risk assessment - Inadequate communication - Failure to adhere to standards, procedure and instructionand instruction | I77: Eskom HV Plant Employees, Linesmen, Contractor, EA, | J77: BU Manager | K77: Monthly for +-3 days | L77: Fatalities Lost Time Injury Medical Incident/Adverse Health/Hygiene/Physical effect | M77: Elimination:None Substitution: None Engineering Controls:None Administrative Controls: - Training, PPE (harness usage), Fall Protection Risk Assessment - Comply to Eskom Life Saving Rules: Hook up at heights - Task Specific Fall Protection Plan, Medicals in place - Supervision Personal Protective Equipment (PPE ):(encompassing non-slip safety boots, electrical shock-resistant boots, long sleeve and long pants),and restriction on wearing of jewellery, long brim safety hat) | N77: 3 | O77: A | P77: IV | Q77: Fully effective | R77: Elimination: None Substitution: None Engineering controls: None Administrative controls :Maintain existing controls Personal protective equipment (PPE):None | S77: Site audits, Contractor Pre- and Post- audits, H&S Rep Inspections, Statutory meetings | T77: HV Plant Manager | U77: - Occupational Health and Safety Act No. 85 of 1993 ,CR 10, - 32-418 Eskom working at height standard | V77: Not Applicable | W77: Not Applicable | X77: Not Applicable
B78: R | C78: 35 | D78: Falling | E78: 35.2 | F78: Working at heights using scaffolding | G78: Safety | H78: Fatality caused by the following: - Lack of training and knowledge on scaffolding - Ineffective PPE - Lack of concentration - Inadequate Risk assessment - Inadequate communication - Failure to adhere to standards, procedure and instruction | I78: Eskom HV Plant and Contractor Employees | J78: BU Manager | K78: Daily for 8hrs | L78: Fatalities Lost Time Injury Medical Incident | M78: Elimination: None Substitution: None Engineering controls: None Administrative controls - Trained ,Qualified and Authorised Scaffolding erectors, inspectors are responsible persons to signed off suitable safe to use scaffolding. - Scaffolding are erected in accordance with SANS Standard. - All employees working on Scaffolding do wear fall protection and tie onto structure or guard rail. - Scaffold are inspected before use - Performance test of scaffolding are done as per DMR Regulations - Psychological and Medical fitness test for all employees are conducted by certified by a medical Practitioner. Personal Protective Equipment (PPE ):(encompassing non-slip safety boots, electrical shock-resistant boots, long sleeve and long pants),and restriction on wearing of jewellery, long brim safety hat) | N78: 3 | O78: A | P78: IV | Q78: Fully effective | R78: Elimination: None Substitution: None Engineering controls: None Administrative controls :Nothing more to be done except review and monitor the existing controls. Personal protective equipment (PPE):None | S78: Inspections Audits Supervision | T78: HV Plant Manager | U78: Occupational Health and Safety Act No. 85 of 1993 ,CR 16 - 32-418 Eskom working at height standard Eskom Life Saving Rules no.2 | V78: Not Applicable | W78: Not Applicable | X78: Not Applicable
B79: R | C79: 35 | D79: Falling | E79: 35.3 | F79: Fall from heights when using ladder | G79: Safety | H79: - Defective equipment - Collapsing of ladder - Falling objects - Use of incorrect equipment - Inappropriate use of access equipment (Overreaching, stretching etc) - Uneven floor causing instability which could result in losing footing and fall from ladders | I79: Eskom HV Plant and Contractor Employees | J79: BU Manager | K79: Weekly for 8hrs | L79: Fatality Lost Time Injury Medical Incident First Aid Incident | M79: Elimination:None Substitution: None Engineering Controls:None Administrative Controls: - The use of ladder for light work of short duration is arranged. - All access equipment suitable for purpose checked before use and maintained in good condition. - Frequent documented checks on ladder are ensured safe working condition - Reporting procedure in place for identified defective items with prompt removal /remedial action - User trained in use of ladders for minor inspection / maintenance tasks. - Access equipment restricted to those trained and competent in use. - Maximum working height not exceeded. - Ensure correct angle of ladder - Use of Secure ladder - No lone working when using ladders is practiced - Staff do re-position ladder rather than overstretch. - Floor surfaces are suitable to use (firm and even surface) - Persons using access equipment to wear appropriate footwear - Ladders are securely stored when not in use to avoid unauthorised use. - Consideration given to environmental conditions prior to starting work. No work is undertaken in adverse weather conditions (wind, rain, snow etc.) - Ensure rungs are clear of slippery substances, ice, mud etc. - Emergency preparedness plan is reviewed and discussed before any work commences Personal Protective Equipment (PPE) -safety shoes,overall , hearing protection Personal Protective Equipment (PPE) -safety shoes,overall , hearing protection | N79: 3 | O79: A | P79: IV | Q79: Fully effective | R79: Elimination: None Substitution: None Engineering controls: None Administrative controls :Nothing more to be done except review and monitor the existing controls. Personal protective equipment (PPE):None | S79: Inspections Audits Supervision | T79: HV Plant Manager | U79: - Occupational Health and Safety Act No. 85 of 1993 ,General Safety Regulations13A - 32-418 Eskom working at height standard -Eskom Life Saving Rules no.2 | V79: Not Applicable | W79: Not Applicable | X79: Not Applicable
C80: 35 | D80: Falling | E80: 35.4 | F80: Working at heights using aerial bucket (cherry picker), man-lift or similar device. | G80: Safety | H80: Fatality caused by the following: - Ineffective PPE - Lack of concentration - Inadequate Risk assessment - Inadequate communication - Failure to adhere to standards, procedure and instruction - Lack of training on operating the man-lift | I80: Eskom HV Plant and Contractor Employees | J80: BU Manager | K80: Daily for 8hrs | L80: Fatalities Lost Time Injury Medical Incident | M80: Elimination: None Substitution: None Engineering controls: None Administrative controls Personal protective equipment (PPE - Ensure that Man Lift is load tested annually and inspected 3 monthly by a competent person and inspected before use. Man Lift is operated by a trained/competent person . - Ensure that the Man Lift is free to move before operating. - Tools, equipment and PPE i.e. full body harness, overalls, safety shoes, hard hats, eye protection, etc to be checked for damage before use. - Correct PPE i.e. Safety shoes, Overall, gloves, hard hat, eye protection, FAS are worn when working at heights - Safe work procedure, Risk assessment and contingency planing is reviewed and discussed before any work commences - Job observation when doing critical task and Behavioural Observations. - A full body harness shall be worn and a lanyard attached to the boom or basket when working from a man-lift. - Aerial man lift devices should be inspected before use - Employees to ensure access equipment are of adequate height - Ensure that employees are trained on Working at Height - Medical and Psychological fitness. - Ensure that there is supervision. -Rescue kit to be available -Sound mental state Personal Protective Equipment (PPE ):(encompassing non-slip safety boots, electrical shock-resistant boots, long sleeve and long pants),and restriction on wearing of jewellery, long brim safety hat) | N80: 3 | O80: A | P80: IV | Q80: Fully effective | R80: Elimination: None Substitution: None Engineering controls: None Administrative controls :Nothing more to be done except review and monitor the existing controls. Personal protective equipment (PPE):None | S80: Inspections Audits Supervision | T80: HV Plant Manager | U80: - Occupational Health and Safety Act No. 85 of 1993 ,Driven Machinery Regulations,2015, 18 Driven Machinery Regulations (Code of Practice) - 32-418 Eskom working at height standard -Eskom Life Saving Rules no.2 | V80: Not Applicable | W80: Not Applicable | X80: Not Applicable
A81: Digging/opening of excavations | B81: R | C81: 36 | D81: Death & serious injury from: engulfment, asphyxiation, crushing, confinement, | E81: 36.1 | F81: Man-made trench, pit, cavity, digging work, scooping | H81: Site work activites | I81: linesmen, Contractor, Eskom employees, | J81: BU Manager | K81: Erratic; very infrequent, severely discouraged. | L81: Adverse Health/Hygiene/Physical effect, Lost Time injury,Fatality. | M81: Elimination:None Substitution: None Engineering Controls:None Administrative Controls: - Supervision - Awareness. Competent person in control, Shoring, sloping, bracing, collapsing, supports, make stable. Inspect. - Perform risk assessment before commencing work issue permit and required controls use of certified electrical machinery for excavations and competent personnel to use machinery Personal Protective Equipment (PPE ):(encompassing non-slip safety boots, electrical shock-resistant boots, long sleeve and long pants),and restriction on wearing of jewellery, long brim safety hat) | N81: 3 | O81: A | P81: IV | Q81: Fully effective | R81: Elimination: None Substitution: None Engineering controls: None Administrative controls :Maintain existing controls Personal protective equipment (PPE):None | S81: Site audits, Contractor Pre- and Post- audits, H&S Rep Inspections, Statutory meetings | T81: HV Plant Manager | U81: - Occupational Health and Safety Act, no. 85 of 1993 ,Construction Regulations 4(1)(a) | V81: Not Applicable | W81: Not Applicable | X81: Not Applicable

Sheet Contractor Baseline template
A3: Occupational Health and Safety Baseline risk assessment template
A4: Business/Operating unit: | K4: Next Review Date (every 2 years): | L4: Template identifier:
A6: Date: | F6: Authorised by: | H6: Name: | K6: Document identifier | AA6: R | AB6: Safety | AC6: 1 | AD6: A | AE6: Fully effective | AF6: I
H7: Designation: | K7: Revision number: | L7: 5 | AA7: N | AB7: Health | AC7: 2 | AD7: B | AE7: Mostly effective | AF7: II
H8: Signed: | K8: Revision date: | L8: 45777 | AC8: 3 | AD8: C | AE8: Mostly ineffective | AF8: III
A9: Refer to Occupational Health and Safety Risk assessment procedure 32-520 | AC9: 5 | AD9: E
A10: List activity | B10: Hazard Identification | C10: Associated risk | D10: Risk type | E10: What are the possible consequences? | F10: Existing Controls | I10: Risk Priority Rating | K10: Control Owner | L10: Legal and Other Requirements | AC10: 6
A11: List specific activities to be performed taking into consideration the equipment to be used, the personnel involved in the task. | B11: Anything with potential to cause of harm. Note: A hazard can pose more than one risk. | C11: A chance that injury , ill health or damage could occur as a result of uncontrolled hazard. | D11: Safety or health | E11: Consider the worse case scenario without controls? | F11: Include: - Preventative Controls (controls implemented to eliminate hazards or reduce the likelihood of the risk occurring), and - Reactive Controls (controls implemented to reduce the immediate impact of the risk occurring) Elimination Substitution Engineering controls Administrative controls Personal protective equipment (PPE) | G11: Consequence | H11: Likelihood | J11: RCE Risk Control Effectiveness | K11: Person allocated the responsibility for implementing the agreed controls | L11: Where relevant, list the relevant legislative and or Eskom requirements that prescribe the control.
A12: =IF(Contractors!A12="","",Contractors!A12) -> Driving National road Public road Terrain / servitudes | B12: =IF(Contractors!A12="","",Contractors!D12) -> Sub standard Vehicles/ Unroad worthy Vehicles | C12: =IF(Contractors!A12="","",Contractors!F12) -> Motor vehicle accident Property Damage | E12: =IF(Contractors!A12="","",Contractors!L12) -> Fatality; Lost Time Injury; Medical Incident Financial Loss | F12: =IF(Contractors!A12="","",Contractors!M12) -> Elimination: None Substitution: None Engineering controls: None Administrative controls: 1. Conduct awareness on Vehicle and Driver Safety Procedures 2. Defensive driver training (where the risk has been identified). 3. Travel Route Risk Assessment 4. Vehicle Inspection. 5. Driver Observation Personal protective equipment (PPE ):None | K12: =IF(Contractors!A12="","",Contractors!T12) -> Site Supervisor | L12: =IF(Contractors!A12="","",Contractors!U12) -> OHSA no. 85 of 1993 ( section 8 & 14) COIDA no. 130 of 1993 (Section 22, 38, 39, 41, 42 & 43) National Road Management Traffic Act 93 of 1996 (Section 63 & 64 ) 32-727 Eskom SHEQ policy; 32-95 Occupational Health and Safety Incident Management Procedure; 32-520 Occupational Health & Safety Risk Assessment Procedure; 240-62946386 Eskom Vehicle Safety and Driver Management procedure; 32-345 Eskom Vehicle Safety Specifications procedure;
A13: =IF(Contractors!A13="","",Contractors!A13) | B13: =IF(Contractors!A13="","",Contractors!D13) | C13: =IF(Contractors!A13="","",Contractors!F13) | E13: =IF(Contractors!A13="","",Contractors!L13) | F13: =IF(Contractors!A13="","",Contractors!M13) | K13: =IF(Contractors!A13="","",Contractors!T13) | L13: =IF(Contractors!A13="","",Contractors!U13)
A14: =IF(Contractors!A14="","",Contractors!A14) | B14: =IF(Contractors!A14="","",Contractors!D14) | C14: =IF(Contractors!A14="","",Contractors!F14) | E14: =IF(Contractors!A14="","",Contractors!L14) | F14: =IF(Contractors!A14="","",Contractors!M14) | K14: =IF(Contractors!A14="","",Contractors!T14) | L14: =IF(Contractors!A14="","",Contractors!U14)
A15: =IF(Contractors!A15="","",Contractors!A15) | B15: =IF(Contractors!A15="","",Contractors!D15) | C15: =IF(Contractors!A15="","",Contractors!F15) | E15: =IF(Contractors!A15="","",Contractors!L15) | F15: =IF(Contractors!A15="","",Contractors!M15) | K15: =IF(Contractors!A15="","",Contractors!T15) | L15: =IF(Contractors!A15="","",Contractors!U15)
A16: =IF(Contractors!A16="","",Contractors!A16) | B16: =IF(Contractors!A16="","",Contractors!D16) | C16: =IF(Contractors!A16="","",Contractors!F16) | E16: =IF(Contractors!A16="","",Contractors!L16) | F16: =IF(Contractors!A16="","",Contractors!M16) | K16: =IF(Contractors!A16="","",Contractors!T16) | L16: =IF(Contractors!A16="","",Contractors!U16)
A17: =IF(Contractors!A17="","",Contractors!A17) | B17: =IF(Contractors!A17="","",Contractors!D17) | C17: =IF(Contractors!A17="","",Contractors!F17) | E17: =IF(Contractors!A17="","",Contractors!L17) | F17: =IF(Contractors!A17="","",Contractors!M17) | K17: =IF(Contractors!A17="","",Contractors!T17) | L17: =IF(Contractors!A17="","",Contractors!U17)
A18: =IF(Contractors!A18="","",Contractors!A18) | B18: =IF(Contractors!A18="","",Contractors!D18) | C18: =IF(Contractors!A18="","",Contractors!F18) | E18: =IF(Contractors!A18="","",Contractors!L18) | F18: =IF(Contractors!A18="","",Contractors!M18) | K18: =IF(Contractors!A18="","",Contractors!T18) | L18: =IF(Contractors!A18="","",Contractors!U18)
A19: =IF(Contractors!A19="","",Contractors!A19) | B19: =IF(Contractors!A19="","",Contractors!D19) | C19: =IF(Contractors!A19="","",Contractors!F19) | E19: =IF(Contractors!A19="","",Contractors!L19) | F19: =IF(Contractors!A19="","",Contractors!M19) | K19: =IF(Contractors!A19="","",Contractors!T19) | L19: =IF(Contractors!A19="","",Contractors!U19)
A20: =IF(Contractors!A20="","",Contractors!A20) | B20: =IF(Contractors!A20="","",Contractors!D20) | C20: =IF(Contractors!A20="","",Contractors!F20) | E20: =IF(Contractors!A20="","",Contractors!L20) | F20: =IF(Contractors!A20="","",Contractors!M20) | K20: =IF(Contractors!A20="","",Contractors!T20) | L20: =IF(Contractors!A20="","",Contractors!U20)
A21: =IF(Contractors!A21="","",Contractors!A21) | B21: =IF(Contractors!A21="","",Contractors!D21) | C21: =IF(Contractors!A21="","",Contractors!F21) | E21: =IF(Contractors!A21="","",Contractors!L21) | F21: =IF(Contractors!A21="","",Contractors!M21) | K21: =IF(Contractors!A21="","",Contractors!T21) | L21: =IF(Contractors!A21="","",Contractors!U21)
A22: =IF(Contractors!A22="","",Contractors!A22) -> Interaction amongst employees (Refer to the Psychosocial Issues Risk Assessment for more details) | B22: =IF(Contractors!A22="","",Contractors!D22) -> Bullying | C22: =IF(Contractors!A22="","",Contractors!F22) -> Compromised self eesteem causing depression and suicidal employees | E22: =IF(Contractors!A22="","",Contractors!L22) -> Fatality due to suicide Depression | F22: =IF(Contractors!A22="","",Contractors!M22) -> Elimination: None Substitution: None Engineering controls: None Administrative controls : 1. HR policies addressing bullying practices have been improved. 2. Awareness Personal protective equipment (PPE ):None | K22: =IF(Contractors!A22="","",Contractors!T22) -> Site Supervisor | L22: =IF(Contractors!A22="","",Contractors!U22) -> OHSA no.85 of 1993 section 8 & 14; - 240-43848327 Right to Refuse to Work in an unsafe condition procedure - 32-520 Occupational Health & Safety Risk Assessment Procedure - 32-477 Safety Health and Environment Training and Development - 32-95 Rev. 4 Environmental, Occupational Health and Safety Incident Management Procedure.
A23: =IF(Contractors!A23="","",Contractors!A23) | B23: =IF(Contractors!A23="","",Contractors!D23) | C23: =IF(Contractors!A23="","",Contractors!F23) | E23: =IF(Contractors!A23="","",Contractors!L23) | F23: =IF(Contractors!A23="","",Contractors!M23) | K23: =IF(Contractors!A23="","",Contractors!T23) | L23: =IF(Contractors!A23="","",Contractors!U23)
... A25: =IF(Contractors!A25="","",Contractors!A25) | B25: =IF(Contractors!A25="","",Contractors!D25) | C25: =IF(Contractors!A25="","",Contractors!F25) | E25: =IF(Contractors!A25="","",Contractors!L25) | F25: =IF(Contractors!A25="","",Contractors!M25) | K25: =IF(Contractors!A25="","",Contractors!T25) | L25: =IF(Contractors!A25="","",Contractors!U25)
A26: =IF(Contractors!A26="","",Contractors!A26) -> Circuit Breaker Maintenance (Gas and oil breakers) - Preventative maintenance task (PMT) - Major Overhaul Task (MOT) | B26: =IF(Contractors!A26="","",Contractors!D26) -> Circuit breaker with SF6 (Sulphur Hexaflouride) gas | C26: =IF(Contractors!A26="","",Contractors!F26) -> Electrocution | E26: =IF(Contractors!A26="","",Contractors!L26) -> Electric shock Psychological damage Physical burns Neurological damage Ventricular fibrillation resulting in fatality Lost time Injury Medical Incident, Fatality. | F26: =IF(Contractors!A26="","",Contractors!M26) -> Elimination: None Substitution: None Engineering controls: None Administrative controls : - Technicians always ensure that equipment is opened, isolated and safe to work on. - An equipotential safety zone is created for each worker on the job site by earthing, bonding and/or insulating according to approved procedures to avoid contact by charging the equipment being tested. - Authorised person has certified and shown all team members that the apparatus is safe to work on. - Pre-task risk assessment to identify all risks and hazards has been conducted and complete workers register prior to any work commencing. - Permit is always issued before commencement of the testing activities. - Emergency preparedness plan is reviewed and discussed before any work commences. - Test Equipment. - Use updated drawings. - Fire extimguisher ,first aid kit ,FAS Rescue kit Personal protective equipment (PPE):(encompassing non-slip safety boots, electrical shock-resistant boots, long sleeve and long pants),and restriction on wearing of jewellery, long breem safety hat.) carry equipment horizontally in the HV Yard as per Eskom standards | K26: =IF(Contractors!A26="","",Contractors!T26) -> Site Supervisor | L26: =IF(Contractors!A26="","",Contractors!#REF!) -> #REF!
A27: =IF(Contractors!A27="","",Contractors!A27) | B27: =IF(Contractors!A27="","",Contractors!D27) | C27: =IF(Contractors!A27="","",Contractors!F27) | E27: =IF(Contractors!A27="","",Contractors!L27) | F27: =IF(Contractors!A27="","",Contractors!#REF!) | K27: =IF(Contractors!A27="","",Contractors!T27) | L27: =IF(Contractors!A27="","",Contractors!#REF!)
A28: =IF(Contractors!A28="","",Contractors!A28) | B28: =IF(Contractors!A28="","",Contractors!D28) | C28: =IF(Contractors!A28="","",Contractors!F28) | E28: =IF(Contractors!A28="","",Contractors!L28) | F28: =IF(Contractors!A28="","",Contractors!Z28) | K28: =IF(Contractors!A28="","",Contractors!T28) | L28: =IF(Contractors!A28="","",Contractors!#REF!)
A29: =IF(Contractors!#REF!="","",Contractors!#REF!) -> #REF! | B29: =IF(Contractors!#REF!="","",Contractors!#REF!) -> #REF! | C29: =IF(Contractors!#REF!="","",Contractors!#REF!) -> #REF! | E29: =IF(Contractors!#REF!="","",Contractors!#REF!) -> #REF! | F29: =IF(Contractors!#REF!="","",Contractors!#REF!) -> #REF! | K29: =IF(Contractors!#REF!="","",Contractors!#REF!) -> #REF! | L29: =IF(Contractors!#REF!="","",Contractors!#REF!) -> #REF!
A30: =IF(Contractors!#REF!="","",Contractors!#REF!) -> #REF! | B30: =IF(Contractors!#REF!="","",Contractors!#REF!) -> #REF! | C30: =IF(Contractors!#REF!="","",Contractors!#REF!) -> #REF! | E30: =IF(Contractors!#REF!="","",Contractors!#REF!) -> #REF! | F30: =IF(Contractors!#REF!="","",Contractors!#REF!) -> #REF! | K30: =IF(Contractors!#REF!="","",Contractors!#REF!) -> #REF! | L30: =IF(Contractors!#REF!="","",Contractors!#REF!) -> #REF!
A31: =IF(Contractors!#REF!="","",Contractors!#REF!) -> #REF! | B31: =IF(Contractors!#REF!="","",Contractors!#REF!) -> #REF! | C31: =IF(Contractors!#REF!="","",Contractors!#REF!) -> #REF! | E31: =IF(Contractors!#REF!="","",Contractors!#REF!) -> #REF! | F31: =IF(Contractors!#REF!="","",Contractors!#REF!) -> #REF! | K31: =IF(Contractors!#REF!="","",Contractors!#REF!) -> #REF! | L31: =IF(Contractors!#REF!="","",Contractors!#REF!) -> #REF!
A32: =IF(Contractors!A29="","",Contractors!A29) | B32: =IF(Contractors!A29="","",Contractors!D29) | C32: =IF(Contractors!A29="","",Contractors!F29) | E32: =IF(Contractors!A29="","",Contractors!L29) | F32: =IF(Contractors!A29="","",Contractors!M29) | K32: =IF(Contractors!A29="","",Contractors!T29) | L32: =IF(Contractors!A29="","",Contractors!U29)
A33: =IF(Contractors!A30="","",Contractors!A30) | B33: =IF(Contractors!A30="","",Contractors!D30) | C33: =IF(Contractors!A30="","",Contractors!F30) | E33: =IF(Contractors!A30="","",Contractors!L30) | F33: =IF(Contractors!A30="","",Contractors!M30) | K33: =IF(Contractors!A30="","",Contractors!T30) | L33: =IF(Contractors!A30="","",Contractors!U30)
A34: =IF(Contractors!A31="","",Contractors!A31) | B34: =IF(Contractors!A31="","",Contractors!D31) | C34: =IF(Contractors!A31="","",Contractors!F31) | E34: =IF(Contractors!A31="","",Contractors!L31) | F34: =IF(Contractors!A31="","",Contractors!M31) | K34: =IF(Contractors!A31="","",Contractors!T31) | L34: =IF(Contractors!A31="","",Contractors!U31)
A35: =IF(Contractors!A32="","",Contractors!A32) | B35: =IF(Contractors!A32="","",Contractors!D32) | C35: =IF(Contractors!A32="","",Contractors!F32) | E35: =IF(Contractors!A32="","",Contractors!L32) | F35: =IF(Contractors!A32="","",Contractors!M32) | K35: =IF(Contractors!A32="","",Contractors!T32) | L35: =IF(Contractors!A32="","",Contractors!U32)
A36: =IF(Contractors!A33="","",Contractors!A33) | B36: =IF(Contractors!A33="","",Contractors!D33) | C36: =IF(Contractors!A33="","",Contractors!F33) | E36: =IF(Contractors!A33="","",Contractors!L33) | F36: =IF(Contractors!A33="","",Contractors!M33) | K36: =IF(Contractors!A33="","",Contractors!T33) | L36: =IF(Contractors!A33="","",Contractors!U33)
A37: =IF(Contractors!A34="","",Contractors!A34) | B37: =IF(Contractors!A34="","",Contractors!D34) | C37: =IF(Contractors!A34="","",Contractors!F34) | E37: =IF(Contractors!A34="","",Contractors!L34) | F37: =IF(Contractors!A34="","",Contractors!M34) | K37: =IF(Contractors!A34="","",Contractors!T34) | L37: =IF(Contractors!A34="","",Contractors!U34)
A38: =IF(Contractors!#REF!="","",Contractors!#REF!) -> #REF! | B38: =IF(Contractors!#REF!="","",Contractors!#REF!) -> #REF! | C38: =IF(Contractors!#REF!="","",Contractors!#REF!) -> #REF! | E38: =IF(Contractors!#REF!="","",Contractors!#REF!) -> #REF! | F38: =IF(Contractors!#REF!="","",Contractors!#REF!) -> #REF! | K38: =IF(Contractors!#REF!="","",Contractors!#REF!) -> #REF! | L38: =IF(Contractors!#REF!="","",Contractors!#REF!) -> #REF!
A39: =IF(Contractors!#REF!="","",Contractors!#REF!) -> #REF! | B39: =IF(Contractors!#REF!="","",Contractors!#REF!) -> #REF! | C39: =IF(Contractors!#REF!="","",Contractors!#REF!) -> #REF! | E39: =IF(Contractors!#REF!="","",Contractors!#REF!) -> #REF! | F39: =IF(Contractors!#REF!="","",Contractors!#REF!) -> #REF! | K39: =IF(Contractors!#REF!="","",Contractors!#REF!) -> #REF! | L39: =IF(Contractors!#REF!="","",Contractors!#REF!) -> #REF!
A40: =IF(Contractors!#REF!="","",Contractors!#REF!) -> #REF! | B40: =IF(Contractors!#REF!="","",Contractors!#REF!) -> #REF! | C40: =IF(Contractors!#REF!="","",Contractors!#REF!) -> #REF! | E40: =IF(Contractors!#REF!="","",Contractors!#REF!) -> #REF! | F40: =IF(Contractors!#REF!="","",Contractors!#REF!) -> #REF! | K40: =IF(Contractors!#REF!="","",Contractors!#REF!) -> #REF! | L40: =IF(Contractors!#REF!="","",Contractors!#REF!) -> #REF!
A41: =IF(Contractors!A35="","",Contractors!A35) | B41: =IF(Contractors!A35="","",Contractors!D35) | C41: =IF(Contractors!A35="","",Contractors!F35) | E41: =IF(Contractors!A35="","",Contractors!L35) | F41: =IF(Contractors!A35="","",Contractors!M35) | K41: =IF(Contractors!A35="","",Contractors!T35) | L41: =IF(Contractors!A35="","",Contractors!U35)
A42: =IF(Contractors!A36="","",Contractors!A36) | B42: =IF(Contractors!A36="","",Contractors!D36) | C42: =IF(Contractors!A36="","",Contractors!F36) | E42: =IF(Contractors!A36="","",Contractors!L36) | F42: =IF(Contractors!A36="","",Contractors!M36) | K42: =IF(Contractors!A36="","",Contractors!T36) | L42: =IF(Contractors!A36="","",Contractors!U36)
A43: =IF(Contractors!#REF!="","",Contractors!#REF!) -> #REF! | B43: =IF(Contractors!#REF!="","",Contractors!#REF!) -> #REF! | C43: =IF(Contractors!#REF!="","",Contractors!#REF!) -> #REF! | E43: =IF(Contractors!#REF!="","",Contractors!#REF!) -> #REF! | F43: =IF(Contractors!#REF!="","",Contractors!#REF!) -> #REF! | K43: =IF(Contractors!#REF!="","",Contractors!#REF!) -> #REF! | L43: =IF(Contractors!#REF!="","",Contractors!#REF!) -> #REF!
A44: =IF(Contractors!#REF!="","",Contractors!#REF!) -> #REF! | B44: =IF(Contractors!#REF!="","",Contractors!#REF!) -> #REF! | C44: =IF(Contractors!#REF!="","",Contractors!#REF!) -> #REF! | E44: =IF(Contractors!#REF!="","",Contractors!#REF!) -> #REF! | F44: =IF(Contractors!#REF!="","",Contractors!#REF!) -> #REF! | K44: =IF(Contractors!#REF!="","",Contractors!#REF!) -> #REF! | L44: =IF(Contractors!#REF!="","",Contractors!#REF!) -> #REF!
A45: =IF(Contractors!#REF!="","",Contractors!#REF!) -> #REF! | B45: =IF(Contractors!#REF!="","",Contractors!#REF!) -> #REF! | C45: =IF(Contractors!#REF!="","",Contractors!#REF!) -> #REF! | E45: =IF(Contractors!#REF!="","",Contractors!#REF!) -> #REF! | F45: =IF(Contractors!#REF!="","",Contractors!#REF!) -> #REF! | K45: =IF(Contractors!#REF!="","",Contractors!#REF!) -> #REF! | L45: =IF(Contractors!#REF!="","",Contractors!#REF!) -> #REF!
A46: =IF(Contractors!#REF!="","",Contractors!#REF!) -> #REF! | B46: =IF(Contractors!#REF!="","",Contractors!#REF!) -> #REF! | C46: =IF(Contractors!#REF!="","",Contractors!#REF!) -> #REF! | E46: =IF(Contractors!#REF!="","",Contractors!#REF!) -> #REF! | F46: =IF(Contractors!#REF!="","",Contractors!#REF!) -> #REF! | K46: =IF(Contractors!#REF!="","",Contractors!#REF!) -> #REF! | L46: =IF(Contractors!#REF!="","",Contractors!#REF!) -> #REF!
A47: =IF(Contractors!#REF!="","",Contractors!#REF!) -> #REF! | B47: =IF(Contractors!#REF!="","",Contractors!#REF!) -> #REF! | C47: =IF(Contractors!#REF!="","",Contractors!#REF!) -> #REF! | E47: =IF(Contractors!#REF!="","",Contractors!#REF!) -> #REF! | F47: =IF(Contractors!#REF!="","",Contractors!#REF!) -> #REF! | K47: =IF(Contractors!#REF!="","",Contractors!#REF!) -> #REF! | L47: =IF(Contractors!#REF!="","",Contractors!#REF!) -> #REF!
A48: =IF(Contractors!#REF!="","",Contractors!#REF!) -> #REF! | B48: =IF(Contractors!#REF!="","",Contractors!#REF!) -> #REF! | C48: =IF(Contractors!#REF!="","",Contractors!#REF!) -> #REF! | E48: =IF(Contractors!#REF!="","",Contractors!#REF!) -> #REF! | F48: =IF(Contractors!#REF!="","",Contractors!#REF!) -> #REF! | K48: =IF(Contractors!#REF!="","",Contractors!#REF!) -> #REF! | L48: =IF(Contractors!#REF!="","",Contractors!#REF!) -> #REF!
A49: =IF(Contractors!A37="","",Contractors!A37) | B49: =IF(Contractors!A37="","",Contractors!D37) | C49: =IF(Contractors!A37="","",Contractors!F37) | E49: =IF(Contractors!A37="","",Contractors!L37) | F49: =IF(Contractors!A37="","",Contractors!M37) | K49: =IF(Contractors!A37="","",Contractors!T37) | L49: =IF(Contractors!A37="","",Contractors!U37)
A50: =IF(Contractors!A38="","",Contractors!A38) | B50: =IF(Contractors!A38="","",Contractors!D38) | C50: =IF(Contractors!A38="","",Contractors!F38) | E50: =IF(Contractors!A38="","",Contractors!L38) | F50: =IF(Contractors!A38="","",Contractors!M38) | K50: =IF(Contractors!A38="","",Contractors!T38) | L50: =IF(Contractors!A38="","",Contractors!U38)
A51: =IF(Contractors!A39="","",Contractors!A39) | B51: =IF(Contractors!A39="","",Contractors!D39) | C51: =IF(Contractors!A39="","",Contractors!F39) | E51: =IF(Contractors!A39="","",Contractors!L39) | F51: =IF(Contractors!A39="","",Contractors!M39) | K51: =IF(Contractors!A39="","",Contractors!T39) | L51: =IF(Contractors!A39="","",Contractors!U39)
A52: =IF(Contractors!A40="","",Contractors!A40) | B52: =IF(Contractors!A40="","",Contractors!D40) | C52: =IF(Contractors!A40="","",Contractors!F40) | E52: =IF(Contractors!A40="","",Contractors!L40) | F52: =IF(Contractors!A40="","",Contractors!M40) | K52: =IF(Contractors!A40="","",Contractors!T40) | L52: =IF(Contractors!A40="","",Contractors!U40)
A53: =IF(Contractors!#REF!="","",Contractors!#REF!) -> #REF! | B53: =IF(Contractors!#REF!="","",Contractors!#REF!) -> #REF! | C53: =IF(Contractors!#REF!="","",Contractors!#REF!) -> #REF! | E53: =IF(Contractors!#REF!="","",Contractors!#REF!) -> #REF! | F53: =IF(Contractors!#REF!="","",Contractors!#REF!) -> #REF! | K53: =IF(Contractors!#REF!="","",Contractors!#REF!) -> #REF! | L53: =IF(Contractors!#REF!="","",Contractors!#REF!) -> #REF!
A54: =IF(Contractors!#REF!="","",Contractors!#REF!) -> #REF! | B54: =IF(Contractors!#REF!="","",Contractors!#REF!) -> #REF! | C54: =IF(Contractors!#REF!="","",Contractors!#REF!) -> #REF! | E54: =IF(Contractors!#REF!="","",Contractors!#REF!) -> #REF! | F54: =IF(Contractors!#REF!="","",Contractors!#REF!) -> #REF! | K54: =IF(Contractors!#REF!="","",Contractors!#REF!) -> #REF! | L54: =IF(Contractors!#REF!="","",Contractors!#REF!) -> #REF!
A55: =IF(Contractors!#REF!="","",Contractors!#REF!) -> #REF! | B55: =IF(Contractors!#REF!="","",Contractors!#REF!) -> #REF! | C55: =IF(Contractors!#REF!="","",Contractors!#REF!) -> #REF! | E55: =IF(Contractors!#REF!="","",Contractors!#REF!) -> #REF! | F55: =IF(Contractors!#REF!="","",Contractors!#REF!) -> #REF! | K55: =IF(Contractors!#REF!="","",Contractors!#REF!) -> #REF! | L55: =IF(Contractors!#REF!="","",Contractors!#REF!) -> #REF!
A56: =IF(Contractors!#REF!="","",Contractors!#REF!) -> #REF! | B56: =IF(Contractors!#REF!="","",Contractors!#REF!) -> #REF! | C56: =IF(Contractors!#REF!="","",Contractors!#REF!) -> #REF! | E56: =IF(Contractors!#REF!="","",Contractors!#REF!) -> #REF! | F56: =IF(Contractors!#REF!="","",Contractors!#REF!) -> #REF! | K56: =IF(Contractors!#REF!="","",Contractors!#REF!) -> #REF! | L56: =IF(Contractors!#REF!="","",Contractors!#REF!) -> #REF!
A57: =IF(Contractors!#REF!="","",Contractors!#REF!) -> #REF! | B57: =IF(Contractors!#REF!="","",Contractors!#REF!) -> #REF! | C57: =IF(Contractors!#REF!="","",Contractors!#REF!) -> #REF! | E57: =IF(Contractors!#REF!="","",Contractors!#REF!) -> #REF! | F57: =IF(Contractors!#REF!="","",Contractors!#REF!) -> #REF! | K57: =IF(Contractors!#REF!="","",Contractors!#REF!) -> #REF! | L57: =IF(Contractors!#REF!="","",Contractors!#REF!) -> #REF!
A58: =IF(Contractors!#REF!="","",Contractors!#REF!) -> #REF! | B58: =IF(Contractors!#REF!="","",Contractors!#REF!) -> #REF! | C58: =IF(Contractors!#REF!="","",Contractors!#REF!) -> #REF! | E58: =IF(Contractors!#REF!="","",Contractors!#REF!) -> #REF! | F58: =IF(Contractors!#REF!="","",Contractors!#REF!) -> #REF! | K58: =IF(Contractors!#REF!="","",Contractors!#REF!) -> #REF! | L58: =IF(Contractors!#REF!="","",Contractors!#REF!) -> #REF!
A59: =IF(Contractors!#REF!="","",Contractors!#REF!) -> #REF! | B59: =IF(Contractors!#REF!="","",Contractors!#REF!) -> #REF! | C59: =IF(Contractors!#REF!="","",Contractors!#REF!) -> #REF! | E59: =IF(Contractors!#REF!="","",Contractors!#REF!) -> #REF! | F59: =IF(Contractors!#REF!="","",Contractors!#REF!) -> #REF! | K59: =IF(Contractors!#REF!="","",Contractors!#REF!) -> #REF! | L59: =IF(Contractors!#REF!="","",Contractors!#REF!) -> #REF!
A60: =IF(Contractors!#REF!="","",Contractors!#REF!) -> #REF! | B60: =IF(Contractors!#REF!="","",Contractors!#REF!) -> #REF! | C60: =IF(Contractors!#REF!="","",Contractors!#REF!) -> #REF! | E60: =IF(Contractors!#REF!="","",Contractors!#REF!) -> #REF! | F60: =IF(Contractors!#REF!="","",Contractors!#REF!) -> #REF! | K60: =IF(Contractors!#REF!="","",Contractors!#REF!) -> #REF! | L60: =IF(Contractors!#REF!="","",Contractors!#REF!) -> #REF!
A61: =IF(Contractors!#REF!="","",Contractors!#REF!) -> #REF! | B61: =IF(Contractors!#REF!="","",Contractors!#REF!) -> #REF! | C61: =IF(Contractors!#REF!="","",Contractors!#REF!) -> #REF! | E61: =IF(Contractors!#REF!="","",Contractors!#REF!) -> #REF! | F61: =IF(Contractors!#REF!="","",Contractors!#REF!) -> #REF! | K61: =IF(Contractors!#REF!="","",Contractors!#REF!) -> #REF! | L61: =IF(Contractors!#REF!="","",Contractors!#REF!) -> #REF!
A62: =IF(Contractors!#REF!="","",Contractors!#REF!) -> #REF! | B62: =IF(Contractors!#REF!="","",Contractors!#REF!) -> #REF! | C62: =IF(Contractors!#REF!="","",Contractors!#REF!) -> #REF! | E62: =IF(Contractors!#REF!="","",Contractors!#REF!) -> #REF! | F62: =IF(Contractors!#REF!="","",Contractors!#REF!) -> #REF! | K62: =IF(Contractors!#REF!="","",Contractors!#REF!) -> #REF! | L62: =IF(Contractors!#REF!="","",Contractors!#REF!) -> #REF!
A63: =IF(Contractors!A41="","",Contractors!A41) -> Isolator Maintenance | B63: =IF(Contractors!A41="","",Contractors!D41) -> Substandard condition Isolator | C63: =IF(Contractors!A41="","",Contractors!F41) -> AC/DC Volt electrocution on motorised isolators | E63: =IF(Contractors!A41="","",Contractors!L41) -> Electric shock Psychological damage Physical burns Neurological damage Ventricular fibrillation resulting in fatality | F63: =IF(Contractors!A41="","",Contractors!M41) -> Elimination:None Substitution: None Engineering Controls:None Administrative Controls: - Technicians always ensure that equipment is opened, isolated and earthed and or bonded and safe to work on. - Compliance to ORHVS - Planned Task Observations (PTO) - An equipotential safety zone is created for each worker on the job site by earthing, bonding and/or insulating according to approved procedures to avoid contact by charging the equipment being tested. - Authorised person (team leader) has certified and shown all team members that the apparatus is safe to work on. - Pre-task risk assessment to identify all risks and hazards has been conducted and complete workers register prior to any work commencing. - Permit is always issued before commencement of the testing activities. - PPE issued:(encompassing non-slip safety boots, electrical shock-resistant boots, long sleeve and long pants),and restriction on wearing of jewellery, long breem safety hat. - Emergency preparedness plan is reviewed and discussed before any work commences. - Test Equipment.- Use updated drawings. Personal Protective Equipment (PPE):goggles,safety shoes,overall | K63: =IF(Contractors!A41="","",Contractors!T41) -> Site Supervisor | L63: =IF(Contractors!A41="","",Contractors!U41) -> OHSA no. 85 of 1993 ,section 8,14 &24 ,Electrical Machinery Regulations,2011 _8,9,19&22 COIDA no.130 of 1993 ,section 22,23,24 & 25 GSR 3 ,Driven Machinery Regulations ,2015 (18), GAR 8&9 32-846 Operating Regulations for High Voltage System - 240-43848327 Right to Refuse to Work in an unsafe condition procedure - 240-44175132 Eskom Personal Protective Equipment - - 32-520 Occupational Health & Safety Risk Assessment Procedure - Eskom Life Saving Rule No. 1
A64: =IF(Contractors!A42="","",Contractors!A42) | B64: =IF(Contractors!A42="","",Contractors!D42) | C64: =IF(Contractors!A42="","",Contractors!F42) | E64: =IF(Contractors!A42="","",Contractors!L42) | F64: =IF(Contractors!A42="","",Contractors!M42) | K64: =IF(Contractors!A42="","",Contractors!T42) | L64: =IF(Contractors!A42="","",Contractors!U42)
A65: =IF(Contractors!#REF!="","",Contractors!#REF!) -> #REF! | B65: =IF(Contractors!#REF!="","",Contractors!#REF!) -> #REF! | C65: =IF(Contractors!#REF!="","",Contractors!#REF!) -> #REF! | E65: =IF(Contractors!#REF!="","",Contractors!#REF!) -> #REF! | F65: =IF(Contractors!#REF!="","",Contractors!#REF!) -> #REF! | K65: =IF(Contractors!#REF!="","",Contractors!#REF!) -> #REF! | L65: =IF(Contractors!#REF!="","",Contractors!#REF!) -> #REF!
A66: =IF(Contractors!A43="","",Contractors!A43) | B66: =IF(Contractors!A43="","",Contractors!D43) | C66: =IF(Contractors!A43="","",Contractors!F43) | E66: =IF(Contractors!A43="","",Contractors!L43) | F66: =IF(Contractors!A43="","",Contractors!M43) | K66: =IF(Contractors!A43="","",Contractors!T43) | L66: =IF(Contractors!A43="","",Contractors!U43)
A67: =IF(Contractors!A44="","",Contractors!A44) | B67: =IF(Contractors!A44="","",Contractors!D44) | C67: =IF(Contractors!A44="","",Contractors!F44) | E67: =IF(Contractors!A44="","",Contractors!L44) | F67: =IF(Contractors!A44="","",Contractors!M44) | K67: =IF(Contractors!A44="","",Contractors!T44) | L67: =IF(Contractors!A44="","",Contractors!U44)
A68: =IF(Contractors!A45="","",Contractors!A45) | B68: =IF(Contractors!A45="","",Contractors!D45) | C68: =IF(Contractors!A45="","",Contractors!F45) | E68: =IF(Contractors!A45="","",Contractors!L45) | F68: =IF(Contractors!A45="","",Contractors!M45) | K68: =IF(Contractors!A45="","",Contractors!T45) | L68: =IF(Contractors!A45="","",Contractors!U45)
A69: =IF(Contractors!A46="","",Contractors!A46) | B69: =IF(Contractors!A46="","",Contractors!D46) | C69: =IF(Contractors!A46="","",Contractors!F46) | E69: =IF(Contractors!A46="","",Contractors!L46) | F69: =IF(Contractors!A46="","",Contractors!M46) | K69: =IF(Contractors!A46="","",Contractors!T46) | L69: =IF(Contractors!A46="","",Contractors!U46)
A70: =IF(Contractors!#REF!="","",Contractors!#REF!) -> #REF! | B70: =IF(Contractors!#REF!="","",Contractors!#REF!) -> #REF! | C70: =IF(Contractors!#REF!="","",Contractors!#REF!) -> #REF! | E70: =IF(Contractors!#REF!="","",Contractors!#REF!) -> #REF! | F70: =IF(Contractors!#REF!="","",Contractors!#REF!) -> #REF! | K70: =IF(Contractors!#REF!="","",Contractors!#REF!) -> #REF! | L70: =IF(Contractors!#REF!="","",Contractors!#REF!) -> #REF!
A71: =IF(Contractors!#REF!="","",Contractors!#REF!) -> #REF! | B71: =IF(Contractors!#REF!="","",Contractors!#REF!) -> #REF! | C71: =IF(Contractors!#REF!="","",Contractors!#REF!) -> #REF! | E71: =IF(Contractors!#REF!="","",Contractors!#REF!) -> #REF! | F71: =IF(Contractors!#REF!="","",Contractors!#REF!) -> #REF! | K71: =IF(Contractors!#REF!="","",Contractors!#REF!) -> #REF! | L71: =IF(Contractors!#REF!="","",Contractors!#REF!) -> #REF!
A72: =IF(Contractors!#REF!="","",Contractors!#REF!) -> #REF! | B72: =IF(Contractors!#REF!="","",Contractors!#REF!) -> #REF! | C72: =IF(Contractors!#REF!="","",Contractors!#REF!) -> #REF! | E72: =IF(Contractors!#REF!="","",Contractors!#REF!) -> #REF! | F72: =IF(Contractors!#REF!="","",Contractors!#REF!) -> #REF! | K72: =IF(Contractors!#REF!="","",Contractors!#REF!) -> #REF! | L72: =IF(Contractors!#REF!="","",Contractors!#REF!) -> #REF!
A73: =IF(Contractors!#REF!="","",Contractors!#REF!) -> #REF! | B73: =IF(Contractors!#REF!="","",Contractors!#REF!) -> #REF! | C73: =IF(Contractors!#REF!="","",Contractors!#REF!) -> #REF! | E73: =IF(Contractors!#REF!="","",Contractors!#REF!) -> #REF! | F73: =IF(Contractors!#REF!="","",Contractors!#REF!) -> #REF! | K73: =IF(Contractors!#REF!="","",Contractors!#REF!) -> #REF! | L73: =IF(Contractors!#REF!="","",Contractors!#REF!) -> #REF!
A74: =IF(Contractors!#REF!="","",Contractors!#REF!) -> #REF! | B74: =IF(Contractors!#REF!="","",Contractors!#REF!) -> #REF! | C74: =IF(Contractors!#REF!="","",Contractors!#REF!) -> #REF! | E74: =IF(Contractors!#REF!="","",Contractors!#REF!) -> #REF! | F74: =IF(Contractors!#REF!="","",Contractors!#REF!) -> #REF! | K74: =IF(Contractors!#REF!="","",Contractors!#REF!) -> #REF! | L74: =IF(Contractors!#REF!="","",Contractors!#REF!) -> #REF!
A75: =IF(Contractors!A47="","",Contractors!A47) | B75: =IF(Contractors!A47="","",Contractors!D47) | C75: =IF(Contractors!A47="","",Contractors!F47) | E75: =IF(Contractors!A47="","",Contractors!L47) | F75: =IF(Contractors!A47="","",Contractors!M47) | K75: =IF(Contractors!A47="","",Contractors!T47) | L75: =IF(Contractors!A47="","",Contractors!U47)
A76: =IF(Contractors!#REF!="","",Contractors!#REF!) -> #REF! | B76: =IF(Contractors!#REF!="","",Contractors!#REF!) -> #REF! | C76: =IF(Contractors!#REF!="","",Contractors!#REF!) -> #REF! | E76: =IF(Contractors!#REF!="","",Contractors!#REF!) -> #REF! | F76: =IF(Contractors!#REF!="","",Contractors!#REF!) -> #REF! | K76: =IF(Contractors!#REF!="","",Contractors!#REF!) -> #REF! | L76: =IF(Contractors!#REF!="","",Contractors!#REF!) -> #REF!
A77: =IF(Contractors!#REF!="","",Contractors!#REF!) -> #REF! | B77: =IF(Contractors!#REF!="","",Contractors!#REF!) -> #REF! | C77: =IF(Contractors!#REF!="","",Contractors!#REF!) -> #REF! | E77: =IF(Contractors!#REF!="","",Contractors!#REF!) -> #REF! | F77: =IF(Contractors!#REF!="","",Contractors!#REF!) -> #REF! | K77: =IF(Contractors!#REF!="","",Contractors!#REF!) -> #REF! | L77: =IF(Contractors!#REF!="","",Contractors!#REF!) -> #REF!
A78: s | B78: =IF(Contractors!A48="","",Contractors!D48) | C78: =IF(Contractors!A48="","",Contractors!F48) | E78: =IF(Contractors!A48="","",Contractors!L48) | F78: =IF(Contractors!A48="","",Contractors!M48) | K78: =IF(Contractors!A48="","",Contractors!T48) | L78: =IF(Contractors!A48="","",Contractors!U48)
A79: =IF(Contractors!#REF!="","",Contractors!#REF!) -> #REF! | B79: =IF(Contractors!#REF!="","",Contractors!#REF!) -> #REF! | C79: =IF(Contractors!#REF!="","",Contractors!#REF!) -> #REF! | E79: =IF(Contractors!#REF!="","",Contractors!#REF!) -> #REF! | F79: =IF(Contractors!#REF!="","",Contractors!#REF!) -> #REF! | K79: =IF(Contractors!#REF!="","",Contractors!#REF!) -> #REF! | L79: =IF(Contractors!#REF!="","",Contractors!#REF!) -> #REF!
A80: =IF(Contractors!#REF!="","",Contractors!#REF!) -> #REF! | B80: =IF(Contractors!#REF!="","",Contractors!#REF!) -> #REF! | C80: =IF(Contractors!#REF!="","",Contractors!#REF!) -> #REF! | E80: =IF(Contractors!#REF!="","",Contractors!#REF!) -> #REF! | F80: =IF(Contractors!#REF!="","",Contractors!#REF!) -> #REF! | K80: =IF(Contractors!#REF!="","",Contractors!#REF!) -> #REF! | L80: =IF(Contractors!#REF!="","",Contractors!#REF!) -> #REF!
A81: =IF(Contractors!#REF!="","",Contractors!#REF!) -> #REF! | B81: =IF(Contractors!#REF!="","",Contractors!#REF!) -> #REF! | C81: =IF(Contractors!#REF!="","",Contractors!#REF!) -> #REF! | E81: =IF(Contractors!#REF!="","",Contractors!#REF!) -> #REF! | F81: =IF(Contractors!#REF!="","",Contractors!#REF!) -> #REF! | K81: =IF(Contractors!#REF!="","",Contractors!#REF!) -> #REF! | L81: =IF(Contractors!#REF!="","",Contractors!#REF!) -> #REF!
A82: =IF(Contractors!#REF!="","",Contractors!#REF!) -> #REF! | B82: =IF(Contractors!#REF!="","",Contractors!#REF!) -> #REF! | C82: =IF(Contractors!#REF!="","",Contractors!#REF!) -> #REF! | E82: =IF(Contractors!#REF!="","",Contractors!#REF!) -> #REF! | F82: =IF(Contractors!#REF!="","",Contractors!#REF!) -> #REF! | K82: =IF(Contractors!#REF!="","",Contractors!#REF!) -> #REF! | L82: =IF(Contractors!#REF!="","",Contractors!#REF!) -> #REF!
A83: =IF(Contractors!#REF!="","",Contractors!#REF!) -> #REF! | B83: =IF(Contractors!#REF!="","",Contractors!#REF!) -> #REF! | C83: =IF(Contractors!#REF!="","",Contractors!#REF!) -> #REF! | E83: =IF(Contractors!#REF!="","",Contractors!#REF!) -> #REF! | F83: =IF(Contractors!#REF!="","",Contractors!#REF!) -> #REF! | K83: =IF(Contractors!#REF!="","",Contractors!#REF!) -> #REF! | L83: =IF(Contractors!#REF!="","",Contractors!#REF!) -> #REF!
A84: =IF(Contractors!#REF!="","",Contractors!#REF!) -> #REF! | B84: =IF(Contractors!#REF!="","",Contractors!#REF!) -> #REF! | C84: =IF(Contractors!#REF!="","",Contractors!#REF!) -> #REF! | E84: =IF(Contractors!#REF!="","",Contractors!#REF!) -> #REF! | F84: =IF(Contractors!#REF!="","",Contractors!#REF!) -> #REF! | K84: =IF(Contractors!#REF!="","",Contractors!#REF!) -> #REF! | L84: =IF(Contractors!#REF!="","",Contractors!#REF!) -> #REF!
A85: =IF(Contractors!#REF!="","",Contractors!#REF!) -> #REF! | B85: =IF(Contractors!#REF!="","",Contractors!#REF!) -> #REF! | C85: =IF(Contractors!#REF!="","",Contractors!#REF!) -> #REF! | E85: =IF(Contractors!#REF!="","",Contractors!#REF!) -> #REF! | F85: =IF(Contractors!#REF!="","",Contractors!#REF!) -> #REF! | K85: =IF(Contractors!#REF!="","",Contractors!#REF!) -> #REF! | L85: =IF(Contractors!#REF!="","",Contractors!#REF!) -> #REF!
A86: =IF(Contractors!A49="","",Contractors!A49) -> Battery Room Maintenance - Battery first line maintenance - Conduct measurements on batteries | B86: =IF(Contractors!A49="","",Contractors!D49) -> Battery acid and fumes | C86: =IF(Contractors!A49="","",Contractors!F49) -> Inhalation and contact with Battery acids | E86: =IF(Contractors!A49="","",Contractors!L49) -> Lost Time Injury Medical Incident Occupational diseases | F86: =IF(Contractors!A49="","",Contractors!M49) -> Elimination:None Substitution: None Engineering Controls:None Administrative Controls: • Employees are trained on the SOPs of all activities of the battery room, safety aspects and emergency measures. • Emergency shower and eyewash fountain is provided. • Safety goggles; battery room overalls; suitable gloves to operators are provided • Lead acid with alkaline batteries and vice versa are not stored. • Acid equipment on alkaline cells or vice versa is not allowed. The different electrolytes will nuetralise each other. • Present HCS awarenes training. • Conduct Behavioural Observations and Planned Task Observations -Ensure extractor fan is working and there is sufficient ventilation Personal Protective Equipment (PPE ):(encompassing non-slip safety boots, electrical shock-resistant boots, long sleeve and long pants),and restriction on wearing of jewellery, long brim safety hat), full face-shield, gloves, acid-resistant overalls. | K86: =IF(Contractors!A49="","",Contractors!T49) -> HV Plant Manager | L86: =IF(Contractors!A49="","",Contractors!U49) -> OHSA no. 85 of 1993 ,section 8,14 &24 ,Electrical Machinery Regulations,2011 _8,9,19&22 COIDA no.130 of 1993 ,section 22,23,24 & 25,Hazardous Chemical Agents,201 3,4,10,11,12,14A &14B) GSR 3 ,Driven Machinery Regulations ,2015 (18),Ergonomics Regulations ,2019 (6,8) GAR 8&9 32-846 Operating Regulations for High Voltage System - 240-43848327 Right to Refuse to Work in an unsafe condition procedure - 240-44175132 Eskom Personal Protective Equipment - - 32-520 Occupational Health & Safety Risk Assessment Procedure - Eskom Life Saving Rule No. 1
A87: =IF(Contractors!A50="","",Contractors!A50) | B87: =IF(Contractors!A50="","",Contractors!D50) | C87: =IF(Contractors!A50="","",Contractors!F50) | E87: =IF(Contractors!A50="","",Contractors!L50) | F87: =IF(Contractors!A50="","",Contractors!M50) | K87: =IF(Contractors!A50="","",Contractors!T50) | L87: =IF(Contractors!A50="","",Contractors!U50)
A88: =IF(Contractors!#REF!="","",Contractors!#REF!) -> #REF! | B88: =IF(Contractors!#REF!="","",Contractors!#REF!) -> #REF! | C88: =IF(Contractors!#REF!="","",Contractors!#REF!) -> #REF! | E88: =IF(Contractors!#REF!="","",Contractors!#REF!) -> #REF! | F88: =IF(Contractors!#REF!="","",Contractors!#REF!) -> #REF! | K88: =IF(Contractors!#REF!="","",Contractors!#REF!) -> #REF! | L88: =IF(Contractors!#REF!="","",Contractors!#REF!) -> #REF!
A89: =IF(Contractors!A51="","",Contractors!A51) | B89: =IF(Contractors!A51="","",Contractors!D51) | C89: =IF(Contractors!A51="","",Contractors!F51) | E89: =IF(Contractors!A51="","",Contractors!L51) | F89: =IF(Contractors!A51="","",Contractors!M51) | K89: =IF(Contractors!A51="","",Contractors!T51) | L89: =IF(Contractors!A51="","",Contractors!U51)
A90: =IF(Contractors!A52="","",Contractors!A52) | B90: =IF(Contractors!A52="","",Contractors!D52) | C90: =IF(Contractors!A52="","",Contractors!F52) | E90: =IF(Contractors!A52="","",Contractors!L52) | F90: =IF(Contractors!A52="","",Contractors!M52) | K90: =IF(Contractors!A52="","",Contractors!T52) | L90: =IF(Contractors!A52="","",Contractors!U52)
A91: =IF(Contractors!A53="","",Contractors!A53) | B91: =IF(Contractors!A53="","",Contractors!D53) | C91: =IF(Contractors!A53="","",Contractors!F53) | E91: =IF(Contractors!A53="","",Contractors!L53) | F91: =IF(Contractors!A53="","",Contractors!M53) | K91: =IF(Contractors!A53="","",Contractors!T53) | L91: =IF(Contractors!A53="","",Contractors!U53)
A92: =IF(Contractors!A54="","",Contractors!A54) -> Bay Equipment Maintenance - Light inspection / maintenance - Label inspection / maintenance - Security fence inspection and maintaining access gate | B92: =IF(Contractors!A54="","",Contractors!D54) -> Substandard condition Substation label | C92: =IF(Contractors!A54="","",Contractors!F54) -> Hand injuries when changing safety signs along the substation fence. | E92: =IF(Contractors!A54="","",Contractors!L54) -> Lost Time Injury Medical Incident | F92: =IF(Contractors!A54="","",Contractors!M54) -> Elimination:None Substitution: None Engineering Controls:None Administrative Controls: All Handtools, whether private or company tools, must be listed on the prescribed checklist and checked for integrity at prescribed intervals. No unsafe Handtools or purpose made tools may be used.Enforce use of PPE, Training on material handling. Personal Protective Equipment (PPE ):(encompassing non-slip safety boots, electrical shock-resistant boots, long sleeve and long pants),and restriction on wearing of jewellery, long brim safety hat) , gloves | K92: =IF(Contractors!A54="","",Contractors!T54) -> HV Plant Manager | L92: =IF(Contractors!A54="","",Contractors!U54) -> OHSA no. 85 of 1993 ,section 8,14 &24 ,Electrical Machinery Regulations,2011 _8,9,19&22 COIDA no.130 of 1993 ,section 22,23,24 & 25,Hazardous Chemical Agents,201 3,4,10,11,12,14A &14B) GSR 3 ,Driven Machinery Regulations ,2015 (18),Ergonomics Regulations ,2019 (6,8) GAR 8&9 32-846 Operating Regulations for High Voltage System - 240-43848327 Right to Refuse to Work in an unsafe condition procedure - 240-44175132 Eskom Personal Protective Equipment - - 32-520 Occupational Health & Safety Risk Assessment Procedure - Eskom Life Saving Rule No. 1
A93: =IF(Contractors!#REF!="","",Contractors!#REF!) -> #REF! | B93: =IF(Contractors!#REF!="","",Contractors!#REF!) -> #REF! | C93: =IF(Contractors!#REF!="","",Contractors!#REF!) -> #REF! | E93: =IF(Contractors!#REF!="","",Contractors!#REF!) -> #REF! | F93: =IF(Contractors!#REF!="","",Contractors!#REF!) -> #REF! | K93: =IF(Contractors!#REF!="","",Contractors!#REF!) -> #REF! | L93: =IF(Contractors!#REF!="","",Contractors!#REF!) -> #REF!
A94: =IF(Contractors!#REF!="","",Contractors!#REF!) -> #REF! | B94: =IF(Contractors!#REF!="","",Contractors!#REF!) -> #REF! | C94: =IF(Contractors!#REF!="","",Contractors!#REF!) -> #REF! | E94: =IF(Contractors!#REF!="","",Contractors!#REF!) -> #REF! | F94: =IF(Contractors!#REF!="","",Contractors!#REF!) -> #REF! | K94: =IF(Contractors!#REF!="","",Contractors!#REF!) -> #REF! | L94: =IF(Contractors!#REF!="","",Contractors!#REF!) -> #REF!
A95: =IF(Contractors!#REF!="","",Contractors!#REF!) -> #REF! | B95: =IF(Contractors!#REF!="","",Contractors!#REF!) -> #REF! | C95: =IF(Contractors!#REF!="","",Contractors!#REF!) -> #REF! | E95: =IF(Contractors!#REF!="","",Contractors!#REF!) -> #REF! | F95: =IF(Contractors!#REF!="","",Contractors!#REF!) -> #REF! | K95: =IF(Contractors!#REF!="","",Contractors!#REF!) -> #REF! | L95: =IF(Contractors!#REF!="","",Contractors!#REF!) -> #REF!
A96: =IF(Contractors!A55="","",Contractors!A55) | B96: =IF(Contractors!A55="","",Contractors!#REF!) | C96: =IF(Contractors!A55="","",Contractors!F55) | E96: =IF(Contractors!A55="","",Contractors!L55) | F96: =IF(Contractors!A55="","",Contractors!M55) | K96: =IF(Contractors!A55="","",Contractors!T55) | L96: =IF(Contractors!A55="","",Contractors!U55)
A97: =IF(Contractors!#REF!="","",Contractors!#REF!) -> #REF! | B97: =IF(Contractors!#REF!="","",Contractors!#REF!) -> #REF! | C97: =IF(Contractors!#REF!="","",Contractors!#REF!) -> #REF! | E97: =IF(Contractors!#REF!="","",Contractors!#REF!) -> #REF! | F97: =IF(Contractors!#REF!="","",Contractors!#REF!) -> #REF! | K97: =IF(Contractors!#REF!="","",Contractors!#REF!) -> #REF! | L97: =IF(Contractors!#REF!="","",Contractors!#REF!) -> #REF!
A98: =IF(Contractors!#REF!="","",Contractors!#REF!) -> #REF! | B98: =IF(Contractors!#REF!="","",Contractors!#REF!) -> #REF! | C98: =IF(Contractors!#REF!="","",Contractors!#REF!) -> #REF! | E98: =IF(Contractors!#REF!="","",Contractors!#REF!) -> #REF! | F98: =IF(Contractors!#REF!="","",Contractors!#REF!) -> #REF! | K98: =IF(Contractors!#REF!="","",Contractors!#REF!) -> #REF! | L98: =IF(Contractors!#REF!="","",Contractors!#REF!) -> #REF!
A99: =IF(Contractors!#REF!="","",Contractors!#REF!) -> #REF! | B99: =IF(Contractors!#REF!="","",Contractors!#REF!) -> #REF! | C99: =IF(Contractors!#REF!="","",Contractors!#REF!) -> #REF! | E99: =IF(Contractors!#REF!="","",Contractors!#REF!) -> #REF! | F99: =IF(Contractors!#REF!="","",Contractors!#REF!) -> #REF! | K99: =IF(Contractors!#REF!="","",Contractors!#REF!) -> #REF! | L99: =IF(Contractors!#REF!="","",Contractors!#REF!) -> #REF!
A100: =IF(Contractors!#REF!="","",Contractors!#REF!) -> #REF! | B100: =IF(Contractors!#REF!="","",Contractors!#REF!) -> #REF! | C100: =IF(Contractors!#REF!="","",Contractors!#REF!) -> #REF! | E100: =IF(Contractors!#REF!="","",Contractors!#REF!) -> #REF! | F100: =IF(Contractors!#REF!="","",Contractors!#REF!) -> #REF! | K100: =IF(Contractors!#REF!="","",Contractors!#REF!) -> #REF! | L100: =IF(Contractors!#REF!="","",Contractors!#REF!) -> #REF!
A101: =IF(Contractors!#REF!="","",Contractors!#REF!) -> #REF! | B101: =IF(Contractors!#REF!="","",Contractors!#REF!) -> #REF! | C101: =IF(Contractors!#REF!="","",Contractors!#REF!) -> #REF! | E101: =IF(Contractors!#REF!="","",Contractors!#REF!) -> #REF! | F101: =IF(Contractors!#REF!="","",Contractors!#REF!) -> #REF! | K101: =IF(Contractors!#REF!="","",Contractors!#REF!) -> #REF! | L101: =IF(Contractors!#REF!="","",Contractors!#REF!) -> #REF!
A102: =IF(Contractors!A56="","",Contractors!A56) -> Static Variation Compensator (SVC) preventative maintenance | B102: =IF(Contractors!A56="","",Contractors!D56) -> Substandard Condition Static Variation Compensator | C102: =IF(Contractors!A56="","",Contractors!F56) -> Electric Shock | E102: =IF(Contractors!A56="","",Contractors!L56) -> Fatality, -Lost Time Injury -Medical Incident | F102: =IF(Contractors!A56="","",Contractors!M56) -> Elimination:None Substitution: None Engineering Controls:None Administrative Controls: - Technicians always ensure that equipment is opened, isolated and safe to work on. - An equipotential safety zone is created for each worker on the job site by earthing, bonding and/or insulating according to approved procedures to avoid contact by charging the equipment being tested. - Authorised person (team leader) has certified and shown all team members that the apparatus is safe to work on. - Pre-task risk assessment to identify all risks and hazards has been conducted and complete workers register prior to any work commencing. - Permit is always issued before commencement of the testing activities. - Emergency preparedness plan is reviewed and discussed before any work commences. - Test Equipment.- Use updated drawings. -Adhere to ORHVS regulations. Personal Protective Equipment (PPE ):(encompassing non-slip safety boots, electrical shock-resistant boots, long sleeve and long pants),and restriction on wearing of jewellery, long brim safety hat) | K102: =IF(Contractors!A56="","",Contractors!T56) -> HV Plant Manager | L102: =IF(Contractors!A56="","",Contractors!U56) -> OHSA no. 85 of 1993 ,section 8,14 &24 ,Electrical Machinery Regulations,2011 _8,9,19&22 COIDA no.130 of 1993 ,section 22,23,24 & 25,Hazardous Chemical Agents,201 3,4,10,11,12,14A &14B) GSR 3 ,Driven Machinery Regulations ,2015 (18),Ergonomics Regulations ,2019 (6,8) GAR 8&9 32-846 Operating Regulations for High Voltage System - 240-43848327 Right to Refuse to Work in an unsafe condition procedure - 240-44175132 Eskom Personal Protective Equipment - - 32-520 Occupational Health & Safety Risk Assessment Procedure - Eskom Life Saving Rule No. 1
A103: =IF(Contractors!#REF!="","",Contractors!#REF!) -> #REF! | B103: =IF(Contractors!#REF!="","",Contractors!#REF!) -> #REF! | C103: =IF(Contractors!#REF!="","",Contractors!#REF!) -> #REF! | E103: =IF(Contractors!#REF!="","",Contractors!#REF!) -> #REF! | F103: =IF(Contractors!#REF!="","",Contractors!#REF!) -> #REF! | K103: =IF(Contractors!#REF!="","",Contractors!#REF!) -> #REF! | L103: =IF(Contractors!#REF!="","",Contractors!#REF!) -> #REF!
A104: =IF(Contractors!A57="","",Contractors!A57) | B104: =IF(Contractors!A57="","",Contractors!D57) | C104: =IF(Contractors!A57="","",Contractors!F57) | E104: =IF(Contractors!A57="","",Contractors!L57) | F104: =IF(Contractors!A57="","",Contractors!M57) | K104: =IF(Contractors!A57="","",Contractors!T57) | L104: =IF(Contractors!A57="","",Contractors!U57)
...

Sheet Consequence rating
C2: Consequence criteria
B3: Consequence rating | C3: Description | Q3: R | R3: Safety | S3: 1 | T3: A | U3: Fully effective | V3: I
C4: Health and Safety | Q4: N | R4: Health | S4: 2 | T4: B | U4: Mostly effective | V4: II
B5: 1 | C5: No injuries or health effects(near misses) | S5: 3 | T5: C | U5: Mostly ineffective | V5: III
B6: 2 | C6: First-aid treatment case, and temporary discomfort case | S6: 4 | T6: D | U6: None | V6: IV
B7: 3 | C7: Medical treatment case; occupational disease with reversible/non-permanent effect | S7: 5 | T7: E
B8: 4 | C8: Lost Time Injury. Irreversible health effects/occupational disease with permanent consequence | S8: 6
B9: 5 | C9: Fatality or life threatening health effects
B10: 6 | C10: Multiple fatalities

Sheet Likelihood rating
A2: Likelihood criteria
B3: Score | C3: Descriptor | D3: Safety | E3: Occupational hygiene
E4: Exposure | F4: Probability of exceeding OEL
B5: A | C5: Highly unlikely | D5: § More than a “100 year event” | E5: Rare (once a year) | F5: No exposure (or exposure < 10% of OEL)
D6: § Exceptionally unlikely, even in the long-term future
D7: § < 5% probability.
B8: B | C8: Unlikely | D8: § Could occur in “years to decades” | E8: Short periods of time, a few times per day/ intermittent (once in six months, three months, or a month) | F8: Low exposure (< 50% of OEL)
D9: § May occur but not anticipated
D10: § ≥ 5% and < 20% probability.
B11: C | C11: Possible | D11: § Could occur within “months to years” | E11: Continuous for between one and two hours (often/ weekly) | F11: Moderate exposure (chronic exposure > 50% of OEL or acute exposure ≥ OEL)
D12: § May occur shortly but a distinct probability it will not, or ≥ 20% and < 70% probability.
B13: D | C13: Likely | D13: § Could occur within “weeks to months” | E13: Continuous for between two and four hours (frequent/daily) | F13: High exposure (chronic exposure > OEL, or exposure exceeding OEL-STEL)
D14: § Balance of probability will occur
D15: § ≥ 70% and < 90% probability.
B16: E | C16: Unavoidable | D16: § Could occur within “days to weeks” | E16: Continuous for eight-hour shift | F16: Very high exposure (chronic exposure > 2 x OEL or exposure exceeding OEL-C)
D17: § Impact is imminent
D18: § ≥ 90% probability.

Sheet Risk control effectiveness
B3: RISK CONTROL EFFECTIVENESS GUIDE
B4: RCE | C4: Guide
B5: Fully effective | C5: Nothing more to be done except review and monitor the existing controls. Controls are well designed for the risk, are largely preventive and address the root causes. Management believes that they are effective and reliable at all times. Reactive controls only support preventive controls.
B6: Mostly effective | C6: Most controls are designed correctly and are in place and effective. Some more work to be done to improve operating effectiveness or management has doubts about operational effectiveness and reliability of the controls.
B7: Mostly ineffective | C7: While the design of controls may be largely correct in that they treat most of the root causes of the risk, they are not currently operationally very effective. There may be an over-reliance on reactive controls, or some of the controls do not seem correctly designed in that they do not treat root causes.
B8: None | C8: Virtually no credible control. Management has no confidence that any degree of control is being achieved.

Sheet Risk matrix
E2: RISK MATRIX
C3: Consequences | D3: 6 | E3: I | F3: I | G3: I | H3: I | I3: I
D4: 5 | E4: II | F4: II | G4: II | H4: I | I4: I
D5: 4 | E5: III | F5: III | G5: II | H5: I | I5: I
D6: 3 | E6: IV | F6: III | G6: II | H6: II | I6: I
D7: 2 | E7: IV | F7: IV | G7: III | H7: II | I7: II
D8: 1 | E8: IV | F8: IV | G8: III | H8: III | I8: III
E9: A | F9: B | G9: C | H9: D | I9: E
E10: Likelihood
H12: ,
D13: Priority | E13: Risk ranking | F13: Action required
D14: I | E14: Very high | F14: Immediate action required.
D15: II | E15: High | F15: Strong mandatory action required
D16: III | E16: Medium | F16: Action required, possibly at administrative level.
D17: IV | E17: Low | F17: Minor or no action required.
