Workbook

Sheet SUMMARY
B2: SCHEDULED MAINTENANCE OF THEATRE HVAC SYSTEMS IN CLUSTER FOUR (4)
B4: ='SCHED 1A-1_NMB_SB'!B2 -> CONTRACT REF. NO: | D4: SCMU3-24/25-0657-HO | E4: Cluster/District: | F4: NELSON MANDELA AND SARAH BAARTMAN
B6: ='SCHED 1A-1_NMB_SB'!B3 -> ASSET TYPE: | D6: ='SCHED 1A-1_NMB_SB'!D3 -> HVAC THEATRE
B8: SCHEDULE NUMBER | C8: DESCRIPTION | F8: TENDER AMOUNT
B10: 1A-1 | C10: NMB and Sarah Baartman | D10: ='SCHED 1A-1_NMB_SB'!D4 -> FIXED CHARGE AND VALUE RELATED ITEMS APPLICABLE TO ALL WORK
B12: 1A-2 | C12: NMB and Sarah Baartman | D12: ='SCHED 1A-2_NMB_SB'!D5 -> FIXED CHARGE AND VALUE RELATED ITEMS APPLICABLE TO ALL WORK (continued)
B14: 2A-1 | C14: NMB and Sarah Baartman | D14: ='SCHED 2A-1_PS PROV Hosp'!D4 -> PE PROVINCIAL HOSPITAL THEATRE HVAC
B16: 2A-2 | C16: NMB and Sarah Baartman | D16: ='SCHED 2A-2_Motherwell CHC'!D4 -> MOTHERWELL CHC THEATRE HVAC
B18: 2A-3 | C18: NMB and Sarah Baartman | D18: ='SCHED 2A-3_Livingstone Hosp'!D4 -> LIVINGSTONE HOSPITAL THEATRE HVAC
B20: 2A-4 | C20: NMB and Sarah Baartman | D20: ='SCHED 2A_4_Uitenhage Hosp'!D6 -> UITENHAGE HOSPITAL THEATRE HVAC
B22: 2A-5 | C22: NMB and Sarah Baartman | D22: ='SCHED 2A-5_Settlers Hosp'!D6 -> SETTLERS HOSPITAL THEATRE HVAC
B24: 2A-6 | C24: NMB and Sarah Baartman | D24: ='SCHED 2A-6_Andries Vosloo Hosp'!D5 -> ANDRIES VOSLOO HOSPITAL THEATRE HVAC
B26: 2A-7 | C26: NMB and Sarah Baartman | D26: ='SCHED 2A-7_Sundays R Hosp (2)'!D6 -> SUNDAYS RIVER VALLEY HOSPITAL THEATRE HVAC
B28: 2A-8 | C28: NMB and Sarah Baartman | D28: ='SCHED 2A-8_Humansdorp Hosp'!D6 -> HUMANSDORP HOSPITAL THEATRE HVAC
B30: 3 | C30: ='SCHEDULE 3'!D6 -> MAINTENANCE SERVICE SCHEDULE
B32: 4 | C32: ='SCHEDULE 4'!D6 -> TERM REPAIRS SUBJECT TO APPROVAL OF QUOTATION OF THE WORKS
B42: SUBTOTAL AMOUNT OF WORKS (EXCL VAT)
B43: ALLOWANCE FOR VAT AT 15.0%
B44: TOTAL AMOUNT OF WORKS (INCL VAT) - ENTER THIS AMOUNT TO FORM OF OFFER

Sheet SCHED 1A-1_NMB_SB
B1: =SUMMARY!B2 -> SCHEDULED MAINTENANCE OF THEATRE HVAC SYSTEMS IN CLUSTER FOUR (4)
B2: CONTRACT REF. NO: | D2: =SUMMARY!D4 -> SCMU3-24/25-0657-HO | E2: Cluster/District: | G2: =SUMMARY!F4 -> NELSON MANDELA AND SARAH BAARTMAN
B3: ASSET TYPE: | D3: HVAC THEATRE
B4: SCHEDULE 1A-1: | D4: FIXED CHARGE AND VALUE RELATED ITEMS APPLICABLE TO ALL WORK
B6: ITEM Nr. | C6: PAYMENT REFERS | D6: DESCRIPTION | E6: UNIT | F6: QTY | G6: RATE | H6: AMOUNT
B7: 1 | C7: GM 2.5 | D7: COMPLIANCE: Contract conditions, Sureties, traveling, allowance
B8: 1.1 | D8: Port Elizabeth Provincial Hospital | E8: Item | F8: 1
B9: 1.2 | D9: Motherwell CHC | E9: Item | F9: 1
B10: 1.3 | D10: Livingstone Hospital | E10: Item | F10: 1
B11: 1.4 | D11: Uitenhage Hospital | E11: Item | F11: 1
B12: 1.5 | D12: Port Alfred Hospital | E12: Item | F12: 1
B13: 1.6 | D13: Settlers Hospital | E13: Item | F13: 1
B14: 1.7 | D14: Andries Vosloo Hospital | E14: Item | F14: 1
B15: 1.8 | D15: Sundays Valley Hospital | E15: Item | F15: 1
B19: 2 | C19: GM 2.5 & 3.2 | D19: SITE ESTABLISHMENT, STORAGE FACILITIES, DE-ESTABLISHMENT (Cleaning and tiding up after completion)
B20: 2.1 | D20: Port Elizabeth Provincial Hospital | E20: Item | F20: 1
B21: 2.2 | D21: Motherwell CHC | E21: Item | F21: 1
B22: 2.3 | D22: Livingstone Hospital | E22: Item | F22: 1
B23: 2.4 | D23: Uitenhage Hospital | E23: Item | F23: 1
B24: 2.5 | D24: Port Alfred Hospital | E24: Item | F24: 1
B25: 2.6 | D25: Settlers Hospital | E25: Item | F25: 1
B26: 2.7 | D26: Andries Vosloo Hospital | E26: Item | F26: 1
B27: 2.8 | D27: Sundays Valley Hospital | E27: Item | F27: 1
B31: 3 | C31: GM 2.7 | D31: COMPILING OF OPERATING AND MAINTENANCE MANUALS : Compile three sets of O&M Manuals per site, this includes As-built drawings.
B32: 3.1 | D32: Port Elizabeth Provincial Hospital | E32: Item | F32: 1
B33: 3.2 | D33: Motherwell CHC | E33: Item | F33: 1
B34: 3.3 | D34: Livingstone Hospital | E34: Item | F34: 1
B35: 3.4 | D35: Uitenhage Hospital | E35: Item | F35: 1
B36: 3.5 | D36: Port Alfred Hospital | E36: Item | F36: 1
B37: 3.6 | D37: Settlers Hospital | E37: Item | F37: 1
B38: 3.7 | D38: Andries Vosloo Hospital | E38: Item | F38: 1
B39: 3.8 | D39: Sundays Valley Hospital | E39: Item | F39: 1
B43: TOTAL CARRIED FORWARD TO SUMMARY | H43: =SUM(H8:H42) -> 0

Sheet SCHED 1A-2_NMB_SB
B1: ='SCHED 1A-1_NMB_SB'!B1 -> SCHEDULED MAINTENANCE OF THEATRE HVAC SYSTEMS IN CLUSTER FOUR (4)
B2: CONTRACT REF. NO: | D2: ='SCHED 1A-1_NMB_SB'!D2 -> SCMU3-24/25-0657-HO | E2: Cluster/District: | G2: =SUMMARY!F4 -> NELSON MANDELA AND SARAH BAARTMAN
B3: ASSET TYPE: | D3: ='SCHED 1A-1_NMB_SB'!D3 -> HVAC THEATRE
B5: SCHEDULE 1A-2: | D5: FIXED CHARGE AND VALUE RELATED ITEMS APPLICABLE TO ALL WORK (continued)
B7: ITEM Nr. | C7: PAYMENT REFERS | D7: DESCRIPTION | E7: UNIT | F7: QTY | G7: RATE | H7: AMOUNT
B8: 4 | C8: SS 8 & 9 | D8: OPERATOR AND MAINTAINER TRAINING : Provide Operator and Maintainer training
B9: 4.1 | D9: Port Elizabeth Provincial Hospital | E9: Hrs | F9: 4.5
B10: 4.2 | D10: Motherwell CHC | E10: Hrs | F10: 4.5
B11: 4.3 | D11: Livingstone Hospital | E11: Hrs | F11: 4.5
B12: 4.4 | D12: Uitenhage Hospital | E12: Hrs | F12: 4.5
B13: 4.5 | D13: Port Alfred Hospital | E13: Hrs | F13: 4.5
B14: 4.6 | D14: Settlers Hospital | E14: Hrs | F14: 4.5
B15: 4.7 | D15: Andries Vosloo Hospital | E15: Hrs | F15: 4.5
B16: 4.8 | D16: Sundays Valley Hospital | E16: Hrs | F16: 4.5
M20: =5000/29 -> 172.41379 | N20: =M20*11 -> 1896.5517
B21: 5 | C21: GM 2.15 | D21: ENVIRONMENTAL MANAGEMENT PLAN : The Contractor must compile a basic Environmental plan specific to the type of work that he will be performing at the Health Facilities as per C3.2 | E21: Item | F21: 11
B22: 6 | C22: GM 2.15 | D22: OCCUPATIONAL HEALTH AND SAFETY ACT COMPLIANCE COST : The Contractor must comply to the project Health and Safety Specification specific to the type of work that he will be performing on site as per C3.2 | E22: Month | F22: 36
B23: 7 | C23: Clause 83.1 | D23: INSURANCE : LIMITATION OF LIABILITY (Amounts applicable for whole Contract)
B24: 7.1 | D24: Provision for General Contractor's Insurance (Minimum liability limit must be equal to R2,000 000) to cover requirements of Clause 83.1 in Contract Data | E24: Month | F24: 36
B25: 8 | C25: X13 | D25: PERFORMANCE BOND (Amounts applicable for whole Contract)
B26: 8.1 | D26: Provision for a Performance bond of not less than 2,5% of the Tender Value | E26: Month | F26: 36
B28: 9 | D28: INSPECTION BY SPECIALISTS
B29: 5 | C29: GM 3 | D29: MAINTENANCE CONTROL PLAN : Compiling of a detailed Maintenance Control Plan for each Health Facility included in this Tender (See SS 3 for facility listing)
B30: 5.1 | D30: Port Elizabeth Provincial Hospital | E30: item | F30: 1
B31: 5.2 | D31: Motherwell CHC | E31: item | F31: 1
B32: 5.3 | D32: Livingstone Hospital | E32: item | F32: 1
B33: 5.4 | D33: Uitenhage Hospital | E33: item | F33: 1
B34: 5.5 | D34: Port Alfred Hospital | E34: item | F34: 1
B35: 5.6 | D35: Settlers Hospital | E35: item | F35: 1
B36: 5.7 | D36: Andries Vosloo Hospital | E36: item | F36: 1
B37: 5.8 | D37: Sundays Valley Hospital | E37: item | F37: 1
B41: 6 | C41: SS15 | D41: IN-SERVICE TRAINING OF GRADUATES AND INTERNS : Provisional Sum to pay the costs associated with employing nominated Interns and Graduates for the duration of the Contract
B42: 6.1 | D42: Interns | E42: Months | F42: 36 | G42: 6000 | H42: =F42*G42 -> 216000
B43: 6.2 | D43: Interns | E43: Months | F43: 36 | G43: 6000 | H43: =F43*G43 -> 216000
B44: 6.3 | D44: Graduates | E44: Months | F44: 36 | G44: 8000 | H44: =F44*G44 -> 288000
B45: 6.4 | D45: Graduates | E45: Months | F45: 36 | G45: 8000 | H45: =F45*G45 -> 288000
B46: 6.5 | D46: Direct Fee Percentage (Mark-up) to be charged by Contractor on amount above | E46: %
B47: 7 | C47: SS16 | D47: PROVISION OF ASSET APPLICABLE ACCREDITED TRAINING : Arranging of Accredited Asset Applicable Training for Operating and Maintenance Staff as per SS16 | E47: Psum | F47: 1 | G47: 345000 | H47: =G47*F47 -> 345000
B48: 7.1 | C48: Clause 11.2(8) | D48: Direct Fee Percentage (Mark-up) to be charged by Contractor on amount above | E48: %
B50: TOTAL CARRIED FORWARD TO SUMMARY

Sheet SCHED 2A-1_PS PROV Hosp
B1: ='SCHED 1A-2_NMB_SB'!B1 -> SCHEDULED MAINTENANCE OF THEATRE HVAC SYSTEMS IN CLUSTER FOUR (4)
B2: ='SCHED 1A-1_NMB_SB'!B2 -> CONTRACT REF. NO: | D2: ='SCHED 1A-1_NMB_SB'!D2 -> SCMU3-24/25-0657-HO | E2: Cluster/District: | G2: ='SCHED 1A-1_NMB_SB'!G2 -> NELSON MANDELA AND SARAH BAARTMAN
B3: ='SCHED 1A-1_NMB_SB'!B3 -> ASSET TYPE: | D3: ='SCHED 1A-1_NMB_SB'!D3 -> HVAC THEATRE
B4: SCHEDULE 2A-1: | D4: PE PROVINCIAL HOSPITAL THEATRE HVAC
B6: ITEM Nr. | C6: PAYMENT REFERS | D6: DESCRIPTION | E6: UNIT | F6: QTY | G6: MATERIAL RATE | H6: LABOUR RATE | I6: AMOUNT
B7: 2 | C7: GM 2.5 | D7: Supply, Delivery, Installation and Commissioning of the Operating theatre HVAC at Adelaide hospital inclusive of all auxilliaries and ancilliaries
B8: 2.1 | D8: HEAT RECOVERY CONDENSING UNITS
D9: Outdoor Unit- Supply and install complete as specified including all fixures and fittings, auxilliaries and ancilliaries and refrigerant for entire system and hail guards
B10: 2.1.1 | D10: 20.6 kW Heat recovery condensing units | E10: Unit | F10: 1
B11: 2.2 | D11: AIR HANDLING UNIT
B12: 2.2.1 | D12: Air handling unit: Air Quantity 900l/s. Cooling 20.6kW. Gqeberha wet bulb, dry bulb on/off coil temperatures. Complete with Primary, Secondary bag and Hepa Filters. | E12: Unit | F12: 1
B13: 2.3 | D13: DUCTING
B14: 2.3.1 | D14: 400x400 duct ( Insulated) | E14: m | F14: 30
B15: 2.3.2 | D15: 350x350 duct (Uninsulated) | E15: m | F15: 20
B16: 2.3.3 | D16: 600x300 duct(Uninsulated) | E16: m | F16: 20
B17: 2.3.4 | D17: 300x300(Uninsulated) | E17: m | F17: 5
B18: 2.3.5 | D18: 300x400 duct (Insulated) | E18: m | F18: 3
B19: 2.3.6 | D19: 150x400 (Insulated) | E19: m | F19: 3
B20: 2.3.7 | D20: 315 diameter round duct | E20: m | F20: 8
B21: 2.4 | D21: LOUVRES, DIFFUSERS & GRILLES
B22: 2.4.1 | D22: Perforated Ceiling diffusers | E22: No. | F22: 4
B23: 2.4.2 | D23: 400x600 extract grilles | E23: No. | F23: 4
B24: 2.4.3 | D24: 600x600 Weather louvres | E24: No. | F24: 1
B25: 2.4.4 | D25: 150x150 fluff extracting grilles | E25: No. | F25: 4
B26: 2.5 | D26: BENDS
B27: 2.5.1 | D27: 400x400 45 degree bend | E27: No. | F27: 2
B28: 2.5.2 | D28: 400x400 90 degree bend | E28: No. | F28: 3
B29: 2.6 | D29: SOUND ATTENUATORS
B30: 2.6.1 | D30: Sound attenuators 400x400 & 1200 long | E30: No. | F30: 1
B31: 2.7 | D31: TRANSITION PIECES
B32: 2.7.1 | D32: 400x400 to 300x400 transition pieces | E32: No. | F32: 1
B33: 2.7.2 | D33: 300x400 to 150x400 transition pieces | E33: No. | F33: 1
B34: 2.7.3 | D34: 350x350 to 300x300 transition pieces | E34: No. | F34: 1
B35: 2.8 | D35: FIRE DAMPERS
B36: 2.8.1 | D36: 400x400 spring loaded fire dampers | E36: No. | F36: 1
B37: 2.9 | D37: EXHAUST FANS
B38: 2.9.1 | D38: 500 diameter in-line duct fan complete with sound attenuators | E38: No. | F38: 1
B39: 2.10 | D39: The tender price shall include for the equipment specified below as well as all branch controllers, refrigerant piping, refnet joints, auxilliary and ancilliary equipment etc. for the system to operate as specified.
B40: 2.11 | D40: All equipment that generates noise must be so positioned that it does not interfer with the hospital operation, personnel and patients. Equipment shall also be positioned so that it can be easily accessed at all times without unnecessarily disrupting the hospital operation.
B41: 2.12 | D41: Refrigerant pipe runs shall generally follow the routes shown on the drawings. shall also be positioned so that it can be easily accessed at all times without unnecessarily disrupting the hospital operation.
...

Sheet SCHED 2A-2_Motherwell CHC
B1: ='SCHED 2A-1_PS PROV Hosp'!B1 -> SCHEDULED MAINTENANCE OF THEATRE HVAC SYSTEMS IN CLUSTER FOUR (4)
B2: ='SCHED 1A-1_NMB_SB'!B2 -> CONTRACT REF. NO: | D2: ='SCHED 1A-1_NMB_SB'!D2 -> SCMU3-24/25-0657-HO | E2: Cluster/District: | G2: ='SCHED 1A-1_NMB_SB'!G2 -> NELSON MANDELA AND SARAH BAARTMAN
B3: ='SCHED 1A-1_NMB_SB'!B3 -> ASSET TYPE: | D3: ='SCHED 1A-1_NMB_SB'!D3 -> HVAC THEATRE
B4: SCHEDULE 2A-2: | D4: MOTHERWELL CHC THEATRE HVAC
B6: ITEM Nr. | C6: PAYMENT REFERS | D6: DESCRIPTION | E6: UNIT | F6: QTY | G6: MATERIAL RATE | H6: LABOUR RATE | I6: AMOUNT
B7: 2 | C7: GM 2.5 | D7: Supply, Delivery, Installation and Commissioning of the Operating theatre HVAC at Adelaide hospital inclusive of all auxilliaries and ancilliaries
B8: 2.1 | D8: HEAT RECOVERY CONDENSING UNITS
D9: Outdoor Unit- Supply and install complete as specified including all fixures and fittings, auxilliaries and ancilliaries and refrigerant for entire system and hail guards
B10: 2.1.1 | D10: 20.6 kW Heat recovery condensing units | E10: Unit | F10: 1
B11: 2.2 | D11: AIR HANDLING UNIT
B12: 2.2.1 | D12: Air handling unit: Air Quantity 900l/s. Cooling 20.6kW. Gqeberha wet bulb, dry bulb on/off coil temperatures. Complete with Primary, Secondary bag and Hepa Filters. | E12: Unit | F12: 1
B13: 2.3 | D13: DUCTING
B14: 2.3.1 | D14: 400x400 duct ( Insulated) | E14: m | F14: 30
B15: 2.3.2 | D15: 350x350 duct (Uninsulated) | E15: m | F15: 20
B16: 2.3.3 | D16: 600x300 duct(Uninsulated) | E16: m | F16: 20
B17: 2.3.4 | D17: 300x300(Uninsulated) | E17: m | F17: 5
B18: 2.3.5 | D18: 300x400 duct (Insulated) | E18: m | F18: 3
B19: 2.3.6 | D19: 150x400 (Insulated) | E19: m | F19: 3
B20: 2.3.7 | D20: 313 diameter round duct | E20: m | F20: 8
B21: 2.4 | D21: LOUVRES, DIFFUSERS & GRILLES
B22: 2.4.1 | D22: Perforated Ceiling diffusers | E22: No. | F22: 4
B23: 2.4.2 | D23: 400x600 extract grilles | E23: No. | F23: 4
B24: 2.4.3 | D24: 600x600 Weather louvres | E24: No. | F24: 1
B25: 2.4.4 | D25: 150x150 fluff extracting grilles | E25: No. | F25: 4
B26: 2.5 | D26: BENDS
B27: 2.5.1 | D27: 400x400 45 degree bend | E27: No. | F27: 2
B28: 2.5.2 | D28: 400x400 90 degree bend | E28: No. | F28: 3
B29: 2.6 | D29: SOUND ATTENUATORS
B30: 2.6.1 | D30: Sound attenuators 400x400 & 1200 long | E30: No. | F30: 1
B31: 2.7 | D31: TRANSITION PIECES
B32: 2.7.1 | D32: 400x400 to 300x400 transition pieces | E32: No. | F32: 1
B33: 2.7.2 | D33: 300x400 to 150x400 transition pieces | E33: No. | F33: 1
B34: 2.7.3 | D34: 350x350 to 300x300 transition pieces | E34: No. | F34: 1
B35: 2.8 | D35: FIRE DAMPERS
B36: 2.8.1 | D36: 400x400 spring loaded fire dampers | E36: No. | F36: 1
B37: 2.9 | D37: EXHAUST FANS
B38: 2.9.1 | D38: 500 diameter in-line duct fan complete with sound attenuators | E38: No. | F38: 1
B39: 2.10 | D39: The tender price shall include for the equipment specified below as well as all branch controllers, refrigerant piping, refnet joints, auxilliary and ancilliary equipment etc. for the system to operate as specified.
B40: 2.11 | D40: All equipment that generates noise must be so positioned that it does not interfer with the hospital operation, personnel and patients. Equipment shall also be positioned so that it can be easily accessed at all times without unnecessarily disrupting the hospital operation.
B41: 2.12 | D41: Refrigerant pipe runs shall generally follow the routes shown on the drawings. shall also be positioned so that it can be easily accessed at all times without unnecessarily disrupting the hospital operation.
...

Sheet SCHED 2A-3_Livingstone Hosp
B1: ='SCHED 2A-1_PS PROV Hosp'!B1 -> SCHEDULED MAINTENANCE OF THEATRE HVAC SYSTEMS IN CLUSTER FOUR (4)
B2: ='SCHED 1A-1_NMB_SB'!B2 -> CONTRACT REF. NO: | D2: ='SCHED 1A-1_NMB_SB'!D2 -> SCMU3-24/25-0657-HO | E2: Cluster/District: | G2: ='SCHED 1A-1_NMB_SB'!G2 -> NELSON MANDELA AND SARAH BAARTMAN
B3: ='SCHED 1A-1_NMB_SB'!B3 -> ASSET TYPE: | D3: ='SCHED 1A-1_NMB_SB'!D3 -> HVAC THEATRE
B4: SCHEDULE 2A-3: | D4: LIVINGSTONE HOSPITAL THEATRE HVAC
B5: ITEM Nr. | C5: PAYMENT REFERS | D5: DESCRIPTION | E5: UNIT | F5: QTY | G5: MATERIAL RATE | H5: LABOUR RATE | I5: AMOUNT
B6: 2 | C6: GM 2.5.(5) | D6: Supply, Delivery, Installation and Commissioning of the Operating theatre HVAC at Fort Beaufort hospital inclusive of all auxilliaries and ancilliaries
B7: 2.1 | D7: HEAT RECOVERY CONDENSING UNITS
D8: Outdoor Unit- Supply and install complete as specified including all fixures and fittings, auxilliaries and ancilliaries and refrigerant for entire system and hail guards
B9: 2.1.1 | D9: 20.6 kW Heat recovery condensing units | E9: Unit | F9: 1
B10: 2.2 | D10: AIR HANDLING UNIT
B11: 2.2.1 | D11: Air handling unit: Air Quantity 900l/s. Cooling 20.6kW. Gqeberha wet bulb, dry bulb on/off coil temperatures. Complete with Primary, Secondary bag and Hepa Filters. | E11: Unit | F11: 1
B12: 2.3 | D12: DUCTING
B13: 2.3.1 | D13: 400x400 duct ( Insulated) | E13: m | F13: 30
B14: 2.3.2 | D14: 350x350 duct (Uninsulated) | E14: m | F14: 20
B15: 2.3.3 | D15: 600x300 duct(Uninsulated) | E15: m | F15: 20
B16: 2.3.4 | D16: 300x300(Uninsulated) | E16: m | F16: 5
B17: 2.3.5 | D17: 300x400 duct (Insulated) | E17: m | F17: 3
B18: 2.3.6 | D18: 150x400 (Insulated) | E18: m | F18: 3
B19: 2.3.7 | D19: 313 diameter round duct | E19: m | F19: 8
B20: 2.4 | D20: LOUVRES, DIFFUSERS & GRILLES
B21: 2.4.1 | D21: Perforated Ceiling diffusers | E21: No. | F21: 4
B22: 2.4.2 | D22: 400x600 extract grilles | E22: No. | F22: 4
B23: 2.4.3 | D23: 600x600 Weather louvres | E23: No. | F23: 1
B24: 2.4.4 | D24: 150x150 fluff extracting grilles | E24: No. | F24: 4
B25: 2.5 | D25: BENDS
B26: 2.5.1 | D26: 400x400 45 degree bend | E26: No. | F26: 2
B27: 2.5.2 | D27: 400x400 90 degree bend | E27: No. | F27: 3
B28: 2.6 | D28: SOUND ATTENUATORS
B29: 2.6.1 | D29: Sound attenuators 400x400 & 1200 long | E29: No. | F29: 1
B30: 2.7 | D30: TRANSITION PIECES
B31: 2.7.1 | D31: 400x400 to 300x400 transition pieces | E31: No. | F31: 1
B32: 2.7.2 | D32: 300x400 to 150x400 transition pieces | E32: No. | F32: 1
B33: 2.7.3 | D33: 350x350 to 300x300 transition pieces | E33: No. | F33: 1
B34: 2.8 | D34: FIRE DAMPERS
B35: 2.8.1 | D35: 400x400 spring loaded fire dampers | E35: No. | F35: 1
B36: 2.9 | D36: EXHAUST FANS
B37: 2.9.1 | D37: 500 diameter in-line duct fan complete with sound attenuators | E37: No. | F37: 1
B38: 2.10.8 | D38: The tender price shall include for the equipment specified below as well as all branch controllers, refrigerant piping, refnet joints, auxilliary and ancilliary equipment etc. for the system to operate as specified.
B39: 2.10.9 | D39: All equipment that generates noise must be so positioned that it does not interfer with the hospital operation, personnel and patients. Equipment shall also be positioned so that it can be easily accessed at all times without unnecessarily disrupting the hospital operation.
B40: 2.10.10 | D40: Refrigerant pipe runs shall generally follow the routes shown on the drawings. shall also be positioned so that it can be easily accessed at all times without unnecessarily disrupting the hospital operation.
...

Sheet SCHED 2A_4_Uitenhage Hosp
B2: ='SCHED 2A-1_PS PROV Hosp'!B1 -> SCHEDULED MAINTENANCE OF THEATRE HVAC SYSTEMS IN CLUSTER FOUR (4)
B3: ='SCHED 1A-1_NMB_SB'!B2 -> CONTRACT REF. NO: | D3: ='SCHED 1A-1_NMB_SB'!D2 -> SCMU3-24/25-0657-HO | E3: Cluster/District: | G3: ='SCHED 1A-1_NMB_SB'!G2 -> NELSON MANDELA AND SARAH BAARTMAN
B4: ='SCHED 1A-1_NMB_SB'!B3 -> ASSET TYPE: | D4: ='SCHED 1A-1_NMB_SB'!D3 -> HVAC THEATRE
B6: SCHEDULE 2A-4: | D6: UITENHAGE HOSPITAL THEATRE HVAC
B8: ITEM Nr. | C8: PAYMENT REFERS | D8: DESCRIPTION | E8: UNIT | F8: QTY | G8: MATERIAL RATE | H8: LABOUR RATE | I8: AMOUNT
B9: 2 | C9: GM 2.5.(5) | D9: Supply, Delivery, Installation and Commissioning of the Operating theatre HVAC at Butterworth hospital inclusive of all auxilliaries and ancilliaries
B10: 2.1 | D10: HEAT RECOVERY CONDENSING UNITS
D11: Outdoor Unit- Supply and install complete as specified including all fixures and fittings, auxilliaries and ancilliaries and refrigerant for entire system and hail guards
B12: 2.1.1 | D12: 20.6 kW Heat recovery condensing units | E12: Unit | F12: 2
B13: 2.2 | D13: AIR HANDLING UNIT
B14: 2.2.1 | D14: Air handling unit: Air Quantity 900l/s. Cooling 20.6kW. Uitenhage wet bulb, dry bulb on/off coil temperatures. Complete with Primary, Secondary bag and Hepa Filters. | E14: Unit | F14: 2
B15: 2.3 | D15: DUCTING
B16: 2.3.1 | D16: 400x400 duct ( Insulated) | E16: m | F16: 60
B17: 2.3.2 | D17: 350x350 duct (Uninsulated) | E17: m | F17: 40
B18: 2.3.3 | D18: 600x300 duct(Uninsulated) | E18: m | F18: 40
B19: 2.3.4 | D19: 300x300(Uninsulated) | E19: m | F19: 10
B20: 2.3.5 | D20: 300x400 duct (Insulated) | E20: m | F20: 6
B21: 2.3.6 | D21: 150x400 (Insulated) | E21: m | F21: 6
B22: 2.3.7 | D22: 313 diameter round duct | E22: m | F22: 16
B23: 2.4 | D23: LOUVRES, DIFFUSERS & GRILLES
B24: 2.4.1 | D24: Perforated Ceiling diffusers | E24: No. | F24: 8
B25: 2.4.2 | D25: 400x600 extract grilles | E25: No. | F25: 8
B26: 2.4.3 | D26: 600x600 Weather louvres | E26: No. | F26: 2
B27: 2.4.4 | D27: 150x150 fluff extracting grilles | E27: No. | F27: 8
B28: 2.5 | D28: BENDS
B29: 2.5.1 | D29: 400x400 45 degree bend | E29: No. | F29: 4
B30: 2.5.2 | D30: 400x400 90 degree bend | E30: No. | F30: 6
B31: 2.6 | D31: SOUND ATTENUATORS
B32: 2.6.1 | D32: Sound attenuators 400x400 & 1200 long | E32: No. | F32: 2
B33: 2.7 | D33: TRANSITION PIECES
B34: 2.7.1 | D34: 400x400 to 300x400 transition pieces | E34: No. | F34: 2
B35: 2.7.2 | D35: 300x400 to 150x400 transition pieces | E35: No. | F35: 2
B36: 2.7.3 | D36: 350x350 to 300x300 transition pieces | E36: No. | F36: 2
B37: 2.8 | D37: FIRE DAMPERS
B38: 2.8.1 | D38: 400x400 spring loaded fire dampers | E38: No. | F38: 2
B39: 2.9 | D39: EXHAUST FANS
B40: 2.9.1 | D40: 500 diameter in-line duct fan complete with sound attenuators | E40: No. | F40: 2
B41: 2.10 | D41: The tender price shall include for the equipment specified below as well as all branch controllers, refrigerant piping, refnet joints, auxilliary and ancilliary equipment etc. for the system to operate as specified.
B42: 2.11 | D42: All equipment that generates noise must be so positioned that it does not interfer with the hospital operation, personnel and patients. Equipment shall also be positioned so that it can be easily accessed at all times without unnecessarily disrupting the hospital operation.
B43: 2.12 | D43: Refrigerant pipe runs shall generally follow the routes shown on the drawings. shall also be positioned so that it can be easily accessed at all times without unnecessarily disrupting the hospital operation.
...

Sheet SCHED 2A-5_Settlers Hosp
B2: ='SCHED 2A-1_PS PROV Hosp'!B1 -> SCHEDULED MAINTENANCE OF THEATRE HVAC SYSTEMS IN CLUSTER FOUR (4)
B3: ='SCHED 1A-1_NMB_SB'!B2 -> CONTRACT REF. NO: | D3: ='SCHED 1A-1_NMB_SB'!D2 -> SCMU3-24/25-0657-HO | E3: Cluster/District: | H3: ='SCHED 1A-1_NMB_SB'!G2 -> NELSON MANDELA AND SARAH BAARTMAN
B4: ='SCHED 1A-1_NMB_SB'!B3 -> ASSET TYPE: | D4: ='SCHED 1A-1_NMB_SB'!D3 -> HVAC THEATRE
B6: SCHEDULE 2A-5: | D6: SETTLERS HOSPITAL THEATRE HVAC
B8: ITEM Nr. | C8: PAYMENT REFERS | D8: DESCRIPTION | E8: UNIT | F8: QTY | G8: MATERIAL RATE | H8: LABOUR RATE | I8: AMOUNT
B9: 2 | C9: GM 2.5.(5) | D9: Supply, Delivery, Installation and Commissioning of the Operating theatre HVAC at Fort Beaufort hospital inclusive of all auxilliaries and ancilliaries
B10: 2.1 | D10: HEAT RECOVERY CONDENSING UNITS
D11: Outdoor Unit- Supply and install complete as specified including all fixures and fittings, auxilliaries and ancilliaries and refrigerant for entire system and hail guards
B12: 2.1.1 | D12: 20.6 kW Heat recovery condensing units | E12: Unit | F12: 3
B13: 2.2 | D13: AIR HANDLING UNIT
B14: 2.2.1 | D14: Air handling unit: Air Quantity 900l/s. Cooling 20.6kW. Port Alfred wet bulb, dry bulb on/off coil temperatures. Complete with Primary, Secondary bag and Hepa Filters. | E14: Unit | F14: 3
B15: 2.3 | D15: DUCTING
B16: 2.3.1 | D16: 400x400 duct ( Insulated) | E16: m | F16: 90
B17: 2.3.2 | D17: 350x350 duct (Uninsulated) | E17: m | F17: 60
B18: 2.3.3 | D18: 600x300 duct(Uninsulated) | E18: m | F18: 60
B19: 2.3.4 | D19: 300x300(Uninsulated) | E19: m | F19: 15
B20: 2.3.5 | D20: 300x400 duct (Insulated) | E20: m | F20: 9
B21: 2.3.6 | D21: 150x400 (Insulated) | E21: m | F21: 9
B22: 2.3.7 | D22: 313 diameter round duct | E22: m | F22: 24
B23: 2.4 | D23: LOUVRES, DIFFUSERS & GRILLES
B24: 2.4.1 | D24: Perforated Ceiling diffusers | E24: No. | F24: 12
B25: 2.4.2 | D25: 400x600 extract grilles | E25: No. | F25: 12
B26: 2.4.3 | D26: 600x600 Weather louvres | E26: No. | F26: 3
B27: 2.4.4 | D27: 150x150 fluff extracting grilles | E27: No. | F27: 12
B28: 2.5 | D28: BENDS
B29: 2.5.1 | D29: 400x400 45 degree bend | E29: No. | F29: 6
B30: 2.5.2 | D30: 400x400 90 degree bend | E30: No. | F30: 9
B31: 2.6 | D31: SOUND ATTENUATORS
B32: 2.6.1 | D32: Sound attenuators 400x400 & 1200 long | E32: No. | F32: 3
B33: 2.7 | D33: TRANSITION PIECES
B34: 2.7.1 | D34: 400x400 to 300x400 transition pieces | E34: No. | F34: 3
B35: 2.7.2 | D35: 300x400 to 150x400 transition pieces | E35: No. | F35: 3
B36: 2.7.3 | D36: 350x350 to 300x300 transition pieces | E36: No. | F36: 3
B37: 2.8 | D37: FIRE DAMPERS
B38: 2.8.1 | D38: 400x400 spring loaded fire dampers | E38: No. | F38: 3
B39: 2.9 | D39: EXHAUST FANS
B40: 2.9.1 | D40: 500 diameter in-line duct fan complete with sound attenuators | E40: No. | F40: 3
B41: 2.10 | D41: The tender price shall include for the equipment specified below as well as all branch controllers, refrigerant piping, refnet joints, auxilliary and ancilliary equipment etc. for the system to operate as specified.
B42: 2.11 | D42: All equipment that generates noise must be so positioned that it does not interfer with the hospital operation, personnel and patients. Equipment shall also be positioned so that it can be easily accessed at all times without unnecessarily disrupting the hospital operation.
B43: 2.12 | D43: Refrigerant pipe runs shall generally follow the routes shown on the drawings. shall also be positioned so that it can be easily accessed at all times without unnecessarily disrupting the hospital operation.
...

Sheet SCHED 2A-6_Andries Vosloo Hosp
B1: ='SCHED 2A-1_PS PROV Hosp'!B1 -> SCHEDULED MAINTENANCE OF THEATRE HVAC SYSTEMS IN CLUSTER FOUR (4)
B2: ='SCHED 1A-1_NMB_SB'!B2 -> CONTRACT REF. NO: | D2: ='SCHED 1A-1_NMB_SB'!D2 -> SCMU3-24/25-0657-HO | E2: Cluster/District: | G2: ='SCHED 1A-1_NMB_SB'!G2 -> NELSON MANDELA AND SARAH BAARTMAN
B3: ='SCHED 1A-1_NMB_SB'!B3 -> ASSET TYPE: | D3: ='SCHED 1A-1_NMB_SB'!D3 -> HVAC THEATRE
B5: SCHEDULE 2A-6: | D5: ANDRIES VOSLOO HOSPITAL THEATRE HVAC
B7: ITEM Nr. | C7: PAYMENT REFERS | D7: DESCRIPTION | E7: UNIT | F7: QTY | G7: MATERIAL RATE | H7: LABOUR RATE | I7: AMOUNT
B8: 2 | C8: GM 2.5.(5) | D8: Supply, Delivery, Installation and Commissioning of the Operating theatre HVAC at Fort Beaufort hospital inclusive of all auxilliaries and ancilliaries
B9: 2.1 | D9: HEAT RECOVERY CONDENSING UNITS
D10: Outdoor Unit- Supply and install complete as specified including all fixures and fittings, auxilliaries and ancilliaries and refrigerant for entire system and hail guards
B11: 2.1.1 | D11: 20.6 kW Heat recovery condensing units | E11: Unit | F11: 2
B12: 2.2 | D12: AIR HANDLING UNIT
B13: 2.2.1 | D13: Air handling unit: Air Quantity 900l/s. Cooling 20.6kW. Somerset East wet bulb, dry bulb on/off coil temperatures. Complete with Primary, Secondary bag and Hepa Filters. | E13: Unit | F13: 2
B14: 2.3 | D14: DUCTING
B15: 2.3.1 | D15: 400x400 duct ( Insulated) | E15: m | F15: 60
B16: 2.3.2 | D16: 350x350 duct (Uninsulated) | E16: m | F16: 40
B17: 2.3.3 | D17: 600x300 duct(Uninsulated) | E17: m | F17: 40
B18: 2.3.4 | D18: 300x300(Uninsulated) | E18: m | F18: 10
B19: 2.3.5 | D19: 300x400 duct (Insulated) | E19: m | F19: 6
B20: 2.3.6 | D20: 150x400 (Insulated) | E20: m | F20: 6
B21: 2.3.7 | D21: 313 diameter round duct | E21: m | F21: 16
B22: 2.4 | D22: LOUVRES, DIFFUSERS & GRILLES
B23: 2.4.1 | D23: Perforated Ceiling diffusers | E23: No. | F23: 8
B24: 2.4.2 | D24: 400x600 extract grilles | E24: No. | F24: 8
B25: 2.4.3 | D25: 600x600 Weather louvres | E25: No. | F25: 2
B26: 2.4.4 | D26: 150x150 fluff extracting grilles | E26: No. | F26: 8
B27: 2.5 | D27: BENDS
B28: 2.5.1 | D28: 400x400 45 degree bend | E28: No. | F28: 4
B29: 2.5.2 | D29: 400x400 90 degree bend | E29: No. | F29: 6
B30: 2.6 | D30: SOUND ATTENUATORS
B31: 2.6.1 | D31: Sound attenuators 400x400 & 1200 long | E31: No. | F31: 2
B32: 2.7 | D32: TRANSITION PIECES
B33: 2.7.1 | D33: 400x400 to 300x400 transition pieces | E33: No. | F33: 2
B34: 2.7.2 | D34: 300x400 to 150x400 transition pieces | E34: No. | F34: 2
B35: 2.7.3 | D35: 350x350 to 300x300 transition pieces | E35: No. | F35: 2
B36: 2.8 | D36: FIRE DAMPERS
B37: 2.8.1 | D37: 400x400 spring loaded fire dampers | E37: No. | F37: 2
B38: 2.9 | D38: EXHAUST FANS
B39: 2.9.1 | D39: 500 diameter in-line duct fan complete with sound attenuators | E39: No. | F39: 2
B40: 2.10 | D40: The tender price shall include for the equipment specified below as well as all branch controllers, refrigerant piping, refnet joints, auxilliary and ancilliary equipment etc. for the system to operate as specified.
B41: 2.11 | D41: All equipment that generates noise must be so positioned that it does not interfer with the hospital operation, personnel and patients. Equipment shall also be positioned so that it can be easily accessed at all times without unnecessarily disrupting the hospital operation.
B42: 2.12 | D42: Refrigerant pipe runs shall generally follow the routes shown on the drawings. shall also be positioned so that it can be easily accessed at all times without unnecessarily disrupting the hospital operation.
...

Sheet SCHED 2A-7_Sundays R Hosp (2)
B2: ='SCHED 2A-1_PS PROV Hosp'!B1 -> SCHEDULED MAINTENANCE OF THEATRE HVAC SYSTEMS IN CLUSTER FOUR (4)
B3: ='SCHED 1A-1_NMB_SB'!B2 -> CONTRACT REF. NO: | D3: ='SCHED 1A-1_NMB_SB'!D2 -> SCMU3-24/25-0657-HO | E3: Cluster/District: | G3: ='SCHED 1A-1_NMB_SB'!G2 -> NELSON MANDELA AND SARAH BAARTMAN
B4: ='SCHED 1A-1_NMB_SB'!B3 -> ASSET TYPE: | D4: ='SCHED 1A-1_NMB_SB'!D3 -> HVAC THEATRE
B6: SCHEDULE 2A-7: | D6: SUNDAYS RIVER VALLEY HOSPITAL THEATRE HVAC
B8: ITEM Nr. | C8: PAYMENT REFERS | D8: DESCRIPTION | E8: UNIT | F8: QTY | G8: MATERIAL RATE | H8: LABOUR RATE | I8: AMOUNT
B9: 2 | C9: GM 2.5.(5) | D9: Supply, Delivery, Installation and Commissioning of the Operating theatre HVAC at Fort Beaufort hospital inclusive of all auxilliaries and ancilliaries
B10: 2.1 | D10: HEAT RECOVERY CONDENSING UNITS
D11: Outdoor Unit- Supply and install complete as specified including all fixures and fittings, auxilliaries and ancilliaries and refrigerant for entire system and hail guards
B12: 2.1.1 | D12: 20.6 kW Heat recovery condensing units | E12: Unit | F12: 2
B13: 2.2 | D13: AIR HANDLING UNIT
B14: 2.2.1 | D14: Air handling unit: Air Quantity 900l/s. Cooling 20.6kW. Sundays River Valley East wet bulb, dry bulb on/off coil temperatures. Complete with Primary, Secondary bag and Hepa Filters. | E14: Unit | F14: 2
B15: 2.3 | D15: DUCTING
B16: 2.3.1 | D16: 400x400 duct ( Insulated) | E16: m | F16: 60
B17: 2.3.2 | D17: 350x350 duct (Uninsulated) | E17: m | F17: 40
B18: 2.3.3 | D18: 600x300 duct(Uninsulated) | E18: m | F18: 40
B19: 2.3.4 | D19: 300x300(Uninsulated) | E19: m | F19: 10
B20: 2.3.5 | D20: 300x400 duct (Insulated) | E20: m | F20: 6
B21: 2.3.6 | D21: 150x400 (Insulated) | E21: m | F21: 6
B22: 2.3.7 | D22: 313 diameter round duct | E22: m | F22: 16
B23: 2.4 | D23: LOUVRES, DIFFUSERS & GRILLES
B24: 2.4.1 | D24: Perforated Ceiling diffusers | E24: No. | F24: 8
B25: 2.4.2 | D25: 400x600 extract grilles | E25: No. | F25: 8
B26: 2.4.3 | D26: 600x600 Weather louvres | E26: No. | F26: 2
B27: 2.4.4 | D27: 150x150 fluff extracting grilles | E27: No. | F27: 8
B28: 2.5 | D28: BENDS
B29: 2.5.1 | D29: 400x400 45 degree bend | E29: No. | F29: 4
B30: 2.5.2 | D30: 400x400 90 degree bend | E30: No. | F30: 6
B31: 2.6 | D31: SOUND ATTENUATORS
B32: 2.6.1 | D32: Sound attenuators 400x400 & 1200 long | E32: No. | F32: 2
B33: 2.7 | D33: TRANSITION PIECES
B34: 2.7.1 | D34: 400x400 to 300x400 transition pieces | E34: No. | F34: 2
B35: 2.7.2 | D35: 300x400 to 150x400 transition pieces | E35: No. | F35: 2
B36: 2.7.3 | D36: 350x350 to 300x300 transition pieces | E36: No. | F36: 2
B37: 2.8 | D37: FIRE DAMPERS
B38: 2.8.1 | D38: 400x400 spring loaded fire dampers | E38: No. | F38: 2
B39: 2.9 | D39: EXHAUST FANS
B40: 2.9.1 | D40: 500 diameter in-line duct fan complete with sound attenuators | E40: No. | F40: 2
B41: 2.10 | D41: The tender price shall include for the equipment specified below as well as all branch controllers, refrigerant piping, refnet joints, auxilliary and ancilliary equipment etc. for the system to operate as specified.
B42: 2.11 | D42: All equipment that generates noise must be so positioned that it does not interfer with the hospital operation, personnel and patients. Equipment shall also be positioned so that it can be easily accessed at all times without unnecessarily disrupting the hospital operation.
B43: 2.12 | D43: Refrigerant pipe runs shall generally follow the routes shown on the drawings. shall also be positioned so that it can be easily accessed at all times without unnecessarily disrupting the hospital operation.
...

Sheet SCHED 2A-8_Humansdorp Hosp
B2: ='SCHED 2A-1_PS PROV Hosp'!B1 -> SCHEDULED MAINTENANCE OF THEATRE HVAC SYSTEMS IN CLUSTER FOUR (4)
B3: ='SCHED 1A-1_NMB_SB'!B2 -> CONTRACT REF. NO: | D3: ='SCHED 1A-1_NMB_SB'!D2 -> SCMU3-24/25-0657-HO | E3: Cluster/District: | G3: ='SCHED 1A-1_NMB_SB'!G2 -> NELSON MANDELA AND SARAH BAARTMAN
B4: ='SCHED 1A-1_NMB_SB'!B3 -> ASSET TYPE: | D4: ='SCHED 1A-1_NMB_SB'!D3 -> HVAC THEATRE
B6: SCHEDULE 2A-8: | D6: HUMANSDORP HOSPITAL THEATRE HVAC
B8: ITEM Nr. | C8: PAYMENT REFERS | D8: DESCRIPTION | E8: UNIT | F8: QTY | G8: MATERIAL RATE | H8: LABOUR RATE | I8: AMOUNT
B9: 2 | C9: GM 2.5.(5) | D9: Supply, Delivery, Installation and Commissioning of the Operating theatre HVAC at Fort Beaufort hospital inclusive of all auxilliaries and ancilliaries
B10: 2.1 | D10: HEAT RECOVERY CONDENSING UNITS
D11: Outdoor Unit- Supply and install complete as specified including all fixures and fittings, auxilliaries and ancilliaries and refrigerant for entire system and hail guards
B12: 2.1.1 | D12: 20.6 kW Heat recovery condensing units | E12: Unit | F12: 4
B13: 2.2 | D13: AIR HANDLING UNIT | F13: 4
B14: 2.2.1 | D14: Air handling unit: Air Quantity 900l/s. Cooling 20.6kW. Sundays River Valley East wet bulb, dry bulb on/off coil temperatures. Complete with Primary, Secondary bag and Hepa Filters. | E14: Unit | F14: 4
B15: 2.3 | D15: DUCTING
B16: 2.3.1 | D16: 400x400 duct ( Insulated) | E16: m | F16: 120
B17: 2.3.2 | D17: 350x350 duct (Uninsulated) | E17: m | F17: 80
B18: 2.3.3 | D18: 600x300 duct(Uninsulated) | E18: m | F18: 80
B19: 2.3.4 | D19: 300x300(Uninsulated) | E19: m | F19: 20
B20: 2.3.5 | D20: 300x400 duct (Insulated) | E20: m | F20: 12
B21: 2.3.6 | D21: 150x400 (Insulated) | E21: m | F21: 23
B22: 2.3.7 | D22: 313 diameter round duct | E22: m | F22: 32
B23: 2.4 | D23: LOUVRES, DIFFUSERS & GRILLES
B24: 2.4.1 | D24: Perforated Ceiling diffusers | E24: No. | F24: 16
B25: 2.4.2 | D25: 400x600 extract grilles | E25: No. | F25: 16
B26: 2.4.3 | D26: 600x600 Weather louvres | E26: No. | F26: 4
B27: 2.4.4 | D27: 150x150 fluff extracting grilles | E27: No. | F27: 16
B28: 2.5 | D28: BENDS
B29: 2.5.1 | D29: 400x400 45 degree bend | E29: No. | F29: 8
B30: 2.5.2 | D30: 400x400 90 degree bend | E30: No. | F30: 12
B31: 2.6 | D31: SOUND ATTENUATORS
B32: 2.6.1 | D32: Sound attenuators 400x400 & 1200 long | E32: No. | F32: 4
B33: 2.7 | D33: TRANSITION PIECES
B34: 2.7.1 | D34: 400x400 to 300x400 transition pieces | E34: No. | F34: 4
B35: 2.7.2 | D35: 300x400 to 150x400 transition pieces | E35: No. | F35: 4
B36: 2.7.3 | D36: 350x350 to 300x300 transition pieces | E36: No. | F36: 4
B37: 2.8 | D37: FIRE DAMPERS
B38: 2.8.1 | D38: 400x400 spring loaded fire dampers | E38: No. | F38: 4
B39: 2.9 | D39: EXHAUST FANS
B40: 2.9.1 | D40: 500 diameter in-line duct fan complete with sound attenuators | E40: No. | F40: 4
B41: 2.10 | D41: The tender price shall include for the equipment specified below as well as all branch controllers, refrigerant piping, refnet joints, auxilliary and ancilliary equipment etc. for the system to operate as specified.
B42: 2.11 | D42: All equipment that generates noise must be so positioned that it does not interfer with the hospital operation, personnel and patients. Equipment shall also be positioned so that it can be easily accessed at all times without unnecessarily disrupting the hospital operation.
B43: 2.12 | D43: Refrigerant pipe runs shall generally follow the routes shown on the drawings. shall also be positioned so that it can be easily accessed at all times without unnecessarily disrupting the hospital operation.
...

Sheet SCHEDULE 3
B2: ='SCHED 2A-8_Humansdorp Hosp'!B2 -> SCHEDULED MAINTENANCE OF THEATRE HVAC SYSTEMS IN CLUSTER FOUR (4)
B3: CONTRACT REF. NO: | D3: =SUMMARY!D4 -> SCMU3-24/25-0657-HO | E3: Cluster/District: | F3: ='SCHED 2A-8_Humansdorp Hosp'!G3 -> NELSON MANDELA AND SARAH BAARTMAN
B4: ASSET TYPE: | D4: ='[1]SCHED 1A-1_BCM_ADM'!D3 -> THEATRE HVAC
B6: SCHEDULE 3B : | D6: MAINTENANCE SERVICE SCHEDULE
B8: ITEM Nr. | C8: PAYMENT REFERS | D8: DESCRIPTION | E8: UNIT | F8: QTY | G8: RATE | H8: AMOUNT
B9: 1 | C9: GM 3.2 | D9: MAINTENANCE WORKS : Standard servicing and planned Maintenance Costs including all parts, consumables and lubricants, labour, travelling, accommodation and subsistence allowances (Price per machine)
B10: 1.1 | D10: Dora Ngiza Hospital: Theatre 1
B11: 1.1.1 | D11: Minor Service Cost : Price per Monthly Service / Inspection per machine, as per tasks from the Monthly Service Inspection Guideline in C6. | E11: No | F11: Omitted | G11: Omitted
B12: 1.1.2 | D12: Minor Service Cost : Price per Three Monthly Service / Inspection per machine, as per tasks from the Three Monthly Service Inspection Guideline in C6. | E12: No | F12: 6
B13: 1.1.3 | D13: Major Service Cost : Price per Six Monthly Service / Inspection per machine, as per tasks from the Six Monthly Service Inspection Guideline in C6. | E13: No | F13: 6
B14: 1.2 | D14: Dora Ngiza Hospital: Theatre 2
B15: 1.2.1 | D15: Minor Service Cost : Price per Monthly Service / Inspection per machine, as per tasks from the Monthly Service Inspection Guideline in C6. | E15: No | F15: Omitted | G15: Omitted
B16: 1.2.2 | D16: Minor Service Cost : Price per Three Monthly Service / Inspection per machine, as per tasks from the Three Monthly Service Inspection Guideline in C6. | E16: No | F16: 6
B17: 1.2.3 | D17: Major Service Cost : Price per Six Monthly Service / Inspection per machine, as per tasks from the Six Monthly Service Inspection Guideline in C6. | E17: No | F17: 6
B18: 1.3 | D18: Dora Ngiza Hospital: Theatre 3
B19: 1.3.1 | D19: Minor Service Cost : Price per Monthly Service / Inspection per machine, as per tasks from the Monthly Service Inspection Guideline in C6. | E19: No | F19: Omitted | G19: Omitted
B20: 1.3.2 | D20: Minor Service Cost : Price per Three Monthly Service / Inspection per machine, as per tasks from the Three Monthly Service Inspection Guideline in C6. | E20: No | F20: 6
B21: 1.3.3 | D21: Major Service Cost : Price per Six Monthly Service / Inspection per machine, as per tasks from the Six Monthly Service Inspection Guideline in C6. | E21: No | F21: 6
B22: 1.4 | D22: Dora Ngiza Hospital: Theatre 4
B23: 1.4.1 | D23: Minor Service Cost : Price per Monthly Service / Inspection per machine, as per tasks from the Monthly Service Inspection Guideline in C6. | E23: No | F23: Omitted | G23: Omitted
B24: 1.4.2 | D24: Minor Service Cost : Price per Three Monthly Service / Inspection per machine, as per tasks from the Three Monthly Service Inspection Guideline in C6. | E24: No | F24: 6
B25: 1.4.3 | D25: Major Service Cost : Price per Six Monthly Service / Inspection per machine, as per tasks from the Six Monthly Service Inspection Guideline in C6. | E25: No | F25: =2*3*1 -> 6
B26: 1.5 | D26: Dora Ngiza Hospital: Theatre 5
B27: 1.5.1 | D27: Minor Service Cost : Price per Monthly Service / Inspection per machine, as per tasks from the Monthly Service Inspection Guideline in C6. | E27: No | F27: Omitted | G27: omitted
B28: 1.5.2 | D28: Minor Service Cost : Price per Three Monthly Service / Inspection per machine, as per tasks from the Three Monthly Service Inspection Guideline in C6. | E28: No | F28: 6
B29: 1.5.3 | D29: Major Service Cost : Price per Six Monthly Service / Inspection per machine, as per tasks from the Six Monthly Service Inspection Guideline in C6. | E29: No | F29: =2*3*1 -> 6
B30: 1.6 | D30: Dora Ngiza Hospital: Theatre 6
B31: 1.6.1 | D31: Minor Service Cost : Price per Monthly Service / Inspection per machine, as per tasks from the Monthly Service Inspection Guideline in C6. | E31: No | F31: Omitted | G31: Omitted
B32: 1.6.2 | D32: Minor Service Cost : Price per Three Monthly Service / Inspection per machine, as per tasks from the Three Monthly Service Inspection Guideline in C6. | E32: No | F32: 6
B33: 1.6.3 | D33: Major Service Cost : Price per Six Monthly Service / Inspection per machine, as per tasks from the Six Monthly Service Inspection Guideline in C6. | E33: No | F33: =2*3*1 -> 6
B34: TOTAL CARRIED TO NEXT PAGE
B35: TOTAL FROM PREVIOUS PAGE
B36: ITEM Nr. | C36: PAYMENT REFERS | D36: DESCRIPTION | E36: UNIT | F36: QTY | G36: RATE | H36: AMOUNT
B37: 1.7 | D37: Dora Ngiza Hospital: Theatre 7
B38: 1.7.1 | D38: Minor Service Cost : Price per Monthly Service / Inspection per machine, as per tasks from the Monthly Service Inspection Guideline in C6. | E38: No | F38: Omitted | G38: Omitted
B39: 1.7.2 | D39: Minor Service Cost : Price per Three Monthly Service / Inspection per machine, as per tasks from the Three Monthly Service Inspection Guideline in C6. | E39: No | F39: 6
B40: 1.7.3 | D40: Major Service Cost : Price per Six Monthly Service / Inspection per machine, as per tasks from the Six Monthly Service Inspection Guideline in C6. | E40: No | F40: =2*3*1 -> 6
B41: 1.8 | D41: Dora Ngiza Hospital: Theatre 8
B42: 1.8.1 | D42: Minor Service Cost : Price per Monthly Service / Inspection per machine, as per tasks from the Monthly Service Inspection Guideline in C6. | E42: No | F42: Omitted | G42: Omitted
B43: 1.8.2 | D43: Minor Service Cost : Price per Three Monthly Service / Inspection per machine, as per tasks from the Three Monthly Service Inspection Guideline in C6. | E43: No | F43: 6
...

Sheet SCHEDULE 4
B2: ='SCHEDULE 3'!B2 -> SCHEDULED MAINTENANCE OF THEATRE HVAC SYSTEMS IN CLUSTER FOUR (4)
B3: CONTRACT REF. NO: | D3: ='SCHED 1A-1_NMB_SB'!D2 -> SCMU3-24/25-0657-HO | E3: Cluster/District: | G3: =SUMMARY!F4 -> NELSON MANDELA AND SARAH BAARTMAN
B4: ASSET TYPE: | D4: ='SCHED 1A-1_NMB_SB'!D3 -> HVAC THEATRE
B6: SCHEDULE 4 : | D6: TERM REPAIRS SUBJECT TO APPROVAL OF QUOTATION OF THE WORKS
B8: ITEM Nr. | C8: PAYMENT REFERS | D8: DESCRIPTION | E8: UNIT | F8: QTY | G8: RATE | H8: AMOUNT
B9: 1 | C9: GM 2.8 | D9: LABOUR RATES APPLICABLE TO UNSCHEDULED WORK: Labour rates that Contractor will charge for additional adhoc work that is not contained in Schedules 1 to 3.
B10: 1.1 | D10: Technician | E10: Hr | F10: =(4*36*11)/2 -> 792
B11: 1.2 | D11: Senior Artisan (Trade Tested & Additional Certification) | E11: Hr | F11: =(4*36*11)/2 -> 792
B12: 1.3 | D12: Artisan (Trade Tested) | E12: Hr | F12: 1824
B13: 1.4 | D13: Utility Man (Non-Trade Tested) | E13: Hr | F13: 1824
B14: 1.5 | D14: Artisan Aid | E14: Hr | F14: 1824
B15: 1.6 | D15: General Worker | E15: Hr | F15: 792
B16: 2 | C16: GM 2.8.3 | D16: TRAVELLING : Travelling cost will be as per the rates for reimbursable expenses published monthly by the National Department of Public Works at the time of rendering the service/repair.
B17: 2.1 | D17: Vehicle Travelling Estimate | E17: Km | F17: =(195*4*12)*19 -> 177840
B18: 3 | C18: GM 2.8.3 | D18: ACCOMMODATION AND SUBSISTENCE : Daily Rates per person that the Contractor will claim for approved trips lasting more than one day at a time.
B19: 3.1 | D19: Accommodation | E19: Per/night | F19: 60
B20: 3.2 | D20: Subsistence | E20: Per/day | F20: 60
B21: 4 | C21: GM 2.5 (10), GM 2.8.1 & GM 2.10.3 | D21: PROVISION TO COVER REPAIRS DURING THE TERM OF THE CONTRACT : Lump Sum Provision to cover repairs and breakdowns during the course of the Contract in addition to the agreed routine servicing of the Assets. | E21: PSum | F21: 1 | G21: 4000000 | H21: =G21 -> 4000000
B22: 5 | C22: GM 2.8.1 & Clause 11.2(8) | D22: DIRECT FEE PERCENTAGE (MARK-UP) ON MATERIALS AND SERVICES THAT IS NOT INCLUDED IN PRICE LISTS : Mark-up on proven cost for materials and/or Outsourced Services based on the Provisional sum listed in Item 4. above. (Apply % to provisional sum in Item 4 above when pricing the tender) | E22: %
B27: TOTAL CARRIED FORWARD TO SUMMARY

Sheet WORK ORDERS  01 LAETITIA BAM CH
A9: QUOTE TO : | F9: Qoute No | H9: 1
A10: Department of Health | F10: Date | H10: 43770
A11: 717 Dukumbana Building | F11: Facility | H11: LAETITIA BAM CHC
A12: Independent Avenue | F12: Work Order | H12: 39138
A13: Bhisho | F13: Tender No | H13: SCMU3 - 17/18-0303 - HO
F14: Contract Term | H14: 24 MONTHS
A15: WORK REQUEST : Generator is faulty.
A16: SCHEDULED WORK
A17: Item 1 | B17: Discription | E17: Unit | F17: Sch No | G17: Quantity | H17: Rate | I17: Amount
I18: =SUM(G18*H18) -> 0
I19: =SUM(G19*H19) -> 0
I20: =SUM(G20*H20) -> 0
A21: Sub Total A | I21: =SUM(I18:I20) -> 0
A22: NON SCHEDULED WORK
A23: Item 2 | B23: Discription | F23: Quantity | G23: Mark -Up | H23: Rate | I23: Amount
A24: 1 | B24: RELAY 11 PIN 12V DC | F24: 2 | G24: 0.15 | H24: 110 | I24: =H24*F24*1.15 -> 253
A25: 2 | B25: RELAY BASE | F25: 2 | G25: 0.15 | H25: 65 | I25: =H25*F25*1.15 -> 149.5
A26: 3 | B26: DEEPSEA CONTROLLER | F26: 1 | G26: 0.15 | H26: 6239 | I26: =H26*F26*1.15 -> 7174.85
A27: 4 | B27: MCB 6A SP | F27: 2 | G27: 0.15 | H27: 21.6 | I27: =H27*F27*1.15 -> 49.68
A28: 5 | B28: RED STOP TWIST RELEASE | F28: 2 | G28: 0.15 | H28: 65.5 | I28: =H28*F28*1.15 -> 150.65
A29: 6 | B29: CONTACT BLOCK 1N/0 + 1N/C | F29: 2 | G29: 0.15 | H29: 68.5 | I29: =H29*F29*1.15 -> 157.55
A32: Sub Total B | I32: =SUM(I24:I31) -> 7935.23
A33: LABOUR
A34: Item 3 | B34: (Normal Rate) | E34: Unit | G34: Quantity | H34: Rate | I34: Amount
A35: 1 | B35: Techinician | E35: HRS | G35: 15 | H35: 450 | I35: =SUM(G35*H35) -> 6750
A36: 2 | B36: Senior Artisan | E36: HRS | H36: 350 | I36: =SUM(G36*H36) -> 0
A37: 3 | B37: Artisan (Trade Tested) | E37: HRS | H37: 300 | I37: =SUM(G37*H37) -> 0
A38: 4 | B38: Utility Man (Non - Trade Tested) | E38: HRS | G38: 15 | H38: 200 | I38: =SUM(G38*H38) -> 3000
A39: 5 | B39: Artisan Aid | E39: HRS | H39: 200 | I39: =SUM(G39*H39) -> 0
A40: 6 | B40: General Worker | E40: HRS | H40: 140 | I40: =SUM(G40*H40) -> 0
A44: Sub Total C | I44: =SUM(I35:I43) -> 9750
A45: TRANSPORT
A46: Item 4 | B46: Destinantion | E46: No of Trips | G46: KMs | H46: Rate | I46: Amount
A47: 12 | B47: Port Elizabeth office to Laetitia Bam
B48: CHC and back. | E48: 2 | G48: 154.4 | H48: 5 | I48: =H48*G48 -> 772
A50: Sub Total D | I50: =SUM(I47:I49) -> 772
G52: Sub Total (A+B+C+D) | I52: =I50+I44+I32+I21 -> 18457.23
G54: Sub Total | I54: =I52+I53 -> 18457.23

Sheet JOSE PEARSON TB HOSPITAL (02)
A9: QUOTE TO : | F9: Qoute No | H9: 2
A10: Department of Health | F10: Date | H10: 43498
A11: 717 Dukumbana Building | F11: Facility | H11: JOSE PEARSON TB HOSPITAL
A12: Independent Avenue | F12: Work Order | H12: 40578
A13: Bhisho | F13: Tender No | H13: SCMU3 - 17/18-0303 - HO
F14: Contract Term | H14: 24 MONTHS
A15: WORK REQUEST : Phamarcy building dep needs to be connected to the gen
A16: SCHEDULED WORK
A17: Item 1 | B17: Discription | E17: Unit | F17: Sch No | G17: Quantity | H17: Rate | I17: Amount
I18: =SUM(G18*H18) -> 0
I19: =SUM(G19*H19) -> 0
I20: =SUM(G20*H20) -> 0
A21: Sub Total A | I21: =SUM(I18:I20) -> 0
A22: NON SCHEDULED WORK
A23: Item 2 | B23: Discription | F23: Quantity | G23: MarK UP | H23: Rate | I23: Amount
A32: Sub Total B | I32: =SUM(I24:I31) -> 0
A33: LABOUR
A34: Item 3 | B34: (Normal Rate) | E34: Unit | G34: Quantity | H34: Rate | I34: Amount
A35: 1 | B35: Techinician | E35: HRS | G35: 6 | H35: 450 | I35: =SUM(G35*H35) -> 2700
A36: 2 | B36: Senior Artisan | E36: HRS | H36: 350 | I36: =SUM(G36*H36) -> 0
A37: 3 | B37: Artisan (Trade Tested) | E37: HRS | H37: 300 | I37: =SUM(G37*H37) -> 0
A38: 4 | B38: Utility Man (Non - Trade Tested) | E38: HRS | G38: 6 | H38: 200 | I38: =SUM(G38*H38) -> 1200
A39: 5 | B39: Artisan Aid | E39: HRS | H39: 200 | I39: =SUM(G39*H39) -> 0
A40: 6 | B40: General Worker | E40: HRS | H40: 140 | I40: =SUM(G40*H40) -> 0
A44: Sub Total C | I44: =SUM(I35:I43) -> 3900
A45: TRANSPORT
A46: Item 4 | B46: Destinantion | E46: No of Trips | G46: KMs | H46: Rate | I46: Amount
A47: 12 | B47: Port Elizabeth office to Jose Pearson
B48: TB Hospital and back. | E48: 1 | G48: 47 | H48: 5 | I48: =H48*G48 -> 235
A50: Sub Total D | I50: =SUM(I47:I49) -> 235
G52: Sub Total (A+B+C+D) | I52: =I50+I44+I32+I21 -> 4135
G54: Sub Total | I54: =I52 -> 4135

Sheet NEW BRIGHTON MORTUARY (03)
A9: QUOTE TO : | F9: Qoute No | H9: 3
A10: Department of Health | F10: Date | H10: 43801
A11: 717 Dukumbana Building | F11: Facility | H11: NEW BRIGHTON MORTUARY
A12: Independent Avenue | F12: Work Order | H12: 41253
A13: Bhisho | F13: Tender No | H13: SCMU3 - 17/18-0303 - HO
F14: Contract Term | H14: 24 MONTHS
A15: WORK REQUEST : Gen does not start.
A16: SCHEDULED WORK
A17: Item 1 | B17: Discription | E17: Unit | F17: Sch No | G17: Quantity | H17: Rate | I17: Amount
I18: =SUM(G18*H18) -> 0
I19: =SUM(G19*H19) -> 0
I20: =SUM(G20*H20) -> 0
A21: Sub Total A | I21: =SUM(I18:I20) -> 0
A22: NON SCHEDULED WORK
A23: Item 2 | B23: Discription | F23: Quantity | G23: MarK UP | H23: Rate | I23: Amount
A32: Sub Total B | I32: =SUM(I24:I31) -> 0
A33: LABOUR
A34: Item 3 | B34: (Normal Rate) | E34: Unit | G34: Quantity | H34: Rate | I34: Amount
A35: 1 | B35: Techinician | E35: HRS | G35: 1.5 | H35: 450 | I35: =SUM(G35*H35) -> 675
A36: 2 | B36: Senior Artisan | E36: HRS | H36: 350 | I36: =SUM(G36*H36) -> 0
A37: 3 | B37: Artisan (Trade Tested) | E37: HRS | H37: 300 | I37: =SUM(G37*H37) -> 0
A38: 4 | B38: Utility Man (Non - Trade Tested) | E38: HRS | G38: 1.5 | H38: 200 | I38: =SUM(G38*H38) -> 300
A39: 5 | B39: Artisan Aid | E39: HRS | H39: 200 | I39: =SUM(G39*H39) -> 0
A40: 6 | B40: General Worker | E40: HRS | H40: 140 | I40: =SUM(G40*H40) -> 0
A44: Sub Total C | I44: =SUM(I35:I43) -> 975
A45: TRANSPORT
A46: Item 4 | B46: Destinantion | E46: No of Trips | G46: KMs | H46: Rate | I46: Amount
A47: 12 | B47: Port Elizabeth office to New Brighton
B48: Mortuary and back. | E48: 1 | G48: 21.4 | H48: 5 | I48: =H48*G48 -> 107
A50: Sub Total D | I50: =SUM(I47:I49) -> 107
G52: Sub Total (A+B+C+D) | I52: =I50+I44+I32+I21 -> 1082
G54: Sub Total | I54: =I52+I53 -> 1082

Sheet DORA NGIZA HOSPITAL (04)
A9: QUOTE TO : | F9: Qoute No | H9: 4
A10: Department of Health | F10: Date | H10: 43771
A11: 717 Dukumbana Building | F11: Facility | H11: DORA NGINZA HOSPITAL
A12: Independent Avenue | F12: Work Order | H12: 41177
A13: Bhisho | F13: Tender No | H13: SCMU3 - 17/18-0303 - HO
F14: Contract Term | H14: 24 MONTHS
A15: WORK REQUEST : Request to repair faulty cable connecting to thechange over switch.
A16: SCHEDULED WORK
A17: Item 1 | B17: Discription | E17: Unit | F17: Sch No | G17: Quantity | H17: Rate | I17: Amount
I18: =SUM(G18*H18) -> 0
I19: =SUM(G19*H19) -> 0
I20: =SUM(G20*H20) -> 0
A21: Sub Total A | I21: =SUM(I18:I20) -> 0
A22: NON SCHEDULED WORK
A23: Item 2 | B23: Discription | F23: Quantity | G23: Mark - Up | H23: Rate | I23: Amount
A24: 1 | B24: ELECTRO PHASE FAILER RELAY 400V | F24: 1 | G24: 0.15 | H24: 396 | I24: =H24*F24*1.15 -> 455.4
A25: 2 | B25: 10 X 38mm FUSE 100KVA | F25: 1 | G25: 0.15 | H25: 12 | I25: =H25*F25*1.15 -> 13.8
A32: Sub Total B | I32: =SUM(I24:I31) -> 469.2
A33: LABOUR
A34: Item 3 | B34: (Normal Rate) | E34: Unit | G34: Quantity | H34: Rate | I34: Amount
A35: 1 | B35: Techinician | E35: HRS | G35: 2 | H35: 450 | I35: =SUM(G35*H35) -> 900
A36: 2 | B36: Senior Artisan | E36: HRS | H36: 350 | I36: =SUM(G36*H36) -> 0
A37: 3 | B37: Artisan (Trade Tested) | E37: HRS | H37: 300 | I37: =SUM(G37*H37) -> 0
A38: 4 | B38: Utility Man (Non - Trade Tested) | E38: HRS | G38: 2 | H38: 200 | I38: =SUM(G38*H38) -> 400
A39: 5 | B39: Artisan Aid | E39: HRS | H39: 200 | I39: =SUM(G39*H39) -> 0
A40: 6 | B40: General Worker | E40: HRS | H40: 140 | I40: =SUM(G40*H40) -> 0
A44: Sub Total C | I44: =SUM(I35:I43) -> 1300
A45: TRANSPORT
A46: Item 4 | B46: Destinantion | E46: No of Trips | G46: KMs | H46: Rate | I46: Amount
A47: 1 | B47: Port Elizabeth office to Dora Nginza
B48: Hospital and back. | E48: 1 | G48: 28.6 | H48: 5 | I48: =H48*G48 -> 143
A50: Sub Total D | I50: =SUM(I47:I49) -> 143
G52: Sub Total (A+B+C+D) | I52: =I50+I44+I32+I21 -> 1912.2
G54: Sub Total | I54: =I52+I53 -> 1912.2

Sheet LAETITIA BAM CHC (05)
A9: QUOTE TO : | F9: Qoute No | H9: 5
A10: Department of Health | F10: Date | H10: 43740
A11: 717 Dukumbana Building | F11: Facility | H11: LAETITIA BAM CHC
A12: Independent Avenue | F12: Work Order | H12: 41140
A13: Bhisho | F13: Tender No | H13: SCMU3 - 17/18-0303 - HO
F14: Contract Term | H14: 24 MONTHS
A15: WORK REQUEST : Gen did not start.
A16: SCHEDULED WORK
A17: Item 1 | B17: Discription | E17: Unit | F17: Sch No | G17: Quantity | H17: Rate | I17: Amount
I18: =SUM(G18*H18) -> 0
I19: =SUM(G19*H19) -> 0
I20: =SUM(G20*H20) -> 0
A21: Sub Total A | I21: =SUM(I18:I20) -> 0
A22: NON SCHEDULED WORK
A23: Item 2 | B23: Discription | F23: Quantity | H23: Rate | I23: Amount
A32: Sub Total B | I32: =SUM(I24:I31) -> 0
A33: LABOUR
A34: Item 3 | B34: (Normal Rate) | E34: Unit | G34: Quantity | H34: Rate | I34: Amount
A35: 1 | B35: Techinician | E35: HRS | G35: 1 | H35: 450 | I35: =SUM(G35*H35) -> 450
A36: 2 | B36: Senior Artisan | E36: HRS | H36: 350 | I36: =SUM(G36*H36) -> 0
A37: 3 | B37: Artisan (Trade Tested) | E37: HRS | H37: 300 | I37: =SUM(G37*H37) -> 0
A38: 4 | B38: Utility Man (Non - Trade Tested) | E38: HRS | G38: 1 | H38: 200 | I38: =SUM(G38*H38) -> 200
A39: 5 | B39: Artisan Aid | E39: HRS | H39: 200 | I39: =SUM(G39*H39) -> 0
A40: 6 | B40: General Worker | E40: HRS | H40: 140 | I40: =SUM(G40*H40) -> 0
A44: Sub Total C | I44: =SUM(I35:I43) -> 650
A45: TRANSPORT
A46: Item 4 | B46: Destinantion | E46: No of Trips | G46: KMs | H46: Rate | I46: Amount
A47: 1 | B47: Port Elizabeth office to Laetitia Bam
B48: CHC and back. | E48: 1 | G48: 77.2 | H48: 5 | I48: =H48*G48 -> 386
A50: Sub Total D | I50: =SUM(I47:I49) -> 386
G52: Sub Total (A+B+C+D) | I52: =I50+I44+I32+I21 -> 1036
G54: Sub Total | I54: =I52+I53 -> 1036

Sheet MOTHERWELL CHC (06)
A9: QUOTE TO : | F9: Qoute No | H9: 6
A10: Department of Health | F10: Date | H10: 13/2/2019
A11: 717 Dukumbana Building | F11: Facility | H11: MOTHERWELL CHC
A12: Independent Avenue | F12: Work Order | H12: 41408
A13: Bhisho | F13: Tender No | H13: SCMU3 - 17/18-0303 - HO
F14: Contract Term | H14: 24 MONTHS
A15: WORK REQUEST : Request to repair gen ,not staring.
A16: SCHEDULED WORK
A17: Item 1 | B17: Discription | E17: Unit | F17: Sch No | G17: Quantity | H17: Rate | I17: Amount
I18: =SUM(G18*H18) -> 0
I19: =SUM(G19*H19) -> 0
I20: =SUM(G20*H20) -> 0
A21: Sub Total A | I21: =SUM(I18:I20) -> 0
A22: NON SCHEDULED WORK
A23: Item 2 | B23: Discription | F23: Quantity | H23: Rate | I23: Amount
A32: Sub Total B | I32: =SUM(I24:I31) -> 0
A33: LABOUR
A34: Item 3 | B34: (Normal Rate) | E34: Unit | G34: Quantity | H34: Rate | I34: Amount
A35: 1 | B35: Techinician | E35: HRS | G35: 1 | H35: 450 | I35: =SUM(G35*H35) -> 450
A36: 2 | B36: Senior Artisan | E36: HRS | H36: 350 | I36: =SUM(G36*H36) -> 0
A37: 3 | B37: Artisan (Trade Tested) | E37: HRS | H37: 300 | I37: =SUM(G37*H37) -> 0
A38: 4 | B38: Utility Man (Non - Trade Tested) | E38: HRS | G38: 1 | H38: 200 | I38: =SUM(G38*H38) -> 200
A39: 5 | B39: Artisan Aid | E39: HRS | H39: 200 | I39: =SUM(G39*H39) -> 0
A40: 6 | B40: General Worker | E40: HRS | H40: 140 | I40: =SUM(G40*H40) -> 0
A44: Sub Total C | I44: =SUM(I35:I43) -> 650
A45: TRANSPORT
A46: Item 4 | B46: Destinantion | E46: No of Trips | G46: KMs | H46: Rate | I46: Amount
A47: 12 | B47: Port Elizabeth office to Motherwell
B48: CHC and back. | E48: 1 | G48: 48.8 | H48: 5 | I48: =H48*G48 -> 244
A50: Sub Total D | I50: =SUM(I47:I49) -> 244
G52: Sub Total (A+B+C+D) | I52: =I50+I44+I32+I21 -> 894
G54: Sub Total | I54: =I52+I53 -> 894

Sheet MOTHERWEL CHC (07)
A9: QUOTE TO : | F9: Qoute No | H9: 7
A10: Department of Health | F10: Date | H10: 18/2/2019
A11: 717 Dukumbana Building | F11: Facility | H11: MOTHERWELL CHC
A12: Independent Avenue | F12: Work Order | H12: 43238
A13: Bhisho | F13: Tender No | H13: SCMU3 - 17/18-0303 - HO
F14: Contract Term | H14: 24 MONTHS
A15: WORK REQUEST : Repair to faulty gen keeps on tripping.
A16: SCHEDULED WORK
A17: Item 1 | B17: Discription | E17: Unit | F17: Sch No | G17: Quantity | H17: Rate | I17: Amount
I18: =SUM(G18*H18) -> 0
I19: =SUM(G19*H19) -> 0
I20: =SUM(G20*H20) -> 0
A21: Sub Total A | I21: =SUM(I18:I20) -> 0
A22: NON SCHEDULED WORK
A23: Item 2 | B23: Discription | F23: Quantity | H23: Rate | I23: Amount
A32: Sub Total B | I32: =SUM(I24:I31) -> 0
A33: LABOUR
A34: Item 3 | B34: (Normal Rate) | E34: Unit | G34: Quantity | H34: Rate | I34: Amount
A35: 1 | B35: Techinician | E35: HRS | G35: 1.5 | H35: 450 | I35: =SUM(G35*H35) -> 675
A36: 2 | B36: Senior Artisan | E36: HRS | H36: 350 | I36: =SUM(G36*H36) -> 0
A37: 3 | B37: Artisan (Trade Tested) | E37: HRS | H37: 300 | I37: =SUM(G37*H37) -> 0
A38: 4 | B38: Utility Man (Non - Trade Tested) | E38: HRS | G38: 1.5 | H38: 200 | I38: =SUM(G38*H38) -> 300
A39: 5 | B39: Artisan Aid | E39: HRS | H39: 200 | I39: =SUM(G39*H39) -> 0
A40: 6 | B40: General Worker | E40: HRS | H40: 140 | I40: =SUM(G40*H40) -> 0
A44: Sub Total C | I44: =SUM(I35:I43) -> 975
A45: TRANSPORT
A46: Item 4 | B46: Destinantion | E46: No of Trips | G46: KMs | H46: Rate | I46: Amount
A47: 1 | B47: Port Elizabeth office to Motherwell
B48: CHC and back. | E48: 1 | G48: 48.8 | H48: 5 | I48: =H48*G48 -> 244
A50: Sub Total D | I50: =SUM(I47:I49) -> 244
G52: Sub Total (A+B+C+D) | I52: =I50+I44+I32+I21 -> 1219
G54: Sub Total | I54: =I52+I53 -> 1219

Sheet ORSMOND TB HOSPITAL (08)
A9: QUOTE TO : | F9: Qoute No | H9: 8
A10: Department of Health | F10: Date | H10: 16/2/2019
A11: 717 Dukumbana Building | F11: Facility | H11: ORSMOND TB HOSPITAL
A12: Independent Avenue | F12: Work Order | H12: 43191
A13: Bhisho | F13: Tender No | H13: SCMU3 - 17/18-0303 - HO
F14: Contract Term | H14: 24 MONTHS
A15: WORK REQUEST : Gen faulty.
A16: SCHEDULED WORK
A17: Item 1 | B17: Discription | E17: Unit | F17: Sch No | G17: Quantity | H17: Rate | I17: Amount
I18: =SUM(G18*H18) -> 0
I19: =SUM(G19*H19) -> 0
I20: =SUM(G20*H20) -> 0
A21: Sub Total A | I21: =SUM(I18:I20) -> 0
A22: NON SCHEDULED WORK
A23: Item 2 | B23: Discription | F23: Quantity | G23: Mark - Up | H23: Rate | I23: Amount
A32: Sub Total B | I32: =SUM(I24:I31) -> 0
A33: LABOUR
A34: Item 3 | B34: (Normal Rate) | E34: Unit | G34: Quantity | H34: Rate | I34: Amount
A35: 1 | B35: Techinician | E35: HRS | G35: 2.5 | H35: 450 | I35: =SUM(G35*H35) -> 1125
A36: 2 | B36: Senior Artisan | E36: HRS | H36: 350 | I36: =SUM(G36*H36) -> 0
A37: 3 | B37: Artisan (Trade Tested) | E37: HRS | H37: 300 | I37: =SUM(G37*H37) -> 0
A38: 4 | B38: Utility Man (Non - Trade Tested) | E38: HRS | G38: 2.5 | H38: 200 | I38: =SUM(G38*H38) -> 500
A39: 5 | B39: Artisan Aid | E39: HRS | H39: 200 | I39: =SUM(G39*H39) -> 0
A40: 6 | B40: General Worker | E40: HRS | H40: 140 | I40: =SUM(G40*H40) -> 0
A44: Sub Total C | I44: =SUM(I35:I43) -> 1625
A45: TRANSPORT
A46: Item 4 | B46: Destinantion | E46: No of Trips | G46: KMs | H46: Rate | I46: Amount
A47: 1 | B47: Port Elizabeth office to Orsmmon TB hospital
B48: and back. | E48: 1 | G48: 81.4 | H48: 5 | I48: =H48*G48 -> 407
A50: Sub Total D | I50: =SUM(I47:I49) -> 407
G52: Sub Total (A+B+C+D) | I52: =I50+I44+I32+I21 -> 2032
