Workbook

Sheet Plumbing & Drainage
B1: Item | C1: Description | D1: Uom | E1: Quantity | F1: Rate | G1: Labour | H1: Amount Excl. Vat ( R )
C3: BILL No 1 :
B5: 1 | C5: PRELIMINARY & GENERAL - SANS 1200A
C7: All rates tendered are to be fully inclusive of consumables (ie. cleaning liquids like thinners and turpentine, masking tape, sanding paper and clothes and materials touch up paint, piping, clamps etc.). These rates to include labour and the installation there-off complete.
C9: Contractual requirement (As described in section C3)
C11: General items
B13: 1.1 | C13: Budgetary Allowance: For unscheduled or non-schedule items which are not specified in the Bills of Quantities (Determined by the Mogale City Local Municipality). | D13: Psum | E13: 1 | F13: 1000000 | G13: N/A | H13: =F13 -> 1000000
B15: =B13+0.1 -> 1.2 | C15: Health & safety requirements which includes all personal protective equipment (PPE) and clothing as required by OHS Act No.85 of 1993 (Determined by the Mogale City Local Municipality). | D15: Psum | E15: 1 | F15: 200000 | G15: N/A | H15: =F15 -> 200000
B17: =B15+0.1 -> 1.3 | C17: Site Establishment: includes but not limited to Office and storage; Ablution and toilet facilities on site and elsewhere; Water supplies, electric power and communication; Tools and equipment; Dealing with water; Plant for clearing site and excavations in all materials; Plant for transportation of plant; Other Fixed Charge Obligations; Removal of Site Establishment; ETC...(Determined by the Mogale City Local Municipality). | D17: Psum | E17: 1 | F17: 500000 | G17: N/A | H17: =F17 -> 500000
B19: =B17+0.1 -> 1.4 | C19: Administrative Tools, Equipment, Resources, etc. for MCLM employees ONLY. | D19: Psum | E19: 1 | F19: 200000 | G19: N/A | H19: =F19 -> 200000
B21: =B19+0.1 -> 1.5 | C21: Kilometer rate for LDV | D21: km | E21: 1 | F21: 6 | G21: N/A | H21: 6
B23: =B21+0.1 -> 1.6 | C23: Training: Accredited and approved training courses to be determined by Mogale City Local Municipality | D23: Psum | E23: 1 | F23: 300000 | G23: N/A | H23: =F23 -> 300000
C25: Work done between Monday and Friday from 7:30am to 4pm shall be paid as per qouted rate for that particular item.
C27: Overtime after normal working hours during weekdays and Saturdays
B29: =B23+0.1 -> 1.7 | C29: Artisan Plumber | D29: Hour | E29: 1 | F29: R | G29: N/A | H29: Rate Only
B31: =B29+0.1 -> 1.8 | C31: Assistant Artisan Plumber | D31: Hour | E31: 1 | F31: R | G31: N/A | H31: Rate Only
C33: Overtime during Sundays and public holidays
B35: 1.9 | C35: Artisan Plumber | D35: Hour | E35: 1 | F35: R | G35: N/A | H35: Rate Only
B37: 1.1 | C37: Assistant Artisan Plumber | D37: Hour | E37: 1 | F37: R | G37: N/A | H37: Rate Only
C39: Call out rates will apply as follows:-
C41: Call out fee will be forfeited when the quote/order is approved.Call out rates will not apply to requests for quotations as part of planned works. Normal call out rates will apply for emergencies and unplanned/scheduled work. After hour call out and labour rates will only apply after 16:00
B43: 1.11 | C43: Call out fee | D43: No | E43: 1 | F43: R | G43: N/A | H43: R
B46: =B43+0.01 -> 1.12 | C46: Specialised Machinery, Plant and Equipment etc | D46: Psum | E46: 1 | F46: 120000 | G46: N/A | H46: =F46 -> 120000
B49: =B46+0.01 -> 1.13 | C49: CoC Certificate: | D49: Item | E49: 1 | F49: R | G49: N/A | H49: R
B67: TOTAL CARRIED TO FINAL SUMMARY - YEAR 01 (SECTION 1 P&G's ONLY) | H67: R
B68: Item | C68: Description | D68: Uom | E68: Quantity | F68: Rate | G68: Labour | H68: Amount Excl. Vat ( R )
C70: BILL No 2 :
B72: 2 | C72: PLUMBING AND DRAINAGE (PROVISIONAL)
C74: All rates tendered are to be fully inclusive of consumables (ie. cleaning liquids like thinners and turpentine, masking tape, sanding paper and clothes and materials touch up paint, piping, clamps etc.). These rates to include labour and the installation there-off complete.
C76: SUPPLEMENTARY PREAMBLES
C78: Vitrified clay pipes etc
C80: Pipes shall rest on solid ground and, where necessary, pockets of sufficient size shall be cut around joints to enable the jointing to be properly performed or, alternatively, pipes shall be bedded full length on and including unreinforced concrete laid in a semi-dry state immediately before pipes are laid
C82: uPVC pipes and fittings
C85: Sewer and drainage pipes and fittings shall be jointed and sealed with butyl rubber rings
C87: Soil, waste and vent pipes and fittings shall be solvent weld jointed uPVC pressure pipes and fittings
C89: Pipes for water supply shall be of the class stated
C91: Pipes of 40mm diameter and smaller shall be plain ended with solvent welded uPVC loose sockets and fittings
C93: Pipes of 50mm diameter and greater shall have sockets and spigots with push-in type integral rubber ring joints. Bends shall be uPVC and all other fittings shall be cast iron, all with similar push-in type joints
C95: Copper pipes
C97: Pipes shall be hard drawn and half-hard pipes of the class stated. Class 0 (thin walled hard drawn) pipes shall not be bent. Class 1 (thin walled half-hard), class 2 (half-hard) and class 3 (heavy walled half- hard) pipes shall only be bent with benders with inner and outer formers. Fittings to copper waste, vent and anti-syphon pipes, capillary solder fittings and compression fittings shall be "Cobra Watertech" type. Capillary solder fittings shall comply with ISO
...

Sheet FINAL SUMMARY PLUMBING
A2: MOGALE CITY LOCAL MUNICIPALITY
A4: REPAIRS AND MAINTENANCE OF ALL PLUMBING WORKS AT MOGALE CITY LOCAL MUNICIPALITY OWNED BUILDINGS AND FACILITIES FOR A PERIOD OF THREE (3) YEARS ON AN AS AND WHEN REQUIRED
A7: FINAL SUMMARY
F9: YEAR 01 | G9: YEAR 02 | I9: YEAR 03
G10: Annual % Increment | H10: Rands | I10: Annual % Increment | J10: Rands
B11: Bill No. | E11: Page
B13: 1 | C13: ='Plumbing & Drainage'!C5 -> PRELIMINARY & GENERAL - SANS 1200A | E13: 125 | F13: R | H13: R | J13: R
B15: 2 | C15: ='Plumbing & Drainage'!C72 -> PLUMBING AND DRAINAGE (PROVISIONAL) | E15: 127 | F15: N/A | G15: N/A | H15: N/A | J15: N/A
B17: 3 | C17: ='Plumbing & Drainage'!C158 -> RAINWATER DISPOSAL | E17: 130 | F17: R | H17: R | J17: R
B19: 4 | C19: ='Plumbing & Drainage'!C364 -> SANITARY FITTINGS AND DRAINAGE | E19: 137 | F19: R | H19: R | J19: R
B21: 5 | C21: ='Plumbing & Drainage'!C606 -> WATER SUPPLIES, ETC | E21: 144 | F21: R | H21: R | J21: R
B23: 6 | C23: ='Plumbing & Drainage'!C758 -> MAINTENANCE OF EXISTING WATER SUPPLY AND FITTINGS | E23: 149 | F23: R | H23: R | J23: R
B25: 7 | C25: ='Plumbing & Drainage'!C880 -> TILING - SANS 10400 | E25: 153 | F25: R | H25: R | J25: R
B27: 8 | C27: ='Plumbing & Drainage'!C950 -> DEMOLITIONS, REMOVALS AND ALTERATIONS | E27: 155 | F27: R | H27: R | J27: R
C29: SUB-TOTAL | F29: R | H29: R | J29: R
C31: ADD: 10% TO SUB-TOTAL FOR CONTIGENCIES | F31: R | H31: R | J31: R
C33: VAT: 15% | F33: R | H33: R | J33: R
C35: TOTAL | F35: R | H35: R | J35: R
A36: TENDER AMOUNT CARRIED TO FORM OF OFFER ( YEAR 1,2 &3 ALL INCLUSIVE OF VAT AND RATE) | F36: R
