Workbook

Sheet Plumbing & Drainage
B1: Item | C1: Description | D1: Uom | E1: Quantity | F1: Rate | G1: Labour | H1: Amount Excl. Vat ( R )
C3: BILL No 1 :
B5: 1 | C5: PRELIMINARY & GENERAL - SANS 1200A
C7: All rates tendered are to be fully inclusive of consumables (ie. cleaning liquids like thinners and turpentine, masking tape, sanding paper and clothes and materials touch up paint, piping, clamps etc.). These rates to include labour and the installation there-off complete.
C9: Contractual requirement (As described in section C3)
C11: General items
B13: 1.1 | C13: Budgetary Allowance: For unscheduled or non-schedule items which are not specified in the Bills of Quantities (Determined by the Mogale City Local Municipality). | D13: Psum | E13: 1 | F13: 1000000 | G13: N/A | H13: =F13 -> 1000000
B15: =B13+0.1 -> 1.2 | C15: Health & safety requirements which includes all personal protective equipment (PPE) and clothing as required by OHS Act No.85 of 1993 (Determined by the Mogale City Local Municipality). | D15: Psum | E15: 1 | F15: 200000 | G15: N/A | H15: =F15 -> 200000
B17: =B15+0.1 -> 1.3 | C17: Site Establishment: includes but not limited to Office and storage; Ablution and toilet facilities on site and elsewhere; Water supplies, electric power and communication; Tools and equipment; Dealing with water; Plant for clearing site and excavations in all materials; Plant for transportation of plant; Other Fixed Charge Obligations; Removal of Site Establishment; ETC...(Determined by the Mogale City Local Municipality). | D17: Psum | E17: 1 | F17: 500000 | G17: N/A | H17: =F17 -> 500000
B19: =B17+0.1 -> 1.4 | C19: Administrative Tools, Equipment, Resources, etc. for MCLM employees ONLY. | D19: Psum | E19: 1 | F19: 200000 | G19: N/A | H19: =F19 -> 200000
B21: =B19+0.1 -> 1.5 | C21: Kilometer rate for LDV | D21: km | E21: 1 | F21: 6 | G21: N/A | H21: 6
B23: =B21+0.1 -> 1.6 | C23: Training: Accredited and approved training courses to be determined by Mogale City Local Municipality | D23: Psum | E23: 1 | F23: 300000 | G23: N/A | H23: =F23 -> 300000
C25: Work done between Monday and Friday from 7:30am to 4pm shall be paid as per qouted rate for that particular item.
C27: Overtime after normal working hours during weekdays and Saturdays
B29: =B23+0.1 -> 1.7 | C29: Artisan Plumber | D29: Hour | E29: 1 | F29: R | G29: N/A | H29: Rate Only
B31: =B29+0.1 -> 1.8 | C31: Assistant Artisan Plumber | D31: Hour | E31: 1 | F31: R | G31: N/A | H31: Rate Only
C33: Overtime during Sundays and public holidays
B35: 1.9 | C35: Artisan Plumber | D35: Hour | E35: 1 | F35: R | G35: N/A | H35: Rate Only
B37: 1.1 | C37: Assistant Artisan Plumber | D37: Hour | E37: 1 | F37: R | G37: N/A | H37: Rate Only
C39: Call out rates will apply as follows:-
C41: Call out fee will be forfeited when the quote/order is approved.Call out rates will not apply to requests for quotations as part of planned works. Normal call out rates will apply for emergencies and unplanned/scheduled work. After hour call out and labour rates will only apply after 16:00
B43: 1.11 | C43: Call out fee | D43: No | E43: 1 | F43: R | G43: N/A | H43: R
B46: =B43+0.01 -> 1.12 | C46: Specialised Machinery, Plant and Equipment etc | D46: Psum | E46: 1 | F46: 120000 | G46: N/A | H46: =F46 -> 120000
B49: =B46+0.01 -> 1.13 | C49: CoC Certificate: | D49: Item | E49: 1 | F49: R | G49: N/A | H49: R
B67: TOTAL CARRIED TO FINAL SUMMARY - YEAR 01 (SECTION 1 P&G's ONLY) | H67: R
B68: Item | C68: Description | D68: Uom | E68: Quantity | F68: Rate | G68: Labour | H68: Amount Excl. Vat ( R )
C70: BILL No 2 :
B72: 2 | C72: PLUMBING AND DRAINAGE (PROVISIONAL)
C74: All rates tendered are to be fully inclusive of consumables (ie. cleaning liquids like thinners and turpentine, masking tape, sanding paper and clothes and materials touch up paint, piping, clamps etc.). These rates to include labour and the installation there-off complete.
C76: SUPPLEMENTARY PREAMBLES
C78: Vitrified clay pipes etc
C80: Pipes shall rest on solid ground and, where necessary, pockets of sufficient size shall be cut around joints to enable the jointing to be properly performed or, alternatively, pipes shall be bedded full length on and including unreinforced concrete laid in a semi-dry state immediately before pipes are laid
C82: uPVC pipes and fittings
C85: Sewer and drainage pipes and fittings shall be jointed and sealed with butyl rubber rings
C87: Soil, waste and vent pipes and fittings shall be solvent weld jointed uPVC pressure pipes and fittings
C89: Pipes for water supply shall be of the class stated
C91: Pipes of 40mm diameter and smaller shall be plain ended with solvent welded uPVC loose sockets and fittings
C93: Pipes of 50mm diameter and greater shall have sockets and spigots with push-in type integral rubber ring joints. Bends shall be uPVC and all other fittings shall be cast iron, all with similar push-in type joints
C95: Copper pipes
C97: Pipes shall be hard drawn and half-hard pipes of the class stated. Class 0 (thin walled hard drawn) pipes shall not be bent. Class 1 (thin walled half-hard), class 2 (half-hard) and class 3 (heavy walled half- hard) pipes shall only be bent with benders with inner and outer formers. Fittings to copper waste, vent and anti-syphon pipes, capillary solder fittings and compression fittings shall be "Cobra Watertech" type. Capillary solder fittings shall comply with ISO
... C151: Descriptions of waste unions shall be deemed to include rubber or vulcanite plugs and chains fixed to fittings
B153: CARRIED FORWARD | H153: N/A
B154: Item | C154: Description | D154: Uom | E154: Quantity | F154: Rate | G154: Labour | H154: Amount Excl. Vat ( R )
C156: BILL No 3 :
B158: 3 | C158: RAINWATER DISPOSAL
C160: All rates tendered are to be fully inclusive of consumables (ie. cleaning liquids like thinners and turpentine, masking tape, sanding paper and clothes and materials touch up paint, piping, clamps etc.). These rates to include labour and the installation there-off complete.
C162: 0.6mm Galvanised sheet iron with "Chromadek" or similar approved finish one side
B164: 3,1 | C164: 100 x 125mm Eaves gutters with beaded front edge | D164: m | E164: 1 | F164: R | G164: R | H164: R
B166: 3.2 | C166: Extra over eaves gutter for corner | D166: No | E166: 1 | F166: R | G166: R | H166: R
B168: =B166+0.1 -> 3.3 | C168: Extra over eaves gutter for angle | D168: No | E168: 1 | F168: R | G168: R | H168: R
B170: =B168+0.1 -> 3.4 | C170: No Extra over eaves gutter for outlet for 100 x 75mm diameter pipe | D170: No | E170: 1 | F170: R | G170: R | H170: R
B172: =B170+0.1 -> 3.5 | C172: 100 x 75mm Rainwater down pipes | D172: m | E172: 1 | F172: R | G172: R | H172: R
B174: =B172+0.1 -> 3.6 | C174: Extra over rainwater pipe for 500mm eaves offset | D174: No | E174: 1 | F174: R | G174: R | H174: R
B176: =B174+0.1 -> 3.7 | C176: Extra over rainwater pipe for shoe | D176: No | E176: 1 | F176: R | G176: R | H176: R
C178: Fullbore cast iron outlets
B180: 3,8 | C180: 110mm 90 Degree side outlet | D180: No | E180: 1 | F180: R | G180: R | H180: R
C182: uPVC pipes
B184: 3,9 | C184: 110mm Diameter rainwater pipes fixed to concrete columns | D184: m | E184: 1 | F184: R | G184: R | H184: R
B186: 3,10 | C186: 50mm Diameter x 300mm long spout pipe | D186: No | E186: 1 | F186: R | G186: R | H186: R
C188: Extra over for uPVC for fittings
B190: =B186+0.01 -> 3.11 | C190: 110mm Bend | D190: No | E190: 1 | F190: R | G190: R | H190: R
C192: STORMWATER DRAINAGE
C194: Work in connection with existing
B196: =B190+0.01 -> 3.12 | C196: Search, locate and break into existing manhole or stormwater drain for connection of new 450mm pipe, including breaking up existing benching, cast new benching to suit new configuration, making good to manhole | D196: No | E196: 1 | F196: R | G196: R | H196: R
C198: Class 50D concrete pipes
B200: =B196+0.01 -> 3.13 | C200: 450mm Pipes laid in and including trenches not exceeding 1000mm deep | D200: No | E200: 1 | F200: R | G200: R | H200: R
C202: Filling, etc.
B204: =B200+0.01 -> 3.14 | C204: Selected fill material compacted to 90% modified AASHTO density in uniform layers and sides of pipe | D204: m³ | E204: 1 | F204: R | G204: R | H204: R
B206: =B204+0.01 -> 3.15 | C206: G7 material supplied by the contractor compacted in uniform layers to 90% modified AASHTO density | D206: m³ | E206: 1 | F206: R | G206: R | H206: R
C208: Extra over all excavations for carting away
B210: =B206+0.01 -> 3.16 | C210: Surplus material from excavations and/or stock piles on site to a dumping site to be located by the contractor | D210: m³ | E210: 1 | F210: R | G210: R | H210: R
C212: Excavate for and build stormwater catchpit size 600 x 600mm deep internally with one brick sides in engineering bricks on and including class 20/19 concrete floor slab 150mm thick with wire ref.193 reinforcing, benching up bottom in class 20/19 concrete with concrete finished smooth with steel float with 600 x 600mm wide cast iron stormwater grating and frame bedded elsewhere measured) into concrete surround complete, including all framework, reinforcing, backfill, compacting etc.
B214: =B210+0.01 -> 3.17 | C214: Stormwater catchpit not exceeding 1000mm deep. | D214: No | E214: 1 | F214: R | G214: R | H214: R
C216: Gratings, covers, etc.
B218: =B214+0.01 -> 3.18 | C218: 600 x 600mm Medium duty cast iron stormwater grating and frame | D218: No | E218: 1 | F218: R | G218: R | H218: R
B220: =B218+0.01 -> 3.19 | C220: 275 x 275 mm x 9 kg single seal manhole cover and frame | D220: No | E220: 1 | F220: R | G220: R | H220: R
B222: =B220+0.01 -> 3.2 | C222: 275 x 275 mm x 9 kg single seal manhole cover only | D222: No | E222: 1 | F222: R | G222: R | H222: R
B224: =B222+0.01 -> 3.21 | C224: 450 x 600 mm x 45 kg single seal manhole cover and frame | D224: No | E224: 1 | F224: R | G224: R | H224: R
B226: 3.22 | C226: 450 x 600 mm x 45 kg single seal manhole cover only | D226: No | E226: 1 | F226: R | G226: R | H226: R
B228: =B226+0.01 -> 3.23 | C228: 600 x 600 mm x 63 kg single seal manhole cover and frame | D228: No | E228: 1 | F228: R | G228: R | H228: R
B230: =B228+0.01 -> 3.24 | C230: 600 x 600 mm x 63 kg single seal manhole cover only | D230: No | E230: 1 | F230: R | G230: R | H230: R
B232: =B230+0.01 -> 3.25 | C232: 450 x 600 mm x 72 kg double seal manhole cover and frame | D232: No | E232: 1 | F232: R | G232: R | H232: R
B234: =B232+0.01 -> 3.26 | C234: 450 x 600 mm x 72 kg double seal manhole cover only | D234: No | E234: 1 | F234: R | G234: R | H234: R
B236: =B234+0.01 -> 3.27 | C236: 600 x 600 mm x 124 kg double seal manhole cover and frame | D236: No | E236: 1 | F236: R | G236: R | H236: R
B238: =B236+0.01 -> 3.28 | C238: 600 x 600 mm x 124 kg double seal manhole cover only | D238: No | E238: 1 | F238: R | G238: R | H238: R
B240: =B238+0.01 -> 3.29 | C240: 550 mm Diameter x 176 kg roadway type manhole cover and frame | D240: No | E240: 1 | F240: R | G240: R | H240: R
B242: =B240+0.01 -> 3.3 | C242: 550 mm Diameter x 176 kg roadway type manhole cover only | D242: No | E242: 1 | F242: R | G242: R | H242: R
C244: Supply concrete manholes covers and frames (SANS 1882 of 2003)
B246: =B242+0.01 -> 3.31 | C246: 610 mm Circular concrete manhole cover. | D246: No | E246: 1 | F246: R | G246: R | H246: R
B248: =B246+0.01 -> 3.32 | C248: 700 mm frame for above cover. | D248: No | E248: 1 | F248: R | G248: R | H248: R
B250: =B248+0.01 -> 3.33 | C250: 450x600 (8ton) Rectangular concrete manhole cover. | D250: No | E250: 1 | F250: R | G250: R | H250: R
B252: =B250+0.01 -> 3.34 | C252: 575x720 Rectangular concrete frame for above cover | D252: No | E252: 1 | F252: R | G252: R | H252: R
B254: =B252+0.01 -> 3.35 | C254: 670x530 Rectangular concrete manhole cover | D254: No | E254: 1 | F254: R | G254: R | H254: R
B256: =B254+0.01 -> 3.36 | C256: 760x620 Rectangular concrete frames for above cover. | D256: No | E256: 1 | F256: R | G256: R | H256: R
C258: Storm water
B260: =B256+0.01 -> 3.37 | C260: Supply precast stromwater kerb inlets as supplied by 'BLITZ CONCRETE INTERNATIONAL or similar SABS approved | D260: No | E260: 1 | F260: R | G260: R | H260: R
C262: Stormwater headwall
B264: =B260+0.01 -> 3.38 | C264: Bellmouth shaped headwall to suit 450mm diameter pipe, overall size 3000 x 1200mm, formed of 150mm thick conc rete base and 150 x 600mm deep front edge beam with Ref. 193 mesh reinforcement, splitter block at outlet 1380 x 150 x 150mm high, one brick headwall 1380 x 900mm high built around pipe and two wing walls, each 1380mm long x average 550mm high, walls finished with facings both sides and brick on edge header course on top including necessary formwork, excavation and filling, etc | D264: No | E264: 1 | F264: R | G264: R | H264: R
C266: Precast concrete channels
B268: =B264+0.01 -> 3.39 | C268: 460 x 170mm Channels with 310 x 110mm deep segmental channel | D268: m | E268: 1 | F268: R | G268: R | H268: R
...

Sheet FINAL SUMMARY PLUMBING
A2: MOGALE CITY LOCAL MUNICIPALITY
A4: REPAIRS AND MAINTENANCE OF ALL PLUMBING WORKS AT MOGALE CITY LOCAL MUNICIPALITY OWNED BUILDINGS AND FACILITIES FOR A PERIOD OF THREE (3) YEARS ON AN AS AND WHEN REQUIRED
A7: FINAL SUMMARY
F9: YEAR 01 | G9: YEAR 02 | I9: YEAR 03
G10: Annual % Increment | H10: Rands | I10: Annual % Increment | J10: Rands
B11: Bill No. | E11: Page
B13: 1 | C13: ='Plumbing & Drainage'!C5 -> PRELIMINARY & GENERAL - SANS 1200A | E13: 125 | F13: R | H13: R | J13: R
B15: 2 | C15: ='Plumbing & Drainage'!C72 -> PLUMBING AND DRAINAGE (PROVISIONAL) | E15: 127 | F15: N/A | G15: N/A | H15: N/A | J15: N/A
B17: 3 | C17: ='Plumbing & Drainage'!C158 -> RAINWATER DISPOSAL | E17: 130 | F17: R | H17: R | J17: R
B19: 4 | C19: ='Plumbing & Drainage'!C364 -> SANITARY FITTINGS AND DRAINAGE | E19: 137 | F19: R | H19: R | J19: R
B21: 5 | C21: ='Plumbing & Drainage'!C606 -> WATER SUPPLIES, ETC | E21: 144 | F21: R | H21: R | J21: R
B23: 6 | C23: ='Plumbing & Drainage'!C758 -> MAINTENANCE OF EXISTING WATER SUPPLY AND FITTINGS | E23: 149 | F23: R | H23: R | J23: R
B25: 7 | C25: ='Plumbing & Drainage'!C880 -> TILING - SANS 10400 | E25: 153 | F25: R | H25: R | J25: R
B27: 8 | C27: ='Plumbing & Drainage'!C950 -> DEMOLITIONS, REMOVALS AND ALTERATIONS | E27: 155 | F27: R | H27: R | J27: R
C29: SUB-TOTAL | F29: R | H29: R | J29: R
C31: ADD: 10% TO SUB-TOTAL FOR CONTIGENCIES | F31: R | H31: R | J31: R
C33: VAT: 15% | F33: R | H33: R | J33: R
C35: TOTAL | F35: R | H35: R | J35: R
A36: TENDER AMOUNT CARRIED TO FORM OF OFFER ( YEAR 1,2 &3 ALL INCLUSIVE OF VAT AND RATE) | F36: R
