Workbook

Sheet Section 001
A1: ITEM | B1: DESCRIPTION | C1: UNIT | D1: QTY | E1: RATE | F1: AMOUNT
A3: SERIES 0 | B3: GENERAL
A5: Section 001 | B5: GENERAL REQUIREMENTS AND CHARGES
A7: 001.01 | B7: Preliminary and General Charges:
A9: 001.01.01 | B9: Fixed charges | C9: Lump sum | D9: 1 | F9: =IF(TRIM(D9)="rate only","ro",IF(ISBLANK(E9)," ",D9*E9))
A11: 001.01.02 | B11: Time-related charges | C11: Lump Sum | D11: 1 | F11: =IF(TRIM(D11)="rate only","ro",IF(ISBLANK(E11)," ",D11*E11))
A13: 001.03 | B13: Excavate by hand to expose existing
B14: services and backfill | C14: m³ | D14: 500 | F14: =IF(TRIM(D14)="rate only","ro",IF(ISBLANK(E14)," ",D14*E14))
A16: B001.03.02 | B16: Relocating of existing services
B17: Services include payments for services | C17: Prov- sum | D17: 1 | E17: 300000 | F17: 300000
B18: relocated by others, all carried out under the
B19: direction and supervision of the Engineer
A21: 001.04 | B21: Compliance with the Occupational
B22: Health and Safety Act and applicable
B23: regulations
A25: 001.04.01 | B25: Provision of a Health and Safety Plan | C25: Lump sum | D25: 1 | F25: =IF(TRIM(D25)="rate only","ro",IF(ISBLANK(E25)," ",D25*E25))
A27: 001.04.02 | B27: Provision of a Health and Safety File | C27: Lump sum | D27: 1 | F27: =IF(TRIM(D27)="rate only","ro",IF(ISBLANK(E27)," ",D27*E27))
A29: 001.04.04 | B29: Provision of a safety officer
A31: 001.04.04.02 | B31: Full time - Safety Officer | C31: Lump sum | D31: 1 | F31: =IF(TRIM(D31)="rate only","ro",IF(ISBLANK(E31)," ",D31*E31))
A33: 001.04.04.02 | B33: Full Time - Safety Representative/s | C33: Lump Sum | D33: 1 | F33: =IF(TRIM(D33)="rate only","ro",IF(ISBLANK(E33)," ",D33*E33))
A35: 001.04.05 | B35: Health and safety training | C35: Lump sum | D35: 1 | F35: =IF(TRIM(D35)="rate only","ro",IF(ISBLANK(E35)," ",D35*E35))
A37: 001.04.06 | B37: Provision of personal protective
B38: clothing and equipment | C38: Lump sum | D38: 1 | F38: =IF(TRIM(D38)="rate only","ro",IF(ISBLANK(E38)," ",D38*E38))
A40: 001.04.07 | B40: Provision of safety fences, signs and
B41: barricades | C41: Lump sum | D41: 1 | F41: =IF(TRIM(D41)="rate only","ro",IF(ISBLANK(E41)," ",D41*E41))
A43: 001.05 | B43: Community liaison officer
A45: 001.05.01 | B45: Monthly Wage | C45: Month | D45: 16 | E45: 16928 | F45: =IF(TRIM(D45)="rate only","ro",IF(ISBLANK(E45)," ",D45*E45)) -> 270848
A48: TOTAL CARRIED FORWARD
A50: Signature of person authorised to sign the tender: | E50: Date
A52: ITEM | B52: DESCRIPTION | C52: UNIT | D52: QTY | E52: RATE | F52: AMOUNT
A53: TOTAL BROUGHT FORWARD | F53: =F48 -> 0
A55: 001.05.02 | B55: Percentage on item 001.05.01 for
B56: charges and profit | C56: % | D56: =F45 -> 270848 | F56: =IF(TRIM(D56)="rate only","ro",IF(ISBLANK(E56)," ",D56*E56))
A58: B001.06 | B58: Contract Notice Board | C58: no | D58: 4 | F58: =IF(TRIM(D58)="rate only","ro",IF(ISBLANK(E58)," ",D58*E58))
B59: (See Drawing STD-001)
A61: B001.07 | B61: Compliance with the Environmental
B62: Act and applicable regulations
B64: i) Monitoring of complaince with and reporting on the EMP | C64: month | D64: 16 | F64: =E64*D64 -> 0
B66: ii) Dedicated environmental officer | C66: month | D66: 16 | F66: =E66*D66 -> 0
A68: B001.08 | B68: Acredited Training
...

Sheet Section 002
A1: ITEM | B1: DESCRIPTION | C1: UNIT | D1: QTY | E1: RATE | F1: AMOUNT
A3: SERIES 0 | B3: GENERAL
A5: Section 002 | B5: Engineer's Accommodation
A7: 002.01 | B7: Services
A9: 002.01.01 | B9: Services for offices | C9: Lump sum | D9: 1 | F9: =IF(TRIM(D9)="rate only","ro",IF(ISBLANK(E9)," ",D9*E9))
A11: 002.01.02 | B11: Services for ablution
B12: facilities on Site for the Engineer’s
B13: Site staff | C13: Lump sum | D13: 1 | F13: =IF(TRIM(D13)="rate only","ro",IF(ISBLANK(E13)," ",D13*E13))
A15: 002.02 | B15: Treatment and maintenance of areas
B16: surrounding offices | C16: Lump sum | D16: 1 | F16: =IF(TRIM(D16)="rate only","ro",IF(ISBLANK(E16)," ",D16*E16))
F17: =E17 -> 0
A18: 002.03 | B18: Office accommodation | F18: =E18 -> 0
F19: =E19 -> 0
A20: 002.03.01 | B20: Provision of office accommodation, | F20: =E20 -> 0
B21: including fittings, furniture and | F21: =E21 -> 0
B22: equipment and car ports, | F22: =E22 -> 0
B23: as specified | C23: Lump sum | D23: 1 | F23: =IF(TRIM(D23)="rate only","ro",IF(ISBLANK(E23)," ",D23*E23))
F24: =E24 -> 0
A25: 002.04 | B25: Provision of survey equipment and | C25: Lump sum | D25: 1 | F25: =IF(TRIM(D25)="rate only","ro",IF(ISBLANK(E25)," ",D25*E25))
B26: assistants | F26: =E26 -> 0
F27: =E27 -> 0
A29: TOTAL CARRIED TO SUMMARY | F29: =SUM(F2:F28) -> 0
A31: Signature of person authorised to sign the tender: | E31: Date

Sheet Section 101
A1: ITEM | B1: DESCRIPTION | C1: UNIT | D1: QTY | E1: RATE | F1: AMOUNT
A3: SERIES 1 | B3: ANCILLARY WORK
A5: Section 101 | B5: Site Clearing and Grubbing
A7: 101.01 | B7: Clearing and grubbing
A9: 101.01.01 | B9: Areas | C9: m² | D9: 19500 | F9: =IF(TRIM(D9)="rate only","ro",IF(ISBLANK(E9)," ",D9*E9))
A11: 101.04 | B11: Re-clearing of areas (only on the
B12: written instructions of the Engineer)
A14: 101.04.02 | B14: Areas not classified as strips | C14: m² | D14: 1000 | F14: =IF(TRIM(D14)="rate only","ro",IF(ISBLANK(E14)," ",D14*E14))
A16: 101.05 | B16: Removal and Disposal of specific
B17: elements
A19: 101.05.01 | B19: Concrete Kerbing/Kerbing combination | C19: m | D19: 2000 | F19: =IF(TRIM(D19)="rate only","ro",IF(ISBLANK(E19)," ",D19*E19))
A21: 101.05.02 | B21: Concrete or brick elements (reinforced) | C21: m3 | D21: =470+500 -> 970 | F21: =IF(TRIM(D21)="rate only","ro",IF(ISBLANK(E21)," ",D21*E21))
A23: 101.05.02 | B23: Concrete or brick elements (unreinforced) | C23: m3 | D23: 50 | F23: =IF(TRIM(D23)="rate only","ro",IF(ISBLANK(E23)," ",D23*E23))
A25: 105.05.02.02 | B25: Etc for other elements and types of
B26: material :
A28: B101.05.02.02.01 | B28: Existing road signages (incl posts, signs, all accessories and concrete foundations) as directed by Engineer on Site | C28: No | D28: =5+5+7+3 -> 20 | F28: =IF(TRIM(D28)="rate only","ro",IF(ISBLANK(E28)," ",D28*E28))
A30: B101.05.02.02.02 | B30: Existing driveways, roadways and sidewalks (brick, concrete or asphalt incl saw cutting) as directed by Engineer on Site | C30: m3 | D30: =150+(5*5*0.2)+(5*3*0.2)+(250*2*0.2)+22+ (150*0.7*3) -> 595 | F30: =IF(TRIM(D30)="rate only","ro",IF(ISBLANK(E30)," ",D30*E30))
A32: B101.05.02.02.03 | B32: Existing carport / awning structure (incl posts, signs, all accessories and concrete foundations) as directed by Engineer on Site | C32: m2 | D32: 80 | F32: =IF(TRIM(D32)="rate only","ro",IF(ISBLANK(E32)," ",D32*E32))
A34: B101.05.02.02.04 | B34: Removal of exisiting stormwater pipes as directed by Engineer on Site :
B35: a) 450mmØ | C35: m | D35: 370 | F35: =IF(TRIM(D35)="rate only","ro",IF(ISBLANK(E35)," ",D35*E35))
B36: b) 525mmØ | C36: m | D36: =100 -> 100 | F36: =IF(TRIM(D36)="rate only","ro",IF(ISBLANK(E36)," ",D36*E36))
B37: c) 750mmØ | C37: m | D37: 300 | F37: =IF(TRIM(D37)="rate only","ro",IF(ISBLANK(E37)," ",D37*E37))
B38: d) 825mmØ | C38: m | D38: 270 | F38: =IF(TRIM(D38)="rate only","ro",IF(ISBLANK(E38)," ",D38*E38))
A40: B101.05.02.02.05 | B40: Removal of rubble as directed by Engineer on Site | C40: m3 | D40: 30 | F40: =IF(TRIM(D40)="rate only","ro",IF(ISBLANK(E40)," ",D40*E40))
A45: TOTAL CARRIED TO SUMMARY | F45: =SUM(F2:F44) -> 0
A47: Signature of person authorised to sign the tender: | E47: Date

Sheet Section 102
A1: ITEM | B1: DESCRIPTION | C1: UNIT | D1: QTY | E1: RATE | F1: AMOUNT
A3: SERIES 1 | B3: ANCILLARY WORK
A5: Section 102: | B5: Accommodation of Traffic
A7: 102.01 | B7: Accommodation of traffic and
B8: maintenance of bypasses | C8: m² | D8: 10850 | F8: =E8*D8 -> 0
F9: =E9*D9 -> 0
A10: 102.02 | B10: Earthworks for bypasses | F10: =E10*D10 -> 0
F11: =E11*D11 -> 0
A12: 102.02.01 | B12: Shaping of bypasses | C12: m² | D12: 4000 | F12: =E12*D12 -> 0
F13: =E13*D13 -> 0
A14: 102.03 | B14: Gravel wearing courses for | F14: =E14*D14 -> 0
B15: bypasses | C15: m³ | D15: 100 | F15: =E15*D15 -> 0
F16: =E16*D16 -> 0
A17: 102.04 | B17: Watering of bypasses | C17: kℓ | D17: 500 | F17: =E17*D17 -> 0
F18: =E18*D18 -> 0
A19: 102.14 | B19: Temporary traffic-control facilities
A21: 102.14.01 | B21: Flagmen | C21: lump sum | D21: 1 | F21: =E21 -> 0
A23: 102.14.02 | B23: Portable Stop and Go signs | C23: no | D23: 4 | F23: =IF(TRIM(D23)="rate only","ro",IF(ISBLANK(E23)," ",D23*E23))
A25: 102.14.03 | B25: Amber flashing lights | C25: no | D25: 6 | F25: =IF(TRIM(D25)="rate only","ro",IF(ISBLANK(E25)," ",D25*E25))
A27: 102.14.04 | B27: Road signs, TR-series, 1200mm in
B28: diameter or 900mm x 675mm if
B29: rectangular | C29: no | D29: 10 | F29: =IF(TRIM(D29)="rate only","ro",IF(ISBLANK(E29)," ",D29*E29))
A31: 102.14.05 | B31: Road signs, TW-series, 1524mm
B32: sides | C32: no | D32: 5 | F32: =IF(TRIM(D32)="rate only","ro",IF(ISBLANK(E32)," ",D32*E32))
A34: 102.14.06 | B34: Road signs, TG-series | C34: m² | D34: 5 | F34: =IF(TRIM(D34)="rate only","ro",IF(ISBLANK(E34)," ",D34*E34))
A36: 102.14.07 | B36: Danger plates and delineators | C36: no | D36: 100 | F36: =IF(TRIM(D36)="rate only","ro",IF(ISBLANK(E36)," ",D36*E36))
F44: =E44*D44 -> 0
A45: TOTAL CARRIED FORWARD | F45: =SUM(F2:F44) -> 0
A47: Signature of person authorised to sign the tender: | E47: Date
A49: ITEM | B49: DESCRIPTION | C49: UNIT | D49: QTY | E49: RATE | F49: AMOUNT
A50: TOTAL BROUGHT FORWARD | F50: =F45 -> 0
A52: 102.14.08 | B52: Moveable barricade / road sign
B53: combination | C53: no | D53: 4 | F53: =IF(TRIM(D53)="rate only","ro",IF(ISBLANK(E53)," ",D53*E53))
A55: 102.14.09 | B55: Traffic cones | C55: no | D55: 100 | F55: =IF(TRIM(D55)="rate only","ro",IF(ISBLANK(E55)," ",D55*E55))
A57: 102.14.10 | B57: Plastic New Jersey barrier | C57: no | D57: 10 | F57: =IF(TRIM(D57)="rate only","ro",IF(ISBLANK(E57)," ",D57*E57))
A59: 102.15 | B59: Re-use or removal of traffic-control
B60: facilities
A62: 102.15.01 | B62: Amber flicker lights | C62: no | D62: 6 | F62: =IF(TRIM(D62)="rate only","ro",IF(ISBLANK(E62)," ",D62*E62))
A64: 102.15.02 | B64: Road signs, TR and TW series | C64: no | D64: 10 | F64: =IF(TRIM(D64)="rate only","ro",IF(ISBLANK(E64)," ",D64*E64))
A66: 102.15.03 | B66: Road signs, TG-series | C66: no | D66: 5 | F66: =IF(TRIM(D66)="rate only","ro",IF(ISBLANK(E66)," ",D66*E66))
...

Sheet Section 107
A1: ITEM | B1: DESCRIPTION | C1: UNIT | D1: QTY | E1: RATE | F1: AMOUNT
A3: SERIES 1 | B3: ANCILLARY WORK
A5: Series B107 | B5: Dayworks
A7: B107.01 | B7: Labour during normal working hours
A9: B107.01.01 | B9: Unskilled labour | C9: h | D9: 150 | F9: =IF(TRIM(D9)="rate only","ro",IF(ISBLANK(E9)," ",D9*E9))
A11: B107.01.02 | B11: Semi-skilled labour | C11: h | D11: 150 | F11: =IF(TRIM(D11)="rate only","ro",IF(ISBLANK(E11)," ",D11*E11))
A13: B107.01.03 | B13: Skilled labour | C13: h | D13: 150 | F13: =IF(TRIM(D13)="rate only","ro",IF(ISBLANK(E13)," ",D13*E13))
A15: B107.02 | B15: Extra-over item B107.02 for charges
B16: and overheads
A18: B107.02.01 | B18: Unskilled labour | C18: % | D18: =+F9 | F18: =IF(TRIM(D18)="rate only","ro",IF(ISBLANK(E18)," ",D18*E18))
A20: B107.02.02 | B20: Semi-skilled labour | C20: % | D20: =+F11 | F20: =IF(TRIM(D20)="rate only","ro",IF(ISBLANK(E20)," ",D20*E20))
A22: B107.02.03 | B22: Skilled labour | C22: % | D22: =+F13 | F22: =IF(TRIM(D22)="rate only","ro",IF(ISBLANK(E22)," ",D22*E22))
A24: B107.03 | B24: Construction Plant
A26: B107.03.01 | B26: Tipper trucks
A28: B107.03.01.01 | B28: 6m³ capacity | C28: h | D28: 50 | F28: =IF(TRIM(D28)="rate only","ro",IF(ISBLANK(E28)," ",D28*E28))
A30: B107.03.01.02 | B30: 10m³ capacity | C30: h | D30: 50 | F30: =IF(TRIM(D30)="rate only","ro",IF(ISBLANK(E30)," ",D30*E30))
A32: B107.03.02 | B32: Backhoe loaders (Mass 7 - 8 ton) | C32: h | D32: 50 | F32: =IF(TRIM(D32)="rate only","ro",IF(ISBLANK(E32)," ",D32*E32))
A34: B107.03.06 | B34: Grader (Mass 16 - 20 ton) | C34: h | D34: 50 | F34: =D34*E34 -> 0
A36: B107.03.09 | B36: Rollers | F36: =E36*D36 -> 0
F37: =E37*D37 -> 0
A38: B107.03.09.04 | B38: Single drum vibratory smooth roller | F38: =E38*D38 -> 0
B39: (7 - 10 ton) | C39: h | D39: 50 | F39: =E39*D39 -> 0
A41: TOTAL CARRIED SUMMARY
A43: Signature of person authorised to sign the tender: | E43: Date

Sheet Section 201
A1: ITEM | B1: DESCRIPTION | C1: UNIT | D1: QTY | E1: RATE | F1: AMOUNT
A3: SERIES 2 | B3: EARTHWORKS
A5: Section 201 | B5: General
A8: 201.02 | B8: Temporary stockpiling of material | C8: m³ | D8: 250 | F8: =IF(TRIM(D8)="rate only","ro",IF(ISBLANK(E8)," ",D8*E8))
A43: TOTAL CARRIED TO SUMMARY | F43: =SUM(F2:F42) -> 0
A45: Signature of person authorised to sign the tender: | E45: Date

Sheet Section 202
A1: ITEM | B1: DESCRIPTION | C1: UNIT | D1: QTY | E1: RATE | F1: AMOUNT
A3: SERIES 2 | B3: EARTHWORKS
A5: Section 202 | B5: Trenching
A7: 202.01 | B7: Trench excavation
A9: 202.01.02 | B9: Over 1,0m and up to 2,0m wide
A11: 202.01.02.01 | B11: Up to 1,0m deep
B13: (i) 450mm Ø | C13: m³ | D13: 1500 | F13: =IF(TRIM(D13)="rate only","ro",IF(ISBLANK(E13)," ",D13*E13))
B15: (ii) 600mm Ø | C15: m³ | D15: 780 | F15: =IF(TRIM(D15)="rate only","ro",IF(ISBLANK(E15)," ",D15*E15))
B17: (iii) 750mm Ø | C17: m³ | D17: 395 | F17: =IF(TRIM(D17)="rate only","ro",IF(ISBLANK(E17)," ",D17*E17))
B19: (iv) 825mm Ø | C19: m³ | D19: 285 | F19: =IF(TRIM(D19)="rate only","ro",IF(ISBLANK(E19)," ",D19*E19))
A21: 202.01.02.02 | B21: Over 1,0m deep and up to 1,5m deep
B23: (i) 450mm Ø | C23: m³ | D23: 605 | F23: =IF(TRIM(D23)="rate only","ro",IF(ISBLANK(E23)," ",D23*E23))
B25: (ii) 600mm Ø | C25: m³ | D25: 390 | F25: =IF(TRIM(D25)="rate only","ro",IF(ISBLANK(E25)," ",D25*E25))
B27: (iii) 750mm Ø | C27: m³ | D27: 200 | F27: =IF(TRIM(D27)="rate only","ro",IF(ISBLANK(E27)," ",D27*E27))
B29: (iv) 825mm Ø | C29: m³ | D29: 145 | F29: =IF(TRIM(D29)="rate only","ro",IF(ISBLANK(E29)," ",D29*E29))
A31: 202.01.02.03 | B31: Over 1,5m deep and up to 2,0m deep
B33: (i) 450mm Ø | C33: m³ | D33: 40 | F33: =IF(TRIM(D33)="rate only","ro",IF(ISBLANK(E33)," ",D33*E33))
B35: (ii) 600mm Ø | C35: m³ | D35: 105 | F35: =IF(TRIM(D35)="rate only","ro",IF(ISBLANK(E35)," ",D35*E35))
B37: (iii) 750mm Ø | C37: m³ | D37: 150 | F37: =IF(TRIM(D37)="rate only","ro",IF(ISBLANK(E37)," ",D37*E37))
B39: (iv) 825mm Ø | C39: m³ | D39: 145 | F39: =IF(TRIM(D39)="rate only","ro",IF(ISBLANK(E39)," ",D39*E39))
A45: TOTAL CARRIED FORWARD | F45: =SUM(F2:F44) -> 0
A47: Signature of person authorised to sign the tender: | E47: Date
A49: ITEM | B49: DESCRIPTION | C49: UNIT | D49: QTY | E49: RATE | F49: AMOUNT
A50: TOTAL BROUGHT FORWARD | F50: =F45 -> 0
A52: 202.01.02.04 | B52: Over 2,0m deep and up to 2,5m deep
B54: (i) 600mm Ø | C54: m³ | D54: 5 | F54: =IF(TRIM(D54)="rate only","ro",IF(ISBLANK(E54)," ",D54*E54))
B56: (ii) 750mm Ø | C56: m³ | D56: 50 | F56: =IF(TRIM(D56)="rate only","ro",IF(ISBLANK(E56)," ",D56*E56))
B58: (iii) 825mm Ø | C58: m³ | D58: 7.5 | F58: =IF(TRIM(D58)="rate only","ro",IF(ISBLANK(E58)," ",D58*E58))
A60: 202.01.02.05 | B60: Over 2,5m deep and up to 4.5m deep
B62: (iii) 750mm Ø | C62: m³ | D62: 1 | F62: =IF(TRIM(D62)="rate only","ro",IF(ISBLANK(E62)," ",D62*E62))
A64: 202.01.03 | B64: Over 2,0m and up to 3,0m wide
A66: 202.01.02.01 | B66: Up to 1,0m deep
B68: (i) 900mm Ø | C68: m³ | D68: 1000 | F68: =IF(TRIM(D68)="rate only","ro",IF(ISBLANK(E68)," ",D68*E68))
B70: (ii) 1050mm Ø | C70: m³ | D70: 210 | F70: =IF(TRIM(D70)="rate only","ro",IF(ISBLANK(E70)," ",D70*E70))
B72: (iii) 1200mm Ø | C72: m³ | D72: 1500 | F72: =IF(TRIM(D72)="rate only","ro",IF(ISBLANK(E72)," ",D72*E72))
A74: 202.01.02.02 | B74: Over 1,0m deep and up to 1,5m deep
B76: (i) 900mm Ø | C76: m³ | D76: 500 | F76: =IF(TRIM(D76)="rate only","ro",IF(ISBLANK(E76)," ",D76*E76))
B78: (ii) 1050mm Ø | C78: m³ | D78: 105 | F78: =IF(TRIM(D78)="rate only","ro",IF(ISBLANK(E78)," ",D78*E78))
B80: (iii) 1200mm Ø | C80: m³ | D80: 705 | F80: =IF(TRIM(D80)="rate only","ro",IF(ISBLANK(E80)," ",D80*E80))
A90: TOTAL CARRIED FORWARD | F90: =SUM(F50:F89) -> 0
...

Sheet Section 203
A1: ITEM | B1: DESCRIPTION | C1: UNIT | D1: QTY | E1: RATE | F1: AMOUNT
A3: SERIES 2 | B3: EARTHWORKS
A5: Section 203 | B5: MASS EARTHWORKS
A7: 203.01 | B7: Excavation and borrow to fill
A9: 203.01.01 | B9: Compaction to 90% of modified
B10: AASHTO density | C10: m³ | D10: 50 | F10: =IF(TRIM(D10)="rate only","ro",IF(ISBLANK(E10)," ",D10*E10))
A12: 203.02 | B12: Extra over item 203.01 for excavating
B13: in -
A15: 203.02.01 | B15: Intermediate material | C15: m³ | D15: 50 | F15: =IF(TRIM(D15)="rate only","ro",IF(ISBLANK(E15)," ",D15*E15))
A17: 203.02.02 | B17: Hard material | C17: m³ | D17: 50 | F17: =IF(TRIM(D17)="rate only","ro",IF(ISBLANK(E17)," ",D17*E17))
A19: 203.02.03 | B19: Boulder material class A | C19: m³ | D19: 20 | F19: =E19*D19 -> 0
A21: 203.02.04 | B21: Boulder material class B | C21: m³ | D21: 20 | F21: =E21*D21 -> 0
A24: 203.03 | B24: Excavate and spoil of -
A26: 203.03.01 | B26: Soft material | C26: m³ | D26: 6000 | F26: =IF(TRIM(D26)="rate only","ro",IF(ISBLANK(E26)," ",D26*E26))
A28: 203.03.02 | B28: Intermediate material | C28: m³ | D28: 1700 | F28: =IF(TRIM(D28)="rate only","ro",IF(ISBLANK(E28)," ",D28*E28))
A30: 203.03.03 | B30: Hard material | C30: m³ | D30: 450 | F30: =IF(TRIM(D30)="rate only","ro",IF(ISBLANK(E30)," ",D30*E30))
A32: 203.03.04 | B32: Boulder material class A | C32: m³ | D32: 210 | F32: =IF(TRIM(D32)="rate only","ro",IF(ISBLANK(E32)," ",D32*E32))
A34: 203.03.05 | B34: Boulder material class B | C34: m³ | D34: 210 | F34: =IF(TRIM(D34)="rate only","ro",IF(ISBLANK(E34)," ",D34*E34))
A37: 203.04 | B37: Removal of oversize material | C37: m³ | D37: 10 | F37: =IF(TRIM(D37)="rate only","ro",IF(ISBLANK(E37)," ",D37*E37))
A45: TOTAL CARRIED FORWARD | F45: =SUM(F4:F44) -> 0
A47: Signature of person authorised to sign the tender: | E47: Date
A49: ITEM | B49: DESCRIPTION | C49: UNIT | D49: QTY | E49: RATE | F49: AMOUNT
A50: TOTAL BROUGHT FORWARD | F50: =F45 -> 0
A52: 203.08 | B52: Preparation and compaction of | C52: m³ | D52: 1800 | F52: =IF(TRIM(D52)="rate only","ro",IF(ISBLANK(E52)," ",D52*E52))
B53: construction bed material to 90% of
B54: modified AASHTO density
A56: 203.10 | B56: In situ treatment of the construction
B57: bed
A59: 203.10.01 | B59: In situ treatment by ripping | C59: m³ | D59: 1800 | F59: =IF(TRIM(D59)="rate only","ro",IF(ISBLANK(E59)," ",D59*E59))
A61: 203.11 | B61: Finishing off slopes
A63: 203.11.01 | B63: Excavation slopes | C63: m2 | D63: 3000 | F63: =IF(TRIM(D63)="rate only","ro",IF(ISBLANK(E63)," ",D63*E63))
A65: 203.11.02 | B65: Fill slopes | C65: m2 | D65: 2000 | F65: =IF(TRIM(D65)="rate only","ro",IF(ISBLANK(E65)," ",D65*E65))
A91: TOTAL CARRIED TO SUMMARY | F91: =SUM(F50:F90) -> 0
A93: Signature of person authorised to sign the tender: | E93: Date

Sheet Section 501
A1: ITEM | B1: DESCRIPTION | C1: UNIT | D1: QTY | E1: RATE | F1: AMOUNT
A3: SERIES 5 | B3: DRAINAGE AND EROSION
B4: PROTECTION
A6: Section 501 | B6: SUBSURFACE DRAINS AND DRAINAGE
B7: BLANKETS
A9: 501.07 | B9: Concrete outlet structures for subsurface drains, including formwork (Class25/19 for outlet headwalls and trapezoidal channel) as directed by Engineer on Site | C9: m³ | D9: 90 | F9: =IF(TRIM(D9)="rate only","ro",IF(ISBLANK(E9)," ",D9*E9))
A45: TOTAL CARRIED TO SUMMARY | F45: =SUM(F2:F44) -> 0
A47: Signature of person authorised to sign the tender: | E47: Date

Sheet Section 502
A1: ITEM | B1: DESCRIPTION | C1: UNIT | D1: QTY | E1: RATE | F1: AMOUNT
A3: SERIES 5 | B3: DRAINAGE AND EROSION
B4: PROTECTION
A6: Section 502 | B6: PREFABRICATED CULVERTS AND
B7: STORMWATER SEWERS
A9: 502.01 | B9: Backfilling with selected excavated
B10: material compacted to -
A12: 502.01.01 | B12: 90% of modified AASHTO density | C12: m³ | D12: 900 | F12: =IF(TRIM(D12)="rate only","ro",IF(ISBLANK(E12)," ",D12*E12))
A14: 502.01.02 | B14: 93% of modified AASHTO density | C14: m³ | D14: 900 | F14: =IF(TRIM(D14)="rate only","ro",IF(ISBLANK(E14)," ",D14*E14))
A16: 502.01.03 | B16: 95% of modified AASHTO density | C16: m³ | D16: 900 | F16: =IF(TRIM(D16)="rate only","ro",IF(ISBLANK(E16)," ",D16*E16))
A18: 502.02 | B18: Supplying and laying of concrete
B19: pipe culverts (type SC-pipes)
A21: 502.02.01 | B21: Class B bedding / Class 100D
A23: 502.02.01.01 | B23: 450mm Ø | C23: m | D23: 1300 | F23: =IF(TRIM(D23)="rate only","ro",IF(ISBLANK(E23)," ",D23*E23))
A25: 502.02.01.02 | B25: 600mm Ø | C25: m | D25: 575 | F25: =IF(TRIM(D25)="rate only","ro",IF(ISBLANK(E25)," ",D25*E25))
A27: 502.02.01.03 | B27: 750mm Ø | C27: m | D27: 225 | F27: =IF(TRIM(D27)="rate only","ro",IF(ISBLANK(E27)," ",D27*E27))
A29: 502.02.01.04 | B29: 825mm Ø | C29: m | D29: 160 | F29: =IF(TRIM(D29)="rate only","ro",IF(ISBLANK(E29)," ",D29*E29))
A31: 502.02.01.05 | B31: 900mm Ø | C31: m | D31: 460 | F31: =IF(TRIM(D31)="rate only","ro",IF(ISBLANK(E31)," ",D31*E31))
A33: 502.02.01.06 | B33: 1050mm Ø | C33: m | D33: 110 | F33: =IF(TRIM(D33)="rate only","ro",IF(ISBLANK(E33)," ",D33*E33))
A35: 502.02.01.07 | B35: 1200mm Ø | C35: m | D35: 585 | F35: =IF(TRIM(D35)="rate only","ro",IF(ISBLANK(E35)," ",D35*E35))
A37: TOTAL CARRIED FORWARD | F37: =SUM(F2:F36) -> 0
A39: Signature of person authorised to sign the tender: | E39: Date
A41: ITEM | B41: DESCRIPTION | C41: UNIT | D41: QTY | E41: RATE | F41: AMOUNT
A42: TOTAL BROUGHT FORWARD | F42: =F37 -> 0
A44: 502.10 | B44: Cast in situ concrete
A46: 502.10.03 | B46: In inlet and outlet structures,
B47: catchpits, manholes and junction
B48: boxes excluding form-work, but
B49: including class U2 surface finish
A51: 502.10.03.01 | B51: Class 20/19 | C51: m³ | D51: 110 | F51: =IF(TRIM(D51)="rate only","ro",IF(ISBLANK(E51)," ",D51*E51))
A53: 502.10.03.02 | B53: Class 25/19 | C53: m³ | D53: 80 | F53: =IF(TRIM(D53)="rate only","ro",IF(ISBLANK(E53)," ",D53*E53))
A55: 502.10.04 | B55: Formwork for concrete under item
B56: 502.10.03.01 + 502.10.03.02 above | C56: m2 | D56: 400 | F56: =IF(TRIM(D56)="rate only","ro",IF(ISBLANK(E56)," ",D56*E56))
A58: 502.16 | B58: Manholes, catchpits, precast inlet and
B59: outlet structures and junction boxes
B60: complete
A62: 502.16.01 | B62: Manholes (type and standard depth
B63: indicated) complete inclusive of on | C63: no | D63: 5 | F63: =IF(TRIM(D63)="rate only","ro",IF(ISBLANK(E63)," ",D63*E63))
B64: the drawings benching, plaster,
B65: cover lids combinations (iron and or
...

Sheet Section 503
A1: ITEM | B1: DESCRIPTION | C1: UNIT | D1: QTY | E1: RATE | F1: AMOUNT
A3: SERIES 5 | B3: DRAINAGE AND EROSION
B4: PROTECTION
A6: Section 503 | B6: KERBING AND CHANNELLING
A8: 503.01 | B8: Concrete kerbing Class 20/19
B9: concrete (See drawing STD007 - Sheet 1)
A11: 503.01.01 | B11: Edge beam | C11: m | D11: 150 | F11: =IF(TRIM(D11)="rate only","ro",IF(ISBLANK(E11)," ",D11*E11))
A13: 503.01.02 | B13: 300mm Sloping kerb | C13: m | D13: 75 | F13: =IF(TRIM(D13)="rate only","ro",IF(ISBLANK(E13)," ",D13*E13))
A15: 502.01.03 | B15: 400mm Sloping kerb | C15: m | D15: 75 | F15: =IF(TRIM(D15)="rate only","ro",IF(ISBLANK(E15)," ",D15*E15))
A17: 503.01.04 | B17: 500mm Sloping kerb | C17: m | D17: 75 | F17: =IF(TRIM(D17)="rate only","ro",IF(ISBLANK(E17)," ",D17*E17))
A19: 503.01.05 | B19: Extra over item 503.01.01 for variations
B20: in concrete volume due to variations
B21: in standard dimensions | C21: m³ | D21: 10 | F21: =IF(TRIM(D21)="rate only","ro",IF(ISBLANK(E21)," ",D21*E21))
A23: 503.02 | B23: Concrete kerbing-channelling
B24: combination
B25: (See drawing STD007 - Sheet 1)
A27: 503.02.01 | B27: Precast semi-mountable kerbs
B28: (fig 8c in SANS 927) | C28: m | D28: =2300+1275+400 -> 3975 | F28: =IF(TRIM(D28)="rate only","ro",IF(ISBLANK(E28)," ",D28*E28))
A30: 503.03 | B30: Transition sections
B31: (See drawing STD007 - Sheet 2)
A33: 503.03.01 | B33: Precast semi-mountable kerbs
B34: (fig 8 in SANS 927) | C34: no | D34: 150 | F34: =IF(TRIM(D34)="rate only","ro",IF(ISBLANK(E34)," ",D34*E34))
A36: 503.03.02 | B36: Precast semi-mountable kerbs (fig 8)
B37: 300mm sloping kerb | C37: no | D37: 120 | F37: =IF(TRIM(D37)="rate only","ro",IF(ISBLANK(E37)," ",D37*E37))
A39: 503.03.03 | B39: Precast semi-mountable kerbs (fig 8)
B40: 400mm sloping kerb | C40: no | D40: 120 | F40: =IF(TRIM(D40)="rate only","ro",IF(ISBLANK(E40)," ",D40*E40))
A42: 503.03.04 | B42: Precast semi-mountable kerbs (fig 8)
B43: 500mm sloping kerb | C43: no | D43: 120 | F43: =E43*D43 -> 0
A45: TOTAL CARRIED FORWARD | F45: =SUM(F2:F44) -> 0
A47: Signature of person authorised to sign the tender: | E47: Date
A49: ITEM | B49: DESCRIPTION | C49: UNIT | D49: QTY | E49: RATE | F49: AMOUNT
A50: TOTAL BROUGHT FORWARD | F50: =F45 -> 0
A52: 503.01.05 | B52: Extra over Items 503.03.01, 503.03.02,
B53: 503.03.03, 503.04.04 for variations
B54: in concrete volume due to variations
B55: in standard dimensions | C55: m³ | D55: 10 | F55: =E55*D55 -> 0
A90: TOTAL CARRIED TO SUMMARY | F90: =SUM(F50:F89) -> 0
A92: Signature of person authorised to sign the tender: | E92: Date

Sheet Section 601
A1: ITEM | B1: DESCRIPTION | C1: UNIT | D1: QTY | E1: RATE | F1: AMOUNT
A3: SERIES 6 | B3: ROADS AND PARKING AREAS
A5: Section 601 | B5: GRAVEL PAVEMENT LAYERS
A7: 601.01 | B7: Preparation and compaction of
B8: in situ subgrade material to -
A10: 601.01.02 | B10: 93% of modified AASHTO density | C10: m³ | D10: =2000+(400*1.8*0.2)+76 -> 2220 | F10: =IF(TRIM(D10)="rate only","ro",IF(ISBLANK(E10)," ",D10*E10))
A12: 601.03 | B12: Gravel layers constructed from material
B13: obtained from comercial sources:
A15: 601.03.01 | B15: Subgrade (G5)
A17: 601.03.01.02 | B17: Compacted to 95% of modified | C17: m³ | D17: =2000+650+(400*1.8*0.2)+81 -> 2875 | F17: =IF(TRIM(D17)="rate only","ro",IF(ISBLANK(E17)," ",D17*E17))
B18: AASHTO density
A20: 601.03.02 | B20: Subbase (C4)
A22: 601.03.02.01 | B22: Compacted to 95-97% of modified
B23: AASHTO density UCS + ITS | C23: m³ | D23: 2875 | F23: =IF(TRIM(D23)="rate only","ro",IF(ISBLANK(E23)," ",D23*E23))
A25: 601.04 | B25: Extra over item 601.03 for obtaining
B26: material from
A28: 601.04.01 | B28: Intermediate excavations | C28: m³ | D28: 200 | F28: =IF(TRIM(D28)="rate only","ro",IF(ISBLANK(E28)," ",D28*E28))
A30: TOTAL CARRIED TO SUMMARY | F30: =SUM(F2:F29) -> 0
A32: Signature of person authorised to sign the tender: | E32: Date

Sheet Section 602
A1: ITEM | B1: DESCRIPTION | C1: UNIT | D1: QTY | E1: RATE | F1: AMOUNT
A3: SERIES 6 | B3: ROADS AND PARKING AREAS
A5: Section 602 | B5: CRUSHED-STONE PAVEMENT LAYERS
A7: 602.01 | B7: Crushed-stone base constructed
B8: with material obtained from
A10: 602.01.01 | B10: Commercial sources
A12: 602.01.01.02 | B12: G2 material compacted to 100% of
B13: modified AASHTO density | C13: m³ | D13: =2500+150 -> 2650 | F13: =IF(TRIM(D13)="rate only","ro",IF(ISBLANK(E13)," ",D13*E13))
A15: 602.01 | B15: Crushed-stone subbase constructed
B16: with material obtained from
A18: 602.02.01 | B18: Commercial sources
A20: 602.02.02.03 | B20: G5 material compacted to 95% of
B21: modified AASHTO density | C21: m³ | D21: =3800+(1.8*0.2*500)+80 -> 4060 | F21: =IF(TRIM(D21)="rate only","ro",IF(ISBLANK(E21)," ",D21*E21))
A45: TOTAL CARRIED TO SUMMARY | F45: =SUM(F2:F44) -> 0
A47: Signature of person authorised to sign the tender: | E47: Date

Sheet Section 604
A1: ITEM | B1: DESCRIPTION | C1: UNIT | D1: QTY | E1: RATE | F1: AMOUNT
A3: SERIES 6 | B3: ROADS AND PARKING AREAS
A5: Section 604 | B5: STABILIZATION
A7: 604.01 | B7: Chemical stabilization, extra over
B8: unstabilized compacted layers | C8: m³ | D8: ='Section 601'!D23 -> 2875 | F8: =IF(TRIM(D8)="rate only","ro",IF(ISBLANK(E8)," ",D8*E8))
A10: 604.02 | B10: Chemical stabilizing agent
A12: 604.02.02 | B12: Blast-furnace cement (CEM III) | C12: ton | D12: 200 | F12: =IF(TRIM(D12)="rate only","ro",IF(ISBLANK(E12)," ",D12*E12))
A45: TOTAL CARRIED TO SUMMARY | F45: =SUM(F2:F44) -> 0
A47: Signature of person authorised to sign the tender: | E47: Date

Sheet Section 605
A1: ITEM | B1: DESCRIPTION | C1: UNIT | D1: QTY | E1: RATE | F1: AMOUNT
A3: SERIES 6 | B3: ROADS AND PARKING AREAS
A5: Section 605 | B5: PRIME COAT
A7: 605.01 | B7: Prime coat
A9: 605.01.04 | B9: Invert bitumen emulsion which
B10: complies with SANS 1260 (MSP 1) | C10: ℓ | D10: =11750 -> 11750 | F10: =IF(TRIM(D10)="rate only","ro",IF(ISBLANK(E10)," ",D10*E10))
A45: TOTAL CARRIED TO SUMMARY | F45: =SUM(F2:F44) -> 0
A47: Signature of person authorised to sign the tender: | E47: Date

Sheet Section 606
A1: ITEM | B1: DESCRIPTION | C1: UNIT | D1: QTY | E1: RATE | F1: AMOUNT
A3: SERIES 6 | B3: ROADS AND PARKING AREAS
A5: Section 606 | B5: ASPHALT BASE AND SURFACING
A7: 606.02 | B7: Asphalt surfacing
A9: 606.02.01 | B9: Continuously graded (30mm Sa-S10) | C9: ton | D9: =875+75 -> 950 | F9: =IF(TRIM(D9)="rate only","ro",IF(ISBLANK(E9)," ",D9*E9))
A11: 606.05 | B11: Tack coat of 30% stable grade emulsion | C11: litre | D11: 6000 | F11: =IF(TRIM(D11)="rate only","ro",IF(ISBLANK(E11)," ",D11*E11))
A13: 606.09 | B13: 100mm Ø cores in asphalt paving | C13: no | D13: 25 | F13: =IF(TRIM(D13)="rate only","ro",IF(ISBLANK(E13)," ",D13*E13))
A15: 606.10 | B15: Saw-cutting of asphalt, asphalt base
B16: or paving
A18: 606.10.01 | B18: Saw cutting of existing road
B19: pavement layers (0mm -150mm) as
B20: directed by Engineer on Site. | C20: m | D20: 950 | F20: =IF(TRIM(D20)="rate only","ro",IF(ISBLANK(E20)," ",D20*E20))
A22: B606.10.02 | B22: Continuously graded (Sa-S14) for the construction of City of Tshwane spec asphalt speed hump as detailed on STD015. Contractor to include in rate all related road markings and signages. | C22: No | D22: 17 | F22: =IF(TRIM(D22)="rate only","ro",IF(ISBLANK(E22)," ",D22*E22))
A45: TOTAL CARRIED TO SUMMARY | F45: =SUM(F2:F44) -> 0
A47: Signature of person authorised to sign the tender: | E47: Date

Sheet Section 609
A1: ITEM | B1: DESCRIPTION | C1: UNIT | D1: QTY | E1: RATE | F1: AMOUNT
A3: SERIES 6 | B3: QUALITY CONTROL
A5: Section 609 | B5: SEGMENTED PAVING
A7: 609.01 | B7: Construction of segmental block paving
B8: made from -
A10: 609.01.01 | B10: Grey block bricks type or approved
B11: SANS equivalent 1058:2021,
B12: 200mmx100mmx60mm concrete block
B13: pavers | C13: m2 | D13: =4100+(700*1.8)+(1.8*400)+20 -> 6100 | F13: =IF(TRIM(D13)="rate only","ro",IF(ISBLANK(E13)," ",D13*E13))
A15: 609.03 | B15: The construction of edge restraints with
A17: 609.03.01 | B17: Fig.12 edge restraint precast concrete
B18: kerb | C18: m | D18: =4550+400 -> 4950 | F18: =IF(TRIM(D18)="rate only","ro",IF(ISBLANK(E18)," ",D18*E18))
A20: 609.06 | B20: Construction of pedestrian ramps for the disabled as per Drawing No. STD009 | C20: No | D20: 28 | F20: =IF(TRIM(D20)="rate only","ro",IF(ISBLANK(E20)," ",D20*E20))
A45: TOTAL CARRIED TO SUMMARY | F45: =SUM(F2:F44) -> 0
A47: Signature of person authorised to sign the tender: | E47: Date

Sheet Section 612
A1: ITEM | B1: DESCRIPTION | C1: UNIT | D1: QTY | E1: RATE | F1: AMOUNT
A3: SERIES 6 | B3: QUALITY CONTROL
A5: Section 612 | B5: TRAFFIC SIGNS
A7: 612.01 | B7: Sign boards with painted back-ground,
B8: symbols, lettering and borders in
B9: engineering-grade retro-reflective
B10: material with signboards constructed
B11: from -
A13: 612.01.01 | B13: Aluminium sheet (2,0 mm thick)
B14: with an -
A16: 612.01.01.01 | B16: Area not exceeding 2 m2 | C16: m2 | D16: =35+20 -> 55 | F16: =IF(TRIM(D16)="rate only","ro",IF(ISBLANK(E16)," ",D16*E16))
A18: 612.03 | B18: Sign Supports
A20: 612.03.02 | B20: Steel tubing | C20: ton | D20: 2 | F20: =IF(TRIM(D20)="rate only","ro",IF(ISBLANK(E20)," ",D20*E20))
A22: 612.05 | B22: Excavation and backfilling for sign
B23: supports | C23: m3 | D23: 10 | F23: =IF(TRIM(D23)="rate only","ro",IF(ISBLANK(E23)," ",D23*E23))
A25: 612.06 | B25: Dismantling, storing and re-erecting
B26: traffic signs with a surface area of -
A28: 612.06.02 | B28: Over 2 m2 but not exceeding 5 m2 | C28: no | D28: =5+20 -> 25 | F28: =IF(TRIM(D28)="rate only","ro",IF(ISBLANK(E28)," ",D28*E28))
A45: TOTAL CARRIED TO SUMMARY | F45: =SUM(F2:F44) -> 0
A47: Signature of person authorised to sign the tender: | E47: Date

Sheet Section 613
A1: ITEM | B1: DESCRIPTION | C1: UNIT | D1: QTY | E1: RATE | F1: AMOUNT
A3: SERIES 6 | B3: QUALITY CONTROL
A5: Section 613 | B5: TRAFFIC MARKINGS
A7: 613.02 | B7: Retro-reflective road-marking paint
A9: 613.02.01 | B9: White lines (broken or unbroken)
B10: (100mm) | C10: km | D10: 1 | F10: =IF(TRIM(D10)="rate only","ro",IF(ISBLANK(E10)," ",D10*E10))
A12: 613.02.01 | B12: White lines (broken or unbroken)
B13: (300mm) | C13: km | D13: 0.2 | F13: =IF(TRIM(D13)="rate only","ro",IF(ISBLANK(E13)," ",D13*E13))
A15: 613.02.03 | B15: White lettering and symbols | C15: m2 | D15: 120 | F15: =IF(TRIM(D15)="rate only","ro",IF(ISBLANK(E15)," ",D15*E15))
A17: 613.06 | B17: Setting out and the pre-marking of
B18: lines (excluding traffic-island markings,
B19: lettering and symbols) | C19: km | D19: 1.5 | F19: =IF(TRIM(D19)="rate only","ro",IF(ISBLANK(E19)," ",D19*E19))
A45: TOTAL CARRIED TO SUMMARY | F45: =SUM(F2:F44) -> 0
A47: Signature of person authorised to sign the tender: | E47: Date

Sheet Section 703
A1: ITEM | B1: DESCRIPTION | C1: UNIT | D1: QTY | E1: RATE | F1: AMOUNT
A3: SERIES 7 | B3: STRUCTURES
A5: Section 703 | B5: STEEL REINFORCING FOR STRUCTURES
A7: 703.03 | B7: Welded steel fabric for -
A9: 703.03.01.01 | B9: 8mm Mesh Ref395 for cast in-situ
B10: concrete driveway reinstatements
B11: inclusive of tying and spacers
B12: as directed by Engineer on Site | C12: kg | D12: 1150 | F12: =IF(TRIM(D12)="rate only","ro",IF(ISBLANK(E12)," ",D12*E12))
A45: TOTAL CARRIED TO SUMMARY | F45: =SUM(F2:F44) -> 0
A47: Signature of person authorised to sign the tender: | E47: Date

Sheet Section 801
A1: ITEM | B1: DESCRIPTION | C1: UNIT | D1: QTY | E1: RATE | F1: AMOUNT
A3: SERIES 8 | B3: SPECIFIC WORKS
A5: Section 801 | B5: ROOF SHEETING AND ACCESSORIES
A7: 805.08 | B7: Roof sheeting
B9: (a) Roof sheeting
A11: B805.1 | B11: (i) Galvanized-steel sheeting incl tube posts for new carport / awning as directed by Engineer on Site | C11: m2 | D11: 60 | F11: =IF(TRIM(D11)="rate only","ro",IF(ISBLANK(E11)," ",D11*E11))
A45: TOTAL CARRIED TO SUMMARY | F45: =SUM(F2:F44) -> 0
A47: Signature of person authorised to sign the tender: | E47: Date

Sheet Section 903
A1: ITEM | B1: DESCRIPTION | C1: UNIT | D1: QTY | E1: RATE | F1: AMOUNT
A3: SERIES 9 | B3: QUALITY CONTROL
A5: Section 903 | B5: TESTING
A7: 903.01 | B7: Provision of testing equipment
A9: 903.01.03 | B9: 150mm x 150mm x150mm concrete-
B10: cube moulds | C10: no | D10: 85 | F10: =IF(TRIM(D10)="rate only","ro",IF(ISBLANK(E10)," ",D10*E10))
A12: 903.03 | B12: Special tests on concrete and asphalt
A14: 903.03.01 | B14: Compressive-strength tests on
B15: concrete cubes | C15: no | D15: 85 | F15: =IF(TRIM(D15)="rate only","ro",IF(ISBLANK(E15)," ",D15*E15))
A17: 903.03.02 | B17: Asphalt tests on cores | C17: no | D17: 25 | F17: =IF(TRIM(D17)="rate only","ro",IF(ISBLANK(E17)," ",D17*E17))
A19: 903.06 | B19: Other special tests requested by the
B20: Engineer
A22: 903.06.01 | B22: Cost of testing | C22: PC Sum | D22: 100000 | E22: 1 | F22: =IF(TRIM(D22)="rate only","ro",IF(ISBLANK(E22)," ",D22*E22)) -> 100000
A24: 903.06.02 | B24: Charge on prime cost sum | C24: % | D24: =D22 -> 100000 | F24: =IF(TRIM(D24)="rate only","ro",IF(ISBLANK(E24)," ",D24*E24))
A45: TOTAL CARRIED TO SUMMARY
A47: Signature of person authorised to sign the tender: | E47: Date

Sheet Summary
A1: SUMMARY OF PRICING SCHEDULE
A2: SECTION | B2: DESCRIPTION | C2: AMOUNT
A3: SERIES 0 | B3: GENERAL
A4: 001 | B4: General Requirements and Charges
A5: 002 | B5: Engineers Accommodation | C5: ='Section 002'!F29 -> 0
A7: SERIES 1 | B7: ANCILLARY WORK
A8: 101 | B8: Site Clearing and Grubbing | C8: ='Section 101'!F45 -> 0
A9: 102 | B9: Accommodation of Traffic | C9: ='Section 102'!F90 -> 0
A10: 103 | B10: Overhaul
A11: 107 | B11: Dayworks | C11: ='Section 107'!F41 -> 0
A13: SERIES 2 | B13: EARTHWORKS
A14: 201 | B14: General | C14: ='Section 201'!F43 -> 0
A15: 202 | B15: Trenching | C15: ='Section 202'!F166 -> 0
A16: 203 | B16: Mass Earthworks | C16: ='Section 203'!F91 -> 0
A18: SERIES 5 | B18: DRAINAGE AND EROSION PROTECTION
A19: 501 | B19: Subsurface Drains and Drainage Blankets | C19: ='Section 501'!F45 -> 0
A20: 502 | B20: Prefabricated Culverts and Stormwater Drainage | C20: ='Section 502'!F126 -> 0
A21: 503 | B21: Kerbing and Channelling | C21: ='Section 503'!F90 -> 0
A23: SERIES 6 | B23: ROADS AND PARKING AREAS
A24: 601 | B24: Gravel Pavement Layers | C24: ='Section 601'!F30 -> 0
A25: 602 | B25: Crushed-stone Pavement Layers | C25: ='Section 602'!F45 -> 0
A26: 603 | B26: Unpaved Areas | C26: =#REF! -> #REF!
A27: 604 | B27: Stabilization | C27: ='Section 604'!F45 -> 0
A28: 605 | B28: Prime Coat | C28: ='Section 605'!F45 -> 0
A29: 606 | B29: Asphalt Base and Surfacing | C29: ='Section 606'!F45 -> 0
A30: 609 | B30: Segmented Paving | C30: ='Section 609'!F45 -> 0
A31: 612 | B31: Traffic Signs | C31: ='Section 612'!F45 -> 0
A32: 613 | B32: Traffic Markings | C32: ='Section 613'!F45 -> 0
A34: SERIES 7 | B34: STRUCTURES
A35: 703 | B35: Steel Reinforcing for Structures | C35: ='Section 703'!F45 -> 0
A37: SERIES 8 | B37: STRUCTURES
A38: 801 | B38: Roof Sheeting and Accessories | C38: ='Section 801'!F45 -> 0
A40: SERIES 9 | B40: QUALITY CONTROL
A41: 903 | B41: Testing
A44: TOTAL SCHEDULE OF PRICES
A46: Signature of person authorised to sign the tender:
A49: DESCRIPTION | C49: AMOUNT
A51: TOTAL OF SCHEDULED PRICES | C51: =C44 -> 0
A52: Add 10% for contingencies | C52: =C51*0.1 -> 0
A53: SUBTOTAL A | C53: =C51+C52 -> 0
...
