Workbook
Name ________SEC1200: #REF!
Name _______SEC1200: #REF!
Name ______SEC1200: #REF!
Name _____SEC1200: #REF!
Name ____SEC1200: #REF!
Name ___SEC1200: #REF!
Name __SEC1200: #REF!
Name _1200: #REF!
Name _SEC1200: #REF!
Name _Toc165972924: '3 - Site Clearance'!#REF!
Name clarifiers: #REF!,#REF!
Name DATA_AREA_1: #REF!
Name DATA_AREA_2: #REF!,#REF!
Name DATA_AREA_2A: #REF!,#REF!
Name DATA_AREA_3: #REF!,#REF!
Name DATA_AREA1: #REF!
Name DATA_AREA2: #REF!
Name EARTHWORKS: #REF!
Name FGR: #REF!
Name fgtwpo: #REF!
Name INVOICE_2: #REF!
Name INVOIVE_1: #REF!
Name Items_01: #REF!
Name Items_01: #REF!
Name Items_01: #REF!
Name J: #REF!
Name NO: #REF!
Name Print_Area_MI: #REF!
Name QQ: #REF!
Name QWEH: #REF!
Name sfrt: #REF!
Name ssss: #REF!
Name THE: #REF!
Name Washwater: #REF!,#REF!

Sheet COVER PAGE
G4: ???????????????????
D7: PAYMENT CERTIFICATE NO. | F7: 0 | H7: CLAIM PERIOD
H8: FROM | I8: ?
H9: TO | I9: ?
D10: TYPE OF CERTIFICATE | F10: =[1]Input!C6 -> PROGRESS CLAIM
H12: CONSULTANT | I12: MBB Consuklting Engineers (EC)
D13: CONTRACT NO. | F13: MLM/2021-22/INFRA/007 | I13: 3 Miles Street
I14: Grahamstown
I15: 6139
D16: DESCRIPTION | F16: REPLACEMENT OF AGEING ASBESTOS PIPE IN MAKHANDA PHASE 3A - ZONES A & B
H18: TEL. NO. | I18: 046 622 7223
D21: CLIENT: | E21: MAKANA MUNICIPALITY | H21: CONTRACT VALUE | I21: 0
E22: EASTERN CAPE | H22: CERTIFIED TO DATE | I22: =Summary!E21 -> 0
H23: BALANCE | I23: =+I21-I22 -> 0
H24: (All values include 15% VAT)
D27: CONTRACTOR | F27: 0
F28: 0
F29: 0
D30: TEL. NO. | F30: 0
D31: FAX. NO. | F31: 0
E33: CERTIFICATION :
E34: Total value of work as at ? ? 2022 | I34: =Summary!E21 -> 0
E35: Variation Orders | I35: 0
E36: Provisional Sums and Prime Cost subject to CPA | I36: 0
E37: Variation Orders not subjected to CPA | I37: =[1]EC2!L51 -> 0
E38: SUBTOTAL | I38: =+I34+I35+I36+I37 -> 0
E39: Less: Retention | F39: 0.1 | I39: =I38*10% -> 0
E40: Plus Materials on Site advanced (80%) | I40: ='MOS Register 80%'!I81 -> 0
E42: Less: Penalties
E43: SUB TOTAL | I43: =I38-I39+I40 -> 0
E44: Less previous payments ( Excluding V.A.T. ) | I44: 6421978.4
E46: SUBTOTAL | I46: =+I43-I44 -> -6421978.4
E47: VALUE ADDED TAX AT 15 % | I47: =I46*15% -> -963296.76
E48: (a) AMOUNT DUE FOR THIS CERTIFICATE | I48: =I46+I47 -> -7385275.2
C50: (a) WE HEREBY DO CERTIFY THE ABOVE MENTIONED AMOUNT FOR PAYMENT, BEING THE BALANCE PAYABLE TO DATE IN ACCORDANCE WITH THE CONTRACT.
C56: ............................................................ | G56: ..............................................................
C58: ENGINEER | G58: ???????????????????? | I58: LAST DATE FOR PAYMENT
D59: DATE: | E59: 2022/00/00 | G59: DATE: | H59: 2022/00/00

Sheet MOS Register 80%
A1: BID NO. MLM/2021-22/INFRA/007
A2: REPLACEMENT OF AGEING ASBESTOS PIPES IN GRAHAMSTOWN - PHASE 3B - ZONES C
A3: MATERIAL ON SITE
A5: Item | B5: Discription | C5: Unit | D5: Currently Delivered | E5: Used in Month | F5: Remaining Instore | G5: Check | H5: Rate | I5: ONSITE TOTAL AMOUNT | J5: Delivery Note No.
A6: 5.6.2.3 | B6: 75 CL12 UPVC PIPE | C6: m | H6: 75
A7: 5.6.2.5 | B7: 110 CL12 UPVC PIPE | C7: m | H7: 126
A8: 5.6.2.6 | B8: 160 CL12 UPVC PIPE | C8: m | H8: 260
A9: 5.6.2.7 | B9: 200 CL12 UPVC PIPE | C9: m | H9: 408
A10: 5.6.2.9 | B10: 315 CL12 UPVC PIPE | C10: m | H10: 1011
A11: 5.7.1.10 | B11: 75 x 22 ½ CL16 PVC PIPE | C11: no | H11: 174
A12: 5.7.1.11 | B12: 75 x 45° CL16 PVC BEND | C12: no | H12: 193
A13: 5.7.1.17 | B13: 110 X 11 1/4° CL16 PVC BEND | C13: no | H13: 225
A14: 5.7.1.18 | B14: 110 X 22 1/2° CL16 PVC BEND | C14: no | H14: 225
A15: 5.7.1.19 | B15: 110 X 45° CL16 PVC BEND | C15: no | H15: 266
A16: 5.7.1.22 | B16: 160 X 22½° CL16 PVC BEND | C16: no | H16: 509
A17: 5.7.1.23 | B17: 160 X 45° CL16 PVC BEND | C17: no | H17: 581
... A49: 5.15.1 | B49: 50 CL12 HDPE PIPE | C49: m | H49: 19
I80: =SUM(I6:I79) -> 0
F81: 80%MOS | I81: =I80*0.8 -> 0

Sheet 1 - P & G
C3: BID NO. …............................... | D3: WMLM/2022-23/INFRA/001
C4: UPGRADE OF MPHUTHUMI MAFUMBATHA STADIUM
C5: SECTION 1: PRELIMINARY & GENERAL
C6: Item No | D6: Payment Refers | E6: Description | F6: UNIT | G6: QUANTITY | H6: RATE | I6: AMOUNT
C9: 1 | E9: SECTION 1: PRELIMINARY & GENERAL
D11: SANS 1200A | E11: FIXED CHARGED ITEMS
C13: 1.1 | D13: 8.3 | E13: Contractual Requirements
C15: 1.1.1 | D15: PSA 8.3.1 | E15: Contractual requirements | F15: Sum | G15: 1
D17: 8.3.2 | E17: Establishment of facilities on site:
D19: 8.3.2.1 | E19: Facilities for Employers Agent
C21: 1.1.2 | D21: 8.3.2.1(a) | E21: Provision of a furnished meeting room and office for the Employers Agent's Representative (including all furnishings, facilities and equipment as per PSAB 3.2 including toilet facilities) (Refer to PSAB 3.2 & 5.2) | F21: Sum | G21: 1 | H21: 0 | I21: =#REF!*H21 -> #REF!
C23: 1.1.3 | E23: Provision of survey equipment (PSAB 4.2) | F23: Sum | G23: 1 | H23: 0 | I23: =#REF!*H23 -> #REF!
C25: 1.1.2 | D25: PSAB 8.1 | E25: Contract Nameboard (1 No.) with supports erected & moved complete. (Refer to PSAB 3.1) | F25: No | G25: 1
C27: 1.1.5 | E27: Provision of survey assistants (Refer PSAB 5.5) | F27: Sum | G27: 0 | H27: 0 | I27: =#REF!*H27 -> #REF!
C29: 1.1.6 | E29: Covered Parking (2 bays) (Refer PSAB 3.3) | F29: Sum | G29: 1 | H29: 0 | I29: =#REF!*H29 -> #REF!
C31: 1.1.7 | E31: All other specified facilities (incl wifi internet connection and printer) | F31: Sum | G31: 1 | H31: 0 | I31: =#REF!*H31 -> #REF!
C33: 1.1.3 | D33: 8.3.2.2, 8.3.2.3 | E33: Facilities for Contractor
C35: 1.1.3.1 | E35: a) Offices and storage sheds | F35: Sum | G35: 1
C37: 1.1.8.2 | E37: b) Workshops | F37: Sum | G37: 1 | H37: 0 | I37: =#REF!*H37 -> #REF!
C39: 1.1.8.3 | E39: c) Laboratories | F39: Sum | G39: 1 | H39: 0 | I39: =#REF!*H39 -> #REF!
C41: 1.1.8.4 | E41: d) Living Accommodation | F41: Sum | G41: 1 | H41: 0 | I41: =#REF!*H41 -> #REF!
C43: 1.1.3.2 | E43: b) Ablution and latrine facilities | F43: Sum | G43: 1
C45: 1.1.8.6 | E45: f) Tools and equipment | F45: Sum | G45: 1 | H45: 0 | I45: =#REF!*H45 -> #REF!
C47: 1.1.3.3 | E47: c) Water supplies, electric power and communications | F47: Sum | G47: 1
C49: 1.1.8.8 | E49: d) Dealing with water | F49: Sum | G49: 1 | H49: 0 | I49: =#REF!*H49 -> #REF!
C51: 1.1.8.9 | E51: i) Access | F51: Sum | G51: 1 | H51: 0 | I51: =#REF!*H51 -> #REF!
C53: 1.1.8.10 | E53: j) Construction Plant and Transport | F53: Sum | G53: 1 | H53: 0 | I53: =#REF!*H53 -> #REF!
C55: 1.1.3.4 | D55: 8.3.4 | E55: Remove all site establishment on completion | F55: Sum | G55: 1
C57: 1.1.10 | D57: 8.3.3 PSA 8.20 | E57: General responsibilities and other fixed charge obligations (incl. making allowance for effects and payments taking up to 60 days from date of invoice) | F57: Sum | G57: 1 | H57: 0 | I57: =#REF!*H57 -> #REF!
C60: TOTAL CARRIED FORWARD
C68: SECTION 1: PRELIMINARY & GENERAL
C70: Item No | D70: Payment Refers | E70: Description | F70: UNIT | G70: QUANTITY | H70: RATE | I70: =I6 -> AMOUNT
C72: TOTAL CARRIED FORWARD
C75: 1.1.4 | D75: PSA8.17 | E75: Dealing with conditions of permits, Wayleave Agreements, etc (Refer to C3.4.4.8) | F75: Sum | G75: 1
C77: 1.1.5 | D77: PSA 8.8a | E77: OH&S Requirements (Fixed charges)
E79: The sum shall cover all preparation of risk assessments (Annexure D), safe work procedures, the project H&S File, the H&S Plan, medicals for all workers, the provision of PPE and protective clothing, including hazards and potential hazard identification, Standard Working Procedures, and Method Statements and all other costs necessary in complying generally with the Occupational Health and Safety Act 85 of 1993, (as amended), the Construction Regulations 2014 and the Particular Safety Specification (Annexure C) | F79: Sum | G79: 1
C81: 1.1.6 | E81: Completing and checking the Project H&S File and handing over to Client on completion of the works and exit medicals for all workers. | F81: Sum | G81: 1
C83: 1.1.7 | E83: HIV / AIDS Awareness
E84: Refer to SANS 1921-6 and Annexure F
E86: Conduct HIV/AIDS awareness programme workshops on site for not less than 90% of the workers inclusive of all direct and indirect costs | F86: Sum | G86: 1
...

Sheet 2 - Dayworks
C3: ='1 - P & G'!C3 -> BID NO. …............................... | D3: WMLM/2022-23/INFRA/001
C4: ='1 - P & G'!C4 -> UPGRADE OF MPHUTHUMI MAFUMBATHA STADIUM
C5: SECTION 2: DAYWORKS, PROVISIONAL SUMS AND PRIME COST ITEMS
C6: Item No | D6: Payment Refers | E6: Description | F6: UNIT | G6: QUANTITY | H6: RATE | I6: AMOUNT
C9: 2 | D9: SANS 1200A | E9: SECTION 2: DAYWORKS, PROVISIONAL SUMS AND PRIME COST ITEMS
D10: 8.7
C11: 2.1 | D11: PSA 8.6 | E11: DAYWORKS
E13: Labour
C15: 2.1.1 | D15: 8.5 (b.1) | E15: Allow for total remuneration paid to workers | F15: Prov Sum | G15: 1 | H15: 0 | I15: =#REF!*H15 -> #REF!
C17: 2.1.2 | D17: PSA 8.5 | E17: Overheads, charges and profit on 2.1.1 above | F17: % | G17: 5000 | H17: 0 | I17: =#REF!*H17 -> #REF!
C19: 2.1.1 | E19: Team Leader / charge hand | F19: hr | G19: 80
C21: 2.1.2 | E21: Artisan | F21: hr | G21: 80
C23: 2.1.3 | E23: Skilled | F23: hr | G23: 80
C25: 2.1.4 | E25: Semi-skilled | F25: hr | G25: 80
C27: 2.1.5 | E27: Unskilled | F27: hr | G27: 80
E29: Materials
C31: 2.1.6 | D31: 8.5 (a, b1) | E31: Net cost of goods or materials | F31: Prov Sum | G31: 1 | H31: 10000 | I31: =G31*H31 -> 10000
C33: 2.1.7 | D33: PSA 8.5 | E33: Overheads, charges and profit on 2.1.8 above | F33: % | G33: =I31 -> 10000 | H33: __%
E35: Contractors own Plant
C37: 2.1.8 | D37: 8.5 (a) | E37: Allow for all-inclusive cost of using Contractor's own plant on site. | F37: Prov Sum | G37: 1 | H37: 10000 | I37: =G37*H37 -> 10000
E39: Plant hired by the Contractor
C41: 2.1.9 | D41: 8.5 (b.1) | E41: Net cost of hired plant | F41: Prov Sum | G41: 1 | H41: 10000 | I41: =G41*H41 -> 10000
C43: 2.1.10 | D43: PSA 8.5 | E43: Overheads, charges and profit on 2.1.11 above | F43: % | G43: =I41 -> 10000 | H43: __%
E45: Survey Beacons/Pegs
C47: 2.1.13 | D47: 8.5 (a) | E47: Search for, record, reference and protect survey stations, bench marks, erf boundary pegs and other reference pegs and expose on completion of works | F47: Sum | G47: 1 | H47: 0 | I47: =#REF!*H47 -> #REF!
C49: 2.2 | D49: 8.5 | E49: SUMS STATED PROVISIONALLY BY THE ENGINEER
D50: PSA 8.5
E51: Engineer
C53: 2.2.1 | E53: Sum provisionally allowed for compaction tests | F53: No | G53: 30 | H53: 0 | I53: =G53*H53 -> 0
C55: 2.2.2 | E55: Cellphone allowance for the Employers Agent Representative for the duration of the contract (R500 pm) | F55: Prov Sum | G55: 10 | H55: 0 | I55: =#REF!*H55 -> #REF!
C57: 2.2.3 | E57: Overheads, charges and profit on 2.2.2 above | F57: % | G57: 5000 | H57: 0.1 | I57: =#REF!*H57 -> #REF!
C59: 2.2.4 | E59: Transportation for the Employers Agent Representative for the duration of the contract (R10000 pm) | F59: Prov Sum | G59: 0 | H59: 0 | I59: =#REF!*H59 -> #REF!
C61: TOTAL CARRIED FORWARD
C67: SECTION 2: DAYWORKS, PROVISIONAL SUMS AND PRIME COST ITEMS
C68: Item No | D68: Payment Refers | E68: Description | F68: UNIT | G68: QUANTITY | H68: RATE | I68: =I6 -> AMOUNT
C70: BROUGHT FORWARD
C73: 2.2.5 | E73: Overheads, charges and profit on 2.2.4 | F73: % | G73: 0 | H73: 0.1 | I73: =#REF!*H73 -> #REF!
C75: 2.2.6 | D75: PSA 8.5 | E75: Accommodation for the Employers Agent Representative for the duration of the contract (R8,000 pm) | F75: Prov Sum | G75: 0 | H75: 0 | I75: =#REF!*H75 -> #REF!
C77: 2.2.7 | E77: Overheads, charges and profit on 2.2.6 | F77: % | G77: 0 | H77: 0.1 | I77: =#REF!*H77 -> #REF!
C79: 2.2.8 | E79: Equipment for the Employers Agent Representative and their assistant for the duration of the contract | F79: Prov Sum | G79: 1 | H79: 0 | I79: =#REF!*H79 -> #REF!
...

Sheet 3 - Site Clearance
C3: ='1 - P & G'!C3 -> BID NO. …............................... | D3: MLM/2022-23/INFRA/001
C4: ='1 - P & G'!C4 -> UPGRADE OF MPHUTHUMI MAFUMBATHA STADIUM
C5: SECTION 3: SITE CLEARANCE
C6: BILL OF QUANTITIES
C7: Item No | D7: Payment Refers | E7: Description | F7: UNIT | G7: QUANTITY | H7: RATE | I7: AMOUNT
C10: 3 | E10: SECTION 3: SITE CLEARANCE
C12: 3.1 | D12: SANS 1200C | E12: SITE CLEARANCE:
D13: 1200C
D14: 8.2.1 PSC 8.2.1 | E14: (a) Clear and grub:
C16: 3.1.1 | E16: (i) Clear vegetation and grub | F16: Ha | G16: 0.427 | I16: =G16*H16 -> 0
D18: 8.2.2 | E18: (b) Remove and grub large trees and tree stumps of girth
C20: 3.1.2 | E20: (i) Over 1m and up to and including 2m | F20: No | G20: 1 | I20: =G20*H20 -> 0
C22: 3.1.3 | E22: (ii) Over 2m and up to and including 3m | F22: No | G22: 1 | I22: =G22*H22 -> 0
C24: 3.1.4 | E24: (iii) Over 3m | F24: No | G24: 1 | I24: =G24*H24 -> 0
E26: (c) Removal/Demolishing existing infrastructure where ordered by the Engineer:
C28: 4.1.5 | E28: Stock fences | F28: m | G28: 0 | H28: 100 | I28: =G28*H28 -> 0
C30: 3.1.5 | E30: Provisional amount for new materials and labour not covered | F30: Prov Sum | G30: 1 | H30: 25000 | I30: =G30*H30 -> 25000
C32: 3.1.6 | E32: Remove and dispose of existing kerbing and concrete channelling | F32: m | G32: 120
C34: 3.1.7 | E34: Remove and dispose of asphalt surfacing | F34: m² | G34: 50
C36: 3.1.8 | E36: Remove and dispose of grassing | F36: m² | G36: 50
C38: 3.1.9 | E38: Remove and dispose Shrubs | F38: m² | G38: 20
C57: TOTAL CARRIED FORWARD

Sheet 4 - Supply and Install Clear-Vu
C3: ='1 - P & G'!C3 -> BID NO. …............................... | D3: WMLM/2022-23/INFRA/001
C4: ='1 - P & G'!C4 -> UPGRADE OF MPHUTHUMI MAFUMBATHA STADIUM
C5: SECTION 4: SUPPLY AND INSTALL CLEAR-VU HIGH SECURITY FENCE
C6: Item No | D6: Payment Refers | E6: Description | F6: UNIT | G6: QUANTITY | H6: RATE | I6: AMOUNT
C9: 4 | E9: SECTION 4: SUPPLY AND INSTALL CLEAR-VU HIGH SECURITY FENCE
C11: 4.1 | E11: SITE CLEARANCE
C13: 4.1.1 | E13: Removal and stockpiling of topsoil, 100mm | F13: m³ | G13: 4.5 | I13: =H13*G13 -> 0
C15: 4.2 | E15: EXCAVATION
C17: 4.2.1 | E17: Excavation in all materials to a maximum depth of 0.5m, backfill, compact and dispose of excess material within 0.5 km (Prov.) | F17: m³ | G17: 15 | I17: =H17*G17 -> 0
C19: 4.2.2 | E19: 20Mpa Concrete for post supports | F19: m³ | G19: 6
C22: 4.3 | E22: FENCING AND GATES
C24: 4.3.1 | E24: Supply and Install Clear-Vu high fence 76x12.7mm Aperture, 1,8m high with galvanised anti-climb and anti-cut with posts, bolts, clamps and nuts | F24: m | G24: 450
C27: 4.3.1.1 | E27: Double leaf sliding gate size 2000x1,8m high | F27: No | G27: 3 | I27: =H27*G27 -> 0
C43: TOTAL CARRIED FORWARD | I43: =SUM(I9:I42) -> 0

Sheet 5 - Supply and Install Oval
C3: ='1 - P & G'!C3 -> BID NO. …............................... | D3: MLM/2022-23/INFRA/001
C4: ='1 - P & G'!C4 -> UPGRADE OF MPHUTHUMI MAFUMBATHA STADIUM
C5: SECTION 5: SUPPLY AND INSTALL SLIDE PRO 60
C6: Item No | D6: Payment Refers | E6: Description | F6: UNIT | G6: QUANTITY | H6: RATE | I6: AMOUNT
C9: 5 | E9: SECTION 5: SUPPLY AND INSTALL SLIDE PRO 60
D10: Spec PC
C11: 5.1 | E11: SITE ESTABLISHMENT
C13: 5.1.1 | E13: Establishment for supply and install Greenfields synthetic turf with yarn weight of 1.541g/m2 and comprises of a diamond shaped 365micro yarn this includes glue, glue tape as well as sand and rubber infill to be undertaken by Specialist | F13: Sum | G13: 1 | H13: 2000000 | I13: =G13*H13 -> 2000000
C15: 5.1.2 | E15: Contractors mark-up on Item 5.1.1 | F15: % | G15: =I13 -> 2000000 | H15: __%
C17: 5.2 | E17: SUNDRIES
C19: 5.2.1 | E19: Supply and install corner flags | F19: no | G19: 4
C21: 5.2.2 | E21: Supply and install goal posts with net | F21: no | G21: 2
C23: 5.2.3 | E23: Supply and install moveable substitute bench to accommodate 8no football personel | F23: no | G23: 2
C26: TOTAL CARRIED FORWARD

Sheet Summary
C2: ='5 - Supply and Install Oval'!C3 -> BID NO. …............................... | D2: WMLM/2022-23/INFRA/001
C3: ='5 - Supply and Install Oval'!C4 -> UPGRADE OF MPHUTHUMI MAFUMBATHA STADIUM
C7: SUMMARY OF SECTIONS
C9: SECTION | D9: DESCRIPTION | E9: AMOUNT
C11: SECTION 1 | D11: PRELIMINARY & GENERAL | E11: ='1 - P & G'!I235 -> 0
C13: SECTION 2 | D13: DAYWORKS, PROVISIONAL SUMS AND PRIME COST ITEMS | E13: ='2 - Dayworks'!I119 -> 0
C15: SECTION 3 | D15: SITE CLEARANCE | E15: ='3 - Site Clearance'!I57 -> 0
C17: SECTION 4 | D17: SUPPLY AND INSTALL CLEAR-VU HIGH SECURITY FENCE | E17: ='4 - Supply and Install Clear-Vu'!I43 -> 0
C19: SECTION 5 | D19: SUPPLY AND INSTALL SLIDE PRO 60 | E19: ='5 - Supply and Install Oval'!I26 -> 0
C21: SUB TOTAL | E21: =E11+E13+E15+E17+E19 -> 0
D23: CONTINGENCY @ 10% | E23: =E21*0.1 -> 0
C25: SUB TOTAL | E25: =SUM(E21:E24) -> 0
C27: VAT @ 15% | E27: =E25*0.15 -> 0
C29: TOTAL | E29: =SUM(E25:E28) -> 0
