Workbook
Name \0: #REF!
Name \d: #REF!
Name \i: #REF!
Name \m: #REF!
Name \p: #REF!
Name \q: #REF!
Name ___\0: #REF!
Name ___\d: #REF!
Name ___\i: #REF!
Name ___\m: #REF!
Name ___\p: #REF!
Name ___\q: #REF!
Name ___SEC1200: #REF!
Name __SEC1200: #REF!
Name __SEC1500: #REF!
Name __SEC2100: #REF!
Name __SEC2200: #REF!
Name __SEC3400: #REF!
Name __SEC5900: #REF!
Name __SEC8100: #REF!
Name _CEL1: #REF!
Name _CEL2: #REF!
Name _CEL3: #REF!
Name _Database_2: #REF!
Name _Regression_Int: 1
Name _sec12: #REF!
Name _SEC1200: #REF!
Name _SEC1500: #REF!
Name _SEC2100: '[2]SCHEDULE A'!#REF!
Name _SEC2200: #REF!
Name _SEC3400: #REF!
Name _SEC5900: #REF!
Name _SEC8100: #REF!
Name A: #REF!
Name AA: #REF!
Name AFRIKAANS: #REF!
Name AII: #REF!
Name AMOUNT: #REF!
Name ARE: #REF!
Name Area: #REF!
Name B: #REF!
Name banzieast: #REF!
Name banzieasthh: #REF!
Name Bedding: #REF!
Name BEDRAE: #REF!
Name BEDRAG: #REF!
Name BEGIN: #REF!
Name BEGIN_BL: #REF!
Name BESKW: #REF!
Name bill: #REF!
Name BLAAI: #REF!
Name BLAD1: #REF!
Name BLAD2: #REF!
Name C_: #REF!
Name carol: #REF!
Name Catherine_Schutte: #REF!
Name cc: #REF!
Name CEL: #REF!
Name CHECK: #REF!
Name CONC: #REF!

Sheet BoQ T3 (6)
A1: Client | B1: =#REF! -> #REF! | F1: Pay Cert No. : | G1: =#REF! -> #REF!
A2: Description | B2: =#REF! -> #REF!
A3: Contract No. | B3: =#REF! -> #REF!
A5: Item No | C5: Description | D5: Unit | E5: Qty | F5: Rate | G5: Amount
C6: SECTION 1 :PRELIMINARY & GENERAL
A8: 1.1 | B8: SANS 1200A | C8: FIXED CHARGES
A10: 1.1.1 | B10: PSA 8.3.1 | C10: Contractual requirements | D10: Sum | E10: 1
A12: 1.2 | B12: 8.3.2.1 | C12: Facilities for Engineer
A14: 1.2.1 | B14: 8.8.5 | C14: Cost of Survey in Terms of the Land Survey Act | D14: Sum | E14: 0
A16: 1.2.2 | B16: 8.4.2.1 | C16: Name Boards | D16: No. | E16: 2
A18: 1.2.3 | B18: PSAB 5.5 | C18: Provision of survey assistant | D18: Sum | E18: 0
A20: 1.2.4 | B20: PSAB 5,6 | C20: Provision of survey equipment | D20: Sum | E20: 0
A22: 1.3 | B22: 8.3.2.2 | C22: Facilities for Contractor
A24: 1.3.1 | C24: Offices, storage sheds, fencing, workshops, laboratories, etc. | D24: Sum | E24: 1
A26: 1.3.2 | C26: Ablution and latrine facilities (Mobile ablutions for the duration of contract) | D26: Sum | E26: 1
A28: 1.3.3 | C28: Water supplies, power and communications, dealing with water, and access | D28: Sum | E28: 1
A30: 1.3.6 | B30: 8.3.3 | C30: Other fixed charge obligations | D30: Sum | E30: 1
A32: 1.3.7 | B32: 8.3.4 | C32: Remove all site establishment on completion | D32: Sum | E32: 1
C34: Section 1 carried forward
C35: Section 1 brought forward
A37: 1.3.8 | C37: General Safety (fixed charges) | D37: Sum | E37: 1
C39: The sum shall cover all initial costs necessary in complying generally with the Occupational Health and Safety Act (1993, as amended), the Construction Regulations (2003) and the Particular Safety Specification
A41: 1.3.9 | C41: Preparation of Health and Safety Plan | D41: Sum | E41: 1
C42: The sum shall cover all activities necessary in preparing a Health and Safety Plan, including hazards and potential hard identification, development of a Risk Assessment, Standard Working Procedures, and Method Statements
C44: Provision of all Personal Protective Equipment (PPE) inclusing but not limited to Reflective vests, Hardhats, Protective foot wear, Earplugs, dut masts, gloves and Ear defenders SABS approved. | D44: Sum | E44: 1
C46: Induction training | D46: Sum | E46: 1
C48: Provision of First Aid Boxes to approved standards | D48: No. | E48: 1
C50: Transport and Set Up at borehole site of all equipment and maintain drill rigs for the complete construction of the borehole with all accessories, associated arrangement, auxiliary works, personnel as well as withdrawal after completion including setting up and moving after unsuccessful drilling. | D50: Item | E50: 1
C52: Site Preparation of the drill sites and clearing of all drill sites of all trees, bush, undergrowth and any other vegetation obstructing the execution of all contractual works. | D52: Item | E52: 1
C54: Preparation of working drawings and “As installed/ as built” record drawings. | D54: Sum | E54: 1
C56: Total Section 1 Carried to Summary

Sheet BoQ T3 (7)
A1: Client | B1: =#REF! -> #REF! | F1: Pay Cert No. : | G1: =#REF! -> #REF!
A2: Description | B2: =#REF! -> #REF!
A3: Contract No. | B3: =#REF! -> #REF!
A5: Item No | C5: Description | D5: Unit | E5: Qty | F5: Rate | G5: Amount
C6: SECTION 2: PRELIMINARY & GENERAL
B8: SANS 1200A | C8: TIME RELATED
A9: 2.1 | C9: Time-related Preliminary and General Charges
A10: 2.1.1 | B10: PSA 8.4.1 | C10: Provision for total de-establishment and re-establishment within 4 months at the instruction of the Engineer (Provisional) | D10: Sum | E10: 1
A12: 2.2 | B12: 8.4.2 | C12: Operate and maintain facilities on Site for the duration of Construction except where otherwise stated.
B14: 8.4.2.1 | C14: Facilities for Engineer for duration of contract (SANS1200AB)
A16: 2.2.2 | B16: PSAB 5.5 | C16: Provision of survey assistants | D16: Months | E16: 4
A18: 2.2.1 | B18: PSAB 5.6 | C18: Provision of survey equipment | D18: Months | E18: 4
A20: 2.3 | B20: 8.4.2.2 | C20: Facilities for Contractor for the duration of the Contract
A22: 2.3.1 | C22: Office, storage sheds, fencing, workshops, laboratories, etc. | D22: Months | E22: 4
A24: 2.3.2 | C24: Ablution and latrine facilities | D24: Months | E24: 4
A26: 2.3.3 | C26: Water supplies, power and communications, dealing with water and access | D26: Months | E26: 4
A28: 2.3.4 | C28: Tools and equipment | D28: Months | E28: 4
A30: 2.3.5 | C30: Construction plant | D30: Months | E30: 4
A32: 2.3.6 | B32: 8.4.3 | C32: Supervision for duration of construction | D32: Months | E32: 4
A34: 2.3.7 | B34: 8.4.4 | C34: Company and head office overhead costs | D34: Months | E34: 4
A36: 2.3.8 | B36: 8.4.5 | C36: Other time charge related obligations | D36: Months | E36: 4
C38: Section 2 carried forward | G38: =SUM(G10:G36) -> 0
C39: Section 2 brought forward | G39: =G38 -> 0
C41: TEMPORARY WORKS
A43: 2.3.9 | B43: 8.8.1 | C43: Access to works including all temporary roads, excavations and ramps, etc. | D43: Prov Sum | E43: 1
A45: 2.3.10 | B45: 8.8.2 | C45: Dealing with water on site | D45: Prov Sum | E45: 1
A46: 2.3.11 | B46: 8.4.5 | C46: General Safety (time charges) | D46: Months | E46: 4
C47: The sum shall cover all activities necessary in continuing to comply generally with the Occupational Health and Safety Act (1993, as amended), the Construction Regulations (2003) and the Particular Safety Specification as the Work proceeds
A49: 2.3.12 | C49: Training (time related) | D49: Months | E49: 4
C50: The sum shall cover all activities necessary in complying with the requirements of the Health and Safety Specification in terms of Training as the Work proceeds
A52: 2.3.13 | C52: Safety Monitoring and Review (time related) | D52: Month
C53: The sum shall cover all activities necessary in complying with the requirements of the Health and Safety Specification in terms of Monitoring and Review as the Work proceeds
C55: TRAINING
A57: 2,3,14 | C57: Provide training for labour | D57: Prov Sum | E57: 1
C59: Sub-Contractor Support | D59: Prov Sum | E59: 1
C61: Environmetal Control Officer | D61: Prov Sum | E61: 1
C63: This sum shall cover the full time employment of qualified and experienced Environmental Control Officer, who shal be appointed by and report to the Engineer
A65: 2,3,16 | C65: Contractors mark-up on Item 2.3.15 | D65: % | E65: 0
C67: Section 2 carried forward | G67: =SUM(G39:G66) -> 0
C68: Section 2 brought forward | G68: =G67 -> 0
A70: 2.4 | B70: PSA 8.5 | C70: SUMS STATED PROVISIONALLY BY ENGINEER
C71: (a) Additional Surveys
A72: 2.4.1 | C72: (i) Provisional Sum for additional detail survey | D72: Prov Sum | E72: 1
A74: 2.4.2 | C74: (ii) Charges and profit on (c) (i) | D74: % | E74: 0.1
C76: (b) Additional tests
A77: 2.4.3 | C77: (i) Provisional sum for Ground Water Hydrological Investigations to be conducted by Engineer's nominated sub consultant | D77: Prov Sum | E77: 1
A78: 2.4.4 | C78: (ii) Percentage charges and profit on (b) (i) | D78: % | E78: 0.1
A80: 2.4.5 | C80: (g) Community Liaison
A82: 2.4.6 | C82: (iii) Provisional Sum for paying Community Liaison Officer on a monthly basis for duration of the Contract | D82: Prov Sum | E82: 1
A83: 2.4.7 | C83: (iv) Percentage charges and profit on (f) (iii) | D83: % | E83: 0.1
A85: 2.4.8 | C85: Provisional Sum for Water Treatment equipment where water qaulity is found to be below SANS 241-1 Standards (As it is the case with some Boreholes where colouring has been noted). The amount will cover the cost of Package treatment with necessary processeses to achieve water quality standards. | D85: Prov Sum | E85: 1
A87: 2.4.9 | C87: Management and Support costs and profit in respect of sub-item | D87: % | E87: 0
A89: 2.4.10 | C89: Provisional Sum for the provision of Personal Protective Equipment on instruction of the Engineer | D89: Prov Sum | E89: 1 | F89: 30000 | G89: 30000
A91: 2.4.11 | C91: Management and Support costs and profit in respect of sub-item | D91: % | E91: 0.1
C93: Section 2 carried forward
C94: Section 2 brought forward
A96: 2.5 | C96: DAYWORKS
C98: Allow for dayworks for sundry items not covered by measured items: The dayworks items shall be approved by the Engineer before commencement
A100: 2.5.1 | C100: LABOUR
A102: 2.5.1.1 | C102: Site Agent | D102: hrs | E102: 30
A103: 2.5.1.2 | C103: Gang Supervisor | D103: hrs | E103: 30
A105: 2.5.1.3 | C105: Unskilled Labourers | D105: hrs | E105: 30
A106: 2.5.1.4 | C106: Semi Skilled Labourers | D106: hrs | E106: 30
A108: 2.5.1.5 | C108: Construction Hand and Operator | D108: hrs | E108: 30
A110: 2.5.1.6 | C110: Clerk | D110: hrs | E110: 30
A112: 2.5.1.7 | C112: Artisans | D112: hrs | E112: 30
A114: 2.5.1.8 | C114: Foreman | D114: hrs | E114: 30
A116: 2.5.2 | C116: MATERIALS
A118: 2.5.2.1 | C118: Provisional sum for cost of material | D118: Sum | E118: 1
A120: 2.5.2.2 | C120: Contractors mark-up on material | D120: % | E120: =G118 -> 0
A122: 2.5.3 | C122: PLANT
A124: 2.5.3.1 | C124: T L B | D124: hrs | E124: 30
A126: 2.5.3.2 | C126: Light delivery vehicles (1t or equivalent) | D126: km | E126: 50
A128: 2.5.3.3 | C128: 10 Ton Truck with Crane | D128: km | E128: 50
A130: 2.5.3.4 | C130: Generator Set | D130: hrs | E130: 30
A132: 2.5.3.5 | C132: Plate Compactor | D132: hrs | E132: 30
C134: Total Section 2 Carried to Summary

Sheet BoQ T3 (8)
A1: Client | B1: =#REF! -> #REF! | F1: Pay Cert No. : | G1: =#REF! -> #REF!
A2: Description | B2: =#REF! -> #REF!
A3: Contract No. | B3: =#REF! -> #REF!
A5: Item No | C5: Description | D5: Unit | E5: Qty | F5: Rate | G5: Amount
C6: SECTION 3: BOREHOLES
A8: 3.1 | B8: SANS 1200C | C8: SITE CLEARANCE
A9: 3.1.1 | B9: PSC 8,2,1 | C9: Clear site and remove top to a depth of 150mm | D9: m² | E9: 315
A11: 3.2 | C11: HYDROGEOLOGICAL SERVICES, DRILLING, PUMP TESTING & PRELIMINARY EQUIPPING
A13: 3.2.1 | C13: (a) Drill 40 - 150m deep, case new borehole
C14: (Drilling diameters will be 152mm & 165mm).
A16: 3.2.2 | C16: (b) Drilling 152mm from 0 - 60m | D16: No | E16: 6
A18: 3.2.3 | C18: (c)Drilling 165mm from 0 - 150m | D18: No | E18: 6
C19: Any variation must be acceptable to the Employer).
A21: 3.2.4 | C21: Pumping Yield Tests | D21: Prov. Sum | E21: 1
A23: 3.2.5 | C23: Water Quality Test | D23: Prov. Sum | E23: 1
A25: 3.3 | C25: BOREHOLE EQUIPPNG
A27: 3.3.1 | C27: Supply and install windmill to supplier specification. Turbex Poldaw 3.5 or similar approved complete with transmission, wheel, tail,12m tower and pump.The windmill must provide for a head of no less than 60m with a flow of no less than 2l/s. | D27: No | E27: 6
A28: 3.3.2 | C28: Extra over item 3.3.1 for borehole preparation (functional drainage provisions) | D28: %
A30: 3.4 | C30: Power supply | D30: Prov. Sum | E30: 3
A32: 3.4.1 | C32: a) Hand pumps | D32: Prov Sum | E32: 1
C34: Section 3 carried forward

Sheet BoQ T3 (9)
A1: Client | B1: =#REF! -> #REF! | F1: Pay Cert No. : | G1: =#REF! -> #REF!
A2: Description | B2: =#REF! -> #REF!
A3: Contract No. | B3: =#REF! -> #REF!
A5: Item No | C5: Description | D5: Unit | E5: Qty | F5: Rate | G5: Amount
C6: SECTION 4: STORAGE
A8: 4.1 | B8: SANS 1200C | C8: SITE CLEARANCE
A9: 4.1.1 | B9: PSC 8,2,1 | C9: Clear site and remove top to a depth of 150mm | D9: m² | E9: 315
A11: 4.2 | B11: SABS 1200D | C11: EARTHWORKS
A13: 4.2.1 | B13: 8.3.1 (b) | C13: Excavate in all materials for tank footings and dispose as ordered by Engineer on site | D13: m³ | E13: 35
A14: 4.2.2 | B14: 8.3.1 (c) | C14: Extra over item 3,2,1 for:
C15: 1)Hard Rock Excavation | D15: m³ | E15: 8
A17: 4.3 | B17: SANS 1200GA | C17: CONCRETE (Small Works)
B18: 8.4.1 | C18: Class 25 Mpa/19mm concrete to the following elements:
A19: 4.3.1 | C19: a) Tank Footings | D19: m³ | E19: 95
A21: 4.3.2 | B21: 8.3.1 | C21: High tensile reinforcement including cutting and bending to various codes | D21: t | E21: 8
A23: 4.4 | B23: SANS 1200H | C23: TANKS AND TANK STAND
C24: Supply and errect galvinised mild steel tank stands or similar approveds with corrosion resistance qualities for the following farms:
A26: 4.4.1 | C26: Supply, delivery and erection and assembly of a 500-kl elevated Prestank including stand and associated pipework, 3 x 2 x 4 Module Steel Panel Tank 5m high. Incl Float Control Valve and 12m high stand | D26: No | E26: 1
C28: Section 4 carried forward
C29: Section 4 brought forward
A31: 4.4.17 | C31: Allow for relocation of 5 or 10kl elevated jojo tanks. Cost shall cover all work required disassembling and reaassemble of the tank stands at difrent locations | D31: No | E31: 1
A33: 4.5 | C33: STORAGE TANKS
C35: Supply and Install Tanks complete with inlet and outlet pipes (short run)
A37: 4.5.3 | C37: c) 10000l Jojo Tanks | D37: No | E37: 18
C39: Total Section 4 Carried to Summary

Sheet BoQ T3 (10)
A1: Client | B1: =#REF! -> #REF! | F1: Pay Cert No. : | G1: =#REF! -> #REF!
A2: Description | B2: =#REF! -> #REF!
A3: Contract No. | B3: =#REF! -> #REF!
A5: Item No | C5: Description | D5: Unit | E5: Qty | F5: Rate | G5: Amount
C6: SECTION 5: RETICULATIONS
A8: 5.1 | B8: SANS 1200C | C8: SITE CLEARANCE
B9: 8.2.1 | C9: Clear site and remove top soil to a depth of 150mm on 600mm width strips. Use local labour for hand excavation unless there is none available
A10: 5.1.4 | C10: a) Various Other Sites with standpipes a maximum 25m from storage tanks | D10: m | E10: 19000
A12: 5.2 | B12: SABS 1200DB | C12: EARTHWORKS (PIPE TRENCHES)
B14: 8.3.1 (b) | C14: Excavate in all materials for pipe trenches and use for backfill as directed by Engineer on site for depth
A15: 5.2.1 | C15: a) 0-1m | D15: m³ | E15: 10
A16: 5.2.4 | B16: 8.3.1 (c) | C16: Extra over item 5,2,1 for:
C17: 1)Hard Rock Excavation | D17: m³ | E17: 2
A19: 5.3 | B19: SANS 1200L | C19: MEDUIM PRESSURE PIPES
B20: 8.2.1 | C20: Supply, bed, lay, disinfect and test HDPE Type PE 100 Class 12 pressure pipe to SANS/ISO 4427
A21: 5.3.1 | C21: a) 50mm Diameter pipes | D21: m | E21: 19000
A23: 5.3.4 | B23: 8.2.2 | C23: Extra over items 5.3.1 to 5.3.3 for pipe specials complete with couplings
A25: 5.3.4.1 | C25: Equal tees (cast iron) | D25: No | E25: 74
A26: 5.3.4.2 | C26: 50mm X 1inch Saddle | D26: No | E26: 370
A27: 5.3.4.3 | C27: 50mm X 20mm Reducer | D27: No | E27: 370
A28: 5.3.4.4 | C28: 90 degree bends | D28: No | E28: 10
A29: 5.3.4.5 | C29: 45 degree bends | D29: No | E29: 15
A30: 5.3.4.6 | C30: 22.5 degree bends | D30: No | E30: 50
A32: 5.3.5 | B32: PSL 8.2.16 | C32: Standpipes complete with fittings, valves and concrete drainage basin as shown in drawing VU-WRT-021-003-DET 002 | D32: No | E32: 14
A33: 5.3.6 | C33: Supply and erect pipe markers as detailed in drawing VU/WRT/021/003-DET 002 | D33: No | E33: 10
A34: 5.4 | B34: SABS 120LB | C34: BEDDING (PIPES)
A35: 5.4.1 | B35: 8.2.1 | C35: Provision of bedding from trench excavations: Selected granular material | D35: m3 | E35: 5
A36: 5.4.2 | B36: 8.2.2 | C36: Provision of bedding from commercial sources as directed by Engineer: Selected granular material | D36: m3 | E36: 2
C38: Total Section 5 Carried to Summary

Sheet Summary T4 (6)
A1: Client : | B1: uMkhanyakude District Municipality
A2: Description : | B2: Upgrade of the Water Infrastructure within the Jozini Local Municipality Ward (10 to 18)
A3: Contract No. :
A7: Section | B7: Description | C7: Amount
A10: 1 | B10: ='BoQ T3 (6)'!C6 -> SECTION 1 :PRELIMINARY & GENERAL | C10: ='BoQ T3 (7)'!G132 -> 0
A12: 2 | B12: ='BoQ T3 (7)'!C6 -> SECTION 2: PRELIMINARY & GENERAL | C12: ='BoQ T3 (7)'!G134 -> 0
A14: 3 | B14: ='BoQ T3 (8)'!C6 -> SECTION 3: BOREHOLES | C14: ='BoQ T3 (7)'!G136 -> 0
A16: 4 | B16: ='BoQ T3 (9)'!C6 -> SECTION 4: STORAGE | C16: ='BoQ T3 (7)'!G138 -> 0
A18: 5 | B18: ='BoQ T3 (10)'!C6 -> SECTION 5: RETICULATIONS | C18: ='BoQ T3 (10)'!G38 -> 0
A22: SUBTOTAL A | C22: =SUM(C10:C18) -> 0
A25: VALUE ADDED TAX
A26: Add 15% of Subtotal C ………..…….……………………..………...……..……………… | C26: =C22*0.15 -> 0
A27: (Provisional sum based on current rate of VAT)
A30: TOTAL CARRIED TO FORM C1.1, FORM OF OFFER | C30: =C22+C26 -> 0
A33: SIGNED ON BEHALF OF TENDERER: ……………………………………………..…………………………………………….
