Workbook

Sheet Sheet1
C3: 601 | E3: 602 | F3: 603 | G3: 604 | H3: 605 | I3: 606 | J3: 607 | K3: 608 | L3: 609 | M3: 610 | N3: 611 | O3: 612 | P3: 613
A4: LENGTH | B4: 144.211
A5: WIDTH | B5: 6 | C5: 8 | D5: 7.4 | E5: 6.8 | G5: 7.4 | H5: 6.2 | I5: 6.1
A6: THICKNESS | B6: 0.15 | I6: 0.03
A8: QTY | C8: =B4*C5*B6 -> 173.0532 | D8: =D5*$B$6*$B$4 -> 160.07421 | E8: =E5*$B$6*$B$4 -> 147.09522 | F8: =F5*$B$6*$B$4 -> 0 | G8: =G5*$B$6*$B$4 -> 160.07421 | H8: =H5*$B$4 -> 894.1082 | I8: =I5*$B$4*I6 -> 26.390613 | L8: =B4*2 -> 288.422
C10: 601 | E10: 602 | F10: 603 | G10: 604 | H10: 605 | I10: 606 | J10: 607 | K10: 608 | L10: 609 | M10: 610 | N10: 611 | O10: 612 | P10: 613
A11: LENGTH | B11: 3875.296
A12: WIDTH | B12: 5.5 | C12: 7.5 | D12: 6.9 | E12: 6.3 | G12: 6.9 | H12: 5.7 | I12: 5.6
A13: THICKNESS | B13: 0.15 | I13: 0.03
A15: QTY | C15: =$B$11*C12*$B$13 -> 4359.708 | D15: =$B$11*D12*$B$13 -> 4010.9314 | E15: =$B$11*E12*$B$13 -> 3662.1547 | F15: =$B$11*F12*$B$13 -> 0 | G15: =$B$11*G12*$B$13 -> 4010.9314 | H15: =$B$11*H12 -> 22089.187 | I15: =$B$11*I12*I13 -> 651.04973 | J15: =$B$11*J12*$B$13 -> 0 | K15: =$B$11*K12*$B$13 -> 0 | L15: =B11*2 -> 7750.592
A18: Total | C18: =(C8+C15)*1.15 -> 5212.6754 | D18: =(D8+D15)*1.15 -> 4796.6564 | E18: =(E8+E15)*1.05 -> 3999.7124 | F18: =F8+F15*1.15 -> 0 | G18: =(G8+G15)*1.15 -> 4796.6564 | H18: =(H8+H15)*1.15 -> 26430.79 | I18: =(I8+I15)*1.15*2.4 -> 1869.7353 | J18: =J8+J15*1.15 -> 0 | K18: =K8+K15*1.15 -> 0 | L18: =L8+L15*1.15 -> 9201.6028 | M18: =M8+M15*1.15 -> 0 | N18: =N8+N15*1.15 -> 0 | O18: =O8+O15*1.15 -> 0 | P18: =P8+P15*1.15 -> 0

Sheet Earthworks-Layerworks
C1: ROADWAY | L1: NMT - Walkway Only 1.8m
A2: Road | B2: Length | C2: (Roadway) Total Cut/Dispose m³ | D2: 300 Dump Rock Fill m³ | E2: 150 G5 Subgrade m³ | F2: 150 C4 Sub-base m³ | G2: Cement for Sub-base -Ton | H2: 150 G4 Base m³ | I2: 400 Sloping Kerb - m | J2: 150 Edge beam - m | K2: 30 Asphalt Surfacing (m2) | L2: (NMT) Total Cut/Dispose m³ | M2: 150 G5 Subgrade m³ | N2: 150 C4 Sub-Base m³ | O2: Cement for Sub-base -Ton | P2: 60 Light Grey m² | Q2: 100 Edge beam (Fig 10)- m | R2: Cut Slope Finishing m²
A6: Ntlatleng | B6: 352 | C6: =B6*(6+0.45+0.45)*0.755 -> 1833.744 | D6: =B6*(6+0.5+0.5)*0.3 -> 739.2 | E6: =B6*(6+0.3+0.3)*0.15 -> 348.48 | F6: =B6*(6+0.15+0.15)*0.15 -> 332.64 | G6: =(F6*2200*4%)/1000 -> 29.27232 | H6: =B6*(6+0.15+0.15)*0.15 -> 332.64 | I6: =B6 -> 352 | J6: =I6 -> 352 | K6: =B6*6 -> 2112 | L6: =B6*(1.8+0.15+0.15)*(0.06+0.15+0.15) -> 266.112 | M6: =B6*(2.1)*(0.15) -> 110.88 | N6: =B6*(1.95)*(0.15) -> 102.96 | O6: =(N6*2200*4%)/1000 -> 9.06048 | P6: =B6*(1.8) -> 633.6 | Q6: =B6*1 -> 352 | R6: =B6*(2+2) -> 1408
A9: Mpuru | B9: 81 | C9: =B9*(6+0.45+0.45)*0.755 -> 421.9695 | D9: =B9*(6+0.5+0.5)*0.3 -> 170.1 | E9: =B9*(6+0.3+0.3)*0.15 -> 80.19 | F9: =B9*(6+0.15+0.15)*0.15 -> 76.545 | G9: =(F9*2200*4%)/1000 -> 6.73596 | H9: =B9*(6+0.15+0.15)*0.15 -> 76.545 | I9: =B9 -> 81 | J9: =I9 -> 81 | K9: =B9*6 -> 486 | L9: =B9*(2.1)*(0.06+0.15+0.15) -> 61.236 | M9: =B9*(2.1)*(0.15) -> 25.515 | N9: =B9*(1.95)*(0.15) -> 23.6925 | O9: =(N9*2200*4%)/1000 -> 2.08494 | P9: =B9*(1.8) -> 145.8 | Q9: =B9*1 -> 81 | R9: =B9*(2+2) -> 324
A10: Sepeng | B10: 371 | C10: =B10*(6+0.45+0.45)*0.755 -> 1932.7245 | D10: =B10*(6+0.5+0.5)*0.3 -> 779.1 | E10: =B10*(6+0.3+0.3)*0.15 -> 367.29 | F10: =B10*(6+0.15+0.15)*0.15 -> 350.595 | G10: =(F10*2200*4%)/1000 -> 30.85236 | H10: =B10*(6+0.15+0.15)*0.15 -> 350.595 | I10: =B10 -> 371 | J10: =I10 -> 371 | K10: =B10*6 -> 2226 | L10: =B10*(2.1)*(0.06+0.15+0.15) -> 280.476 | M10: =B10*(2.1)*(0.15) -> 116.865 | N10: =B10*(1.95)*(0.15) -> 108.5175 | O10: =(N10*2200*4%)/1000 -> 9.54954 | P10: =B10*(1.8) -> 667.8 | Q10: =B10*1 -> 371 | R10: =B10*(2+2) -> 1484
A12: Serata | B12: 391 | C12: =B12*(6+0.45+0.45)*0.755 -> 2036.9145 | D12: =B12*(6+0.5+0.5)*0.3 -> 821.1 | E12: =B12*(6+0.3+0.3)*0.15 -> 387.09 | F12: =B12*(6+0.15+0.15)*0.15 -> 369.495 | G12: =(F12*2200*4%)/1000 -> 32.51556 | H12: =B12*(6+0.15+0.15)*0.15 -> 369.495 | I12: =B12 -> 391 | J12: =I12 -> 391 | K12: =B12*6 -> 2346 | L12: =B12*(2.1)*(0.06+0.15+0.15) -> 295.596 | M12: =B12*(2.1)*(0.15) -> 123.165 | N12: =B12*(1.95)*(0.15) -> 114.3675 | O12: =(N12*2200*4%)/1000 -> 10.06434 | P12: =B12*(1.8) -> 703.8 | Q12: =B12*1 -> 391 | R12: =B12*(2+2) -> 1564
A13: Tabane | B13: 370 | C13: =B13*(6+0.45+0.45)*0.755 -> 1927.515 | D13: =B13*(6+0.5+0.5)*0.3 -> 777 | E13: =B13*(6+0.3+0.3)*0.15 -> 366.3 | F13: =B13*(6+0.15+0.15)*0.15 -> 349.65 | G13: =(F13*2200*4%)/1000 -> 30.7692 | H13: =B13*(6+0.15+0.15)*0.15 -> 349.65 | I13: =B13 -> 370 | J13: =I13 -> 370 | K13: =B13*6 -> 2220 | L13: =B13*(2.1)*(0.06+0.15+0.15) -> 279.72 | M13: =B13*(2.1)*(0.15) -> 116.55 | N13: =B13*(1.95)*(0.15) -> 108.225 | O13: =(N13*2200*4%)/1000 -> 9.5238 | P13: =B13*(1.8) -> 666 | Q13: =B13*1 -> 370 | R13: =B13*(2+2) -> 1480
A15: Maubane | B15: 666 | C15: =B15*(6+0.45+0.45)*0.755 -> 3469.527 | D15: =B15*(6+0.5+0.5)*0.3 -> 1398.6 | E15: =B15*(6+0.3+0.3)*0.15 -> 659.34 | F15: =B15*(6+0.15+0.15)*0.15 -> 629.37 | G15: =(F15*2200*4%)/1000 -> 55.38456 | H15: =B15*(6+0.15+0.15)*0.15 -> 629.37 | I15: =B15 -> 666 | J15: =I15 -> 666 | K15: =B15*6 -> 3996 | L15: =B15*(2.1)*(0.06+0.15+0.15) -> 503.496 | M15: =B15*(2.1)*(0.15) -> 209.79 | N15: =B15*(1.95)*(0.15) -> 194.805 | O15: =(N15*2200*4%)/1000 -> 17.14284 | P15: =B15*(1.8) -> 1198.8 | Q15: =B15*1 -> 666 | R15: =B15*(2+2) -> 2664
A16: Tloboro | B16: 307 | C16: =B16*(6+0.45+0.45)*0.755 -> 1599.3165 | D16: =B16*(6+0.5+0.5)*0.3 -> 644.7 | E16: =B16*(6+0.3+0.3)*0.15 -> 303.93 | F16: =B16*(6+0.15+0.15)*0.15 -> 290.115 | G16: =(F16*2200*4%)/1000 -> 25.53012 | H16: =B16*(6+0.15+0.15)*0.15 -> 290.115 | I16: =B16 -> 307 | J16: =I16 -> 307 | K16: =B16*6 -> 1842 | L16: =B16*(2.1)*(0.06+0.15+0.15) -> 232.092 | M16: =B16*(2.1)*(0.15) -> 96.705 | N16: =B16*(1.95)*(0.15) -> 89.7975 | O16: =(N16*2200*4%)/1000 -> 7.90218 | P16: =B16*(1.8) -> 552.6 | Q16: =B16*1 -> 307 | R16: =B16*(2+2) -> 1228
A17: Makoto | B17: 820 | C17: =B17*(6+0.45+0.45)*0.755 -> 4271.79 | D17: =B17*(6+0.5+0.5)*0.3 -> 1722 | E17: =B17*(6+0.3+0.3)*0.15 -> 811.8 | F17: =B17*(6+0.15+0.15)*0.15 -> 774.9 | G17: =(F17*2200*4%)/1000 -> 68.1912 | H17: =B17*(6+0.15+0.15)*0.15 -> 774.9 | I17: =B17 -> 820 | J17: =I17 -> 820 | K17: =B17*6 -> 4920 | L17: =B17*(2.1)*(0.06+0.15+0.15) -> 619.92 | M17: =B17*(2.1)*(0.15) -> 258.3 | N17: =B17*(1.95)*(0.15) -> 239.85 | O17: =(N17*2200*4%)/1000 -> 21.1068 | P17: =B17*(1.8) -> 1476 | Q17: =B17*1 -> 820 | R17: =B17*(2+2) -> 3280
A18: Moepi | B18: 307 | C18: =B18*(6+0.45+0.45)*0.755 -> 1599.3165 | D18: =B18*(6+0.5+0.5)*0.3 -> 644.7 | E18: =B18*(6+0.3+0.3)*0.15 -> 303.93 | F18: =B18*(6+0.15+0.15)*0.15 -> 290.115 | G18: =(F18*2200*4%)/1000 -> 25.53012 | H18: =B18*(6+0.15+0.15)*0.15 -> 290.115 | I18: =B18 -> 307 | J18: =I18 -> 307 | K18: =B18*6 -> 1842 | L18: =B18*(2.1)*(0.06+0.15+0.15) -> 232.092 | M18: =B18*(2.1)*(0.15) -> 96.705 | N18: =B18*(1.95)*(0.15) -> 89.7975 | O18: =(N18*2200*4%)/1000 -> 7.90218 | P18: =B18*(1.8) -> 552.6 | Q18: =B18*1 -> 307 | R18: =B18*(2+2) -> 1228
A19: Lebelo | B19: 306 | C19: =B19*(6+0.45+0.45)*0.755 -> 1594.107 | D19: =B19*(6+0.5+0.5)*0.3 -> 642.6 | E19: =B19*(6+0.3+0.3)*0.15 -> 302.94 | F19: =B19*(6+0.15+0.15)*0.15 -> 289.17 | G19: =(F19*2200*4%)/1000 -> 25.44696 | H19: =B19*(6+0.15+0.15)*0.15 -> 289.17 | I19: =B19 -> 306 | J19: =I19 -> 306 | K19: =B19*6 -> 1836 | L19: =B19*(2.1)*(0.06+0.15+0.15) -> 231.336 | M19: =B19*(2.1)*(0.15) -> 96.39 | N19: =B19*(1.95)*(0.15) -> 89.505 | O19: =(N19*2200*4%)/1000 -> 7.87644 | P19: =B19*(1.8) -> 550.8 | Q19: =B19*1 -> 306 | R19: =B19*(2+2) -> 1224
A27: Total | B27: =SUM(B3:B26) -> 3971 | C27: =SUM(C3:C26)*1.1 -> 22755.617 | D27: =SUM(D3:D26)*1.1 -> 9173.01 | E27: =SUM(E3:E26)*1.1 -> 4324.419 | F27: =SUM(F3:F26)*1.1 -> 4127.8545 | G27: =SUM(G3:G26)*1.1 -> 363.2512 | H27: =SUM(H3:H26)*1.1 -> 4127.8545 | I27: =SUM(I3:I26)*1.1 -> 4368.1 | J27: =SUM(J3:J26)*1.1 -> 4368.1 | ... R27: =SUM(R3:R26)*1.1 -> 17472.4

Sheet Kerbs
A1: Kerb | B1: Description | C1: R Range 0-4 | D1: R Range 4-20 | E1: R Range > 20
A2: Figure 8c | B2: Total Length (m) | C2: 0 | D2: 294.067 | E2: 5045.604
A3: Figure 8c | B3: Volume (m3) | C3: 0 | D3: 13.895 | E3: 238.405

Sheet Section 001
A1: ITEM | B1: DESCRIPTION | C1: UNIT | D1: QTY | E1: RATE | F1: AMOUNT
A3: SERIES 0 | B3: GENERAL
A5: Section 001 | B5: General Requirements and Charges
A7: 001.01 | B7: Preliminary and General Charges
A9: 001.01.01 | B9: Fixed charges | C9: lump sum | D9: 1 | F9: =IF(TRIM(D9)="rate only","ro",IF(OR(ISBLANK(D9),ISBLANK(E9))," ",D9*E9))
A11: 001.01.02 | B11: Time-related charges | C11: Months | D11: 18 | F11: =IF(TRIM(D11)="rate only","ro",IF(OR(ISBLANK(D11),ISBLANK(E11))," ",D11*E11))
A14: 001.02 | B14: Locating Existing Services | C14: lump sum | D14: 1 | F14: =IF(TRIM(D14)="rate only","ro",IF(OR(ISBLANK(D14),ISBLANK(E14))," ",D14*E14))
A16: 001.02.01 | B16: Protection of existing services | C16: lump sum | D16: 1 | F16: =E16*D16 -> 0
A18: 001.02.02 | B18: Relocation of existing services and re- instatement on completion of the project | C18: lump sum | D18: 1 | F18: =IF(TRIM(D18)="rate only","ro",IF(OR(ISBLANK(D18),ISBLANK(E18))," ",D18*E18))
A21: 001.04 | B21: Compliance with the Occupational
B22: Health and Safety Act and applicable
B23: regulations
A25: 001.04.01 | B25: Provision of a Health and Safety Plan | C25: lump sum | D25: 1 | F25: =IF(TRIM(D25)="rate only","ro",IF(OR(ISBLANK(D25),ISBLANK(E25))," ",D25*E25))
A27: 001.04.02 | B27: Provision of a Health and Safety File | C27: lump sum | D27: 1 | F27: =IF(TRIM(D27)="rate only","ro",IF(OR(ISBLANK(D27),ISBLANK(E27))," ",D27*E27))
A36: 001.04.03 | B36: Provision of a safety officer- | C36: months | D36: 18 | F36: =E36*D36 -> 0
A38: 001.04.03.01 | B38: Provision of safety representatives | C38: months | D38: 18 | F38: =E38*D38 -> 0
A40: 001.04.04 | F40: =IF(TRIM(D40)="rate only","ro",IF(OR(ISBLANK(D40),ISBLANK(E40))," ",D40*E40))
A43: 001.04.05 | B43: Health and safety training | C43: lump sum | D43: 1 | F43: =E43*D43 -> 0
A45: 001.04.06 | F45: =E45*D45 -> 0
A48: TOTAL CARRIED FORWARD | F48: =SUM(F2:F47) -> 0
A50: Signature of person authorised to sign the tender: | E50: Date
A53: ITEM | B53: DESCRIPTION | C53: UNIT | D53: QTY | E53: RATE | F53: AMOUNT
A54: TOTAL BROUGHT FORWARD | F54: =F48 -> 0
A56: 001.04.06 | B56: Provision of personal protective
B57: clothing and equipment | C57: lump sum | D57: 1 | F57: =E57*D57 -> 0
A59: 001.04.07 | B59: Provision of safety fences, signs and
B60: barricades | C60: lump sum | D60: 1 | F60: =E60*D60 -> 0
A68: B001.05 | B68: Environmental Management
A70: B001.04.08.02 | B70: (a) Provision of Environmental Officer-(Full Time) | C70: Monthly | D70: 18 | F70: =E70*D70 -> 0
A73: B001.05 | B73: Community liaison officer
A75: B001.05.01 | B75: Monthly Wage | C75: Monthly | D75: 18 | F75: =IF(TRIM(D75)="rate only","ro",IF(OR(ISBLANK(D75),ISBLANK(E75))," ",D75*E75))
A77: B001.05.02 | B77: Percentage on item B001.05.01 for | F77: =E77*D77 -> 0
B78: charges and profit | C78: %
F79: =E79*D79 -> 0
A82: B001.06 | B82: Contract Notice Board | C82: no | D82: 2 | F82: =IF(TRIM(D82)="rate only","ro",IF(OR(ISBLANK(D82),ISBLANK(E82))," ",D82*E82))
B83: (See Drawing STD-001)
A85: B001.07 | B85: Accredited Training
A87: B001.07.01 | B87: Accredited training for Labourers | C87: Prov.Sum | D87: 1 | E87: 300000 | F87: 300000
A89: B001.07.02 | B89: Percentage on item B001.0701 for
B90: charges and profit | C90: %
...

Sheet Section 002
A1: ITEM | B1: DESCRIPTION | C1: UNIT | D1: QTY | E1: RATE | F1: AMOUNT
A3: SERIES 0 | B3: GENERAL
A5: Section 002 | B5: Engineer's Accommodation
A7: 002.01 | B7: Services
A9: 002.01.01 | B9: Services for offices | C9: lump Sum | D9: 1
F10: =E10*D10 -> 0
A11: LI 002.02 | B11: Treatment and maintenance of areas
B12: surrounding offices | C12: lump Sum | D12: 1 | F12: =E12*D12 -> 0
A14: 002.01.04 | B14: Services of offices | C14: lump sum | D14: 1 | F14: =E14*D14 -> 0
A16: 002.03 | B16: Office accommodation
F20: =E20*D20 -> 0
E22: =E17 -> 0
A24: 002.01.06 | B24: The treatment and maintance of access surrounding the offices | C24: Lump Sum | D24: 1 | F24: =E24*D24 -> 0
A27: 002.04 | B27: Provision of survey equipment and
B28: assistants | C28: lump Sum | D28: 1
A50: TOTAL CARRIED TO SUMMARY | F50: =SUM(F2:F49) -> 0
A52: Signature of person authorised to sign the tender: | E52: Date

Sheet Section 101
A1: ITEM | B1: DESCRIPTION | C1: UNIT | D1: QTY | E1: RATE | F1: AMOUNT
A3: SERIES 1 | B3: ANCILLARY WORK
A5: Section 101 | B5: Site Clearing and Grubbing
A7: 101.01 | B7: Clearing and grubbing
A9: 101.01.01 | B9: Strips
A11: LI 101.01.01.01 | B11: 20m Wide | C11: m² | D11: ='Earthworks-Layerworks'!B27 -> 3971 | F11: =E11*G11 -> 0
A13: 101.01.01.02 | B13: Etc for other widths | C13: m | D13: =23%*D11 -> 913.33 | F13: =IF(TRIM(D13)="rate only","ro",IF(OR(ISBLANK(D13),ISBLANK(E13))," ",D13*E13))
A16: LI 101.01.02 | B16: Areas not classified as strips | C16: m² | D16: =5%*D11 -> 198.55 | F16: =IF(TRIM(D16)="rate only","ro",IF(OR(ISBLANK(D16),ISBLANK(E16))," ",D16*E16))
A19: 101.02 | B19: Cutting and removing large trees
B20: with a girth -
A22: LI 101.02.01 | B22: exceeding 1m and up to and | C22: no | D22: 10 | F22: =IF(TRIM(D22)="rate only","ro",IF(OR(ISBLANK(D22),ISBLANK(E22))," ",D22*E22))
B23: including 2m
A25: 101.02.02 | B25: exceeding 2m and up to and | C25: no | D25: 10 | F25: =IF(TRIM(D25)="rate only","ro",IF(OR(ISBLANK(D25),ISBLANK(E25))," ",D25*E25))
B26: including 3m
A28: 101.02.03 | B28: exceeding 3m and up to and | C28: no | D28: 5 | F28: =IF(TRIM(D28)="rate only","ro",IF(OR(ISBLANK(D28),ISBLANK(E28))," ",D28*E28))
B29: including 4m
A32: 101.03 | B32: Grubbing and the removal of the
B33: stumps and roots of large trees with
B34: girth -
A36: LI 101.03.01 | B36: exceeding 1m and up to and | C36: no | D36: =D22 -> 10 | F36: =IF(TRIM(D36)="rate only","ro",IF(OR(ISBLANK(D36),ISBLANK(E36))," ",D36*E36))
B37: including 2m
A39: 101.03.02 | B39: exceeding 2m and up to and | C39: no | D39: =D25 -> 10 | F39: =IF(TRIM(D39)="rate only","ro",IF(OR(ISBLANK(D39),ISBLANK(E39))," ",D39*E39))
B40: including 3m
A42: 101.03.03 | B42: exceeding 3m and up to and | C42: no | D42: =D28 -> 5 | F42: =IF(TRIM(D42)="rate only","ro",IF(OR(ISBLANK(D42),ISBLANK(E42))," ",D42*E42))
B43: including 4m
A45: 101.05 | B45: Removal and disposal of specific | C45: m | D45: 150
B46: elements
A48: 101.05.01 | B48: Concrete kerbing / kerbing | C48: m² | D48: 50
B49: combinations | C49: m | D49: =('Earthworks-Layerworks'!#REF!+'Earthworks-Layerworks'!#REF!+'Earthworks-Layerworks'!#REF!)*2 -> #REF! | F49: =SUM(F2:F48) -> 0
A51: 101.05.03 | B51: Asphalt surfacing | C51: m² | D51: =('Earthworks-Layerworks'!#REF!+'Earthworks-Layerworks'!#REF!+'Earthworks-Layerworks'!#REF!)*6 -> #REF! | F51: =IF(TRIM(D51)="rate only","ro",IF(OR(ISBLANK(D51),ISBLANK(E51))," ",D51*E51)) -> #REF!
A54: ITEM | B54: DESCRIPTION | C54: UNIT | D54: QTY | E54: RATE | F54: AMOUNT
A55: TOTAL BROUGHT FORWARD | F55: =F49 -> 0
A57: 101.04 | B57: Re-clearing of areas (only on the
B58: written instructions of the Engineer)
A60: 101.04.01 | B60: Strips
A62: LI 101.04.01.01 | B62: Width indicated | C62: m | D62: 0 | F62: =IF(TRIM(D62)="rate only","ro",IF(OR(ISBLANK(D62),ISBLANK(E62))," ",D62*E62))
A64: 101.04.01.02 | B64: Etc for other widths | C64: m | D64: Rate Only | F64: =IF(TRIM(D64)="rate only","ro",IF(OR(ISBLANK(D64),ISBLANK(E64))," ",D64*E64)) -> ro
A67: LI 101.04.02 | B67: Areas not classified as strips | C67: m² | D67: Rate Only | F67: =IF(TRIM(D67)="rate only","ro",IF(OR(ISBLANK(D67),ISBLANK(E67))," ",D67*E67)) -> ro
A70: 101.05 | B70: Removal and disposal of specific
B71: elements
...

Sheet Section 102
A1: ITEM | B1: DESCRIPTION | C1: UNIT | D1: QTY | E1: RATE | F1: AMOUNT
A3: SERIES 1 | B3: ANCILLARY WORK
A5: Section 102: | B5: Accommodation of Traffic
A7: 102.01 | B7: Accommodation of traffic and
B8: maintenance of bypasses | C8: m | D8: ='Earthworks-Layerworks'!B27 -> 3971 | F8: =IF(TRIM(D8)="rate only","ro",IF(OR(ISBLANK(D8),ISBLANK(E8))," ",D8*E8))
A10: 102.02 | B10: Earthworks for bypasses
A12: 102.02.01 | B12: Shaping of bypasses | C12: m | D12: =D8 -> 3971 | F12: =IF(TRIM(D12)="rate only","ro",IF(OR(ISBLANK(D12),ISBLANK(E12))," ",D12*E12))
A14: 102.02.02 | B14: Cut and borrow to fill | C14: m³ | D14: =(D12*0.15*3)/2 -> 893.475 | F14: =IF(TRIM(D14)="rate only","ro",IF(OR(ISBLANK(D14),ISBLANK(E14))," ",D14*E14))
A16: 102.02.03 | B16: Cut to spoil | C16: m³ | D16: =D14*0.2 -> 178.695 | F16: =IF(TRIM(D16)="rate only","ro",IF(OR(ISBLANK(D16),ISBLANK(E16))," ",D16*E16))
A19: 102.03 | B19: Gravel wearing courses for
B20: bypasses | C20: m³ | D20: =D14*0.25 -> 223.36875 | F20: =IF(TRIM(D20)="rate only","ro",IF(OR(ISBLANK(D20),ISBLANK(E20))," ",D20*E20))
A22: 102.04 | B22: Watering of bypasses | C22: kℓ | D22: 20000 | F22: =IF(TRIM(D22)="rate only","ro",IF(OR(ISBLANK(D22),ISBLANK(E22))," ",D22*E22))
A24: 102.05 | B24: Blading of bypasses by motor grader | C24: km.pass | D24: =D8/1000*2 -> 7.942 | F24: =IF(TRIM(D24)="rate only","ro",IF(OR(ISBLANK(D24),ISBLANK(E24))," ",D24*E24))
A26: 102.07 | B26: Existing roads used as bypasses | C26: prov sum | D26: 1 | E26: 100000
A28: 102.08 | B28: Maintenance of surfacing of
B29: pavement layers of bitumen-surfaced
B30: bypasses and existing bitumen-
B31: surfaced roads used as bypasses | C31: prov sum | D31: 1 | E31: 100000
A35: TOTAL CARRIED FORWARD | F35: =SUM(F4:F33) -> 0
A37: Signature of person authorised to sign the tender: | E37: Date
A40: ITEM | B40: DESCRIPTION | C40: UNIT | D40: QTY | E40: RATE | F40: AMOUNT
A41: TOTAL BROUGHT FORWARD | F41: =F35 -> 0
A44: 102.14 | B44: Temporary traffic-control facilities
A46: LI 102.14.01 | B46: Flagmen | C46: item | D46: 1 | F46: =IF(TRIM(D46)="rate only","ro",IF(OR(ISBLANK(D46),ISBLANK(E46))," ",D46*E46))
A48: 102.14.02 | B48: Portable Stop and Go signs | C48: no | D48: 18 | F48: =IF(TRIM(D48)="rate only","ro",IF(OR(ISBLANK(D48),ISBLANK(E48))," ",D48*E48))
A50: 102.14.03 | B50: Amber flashing lights | C50: no | D50: 8 | F50: =IF(TRIM(D50)="rate only","ro",IF(OR(ISBLANK(D50),ISBLANK(E50))," ",D50*E50))
A52: 102.14.04 | B52: Road signs, TR-series, 1200mm in
B53: diameter or 900mm x 675mm if
B54: rectangular | C54: no | D54: 18 | F54: =IF(TRIM(D54)="rate only","ro",IF(OR(ISBLANK(D54),ISBLANK(E54))," ",D54*E54))
A56: 102.14.05 | B56: Road signs, TW-series, 1524mm
B57: sides | C57: no | D57: 18 | F57: =IF(TRIM(D57)="rate only","ro",IF(OR(ISBLANK(D57),ISBLANK(E57))," ",D57*E57))
A59: 102.14.06 | B59: Danger plates and delineators | C59: no | D59: 50 | F59: =IF(TRIM(D59)="rate only","ro",IF(OR(ISBLANK(D59),ISBLANK(E59))," ",D59*E59))
A65: TOTAL CARRIED FORWARD | F65: =SUM(F40:F64) -> 0
A67: Signature of person authorised to sign the tender: | E67: Date
A70: ITEM | B70: DESCRIPTION | C70: UNIT | D70: QTY | E70: RATE | F70: AMOUNT
A71: TOTAL BROUGHT FORWARD | F71: =F65 -> 0
A73: 102.14.08 | B73: Moveable barricade / road sign
B74: combination | C74: no | D74: 12 | F74: =IF(TRIM(D74)="rate only","ro",IF(OR(ISBLANK(D74),ISBLANK(E74))," ",D74*E74))
A76: 102.14.09 | B76: Traffic cones | C76: no | D76: 500 | F76: =IF(TRIM(D76)="rate only","ro",IF(OR(ISBLANK(D76),ISBLANK(E76))," ",D76*E76))
A81: 102.15 | B81: Re-use or removal of traffic-control
...

Sheet Section 103
A1: ITEM | B1: DESCRIPTION | C1: UNIT | D1: QTY | E1: RATE | F1: AMOUNT
A3: SERIES 1 | B3: ANCILLARY WORK
A5: Section 103 | B5: Overhaul
A7: 103.01 | B7: Overhaul on material hauled outside
B8: the defined free-haul boundaries | C8: m³.km | D8: ='Earthworks-Layerworks'!C27 -> 22755.617 | F8: =IF(TRIM(D8)="rate only","ro",IF(OR(ISBLANK(D8),ISBLANK(E8))," ",D8*E8))
B9: (Free-haul boundaries will be defined
B10: as 1 km outside the indicated site
B11: boundaries)
A49: TOTAL CARRIED TO SUMMARY | F49: =SUM(F2:F48) -> 0
A51: Signature of person authorised to sign the tender: | E51: Date

Sheet Section 104
A1: ITEM | B1: DESCRIPTION | C1: UNIT | D1: QTY | E1: RATE | F1: AMOUNT
A3: SERIES 1 | B3: ANCILLARY WORK
A5: Section 104 | B5: Landscaping and Grassing
A7: 104.01 | B7: Trimming
A9: 104.01.01 | B9: Machine trimming | C9: m² | D9: Rate Only | F9: =IF(TRIM(D9)="rate only","ro",IF(OR(ISBLANK(D9),ISBLANK(E9))," ",D9*E9)) -> ro
A11: LI 104.01.02 | B11: Hand trimming | C11: m² | D11: Rate Only | F11: =IF(TRIM(D11)="rate only","ro",IF(ISBLANK(E11)," ",D11*E11)) -> ro
A14: 104.02 | B14: Use of machines for trimming or
B15: shaping (alternative to sub item
B16: 104.01.01)
A18: 104.02.01 | B18: Bulldozer | C18: h | D18: Rate Only | F18: =IF(TRIM(D18)="rate only","ro",IF(ISBLANK(E18)," ",D18*E18)) -> ro
A20: 104.02.02 | B20: Motor grader | C20: h | D20: Rate Only | F20: =IF(TRIM(D20)="rate only","ro",IF(ISBLANK(E20)," ",D20*E20)) -> ro
A23: 104.03 | B23: Preparing areas for grassing and
B24: ground covers
A26: 104.03.01 | B26: Scarifying | C26: ha | D26: Rate Only | F26: =IF(TRIM(D26)="rate only","ro",IF(ISBLANK(E26)," ",D26*E26)) -> ro
A28: 104.03.02 | B28: Top soiling on the Site with -
A30: 104.03.02.01 | B30: Topsoil obtained from the Site or
B31: borrow areas provided by the
B32: Employer | C32: m³ | D32: Rate Only | F32: =IF(TRIM(D32)="rate only","ro",IF(ISBLANK(E32)," ",D32*E32)) -> ro
A34: 104.03.02.02 | B34: Topsoil provided by the Contractor
B35: from other sources (including all
B36: haul) | C36: m³ | D36: Rate Only | F36: =IF(TRIM(D36)="rate only","ro",IF(ISBLANK(E36)," ",D36*E36)) -> ro
A38: 104.03.04 | B38: Supplying and applying chemical
B39: fertilizers
A41: 104.03.04.01 | B41: Lime | C41: t | D41: Rate Only | F41: =IF(TRIM(D41)="rate only","ro",IF(ISBLANK(E41)," ",D41*E41)) -> ro
A43: 104.03.04.02 | B43: Superphosphate | C43: t | D43: Rate Only | F43: =IF(TRIM(D43)="rate only","ro",IF(ISBLANK(E43)," ",D43*E43)) -> ro
A45: 104.03.04.03 | B45: Limestone ammonium nitrate | C45: t | D45: Rate Only | F45: =IF(TRIM(D45)="rate only","ro",IF(ISBLANK(E45)," ",D45*E45)) -> ro
A47: 104.03.04.04 | B47: 2:3:2 (22) | C47: t | D47: Rate Only | F47: =IF(TRIM(D47)="rate only","ro",IF(ISBLANK(E47)," ",D47*E47)) -> ro
A49: TOTAL CARRIED FORWARD | F49: =SUM(F2:F48) -> 0
A51: Signature of person authorised to sign the tender: | E51: Date
A54: ITEM | B54: DESCRIPTION | C54: UNIT | D54: QTY | E54: RATE | F54: AMOUNT
A55: TOTAL BROUGHT FORWARD | F55: =F49 -> 0
A57: 104.03.05 | B57: Stockpiling of topsoil | C57: m³ | D57: Rate Only | F57: =IF(TRIM(D57)="rate only","ro",IF(ISBLANK(E57)," ",D57*E57)) -> ro
A60: 104.04 | B60: Grassing
A62: LI 104.04.01 | B62: Planting of grass cuttings | C62: ha | D62: Rate Only | F62: =IF(TRIM(D62)="rate only","ro",IF(ISBLANK(E62)," ",D62*E62)) -> ro
A64: LI 104.04.02 | B64: Sodding | C64: m² | D64: Rate Only | F64: =IF(TRIM(D64)="rate only","ro",IF(ISBLANK(E64)," ",D64*E64)) -> ro
A66: LI 104.04.03 | B66: Revegetation cylinders | C66: m | D66: Rate Only | F66: =IF(TRIM(D66)="rate only","ro",IF(ISBLANK(E66)," ",D66*E66)) -> ro
A68: 104.03.04 | B68: Hydro seeding
A70: 104.03.04.01 | B70: Providing approved seed mixture
B71: for hydro seeding | C71: kg | D71: Rate Only | F71: =IF(TRIM(D71)="rate only","ro",IF(ISBLANK(E71)," ",D71*E71)) -> ro
A73: 104.03.04.02 | B73: Hydro seeding | C73: ha | D73: Rate Only | F73: =IF(TRIM(D73)="rate only","ro",IF(ISBLANK(E73)," ",D73*E73)) -> ro
...

Sheet Section 105
A1: ITEM | B1: DESCRIPTION | C1: UNIT | D1: QTY | E1: RATE | F1: AMOUNT
A3: SERIES 1 | B3: ANCILLARY WORK
A5: Section 105 | B5: Fencing
A7: 105.01 | B7: Supply and erection of new fencing
B8: material
A10: LI 105.01.01 | B10: Barbed wire (Single strand oval with
B11: 4 barbs, 3.15mm/2.5 line diameter,
B12: 1.90mm barb diameter, min 1050 Mpa
B13: tensile strength, bright galvanized) | C13: m | D13: Rate Only | F13: =IF(TRIM(D13)="rate only","ro",IF(OR(ISBLANK(D13),ISBLANK(E13))," ",D13*E13)) -> ro
A15: 105.01.02 | B15: Smooth wire
A17: LI 105.01.02.01 | B17: Mild-steel wire, 4.00mm diameter,
B18: fully galvanised | C18: m | D18: Rate Only | F18: =IF(TRIM(D18)="rate only","ro",IF(ISBLANK(E18)," ",D18*E18)) -> ro
A20: LI 105.01.02.02 | B20: High strain wire, 2.24mm diameter,
B21: fully galvanised | C21: m | D21: Rate Only | F21: =IF(TRIM(D21)="rate only","ro",IF(ISBLANK(E21)," ",D21*E21)) -> ro
A24: 105.01.03 | B24: Barbed tape security barriers
A26: 105.01.03.01 | B26: Concertina coil -
A28: LI 105.01.03.01.01 | B28: Short barb, 900mm coil, galvanised | C28: m | D28: Rate Only | F28: =IF(TRIM(D28)="rate only","ro",IF(ISBLANK(E28)," ",D28*E28)) -> ro
A30: LI 105.01.03.01.02 | B30: Short barb, 730mm coil, galvanised | C30: m | D30: Rate Only | F30: =IF(TRIM(D30)="rate only","ro",IF(ISBLANK(E30)," ",D30*E30)) -> ro
A32: LI 105.01.03.01.03 | B32: Short barb, 450mm coil, galvanised | C32: m | D32: Rate Only | F32: =IF(TRIM(D32)="rate only","ro",IF(ISBLANK(E32)," ",D32*E32)) -> ro
A34: LI 105.01.03.01.04 | B34: Medium barb, 900mm coil, galvanised | C34: m | D34: Rate Only | F34: =IF(TRIM(D34)="rate only","ro",IF(ISBLANK(E34)," ",D34*E34)) -> ro
A36: LI 105.01.03.01.05 | B36: Medium barb, 730mm coil, galvanised | C36: m | D36: Rate Only | F36: =IF(TRIM(D36)="rate only","ro",IF(ISBLANK(E36)," ",D36*E36)) -> ro
A38: LI 105.01.03.01.06 | B38: Medium barb, 450mm coil, galvanised | C38: m | D38: Rate Only | F38: =IF(TRIM(D38)="rate only","ro",IF(ISBLANK(E38)," ",D38*E38)) -> ro
A41: 105.01.03.02 | B41: Flat wrap -
A43: LI 105.01.03.02.01 | B43: Short barb, 900mm coil, galvanised | C43: m | D43: Rate Only | F43: =IF(TRIM(D43)="rate only","ro",IF(ISBLANK(E43)," ",D43*E43)) -> ro
A45: LI 105.01.03.02.02 | B45: Short barb, 730mm coil, galvanised | C45: m | D45: Rate Only | F45: =IF(TRIM(D45)="rate only","ro",IF(ISBLANK(E45)," ",D45*E45)) -> ro
A47: LI 105.01.03.02.03 | B47: Short barb, 450mm coil, galvanised | C47: m | D47: Rate Only | F47: =IF(TRIM(D47)="rate only","ro",IF(ISBLANK(E47)," ",D47*E47)) -> ro
A49: TOTAL CARRIED FORWARD | F49: =SUM(F2:F48) -> 0
A51: Signature of person authorised to sign the tender: | E51: Date
A54: ITEM | B54: DESCRIPTION | C54: UNIT | D54: QTY | E54: RATE | F54: AMOUNT
A55: TOTAL BROUGHT FORWARD | F55: =F49 -> 0
A57: LI 105.01.03.02.04 | B57: Medium barb, 900mm coil, galvanised | C57: m | D57: Rate Only | F57: =IF(TRIM(D57)="rate only","ro",IF(ISBLANK(E57)," ",D57*E57)) -> ro
A59: LI 105.01.03.02.05 | B59: Medium barb, 730mm coil, galvanised | C59: m | D59: Rate Only | F59: =IF(TRIM(D59)="rate only","ro",IF(ISBLANK(E59)," ",D59*E59)) -> ro
A61: LI 105.01.03.02.06 | B61: Medium barb, 450mm coil, galvanised | C61: m | D61: Rate Only | F61: =IF(TRIM(D61)="rate only","ro",IF(ISBLANK(E61)," ",D61*E61)) -> ro
A64: 105.01.04 | B64: Diamond mesh
A66: LI 105.01.04.01 | B66: 37mm x 2.5mm | C66: m² | D66: Rate Only | F66: =IF(TRIM(D66)="rate only","ro",IF(ISBLANK(E66)," ",D66*E66)) -> ro
A68: LI 105.01.04.02 | B68: 50mm x 2.5mm | C68: m² | D68: Rate Only | F68: =IF(TRIM(D68)="rate only","ro",IF(ISBLANK(E68)," ",D68*E68)) -> ro
A70: LI 105.01.04.03 | B70: 64mm x 2.5mm | C70: m² | D70: Rate Only | F70: =IF(TRIM(D70)="rate only","ro",IF(ISBLANK(E70)," ",D70*E70)) -> ro
A73: 105.01.06 | B73: Corner, end, straining and gate posts,
B74: including anchors
B75: (See Drawing STD-014 Sheet 1 of 3)
...

Sheet Section 106
A1: ITEM | B1: DESCRIPTION | C1: UNIT | D1: QTY | E1: RATE | F1: AMOUNT
A3: SERIES 1 | B3: ANCILLARY WORK
A5: Series 106 | B5: Service Ducts
A7: 106.01 | B7: Bedding and backfilling up to
B8: 300mm above pipes
A10: 106.01.01 | B10: Using selected excavated material | C10: m³ | D10: =(8*(5/10)*3/10)*25 -> 30 | F10: =IF(TRIM(D10)="rate only","ro",IF(OR(ISBLANK(D10),ISBLANK(E10))," ",D10*E10))
A12: 106.01.04 | B12: Using crushed stone | C12: m³ | D12: 6 | F12: =IF(TRIM(D12)="rate only","ro",IF(ISBLANK(E12)," ",D12*E12))
A14: 106.02 | B14: The casting of in situ concrete in
B15: bedding and the encasing of pipes
B16: (Class 20/19 concrete) | C16: m³ | D16: 7 | F16: =IF(TRIM(D16)="rate only","ro",IF(ISBLANK(E16)," ",D16*E16))
A18: 106.03 | B18: Soilcrete | C18: m³ | D18: 5 | F18: =IF(TRIM(D18)="rate only","ro",IF(ISBLANK(E18)," ",D18*E18))
A20: 106.04 | B20: Service duct pipes
A22: 106.04.01 | B22: Ordinary pipes
A24: 106.04.01.01 | B24: oPVC or similar approved | C24: m | D24: 75 | F24: =IF(TRIM(D24)="rate only","ro",IF(ISBLANK(E24)," ",D24*E24))
A27: 106.04.03 | B27: Pipe fittings
A29: 106.04.03.01 | B29: oPVC coupling for 110mm pipes
B30: or similar approved | C30: no | D30: =D24/5 -> 15 | F30: =IF(TRIM(D30)="rate only","ro",IF(ISBLANK(E30)," ",D30*E30))
A32: 106.04.03.02 | B32: oPVC sealing ring for 110mm pipes
B33: or similar approved | C33: no | D33: =D30 -> 15 | F33: =IF(TRIM(D33)="rate only","ro",IF(ISBLANK(E33)," ",D33*E33))
A35: 106.04.03.03 | B35: oPVC end plug for 110mm pipes
B36: or similar approved | C36: no | D36: =D33/2 -> 7.5 | F36: =IF(TRIM(D36)="rate only","ro",IF(ISBLANK(E36)," ",D36*E36))
A38: 106.04.03.04 | B38: oPVC spacer module for 110mm
B39: pipes or similar approved | C39: no | D39: =D33 -> 15 | F39: =IF(TRIM(D39)="rate only","ro",IF(ISBLANK(E39)," ",D39*E39))
A42: TOTAL CARRIED FORWARD | F42: =SUM(F3:F41) -> 0
A44: Signature of person authorised to sign the tender: | E44: Date
A47: ITEM | B47: DESCRIPTION | C47: UNIT | D47: QTY | E47: RATE | F47: AMOUNT
A48: TOTAL BROUGHT FORWARD | F48: =F42 -> 0
A50: 106.05 | B50: Duct markers | C50: no | D50: 15 | F50: =IF(TRIM(D50)="rate only","ro",IF(ISBLANK(E50)," ",D50*E50))
A52: 106.06 | B52: Extra over item 106.01 and 106.03
B53: for using material obtained from
B54: sources provided by the Contractor | C54: m³ | D54: 10 | F54: =IF(TRIM(D54)="rate only","ro",IF(ISBLANK(E54)," ",D54*E54))
A94: TOTAL CARRIED TO SUMMARY | F94: =SUM(F48:F93) -> 0
A96: Signature of person authorised to sign the tender: | E96: Date

Sheet Section B107
A1: ITEM | B1: DESCRIPTION | C1: UNIT | D1: QTY | E1: RATE | F1: AMOUNT
A3: SERIES 1 | B3: ANCILLARY WORK
A5: Section B107 | B5: Dayworks
A7: B107.01 | B7: Labour during normal working hours
A9: B107.01.01 | B9: Unskilled labour | C9: h | D9: 150 | F9: =IF(TRIM(D9)="rate only","ro",IF(OR(ISBLANK(D9),ISBLANK(E9))," ",D9*E9))
A11: B107.01.02 | B11: Semi-skilled labour | C11: h | D11: 150 | F11: =IF(TRIM(D11)="rate only","ro",IF(ISBLANK(E11)," ",D11*E11))
A13: B107.01.03 | B13: Skilled labour | C13: h | D13: 100 | F13: =IF(TRIM(D13)="rate only","ro",IF(ISBLANK(E13)," ",D13*E13))
A16: B107.02 | B16: Extra-over item B107.02 for charges
B17: and overheads
A19: B107.02.01 | B19: Unskilled labour | C19: % | D19: 0.25 | F19: =IF(TRIM(D19)="rate only","ro",IF(ISBLANK(E19)," ",D19*E19))
A21: B107.02.02 | B21: Semi-skilled labour | C21: % | D21: 0.25 | F21: =IF(TRIM(D21)="rate only","ro",IF(ISBLANK(E21)," ",D21*E21))
A23: B107.02.03 | B23: Skilled labour | C23: % | D23: 0.25 | F23: =IF(TRIM(D23)="rate only","ro",IF(ISBLANK(E23)," ",D23*E23))
A26: B107.03 | B26: Construction Plant
A28: B107.03.01 | B28: Tipper trucks
A30: B107.03.01.01 | B30: 6m³ capacity | C30: h | D30: 75 | F30: =IF(TRIM(D30)="rate only","ro",IF(ISBLANK(E30)," ",D30*E30))
A32: B107.03.01.02 | B32: 10m³ capacity | C32: h | D32: 75 | F32: =IF(TRIM(D32)="rate only","ro",IF(ISBLANK(E32)," ",D32*E32))
A35: B107.03.02 | B35: Backhoe loaders (Mass 7 - 8 ton) | C35: h | D35: =D30 -> 75 | F35: =IF(TRIM(D35)="rate only","ro",IF(ISBLANK(E35)," ",D35*E35))
A37: B107.03.03 | B37: Bulldozer (Mass 20 - 25 ton,
B38: Power 135 - 165 kW) | C38: h | D38: 10 | F38: =IF(TRIM(D38)="rate only","ro",IF(ISBLANK(E38)," ",D38*E38))
A40: B107.03.04 | B40: Tracked Excavator (Mass 18 - 22 ton,
B41: Power 70 - 105 kW) | C41: h | D41: =D30 -> 75 | F41: =IF(TRIM(D41)="rate only","ro",IF(ISBLANK(E41)," ",D41*E41))
A43: B107.03.05 | B43: Generator (15kVA) | C43: h | D43: 50 | F43: =IF(TRIM(D43)="rate only","ro",IF(ISBLANK(E43)," ",D43*E43))
A45: B107.03.06 | B45: Grader (Mass 16 - 20 ton) | C45: h | D45: 75 | F45: =IF(TRIM(D45)="rate only","ro",IF(ISBLANK(E45)," ",D45*E45))
A47: B107.03.07 | B47: Wheel Loader (Mass 10 - 13 ton) | C47: h | D47: =50%*D30 -> 37.5 | F47: =IF(TRIM(D47)="rate only","ro",IF(ISBLANK(E47)," ",D47*E47))
A49: TOTAL CARRIED FORWARD | F49: =SUM(F2:F48) -> 0
A51: Signature of person authorised to sign the tender: | E51: Date
A54: ITEM | B54: DESCRIPTION | C54: UNIT | D54: QTY | E54: RATE | F54: AMOUNT
A55: TOTAL BROUGHT FORWARD | F55: =F49 -> 0
A57: B107.03.09 | B57: Rollers
A59: B107.03.09.01 | B59: Pneumatic Roller (14 - 21 ton) | C59: h | D59: 20 | F59: =IF(TRIM(D59)="rate only","ro",IF(ISBLANK(E59)," ",D59*E59))
A61: B107.03.09.02 | B61: Single drum vibratory padfoot roller
B62: (7 - 10 ton) | C62: h | D62: =50%*D59 -> 10 | F62: =IF(TRIM(D62)="rate only","ro",IF(ISBLANK(E62)," ",D62*E62))
A64: B107.03.09.03 | B64: Single drum vibratory padfoot roller
B65: (10 - 14 ton) | C65: h | D65: 20 | F65: =IF(TRIM(D65)="rate only","ro",IF(ISBLANK(E65)," ",D65*E65))
A67: B107.03.09.04 | B67: Single drum vibratory smooth roller
B68: (7 - 10 ton) | C68: h | D68: =D59 -> 20 | F68: =IF(TRIM(D68)="rate only","ro",IF(ISBLANK(E68)," ",D68*E68))
A70: B107.03.09.05 | B70: Single drum vibratory smooth roller
B71: (10 - 14 ton) | C71: h | D71: 20 | F71: =IF(TRIM(D71)="rate only","ro",IF(ISBLANK(E71)," ",D71*E71))
A73: B107.03.09.10 | B73: Pedestrian roller (500 - 550kg,
B74: width 390mm) | C74: h | D74: 19 | F74: =IF(TRIM(D74)="rate only","ro",IF(ISBLANK(E74)," ",D74*E74))
...

Sheet Section 201
A1: ITEM | B1: DESCRIPTION | C1: UNIT | D1: QTY | E1: RATE | F1: AMOUNT
A3: SERIES 2 | B3: EARTHWORKS
A5: Section 201 | B5: General
A7: 201.01 | B7: Excess overburden at borrow pits
B8: provided by the Employer | C8: m³ | D8: Rate Only | F8: =IF(TRIM(D8)="rate only","ro",IF(OR(ISBLANK(D8),ISBLANK(E8))," ",D8*E8)) -> ro
A10: 201.02 | B10: Temporary stockpiling of material | C10: m³ | D10: Rate Only | F10: =IF(TRIM(D10)="rate only","ro",IF(ISBLANK(E10)," ",D10*E10)) -> ro
A49: TOTAL CARRIED TO SUMMARY | F49: =SUM(F2:F48) -> 0
A51: Signature of person authorised to sign the tender: | E51: Date

Sheet Section 202
A1: ITEM | B1: DESCRIPTION | C1: UNIT | D1: QTY | E1: RATE | F1: AMOUNT
A3: SERIES 2 | B3: EARTHWORKS
A5: Section 202 | B5: Trenching
A7: 202.01 | B7: Trench excavation
A9: 202.01.01 | B9: Up to 1,0m wide
A11: 202.01.01.01 | B11: Up to 1,0m deep | C11: m³ | F11: =IF(TRIM(D11)="rate only","ro",IF(OR(ISBLANK(D11),ISBLANK(E11))," ",D11*E11))
A13: 202.01.01.02 | B13: Over 1,0m deep and up to 1,5m deep | C13: m³ | D13: =(1336.4+17.1108)*1.15 -> 1556.5374 | F13: =IF(TRIM(D13)="rate only","ro",IF(ISBLANK(E13)," ",D13*E13))
A15: 202.01.01.03 | B15: Over 1,5m deep and up to 2,0m deep | C15: m³ | D15: =(1456.69+163.98)*1.15 -> 1863.7705 | F15: =IF(TRIM(D15)="rate only","ro",IF(ISBLANK(E15)," ",D15*E15))
A17: 202.01.01.04 | B17: Over 2,0m deep and up to 2,5m deep | C17: m³ | D17: =(182.691)*1.1 -> 200.9601 | F17: =IF(TRIM(D17)="rate only","ro",IF(ISBLANK(E17)," ",D17*E17))
A19: 202.01.01.05 | B19: Over 2,5m deep and up to 3,0m deep | C19: m³ | D19: 0 | F19: =IF(TRIM(D19)="rate only","ro",IF(ISBLANK(E19)," ",D19*E19))
A21: 202.01.01.06 | B21: Etc for other depths in 0,5 m increments
A23: 202.01.02 | B23: Over 1,0m and up to 2,0m wide
A25: 202.01.02.01 | B25: Up to 1,0m deep | C25: m³ | D25: 0 | F25: =IF(TRIM(D25)="rate only","ro",IF(ISBLANK(E25)," ",D25*E25))
A27: 202.01.02.02 | B27: Over 1,0m deep and up to 1,5m deep | C27: m³ | D27: 0 | F27: =IF(TRIM(D27)="rate only","ro",IF(ISBLANK(E27)," ",D27*E27))
A29: 202.01.02.03 | B29: Over 1,5m deep and up to 2,0m deep | C29: m³ | D29: =(1634.303+350.7528)*1.1 -> 2183.5614 | F29: =IF(TRIM(D29)="rate only","ro",IF(ISBLANK(E29)," ",D29*E29))
A31: 202.01.02.04 | B31: Over 2,0m deep and up to 2,5m deep | C31: m³ | F31: =IF(TRIM(D31)="rate only","ro",IF(ISBLANK(E31)," ",D31*E31))
A33: 202.01.02.05 | B33: Over 2,5m deep and up to 3,0m deep | C33: m³ | D33: =(432.0204)*1.1 -> 475.22244 | F33: =IF(TRIM(D33)="rate only","ro",IF(ISBLANK(E33)," ",D33*E33))
A35: 202.01.03 | B35: Over 2,0m and up to 3,0m wide
A37: 202.01.03.01 | B37: Over 2,0m deep and up to 2,5m deep | C37: m³ | D37: =(82+674)*1.1 -> 831.6 | F37: =IF(TRIM(D37)="rate only","ro",IF(ISBLANK(E37)," ",D37*E37))
A39: 202.01.03.02 | B39: Over 2,5m deep and up to 3.0m deep | C39: m³ | D39: 345 | F39: =IF(TRIM(D39)="rate only","ro",IF(ISBLANK(E39)," ",D39*E39))
A41: 202.01.03.03 | B41: Over 3,0m deep and up to 3.5m deep | C41: m³ | D41: =(402.71+1258)*1.1 -> 1826.781 | F41: =IF(TRIM(D41)="rate only","ro",IF(ISBLANK(E41)," ",D41*E41))
A44: TOTAL CARRIED FORWARD | F44: =SUM(F2:F43) -> 0
A46: Signature of person authorised to sign the tender: | E46: Date
A49: ITEM | B49: DESCRIPTION | C49: UNIT | D49: QTY | E49: RATE | F49: AMOUNT
A50: TOTAL BROUGHT FORWARD | F50: =F44 -> 0
A52: 202.02 | B52: Extra over items 202.01, 202.03 and
B53: 202.09 for excavating in -
A55: 202.02.01 | B55: Intermediate material | C55: m³ | D55: =20%*SUM(D11:D41) -> 1856.6866 | F55: =IF(TRIM(D55)="rate only","ro",IF(ISBLANK(E55)," ",D55*E55))
A57: 202.02.02 | B57: Hard material | C57: m³ | D57: =20%*SUM(D11:D41) -> 1856.6866 | F57: =IF(TRIM(D57)="rate only","ro",IF(ISBLANK(E57)," ",D57*E57))
A60: 202.03 | B60: Excavations outside the normal
B61: trench profile | C61: m³ | D61: 0 | F61: =IF(TRIM(D61)="rate only","ro",IF(ISBLANK(E61)," ",D61*E61))
A64: 202.04 | B64: Hand excavation (extra over item
B65: 202.01) | C65: m³ | D65: =5%*SUM(D11:D41) -> 464.17164 | E65: =E13 -> 0 | F65: =IF(TRIM(D65)="rate only","ro",IF(ISBLANK(E65)," ",D65*E65)) -> 0
A67: 202.06 | B67: The backfilling of trenches (excluding
B68: the backfill around the pipe barrel)
B69: with material obtained from
B70: excavations | C70: m³ | D70: =(1988.38+98.5+862.6+175+235+234+27+773.8)*1.1 -> 4833.708 | F70: =IF(TRIM(D70)="rate only","ro",IF(ISBLANK(E70)," ",D70*E70))
A72: 202.07 | B72: Extra over items 202.06 and 202.13
B73: for using backfill material obtained -
A75: 202.07.01 | B75: From borrow areas | C75: m³ | D75: =D70*0.5 -> 2416.854 | F75: =IF(TRIM(D75)="rate only","ro",IF(ISBLANK(E75)," ",D75*E75))
...

Sheet Section 203
A1: ITEM | B1: DESCRIPTION | C1: UNIT | D1: QTY | E1: RATE | F1: AMOUNT
A3: SERIES 2 | B3: EARTHWORKS
A5: Section 203 | B5: Mass Earthworks
A7: 203.01 | B7: Excavation and borrow to fill
A9: 203.01.01 | B9: Compaction to 90% of modified
B10: AASHTO density | C10: m³ | D10: 17647 | F10: =IF(TRIM(D10)="rate only","ro",IF(OR(ISBLANK(D10),ISBLANK(E10))," ",D10*E10))
A12: 203.01.02 | B12: Rock-fill processing and compaction | C12: m³ | D12: ='Earthworks-Layerworks'!D27 -> 9173.01 | F12: =IF(TRIM(D12)="rate only","ro",IF(ISBLANK(E12)," ",D12*E12))
A14: 203.01.03 | B14: Twelve-pass roller compaction | C14: m³ | D14: =D10 -> 17647 | F14: =IF(TRIM(D14)="rate only","ro",IF(ISBLANK(E14)," ",D14*E14))
A17: 203.02 | B17: Extra over item 203.01 for excavating
B18: in -
A20: 203.02.01 | B20: Intermediate material | C20: m³ | D20: =12%*D10 -> 2117.64 | F20: =IF(TRIM(D20)="rate only","ro",IF(ISBLANK(E20)," ",D20*E20))
A22: 203.02.02 | B22: Hard material | C22: m³ | D22: =5%*D10 -> 882.35 | F22: =IF(TRIM(D22)="rate only","ro",IF(ISBLANK(E22)," ",D22*E22))
A24: 203.02.03 | B24: Boulder material class A | C24: m³ | D24: 75 | F24: =IF(TRIM(D24)="rate only","ro",IF(ISBLANK(E24)," ",D24*E24))
A26: 203.02.04 | B26: Boulder material class B | C26: m³ | D26: 100 | F26: =IF(TRIM(D26)="rate only","ro",IF(ISBLANK(E26)," ",D26*E26))
A29: 203.03 | B29: Excavate and spoil of -
A31: 203.03.01 | B31: Soft material | C31: m³ | D31: ='Earthworks-Layerworks'!C27+'Earthworks-Layerworks'!L27 -> 26057.901 | F31: =IF(TRIM(D31)="rate only","ro",IF(ISBLANK(E31)," ",D31*E31))
A33: 203.03.02 | B33: Intermediate material | C33: m³ | D33: =D31*0.2 -> 5211.5801 | F33: =IF(TRIM(D33)="rate only","ro",IF(ISBLANK(E33)," ",D33*E33))
A35: 203.03.03 | B35: Hard material | C35: m³ | D35: =D31*0.1 -> 2605.7901 | F35: =IF(TRIM(D35)="rate only","ro",IF(ISBLANK(E35)," ",D35*E35))
A37: 203.03.04 | B37: Boulder material class A | C37: m³ | D37: 1200 | F37: =IF(TRIM(D37)="rate only","ro",IF(ISBLANK(E37)," ",D37*E37))
A39: 203.03.05 | B39: Boulder material class B | C39: m³ | D39: =D37 -> 1200 | F39: =IF(TRIM(D39)="rate only","ro",IF(ISBLANK(E39)," ",D39*E39))
A42: 203.04 | B42: Removal of oversize material | C42: m³ | D42: 150 | F42: =IF(TRIM(D42)="rate only","ro",IF(ISBLANK(E42)," ",D42*E42))
A49: TOTAL CARRIED FORWARD | F49: =SUM(F2:F48) -> 0
A51: Signature of person authorised to sign the tender: | E51: Date
A54: ITEM | B54: DESCRIPTION | C54: UNIT | D54: QTY | E54: RATE | F54: AMOUNT
A55: TOTAL BROUGHT FORWARD | F55: =F49 -> 0
A57: 203.05 | B57: Variations in compactive effort
B58: (applicable to sub item 203.01.03
B59: and item 203.07)
A61: 203.05.01 | B61: Vibratory rollers | C61: m².pass | D61: =D14/2*3 -> 26470.5 | F61: =IF(TRIM(D61)="rate only","ro",IF(ISBLANK(E61)," ",D61*E61))
A63: 203.05.02 | B63: Impact rollers | C63: m².pass | D63: =D61 -> 26470.5 | F63: =IF(TRIM(D63)="rate only","ro",IF(ISBLANK(E63)," ",D63*E63))
A65: 203.05.03 | B65: All other rollers | C65: m².pass | D65: =D63 -> 26470.5 | F65: =IF(TRIM(D65)="rate only","ro",IF(ISBLANK(E65)," ",D65*E65))
A68: 203.06 | B68: Widening of cuttings (extra over
B69: items 203.01 and 203.03)
A71: 203.06.01 | B71: In hard material | C71: m³ | D71: =D35*0.2 -> 521.15801 | F71: =IF(TRIM(D71)="rate only","ro",IF(ISBLANK(E71)," ",D71*E71))
A73: 203.06.02 | B73: In intermediate and soft material | C73: m³ | D73: =D71 -> 521.15801 | F73: =IF(TRIM(D73)="rate only","ro",IF(ISBLANK(E73)," ",D73*E73))
A75: 203.06.03 | B75: In boulder material class A or class B | C75: m³ | D75: =(D37+D39)*0.2 -> 480 | F75: =IF(TRIM(D75)="rate only","ro",IF(ISBLANK(E75)," ",D75*E75))
A78: 203.07 | B78: Three-pass roller compaction
A80: 203.07.01 | B80: Vibratory roller | C80: m².pass | D80: =('Earthworks-Layerworks'!B27)*(6+2+1.8) -> 38915.8 | F80: =IF(TRIM(D80)="rate only","ro",IF(ISBLANK(E80)," ",D80*E80))
A82: 203.07.02 | B82: Impact roller | C82: m².pass | D82: =D80 -> 38915.8 | F82: =IF(TRIM(D82)="rate only","ro",IF(ISBLANK(E82)," ",D82*E82))
A85: 203.08 | B85: Preparation and compaction of
...

Sheet Section 501
A1: ITEM | B1: DESCRIPTION | C1: UNIT | D1: QTY | E1: RATE | F1: AMOUNT
A3: SERIES 5 | B3: DRAINAGE AND EROSION
B4: PROTECTION
A6: Section 501 | B6: Subsurface Drains and Drainage
B7: Blankets
A9: 501.01 | B9: Crushed stone
A11: 501.01.01 | B11: Graded crushed stone | C11: m³ | D11: 250 | F11: =IF(TRIM(D11)="rate only","ro",IF(OR(ISBLANK(D11),ISBLANK(E11))," ",D11*E11))
A13: 501.01.02 | B13: Single-sized crushed stone:
A15: 501.01.02.01 | B15: 26.5mm nominal aggregate size | C15: m³ | D15: 0 | F15: =IF(TRIM(D15)="rate only","ro",IF(ISBLANK(E15)," ",D15*E15))
A17: 501.01.02.02 | B17: 19mm nominal aggregate size | C17: m³ | D17: 300 | F17: =IF(TRIM(D17)="rate only","ro",IF(ISBLANK(E17)," ",D17*E17))
A19: 501.01.02.03 | B19: 13.2mm nominal aggregate size | C19: m³ | D19: 0 | F19: =IF(TRIM(D19)="rate only","ro",IF(ISBLANK(E19)," ",D19*E19))
A21: 501.01.02.04 | B21: 9.5mm nominal aggregate size | C21: m³ | D21: 0 | F21: =IF(TRIM(D21)="rate only","ro",IF(ISBLANK(E21)," ",D21*E21))
A24: 501.02 | B24: Procuring of filter sand | C24: prov sum | D24: 1 | E24: 100000
G25: =D15/0.5/20 -> 0
A26: 501.03 | B26: Placing of filter sand | C26: m³ | D26: 3125 | F26: =IF(TRIM(D26)="rate only","ro",IF(ISBLANK(E26)," ",D26*E26))
A28: 501.04 | B28: Geotextiles
A30: 501.04.01 | B30: Bidim grade A1 (1.3mm thick) or | C30: m² | D30: 0 | F30: =IF(TRIM(D30)="rate only","ro",IF(ISBLANK(E30)," ",D30*E30))
B31: equivalent approved
A33: 501.04.02 | B33: Bidim grade A2 (1.6mm thick) or | C33: m² | D33: ='Earthworks-Layerworks'!B27*(0.5+0.5+0.5+0.5)+'Earthworks-Layerworks'!B27*(6+0.45+0.45) -> 35341.9 | F33: =IF(TRIM(D33)="rate only","ro",IF(ISBLANK(E33)," ",D33*E33))
B34: equivalent approved
A36: 501.04.03 | B36: Bidim grade A3 (1.8mm thick) or | C36: m² | D36: 0 | F36: =IF(TRIM(D36)="rate only","ro",IF(ISBLANK(E36)," ",D36*E36))
B37: equivalent approved
A39: 501.04.04 | B39: Bidim grade A4 (2.1mm tick) or | C39: m² | D39: 0 | F39: =IF(TRIM(D39)="rate only","ro",IF(ISBLANK(E39)," ",D39*E39))
B40: equivalent approved
A43: 501.05 | B43: Pipes in subsurface drains
A45: 501.05.01 | B45: PVC 110mm pipes (or similar approved)
A47: 501.05.01.01 | B47: Perforated PVC 110mm pipes (similar approved) | C47: m | D47: ='Earthworks-Layerworks'!B27 -> 3971 | F47: =IF(TRIM(D47)="rate only","ro",IF(ISBLANK(E47)," ",D47*E47))
A49: TOTAL CARRIED FORWARD | F49: =SUM(F2:F48) -> 0
A51: Signature of person authorised to sign the tender: | E51: Date
A54: ITEM | B54: DESCRIPTION | C54: UNIT | D54: QTY | E54: RATE | F54: AMOUNT
A55: TOTAL BROUGHT FORWARD | F55: =F49 -> 0
A57: 501.05.01.02 | B57: Drainex DN110 (or similar approved) | C57: m | D57: Rate Only | F57: =IF(TRIM(D57)="rate only","ro",IF(ISBLANK(E57)," ",D57*E57)) -> ro
A59: 501.05.01.03 | B59: Drainex DN160 (or similar approved) | C59: m | D59: Rate Only | F59: =IF(TRIM(D59)="rate only","ro",IF(ISBLANK(E59)," ",D59*E59)) -> ro
A62: 501.05.02 | B62: Drainex DN75 fittings (or similar
B63: approved)
A65: 501.05.02.01 | B65: 22½º Long radius bend | C65: no | D65: Rate Only | F65: =IF(TRIM(D65)="rate only","ro",IF(ISBLANK(E65)," ",D65*E65)) -> ro
A67: 501.05.02.02 | B67: 45º Long radius bend | C67: no | D67: Rate Only | F67: =IF(TRIM(D67)="rate only","ro",IF(ISBLANK(E67)," ",D67*E67)) -> ro
A69: 501.05.02.03 | B69: 90º Long radius bend | C69: no | D69: Rate Only | F69: =IF(TRIM(D69)="rate only","ro",IF(ISBLANK(E69)," ",D69*E69)) -> ro
A71: 501.05.02.04 | B71: 22½º Segmented bend | C71: no | D71: Rate Only | F71: =IF(TRIM(D71)="rate only","ro",IF(ISBLANK(E71)," ",D71*E71)) -> ro
A73: 501.05.02.05 | B73: 45º Segmented bend | C73: no | D73: Rate Only | F73: =IF(TRIM(D73)="rate only","ro",IF(ISBLANK(E73)," ",D73*E73)) -> ro
...

Sheet Section 502
A1: ITEM | B1: DESCRIPTION | C1: UNIT | D1: QTY | E1: RATE | F1: AMOUNT
A3: SERIES 5 | B3: DRAINAGE AND EROSION
B4: PROTECTION
A6: Section 502 | B6: Prefabricated Culverts and
B7: Stormwater Sewers
A9: 502.01 | B9: Backfilling with selected excavated
B10: material compacted to -
A12: 502.01.01 | B12: 90% of modified AASHTO density | C12: m³ | D12: =1.5*(D24*0.85+D28*1.2+D32*1.35+D36*1.5+D38*1.65+D40+D42+D48)*25%*40% -> 478.67479 | F12: =IF(TRIM(D12)="rate only","ro",IF(OR(ISBLANK(D12),ISBLANK(E12))," ",D12*E12))
A14: 502.01.02 | B14: 93% of modified AASHTO density | C14: m³ | D14: 2649 | F14: =IF(TRIM(D14)="rate only","ro",IF(ISBLANK(E14)," ",D14*E14))
A16: 502.01.03 | B16: 95% of modified AASHTO density | C16: m³ | D16: 2649 | F16: =IF(TRIM(D16)="rate only","ro",IF(ISBLANK(E16)," ",D16*E16))
A19: 502.02 | B19: Supplying and laying of concrete
B20: pipe culverts (type SC-pipes)
A22: 502.02.01 | B22: Class B bedding / Class 50D
A24: 502.02.01.01 | B24: 450 mm Ø | C24: m | D24: 2349 | F24: =IF(TRIM(D24)="rate only","ro",IF(ISBLANK(E24)," ",D24*E24))
A26: 502.02.01.02 | B26: 525 mm Ø | C26: m | D26: 290 | F26: =IF(TRIM(D26)="rate only","ro",IF(ISBLANK(E26)," ",D26*E26))
A28: 502.02.01.03 | B28: 600 mm Ø | C28: m | D28: =75*1.1 -> 82.5 | F28: =IF(TRIM(D28)="rate only","ro",IF(ISBLANK(E28)," ",D28*E28))
A30: 502.02.01.04 | B30: 675 mm Ø | C30: m | F30: =IF(TRIM(D30)="rate only","ro",IF(ISBLANK(E30)," ",D30*E30))
A32: 502.02.01.05 | B32: 750 mm Ø | C32: m | D32: =498.88*1.1 -> 548.768 | F32: =IF(TRIM(D32)="rate only","ro",IF(ISBLANK(E32)," ",D32*E32))
A34: 502.02.01.06 | B34: 825 mm Ø | C34: m | F34: =IF(TRIM(D34)="rate only","ro",IF(ISBLANK(E34)," ",D34*E34))
A36: 502.02.01.07 | B36: 900 mm Ø | C36: m | D36: =86.7*1.1 -> 95.37 | F36: =IF(TRIM(D36)="rate only","ro",IF(ISBLANK(E36)," ",D36*E36))
A38: 502.02.01.08 | B38: 1050 mm Ø | C38: m | D38: =76.9*1.1 -> 84.59 | F38: =IF(TRIM(D38)="rate only","ro",IF(ISBLANK(E38)," ",D38*E38))
A40: 502.02.01.09 | B40: 1200 mm Ø | C40: m | D40: =53.5*1.1 -> 58.85 | F40: =IF(TRIM(D40)="rate only","ro",IF(ISBLANK(E40)," ",D40*E40))
A42: 502.02.01.10 | B42: 1500 mm Ø | C42: m | D42: =12*1.1 -> 13.2 | F42: =IF(TRIM(D42)="rate only","ro",IF(ISBLANK(E42)," ",D42*E42))
A44: 502.02.01.11 | B44: 2 x 750 mm Ø | C44: m | D44: =0*1.1 -> 0 | E44: =0 -> 0 | F44: =IF(TRIM(D44)="rate only","ro",IF(ISBLANK(E44)," ",D44*E44)) -> 0
A46: 502.02.01.12 | B46: 2 x 825 mm Ø | C46: m | D46: =0*1.1 -> 0 | E46: 0 | F46: =IF(TRIM(D46)="rate only","ro",IF(ISBLANK(E46)," ",D46*E46)) -> 0
E47: =0 -> 0
A48: 502.02.01.13 | B48: 2 x 1500 mm Ø | C48: m | E48: =E42*2 -> 0 | F48: =IF(TRIM(D48)="rate only","ro",IF(ISBLANK(E48)," ",D48*E48)) -> 0
A49: TOTAL CARRIED FORWARD | F49: =SUM(F2:F48) -> 0
A51: Signature of person authorised to sign the tender: | E51: Date
A54: ITEM | B54: DESCRIPTION | C54: UNIT | D54: QTY | E54: RATE | F54: AMOUNT
A55: TOTAL BROUGHT FORWARD | F55: =F49 -> 0
A57: 502.02.02.03 | B57: 600 mm Ø | C57: m | F57: =IF(TRIM(D57)="rate only","ro",IF(ISBLANK(E57)," ",D57*E57))
A59: 502.02.02.04 | B59: 675 mm Ø | C59: m | F59: =IF(TRIM(D59)="rate only","ro",IF(ISBLANK(E59)," ",D59*E59))
A61: 502.02.02.05 | B61: 750 mm Ø | C61: m | F61: =IF(TRIM(D61)="rate only","ro",IF(ISBLANK(E61)," ",D61*E61))
A63: 502.02.02.06 | B63: 825 mm Ø | C63: m | F63: =IF(TRIM(D63)="rate only","ro",IF(ISBLANK(E63)," ",D63*E63))
A65: 502.02.02.07 | B65: 900 mm Ø | C65: m | F65: =IF(TRIM(D65)="rate only","ro",IF(ISBLANK(E65)," ",D65*E65))
A67: 502.02.02.08 | B67: 1050 mm Ø | C67: m | F67: =IF(TRIM(D67)="rate only","ro",IF(ISBLANK(E67)," ",D67*E67))
A69: 502.02.02.09 | B69: 1200 mm Ø | C69: m | F69: =IF(TRIM(D69)="rate only","ro",IF(ISBLANK(E69)," ",D69*E69))
A72: 502.02.03 | B72: Class B bedding / Class 100D
A74: 502.02.03.01 | B74: 450 mm Ø | C74: m | F74: =IF(TRIM(D74)="rate only","ro",IF(ISBLANK(E74)," ",D74*E74))
...

Sheet Section 503
A1: ITEM | B1: DESCRIPTION | C1: UNIT | D1: QTY | E1: RATE | F1: AMOUNT
A3: SERIES 5 | B3: DRAINAGE AND EROSION
B4: PROTECTION
A6: Section 503 | B6: Kerbing and Channelling
A8: 503.01 | B8: Concrete kerbing Class 20/19
B9: concrete
A12: 503.01.01 | B12: Edge beam 150mm x 150mm | C12: no | D12: 2813 | F12: =IF(TRIM(D12)="rate only","ro",IF(OR(ISBLANK(D12),ISBLANK(E12))," ",D12*E12))
A14: 503.01.02 | B14: Figure 8b Precast mountable kerbs | C14: no | D14: 2813 | F14: =IF(TRIM(D14)="rate only","ro",IF(ISBLANK(E14)," ",D14*E14))
A27: 503.02 | B27: Concrete kerbing-channelling
B28: combination
B29: (See drawing STD007 - Sheet 1)
A31: 503.02.01 | B31: Semi-vertical kerb (Fig. 8C) with
B32: concrete channel | C32: m | D32: =D12*0.05 -> 140.65 | F32: =IF(TRIM(D32)="rate only","ro",IF(ISBLANK(E32)," ",D32*E32))
A34: 503.02.02 | B34: Barrier kerb (Fig. 3) with concrete
B35: channel | C35: m | D35: =D32*0.1 -> 14.065 | F35: =IF(TRIM(D35)="rate only","ro",IF(ISBLANK(E35)," ",D35*E35))
A38: 503.03 | B38: Transition sections
B39: (See drawing STD007 - Sheet 2)
A41: 503.03.01 | B41: Semi-vertical kerb (Fig. 7) to
B42: edge beam | C42: no | D42: 10 | F42: =IF(TRIM(D42)="rate only","ro",IF(ISBLANK(E42)," ",D42*E42))
A44: 503.03.02 | B44: Semi-vertical kerb (Fig. 7) to
B45: 300mm sloping kerb | C45: no | D45: 10 | F45: =IF(TRIM(D45)="rate only","ro",IF(ISBLANK(E45)," ",D45*E45))
A47: 503.03.03 | B47: Semi-vertical kerb (Fig. 7) to
B48: 400mm sloping kerb | C48: no | D48: 10 | F48: =IF(TRIM(D48)="rate only","ro",IF(ISBLANK(E48)," ",D48*E48))
A50: TOTAL CARRIED FORWARD | F50: =SUM(F2:F49) -> 0
A52: Signature of person authorised to sign the tender: | E52: Date
A55: ITEM | B55: DESCRIPTION | C55: UNIT | D55: QTY | E55: RATE | F55: AMOUNT
A56: TOTAL BROUGHT FORWARD | F56: =F50 -> 0
A58: 503.03.04 | B58: Semi-vertical kerb (Fig. 7) to
B59: 500mm sloping kerb | C59: no | F59: =IF(TRIM(D59)="rate only","ro",IF(ISBLANK(E59)," ",D59*E59))
A61: B503.01.05 | B61: Extra over Items 503.03.01, 503.03.02,
B62: 503.03.03, 503.04.04 for variations
B63: in concrete volume due to variations
B64: from the standard dimensions | C64: m³ | F64: =IF(TRIM(D64)="rate only","ro",IF(ISBLANK(E64)," ",D64*E64))
A102: TOTAL CARRIED TO SUMMARY | F102: =SUM(F56:F101) -> 0
A104: Signature of person authorised to sign the tender: | E104: Date

Sheet Section 504
A1: ITEM | B1: DESCRIPTION | C1: UNIT | D1: QTY | E1: RATE | F1: AMOUNT
A3: SERIES 5 | B3: DRAINAGE AND EROSION
B4: PROTECTION
A6: Section 504 | B6: Open Drains
A8: 504.01 | B8: Mitre drains and catchwater drains
A10: 504.01.01 | B10: Mitre drains | C10: m³ | D10: 50 | F10: =IF(TRIM(D10)="rate only","ro",IF(OR(ISBLANK(D10),ISBLANK(E10))," ",D10*E10))
A12: 504.01.02 | B12: Catchwater drains | C12: m³ | D12: 50 | F12: =IF(TRIM(D12)="rate only","ro",IF(ISBLANK(E12)," ",D12*E12))
A15: 504.03 | B15: Side drains
B16: (See drawing STD17 - Sheet 2)
A18: 504.03.01 | B18: Type 1.1 - Small side drain allowing
B19: erf access | C19: m | D19: ='Earthworks-Layerworks'!B27*0.1 -> 397.1 | F19: =IF(TRIM(D19)="rate only","ro",IF(ISBLANK(E19)," ",D19*E19))
A21: 504.03.02 | B21: Type 1.2 - Small side drain allowing
B22: erf access | C22: m | D22: 0 | F22: =IF(TRIM(D22)="rate only","ro",IF(ISBLANK(E22)," ",D22*E22))
A24: 504.03.03 | B24: Type 2 - Small side drain with no
B25: erf access | C25: m | F25: =IF(TRIM(D25)="rate only","ro",IF(ISBLANK(E25)," ",D25*E25))
A27: 504.03.04 | B27: Type 3 - Large side drain allowing
B28: erf access | C28: m | F28: =IF(TRIM(D28)="rate only","ro",IF(ISBLANK(E28)," ",D28*E28))
A30: 504.03.05 | B30: Type 4 - Large side drain with no
B31: erf access | C31: m | F31: =IF(TRIM(D31)="rate only","ro",IF(ISBLANK(E31)," ",D31*E31))
A33: 504.03.06 | B33: Type 5 - Large side drain where
B34: required capacity exceeds that
B35: of Type 4 | C35: m | F35: =IF(TRIM(D35)="rate only","ro",IF(ISBLANK(E35)," ",D35*E35))
A38: 504.04 | B38: Channels (type design):
A40: 504.04.01 | B40: Description of thr channel with reference
B41: to the Drawings. State the class of | C41: m | F41: =IF(TRIM(D41)="rate only","ro",IF(ISBLANK(E41)," ",D41*E41))
B42: concrete
A44: 504.04.02 | B44: Etc in respect of other channel types
A49: TOTAL CARRIED FORWARD | F49: =SUM(F2:F48) -> 0
A51: Signature of person authorised to sign the tender: | E51: Date
A54: ITEM | B54: DESCRIPTION | C54: UNIT | D54: QTY | E54: RATE | F54: AMOUNT
A55: TOTAL BROUGHT FORWARD | F55: =F49 -> 0
A57: 504.05 | B57: Construction of chutes, side drains,
B58: channels, inlet and outlet structures,
B59: transition sections and auxiliary
B60: structures (Measured by components)
A62: 504.05.01 | B62: Excavation | C62: m³ | D62: =D19*1.2*0.3 -> 142.956 | F62: =IF(TRIM(D62)="rate only","ro",IF(ISBLANK(E62)," ",D62*E62))
A64: 504.05.02 | B64: Preparation of excavations for concrete-
B65: lined open drains | C65: m² | D65: =D62/1.2 -> 119.13 | F65: =IF(TRIM(D65)="rate only","ro",IF(ISBLANK(E65)," ",D65*E65))
A67: 504.05.03 | B67: Cast in situ concrete for the lining of
B68: of open drains, or open drains
...

Sheet Section 505
A1: ITEM | B1: DESCRIPTION | C1: UNIT | D1: QTY | E1: RATE | F1: AMOUNT
A3: SERIES 5 | B3: DRAINAGE AND EROSION
B4: PROTECTION
A6: Section 505 | B6: Erosion Protection
A8: 505.01 | B8: Foundation trench excavation and
B9: backfilling
A11: 505.01.01 | B11: In solid rock (material which
B12: requires blasting) | C12: m³ | D12: 10 | F12: =IF(TRIM(D12)="rate only","ro",IF(OR(ISBLANK(D12),ISBLANK(E12))," ",D12*E12))
A14: 505.01.02 | B14: In all other classes of material | C14: m³ | D14: 45 | F14: =IF(TRIM(D14)="rate only","ro",IF(ISBLANK(E14)," ",D14*E14))
A17: LI 505.02 | B17: Surface preparation for the bedding
B18: of gabions | C18: m² | D18: =30*1.2*2 -> 72 | F18: =IF(TRIM(D18)="rate only","ro",IF(ISBLANK(E18)," ",D18*E18))
A20: 505.03 | B20: Gabions
A22: 505.03.01 | B22: Gabion boxes, mesh type 80 with
B23: 2.7mm Class A galvanised wire -
A25: 505.03.01.01 | B25: 1.0m x 1.0m x 1.0m | C25: m³ | D25: 20 | F25: =IF(TRIM(D25)="rate only","ro",IF(ISBLANK(E25)," ",D25*E25))
A27: 505.03.01.02 | B27: 1.5m x 1.0m x 1.0m | C27: m³ | D27: =75%*D25 -> 15 | E27: =E25 -> 0 | F27: =IF(TRIM(D27)="rate only","ro",IF(ISBLANK(E27)," ",D27*E27)) -> 0
A29: 505.03.01.03 | B29: 2.0m x 1.0m x 1.0m | C29: m³ | D29: =65%*D25 -> 13 | E29: =E27 -> 0 | F29: =IF(TRIM(D29)="rate only","ro",IF(ISBLANK(E29)," ",D29*E29)) -> 0
A31: 505.03.01.04 | B31: 3.0m x 1.0m x 1.0m | C31: m³ | D31: =D25*45% -> 9 | E31: =E29 -> 0 | F31: =IF(TRIM(D31)="rate only","ro",IF(ISBLANK(E31)," ",D31*E31)) -> 0
A33: 505.03.01.05 | B33: 4.0m x 1.0m x 1.0m | C33: m³ | D33: 0 | F33: =IF(TRIM(D33)="rate only","ro",IF(ISBLANK(E33)," ",D33*E33))
A35: 505.03.01.06 | B35: 2.0m x 0.5m x 0.5m | C35: m³ | D35: 0 | F35: =IF(TRIM(D35)="rate only","ro",IF(ISBLANK(E35)," ",D35*E35))
A37: 505.03.01.07 | B37: 2.0m x 1.0m x 0.5m | C37: m³ | D37: 0 | F37: =IF(TRIM(D37)="rate only","ro",IF(ISBLANK(E37)," ",D37*E37))
A39: 505.03.01.08 | B39: 3.0m x 1.0m x 0.5m | C39: m³ | D39: 0 | F39: =IF(TRIM(D39)="rate only","ro",IF(ISBLANK(E39)," ",D39*E39))
A41: 505.03.01.09 | B41: 4.0m x 1.0m x 0.5m | C41: m³ | D41: 0 | F41: =IF(TRIM(D41)="rate only","ro",IF(ISBLANK(E41)," ",D41*E41))
A49: TOTAL CARRIED FORWARD | F49: =SUM(F2:F48) -> 0
A51: Signature of person authorised to sign the tender: | E51: Date
A54: ITEM | B54: DESCRIPTION | C54: UNIT | D54: QTY | E54: RATE | F54: AMOUNT
A55: TOTAL BROUGHT FORWARD | F55: =F49 -> 0
A57: 505.03.02 | B57: Reno mattresses, mesh type 60 with
B58: 2.2mm Class A galvanised wire
A60: 505.03.02.01 | B60: 2.0m x 2.0m x 0.30m | C60: m³ | D60: 20 | F60: =IF(TRIM(D60)="rate only","ro",IF(ISBLANK(E60)," ",D60*E60))
A62: 505.03.02.02 | B62: 3.0m x 1.0m x 0.30m | C62: m³ | D62: 100 | F62: =IF(TRIM(D62)="rate only","ro",IF(ISBLANK(E62)," ",D62*E62))
A64: 505.03.02.03 | B64: 6.0m x 2.0m x 0.17m | C64: m³ | D64: 0 | F64: =IF(TRIM(D64)="rate only","ro",IF(ISBLANK(E64)," ",D64*E64))
A66: 505.03.02.04 | B66: 6.0m x 2.0m x 0.23m | C66: m³ | D66: 0 | F66: =IF(TRIM(D66)="rate only","ro",IF(ISBLANK(E66)," ",D66*E66))
A68: 505.03.02.05 | B68: 6.0m x 2.0m x 0.30m | C68: m³ | D68: 0 | F68: =IF(TRIM(D68)="rate only","ro",IF(ISBLANK(E68)," ",D68*E68))
A71: 505.04 | B71: Extra over item 505.03 for supplying
B72: gabions with PVC-coated wire
A74: 505.04.01 | B74: 3.7mm PVC thickness | C74: m³ | D74: =D25 -> 20 | F74: =IF(TRIM(D74)="rate only","ro",IF(ISBLANK(E74)," ",D74*E74))
A76: 505.04.02 | B76: 3.2mm PVC thickness | C76: m³ | D76: 30 | F76: =IF(TRIM(D76)="rate only","ro",IF(ISBLANK(E76)," ",D76*E76))
A79: 505.05 | B79: Filter fabric for gabions and riprap
A81: 505.05.01 | B81: Bidim A4 or equivalent approved | C81: m² | D81: 350 | F81: =IF(TRIM(D81)="rate only","ro",IF(ISBLANK(E81)," ",D81*E81))
...

Sheet Section 601
A1: ITEM | B1: DESCRIPTION | C1: UNIT | D1: QTY | E1: RATE | F1: AMOUNT
A3: SERIES 6 | B3: ROADS AND PARKING AREAS
A5: Section 601 | B5: Gravel Pavement Layers
A7: 601.01 | B7: Preparation and compaction of in situ
B8: subgrade material to -
A10: 601.01.01 | B10: 90% of modified AASHTO density | C10: m³ | D10: =12%*D12 -> 165.11418 | F10: =IF(TRIM(D10)="rate only","ro",IF(OR(ISBLANK(D10),ISBLANK(E10))," ",D10*E10))
A12: 601.01.02 | B12: 93% of modified AASHTO density | C12: m³ | D12: ='Earthworks-Layerworks'!M27 -> 1375.9515 | F12: =IF(TRIM(D12)="rate only","ro",IF(ISBLANK(E12)," ",D12*E12))
A15: 601.02 | B15: Gravel layers constructed from
B16: material obtained from borrow pits
A18: 601.02.01 | B18: Subgrade
A20: 601.02.01.01 | B20: Compacted to 93% of modified
B21: AASHTO density | C21: m³ | D21: 2500 | F21: =IF(TRIM(D21)="rate only","ro",IF(ISBLANK(E21)," ",D21*E21))
A23: 601.02.01.02 | B23: Compacted to 95% of modified
B24: AASHTO density | C24: m³ | D24: ='Earthworks-Layerworks'!E27+'Earthworks-Layerworks'!M27 -> 5700.3705 | F24: =IF(TRIM(D24)="rate only","ro",IF(ISBLANK(E24)," ",D24*E24))
A26: 601.02.02 | B26: Subbase
A28: 601.02.02.01 | B28: Compacted to 95% of modified
B29: AASHTO density | C29: m³ | D29: ='Earthworks-Layerworks'!F27+'Earthworks-Layerworks'!N27 -> 5405.5238 | F29: =IF(TRIM(D29)="rate only","ro",IF(ISBLANK(E29)," ",D29*E29))
A31: 601.02.02.02 | B31: Compacted to 97% of modified
B32: AASHTO density | C32: m³ | D32: 3500 | F32: =IF(TRIM(D32)="rate only","ro",IF(ISBLANK(E32)," ",D32*E32))
A34: 601.02.03 | B34: Base
A36: 601.02.03.01 | B36: Compacted to 98% of modified
