Workbook
Name _GoBack: Cover!$A$4
Name _KPA1: #REF!
Name _SEC1200: #REF!
Name Beg_Bal: #REF!
Name Data: #REF!
Name End_Bal: #REF!
Name Extra_Pay: #REF!
Name Full_Print: #REF!
Name Header_Row: ROW(#REF!)
Name Int: #REF!
Name Interest_Rate: #REF!
Name Last_Row: IF(Metalwork!Values_Entered,Header_Row+Metalwork!Number_of_Payments,Header_Row)
Name Last_Row: IF(Metalwork!Values_Entered,Header_Row+Metalwork!Number_of_Payments,Header_Row)
Name Loan_Amount: #REF!
Name Loan_Start: #REF!
Name Loan_Years: #REF!
Name Num_Pmt_Per_Year: #REF!
Name Number_of_Payments: MATCH(0.01,End_Bal,-1)+1
Name Number_of_Payments: MATCH(0.01,End_Bal,-1)+1
Name PA: '[1]P CERTIFICATE'!$A$2:$H$74
Name Pay_Date: #REF!
Name Pay_Num: #REF!
Name Payment_Date: DATE(YEAR(Loan_Start),MONTH(Loan_Start)+Payment_Number,DAY(Loan_Start))
Name Payment_Date: DATE(YEAR(Loan_Start),MONTH(Loan_Start)+Payment_Number,DAY(Loan_Start))
Name Princ: #REF!
Name Print_Area_MI: #REF!
Name Print_Area_Reset: OFFSET(Full_Print,0,0,Metalwork!Last_Row)
Name Print_Area_Reset: OFFSET(Full_Print,0,0,Last_Row)
Name Prof_fees: #REF!
Name Sched_Pay: #REF!
Name Scheduled_Extra_Payments: #REF!
Name Scheduled_Interest_Rate: #REF!
Name Scheduled_Monthly_Payment: #REF!
Name SUBTOTALS: #REF!
Name Total_Interest: #REF!
Name Total_Pay: #REF!
Name Total_Payment: Scheduled_Payment+Extra_Payment
Name Total_Payment: Scheduled_Payment+Extra_Payment
Name TRANSFER: #REF!
Name Values_Entered: IF(Loan_Amount*Interest_Rate*Loan_Years*Loan_Start>0,1,0)
Name Values_Entered: IF(Loan_Amount*Interest_Rate*Loan_Years*Loan_Start>0,1,0)

Sheet Cover
A13: TENDER NO:
A16: BILLS OF QUANTITIES
A19: FOR
A22: SUPPLY AND ERECTIONS OF SECURITY INVISIBLE FENCE
A24: AT
A26: THUTO LESEDI PRIMARY SCOOL
A28: HUHUDI LOCTION NALEDI MUNICIPALITY
A37: ISSUED BY:
A39: Department of Education North West Province: Dr Ruth Segomotsi Mompati District
A40: Building Directorate / Infrastructure
A41: Private Bag X 21
A42: Vryburg, 8600
... A56: Tender Amount ………………………………………………………………………………………………………………………………….

Sheet Preliminaries & General
A2: Item No. | B2: Discription | H2: Unit | I2: Quantity | J2: Rate | K2: Amount
B4: SECTION NO. 1
B6: BILL NO. 1
B8: PRELIMINARIES AND GENERAL
B10: The agreement is to be the JBCC Series 2000 Minor Works Building Agreement, 4th Edition March 2004, and other contract documents that together form the contract between the employer and contractor
B12: The contractor shall agree the location of all temporary services with the principal agent before installation and on completion remove same and make good
Q13: 0
B14: Tenderers are referred to the aforementioned document for the full intent and meaning of each clause thereof for which such allowance must be made as required hereinafter
B16: SPECIFIC REQUIREMENTS
B18: The contractor shall allow for the following specific requirements of the employer:
A20: A | B20: Main notice board of an approved design with the title of the project and the names of the employer, the agents and the contractor signwritten thereon
H21: Item | I21: 0
A23: B | B23: Suitable office accommodation for meetings held on site
H24: Item | I24: 1
B26: Contractual Requirements
A28: C | B28: Contractual requirements including all sureties and insurances
H29: Item | I29: 0
B31: OWN REQUIREMENTS
B33: In addition to the specific requirements of the employer, detailed above, the contractor shall allow for his own preliminary and/or overhead costs as required for the execution of the contract such as the following and any other requirements he may wish to add:
B35: Facilities for Contractor
A37: D | B37: Offices and Storage Sheds
H38: Item | I38: 1
A40: E | B40: Ablution and Latrine Facilities
H41: Item | I41: 1
G44: Carried to Collection | J44: R | K44: =SUM(K21:K43) -> 0
A46: A | B46: Tools and Equipment
H47: Item | I47: 1
A49: B | B49: Water
H50: Item | I50: 1
A52: C | B52: Electricity
H53: Item | I53: 1
A55: D | B55: Other fixed obligations
H56: Item | I56: 1
A58: E | B58: Removal of site establishment and cleaning of construction site
H59: Item | I59: 1
B61: Health and Safety Regulations
A63: F | B63: Preparation of Health and Safety plan
H64: Item | I64: 1
A66: G | B66: Healthy and Safety Training
H67: Item | I67: 1
...

Sheet scope of work
A1: Item | I1: Unit | J1: Qty | K1: Rate | L1: Amount
B3: SECTION NO. 2
B5: BILL NO. 1
B7: DEMOLITIONS AND ALTERATIONS
B9: NOTE: | C9: The Contractor is advised to visit the site prior to pricing the following items in order to ascertain the exact nature and full extent of the works as no liability whatsoever shall be accepted as a result of brevity of descriptions.
B14: All dimensional descriptions are to be treated as approximate.
B16: The Contractor shall, in all cases, allow for disposal of materials arising from demolition and alteration works. This shall apply even if it is not expressly provided for on the description of an item. Demolition of brick walls shall be deemed to include removal and carting away sundry items existing within the walls to be demolished except for doors, door frames and window frames which are elsewhere measured.
B23: All materials arising from alterations and/demolitions belong to the contractor. Provision is made for transferring the credit amounts to item of "Credit for old materials for demolitions/alterations" on the final summary page which is deducted from the subtotal after VAT. Should the school community need any material, they can negotiate with the contractor in question and the material be stored in a safe place away from the learners. If any injuries occur as a result of the said material it shall be the responsibility of the latter owner. Any agreement entered between the contractor and the school community shall be in writing.
B26: The Contractor will be held responsible for and is to make good at his own expense any damage caused to the existing remaining structures and surrounding buildings and all work not to be removed during the progress of the works and also to any fittings, etc., and is to leave all perfect and watertight on completion, cover and protect as necessary
H33: Carried to Collection | K33: R | L33: =SUM(L22:L33) -> 0
B34: DEMOLITIONS ETC
B36: REMOVAL OF EXISTING WORK
B41: Breaking up and removing old perimeter fence (Poles/ concrete,etc), take away rubble from site
A43: A | B43: Existing perimeter fence including posts, gates and concrete bases | I43: m | J43: 1000
A47: B | B47: Digging upand removal of rubbish, debrish, grass shrubs, vegetation, hedges including trees not exceeding 200mm girth | I47: m2 | J47: 2000
B50: EXCAVATIONS
B52: Excavate in pickable eath not exceeding 2000mm deep.
A54: C | B54: Holes | I54: m3 | J54: 22
A56: D | B56: Extra over excavations in pickable earth for excavations in Soft rock | I56: m3 | J56: 10
A58: E | B58: Extra over excavations in pickable earth for excavations in Hard rock | I58: m3 | J58: 14
H60: Carried to Collection | K60: R | L60: =SUM(L43:L59) -> 0
B63: CONCRETE
B65: Concrete of 15 Mpa
A67: F | B67: In fencing post bases | I67: m3 | J67: 22
B70: FENCE (INVISIBLE PANEL WALL SYSTEM)
B72: Corner, intermediate and gate posts
A74: G | B74: 76 X 76 x 3mm thick Galvanised steel posts 2,4m high including 300 x 300 x 6mm base plate and cap including all necessary locking mechanisms to secure panels
I75: No | J75: 400
B79: INVISIBLE WALL PANELS
A81: H | B81: Panels shall be not more than 2,5m long x 2,4m high x 3mm thick galvanised mesh with aperture size 76,2 x 12,7mm and V-shaped horizontal recessed band for rigidity
I82: No | J82: 400
B84: SHARK TOOTH SPIKE
A86: I | B86: 2,5 m long galvanized spikes | I86: No | J86: 400
B88: DELIVERY OR MOTOR CAR GATES
A90: J | B90: 3,6 x 2,4m high single leaf Galvanized sliding gate including heavy duty rail, spikes and locking mechanism. | I90: No | J90: 1
B92: PEDESTRAIN GATES
A94: K | B94: 1,2 X 2,4 m high single leaf swing Galvanized steel gate including spikes and locking mechanism | I94: N0 | J94: 1
H96: Carried to Collection | K96: R | L96: =SUM(L67:L95) -> 0
B98: =B3 -> SECTION NO. 2
B100: =B5 -> BILL NO. 1
...

Sheet Concrete
A1: Item No. | B1: Description | I1: Unit | J1: Quantity | K1: Rate | L1: Amount
B3: ='scope of work'!B3 -> SECTION NO. 2
B5: BILL NO. 3
B7: CONCRETE, FORMWORK AND REINFORCEMENT
B9: IN - SITU CONCRETE
B11: Plain Concrete (20 Mpa)
A13: A | B13: In concrete apron and water chanels
B15: F | C15: 25.25 | I15: m³ | J15: =C15+C16+E15+E16+G15+G16 -> 25.25
B18: Reinforced Concrete (25 Mpa) / Unreinforced Concrete (25 Mpa)
A20: B | B20: In floating slabs for stoeps
B22: F | C22: 12 | I22: m³ | J22: =C22+C23+E22+E23+G22+G23 -> 12
B25: Sundries
A27: C | B27: Finishing top surface of concrete slabs with a smooth wood float
B29: F | C29: 54 | I29: m² | J29: =C29+C30+E29+E30+G29+G30 -> 54
H41: Carried to Collection | K41: R | L41: =SUM(L4:L39) -> 0
B43: REINFORCEMENT (PROVISIONAL) / UNREINFORCED
B45: Fabric reinforcement
A47: A | B47: Type 193 fabric reinforcement in concrete surface beds, slabs, etc, lapped 300 mm (measured net)
B50: F | C50: 72 | I50: m² | J50: =C50+C51+E50+E51+G50+G51 -> 72
B53: EXPANSION JOINTS
A55: B | B55: Joint filler material (According to manufacturers specifications) or other equal and approved bitumen felt in expansion joints between concrete and existing brick faces in narrow widths not exceeding 300mm
B59: F | C59: 104 | I59: m² | J59: =C59+C60+E59+E60+G59+G60 -> 104
A62: C | B62: 10 x 25mm 'Expandite Pliastic' pointing in joints between concrete faces including racking out joint for a depth of 20mm
B65: F | C65: 540 | I65: m | J65: =C65+C66+E65+E66+G65+G66 -> 540
H98: Carried to Collection | K98: R | L98: =SUM(L43:L97) -> 0
B100: =B3 -> SECTION NO. 2
B102: =B5 -> BILL NO. 3
B104: =B7 -> CONCRETE, FORMWORK AND REINFORCEMENT
B106: COLLECTION
B108: Total BROUGHT FORWARD from Page Number | J108: 1 | L108: =L41 -> 0
J110: 2 | L110: =L98 -> 0
H153: Carried FORWARD to Summary of Section No. 2 | K153: R | L153: =SUM(L101:L151) -> 0

Sheet Roof Coverings
A1: Item No. | B1: Description | I1: Unit | J1: Quantity | K1: Rate | L1: Amount
B3: ='scope of work'!B3 -> SECTION NO. 2
B5: BILL NO. 5
B7: ROOF COVERINGS
B9: ROOF COVERINGS / MATCH EXISTING
B11: 0.6 mm Pre painted (croma dek) Corrugated iron roofing sheets and accessories fixed in strict accordance with the manufacturer's instructions (measured net - no allowance made for laps)
A15: A | B15: Roofing sheets fixed timber purlins (elsewhere measured) spaced out at approximately 1400 mm centres maximum with and including galvanised screw nails each with one bitumen felt and one galvanised steel washer; the side laps sealed with mastic sealing compound all drilling and mitre cutting at approximately 900mm centres.
B22: A | C22: 260 | D22: B | E22: 320 | F22: C | G22: 330 | I22: m² | J22: =C22+E22+G22+C23+E23+G23 -> 1770
B23: D | C23: 300 | D23: E | E23: 350 | F23: F | G23: 210
A25: B | B25: Plain wing fixed angle ridge capping
B27: A | C27: 26.5 | D27: B | E27: 32 | F27: C | G27: 33 | I27: m | J27: =C27+C28+E27+E28+G27+G28 -> 151.5
B28: D | C28: 30 | D28: E | E28: 30 | F28: F | G28: 0
H51: Carried FORWARD to Summary of Section No. 2 | K51: R | L51: =SUM(L2:L50) -> 0

Sheet Carpentry & Joinery
A1: Item No. | B1: Description | I1: Unit | J1: Quantity | K1: Rate | L1: Amount
B3: ='scope of work'!B3 -> SECTION NO. 2
B5: BILL NO. 6
B7: CARPENTRY AND JOINERY:
B9: ROOFS, ETC
B11: PREFABRICATED ROOF TRUSSES
B13: NOTE: | C13: Trusses are to be ''Hydronail or Gangnail'' prefabricated timber trusses with all members joined together with steel plates. All timbers to be wrot
C17: The roof is to be erected in accordance with the relevant drawings.
C20: Prices are to include for all necessary trusses, rafters, ties and bracings complete.
C23: The roof is to be designed to carry Galvanised IBR roofing sheets with trusses at approximately 1200 mm centres and pitched at minimum 18 degrees
C27: The Contractor may be required to produce design calculations for checking, notwithstanding which, he will be held solely responsible for sufficiency of design
C31: All dimensions given are approximate and should not be used for design or ordering purposes
A34: A | B34: Allow for supply and fixing of specialist designed and fabricated Roof construction to double pitched roof with each rafter of 5500 mm, runner 8140 mm and permanent bracing 7800 mm all joined with gangplanks (wall plates, purlins, etc. elsewhere) (see roof detail).
B39: A | C39: 2 | D39: B | E39: 17 | F39: C | G39: 5 | I39: No. | J39: =C39+C40+E39+E40+G39+G40 -> 24
B42: Sawn softwood
A44: B | B44: 38 x 114 mm Wall plate
B46: A | C46: 36 | D46: B | E46: 45 | F46: C | G46: 28 | I46: m | J46: 109
A49: C | B49: 76mm x 50mm purlins
B51: A | C51: 176 | D51: B | E51: 532 | F51: C | G51: 386 | I51: m | J51: =C51+C52+E51+E52+G51+G52 -> 1094
A54: D | B54: 38mm x 38mm branderings
B56: A | C56: 0 | D56: B | E56: 448 | F56: C | G56: 448 | I56: m | J56: =C56+C57+E56+E57+G56+G57 -> 1344
B57: D | C57: 448
A59: E | B59: 0,315 mmØ wire to tie purlins to rafters
B61: A | C61: 0 | D61: B | E61: 24 | F61: C | G61: 2 | I61: kg | J61: =C61+C62+E61+E62+G61+G62 -> 54
B62: D | C62: 28
A64: F | B64: Hurricane clips
B66: A | C66: 100 | D66: B | E66: 100 | F66: C | G66: 100 | I66: no | J66: =C66+C67+E66+E67+G66+G67 -> 300
H70: Carried to Collection | K70: R | L70: =SUM(L39:L69) -> 0
B72: Sundries
A74: A | B74: Two coats creosote on sawn timbers
B76: A | C76: 20 | D76: B | E76: 20 | F76: C | G76: 20 | I76: m² | J76: =C76+C77+E76+E77+G76+G77 -> 60
B79: JOINERY
B81: FASCIAS, BARGE BOARDS, etc
A83: B | B83: Ref. 041-006 high density "Everite Nutec" or similar approved Fascias and barge boards
B86: A | C86: 0 | D86: B | E86: 84 | F86: C | G86: 86 | I86: m | J86: =C86+C87+E86+E87+G86+G87 -> 250
B87: D | C87: 80
B89: DOORS
B91: Wrought meranti doors
A93: C | B93: 44mm Framed, ledged and battened door 813 x 2032mm high
B95: A | C95: 0 | D95: B | E95: 4 | F95: C | G95: 4 | I95: No. | J95: =C95+C96+E95+E96+G95+G96 -> 12
...

Sheet Ceilings, Partitions
A1: Item No. | B1: Description | I1: Unit | J1: Quantity | K1: Rate | L1: Amount
B3: ='scope of work'!B3 -> SECTION NO. 2
B5: BILL NO. 7
B7: CEILINGS, PARTITIONS AND ACCESS FLOORING:
B9: CEILINGS
B11: 6.40 mm Gypsum or similar approved plasterboard sheeting and set out symmetrically in panels with equal margins and fixed in strict accordance with the manufacturer's instructions
A15: A | B15: To level soffits fixed to existing 38 x 38 mm sawn softwood brandering at approximately 400 mm centres, fixed to timber frame in strips.
B20: A | C20: 190.8 | D20: B | E20: 222 | F20: C | G20: 222 | I20: m² | J20: =C20+C21+E20+E21+G20+G21 -> 856.8
B21: D | C21: 222
A23: B | B23: Trim ceiling to form access opening size 610 x 610 mm in clear, including trap formed of 5 mm prime-coated hardboard on 38 x 76 mm wrot softwood trimmers framed around opening, and 19 x 76 mm wrot softwood angle rounded planted on and mitred around at junction with ceiling (provisional)
B29: A | C29: 4 | D29: B | E29: 4 | F29: C | G29: 4 | I29: No. | J29: =C29+C30+E29+E30+G29+G30 -> 12
B32: Aerolite insulation
A34: C | B34: 50mm insulation closely fitted and laid on top of brandering between roof timbers, etc
B39: A | C39: 0 | D39: B | E39: 0 | F39: C | G39: 0 | I39: m² | J39: =C39+C40+E39+E40+G39+G40 -> 0
B40: D | C40: 0 | D40: E | E40: 0 | F40: F | G40: 0
C41: O
B42: CORNICES, ETC
A44: D | B44: 50 mm Rhinocove coved cornice fixed to wall including mitres, etc
B46: A | C46: 201.6 | D46: B | E46: 120 | F46: C | G46: 120 | I46: m | J46: =C46+C47+E46+E47+G46+G47 -> 561.6
B47: D | C47: 120
A49: E | B49: 70 x 16mm Angle rounded cornice, plugged and including 19mm quadrant bead planted on.
B54: A | C54: 0 | D54: B | E54: 0 | F54: C | G54: 0 | I54: m | J54: =C54+C55+E54+E55+G54+G55 -> 0
H62: Carried FORWARD to Summary of Section No. 2 | K62: R | L62: =SUM(L2:L61) -> 0

Sheet Ironmongery
A1: Item No. | B1: Description | I1: Unit | J1: Quantity | K1: Rate | L1: Amount
B3: ='scope of work'!B3 -> SECTION NO. 2
B5: BILL NO. 9
B7: IRONMONGERY
B9: Hinges, Bolts, Etc
A11: A | B11: 100mm Brass butts.
B13: A | C13: 0 | D13: B | E13: 0 | F13: C | G13: 0 | I13: No. | J13: =C13+C14+E13+E14+G13+G14 -> 0 | L13: =J13*K13 -> 0
A16: B | B16: 150mm AL8052AS flush bolt and keep.
B18: A | C18: 0 | D18: B | E18: 0 | F18: C | G18: 0 | I18: No. | J18: =C18+C19+E18+E19+G18+G19 -> 0 | L18: =J18*K18 -> 0
A21: C | B21: Union CZ80941SC W.C. indicating bolt (lock) and keep.
F23: H | G23: 12 | I23: No. | J23: =C23+C24+E23+E24+G23+G24 -> 12
B26: Locks, Etc
A28: D | B28: 38mm Union 3122 padlock.
B30: A | C30: 0 | D30: B | E30: 0 | F30: C | G30: 0 | I30: No. | J30: =C30+C31+E30+E31+G30+G31 -> 0
A33: E | B33: Union AL684-24AS/2252-76SC three lever mortice lockset.
B35: A | C35: 4 | D35: B | E35: 4 | F35: C | G35: 4 | I35: No. | J35: =C35+C36+E35+E36+G35+G36 -> 16
B36: D | C36: 4
A38: F | B38: Union AL5515-150BBAS/2x6SC/2799SC profile double cylinder lockset.
B40: A | C40: 0 | D40: B | E40: 0 | F40: C | G40: 0 | I40: No. | J40: =C40+C41+E40+E41+G40+G41 -> 0
B43: Push Plates, Kicking Plates, Nameplates, Etc
A45: G | B45: AL5021-E-11/2AS engraved aluminium plate incorporating male/female/paraplegic pictogram.
B48: A | C48: 1 | D48: B | E48: 4 | F48: C | G48: 4 | I48: No. | J48: =C48+C49+E48+E49+G48+G49 -> 13
B49: D | C49: 4
A51: H | B51: 3 x 60mm High perspex plate with white vinyl bold Helvetica Medium lettering 35mm high with blue background engraved "NAME" and screwed to walls with four chromium plated sunk semi-domeheaded screws on double sided tape backing to all sides.
B54: A | C54: 1 | D54: B | E54: 4 | F54: C | G54: 4 | I54: No. | J54: =C54+C55+E54+E55+G54+G55 -> 13
B55: D | C55: 4
H57: Carried to Collection | K57: R | L57: =SUM(L5:L56) -> 0
B59: BATHROOM FITTINGS
A61: A | B61: Kimberley Clark white toilet roll dispenser SE2 code 405597 plugged to wall.
I64: No. | J64: =C64+C65+E64+E65+G64+G65 -> 0
A67: B | B67: Window stays
B69: A | C69: 20 | D69: B | E69: 20 | F69: C | G69: 20 | I69: No. | J69: =C69+C70+E69+E70+G69+G70 -> 60
A72: C | B72: Window slides
B74: A | C74: 10 | D74: B | E74: 10 | F74: C | G74: 10 | I74: No. | J74: =C74+C75+E74+E75+G74+G75 -> 30
A77: D | B77: Window handle
B79: A | C79: 10 | D79: B | E79: 10 | F79: C | G79: 10 | I79: No. | J79: =C79+C80+E79+E80+G79+G80 -> 30
A82: E | B82: Window catchers
B84: A | C84: 3 | D84: B | E84: 3 | F84: C | G84: 3 | I84: No. | J84: =C84+C85+E84+E85+G84+G85 -> 9
H109: Carried to Collection | K109: R | L109: =SUM(L60:L108) -> 0
B111: =B3 -> SECTION NO. 2
...

Sheet Plastering
A1: Item No. | B1: Description | I1: Unit | J1: Quantity | K1: Rate | L1: Amount
B3: ='scope of work'!B3 -> SECTION NO. 2
B5: BILL NO. 11
B7: PLASTERING
B9: SCREEDS
B11: 1:4 Cement Screeds
A13: A | B13: ? mm Screed on floors
B15: A | C15: 25 | D15: B | E15: 49 | F15: C | G15: 49 | I15: m2 | J15: 270
B19: PLASTERING AND FIXING CRACKED WALLS WITH CHICKEN MESH
B21: One coat 1:4 cement plaster and one final coat gypsum plaster finished smooth with a steel float internally, 12 mm plaster.
A24: B | B24: On walls
B26: A | C26: 10 | D26: B | E26: 15 | F26: C | G26: 15 | I26: m² | J26: 126
A29: C | B29: Ditto, but in narrow width not exceeding 300 mm wide
B31: A | C31: 10 | D31: B | E31: 10 | F31: C | G31: 10 | I31: m2 | J31: =C31+C33+E31+E33+G31+G33 -> 30
B34: One coat 1:4 cement plaster finished smooth with a wooden float externally 12 - 15 mm thickness.
A37: D | B37: On walls
B39: A | C39: 20 | D39: B | E39: 20 | F39: C | G39: 20 | I39: m² | J39: 120
A42: E | B42: Ditto, but in narrow width not exceeding 300 mm wide
B44: A | C44: 10 | D44: B | E44: 20 | F44: C | G44: 20 | I44: m² | J44: =C44+C46+E44+E46+G44+G46 -> 50
H59: Carried FORWARD to Summary of Section No. 2 | K59: R | L59: =SUM(L2:L58) -> 0

Sheet Metalwork
A1: Item No. | B1: Description | I1: Unit | J1: Quantity | K1: Rate | L1: Amount
B3: SECTION NO. 2
B5: BILL NO. 10
B7: METALWORK
B9: PRIMED MILD STEEL DOORS AND FRAMES
B11: Standard pressed steel door frame and linings for 44 mm thick doors complete with cramps for building in and steel butts
A13: A | B13: Prepare 76mm square tubing to receive wooden door size 813mmx2032mm high
B16: A | C16: 0 | D16: B | E16: 0 | F16: C | G16: 0 | I16: m | J16: =C16+C17+E16+E17+G16+G17 -> 0
B19: PRIMED MILD STEEL WINDOWS
B21: "Monarch" standard mild steel cottage section steel windows with and including lattice scroll type burglar bars welded to window frame
B24: Standard school windows
A26: B | B26: Window type (NE4) size 1511 x 654 mm high
B28: A | C28: 0 | D28: B | E28: 0 | F28: C | G28: 0 | I28: No. | J28: =C28+C29+E28+E29+G28+G29 -> 0
A31: C | B31: Window type (NE1) size 533 x 951 mm high
B33: A | C33: 0 | D33: B | E33: 0 | F33: C | G33: 0 | I33: No. | J33: =C33+C34+E33+E34+G33+G34 -> 0
A35: D | B35: Steel combination door
B37: A | C37: 0 | D37: B | E37: 0 | F37: C | G37: 0 | H37: No. | J37: =C37+C38+E37+E38+G37+G38 -> 0
A40: E | B40: Columns 76mm square tube welded together for 30m x 20m shelter
B42: A | C42: 0 | D42: B | E42: 0 | F42: C | G42: 0 | H42: m. | J42: =C42+C43+E42+E43+G42+G43 -> 0
A45: F | B45: Equal channel iron size 76mmx50mmx3mm welded together
B47: A | C47: 0 | D47: B | E47: 0 | F47: C | G47: 0 | H47: m. | J47: 260
B48: C | C48: 0 | D48: D | E48: 0 | F48: E | G48: 160
A50: G | B50: 76mm dia poles to create 30m X 20m
B52: A | C52: 0 | D52: B | E52: 0 | F52: C | G52: 0 | H52: m. | J52: =C52+C53+E52+E53+G52+G53 -> 240
B53: C | C53: 0 | D53: D | E53: 0 | F53: E | G53: 240
A55: H | B55: Welded security trellis shield to protect existing plastic cistern size 500mm wide x 400mm high provided with lockerble lid (2 small pad locks formed of 25mmx25mmx2.5mm square tube framing all round mitred and welded at angles and 5mm V.E.M.250 D expanded metal.
I57: No. | J57: =C57+C58+E57+E58+G57+G58 -> 12
F58: F | G58: 12
A60: I | B60: Steel burglar frame to suit steel burglar door on One brick wall plastered both sides and burglar door size 813 x 2032 mm high
B63: A | C63: 4 | D63: B | E63: 4 | F63: C | G63: 4 | H63: 0 | I63: no | J63: =C63+C64+E63+E64+G63+G64 -> 23
B64: C | C64: 4 | D64: D | E64: 4 | F64: E | G64: 3
A66: J | B66: Apply flat bars 16mm x 3mm on window frame to avoid children to get out of the window
B69: A | C69: 0 | D69: B | E69: 8 | F69: C | G69: 8 | H69: 0 | I69: no | J69: =C69+C70+E69+E70+G69+G70 -> 16
B70: C | C70: 0 | D70: D | E70: 0 | F70: E | G70: 0
A72: K | B72: 50mm square tube welded to be installed on the shelter for security structure
I75: no | J75: =C75+C76+E75+E76+G75+G76 -> 0
B78: CARPORTS for 8 cars
A80: L | B80: 76 X76 x 2.5mm square tubing for 8 cars structure flat roof
I82: m | J82: =C82+C83+E82+E83+G82+G83 -> 72
F83: J | G83: 72
...

Sheet Tiling
A1: Item No. | B1: Description | I1: Unit | J1: Quantity | K1: Rate | L1: Amount
B3: ='scope of work'!B3 -> SECTION NO. 2
B5: BILL NO. 12
B7: TILING
B9: WALL TILES
B11: 152 x 152mm white glazed ceramic wall tiles fixed with tile adhesive to plaster backing (plaster elsewhere) and flush pointed with tile grouting with 2mm joints
A15: A | B15: On walls
B17: A | C17: 0 | D17: B | E17: 0 | F17: C | G17: 0 | I17: m2 | J17: =C17+C19+E17+E19+G17+G19 -> 0
B20: FLOOR TILES
B22: 8 x 350 x 350 mm Non - slip ceramic floor tiles bedded and tight jointed in and including cement mortar and flush pointed in GREY cement and finished with two coats of wax polish
A26: B | B26: On floors
B28: A | C28: 190.8 | D28: B | E28: 222 | F28: C | G28: 222 | I28: m2 | J28: 320
B29: D | C29: 222
A31: C | B31: Skirting 100mm high of cut floor tiles
B33: A | C33: 201.6 | D33: B | E33: 120 | F33: C | G33: 120 | I33: m | J33: 560
B34: D | C34: 120
H57: Carried FORWARD to Summary of Section No. 2 | K57: R | L57: =SUM(L2:L56) -> 0

Sheet Glazing
A1: Item No. | B1: Description | I1: Unit | J1: Quantity | K1: Rate | L1: Amount
B3: ='scope of work'!B3 -> SECTION NO. 2
B5: BILL NO. 14
B7: GLAZING
B9: TO STEEL WITH PUTTY
B11: 4mm Clear Float Glass
A13: A | B13: Panes not exceeding 0.1m2
B15: A | C15: 0 | D15: B | E15: 0 | F15: C | G15: 0 | I15: m² | J15: =C15+C17+E15+E17+G15+G17 -> 0
A18: B | B18: Panes exceeding 0.1m2 not exceeding 0.5m2
B20: A | C20: 0 | D20: B | E20: 0 | F20: C | G20: 0 | I20: m² | J20: 48
B23: 4mm Pacific Obscure Glass
A25: C | B25: Panes not exceeding 0.1m2
B27: A | C27: 8 | D27: B | E27: 24 | F27: C | G27: 12 | I27: m² | J27: =C27+E27+G27+C28+E28+G28 -> 56
B28: D | C28: 12
A30: D | B30: Panes exceeding 0.1m2 not exceeding 0.5m2
B32: A | C32: 0 | D32: B | E32: 0 | F32: C | G32: 0 | I32: m² | J32: =C32+C33+E32+E33+G32+G33 -> 0
B35: TOPS, SHELVES, DOORS, MIRRORS, ETC
B37: 4mm silver float glass complete with beveled edges installed on wall tiles (elsewhere), pluged and screwed to wall with 4 chrome mirror screw with dome caps
A39: E | B39: 6 mm Polished sheet glass silvered back mirror, size 600 x 1 200 mm high, with bevelled and polished edges, holed for and including four dome capped chromium plated screws with felt washers and fixed in position to wall
B44: J | C44: 6 | I44: No. | J44: =C44+E43+G43+C45+E45+G45+J56 -> 6
H56: Carried FORWARD to Summary of Section No. 2 | K56: R | L56: =SUM(L2:L55) -> 0

Sheet Painting
A1: ItemNo. | B1: Description | I1: Item | J1: Quantity | K1: Rate | L1: Amount
B3: ='scope of work'!B3 -> SECTION NO. 2
B5: BILL NO. 15
B7: PAINTWORK
B9: PREPARATORY WORK TO EXISTING WORK
B11: Previously painted plastered surfaces Surfaces shall be thoroughly washed down and allowed to dry completely before any paint is applied. Blistered or peeling paint shall be completely removed and cracks shall be opened, filled with a suitable filler and finished smooth
B14: Previously painted metal surfaces Prepare surfaces by means of wire brushing, sand and approved cleaning agent, primed surfacing of all members of steel palisade panel with zinc chromate primer and apply one univesal undercoat in zinc chromate and two coats enamel paint, all applied to manufacture's specifications
P16: select applicable heading
B17: Previously painted wood surfaces Surfaces shall be thoroughly cleaned down. Blistered or peeling paint shall be completely removed and cracks and crevices shall be primed, filled with suitable filler and finished smooth
B21: PAINTWORK TO NEW WORK
B23: PAINTWORK, ETC TO PREVIOUSLY PAINTED WORK
B25: ON PLASTER (DULUX)
B27: Prepare, stop and apply one undercoat and two finishing coats washable internal quality PVA paint internally( DULUX)
A30: A | B30: On existing prepared plastered walls
B32: A | C32: 571 | D32: B | E32: 306 | F32: C | G32: 306 | I32: m² | J32: =C32+C33+E32+E33+G32+G33 -> 1489
B33: D | C33: 306
A35: B | B35: Ditto, in narrow widths not exceeding 300 mm wide
B37: A | C37: 5 | D37: B | E37: 5 | F37: C | G37: 5 | I37: m² | J37: =C37+C38+E37+E38+G37+G38 -> 15
B42: Prepare, stop and apply one undercoat and two finishing coats washable external quality PVA paint externally
A45: A | B45: On existing prepared plastered walls
B47: A | C47: 215.6 | D47: B | E47: 250 | F47: C | G47: 250 | I47: m² | J47: =C47+C48+E47+E48+G47+G48 -> 965.6
B48: D | C48: 250
A52: B | B52: Ditto, in narrow widths not exceeding 300 mm wide
B54: A | C54: 2 | D54: B | E54: 2 | F54: C | G54: 2 | I54: m² | J54: =C54+C55+E54+E55+G54+G55 -> 6
B59: ON PLASTERBOARD SURFACES
B61: Prepare, stop and apply one undercoat and two finishing coats washable internal quality PVA ceiling paint internally
A64: C | B64: On plasterboard ceilings
B66: A | C66: 195 | D66: B | E66: 222 | F66: C | G66: 222 | I66: m² | J66: =C66+E66+G66+C67+E67+G67 -> 1184
B67: D | C67: 205 | D67: E | E67: 243 | F67: F | G67: 97
A69: D | B69: On gypsum plasterboard cornices
B71: A | C71: 25 | D71: B | E71: 20 | F71: C | G71: 20 | I71: m² | J71: =C71+E71+G71+C72+E72+G72 -> 106
B72: D | C72: 20 | D72: E | E72: 12 | F72: F | G72: 9
B74: ON FIBRE-CEMENT BOARD SURFACES
B76: Prepare, stop and apply one undercoat and two finishing coats washable internal quality PVA ceiling paint internally
A84: E | B84: On fascias and barge boards
B86: A | C86: 25 | D86: B | E86: 76 | F86: C | G86: 55 | I86: m² | J86: =C86+C88+E86+E88+G86+G88 -> 156
B89: ON WOOD
B91: Prepare, stop and apply one undercoat and two finishing coats high gloss enamel paint
B94: One coat wood primer, one undercoat and two external quality clear varnish
H98: Carried to Collection | K98: R | L98: =SUM(L32:L97) -> 0
...

Sheet Electricity
A1: Item | I1: Unit | J1: Qty | K1: Rate | L1: Amount
B3: SECTION NO. 2
B5: BILL NO. 16
B7: ELECTRICAL WORKS
A8: Item | I8: Unit | J8: Qty | K8: Rate | L8: Amount
B10: DEMOLITIONS ETC
A12: 1 | B12: Breaking up and removing
B14: The Contractor will be held responsible for and is to make good at his own expense any damage caused to the existing remaining structures and surrounding buildings and all work not to be removed during the progress of the works and also to any fittings, etc., and is to leave all perfect and watertight on completion, cover and protect as necessary
A20: A | B20: Remove the existing plugs
B22: A | C22: 4 | D22: B | E22: 4 | F22: C | G22: 4 | I22: No. | J22: =C22+E22+G22+C23+E23+G23 -> 16
B23: D | C23: 4
A25: B | B25: Remove the existing wires and pvc conduit
B27: A | C27: 0 | D27: B | E27: 20 | F27: C | G27: 20 | I27: m | J27: =C27+E27+G27+C28+E28+G28 -> 60
B28: D | C28: 20
A30: C | B30: Remove all earth leakage
I31: m
B32: A | C32: 1 | D32: B | E32: 2 | F32: C | G32: 2 | J32: =C32+E32+G32+C33+E33+G33 -> 7
B33: D | C33: 2
A36: 2 | B36: PVC material
A38: D | B38: Pvc Conduit Pipe 20mm
B40: A | C40: 0 | D40: B | E40: 50 | F40: C | G40: 50 | I40: m | J40: =C40+E40+G40+C41+E41+G41 -> 150
B41: D | C41: 50
A43: E | B43: Male/Female Aduptor pvc 20mm
B45: A | C45: 20 | D45: B | E45: 80 | F45: C | G45: 80 | J45: =C45+E45+G45+C46+E46+G46 -> 260
B46: D | C46: 80
A48: F | B48: PVC Looping Box 8way
B50: A | C50: 0 | D50: B | E50: 10 | F50: C | G50: 10 | J50: =C50+E50+G50+C51+E51+G51 -> 20
A53: G | B53: PVC Sadles 20mm
B56: A | C56: 0 | D56: B | E56: 10 | F56: C | G56: 10 | I56: m2 | J56: =C56+E56+G56+C57+E57+G57 -> 20
A59: H | B59: Truncking to fit wires inside (All accesories sizes)
B61: A | C61: 0 | D61: B | E61: 0 | F61: C | G61: 12 | I61: m | J61: =C61+E61+G61+C62+E62+G62 -> 12
A64: I | B64: Fisherplug screw 5mm
B66: A | C66: 0 | D66: B | E66: 40 | F66: C | G66: 40 | I66: no | J66: =C66+E66+G66+C67+E67+G67 -> 120
B67: D | C67: 40
A70: 3 | B70: Suply and install Electric Components
A72: A | B72: Spring Toggles
B74: A | C74: 15 | D74: B | E74: 15 | F74: C | G74: 15 | I74: m | J74: =C74+E74+G74+C75+E75+G75 -> 45
A77: B | B77: Galvanise pipe 20mm x4m and their acessories to mount it to the wall
B79: A | C79: 0 | D79: B | E79: 0 | F79: C | G79: 0 | I79: m | J79: =C79+E79+G79+C80+E80+G80 -> 0
A82: C | B82: Earth spike 1.2m
...

Sheet Plumbing & Drainage
A1: Item No. | B1: Description | I1: Unit | J1: Quantity | K1: Rate | L1: Amount
B3: SECTION NO. 2
B5: BILL NO. 13
B7: PLUMBING AND DRAINAGE
B10: SUBSOIL DRAINAGE
B12: uPVC pipes
A14: G | B14: 110mm uPVC "Geopipe" laid in and including trenches not exceeding 500mm deep including 19mm crushed stone encasing size 300 x 300mm minimum hight and U14 wrapped around encasing with 150mm side and geofabric filter blanket wrapped around encasing with 150mm side and 300mm end laps including stitching
B17: F | C17: 30 | I17: m | J17: =C17+C18+E17+E18+G17+G18 -> 30
H20: Carried to Collection | K20: R | L20: =SUM(L9:L18) -> 0
B22: Extra over uPVC pipes for fittings
A24: A | B24: Extra for 110mm uPVC bend
B26: F | C26: 30 | I26: No. | J26: =C26+C27+E26+E27+G26+G27 -> 30
A29: C | B29: Extra for angles, intersections, ends, dressing into sides of catchpits,
B30: etc.
B32: F | C32: 25 | I32: m | J32: =C32+C33+E32+E33+G32+G33 -> 25
B35: SANITARY FITTINGS
B37: "Franke" stainless steel or other equal approved sanitaryware
A39: D | B39: Franke Model CB102 (automatic flushing) Curved back urinal 1830 x 1264mm high with automatic flushing cistern, flush and sparge pipes and hinged domical grating
B42: F | C42: 2 | I42: No. | J42: =C42+C43+E42+E43+G42+G43 -> 2
B45: "Vaal" white vitreous china or other equal approved sanitaryware
A47: E | B47: 585 x 435 "Hygia" white vitreous china basin with two tapholes including overflow tube (code 8630Z0), chrome plated waste (code 8794Z0) and screwed to wall with two fixing screws
B50: F | C50: 10 | I50: No. | J50: =C50+C51+E50+E51+G50+G51 -> 10
A53: F | B53: Replace vip toilet pans with Orchid floor mounted wc pan fixed on and including floor bracket
B54: code 808220, closed rim back entry inlet for flush valve complete
B55: with fitments and quality "Avante" thermoset seat code 8516Z000,
B57: F | C57: 18 | I57: No. | J57: =C57+C58+E57+E58+G57+G58 -> 18
H66: Carried to Collection | K66: R | L66: =SUM(L22:L64) -> 0
A68: A | B68: Vaal Sanitaryware 600 x 385 x 380mm Lavatera white vitreous china wall mounted back inlet urinal (product code 704002) including 38mm chromium plated domed grating (product code 8787ZO) and chromium plated back inlet spreader (product code 7042ZO). Fixed on and including two hanger brackets (product code 8127ZO).
B71: F | C71: 4 | I71: No. | J71: =C71+C72+E71+E72+G71+G72 -> 4
B74: SANITARY PLUMBING
B76: uPVC pipes
A78: B | B78: 50mm Pipes
F80: F | G80: 20 | I80: m | J80: =C80+C81+E80+E81+G80+G81 -> 20
B83: Extra over uPVC pipes for fittings
A85: C | B85: 50mm End cap
F86: F | G86: 6 | I86: No. | J86: =C86+C87+E86+E87+G86+G87 -> 6
B89: TRAPS, ETC.
B91: "Marley" or equal approved
A93: D | B93: 40 x 50mm Deepseal "P" or "S" trap
F95: F | G95: 16 | I95: No. | J95: =C95+C96+E95+E96+G95+G96 -> 16
...

Sheet External Works
A1: Item | I1: Unit | J1: Qty | K1: Rate | L1: Amount
B2: ='[2]Dmltns & Alterations'!B3 -> SECTION NO. 2
B4: BILL NO. 16
B6: EXTERNAL WORKS
B8: REMOVAL OF TREES ETC
B10: Taking out removing, grubbing up roots and filling in holes
A12: A | B12: Tree stump exceeding 200mm and not exceeding 500mm girth
B14: A | C14: 0 | D14: B | E14: 0 | F14: C | G14: 0 | I14: m³ | J14: =C14+C15+E14+E15+G14+G15 -> 0 | K14: 250 | L14: =J14*K14 -> 0
B15: D | C15: 0 | D15: E | E15: 0 | F15: F | G15: 0
A17: B | B17: Tree stump exceeding 500mm and not exceeding 1000mm girth
B19: A | C19: 0 | D19: B | E19: 0 | F19: C | G19: 0 | I19: m³ | J19: =C19+C20+E19+E20+G19+G20 -> 0 | K19: 550 | L19: =J19*K19 -> 0
B20: D | C20: 0 | D20: E | E20: 0 | F20: F | G20: 0
B22: PAVING(PROVISIONAL)
B24: BULK EXCAVATIONS
B26: Excavation in earth not exceeding 2m deep
A28: C | B28: Over site to reduce levels for layerwork below paving and depositing excavated material in prescribed stock piles on site.
B31: A | C31: 0 | D31: B | E31: 0 | F31: C | G31: 0 | I31: m² | J31: =C31+C32+E31+E32+G31+G32 -> 80
B32: D | C32: 0 | D32: E | E32: 0 | F32: F | G32: 80
A34: D | B34: Scarify in-situ material for a depth of 150mm and re-compact to 90% Mod AASHTO density at optimum moisture content
B37: A | C37: 0 | D37: B | E37: 0 | F37: C | G37: 0 | I37: m² | J37: =C37+C38+E37+E38+G37+G38 -> 80
B38: D | C38: 0 | D38: E | E38: 0 | F38: F | G38: 80
A40: E | B40: Allow for risk of collapse to sides of excavations
B42: Extra over bulk excavation in earth for excavation in
B44: Soft rock
B46: A | C46: 0 | D46: B | E46: 0 | F46: C | G46: 0 | I46: m² | J46: =C46+C47+E46+E47+G46+G47 -> 10
B47: D | D47: E | E47: 0 | F47: F | G47: 10
A49: F | B49: Hard rock
B51: A | C51: 0 | D51: B | E51: 0 | F51: C | G51: 0 | I51: m³ | J51: =C51+C52+E51+E52+G51+G52 -> 10
B52: D | C52: 0 | D52: E | E52: 0 | F52: F | G52: 10
A56: G | B56: Extra over all excavations for carting away
B58: A | C58: 0 | D58: B | E58: 0 | F58: C | G58: 0 | I58: m³ | J58: =C58+C59+E58+E59+G58+G59 -> 0
B59: D | C59: 0 | D59: E | E59: 0 | F59: F | G59: 0
A61: H | B61: Keeping excavations free of water
B63: Keeping excavations free of all water other than subterranean water
B65: A | C65: 0 | D65: B | E65: 0 | F65: C | G65: 0 | I65: m³ | J65: =C65+C66+E65+E66+G65+G66 -> 0
B66: D | C66: 0 | D66: E | E66: 0 | F66: F | G66: 0
B68: Appproved in-situ rip and recompact filling supplied by the
B69: contractor
A71: I | B71: Layer course under roads, parking areas,walkways, etc compacted to 95% Mod AASHTO density
B74: A | C74: 0 | D74: B | E74: 0 | F74: C | G74: 0 | I74: m² | J74: =C74+C75+E74+E75+G74+G75 -> 0
...

Sheet Summary
B1: SUMMARY
B3: SECTION NUMBER 2
B5: MEASURED WORKS
A7: Bill | I7: Page | K7: Amount
A8: No.
A10: 1 | B10: DEMOLITIONS, ALTERATIONS AND FENCE | K10: ='scope of work'!L154 -> 0
A11: 2
A14: 5
A16: =A14+1 -> 6
A18: =A16+1 -> 7
A20: 8
A22: =A20+1 -> 9
A24: =A22+1 -> 10
A26: =A24+1 -> 11
A28: =A26+1 -> 12
A30: =A28+1 -> 13
A32: =A30+1 -> 14
A34: 15
A36: 16
H44: Carried to Final Summary | J44: R | K44: =SUM(K10:K43) -> 0

Sheet Final Summary
B2: FINAL SUMMARY
A4: Item | C4: Page | E4: AMOUNT
A7: 1 | B7: PRELIMINARIES AND GENERAL | E7: ='Preliminaries & General'!K156 -> 0
A9: 2 | B9: BUILDING WORKS | E9: ='scope of work'!L154 -> 0
B14: SUB - TOTAL | D14: R | E14: =SUM(E7:E13) -> 0
B17: SUB - TOTAL: CONSTRUCTION COST | D17: R | E17: =SUM(E14:E16) -> 0
B20: Add : Value Added Tax at the rate of 15% | C20: Item | D20: 0.15 | E20: =D20*E17 -> 0
B25: TOTAL TO FORM OF TENDER | D25: R | E25: =SUM(E17:E24) -> 0
