{"text_format":"3","workbook":"xlsx","n_sheets":3,"sheets":["Procedure","17.06.2026","Sheet1"],"not_rendered":{"defined_names":2},"read":"whole","date_system":"1900"}

{"sheet":"Procedure","index":0,"n_rows":13,"n_cols":2,"rows_kept":13}
[null,"Procedure"]
[null,"Reporting of Procurement by other means and contract expansions"]
[null,"1. Procurement by other means "]
[null,"Deviations <R1 Million not reportable"]
[null,"Deviations >R1 Million reportable"]
[null,"Report within 14 days after finalisation of procurement by other means (signed letter of acceptance)"]
[null,"2. Contract expansion and variation "]
[null,"Board approved contract expansions or variation above National Treasury thresholds (15%/R15 million for all other goods/service or 20%/R20 million for construction elated goods/services)"]
[null,"Report within 10 days from day of approval (signed by final approval committee)"]
[null,"Each report on new sheet (Exclude the Procedure sheet):\nConvert report to PDF for signing by Accounting Officer / Delegated Official\nRequest PA of CFO for signing. Do not load on coreshare for signing."]
[null,"Send signed PDF and Excel format by e-mail to: \nSCMGMC@zatreasury.onmicrosoft.com\ncc: Hulisani.Negovha@treasury.gov.za; georgew@agsa.co.za, \nSCM Manager (Mandla Sibanyoni) and SCM Administrator (Christelle Ferreira)"]
[null,"Save the e-mail, and the signed PDF report in folder #23400216 applicable Region"]
[null,"Update applicable consolidated/summary report in folder #23400216"]

{"sheet":"17.06.2026","index":1,"n_rows":1271,"n_cols":13,"rows_kept":1271,"merged":[[0,0,0,8],[0,9,0,11],[1,0,1,8],[2,0,2,9],[3,0,3,8],[4,0,4,11],[6,0,6,11],[7,0,7,11],[8,4,8,7],[10,4,10,7],[11,4,11,7],[12,4,12,7],[13,4,13,7],[14,4,14,7],[15,4,15,7],[16,0,16,11],[17,4,17,5],[18,4,247,5],[1265,4,1265,5],[1266,4,1266,5],[1267,7,1267,8],[1268,1,1268,11]]}
["REPORTING OF PROCUREMENT BY OTHER MEANS,  VARIATIONS AND EXPANSIONS OF CONTRACTS                      ",{"$nulls":8},"ANNEXURE B"]
["Full Name of National/ Provincial Institution: South African National Roads Agency SOC Ltd (SANRAL)"]
["Name of Accounting Officer / Delegated Official: Mr Dumisani Maluleke"]
["Director/ Chief Director SCM): Mr Dumisani Maluleke (Acting)"]
["Telephone number and email address: 012 844 8000 and Maluleked@nra.co.za"]
["Date:","2026-06-17"]
[]
["REPORTING OF PROCUREMENT BY OTHER MEANS "]
["No ","Project Description","Name of Supplier","Contract Number","Reason for the procurement by other means",{"$nulls":3},"Value of contract","Award Date","Contract start date","Contract expiry"]
[1]
[2]
[3]
[4]
[5]
[6]
[7]
["REPORTING OF EXPANSIONS AND VARIATIONS OF CONTRACTS"]
["No ","Project Description","Name of Supplier","Contract Number","Reason for expansion or variation of contract",null,"Original contract value","Value of contract expansion or variation of contract","Value of previous contract expansion or variation of contract","Award Date","Contract start date","Contract expiry"]
[1,"Consulting Engineering Services for the Routine Road Maintenance of National Route N1-19, N1-20, N17-1","Ndodana Consulting","X.002-128-2019/1F","•SANRAL’s RRM Programme is critical to maintaining uninterrupted coverage of the national road network and supports road safety, incident response, asset preservation, and service delivery obligations.\n•The proposed extensions are required due to delays in the procurement and appointment of replacement RRM consultants and contractors.\n•Consultant procurement delays arose following the cancellation of the consultant panel tender and delays in re-initiating procurement processes.\n•Contractor procurement delays are linked to ongoing legal proceedings relating to the award of the contractor panel tender, resulting in uncertainty regarding implementation timelines.\n•The replacement RRM contracts could not be concluded before expiry of the existing contracts, creating a risk of interruption to routine maintenance coverage.\n•SANRAL has also assumed responsibility for additional routes transferred from Provincial Authorities, increasing maintenance obligations and funding requirements across the network.\n•Delays in periodic maintenance projects, including resealing and resurfacing interventions, have accelerated pavement deterioration and increased reliance on RRM activities to maintain acceptable levels of service.\n•The pavement management lifecycle demonstrates that delayed maintenance interventions result in disproportionately higher future repair costs, potentially requiring strengthening or rehabilitation works instead of lower-cost preventative maintenance.\n•Short-term extensions have negatively impacted the ability of contractors to effectively implement Contract Participation Goal (CPG) subcontracting requirements. The proposed extension period will improve planning certainty and support transformation objectives.\n•\nSANRAL’s Annual Performance Plan (APP) requires full Routine Road Maintenance coverage across the national road network. Failure to maintain such coverage may expose SANRAL to operational, compliance, and audit risks.",null,{"v":26399086.05,"d":"R 26,399,086.05"},{"v":4140000,"d":"R4,140,000.00"},{"v":12272992.41,"d":"R12,272,992.41"},"2026-05-31","2020-12-01","2027-05-31"]
[2,"Routine Road Maintenance of National Route N1-19, N1-20, N17-1","Vea Road Maintenance","X.002-128-2019/1",null,null,{"v":161689536.78,"d":"R 161,689,536.78"},{"v":75911500,"d":"R75,911,500.00"},{"v":174139831.96,"d":"R174,139,831.96"},"2026-05-31","2019-05-21","2027-05-31"]
[3,"Consulting Engineering Services for the Routine Road Maintenance of National Route N1-20,N1-21,N3-12, N12-18","Ndodana Consulting","X.002-128-2019/9F",null,null,{"v":5688061.38,"d":"R 5,688,061.38"},{"v":4140000,"d":"R4,140,000.00"},{"v":10715479.86,"d":"R10,715,479.86"},"2026-05-31","2020-12-01","2027-05-31"]
[4,"Routine Road Maintenance of National Route N1-20,N1-21,N3-12, N12-18","Vea Road Maintenance","X.002-128-2019/9",null,null,{"v":31746862.19,"d":"R 31,746,862.19"},{"v":89711500,"d":"R89,711,500.00"},{"v":99272177.87,"d":"R99,272,177.87"},"2026-05-31","2019-05-21","2027-05-31"]
[5,"Consulting Engineering Services for the Routine Road Maintenance of National Route  N17-1","Ndodana Consulting","N.017-010-2019/1F",null,null,{"v":1390272.95,"d":"R 1,390,272.95"},{"v":1380000,"d":"R1,380,000.00"},{"v":9660918.11,"d":"R9,660,918.11"},"2026-05-31","2019-05-21","2027-05-31"]
[6,"Routine Road Maintenance of National Route  N17-1","Vea Road Maintenance","N.017-010-2019/1",null,null,{"v":42129587.37,"d":"R 42,129,587.37"},{"v":48311499.99999999,"d":"R48,311,500.00"},{"v":65305504.82,"d":"R65,305,504.82"},"2026-05-31","2020-12-01","2027-05-31"]
[7,"Consulting Engineering Services for the Routine Road Maintenance of National Route N17-1, N17-2","Ndodana Consulting","X.002-129-2019/1F",null,null,{"v":22230567.2,"d":"R 22,230,567.20"},{"v":4140000,"d":"R4,140,000.00"},{"v":12401235.66,"d":"R12,401,235.66"},"2026-05-31","2019-05-21","2027-05-31"]
[null,"Routine Road Maintenance of National Route N17-1, N17-2","Vea Road Maintenance","X.002-129-2019/1",null,null,{"v":183834422.92,"d":"R 183,834,422.92"},{"v":82811500,"d":"R82,811,500.00"},{"v":290531504.48,"d":"R290,531,504.48"},"2026-05-31","2020-11-01","2027-05-31"]
[null,"Consulting Engineering Services for the Routine Road Maintenance of National Route R21-1, R21-2, N12-18, N12-19, N3-12","Ndodana Consulting","X.002-129-2019/9F",null,null,{"v":5251533.93,"d":"R 5,251,533.93"},{"v":4140000,"d":"R4,140,000.00"},{"v":10897923.66,"d":"R10,897,923.66"},"2026-05-31","2019-05-21","2027-05-31"]
[null,"Routine Road Maintenance of National Route R21-1, R21-2, N12-18, N12-19, N3-12","Vea Road Maintenance","X.002-129-2019/9",null,null,{"v":90863553.23,"d":"R 90,863,553.23"},{"v":131111499.99999999,"d":"R131,111,500.00"},{"v":97538840.81000002,"d":"R97,538,840.81"},"2026-05-31","2020-11-01","2027-05-31"]
[null,"Consulting Engineering Services for the Routine Road Maintenance of National Route N3-11, N3-12 ","Ndodana Consulting","N.003-112-2019/1F",null,null,{"v":5557641.8,"d":"R 5,557,641.80"},{"v":2070000,"d":"R2,070,000.00"},{"v":10231355.779999997,"d":"R10,231,355.78"},"2026-05-31","2019-05-21","2027-05-31"]
[null,"Routine Road Maintenance of National Route N3-11, N3-12 ","Vea Road Maintenance","N.003-112-2019/1",null,null,{"v":44726445.84,"d":"R 44,726,445.84"},{"v":62111500,"d":"R62,111,500.00"},{"v":81084783.87,"d":"R81,084,783.87"},"2026-05-31","2020-11-01","2027-05-31"]
[null,"Consulting Engineering Services for the Routine Road Maintenance of National Route N4-11, N4-12","Ndodana Consulting","X.002-088-2019/1F",null,null,{"v":13894679.5,"d":"R 13,894,679.50"},{"v":2070000,"d":"R2,070,000.00"},{"v":10620792.21,"d":"R10,620,792.21"},"2026-05-31","2019-05-21","2027-05-31"]
[null,"Routine Road Maintenance of National Route N4-11, N4-12","Vea Road Maintenance","X.002-088-2019/1",null,null,{"v":119446983.98,"d":"R 119,446,983.98"},{"v":75911500,"d":"R75,911,500.00"},{"v":153499107.39,"d":"R153,499,107.39"},"2026-05-31","2020-11-01","2027-05-31"]
[null,"Consulting Engineering Services for the Routine Road Maintenance of National Route N4-1, N1-21, R21-2","Ndodana Consulting","X.002-088-2019/9F",null,null,{"v":2882018.82,"d":"R 2,882,018.82"},{"v":3450000,"d":"R3,450,000.00"},{"v":10373143.26,"d":"R10,373,143.26"},"2026-05-31","2019-05-21","2027-05-31"]
[null,"Routine Road Maintenance of National Route N4-1, N1-21, R21-2","Vea Road Maintenance","X.002-088-2019/9",null,null,{"v":39488690.4,"d":"R 39,488,690.40"},{"v":75911500,"d":"R75,911,500.00"},{"v":110776882.75,"d":"R110,776,882.75"},"2026-05-31","2020-11-01","2027-05-31"]
[null,"Consulting Engineering Services for the Routine Road Maintenance of National Route R104-1, R104-2, R573","Ndodana Consulting","R.104-012-2019/1F",null,null,{"v":13894679.5,"d":"R 13,894,679.50"},{"v":4140000,"d":"R4,140,000.00"},{"v":9678090,"d":"R9,678,090.00"},"2026-05-31","2019-05-21","2027-05-31"]
[null,"Routine Road Maintenance of National Route R104-1, R104-2, R573","Vea Road Maintenance","R.104-012-2019/1",null,null,{"v":70758237.93,"d":"R70,758,237.93"},{"v":69011500,"d":"R69,011,500.00"},{"v":110906799.03,"d":"R110,906,799.03"},"2026-05-31","2020-11-01","2027-05-31"]
[null,"Consulting Engneering Services for the Routine Road Maintenance of National Road N12 from Rand West City Municipal Border to Gauteng/North West Border, N14 from Rand West City Municipal Border to Gauteng/Nort West Border, R54 from Emfuleni Municipal Border to Gauteng/North West Border, R500 from Gauteng/Nort West Border to Carletonville, R501 from Rand West City Municipal Border to Gauteng/North West Border","SKI Engineers","X.002-119-2019/1F",null,null,{"v":17501505,"d":"R17,501,505.00"},{"v":4200000,"d":"R4,200,000.00"},{"v":14998238.84,"d":"R14,998,238.84"},"2026-05-31",{"$f":"VLOOKUP(D37,Sheet1!A19:D237,2,FALSE)","v":"2019-08-19"},"2027-05-31"]
[null,"Routine Road Maintenance of National Road N12 from Rand West City Municipal Border to Gauteng/North West Border, N14 from Rand West City Municipal Border to Gauteng/Nort West Border, R54 from Emfuleni Municipal Border to Gauteng/North West Border, R500 from Gauteng/Nort West Border to Carletonville, R501 from Rand West City Municipal Border to Gauteng/North West Border","Vea Road Maintenance","X.002-119-2019/1",null,null,{"v":126981380.34,"d":"R126,981,380.34"},{"v":76699999.99999997,"d":"R76,700,000.00"},{"v":225759482.99000004,"d":"R225,759,482.99"},"2026-05-31",{"$f":"VLOOKUP(D38,Sheet1!A20:D238,2,FALSE)","v":"2020-11-01"},"2027-05-31"]
[null,"Freeway Lighting Maintenance on National Route N1 Section 20-21,N3 Section 12 and N12 Section 18 (City of Johannesburg Freeway Lighting)","Devtech-Rinkase JV","X.002-138-2021/9",null,null,{"v":122319545,"d":"R122,319,545.00"},{"v":92000000,"d":"R92,000,000.00"},{"v":106328333.75,"d":"R106,328,333.75"},"2026-05-31","2022-02-22","2027-05-31"]
[null,"CONSULTING ENGINEERING SERVICES FOR THE ROAD ROUTINE MAINTENANCE ON NATIONAL ROUTE N2 SECTION 8 KM 80.08 AND SECTION 10 KM 73.50 AND NATIONAL ROUTE R62 SECTION 6 KM 36.76 TO SECTION 8 KM 33.55","Lathiso Consulting ","X.003-065-2024/1F",null,null,{"v":30599999.55,"d":"R30,599,999.55"},{"v":2500000,"d":"R2,500,000.00"},0,"2026-05-31","2023-04-26","2027-05-31",{"v":0.08169934760668975,"d":"8%"}]
[null,"ROUTINE ROAD MAINTENANCE OF NATIONAL ROUTE N2 SECTION 8 KM 80.08 TO SECTION 10 KM 73.50 AND NATIONAL ROUTE R62 SECTION 6 KM 36.76 TO SECTION 8 KM 33.55 ","VEA ROAD MAINTENANCE & CIVILS (PTY) LTD","X.003-030-2019/1",null,null,{"v":92970348,"d":"R92,970,348.00"},{"v":30000000,"d":"R30,000,000.00"},{"v":11000000,"d":"R11,000,000.00"},"2026-05-31","2023-03-01","2027-05-31",{"v":0.44100082318719513,"d":"44%"}]
[null,"Toll Section Included in X.003-030-2019/1",null,"N.002-089-2019/1(T)",{"$nulls":3},{"v":0,"d":"R0.00"},null,"2026-05-31","2021-02-01","2027-05-31"]
[null,"CONSULTING ENGINEERING SERVICES FOR THE RRM OF N2 SECTION 10 KM 73.46 TO SECTION 71.74 AND R75 SECTION 1 KM 0 TO SECTION 2 KM 25.93 AND R335 SECTION 1 KM 0 TO KM 30.12","Consultant:\nLathiso Consulting ","X.003-066-2024/1F",null,null,{"v":26999999.97,"d":"R26,999,999.97"},{"v":3000000,"d":"R3,000,000.00"},0,"2026-05-31","2023-04-12","2027-05-31",{"v":0.1111111112345679,"d":"11%"}]
[null,"cONTRACTOR: RRM OF N2 SECTION 10 KM 73.46 TO SECTION 71.74 AND R75 SECTION 1 KM 0 TO SECTION 2 KM 25.93 AND R335 SECTION 1 KM 0 TO KM 30.12","Contractor:\nRainbow Civils","X.003-031-2019/1",null,null,{"v":60575049.35,"d":"R60,575,049.35"},{"v":90000000,"d":"R90,000,000.00"},{"v":10999999.999999993,"d":"R11,000,000.00"},"2026-05-31","2023-03-01","2027-05-31",{"v":1.6673531608109204,"d":"167%"}]
[null,"EAST LONDON RRM:\nFor the Consulting Engineering Services for The Routine Road Maintenance of National Route N2 Section 15 (km 0.0) to Section 16 (km 32.33), N6 Section 1 (km 0.0 to km 31.26) and 72 Section 4 (km9.9 to km 61.78)","Lathiso Consulting ","X.003-033-2019/1F",null,null,{"v":25742483.78,"d":"R25,742,483.78"},{"v":3000000,"d":"R3,000,000.00"},0,"2026-05-31","2023-04-26","2027-05-31",{"v":0.11653887113763192,"d":"12%"}]
[null,"EAST LONDON RRM:\nThe Routine Road Maintenance of National Route N2 Section 15 (km 0.0) to Section 16 (km 32.33), N6 Section 1 (km 0.0 to km 31.26) and 72 Section 4 (km9.9 to km 61.78)","VEA ROAD MAINTENANCE & CIVILS (PTY) LTD","X.003-033-2019/1",null,null,{"v":81392255.58,"d":"R81,392,255.58"},{"v":30000000,"d":"R30,000,000.00"},{"v":5000000,"d":"R5,000,000.00"},"2026-05-31","2023-03-03","2027-05-31",{"v":0.4300163418569804,"d":"43%"}]
[null,"Amatole RRM:\nFor Consulting Engineering Services for The Routine Road Maintenance of National Route N2x Section 19 (Km 0.00) to Section 20 (Km 69.35) and National Route R396 Section 6 (Km 39.31 To Km 61.18)","Consultant:\nAVAT Consulting","X.003-034-2019/1F",null,null,{"v":23067821.25,"d":"R23,067,821.25"},{"v":7500000,"d":"R7,500,000.00"},{"v":5000000,"d":"R5,000,000.00"},"2026-05-31","2020-09-01","2027-05-31",{"v":0.5418803910664082,"d":"54%"}]
[null,"Amatole RRM:\nThe Routine Road Maintenance of National Route N2x Section 19 (Km 0.00) to Section 20 (Km 69.35) and National Route R396 Section 6 (Km 39.31 To Km 61.18)","Contractor:\nRainbow Civils","X.003-034-2019/1",null,null,{"v":64685865.57,"d":"R64,685,865.57"},{"v":90000000,"d":"R90,000,000.00"},{"v":119090687.05000001,"d":"R119,090,687.05"},"2026-05-31","2020-09-01","2027-05-31",{"v":3.232401471442504,"d":"323%"}]
[null,"CONSULTING ENGINEERING SERVICES FOR THE ROAD MAINTENANCE OF NATIONAL ROUTE N2X SECTION 19(KM 0.00) TO SECTION 20 (KM 69.35) AND NATIONAL ROUTE R396 SECTION 6 (KM 39.31 TO KM 61.18)","Consultant:\nDyosana Consulting Engineers","X.003-035-2019/2F",null,null,{"v":27066424.73,"d":"R27,066,424.73"},{"v":4500000,"d":"R4,500,000.00"},0,"2026-05-31","2023-04-28","2027-05-31",{"v":0.16625764373719706,"d":"17%"}]
[null,"FOR THE ROAD MAINTENANCE OF NATIONAL ROUTE N2X SECTION 19(KM 0.00) TO SECTION 20 (KM 69.35) AND NATIONAL ROUTE R396 SECTION 6 (KM 39.31 TO KM 61.18)","Contractor:\nRazzmatazz Civils (Pty) Ltd","X.003-035-2019/2",null,null,{"v":97616646.7,"d":"R97,616,646.70"},{"v":67500000,"d":"R67,500,000.00"},{"v":5000000,"d":"R5,000,000.00"},"2026-05-31","2023-04-28","2027-05-31",{"v":0.7427011934020881,"d":"74%"}]
[null,"Aberdeen RRM:\nFor Consulting Engineering Services for The Routine Road Maintenance of National Route N9 Section 3 Km 37.08 to section 4 Km 116.74 and National Route R61 Section 1 Km 74.02 To Km 147.08","Consultant:\nDelta Infrastructure Solutions","X.003-036-2019/1F",null,null,{"v":22241968.88,"d":"R22,241,968.88"},{"v":6000000,"d":"R6,000,000.00"},{"v":5000000,"d":"R5,000,000.00"},"2026-05-31","2019-12-26","2027-05-31",{"v":0.4945605337075717,"d":"49%"}]
[null,"Aberdeen RRM:\nThe Routine Road Maintenance of National Route N9 Section 3 Km 37.08 to section 4 Km 116.74 and National Route R61 Section 1 Km 74.02 To Km 147.09","Contractor:\nMatchaba Detoue Constuction","X.003-036-2019/1",null,null,{"v":65824221.7,"d":"R65,824,221.70"},{"v":52500000,"d":"R52,500,000.00"},{"v":57071750.58,"d":"R57,071,750.58"},"2026-05-31","2021-10-07","2027-05-31",{"v":1.6646114112732455,"d":"166%"}]
[null,"Graaff-Reinet RRM:\nFor Consulting Engineering Services for The Routine Road Maintenance of National Route N9 Section 5 Km 0.0 to Section 6 Km 62.97and National Route R61 Section 2 Km 0.0 to Km 17.24 and National Route R63 Section 7 Km 40.20 to Section 8 Km 20.25","Consultant:\nMarumo Consulting Engineers","X.003-037-2019/1F",null,null,{"v":22214699.21,"d":"R22,214,699.21"},{"v":21000000,"d":"R21,000,000.00"},{"v":7000000,"d":"R7,000,000.00"},"2026-05-31","2020-01-01","2027-05-31",{"v":1.260426699245864,"d":"126%"}]
[null,"Graaff-Reinet RRM:\nThe Routine Road Maintenance of National Route N9 Section 5 Km 0.0 to Section 6 Km 62.97and National Route R61 Section 2 Km 0.0 to Km 17.24 and National Route R63 Section 7 Km 40.20 to Section 8 Km 20.26","Contractor:\nDamians Contractors","X.003-037-2019/1",null,null,{"v":119109879.1,"d":"R119,109,879.10"},{"v":75000000,"d":"R75,000,000.00"},{"v":74090952,"d":"R74,090,952.00"},"2026-05-31","2021-11-16","2027-05-31",{"v":1.2517093722748982,"d":"125%"}]
[null,"Middelburg RRM:\nFor Consulting Engineering Services for The Routine Road Maintenance of National Routes N9 Section 6 (Km 62.97) to Section 7 (Km 28.82) and National Route N10 Section 4 (Km 0.0) to Section 5 (Km 6.34) and National Route R56 Section 1 (Km 1.11 To Km 58.78","Consultant:\nKBK RMC (Pty) Ltd","X.003-038-2019/1F",null,null,{"v":21880857.38,"d":"R21,880,857.38"},{"v":21000000,"d":"R21,000,000.00"},{"v":7000000,"d":"R7,000,000.00"},"2026-05-31","2020-01-14","2027-05-31",{"v":1.2796573513427836,"d":"128%"}]
[null,"Middelburg RRM:\nThe Routine Road Maintenance of National Routes N9 Section 6 (Km 62.97) to Section 7 (Km 28.82) and National Route N10 Section 4 (Km 0.0) to Section 5 (Km 6.34) and National Route R56 Section 1 (Km 1.11 To Km 58.79","Contractor:\nMatchaba Detoue Constuction","X.003-038-2019/1",null,null,{"v":71632006.38,"d":"R71,632,006.38"},{"v":75000000,"d":"R75,000,000.00"},{"v":41326401.28,"d":"R41,326,401.28"},"2026-05-31","2021-09-30","2027-05-31",{"v":1.6239444789931068,"d":"162%"}]
[null,"X.003-039-2019/1F: CONSULTING ENGINEERING SERVICES FOR THE ROUTINE ROAD MAINTENANCE OF NATIONAL ROUTE N10 SECTION 1 (KM 0.0) TO SECTION 3 (KM 37.62) AND R63 SECTION 12 (KM 0.0) TO (KM 16.34)","Consultant:\nLathiso Consulting","X.003-039-2019/1F",null,null,{"v":22580351.78,"d":"R22,580,351.78"},{"v":15000000,"d":"R15,000,000.00"},0,"2026-05-31","2023-05-01","2027-05-31",{"v":0.6642943451964236,"d":"66%"}]
[null,"FOR THE ROUTINE ROAD MAINTENANCE OF NATIONAL ROUTE N10 SECTION 1 (KM 0.0) TO SECTION 3 (KM 37.62) AND R63 SECTION 12 (KM 0.0 TO KM 16.34)","Contractor:\nRainbow Civils","X.003-039-2019/1",null,null,{"v":68267786.85,"d":"R68,267,786.85"},{"v":60000000,"d":"R60,000,000.00"},{"v":4000000,"d":"R4,000,000.00"},"2026-05-31","2023-03-31","2027-05-31",{"v":0.9374846168753456,"d":"94%"}]
[null,"Craddock RRM:\nFor Consulting Engineering Services for The Routine Road Maintenance of National Route N10 Section 3 Km 37.62 to Km 81.59 and National Route R61 Section 2 Km 17.25 to Section 3 Km 41.48 and National Route R390 Section 1 Km 0.00 to Section 2 Km 23.56","Consultant:\nKBK RMC (Pty) Ltd","X.003-040-2019/1F",null,null,{"v":21908802.38,"d":"R21,908,802.38"},{"v":21000000,"d":"R21,000,000.00"},{"v":7500000,"d":"R7,500,000.00"},"2026-05-31","2020-01-14","2027-05-31",{"v":1.300847006864097,"d":"130%"}]
[null,"Craddock RRM:\nThe Routine Road Maintenance of National Route N10 Section 3 Km 37.62 to Km 81.59 and National Route R61 Section 2 Km 17.25 to Section 3 Km 41.48 and National Route R390 Section 1 Km 0.00 to Section 2 Km 23.57","Contractor:\nDamians Contractors","X.003-040-2019/1",null,null,{"v":83744465.1,"d":"R83,744,465.10"},{"v":75000000,"d":"R75,000,000.00"},{"v":42951326.68000001,"d":"R42,951,326.68"},"2026-05-31","2021-10-18","2027-05-31",{"v":1.4084671331908718,"d":"141%"}]
[null,"FOR THE ROUTINE ROAD MAINTENANCE OF NATIONAL ROUTE N6 SECTION 4 (KM 0.00 TO KM 65.38), NATIONAL ROUTE R56 SECTION 2 (KM 30.81) TO SECTION 3 (KM 27.37), NATIONAL ROUTE R61 SECTION 3 (KM 41.48) TO SECTION 4 (KM 63.11) AND NATIONAL ROUTE R392 SECTION 1 (KM 0.00 TO KM 8.54)","Consultans:\nDyosana ","X.003-041-2019/2F",null,null,{"v":27167383.8,"d":"R27,167,383.80"},{"v":6000000.000000001,"d":"R6,000,000.00"},{"v":7043395.8,"d":"R7,043,395.80"},"2026-05-31","2021-07-21","2027-05-31",{"v":0.4801123249858163,"d":"48%"}]
[null,"FOR THE ROUTINE ROAD MAINTENANCE OF NATIONAL ROUTE N6 SECTION 4 (KM 0.00 TO KM 65.38), NATIONAL ROUTE R56 SECTION 2 (KM 30.81) TO SECTION 3 (KM 27.37), NATIONAL ROUTE R61 SECTION 3 (KM 41.48) TO SECTION 4 (KM 63.11) AND NATIONAL ROUTE R392 SECTION 1 (KM 0.00 TO KM 8.54)","Contractor:\nBarleda ","X.003-041-2019/2",null,null,{"v":66229808.7,"d":"R66,229,808.70"},{"v":75000000,"d":"R75,000,000.00"},{"v":11038301.45,"d":"R11,038,301.45"},"2026-05-31","2023-03-28","2027-05-31",{"v":1.2990872711066732,"d":"130%"}]
[null,"FOR THE ROUTINE ROAD MAINTENANCE OF NATIONAL ROUTE R56 SECTION 4 (KM 20.09) TO SECTION 7 (KM 25.71) NATIONAL ROUTE R58 SECTION 6 (KM 40.06) TO SECTION 7 (KM 4.05) AND NATIONAL ROUTE R410 SECTION 1 (KM 0.00) TO SECTION 3 (KM 16.85)","Consultans:\nCivilChem ","X.003-042-2019/1F",null,null,{"v":23853914.1,"d":"R23,853,914.10"},{"v":15000000,"d":"R15,000,000.00"},{"v":6184348,"d":"R6,184,348.00"},"2026-05-31","2019-12-18","2027-05-31",{"v":0.8880868737596401,"d":"89%"}]
[null,"FOR THE ROUTINE ROAD MAINTENANCE OF NATIONAL ROUTE R56 SECTION 4 (KM 20.09) TO SECTION 7 (KM 25.71) NATIONAL ROUTE R58 SECTION 6 (KM 40.06) TO SECTION 7 (KM 4.05) AND NATIONAL ROUTE R410 SECTION 1 (KM 0.00) TO SECTION 3 (KM 16.85)","Contractor:\nRainbow Civils","X.003-042-2019/1",null,null,{"v":66466171.65,"d":"R66,466,171.65"},{"v":75000000,"d":"R75,000,000.00"},{"v":11077695.28,"d":"R11,077,695.28"},"2026-05-31","2023-05-02","2027-05-31",{"v":1.2950602260240154,"d":"130%"}]
[null,"FOR THE ROUTINE ROAD MAINTENANCE OF NATIONAL ROUTE R56 SECTION 7 (KM 25.713) TO SECTION 8 (KM 168.71) AND NATIONAL ROUTE R396 SECTION 6 (KM 0 TO KM 39.31)","Consultans:\nCivilChem ","X.003-043-2019/1F",null,null,{"v":23823640.35,"d":"R23,823,640.35"},{"v":15000000.000000002,"d":"R15,000,000.00"},{"v":6176499.35,"d":"R6,176,499.35"},"2026-05-31","2020-04-14","2027-05-31",{"v":0.8888859569272334,"d":"89%"}]
[null,"FOR THE ROUTINE ROAD MAINTENANCE OF NATIONAL ROUTE R56 SECTION 7 (KM 25.713) TO SECTION 8 (KM 168.71) AND NATIONAL ROUTE R396 SECTION 6 (KM 0 TO KM 39.31) R390 Section 1 Km 0.00 to Section 2 Km 23.63","Contractors:\nVEA","X.003-043-2019/1",null,null,{"v":68093299.9,"d":"R68,093,299.90"},{"v":75000000,"d":"R75,000,000.00"},{"v":11348883,"d":"R11,348,883.00"},"2026-05-31","2023-05-01","2027-05-31",{"v":1.2680966134231952,"d":"127%"}]
[null,"Burgersdorp RRM\nFor Consulting Engineering Services for The Routine Road Maintenance of National Routes R56 Section 1 (Km 58.78) to Section 2 (Km 30.81) and National Routes R58 Section 1 (Km 36.96) to Section 3 (Km 55.73) and National Route R391 Section 2 (Km 0.0) to (Km 37.09) and National Route R390 Section 2 (Km 23.56) To (Km 34.46)","Consultant:\nKBK RMC (Pty) Ltd","X.003-044-2019/1F",null,null,{"v":21751720.43,"d":"R21,751,720.43"},{"v":3000000,"d":"R3,000,000.00"},{"v":7500000,"d":"R7,500,000.00"},"2026-05-31","2021-01-10","2027-05-31",{"v":0.48272043739208725,"d":"48%"}]
[null,"Burgersdorp RRM\nThe Routine Road Maintenance of National Routes R56 Section 1 (Km 58.78) to Section 2 (Km 30.81) and National Routes R58 Section 1 (Km 36.96) to Section 3 (Km 55.73) and National Route R391 Section 2 (Km 0.0) to (Km 37.09) and National Route R390 Section 2 (Km 23.56) To (Km 34.46)","Contractor:\nQTC Civils","X.003-044-2019/1",null,null,{"v":68710525.91,"d":"R68,710,525.91"},{"v":60000000,"d":"R60,000,000.00"},{"v":48753692.78,"d":"R48,753,692.78"},"2026-05-31","2021-11-03","2027-05-31",{"v":1.5827806779189884,"d":"158%"}]
[null,"Aliwal North RRM:\nFor Consulting Engineering Services for The Routine Road Maintenance of National Route N6 Section 4 (Km 65.38) to Section 5 (Km 57.04) and National Route R58 Section 4 (Km 0) to Section 6 (Km 43.06) and National Route R56 Section 4 (Km 0 To Km 21.09) and National Route R56 Section 3 (Km 27.37 To Km 35.04)","Consultant:\nKBK RMC (Pty) Ltd","X.003-045-2019/1F",null,null,{"v":23266941.02,"d":"R23,266,941.02"},{"v":3000000,"d":"R3,000,000.00"},{"v":5000000,"d":"R5,000,000.00"},"2026-05-31","2020-05-30","2027-05-31",{"v":0.34383548714561535,"d":"34%"}]
[null,"Aliwal North RRM:\nThe Routine Road Maintenance of National Route N6 Section 4 (Km 65.38) to Section 5 (Km 57.04) and National Route R58 Section 4 (Km 0) to Section 6 (Km 43.06) and National Route R56 Section 4 (Km 0 To Km 21.09) and National Route R56 Section 3 (Km 27.37 To Km 35.04)","Contractor:\nDamians Contractors","X.003-045-2019/1",null,null,{"v":87560379,"d":"R87,560,379.00"},{"v":67500000,"d":"R67,500,000.00"},{"v":53476990,"d":"R53,476,990.00"},"2026-05-31","2021-11-02","2027-05-31",{"v":1.3816407761323188,"d":"138%"}]
[null,"Cofimvaba RRM:\nFor Consulting Engineering Services for The Routine Road Maintenance of National Route N6 Sections 3 Km 8.04 to Km 58.86 and National Route R61 Section 5 Km 0.25 to Section 6 Km 92.78 and National Route R67 Section 4 Km 43.43 to Section 5 Km 33.20","Consultant:\nAVAT Consulting","X.003-046-2019/1F",null,null,{"v":23024351.25,"d":"R23,024,351.25"},{"v":12000000,"d":"R12,000,000.00"},{"v":7000000,"d":"R7,000,000.00"},"2026-05-31","2020-09-01","2027-05-31",{"v":0.8252132619806172,"d":"83%"}]
[null,"Cofimvaba RRM:\nThe Routine Road Maintenance of National Route N6 Sections 3 Km 8.04 to Km 58.86 and National Route R61 Section 5 Km 0.25 to Section 6 Km 92.78 and National Route R67 Section 4 Km 43.43 to Section 5 Km 33.21","Contractor:\nRainbow Civils","X.003-046-2019/1",null,null,{"v":90922805.72,"d":"R90,922,805.72"},{"v":0,"d":"R0.00"},{"v":195837981.93999997,"d":"R195,837,981.94"},"2026-05-31","2020-09-01","2027-05-31",{"v":2.153892858773958,"d":"215%"}]
[null,"Wild Coast RRM:\nFor Consulting Engineering Services for The Routine Road Maintenance of National Route N2 Section 18 (Km 28.91) to Section 20 (Km 17.70) and National Route R61 Section 6 (Km 92.78) to Section 7 Km (51.49)","Consultant:\nAVAT Consulting","X.003-047-2019/1F",null,null,{"v":24622650,"d":"R24,622,650.00"},{"v":7500000,"d":"R7,500,000.00"},{"v":5000000,"d":"R5,000,000.00"},"2026-05-31","2019-11-01","2027-05-31",{"v":0.5076626601929525,"d":"51%"}]
[null,"Wild Coast RRM:\nThe Routine Road Maintenance of National Route N2 Section 18 (Km 28.91) to Section 20 (Km 17.70) and National Route R61 Section 6 (Km 92.78) to Section 7 Km (51.49)","Contractor:\nRainbow Civils","X.003-047-2019/1",null,null,{"v":106825831.88,"d":"R106,825,831.88"},{"v":135000000,"d":"R135,000,000.00"},{"v":218712684.87,"d":"R218,712,684.87"},"2026-05-31","2020-09-01","2027-05-31",{"v":3.3111156603707417,"d":"331%"}]
[null,"Pearston RRM","Currently managed under X.003-049-2019/1","X.003-048-2019/1F",{"$nulls":3},{"v":0,"d":"R0.00"},null,"2026-05-31","2019-12-18","2027-05-31"]
[null,"Pearston RRM","Currently managed under X.003-049-2019/1","X.003-048-2019/1",{"$nulls":3},{"v":0,"d":"R0.00"},null,"2026-05-31","2021-10-08","2027-05-31"]
[null,"King William’s Town RRM:\nFor Consulting Engineering Services for The Routine Road Maintenance of National Routes R63 Section 14 (Km 0 to Km 58.56), R63 Section 15 (Km 0.47 to Km 28.51), N2 Section 14 (Km 0 to Km 65.76) And N6 Section 1 (Km 50.38) to Section 3 (Km 8.04)","Consultant:\nDelta Infrastructure Solutions","X.003-049-2019/1F",null,null,{"v":21889551.38,"d":"R21,889,551.38"},{"v":10500000,"d":"R10,500,000.00"},{"v":7500000,"d":"R7,500,000.00"},"2026-05-31","2019-12-18","2027-05-31",{"v":0.8223101372669612,"d":"82%"}]
[null,"King William’s Town RRM:\nThe Routine Road Maintenance of National Routes R63 Section 14 (Km 0 to Km 58.56), R63 Section 15 (Km 0.47 to Km 28.51), N2 Section 14 (Km 0 to Km 65.76) And N6 Section 1 (Km 50.38) to Section 3 (Km 8.04)","Contractor:\nDamians Contractors","X.003-049-2019/1",null,null,{"v":77013101.1,"d":"R77,013,101.10"},{"v":90000000,"d":"R90,000,000.00"},{"v":56801302.12200001,"d":"R56,801,302.12"},"2026-05-31","2021-10-08","2027-05-31",{"v":1.9061860907455397,"d":"191%"}]
[null,"R72 RRM:\nCONSULTING ENGINEERING SERVICES FOR THE ROUTINE ROAD MAINTENANCE OF NATIONAL ROUTE R72 SECTION 1 KM 0 TO SECTION 4 KM9.90 BETWEEN NANAGA AND KEIS KAMMA RIVER","Consultant:\nMarumo Consulting Engineers (PTY) LTD","R.072-014-2019/1F",null,null,{"v":22048139.25,"d":"R22,048,139.25"},{"v":7500000,"d":"R7,500,000.00"},0,"2026-05-31","2020-06-01","2027-05-31",{"v":0.3401647601622436,"d":"34%"}]
[null,"R72 RRM:\nTHE ROUTINE ROAD MAINTENANCE OF NATIONAL ROUTE R72 SECTION 1 KM 0 TO SECTION 4 KM9.90 BETWEEN NANAGA AND KEIS KAMMA RIVER","Contractor:\nQTC CIVILS (Pty) LTD","R.072-014-2019/1",null,null,{"v":75660861.44,"d":"R75,660,861.44"},{"v":75000000,"d":"R75,000,000.00"},{"v":18915215.36,"d":"R18,915,215.36"},"2026-05-31","2023-04-06","2027-05-31",{"v":1.2412654782483006,"d":"124%"}]
[null,"PROVISION AND MANAGEMENT OF WELLNESS SERVICES FOR ROUTINE ROAD MAINTENANCE PROJECT IN EASTERN CAPE PROVINCE","Careworks: Pty (Ltd)","X.003-057-2021/1F",null,null,{"v":20716418.55,"d":"R20,716,418.55"},{"v":18000000,"d":"R18,000,000.00"},0,"2026-05-31","2022-08-02","2027-05-31",{"v":0.8688760538679114,"d":"87%"}]
[null,"Fort Beaufort RRM:\nConsulting Engineering Services for The Routine Road Maintenance of National Route R67 Section 2 (Km 36.19) to Section 4 (Km 43.43) and National Route R63 Section 12 (Km 16.34) to Section 13 (Km 59.40)","Currently managed under X.003-046-2019/1","X.003-050-2019/1F",{"$nulls":3},{"v":0,"d":"R0.00"},null,"2026-05-31","2020-09-01","2027-05-31"]
[null,"Fort Beaufort RRM:\nThe Routine Road Maintenance of National Route R67 Section 2 (Km 36.19) to Section 4 (Km 43.43) and National Route R63 Section 12 (Km 16.34) to Section 13 (Km 59.40)","Currently managed under X.003-046-2019/1","X.003-050-2019/1",{"$nulls":3},{"v":0,"d":"R0.00"},null,"2026-05-31","2020-09-01","2027-05-31"]
[null,"Addo RRM:\nConsulting Engineering Services for The Routine Road Maintenance of National Routes R335 Section 1 Km 30.12 to Km 49.48, R336 Section 1 Km 0.0 to 48.05, R342 Section 1 Km 0.0 to Km 24.53 and R75 Section 2 Km 25.93 to Section 3 Km 49.42","Currently managed under X.003-039-2019/1","X.003-051-2019/1F",{"$nulls":3},{"v":0,"d":"R0.00"},null,"2026-05-31","2023-03-31","2027-05-31"]
[null,"Addo RRM:\nThe Routine Road Maintenance of National Routes R335 Section 1 Km 30.12 to Km 49.48, R336 Section 1 Km 0.0 to 48.05, R342 Section 1 Km 0.0 to Km 24.53 and R75 Section 2 Km 25.93 to Section 3 Km 49.42","Currently managed under X.003-039-2019/1","X.003-051-2019/1",{"$nulls":3},{"v":0,"d":"R0.00"},null,"2026-05-31","2023-05-01","2027-05-31"]
[null,"CONSULTING ENGINEERING SERVICES FOR FOR THE ROUTINE ROAD MAINTENANCE OF NATIONAL ROUTE N2 SECTION 12 KM 0.00 TO SECTION 13 KM103.56  AND NATIONAL ROUTE R67 SECTION 2 KM 0.00 TO KM 36.19 ","Consultant:\nMorolla Consulting Engineers (Pty) Ltd","X.003-067-2024/1F",null,null,{"v":26726574.71,"d":"R26,726,574.71"},{"v":4500000,"d":"R4,500,000.00"},{"v":-6929111.960000001,"d":"-R6,929,111.96"},"2026-05-31","2023-02-13","2027-05-31",{"v":-0.09088751500547228,"d":"-9%"}]
[null,"FOR THE ROUTINE ROAD MAINTENANCE OF NATIONAL ROUTE N2 SECTION 12 KM 0.00 TO SECTION 13 KM103.56  AND NATIONAL ROUTE R67 SECTION 2 KM 0.00 TO KM 36.19 ","Contractor:\nBothle Ba Afrika Roads (Pty) Ltd","X.003-067-2024/1",null,null,{"v":101077035.33,"d":"R101,077,035.33"},{"v":45000000,"d":"R45,000,000.00"},0,"2026-05-31","2023-07-29","2027-05-31",{"v":0.445204985020409,"d":"45%"}]
[null,"FOR THE ROUTINE ROAD MAINTENANCE OF NATIONAL ROUTE R61 SECTION 8EX FROM 8EX FROM KM 0 TO KM 17.26, SECTION 9 KM 0.00 TO KM 73.79 AND SECTION 10 KM 0.00 TO KM 80.54 AND NATIONAL ROUTE N2 SECTION 20 KM 0 TO 37.4","Consultant:\nAVX Consulting Engineers ","X.003-071-2024/1F",null,null,{"v":26591965.2,"d":"R26,591,965.20"},{"v":7500000,"d":"R7,500,000.00"},0,"2026-05-31","2023-08-16","2027-05-31",{"v":0.2820400802871087,"d":"28%"}]
[null,"FOR THE ROUTINE ROAD MAINTENANCE OF NATIONAL ROUTE R61 SECTION 8EX FROM 8EX FROM KM 0 TO KM 17.26, SECTION 9 KM 0.00 TO KM 73.79 AND SECTION 10 KM 0.00 TO KM 80.54 AND NATIONAL ROUTE N2 SECTION 20 KM 0 TO 37.4","Contractor:\nDamians Contractors ","X.003-071-2024/1",null,null,{"v":129886626.72,"d":"R129,886,626.72"},{"v":95000000,"d":"R95,000,000.00"},0,"2026-05-31","2023-08-16","2027-05-31",{"v":0.7314070924699121,"d":"73%"}]
[null,"Consulting Engineering Services for The Routine Road Maintenance on N2 Section 31 km 32.89 to N2 Section 32 km 70.16 & R69 Section 5 km 0.00 to km 9.63","Zimile Consulting Engineers (Pty) Ltd","X.004-071-2019/1F",null,null,{"v":19730550,"d":"R19,730,550.00"},{"v":3725000,"d":"R3,725,000.00"},{"v":10214000,"d":"R10,214,000.00"},"2026-05-31",{"$f":"VLOOKUP(D90,Sheet1!A72:D290,2,FALSE)","v":"2020-04-01"},"2027-05-31"]
[null,"ROUTINE ROAD MAINTENANCE OF NATIONAL ROUTES 2, SECTION 31, KM 32.89, TO SECTION 32, KM 70.16 AND NATIONAL ROUTE 69, SECTION 5, KM 0.00 TO KM 9.63, IN THE ZULULAND DISTRICT MUNICIPALITY","Rail Refurb CC","X.004-071-2019/1",null,null,{"v":75939885.45,"d":"R75,939,885.45"},{"v":77000000,"d":"R77,000,000.00"},{"v":178534062.98000002,"d":"R178,534,062.98"},"2026-05-31",{"$f":"VLOOKUP(D91,Sheet1!A73:D291,2,FALSE)","v":"2021-09-01"},"2027-05-31"]
[null,"Consulting Engineering Services for The Routine Road Maintenance of National Route 2, Section 29, from Km 53.57 to Section 31, Km 32.89; and National Route 22, Section 1, from Km 0.00 to Section 5, Km 40.32. This project is in the province of the KwaZulu-Natal and in the district municipality of uMkhanyakude ","Zimile Consulting Engineers (Pty) Ltd","X.004-072-2019/1F",null,null,{"v":19706400,"d":"R19,706,400.00"},{"v":4100000,"d":"R4,100,000.00"},{"v":9460000,"d":"R9,460,000.00"},"2026-05-31",{"$f":"VLOOKUP(D92,Sheet1!A74:D292,2,FALSE)","v":"2020-04-01"},"2027-05-31"]
[null,"ROUTINE ROAD MAINTENANCE OF NATIONAL ROUTE 2, SECTION 29, FROM KM 53.57 TO SECTION 31, KM 32.89; AND NATIONAL ROUTE 22, SECTION 1, FROM KM 0.00 TO SECTION 5, KM 40.32 IN THE UMKHANYAKUDE DISTRICT MUNICIPALITY","Rail Refurb CC","X.004-072-2019/1 ",null,null,{"v":121924019.48,"d":"R121,924,019.48"},{"v":93000000,"d":"R93,000,000.00"},{"v":278561720.52,"d":"R278,561,720.52"},"2026-05-31","2021-09-01","2027-05-31"]
[null,"Consulting Engineering Services for The Maintenance of Routine Operation Non Toll Routine Road Maintenance : Bergville to Volkrust RRM","Zimile Consulting Engineers (Pty) Ltd","N.011-014-2019/1F",null,null,{"v":17520250,"d":"R17,520,250.00"},{"v":2150000,"d":"R2,150,000.00"},{"v":8890000,"d":"R8,890,000.00"},"2026-05-31","2020-02-03","2027-05-31"]
[null,"ROUTINE ROAD MAINTENANCE ON NATIONAL ROUTE N11 FROM SECTION 1 KM 0.00 IN BERGVILLE TO SECTION 4 KM 50.30 IN VOLKSRUST  ","Rail Refurb CC","N.011-014-2019/1",null,null,{"v":121518518.18,"d":"R121,518,518.18"},{"v":36280000,"d":"R36,280,000.00"},{"v":108757407.28,"d":"R108,757,407.28"},"2026-05-31",{"$f":"VLOOKUP(D95,Sheet1!A77:D295,2,FALSE)","v":"2021-09-01"},"2027-05-31"]
[null,"Consulting Engineering Services for the Routine Road Maintenance of National Routes N2 Section 21X KM 0.00 to N2 Section 22X KM 29.60 and N2 Section 22 KM 0.00 to N2 Section 23 km 44.78 in the Sisonke and Ugu District Municipalities","Zimile Consulting Engineers (Pty) Ltd","N.002-213-2019/1F",null,null,{"v":17151634.75,"d":"R17,151,634.75"},{"v":4300000,"d":"R4,300,000.00"},{"v":19020326.950000003,"d":"R19,020,326.95"},"2026-05-31",{"$f":"VLOOKUP(D96,Sheet1!A78:D296,2,FALSE)","v":"2019-08-08"},"2027-05-31"]
[null,"ROUTINE ROAD MAINTENANCE OF NATIONAL ROUTE 2 SECTION 21X KM 0.00 TO N2 SECTION 22X KM 29.60 AND N2 SECTION 22 KM 0.00 TO N2 SECTION 23 KM 44.78, IN THE SISONKE AND UGU DISTRICT MUNICIPALITIES","Vea Roads Maintenance and Civils Pty Ltd","N.002-213-2019/1",null,null,{"v":211355895.25,"d":"R211,355,895.25"},{"v":161000000,"d":"R161,000,000.00"},{"v":307370116.17,"d":"R307,370,116.17"},"2026-05-31",{"$f":"VLOOKUP(D97,Sheet1!A79:D297,2,FALSE)","v":"2021-09-01"},"2027-05-31"]
[null,"Consulting Engineering Services for the Routine Road Maintenance of National Route 2 Section 23 KM 44.48 to National Route 2 Section 27 KM 1.85 and National Route 3 Section 1 KM 9.00 to National Route 3 Section 4 km 1.60, in the eThekwini Metro and uMgungundlovu District Municipality","Zimile Consulting Engineers (Pty) Ltd","X.004-069-2019/1F",null,null,{"v":17943680,"d":"R17,943,680.00"},{"v":4500000,"d":"R4,500,000.00"},{"v":10360000,"d":"R10,360,000.00"},"2026-05-31",{"$f":"VLOOKUP(D98,Sheet1!A80:D298,2,FALSE)","v":"2019-08-08"},"2027-05-31"]
[null,"ROUTINE ROAD MAINTENANCE OF NATIONAL ROUTE 2 SECTION 23 KM 44.48 TO NATIONAL ROUTE 2 SECTION 27 KM 1.85 AND NATIONAL ROUTE 3 SECTION 1 KM 9.00 TO NATIONAL ROUTE 3 SECTION 4 KM 1.60, IN THE ETHEKWINI METRO AND UMGUNGUNDLOVU DISTRICT MUNICIPALITY","Razzmatazz Civil (Pty) Ltd","X.004-069-2019/1",null,null,{"v":401355853.86,"d":"R401,355,853.86"},{"v":200000000,"d":"R200,000,000.00"},{"v":701340483.7500001,"d":"R701,340,483.75"},"2026-05-31",{"$f":"VLOOKUP(D99,Sheet1!A81:D299,2,FALSE)","v":"2021-10-01"},"2027-05-31"]
[null,"ROUTINE ROAD MAINTENANCE OF NATIONAL ROUTE 2 FROM SECTION 27 KM 1.85 TO SECTION 29 KM 53.57 IN THE ILEMBE DISTRICT MUNICIPALITY AND UTHUNGULU DISTRICT MUNICIPALITY","MERAKI","N.002-279-2019/1F",null,null,{"v":21119021.56,"d":"R21,119,021.56"},{"v":3236250,"d":"R3,236,250.00"},0,"2026-05-31",{"$f":"VLOOKUP(D100,Sheet1!A82:D300,2,FALSE)","v":"2022-07-05"},"2027-05-31"]
[null,"ROUTINE ROAD MAINTENANCE OF NATIONAL ROUTE 2 FROM SECTION 27 KM 1.85 TO SECTION 29 KM 53.57 IN THE ILEMBE DISTRICT MUNICIPALITY AND UTHUNGULU DISTRICT MUNICIPALITY","Good Purpose Construction","N.002-279-2019/1",null,null,{"v":437116231.08,"d":"R437,116,231.08"},{"v":153225000,"d":"R153,225,000.00"},{"v":30000000,"d":"R30,000,000.00"},"2026-05-31",{"$f":"VLOOKUP(D101,Sheet1!A83:D301,2,FALSE)","v":"2022-06-29"},"2027-05-31"]
[null,"CONSULTING ENGINEERING SERVICES FOR THE ROUTINE ROAD MAINTENANCE OF NATIONAL ROUTE 02 SECTIONS 2 TO 5 FROM ELGIN FOREST RESERVE (KM 18.83) TO RIETKUIL OUTSPAN (KM 26.55)","LPS Consulting ","N.002-025-2023/1F",null,null,{"v":18161480.84,"d":"R18,161,480.84"},{"v":2587500,"d":"R2,587,500.00"},{"v":0,"d":"R0.00"},"2026-05-31","2023-07-05","2027-05-31",{"v":0.14247186244312884,"d":"14%"}]
[null,"ROUTINE ROAD MAINTENANCE OF NATIONAL ROUTE 02 SECTIONS 2 TO 5 FROM ELGIN FOREST RESERVE (KM 18.83) TO RIETKUIL OUTSPAN (KM 26.55)","Damians Contractors","N.002-025-2023/1",null,null,{"v":97289446.56,"d":"R97,289,446.56"},{"v":16818750,"d":"R16,818,750.00"},{"v":0,"d":"R0.00"},"2026-05-31","2023-07-09","2027-05-31",{"v":0.17287332382580262,"d":"17%"}]
[null,"CONSULTING SERVICES FOR THE ROUTINE ROAD MAINTENANCE OF NATIONAL ROUTE 2 SECTION 5 TO 7 BETWEEN RIETKUIL OUTSPAN (KM26.55) AND RONDEHEUWEL(KM3.42)","Masututsa Consulting ","N.002-057-2023/1F",null,null,{"v":19199767.5,"d":"R19,199,767.50"},{"v":4800000,"d":"R4,800,000.00"},{"v":0,"d":"R0.00"},"2026-05-31","2022-07-29","2027-05-31",{"v":0.2500030273804097,"d":"25%"}]
[null,"THE ROUTINE ROAD MAINTENANCE OF NATIONAL ROUTE 2 SECTION 5 TO 7 BETWEEN RIETKUIL OUTSPAN (KM26.55) AND RONDEHEUWEL(KM3.42)","Damians Contractors","N.002-057-2023/1",null,null,{"v":99640642.32,"d":"R99,640,642.32"},{"v":32733123.168750003,"d":"R32,733,123.17"},{"v":0,"d":"R0.00"},"2026-05-31","2023-03-31","2027-05-31",{"v":0.32851176394092524,"d":"33%"}]
[null,"CONSULTING ENGINEERING SERVICES FOR THE ROUTINE ROAD MAINTENANCE OF NATIONAL ROUTE 7 SECTIONS 1 TO 4 FROM KLIPVLEI (KM 34.99) TO MELKBOOM (KM 35.40)","Daveng Roads (Pty) Ltd"," N.007-014-2022/1F",null,null,{"v":18966892.5,"d":"R18,966,892.50"},{"v":8496356.1329125,"d":"R8,496,356.13"},{"v":0,"d":"R0.00"},"2026-05-31","2022-07-29","2027-05-31",{"v":0.44795720400231614,"d":"45%"}]
[null,"FOR THE ROUTINE ROAD MAINTENANCE OF NATIONAL ROUTE 7 SECTIONS 1 TO 4 FROM KLIPVLEI (KM 34.99) TO MELKBOOM (KM 35.40)","Damians Contractors cc","N.007-014-2022/1",null,null,{"v":50408630.06,"d":"R50,408,630.06"},{"v":20708949.434254333,"d":"R20,708,949.43"},{"v":0,"d":"R0.00"},"2026-05-31","2023-03-31","2027-05-31",{"v":0.4108215083330978,"d":"41%"}]
[null,"FOR THE ROUTINE ROAD MAINTENANCE OF NATIONAL ROUTE 7 SECTIONS 4 TO 7 BETWEEN MELKBOOM (KM 35.40) AND KERSBOSCH FONTEIN (KM 65.71)","Damians Contractors cc","N.007-047-2022/1",null,null,{"v":47741069.64,"d":"R47,741,069.64"},{"v":30976109.011228554,"d":"R30,976,109.01"},{"v":0,"d":"R0.00"},"2026-05-31","2023-03-31","2027-05-31",{"v":0.6488356721960651,"d":"65%"}]
[null,"CONSULTING ENGINEERING SERVICES FOR THE ROUTINE ROAD MAINTENANCE OF NATIONAL ROUTE 7 SECTIONS 4 TO 7 BETWEEN MELKBOOM (KM 35.40) AND KERSBOSCH FONTEIN (KM 65.71) ","Daveng Roads (Pty) Ltd","N.007-047-2022/1F",null,null,{"v":17724892.5,"d":"R17,724,892.50"},{"v":4911731.537501249,"d":"R4,911,731.54"},{"v":0,"d":"R0.00"},"2026-05-31","2022-04-04","2027-05-31",{"v":0.27710924269364395,"d":"28%"}]
[null,"ROUTINE ROAD MAINTENANCE OF NATIONAL ROUTE 1 SECTION 1 BETWEEN OLD OAK I/C (km 18.9) AND JOOSTENBERG VLAKTE (km 30.44) & NATIONAL ROUTE 2 SECTIONS 1 TO 2 BETWEEN SWARTKLIP I/C (km 17.47) AND ELGIN FOREST RESERVE (km 18.83) & NATIONAL ROUTE 7 SECTION 1 BETWEEN MELKBOS I/C (km 17.4) AND KLIPVLEI (km 34.99) & NATIONAL ROUTE R300 SECTION 1 BETWEEN SWARTKLIP I/C (km 14.76) AND STELLENBERG I/C (km 30.93)","VEA Road Maintenance and Civils","X.005-036-2019/1",null,null,{"v":175310691.67,"d":"R175,310,691.67"},{"v":74837956.41763368,"d":"R74,837,956.42"},{"v":178940696.81000003,"d":"R178,940,696.81"},"2026-05-31",{"$f":"VLOOKUP(D110,Sheet1!A92:D310,2,FALSE)","v":"2020-12-01"},"2027-05-31",{"v":1.4475937024157068,"d":"145%"}]
[null,"FOR CONSULTING ENGINEERING SERVICES FOR THE ROUTINE ROAD MAINTENANCE OF NATIONAL ROUTE 1 SECTIONS 1 TO 2 FROM BERG RIVER (km 54.1) TO FLORENCE (km 6.83) (TOLL) AND CONSULTING ENGINEERING SERVICES FOR THE ROUTINE ROAD MAINTENANCE OF NATIONAL ROUTE 1 SECTIONS 1 TO 4 FROM JOOSTENBERGVLAKTE (km 30.44) TO CONSTABLE (km 21.68) (NON-TOLL)","PMAX CONSULTING ENGINEERS (PTY) LTD","N.001-012-2022/1F (TOLL) AND N.001-014-2022/1F (NON-TOLL)",null,null,{"v":19665517.5,"d":"R19,665,517.50"},{"v":4110146.1,"d":"R4,110,146.10"},{"v":0,"d":"R0.00"},"2026-05-31","2021-09-26","2027-05-31",{"v":0.20900269214883363,"d":"21%"}]
[null,"FOR THE ROUTINE ROAD MAINTENANCE OF NATIONAL ROUTE 1 SECTIONS 1 TO 2 FROM BERG RIVER (km 54.1) TO FLORENCE (km 6.83) (TOLL)","RAZZMATAZZ CIVIL (PTY) LTD JV","N.001-012-2022/1 (TOLL)",null,null,{"v":43842161.16,"d":"R43,842,161.16"},{"v":14918926.767500002,"d":"R14,918,926.77"},{"v":0,"d":"R0.00"},"2026-05-31","2023-03-31","2027-05-31",{"v":0.34028721150524605,"d":"34%"}]
[null,"FOR THE ROUTINE ROAD MAINTENANCE OF NATIONAL ROUTE 1 SECTIONS 1 TO 4 FROM JOOSTENBERGVLAKTE (km 30.44) TO CONSTABLE (km 21.68) (NON-TOLL)","RAZZMATAZZ CIVIL (PTY) LTD JV","N.001-014-2022/1 (NON-TOLL)",null,null,{"v":165957308.22,"d":"R165,957,308.22"},{"v":41757053,"d":"R41,757,053.00"},{"v":0,"d":"R0.00"},"2026-05-31","2023-03-31","2027-05-31",{"v":0.25161322178499723,"d":"25%"}]
[null,"FOR CONSULTING ENGINEERING SERVICES FOR THE ROUTINE ROAD MAINTENANCE OF NATIONAL ROUTE 1 SECTIONS 4 TO 7 FROM CONSTABLE (km 21.68) TO REMHOOGTE (km 8.27) (NON-TOLL)","SKI CIVIL AND STRUCTURAL ENGINEERS (PTY) LTD","N.001-047-2022/1F",null,null,{"v":18448854.3,"d":"R18,448,854.30"},{"v":4325007.375,"d":"R4,325,007.38"},{"v":0,"d":"R0.00"},"2026-05-31","2022-03-24","2027-05-31",{"v":0.23443230157658082,"d":"23%"}]
[null,"FOR THE ROUTINE ROAD MAINTENANCE OF NATIONAL ROUTE 1 SECTIONS 4 TO 7 FROM CONSTABLE (km 21.68) TO REMHOOGTE (km 8.27) (NON-TOLL)","RAINBOW CIVILS CC","N.001-047-2022/1",null,null,{"v":92332704.9,"d":"R92,332,704.90"},{"v":40684773.5,"d":"R40,684,773.50"},{"v":0,"d":"R0.00"},"2026-05-31","2023-03-31","2027-05-31",{"v":0.4406323148884594,"d":"44%"}]
[null,"FOR CONSULTING ENGINEERING SERVICES FOR THE ROUTINE ROAD MAINTENANCE OF NATIONAL ROUTW 1 SECTIONS 7 TO 9 FROM REMHOOGTE (km 8.27) TO SCHIETKUIL (km 45.08)","AVX CONSULTING ENGINEERS CC","N.001-079-2022/1F",null,null,{"v":17979704.33,"d":"R17,979,704.33"},{"v":3478313.025,"d":"R3,478,313.03"},{"v":0,"d":"R0.00"},"2026-05-31","2022-04-28","2027-05-31",{"v":0.1934577433065052,"d":"19%"}]
[null,"FOR THE ROUTINE ROAD MAINTENANCE OF NATIONAL ROUTE 1 SECTIONS 7 TO 9 BETWEEN REMHOOGTE (km 8.27) AND SCHIETKUIL (km 45.08)","RAINBOW CIVILS CC","N.001-079-2022/1",null,null,{"v":71317044.92,"d":"R71,317,044.92"},{"v":24598494.167499997,"d":"R24,598,494.17"},{"v":6000000,"d":"R6,000,000.00"},"2026-05-31","2023-03-31","2027-05-31",{"v":0.42904882278596795,"d":"43%"}]
[null,"CONSULTING ENGINEERING SERVICES FOR THE ROUTINE ROAD MAINTENANCE OF NATIONAL ROUTE 7 SECTIONS 7 AND 8 FROM KERSBOSCH FONTEIN (KM 65.71) TO VIOOLSDRIFT (KM 116.23), AND NATIONAL ROUTE 14 SECTION 1 FROM SPRINGBOK (KM 0.00) TO HOLTE/HUNITES (KM 81.221)","Klipcorp Consulting Services","X.005-045-2022/1F",null,null,{"v":17808727.5,"d":"R17,808,727.50"},{"v":1600000,"d":"R1,600,000.00"},0,"2026-05-31",{"$f":"VLOOKUP(D118,Sheet1!A100:D318,2,FALSE)","v":"2022-03-24"},"2027-05-31",{"v":0.08984358933000687,"d":"9%"}]
[null,"ROUTINE MAINTENANCE FOR THE ROUTINE ROAD MAINTENANCE OF NATIONAL ROUTE 7 SECTIONS 7 AND 8 FROM KERSBOSCH FONTEIN (KM 65.71) TO VIOOLSDRIFT (KM 116.23), AND NATIONAL ROUTE 14 SECTION 1 FROM SPRINGBOK (KM 0.00) TO HOLTE/HUNITES (KM 81.221)","Rainbow Civils","X.005-045-2022/1",null,null,{"v":96883957.77,"d":"R96,883,957.77"},{"v":40438395.776999995,"d":"R40,438,395.78"},{"v":10000000,"d":"R10,000,000.00"},"2026-05-31",{"$f":"VLOOKUP(D119,Sheet1!A101:D319,2,FALSE)","v":"2023-04-01"},"2027-05-31",{"v":0.5206062689629117,"d":"52%"}]
[null,"THE ROUTINE ROAD MAINTENANCE OF NATIONAL ROUTE 1 SECTION 9 TO 11 FROM SCHIETKUIL (KM 45.08) TO FLAAUWE KOP (KM 36.78).","Damains Contractors","N.010-058-2023/1",null,null,{"v":129194069.33,"d":"R129,194,069.33"},{"v":82419406.933,"d":"R82,419,406.93"},{"v":14999999.999999985,"d":"R15,000,000.00"},"2026-05-31",{"$f":"VLOOKUP(D120,Sheet1!A102:D320,2,FALSE)","v":"2023-05-01"},"2027-05-31",{"v":0.7540547908910734,"d":"75%"}]
[null,"CONSULTING ENGINEERING SERVICES FOR THE ROUTINE ROAD MAINTENANCE OF NATIONAL ROUTE 1 SECTION 9 TO 11 FROM SCHIETKUIL (KM 45.08) TO FLAAUWE KOP (KM 36.78).","Masututsa Consulting ","N.010-058-2023/1F",null,null,{"v":18749542.5,"d":"R18,749,542.50"},{"v":3850000,"d":"R3,850,000.00"},0,"2026-05-31",{"$f":"VLOOKUP(D121,Sheet1!A103:D321,2,FALSE)","v":"2022-08-12"},"2027-05-31",{"v":0.2053383435889169,"d":"21%"}]
[null,"THE ROUTINE ROAD MAINTENANCE OF NATIONAL ROUTE 12 SECTIONS 5 TO 7 FROM THREE SISTERS (KM 0.00) TO PRETORIUS BAKEN (KM 55.49)","Damains Contractors","N.012-057-2023/1",null,null,{"v":56631824.4,"d":"R56,631,824.40"},{"v":86413182.44,"d":"R86,413,182.44"},0,"2026-05-31",{"$f":"VLOOKUP(D122,Sheet1!A104:D322,2,FALSE)","v":"2023-07-01"},"2027-05-31",{"v":1.5258767195923146,"d":"153%"}]
[null,"CONSULTING ENGINEERING SERVICES FOR THE ROUTINE ROAD MAINTENANCE OF NATIONAL ROUTE 12 SECTIONS 5 TO 7 FROM THREE SISTERS (KM 0.00) TO PRETORIUS BAKEN (KM 55.49)","AVX Consulting ","N.012-057-2023/1F",null,null,{"v":17770671.85,"d":"R17,770,671.85"},{"v":4975000,"d":"R4,975,000.00"},0,"2026-05-31",{"$f":"VLOOKUP(D123,Sheet1!A105:D323,2,FALSE)","v":"2022-04-29"},"2027-05-31",{"v":0.27995565063568484,"d":"28%"}]
[null,"THE ROUTINE ROAD MAINTENANCE OF NATIONAL ROUTE 1 SECTIONS 9 TO 11 FROM SCHIETKUIL (KM 45.08) TO FLAAUWE KOP (KM 36.78)","Damains Contractors","N.001-091-2023/1",null,null,{"v":92721036.12,"d":"R92,721,036.12"},{"v":78772103.612,"d":"R78,772,103.61"},{"v":15000000,"d":"R15,000,000.00"},"2026-05-31",{"$f":"VLOOKUP(D124,Sheet1!A106:D324,2,FALSE)","v":"2023-04-01"},"2027-05-31",{"v":1.011335803998563,"d":"101%"}]
[null,"CONSULTING ENGINEERING SERVICES FOR THE ROUTINE ROAD MAINTENANCE OF NATIONAL ROUTE 1 SECTIONS 9 TO 11 FROM SCHIETKUIL (KM 45.08) TO FLAAUWE KOP (KM 36.78)","AVX Consulting ","N.001-091-2023/1F",null,null,{"v":17787869.66,"d":"R17,787,869.66"},{"v":3850000,"d":"R3,850,000.00"},0,"2026-05-31",{"$f":"VLOOKUP(D125,Sheet1!A107:D325,2,FALSE)","v":"2022-04-29"},"2027-05-31",{"v":0.21643963406464492,"d":"22%"}]
[null,"FOR THE ROUTINE ROAD MAINTENANCE OF NATIONAL ROUTE 1 SECTIONS 11 TO 13 FROM FLAAUWE KOP (KM 36.78) TO STOCKENSTROMS (KM 0.17) AND NATIONAL ROUTE 9 SECTION 7 FROM TWEEFONTEIN (KM 28.82) TO COLESBERG (KM 94.33) AND NATIONAL ROUTE 10 SECTION 5 FROM KOPIESKRAAL (KM 6.34) TO ELANDSHEUWEL (KM 31.32), NATIONAL ROUTE R58 SECTION 1 FROM COLESBERG (KM 0.00) TO NOVALSPONT (KM 37.22), NATIONAL ROUTE R389 SECTION 1 FROM EMTHANJANENI / RENOSTERBERG BORDER (KM 43.55) TO PHILLIPSTOWN (KM 72.25), NATIONAL ROUTE R48 SECTION 3 TO 4 FROM PHILLIPSTOWN (KM 0.00) TO R48 /R369 1/S (KM 0.00) TO RENOSTERBERG / THEMBELIHLE BORDER (KM 20.80)","Damains Contractors","X.005-044-2023/1",null,null,{"v":114104571.36,"d":"R114,104,571.36"},{"v":80410457.136,"d":"R80,410,457.14"},{"v":15000000,"d":"R15,000,000.00"},"2026-05-31",{"$f":"VLOOKUP(D126,Sheet1!A108:D326,2,FALSE)","v":"2023-05-01"},"2027-05-31",{"v":0.8361668248591019,"d":"84%"}]
[null,"CONSULTING ENGINEERING SERVICES FOR THE ROUTINE ROAD MAINTENANCE OF NATIONAL ROUTE 1 SECTIONS 11 TO 13 FROM FLAAUWE KOP (KM 36.78) TO STOCKENSTROMS (KM 0.17) AND NATIONAL ROUTE 9 SECTION 7 FROM TWEEFONTEIN (KM 28.82) TO COLESBERG (KM 94.33) AND NATIONAL ROUTE 10 SECTION 5 FROM KOPIESKRAAL (KM 6.34) TO ELANDSHEUWEL (KM 31.32), NATIONAL ROUTE R58 SECTION 1 FROM COLESBERG (KM 0.00) TO NOVALSPONT (KM 37.22), NATIONAL ROUTE R389 SECTION 1 FROM EMTHANJANENI / RENOSTERBERG BORDER (KM 43.55) TO PHILLIPSTOWN (KM 72.25), NATIONAL ROUTE R48 SECTION 3 TO 4 FROM PHILLIPSTOWN (KM 0.00) TO R48 /R369 1/S (KM 0.00) TO RENOSTERBERG / THEMBELIHLE BORDER (KM 20.80)","AVX Consulting ","X.005-044-2023/1F",null,null,{"v":17774180.5,"d":"R17,774,180.50"},{"v":6100000,"d":"R6,100,000.00"},0,"2026-05-31",{"$f":"VLOOKUP(D127,Sheet1!A109:D327,2,FALSE)","v":"2022-04-29"},"2027-05-31",{"v":0.3431944443233262,"d":"34%"}]
[null,"CONSULTING ENGINEERING SERVICES FOR THE ROUTINE ROAD MAINTENANCE OF NATIONAL ROUTE 8 SECTIONS 6 TO 8 BETWEEN ROOISAND (KM 8.18) AND VAAL RIVER (KM 36.69)","LPS Consulting ","N.008-068-2023/1F",null,null,{"v":20267265.88,"d":"R20,267,265.88"},{"v":3850000,"d":"R3,850,000.00"},0,"2026-05-31",{"$f":"VLOOKUP(D128,Sheet1!A110:D328,2,FALSE)","v":"2022-09-28"},"2027-05-31",{"v":0.18996148877679797,"d":"19%"}]
[null,"ROUTINE ROAD MAINTENANCE OF NATIONAL ROUTE 8 SECTIONS 6 TO 8 BETWEEN ROOISAND (KM 8.18) AND VAAL RIVER (KM 36.69)","Razzmatazz Civils","N.008-068-2023/1",null,null,{"v":88172142.99,"d":"R88,172,142.99"},{"v":11217214.298999999,"d":"R11,217,214.30"},0,"2026-05-31",{"$f":"VLOOKUP(D129,Sheet1!A111:D329,2,FALSE)","v":"2023-07-31"},"2027-05-31",{"v":0.1272194813306533,"d":"13%"}]
[null,"CONSULTING ENGINEERING SERVICES FOR THE ROUTINE ROAD MAINTENANCE OF NATIONAL ROUTE 12 SECTIONS 7 TO 9 FROM PRETORIUS BAKEN TO KLIPDRIFT AND R369 SECTION 1 FROM RENOSTERBERG TO HOPETOWN","LPS Consulting ","N.012-079-2023/1F",null,null,{"v":18039991.78,"d":"R18,039,991.78"},{"v":4975000,"d":"R4,975,000.00"},0,"2026-05-31",{"$f":"VLOOKUP(D130,Sheet1!A112:D330,2,FALSE)","v":"2022-08-29"},"2027-05-31",{"v":0.2757761788736247,"d":"28%"}]
[null,"ROUTINE ROAD MAINTENANCE OF NATIONAL ROUTE 12 SECTIONS 7 TO 9 FROM PRETORIUS BAKEN TO KLIPDRIFT AND R369 SECTION 1 FROM RENOSTERBERG TO HOPETOWN","Rainbow Civils","N.012-079-2023/1",null,null,{"v":67855644.2,"d":"R67,855,644.20"},{"v":59785564.42,"d":"R59,785,564.42"},{"v":20000000,"d":"R20,000,000.00"},"2026-05-31",{"$f":"VLOOKUP(D131,Sheet1!A113:D331,2,FALSE)","v":"2023-05-01"},"2027-05-31",{"v":1.1758132335290687,"d":"118%"}]
[null,"CONSULTING ENGINEERING SERVICES FOR THE ROUTINE ROAD MAINTENANCE OF NATIONAL ROUTE 8 SECTIONS 8 & 9 FROM VAAL RIVER (KM 36.69) TO NC/FS BORDER (KM 5.73), NATIONAL ROUTE 12 SECTIONS 9 TO 11 FROM RIET RIVER (KM 84.58) TO NC/NW BORDER (KM 0.003), NATIONAL ROUTE 18 SECTION 1 FROM WARRENTON (KM 0.00) TO NC/NW BORDER (KM 54.59), ROUTE R31 SECTIONS 6 TO 8 FROM KGATELOPELE-DIKGATLONG (KM 25.45) TO N8 KIMBERLEY SOUTH (KM 37.79),","Masututsa Consulting","X.005-046-2023/1F",null,null,{"v":18035392.5,"d":"R18,035,392.50"},{"v":6100000,"d":"R6,100,000.00"},0,"2026-05-31",{"$f":"VLOOKUP(D132,Sheet1!A114:D332,2,FALSE)","v":"2022-07-29"},"2027-05-31",{"v":0.3382238562315736,"d":"34%"}]
[null,"THE ROUTINE ROAD MAINTENANCE OF NATIONAL ROUTE 8 SECTIONS 8 & 9 FROM VAAL RIVER (KM 36.69) TO NC/FS BORDER (KM 5.73), NATIONAL ROUTE 12 SECTIONS 9 TO 11 FROM RIET RIVER (KM 84.58) TO NC/NW BORDER (KM 0.003), NATIONAL ROUTE 18 SECTION 1 FROM WARRENTON (KM 0.00) TO NC/NW BORDER (KM 54.59), ROUTE R31 SECTIONS 6 TO 8 FROM KGATELOPELE-DIKGATLONG (KM 25.45) TO N8 KIMBERLEY SOUTH (KM 37.79),","Damains Contractors","X.005-046-2023/1",null,null,{"v":136146057.35,"d":"R136,146,057.35"},{"v":84614605.735,"d":"R84,614,605.74"},{"v":15000000,"d":"R15,000,000.00"},"2026-05-31",{"$f":"VLOOKUP(D133,Sheet1!A115:D333,2,FALSE)","v":"2023-05-01"},"2027-05-31",{"v":0.7316745535929396,"d":"73%"}]
[null,"CONSULTING ENGINEERING SERVICES FOR ROUTINE ROAD MAINTENANCE OF NATIONAL ROUTE 8 SECTION 6 FROM GROBLERSHOOP TO ROOISAND (km 0.0 to km 8.166) AND NATIONAL ROUTE 10 SECTION 8 TO 11 FROM OMDRAAI TO BOEGOEBERG (km 61.641 to km 510.483)","SKI Civil","X.005-047-2023/1F",null,null,{"v":17909702.1,"d":"R17,909,702.10"},{"v":3850000,"d":"R3,850,000.00"},0,"2026-05-31",{"$f":"VLOOKUP(D134,Sheet1!A116:D334,2,FALSE)","v":"2022-08-01"},"2027-05-31",{"v":0.21496728301248516,"d":"21%"}]
[null,"FOR ROUTINE ROAD MAINTENANCE OF NATIONAL ROUTE 8 SECTION 6 FROM GROBLERSHOOP TO ROOISAND (km 0.0 to km 8.166) AND NATIONAL ROUTE 10 SECTION 8 TO 11 FROM OMDRAAI TO BOEGOEBERG (km 61.641 to km 510.483)","Botle ba Afrika","X.005-047-2023/1",null,null,{"v":103308926.59,"d":"R103,308,926.59"},{"v":44330892.659,"d":"R44,330,892.66"},0,"2026-05-31",{"$f":"VLOOKUP(D135,Sheet1!A117:D335,2,FALSE)","v":"2023-07-01"},"2027-05-31",{"v":0.4291099919655065,"d":"43%"}]
[null,"FOR CONSULTING ENGINEERING SERVICES FOR THE ROUTINE ROAD MAINTENANCE OF NATIONAL ROUTE 14 SECTIONS 1 TO 3 FROM HOLTE/HUNITES (km 81.22) TO KEIMOES (km 41.91)","SKI CIVIL AND STRUCTURAL ENGINEERS (PTY) LTD","N.014-013-2022/1F",null,null,{"v":18052206.08,"d":"R18,052,206.08"},{"v":4975000,"d":"R4,975,000.00"},0,"2026-05-31",{"$f":"VLOOKUP(D136,Sheet1!A118:D336,2,FALSE)","v":"2022-04-01"},"2027-05-31",{"v":0.2755895860014468,"d":"28%"}]
[null,"FOR THE ROUTINE ROAD MAINTENANCE OF NATIONAL ROUTE N14 SECTIONS 1 TO 3 BETWEEN HOLTE/HUNITES (km 81.221) AND KEIMOES (km 41.915)","DAMIANS CONTRACTORS CC","N.014-013-2022/1",null,null,{"v":74271526.86,"d":"R74,271,526.86"},{"v":51613812.5,"d":"R51,613,812.50"},0,"2026-05-31",{"$f":"VLOOKUP(D137,Sheet1!A119:D337,2,FALSE)","v":"2023-04-01"},"2027-05-31",{"v":0.6949340437997291,"d":"69%"}]
[null,"FOR CONSULTING ENGINEERING SERVICES FOR THE ROUTINE ROAD MAINTENANCE OF NATIONAL ROUTE R27 SECTIONS 10 TO 11 BETWEEN GROOT LEMOENKOP WEST (km 60.63) AND KEIMOES (km 74.614) AND NATIONAL ROUTE 14 SECTION 4 BETWEEN KEIMOES (km 0.00) AND OLYVENHOUTSDRIFT (km 22.554)","AVX CONSULTING ENGINEERS CC","X.005-041-2022/1F",null,null,{"v":17988809.74,"d":"R17,988,809.74"},{"v":4975000,"d":"R4,975,000.00"},0,"2026-05-31",{"$f":"VLOOKUP(D138,Sheet1!A120:D338,2,FALSE)","v":"2022-04-29"},"2027-05-31",{"v":0.27656082152770606,"d":"28%"}]
[null,"FOR THE ROUTINE ROAD MAINTENANCE OF NATIONAL ROUTE R27 SECTIONS 10 TO 11 BETWEEN GROOT LEMOENKOP WEST (km 60.63) AND KEIMOES (km 0.00) AND NATIONAL ROUTE 14 SECTION 4 BETWEEN KEIMOES (km 0.00) AND OLYVENHOUTSDRIFT (km 22.554)","DAMIANS CONTRACTORS CC","X.005-041-2022/1",null,null,{"v":61611537.92,"d":"R61,611,537.92"},{"v":24532610.880000003,"d":"R24,532,610.88"},0,"2026-05-31",{"$f":"VLOOKUP(D139,Sheet1!A121:D339,2,FALSE)","v":"2023-06-01"},"2027-05-31",{"v":0.39818208907322794,"d":"40%"}]
[null,"FOR CONSULTING ENGINEERING SERVICES FOR THE ROUTINE ROAD MAINTENANCE OF NATIONAL ROUTE 27 SECTIONS 7 TO 10 BETWEEN NC/WC BORDER (km 41.11) AND GROOT LEMOENKOP WEST (km 60.63)","KLIPCORP (PTY) LTD","R.027-070-2022/1F",null,null,{"v":17818042.5,"d":"R17,818,042.50"},{"v":4975000,"d":"R4,975,000.00"},0,"2026-05-31",{"$f":"VLOOKUP(D140,Sheet1!A122:D340,2,FALSE)","v":"2022-04-08"},"2027-05-31",{"v":0.2792113667929572,"d":"28%"}]
[null,"FOR THE ROUTINE ROAD MAINTENANCE OF NATIONAL ROUTE 27 SECTIONS 7 TO 10 BETWEEN NC/WC BORDER (km 41.11) AND GROOT LEMOENKOP WEST (km 60.63)","EXPIDOR 103 CC","R.027-070-2022/1",null,null,{"v":53487520.74,"d":"R53,487,520.74"},{"v":34897785.41,"d":"R34,897,785.41"},0,"2026-05-31",{"$f":"VLOOKUP(D141,Sheet1!A123:D341,2,FALSE)","v":"2023-04-01"},"2027-05-31",{"v":0.6524472424069958,"d":"65%"}]
[null,"FOR THE ROUTINE ROAD MAINTENANCE OF NATIONAL ROUTE 10 SECTIONS 11 TO 12 BETWEEN BOEGOEBERG (KM 59.438) AND NAKOP BORDER (KM 130.308) AND NATIONAL ROUTE 14 SECTIONS 4 TO 5 BETWEEN OLYVENHUTSDRIFT (KM 22.554) AND ZONDERHUIS (KM 61.114)","Damains Contractors","X.005-043-2023/1 ",null,null,{"v":67022174.34,"d":"R67,022,174.34"},{"v":12702217.434,"d":"R12,702,217.43"},0,"2026-05-31","2023-04-12","2027-05-31",{"v":0.1895226103761169,"d":"19%"}]
[null,"FOR THE ROUTINE ROAD MAINTENANCE OF NATIONAL ROUTE R31 FROM RIETFONTEIN (KM 0.15) TO ASKHAM (KM 86.44) AND NATIONAL ROUTE R360 FROM UPINGTON (KM 0.00) TO ASKHAM (KM 172.03)","Damains Contractors","X.005-042-2023/1 ",null,null,{"v":67706813.04,"d":"R67,706,813.04"},{"v":14770681.304000001,"d":"R14,770,681.30"},0,"2026-05-31","2023-04-12","2027-05-31",{"v":0.21815649918825364,"d":"22%"}]
[null,"CONSULTING ENGINEERING SERVICES FOR THE ROUTINE ROAD MAINTENANCE OF NATIONAL ROUTE R31 FROM RIETFONTEIN (KM 0.15) TO ASKHAM (KM 86.44) AND NATIONAL ROUTE R360 FROM UPINGTON (KM 0.00) TO ASKHAM (KM 172.03)","PMAX CONSULTING ENGINEERS (PTY) LTD","X.005-042-2023/1F",null,null,{"v":19743142.5,"d":"R19,743,142.50"},{"v":4975000,"d":"R4,975,000.00"},0,"2026-05-31",{"$f":"VLOOKUP(D144,Sheet1!A126:D344,2,FALSE)","v":"2022-04-21"},"2027-05-31",{"v":0.2519862276230848,"d":"25%"}]
[null,"CONSULTING ENGINEERING SERVICES FOR THE ROUTINE ROAD MAINTENANCE OF NATIONAL ROUTE 10 SECTIONS 11 TO 12 FROM BOEGOEBERG (KM 59.439) TO NAKOP BORDER (KM 130.309) AND NATIONAL ROUTE 14 SECTIONS 4 TO 5 FROM OLYVENHOUTSDRIFT (KM 22.554) TO ZONDERHUIS (KM 61.114):","MASUTUTSA CONSULTING (PTY) LTD","X.005-043-2023/1F ",null,null,{"v":19743142.5,"d":"R19,743,142.50"},{"v":4975000,"d":"R4,975,000.00"},0,"2026-05-31","2022-07-29","2027-05-31",{"v":0.2519862276230848,"d":"25%"}]
[null,"Consulting Engineering Services for the Routine Road Maintenance of National Road R511 Section 2 & 3 from Gauteng Border to Limpopo Border, R512 Section 2 & 3 from Gauteng Border to Brits and N4 Section 12 from R512 to N4","KBK Engineers","X.002-066-2018/1F    ",null,null,{"v":14884450.98,"d":"R14,884,450.98"},{"v":4500000,"d":"R4,500,000.00"},{"v":8013624,"d":"R8,013,624.00"},"2026-05-31","2018-02-19","2027-05-31",{"v":0.8407178751043191,"d":"84%"}]
[null,"Routine Road Maintenance of National Road R511 Section 2 & 3 from Gauteng Border to Limpopo Border, R512 Section 2 & 3 from Gauteng Border to Brits and N4 Section 12 from R512 to N4","Vea Road Maintenance","X.002-066-2018/1  ",null,null,{"v":74143143.85,"d":"R74,143,143.85"},{"v":119999999.99999997,"d":"R120,000,000.00"},{"v":191689764.65,"d":"R191,689,764.65"},"2026-05-31","2020-11-01","2027-05-31",{"v":4.203891937474135,"d":"420%"}]
[null,"Consulting Engineering Services for the Routine Road Maintenance of National Road R24 Rustenburg to Gauteng Border, R52 from Koster to N4 Rustenburg, R30 from JB Marks Municipal Border to Olifantsnek","Cinfratec Engineers","X.002-067-2018/1F",null,null,{"v":13510165.5,"d":"R13,510,165.50"},{"v":10000000,"d":"R10,000,000.00"},{"v":7862900,"d":"R7,862,900.00"},"2026-05-31",{"$f":"VLOOKUP(D148,Sheet1!A130:D348,2,FALSE)","v":"2018-02-19"},"2027-05-31",{"v":1.3221821746003037,"d":"132%"}]
[null,"Routine Road Maintenance of National Road R24 Rustenburg to Gauteng Border, R52 from Koster to N4 Rustenburg, R30 from JB Marks Municipal Border to Olifantsnek","Vea Road Maintenance","X.002-067-2018/1",null,null,{"v":59346532.92,"d":"R59,346,532.92"},{"v":53750000,"d":"R53,750,000.00"},{"v":240639526.99,"d":"R240,639,526.99"},"2026-05-31",{"$f":"VLOOKUP(D149,Sheet1!A131:D349,2,FALSE)","v":"2020-11-01"},"2027-05-31",{"v":4.960517700113019,"d":"496%"}]
[null,"Consulting Engineering Services for the Routine Road Maintenance of National Route R53 from N12 Potchefstroom to Free State Border, R54 from Gauteng Border to N12 Potchefstroom, R500 from Parys to Gauteng Border, R501 from Free State Border to Gauteng Border, N12 from Gauteng Border to Border of Merafong Municipality","Siroccon International","X.002-068-2018/1F",null,null,{"v":13828600.5,"d":"R13,828,600.50"},{"v":2500000,"d":"R2,500,000.00"},{"v":9925782,"d":"R9,925,782.00"},"2026-05-31",{"$f":"VLOOKUP(D150,Sheet1!A132:D350,2,FALSE)","v":"2018-02-19"},"2027-05-31",{"v":0.8985567266911789,"d":"90%"}]
[null,"Routine Road Maintenance of National Route R53 from N12 Potchefstroom to Free State Border, R54 from Gauteng Border to N12 Potchefstroom, R500 from Parys to Gauteng Border, R501 from Free State Border to Gauteng Border, N12 from Gauteng Border to Border of Merafong Municipality","Vea Road Maintenance","X.002-068-2018/1",null,null,{"v":82886744.5,"d":"R82,886,744.50"},{"v":71250000,"d":"R71,250,000.00"},{"v":170931373.02,"d":"R170,931,373.02"},"2026-05-31",{"$f":"VLOOKUP(D151,Sheet1!A133:D351,2,FALSE)","v":"2020-11-01"},"2027-05-31",{"v":2.921834781676098,"d":"292%"}]
[null,"Consulting Engineering Services for the Routine Road Maintenance of National Road R30 from Free State Border to JB Marks Municipal Border, R503 from Klerksdorp to Ditsobotla Municipal Border and N12 from Maquassi Hills Municipal Border to JB Marks Municipal Border","Siroccon International","X.002-069-2018/1F",null,null,{"v":13821125.5,"d":"R13,821,125.50"},{"v":4500000,"d":"R4,500,000.00"},{"v":8234400,"d":"R8,234,400.00"},"2026-05-31",{"$f":"VLOOKUP(D152,Sheet1!A134:D352,2,FALSE)","v":"2018-02-19"},"2027-05-31",{"v":0.9213721415090255,"d":"92%"}]
[null,"Routine Road Maintenance of National Road R30 from Free State Border to JB Marks Municipal Border, R503 from Klerksdorp to Ditsobotla Municipal Border and N12 from Maquassi Hills Municipal Border to JB Marks Municipal Border","Vea Road Maintenance","X.002-069-2018/1",null,null,{"v":91004563.68,"d":"R91,004,563.68"},{"v":112000000,"d":"R112,000,000.00"},{"v":174362428.82,"d":"R174,362,428.82"},"2026-05-31",{"$f":"VLOOKUP(D153,Sheet1!A135:D353,2,FALSE)","v":"2020-11-01"},"2027-05-31",{"v":3.1466820699996787,"d":"315%"}]
[null,"Consulting Engineering Services for the Routine Road Maintenance of National Road R52 from Biesiesvlei to Lichtenburg, R503 from Matlosana Municipal Border - Lichtenburg, R505 from Tswaing Municipal Border to Mahikeng Municipal Border, N14 from Tswaing Municipal Border to JB Marks Municipal Border","Cinfratec Engineers","X.002-070-2018/1F",null,null,{"v":13441246,"d":"R13,441,246.00"},{"v":4500000,"d":"R4,500,000.00"},{"v":7924022,"d":"R7,924,022.00"},"2026-05-31",{"$f":"VLOOKUP(D154,Sheet1!A136:D354,2,FALSE)","v":"2018-02-19"},"2027-05-31",{"v":0.9243207065773515,"d":"92%"}]
[null,"Routine Road Maintenance of National Road R52 from Biesiesvlei to Lichtenburg, R503 from Matlosana Municipal Border - Lichtenburg, R505 from Tswaing Municipal Border to Mahikeng Municipal Border, N14 from Tswaing Municipal Border to JB Marks Municipal Border","Vea Road Maintenance","X.002-070-2018/1",null,null,{"v":90317881.2,"d":"R90,317,881.20"},{"v":90000000,"d":"R90,000,000.00"},{"v":199513349.81,"d":"R199,513,349.81"},"2026-05-31",{"$f":"VLOOKUP(D155,Sheet1!A137:D355,2,FALSE)","v":"2020-11-01"},"2027-05-31",{"v":3.2054931533314135,"d":"321%"}]
[null,"Consulting Engineering Services for the Routine Road Maintenance Of National Route R49 From Mahikeng Municipal Border To Kopfontein Border Gate. ","Cinfratec Engineers","X.002-071-2019/1F",null,null,{"v":13394341.3,"d":"R13,394,341.30"},{"v":4500000,"d":"R4,500,000.00"},{"v":12563891.120000001,"d":"R12,563,891.12"},"2026-05-31",null,"2027-05-31",{"v":1.2739626934845987,"d":"127%"}]
[null,"Routine Road Maintenance Of National Route R49 From Mahikeng Municipal Border To Kopfontein Border Gate. ","Vea Road Maintenance","X.002-071-2019/1",null,null,{"v":63851555.8,"d":"R63,851,555.80"},{"v":89999999.99999999,"d":"R90,000,000.00"},{"v":115655198.45,"d":"R115,655,198.45"},"2026-05-31","2020-11-01","2027-05-31",{"v":3.2208330067033386,"d":"322%"}]
[null,"Consulting Engineering Services for the Routine Road Maintenance of National Road R34 from Naledi Municipal Border to Free State Border and N12 from Northern Cape Border to Maquassi Hills Municipal Border","Cinfratec Engineers","X.002-072-2018/1F",null,null,{"v":13502242,"d":"R13,502,242.00"},{"v":4500000,"d":"R4,500,000.00"},{"v":8038134.120000001,"d":"R8,038,134.12"},"2026-05-31",{"$f":"VLOOKUP(D158,Sheet1!A140:D358,2,FALSE)","v":"2018-02-19"},"2027-05-31",{"v":0.9285964597583128,"d":"93%"}]
[null,"Routine Road Maintenance of National Road R34 from Naledi Municipal Border to Free State Border and N12 from Northern Cape Border to Maquassi Hills Municipal Border","Vea Road Maintenance","X.002-072-2018/1",null,null,{"v":77005998.7,"d":"R77,005,998.70"},{"v":112000000,"d":"R112,000,000.00"},{"v":185060303.29000002,"d":"R185,060,303.29"},"2026-05-31",{"$f":"VLOOKUP(D159,Sheet1!A141:D359,2,FALSE)","v":"2020-11-01"},"2027-05-31",{"v":3.857625487688143,"d":"386%"}]
[null,"Consulting Engineering Services for the Routine Road Maintenance of National Route N12 from Lekwa-Teemane Municipal Border to Matlosana Municipal Border, R504 from Wolmaransstad to the Free State Border, and R505 from Wolmaransstad to Tswaing Municipal Border","Q&A Engineers","X.002-110-2019/1F",null,null,{"v":16458800,"d":"R16,458,800.00"},{"v":4500000,"d":"R4,500,000.00"},{"v":9113974.68,"d":"R9,113,974.68"},"2026-05-31",{"$f":"VLOOKUP(D160,Sheet1!A142:D360,2,FALSE)","v":"2019-08-26"},"2027-05-31",{"v":0.827154754903152,"d":"83%"}]
[null,"Routine Road Maintenance of National Route N12 from Lekwa-Teemane Municipal Border to Matlosana Municipal Border, R504 from Wolmaransstad to the Free State Border, and R505 from Wolmaransstad to Tswaing Municipal Border","Shonisani Rambau","X.002-110-2019/1",null,null,{"v":99888327.14,"d":"R99,888,327.14"},{"v":112000000,"d":"R112,000,000.00"},{"v":144866098.25,"d":"R144,866,098.25"},"2026-05-31",{"$f":"VLOOKUP(D161,Sheet1!A143:D361,2,FALSE)","v":"2020-11-01"},"2027-05-31",{"v":2.5715326865969574,"d":"257%"}]
[null,"Consulting Engineering Services for the Routine Road Maintenance of National Road R510 from Rustenburg to the Limpopo Border, R556 from R510 intersection to R565 Intersection, and R565 from Rustenburg to R556 Intersection","ROMH Enginners","X.002-114-2019/1F",null,null,{"v":16321950,"d":"R16,321,950.00"},{"v":3300000,"d":"R3,300,000.00"},{"v":12463890.129999999,"d":"R12,463,890.13"},"2026-05-31",{"$f":"VLOOKUP(D162,Sheet1!A144:D362,2,FALSE)","v":"2019-08-26"},"2027-05-31",{"v":0.9658092403174865,"d":"97%"}]
[null,"Routine Road Maintenance of National Road R510 from Rustenburg to the Limpopo Border, R556 from R510 intersection to R565 Intersection, and R565 from Rustenburg to R556 Intersection","Shonisani Rambau","X.002-114-2019/1",null,null,{"v":99888327.14,"d":"R99,888,327.14"},{"v":112500000,"d":"R112,500,000.00"},{"v":223117517.36,"d":"R223,117,517.36"},"2026-05-31",{"$f":"VLOOKUP(D163,Sheet1!A145:D363,2,FALSE)","v":"2020-11-01"},"2027-05-31",{"v":3.359927300510401,"d":"336%"}]
[null,"Consulting Engineering Services for the Routine Road Maintenance of National Road N14 from the North West / Northern Cape Border to Vryburg, N18 from the North West / Northern Cape Border to Vryburg","Q&A Engineers","X.002-122-2019/1F",null,null,{"v":16653150,"d":"R16,653,150.00"},{"v":3600000,"d":"R3,600,000.00"},{"v":10359568.23,"d":"R10,359,568.23"},"2026-05-31",{"$f":"VLOOKUP(D164,Sheet1!A146:D364,2,FALSE)","v":"2019-08-26"},"2027-05-31",{"v":0.8382539177272769,"d":"84%"}]
[null,"Routine Road Maintenance of National Road N14 from the North West / Northern Cape Border to Vryburg, N18 from the North West / Northern Cape Border to Vryburg","Razzmatazz","X.002-122-2019/1",null,null,{"v":69659964.3,"d":"R69,659,964.30"},{"v":53999999.999999985,"d":"R54,000,000.00"},{"v":111834349.7,"d":"R111,834,349.70"},"2026-05-31",{"$f":"VLOOKUP(D165,Sheet1!A147:D365,2,FALSE)","v":"2020-11-01"},"2027-05-31",{"v":2.380626395181773,"d":"238%"}]
[null,"Consulting Engineering Services for the Routine Road Maintenance of National Road N14 from Vryburg to Tswaing Municipal Border, N18 from Vryburg to Ratlou Municipal Border and R34 from Vryburg to Mamusa Municipal Border","Q&A Engineers","X.002-123-2019/1F",null,null,{"v":16458800,"d":"R16,458,800.00"},{"v":3600000,"d":"R3,600,000.00"},{"v":12562901.239999998,"d":"R12,562,901.24"},"2026-05-31",{"$f":"VLOOKUP(D166,Sheet1!A148:D366,2,FALSE)","v":"2019-08-26"},"2027-05-31",{"v":0.9820218509247332,"d":"98%"}]
[null,"Routine Road Maintenance of National Road N14 from Vryburg to Tswaing Municipal Border, N18 from Vryburg to Ratlou Municipal Border and R34 from Vryburg to Mamusa Municipal Border","Razzmatazz","X.002-123-2019/1",null,null,{"v":70325098.08,"d":"R70,325,098.08"},{"v":56500000.000000015,"d":"R56,500,000.00"},{"v":121716996.66000001,"d":"R121,716,996.66"},"2026-05-31",{"$f":"VLOOKUP(D167,Sheet1!A149:D367,2,FALSE)","v":"2020-11-01"},"2027-05-31",{"v":2.5341876730447646,"d":"253%"}]
[null,"Consulting Engineering Services for the Routine Road Maintenance of National Road N14 from Naledi Municipal Border to Ditsobotla Municipal Border and R505 from Maquassi Hills Municipal Border to Ditsobotla Municipal Border","Deltabec","X.002-124-2019/1F",null,null,{"v":16369905,"d":"R16,369,905.00"},{"v":4500000,"d":"R4,500,000.00"},{"v":9625980.219999999,"d":"R9,625,980.22"},"2026-05-31",{"$f":"VLOOKUP(D168,Sheet1!A150:D368,2,FALSE)","v":"2019-08-26"},"2027-05-31",{"v":0.8629237750616146,"d":"86%"}]
[null,"Routine Road Maintenance of National Road N14 from Naledi Municipal Border to Ditsobotla Municipal Border and R505 from Maquassi Hills Municipal Border to Ditsobotla Municipal Border","Vea Road Maintenance","X.002-124-2019/1",null,null,{"v":26852902.88,"d":"R26,852,902.88"},{"v":81250000,"d":"R81,250,000.00"},{"v":140551364.8,"d":"R140,551,364.80"},"2026-05-31",{"$f":"VLOOKUP(D169,Sheet1!A151:D369,2,FALSE)","v":"2020-11-01"},"2027-05-31",{"v":8.259865452580076,"d":"826%"}]
[null,"Consulting Engineering Services for the Routine Road Maintenance of National Route N18 from the Naledi Municipal Border Post, R49 from Mahikeng to the Ramotshere Moiloa Municipal Border and R505 Ditsobotla Municipal Border to the R49 Intersection","ROMH Enginners","X.002-125-2019/1F",null,null,{"v":16231560,"d":"R16,231,560.00"},{"v":3900000,"d":"R3,900,000.00"},{"v":19634022.22,"d":"R19,634,022.22"},"2026-05-31",{"$f":"VLOOKUP(D170,Sheet1!A152:D370,2,FALSE)","v":"2019-08-26"},"2027-05-31",{"v":1.4498928149851276,"d":"145%"}]
[null,"Routine Road Maintenance of National Route N18 from the Naledi Municipal Border Post, R49 from Mahikeng to the Ramotshere Moiloa Municipal Border and R505 Ditsobotla Municipal Border to the R49 Intersection","Rainbow Civils","X.002-125-2019/1",null,null,{"v":108074215.11,"d":"R108,074,215.11"},{"v":81249999.99999999,"d":"R81,250,000.00"},{"v":124876483.08,"d":"R124,876,483.08"},"2026-05-31",{"$f":"VLOOKUP(D171,Sheet1!A153:D371,2,FALSE)","v":"2020-11-01"},"2027-05-31",{"v":1.907267916497941,"d":"191%"}]
[null,"Consulting Engineering Services for the Routine Road Maintenance of National Road N14 from Ditsobotla Municipal Border to Gauteng Border, R30 from Kaetlengrivier Municipal Border through Ventersdorp to Matlosana Municipal Border and R53 from Potchefstroom to Ventersdorp","ROMH Enginners","X.002-127-2019/1F",null,null,{"v":16477200,"d":"R16,477,200.00"},{"v":4200000,"d":"R4,200,000.00"},{"v":9555781.54,"d":"R9,555,781.54"},"2026-05-31",{"$f":"VLOOKUP(D172,Sheet1!A154:D372,2,FALSE)","v":"2019-08-26"},"2027-05-31",{"v":0.8348373230888743,"d":"83%"}]
[null,"Consulting Engineering Services for the Routine Road Maintenance of National Road N14 from Ditsobotla Municipal Border to Gauteng Border, R30 from Kaetlengrivier Municipal Border through Ventersdorp to Matlosana Municipal Border and R53 from Potchefstroom to Ventersdorp","Vea Road Maintenance","X.002-127-2019/1",null,null,{"v":88789187.3,"d":"R88,789,187.30"},{"v":65000000,"d":"R65,000,000.00"},{"v":212208423.07999998,"d":"R212,208,423.08"},"2026-05-31",{"$f":"VLOOKUP(D173,Sheet1!A155:D373,2,FALSE)","v":"2020-11-01"},"2027-05-31",{"v":3.1220966370980623,"d":"312%"}]
[null,"Consulting Engineering Services for the Routine Road Maintenance of National Route N11 section 7 from the Msukaligwa Municipal boundary to Ermelo, N11 section 8 from Ermelo to the Msukaligwa Municipal boundary, N2 section 34 from Ermelo to the Msukaligwa  Municipal boundary.","Consultant:\nROMH Engineers ","X.002-097-2019/1F",null,null,{"v":16477200,"d":"R16,477,200.00"},{"v":7000000,"d":"R7,000,000.00"},{"v":7332119.870000001,"d":"R7,332,119.87"},"2026-05-31","2019-08-26","2027-05-31",{"v":0.8698152519845606,"d":"87%"}]
[null,"Routine Road Maintenance of National Route N11 section 7 from the Msukaligwa Municipal boundary to Ermelo, N11 section 8 from Ermelo to the Msukaligwa Municipal boundary, N2 section 34 from Ermelo to the Msukaligwa  Municipal boundary.","Contractor:\nPenny-Farthing","X.002-097-2019/1",null,null,{"v":130081982.12,"d":"R130,081,982.12"},{"v":105000000,"d":"R105,000,000.00"},{"v":270974049.89,"d":"R270,974,049.89"},"2026-05-31","2020-11-01","2027-05-31",{"v":2.890285370522458,"d":"289%"}]
[null,"Consulting Engineering Services for the Routine Road Maintenance of National Route R33 from Mpumalanga/Kwazulu-Natal Provincial Boundary to Mkhondo Municipal boundary and N2 from Mpumalanga/Kwazulu-Natal Provincial Boundary to Mkhondo Municipal Boundary.","Consultant:\nZimile Consulting ","X.002-091-2019/1F",null,null,{"v":14572800,"d":"R14,572,800.00"},{"v":7000000,"d":"R7,000,000.00"},{"v":7388675.66,"d":"R7,388,675.66"},"2026-05-31","2019-08-01","2027-05-31",{"v":0.9873652050395257,"d":"99%"}]
[null,"Routine Road Maintenance of National Route R33 from Mpumalanga/Kwazulu-Natal Provincial Boundary to Mkhondo Municipal boundary and N2 from Mpumalanga/Kwazulu-Natal Provincial Boundary to Mkhondo Municipal Boundary.","Contractor:\nVea Road Maintenance","X.002-091-2019/1",null,null,{"v":111867929.6,"d":"R111,867,929.60"},{"v":100000000,"d":"R100,000,000.00"},{"v":345170766.42999995,"d":"R345,170,766.43"},"2026-05-31","2020-12-01","2027-05-31",{"v":3.9794315316442574,"d":"398%"}]
[null,"Consulting Engineering Services for the Routine Road Maintenance of National Route R23 from Lekwa/Pixley ka Isaka Seme Municipal boundary over Standerton to Mpumalanga/Gauteng Provincial Boundary S27 (R51) from Vaaldraai Interchange to Malanskraal and R35 from Pixley Ka Seme Municipal boundary to Lekwa Municipal boundary.","ROMH Enginners","X.002-093-2019/1F",null,null,{"v":14654450,"d":"R14,654,450.00"},{"v":4025000,"d":"R4,025,000.00"},{"v":9061780.77,"d":"R9,061,780.77"},"2026-05-31","2019-08-01","2027-05-31",{"v":0.8930243557417712,"d":"89%"}]
[null,"Routine Road Maintenance of National Route R23 from Lekwa/Pixley ka Isaka Seme Municipal boundary over Standerton to Mpumalanga/Gauteng Provincial Boundary S27 (R51) from Vaaldraai Interchange to Malanskraal and R35 from Pixley Ka Seme Municipal boundary to Lekwa Municipal boundary.","Vea Road Maintenance","X.002-093-2019/1",null,null,{"v":95172112.62,"d":"R95,172,112.62"},{"v":69000000,"d":"R69,000,000.00"},{"v":165664055.25,"d":"R165,664,055.25"},"2026-05-31","2021-02-01","2027-05-31",{"v":2.4656808469405185,"d":"247%"}]
[null,"Consulting Engineering Services for the Routine Road Maintenance of National Route N11 from Kwazulu-Natal/Mpumalanga Provincial boundary to Pixley ka Isaka Seme Municipal boundary R35 from Amersfoort to Pixley ka Isaka Seme Municipal boundary and R23 from Volksrust to Pixley ka Isaka Seme Municipal boundary","ROMH Engineers","X.002-092-2019/1F",null,null,{"v":14772900,"d":"R14,772,900.00"},{"v":4025000,"d":"R4,025,000.00"},{"v":9117998.870000001,"d":"R9,117,998.87"},"2026-05-31","2019-08-01","2027-05-31",{"v":0.8896695212179059,"d":"89%"}]
[null,"Routine Road Maintenance of National Route N11 from Kwazulu-Natal/Mpumalanga Provincial boundary to Pixley ka Isaka Seme Municipal boundary R35 from Amersfoort to Pixley ka Isaka Seme Municipal boundary and R23 from Volksrust to Pixley ka Isaka Seme Municipal boundary","Vea Road Maintenance","X.002-092-2019/1",null,null,{"v":81034166.63,"d":"R81,034,166.63"},{"v":57500000,"d":"R57,500,000.00"},{"v":163384820.12,"d":"R163,384,820.12"},"2026-05-31","2020-12-09","2027-05-31",{"v":2.7258233076987715,"d":"273%"}]
[null,"Consulting Engineering Services for the Routine Road Maintenance of National Route R33 from Mkhondo Municipal boundary through Warburton to Chief Albert Luthuli Municipal boundary, R38 from Govan Mbeki Municipal Border to Steve Tshwete Municipal boundary and the N17 from Govan Mbeki Municipal boundary through Ermelo to Chief Albert Luthuli Municipal boundary.","ROMH Engineers","X.002-098-2019/1F&N.017-040-2019/1F",null,null,{"v":16595650,"d":"R16,595,650.00"},{"v":4025000,"d":"R4,025,000.00"},{"v":9061432.98,"d":"R9,061,432.98"},"2026-05-31","2019-09-10","2027-05-31",{"v":0.7885459731917701,"d":"79%"}]
[null,"Routine Road Maintenance of National Route R33 from Mkhondo Municipal boundary through Warburton to Chief Albert Luthuli Municipal boundary, R38 from Govan Mbeki Municipal Border to Steve Tshwete Municipal boundary and the N17 from Govan Mbeki Municipal boundary through Ermelo to Chief Albert Luthuli Municipal boundary.","Vea Road Maintenance","X.002-098-2019/1&N.017-040-2019/1",null,null,{"v":100598153.53,"d":"R100,598,153.53"},{"v":69000000,"d":"R69,000,000.00"},{"v":174155796.98,"d":"R174,155,796.98"},"2026-05-31","2020-12-10","2027-05-31",{"v":2.4171000008214563,"d":"242%"}]
[null,"Consulting Engineering Services for the Routine Road Maintenance For National Routes R33 From Msukaligwa Municipal Boundary Near Warburton Over Carolina To Belfast, R38 From Steve Tshwete Municipal Boundary Over Carolina To Mbombela Municipal Boundary, And N17 From Msukaligwa Municipal Boundary Near Warburton To Oshoek Border Post","Dinokeng Engineers","X.002-081-2019/1F",null,null,{"v":16499050,"d":"R16,499,050.00"},{"v":4025000,"d":"R4,025,000.00"},{"v":9132189.66,"d":"R9,132,189.66"},"2026-05-31","2021-01-13","2027-05-31",{"v":0.7974513478048736,"d":"80%"}]
[null,"Routine Road Maintenance For National Routes R33 From Msukaligwa Municipal Boundary Near Warburton Over Carolina To Belfast, R38 From Steve Tshwete Municipal Boundary Over Carolina To Mbombela Municipal Boundary, And N17 From Msukaligwa Municipal Boundary Near Warburton To Oshoek Border Post","Rainbow Civils","X.002-081-2019/1",null,null,{"v":86566282.03,"d":"R86,566,282.03"},{"v":92000000,"d":"R92,000,000.00"},{"v":103286987.44,"d":"R103,286,987.44"},"2026-05-31","2022-04-30","2027-05-31",{"v":2.255924395278086,"d":"226%"}]
[null,"Consulting Engineering Services for the Routine Road Maintenance For National Routes N17 From Gauteng Provincial Boundary  To Bethal Town, R38 From Bethal To the boundary of CAL and Govan Mbeki LM and the R35 From Lekwa Municipal Boundary Bethal Town","Dinokeng Engineers","X.002-096-2019/1F&N.017-034-2019/1F",null,null,{"v":16499050,"d":"R16,499,050.00"},{"v":6000000,"d":"R6,000,000.00"},{"v":9126987.670000002,"d":"R9,126,987.67"},"2026-05-31","2019-08-15","2027-05-31",{"v":0.9168399192680792,"d":"92%"}]
[null,"Routine Road Maintenance For National Routes N17 From Gauteng Provincial Boundary  To Bethal Town, R38 From Bethal To the boundary of CAL and Govan Mbeki LM and the R35 From Lekwa Municipal Boundary Bethal Town","Quality Plant Hire Expectra 38 JV","X.002-096-2019/1&N.017-034-2019/1",null,null,{"v":86566282.03,"d":"R86,566,282.03"},{"v":57500000,"d":"R57,500,000.00"},{"v":73556790.77000001,"d":"R73,556,790.77"},"2026-05-31","2022-04-30","2027-05-31",{"v":1.513947321020228,"d":"151%"}]
[null,"Consulting Engineering Services for the The Routine Road Maintenance of National Road R570 from Malelane Kruger Gate to the Jeppes Reef Border Post, R571 from the Crocodile River over Komatipoort to the Mananga Border Post, R581 from R570 To R571 and R582 from R571 to N4.","Consultant:\nROMH Engineers ","X.002-106-2019/1F",null,null,{"v":16477200,"d":"R16,477,200.00"},{"v":8050000,"d":"R8,050,000.00"},{"v":1800000,"d":"R1,800,000.00"},"2026-05-31","2019-08-26","2027-05-31",{"v":0.5977957419949992,"d":"60%"}]
[null,"The Routine Road Maintenance of National Road R570 from Malelane Kruger Gate to the Jeppes Reef Border Post, R571 from the Crocodile River over Komatipoort to the Mananga Border Post, R581 from R570 To R571 and R582 from R571 to N4.","Contractor:\nVea Road Maintenance","X.002-106-2019/1",null,null,{"v":93555248.41,"d":"R93,555,248.41"},{"v":74999999.99999997,"d":"R75,000,000.00"},{"v":230000000.00000003,"d":"R230,000,000.00"},"2026-05-31","2021-02-01","2027-05-31",{"v":3.260105714896471,"d":"326%"}]
[null,"Consulting Engineering Services for the The Routine Road Maintenance of National Road R38 from the Chief Albert Luthuli Municipal boundary to Barberton, R37 from Thaba Chweu Municipal boundary to Mbombela, R40 from Barberton over Mbombela to the Limpopo boundary, and N4 from Enos Mabuza Intersection to Crocodile Valley.Newly declared routes within Mbombela and Bushbuckridge( R38 from Barberton to Kaapmuiden,R40 from Barberton to Bulembu border, , D636 Airport road , D812 Plaston road(D636 INTERSECTION WITH TO R40) ,R40 from Nelspruit to White river, R40 through Hazeyview town).","Consultant:ROMH Engineers","X.002-108-2019/1F",null,null,{"v":16477200,"d":"R16,477,200.00"},{"v":7225000,"d":"R7,225,000.00"},{"v":6858554.289999999,"d":"R6,858,554.29"},"2026-05-31","2019-08-26","2027-05-31",{"v":0.8547298260626806,"d":"85%"}]
[null,"Consulting Engineering Services for the The Routine Road Maintenance of National Road R38 from the Chief Albert Luthuli Municipal boundary to Barberton, R37 from Thaba Chweu Municipal boundary to Mbombela, R40 from Barberton over Mbombela to the Limpopo boundary, and N4 from Enos Mabuza Intersection to Crocodile Valley. Newly declared routes within Mbombela and Bushbuckridge( R38 from Barberton to Kaapmuiden,R40 from Barberton to Bulembu border, , D636 Airport road , D812 Plaston road(D636 INTERSECTION WITH TO R40) ,R40 from Nelspruit to White river, R40 through Hazeyview town).","Contractor: VEA Road Maintenance ","X.002-108-2019/1",null,null,{"v":97500334.91,"d":"R97,500,334.91"},{"v":99000000,"d":"R99,000,000.00"},{"v":108520754.37,"d":"R108,520,754.37"},"2026-05-31","2021-02-01","2027-05-31",{"v":2.128410682502342,"d":"213%"}]
[null,"Consulting Engineering Services for the Routine Road Maintenance of National Road R555 from Emalahleni Municipal Border to Middelburg, R35 from Govan Mbeki Municipal Border to Middelburg, R38 from Msukaligwa Municipal Border to Chief Albert Luthuli Municipal Border, N11 from Msukaligwa Municipal Border over Middelburg to the Limpopo Border.","Zimile Consulting Engineers (Pty) Ltd","X.002-104-2019/1F",null,null,{"v":16542750,"d":"R16,542,750.00"},{"v":4200000,"d":"R4,200,000.00"},{"v":7432588.98,"d":"R7,432,588.98"},"2026-05-31","2019-08-26","2027-05-31",{"v":0.7031835081833432,"d":"70%"}]
[null,"Routine Road Maintenance of National Road R555 from Emalahleni Municipal Border to Middelburg, R35 from Govan Mbeki Municipal Border to Middelburg, R38 from Msukaligwa Municipal Border to Chief Albert Luthuli Municipal Border, N11 from Msukaligwa Municipal Border over Middelburg to the Limpopo Border.","Botle Ba Afrika Roads (Pty) Ltd","X.002-104-2019/1",null,null,{"v":129651683.1,"d":"R129,651,683.10"},{"v":75000000,"d":"R75,000,000.00"},{"v":162937739.50000003,"d":"R162,937,739.50"},"2026-05-31","2021-03-10","2027-05-31",{"v":1.835207486789657,"d":"184%"}]
[null,"Consulting Engineering Services for the The Routine Road Maintenance of National Road R37 from Limpopo/Mpumalanga boundary over Mashishing to Mbombela Municipal Border","ROMH Enginners","X.002-107-2019/1F",null,null,{"v":16477200,"d":"R16,477,200.00"},{"v":7500000,"d":"R7,500,000.00"},{"v":4673798.760000002,"d":"R4,673,798.76"},"2026-05-31","2019-08-26","2027-05-31",{"v":0.7388269099118784,"d":"74%"}]
[null,"The Routine Road Maintenance of National Road R37 from Limpopo/Mpumalanga boundary over Mashishing to Mbombela Municipal Border","Vea Road Maintenance","X.002-107-2019/1",null,null,{"v":80905248.41,"d":"R80,905,248.41"},{"v":80000000,"d":"R80,000,000.00"},{"v":130530224,"d":"R130,530,224.00"},"2026-05-31","2021-02-17","2027-05-31",{"v":2.6021825300270405,"d":"260%"}]
[null,"Consulting Engineering Services for the The Routine Road Maintenance of National Road R555 from Jackaroo Park to the Steve Tshwete Municipal boundary, N12 from Gauteng/Mpumalanga boundary to Emalahleni, and R573 from Moloto to Moteti and within Dr JS Moroka Municipality","Zimile Consulting Engineers (Pty) Ltd","X.002-105-2019/1F",null,null,{"v":16541887.5,"d":"R16,541,887.50"},{"v":7000000,"d":"R7,000,000.00"},{"v":12591766.530000001,"d":"R12,591,766.53"},"2026-05-31","2019-08-02","2027-05-31",{"v":1.1843730970845983,"d":"118%"}]
[null,"For the The Routine Road Maintenance of National Road R555 from Jackaroo Park to the Steve Tshwete Municipal boundary, N12 from Gauteng/Mpumalanga boundary to Emalahleni, and R573 from Moloto to Moteti and within Dr JS Moroka Municipality","Rail Refurb cc","X.002-105-2019/1",null,null,{"v":115673611.64,"d":"R115,673,611.64"},{"v":100000000,"d":"R100,000,000.00"},{"v":238073656.34000003,"d":"R238,073,656.34"},"2026-05-31","2020-12-28","2027-05-31",{"v":2.9226515153011268,"d":"292%"}]
[null,"Consulting Engineering Services for Emergency Routine Road Maintenance on National Routes R26/6 to 9 from Bethlehem (km0.00) to Ladybrand (km46.41), R34/11 to 12 from Vrede (R546 Intersection) (km0.00) to Bothaspas (km16.36), R74/1 from N5 West of Harrismith (km0.00) to Free State/KwaZulu Natal Border (km31.46)","Q & A Consulting Engineering Services and Project Management (Pty) Ltd","X.004-130-2024/1F",null,null,{"v":35690422.5,"d":"R35,690,422.50"},{"v":8290490.625,"d":"R8,290,490.63"},{"v":9253072.5,"d":"R9,253,072.50"},"2026-05-31","2024-01-04","2027-05-31",{"v":1.3861466539097427,"d":"139%"}]
[null,"Emergency Routine Road Maintenance on National Routes R26/6 to 9 from Bethlehem (km0.00) to Ladybrand (km46.41), R34/11 to 12 from Vrede (R546 Intersection) (km0.00) to Bothaspas (km16.36), R74/1 from N5 West of Harrismith (km0.00) to Free State/KwaZulu Natal Border (km31.46)","Damians Contractors CC","X.004-130-2024/1",null,null,{"v":796370966.66,"d":"R796,370,966.66"},{"v":-8944892.65625006,"d":"-R8,944,892.66"},{"v":104165322.44000006,"d":"R104,165,322.44"},"2026-05-31","2024-01-30","2027-05-31",{"v":0.3371820330391226,"d":"34%"}]
[null,"Consulting Engineering Services for Routine Road Maintenance of National Routes N1, N6, N8 and R30 in the Mangaung Metropolitan Municipality","Q & A Consulting Engineering Services and Project Management (Pty) Ltd","X.004-076-2019/1F",null,null,{"v":17814650,"d":"R17,814,650.00"},{"v":2841163.2302580937,"d":"R2,841,163.23"},{"v":2933836.7697419063,"d":"R2,933,836.77"},"2026-05-31","2020-10-01","2027-05-31",{"v":1.0061943400515867,"d":"101%"}]
[null,"For the Routine Road Maintenance of National Routes N1, N6, N8 and R30 in the Mangaung Metropolitan Municipality","BCB Solutions","X.004-076-2019/1",null,null,{"v":69497282.15,"d":"R69,497,282.15"},{"v":63561434.42708334,"d":"R63,561,434.43"},{"v":15700000,"d":"R15,700,000.00"},"2026-05-31","2020-03-01","2027-05-31",{"v":2.419067389775376,"d":"242%"}]
[null,"Consulting Engineering Services for Routine Road Maintenance of National Route N1, N5, and N8 in the Lejweleputswa District Municipality","Q & A Consulting Engineering Services and Project Management (Pty) Ltd","N.001-167-2019/1F",null,null,{"v":17457385.25,"d":"R17,457,385.25"},{"v":2375000,"d":"R2,375,000.00"},{"v":2875000,"d":"R2,875,000.00"},"2026-05-31","2019-12-10","2027-05-31",{"v":0.8119772690472074,"d":"81%"}]
[null,"For the Routine Road Maintenance of National Route N1, N5, and N8 in the Lejweleputswa District Municipality","Damians Contractors CC","N.001-167-2019/1",null,null,{"v":96029375.95,"d":"R96,029,375.95"},{"v":45084669.11666666,"d":"R45,084,669.12"},{"v":9958601.95,"d":"R9,958,601.95"},"2026-05-31","2022-05-05","2027-05-31",{"v":1.4350868696514385,"d":"144%"}]
[null,"Consulting Engineering Services for Routine Road Maintenance of National Routes N5 and N8 in the Thabo Mofutsanyane District Municipality","Q & A Consulting Engineering Services and Project Management (Pty) Ltd","X.004-068-2019/1F",null,null,{"v":19630700.1,"d":"R19,630,700.10"},{"v":2128216.65,"d":"R2,128,216.65"},{"v":3271783.35,"d":"R3,271,783.35"},"2026-05-31","2019-12-11","2027-05-31",{"v":0.5909111718333468,"d":"59%"}]
[null,"Routine Road Maintenance of National Routes N5 and N8 in the Thabo Mofutsanyane District Municipality","Damians Contractors CC ","X.004-068-2019/1",null,null,{"v":76272899,"d":"R76,272,899.00"},{"v":59492231.25,"d":"R59,492,231.25"},{"v":23000000,"d":"R23,000,000.00"},"2026-05-31","2022-04-25","2027-05-31",{"v":3.7124386001114233,"d":"371%"}]
[null,"Consulting Engineering Services for Emergency Routine Road Maintenance on National Route R34 Sections 7 to 10 from Kroonstad (N1/17) to Vrede (R546 Intersection) (km 0.00) to (km 16.36)","Q & A Consulting Engineering Services and Project Management (Pty) Ltd","X.004-127-2024/1F",null,null,{"v":31750177.5,"d":"R31,750,177.50"},{"v":1437833.18893365,"d":"R1,437,833.19"},{"v":5228833.47106635,"d":"R5,228,833.47"},"2026-05-31","2024-01-19","2027-05-31",{"v":0.7349040277543855,"d":"73%"}]
[null,"Emergency Routine Road Maintenance on National Route R34 Sections 7 to 10 from Kroonstad (N1/17) to Vrede (R546 Intersection) (km 0.00) to (km 16.36)","QTC Civils (Pty) Ltd","X.004-127-2024/1",null,null,{"v":289358939.93,"d":"R289,358,939.93"},{"v":26924564.58041665,"d":"R26,924,564.58"},{"v":75018984.43,"d":"R75,018,984.43"},"2026-05-31","2024-01-30","2027-05-31",{"v":1.1200234731431429,"d":"112%"}]
[null,"Consulting Engineering Services for Emergency Routine Road Maintenance on National Route R34 Sections 3 to 5 from Bloemhof (Vaal River) (km6.38) to Church Street (R70) (km33.24)","Q & A Consulting Engineering Services and Project Management (Pty) Ltd","X.004-128-2024/1F",null,null,{"v":38707861.5,"d":"R38,707,861.50"},{"v":5291994.846183135,"d":"R5,291,994.85"},{"v":6374671.82048354,"d":"R6,374,671.82"},"2026-05-31","2019-09-23","2027-05-31",{"v":0.7026996311847403,"d":"70%"}]
[null,"Emergency Routine Road Maintenance on National Route R34 Sections 3 to 5 from Bloemhof (Vaal River) (km6.38) to Church Street (R70) (km33.24)","QTC Civils (Pty) Ltd ","X.004-128-2024/1 ",null,null,{"v":285017615.87,"d":"R285,017,615.87"},{"v":39859258.052916646,"d":"R39,859,258.05"},{"v":73893455.97,"d":"R73,893,455.97"},"2026-05-31","2024-01-04","2027-05-31",{"v":1.2614002079515527,"d":"126%"}]
[null,"For Consulting Engineering Services for the Routine Road Maintenance of National Route N6 in the Xhariep District Municipality","Q & A Consulting Engineering Services and Project Management (Pty) Ltd","N.006-068-2019/1F",null,null,{"v":16433615,"d":"R16,433,615.00"},{"v":3960268.0595212975,"d":"R3,960,268.06"},{"v":2706398.607145363,"d":"R2,706,398.61"},"2026-05-31","2020-11-11","2027-05-31",{"v":0.9938977719347404,"d":"99%"}]
[null,"CONSULTING ENGINEERING SERVICES FOR THE ROUTINE ROAD MAINTENANCE OF NATIONAL ROUTES N1 AND R34 IN THE FEZILE DABI DISTRICT MUNICIPALITY","Q & A Consulting Engineering Services and Project Management (Pty) Ltd","N.001-179-2019/1F",null,null,{"v":14939650,"d":"R14,939,650.00"},{"v":894883.3166666664,"d":"R894,883.32"},{"v":3271783.35,"d":"R3,271,783.35"},"2026-05-31","2019-10-16","2027-05-31",{"v":1.07260768715019,"d":"107%"}]
[null,"Consulting Services for the Routine Road Maintenance of National Routes R30, R34 and R730 in the Lejweleputswa District Municipality","Q & A Consulting Engineering Services and Project Management (Pty) Ltd","X.004-067-2019/1F",null,null,{"v":19630700.1,"d":"R19,630,700.10"},{"v":2767083.845646357,"d":"R2,767,083.85"},{"v":3232916.154353643,"d":"R3,232,916.15"},"2026-05-31","2019-09-23","2027-05-31",{"v":0.856783808744549,"d":"86%"}]
[null,"The Routine Road Maintenance of National Routes R30, R34 and R730 in the Lejweleputswa District Municipality","QTC Civils (Pty) Ltd","X.004-067-2019/1",null,null,{"v":71233599,"d":"R71,233,599.00"},{"v":74645433.75,"d":"R74,645,433.75"},{"v":18469000,"d":"R18,469,000.00"},"2026-05-31","2022-02-18","2027-05-31",{"v":4.639322870009888,"d":"464%"}]
[null,"Consulting Engineering Services for the Routine Road Maintenance of National Routes N1 and N8 in the Xhariep District Municipality","Q & A Consulting Engineering Services and Project Management (Pty) Ltd","X.004-075-2019/1F",null,null,{"v":18014230.35,"d":"R18,014,230.35"},{"v":1833294.9915136914,"d":"R1,833,294.99"},{"v":2966705.0084863086,"d":"R2,966,705.01"},"2026-05-31","2019-10-07","2027-05-31",{"v":0.90450519858041,"d":"90%"}]
[null,"For the Routine Road Maintenance of National Routes 1 and 8 in the Xhariep District Municipality","Rail Refurb CC","X.004-075-2019/1",null,null,{"v":62130081.7,"d":"R62,130,081.70"},{"v":85131383.75,"d":"R85,131,383.75"},{"v":16108050,"d":"R16,108,050.00"},"2026-05-31","2021-12-13","2027-05-31",{"v":4.757838980758507,"d":"476%"}]
[null,"EMERGENCY/URGENT ROUTINE ROAD MAINTENANCE ON ON NATIONAL ROUTE R704\nSECTIONS 1 TO 2, R705 SECTIONS 1 TO 2, R48 SECTION 7 AND R64 SECTION 1 IN THE\nXHARIEP DISTRICT MUNICIPALITY","Rail Refurb Contractors (Pty) Ltd","X.004-145-2025/1",null,null,{"v":590018648.0999999,"d":"R590,018,648.10"},{"v":28780187.5,"d":"R28,780,187.50"},{"v":51227900,"d":"R51,227,900.00"},"2026-05-31","2025-03-30","2027-05-31",{"v":0.1566801113790085,"d":"16%"}]
[null,"CONSULTING ENGINEERING SERVICE FOR THE EMERGENCY/URGENT ROUTINE ROAD MAINTENANCE ON ON NATIONAL ROUTE R704\nSECTIONS 1 TO 2, R705 SECTIONS 1 TO 2, R48 SECTION 7 AND R64 SECTION 1 IN THE\nXHARIEP DISTRICT MUNICIPALITY \t\t\t\t\t\t\n\t\t\t\t\t\t\n\t\t\t\t\t\t\t\t\t\t\t\t\n\t\t\t\t\t\t\n\t\t\t\t\t\t","Q & A Consulting Engineering Services and Project Management (Pty) Ltd","X.004-145-2025/1F",null,null,{"v":52065799,"d":"R52,065,799.00"},{"v":4000000,"d":"R4,000,000.00"},{"v":6000000,"d":"R6,000,000.00"},"2026-05-31","2025-04-09","2027-05-31",{"v":0.23047759240187593,"d":"23%"}]
[null,"FOR CONSULTING ENGINEERING SERVICES FOR THE EMERGENCY ROUTINE ROAD MAINTENANCE ON NATIONAL ROUTE R59 SECTIONS 2 TO 3, AND NATIONAL ROUTE R30 SECTIONS 4 TO 6 IN THE LEJWELEPUTSWA DISTRICT MUNICIPALITY.","Batalala Consulting Engineers (Pty) Ltd","X.004-146-2025/1F",null,null,{"v":65586581.5,"d":"R65,586,581.50"},{"v":7500000,"d":"R7,500,000.00"},{"v":5000000,"d":"R5,000,000.00"},"2026-05-31","2025-06-27","2027-05-31",{"v":0.19058776527329754,"d":"19%"}]
[null,"FOR THE EMERGENCY ROUTINE ROAD MAINTENANCE ON NATIONAL ROUTE R59 SECTIONS 2 TO 3, AND NATIONAL ROUTE R30 SECTIONS 4 TO 6 IN THE LEJWELEPUTSWA DISTRICT MUNICIPALITY","Down Touch Investments","X.004-146-2025/1",null,null,{"v":486744454.63,"d":"R486,744,454.63"},{"v":34814812.5,"d":"R34,814,812.50"},{"v":32136750,"d":"R32,136,750.00"},"2026-05-31","2025-06-27","2027-05-31",{"v":0.13754971805666158,"d":"14%"}]
[null,"CONSULTING ENGINEERING SERVICES FOR THE EMERGENCY ROUTINE ROAD MAINTENANCE ON NATIONAL ROUTE R26 SECTIONS 12 TO 13 BETWEEN TWEELING AND VILLIERS IN THE FEZILE DABI DISTRICT MUNICIPALITY","Kukhanya Projects (Pty) Ltd","R.026-113-2025/1F",null,null,{"v":47110497.5,"d":"R47,110,497.50"},{"v":6000000,"d":"R6,000,000.00"},{"v":4000000,"d":"R4,000,000.00"},"2026-05-31","2025-06-27","2027-05-31",{"v":0.21226691566990988,"d":"21%"}]
[null,"FOR THE EMERGENCY ROUTINE ROAD MAINTENANCE ON NATIONAL ROUTE R26\nSECTIONS 12 TO 13 IN THE FEZILE DABI DISTRICT MUNICIPALITY","DT Mlangeni Projects (Pty) Ltd","R.026-113-2025/1",null,null,{"v":244144981.03,"d":"R244,144,981.03"},{"v":19226189.22,"d":"R19,226,189.22"},{"v":22194998.28,"d":"R22,194,998.28"},"2026-05-31","2025-06-27","2027-05-31",{"v":0.169658156908457,"d":"17%"}]
[null,"CONSULTING ENGINEERING SERVICES FOR THE EMERGENCY ROUTINE ROAD MAINTENANCE ON NATIONAL ROUTE R26 SECTIONS 10 TO 11 BETWEEN BETHLEHEM AND TWEELING, NATIONAL ROUTE R711 SECTION 1, AND NA-TIONAL ROUTE R715 SECTION 1 BETWEEN FOURIESBURG AND LESOTHO BORDER IN THE THABO MOFUTSANYANA DISTRICT MUNICIPALITY","NEXOR 312 (Pty) Ltd","R.026-100-2025/1F",null,null,{"v":54121557.6,"d":"R54,121,557.60"},{"v":6000000,"d":"R6,000,000.00"},{"v":4000000,"d":"R4,000,000.00"},"2026-05-31","2025-06-27","2027-05-31",{"v":0.1847692572691219,"d":"18%"}]
[null,"FOR THE EMERGENCY ROUTINE ROAD MAINTENANCE ON NATIONAL ROUTE R26\nSECTIONS 10 TO 11, NATIONAL ROUTE R711 SECTION 1, AND NATIONAL ROUTE R715 SECTION 1\nIN THE THABO MOFUTSANYANA DISTRICT MUNICIPALITY","Mahhushu Construction and Projects Cc","R.026-100-2025/1",null,null,{"v":246340798.64,"d":"R246,340,798.64"},{"v":7348975.000000004,"d":"R7,348,975.00"},{"v":19395899.999999996,"d":"R19,395,900.00"},"2026-05-31","2025-06-27","2027-05-31",{"v":0.10856859743758766,"d":"11%"}]
[null,"FOR CONSULTING ENGINEERING SERVICES FOR EMERGENCY ROUTINE ROAD MAINTENANCE\nON NATIONAL ROUTE R26 SECTION 1 IN THE XHARIEP DISTRICT MUNICIPALITY","Kufanikiwa Consulting (Pty) Ltd","R.026-010-2025/1F",null,null,{"v":44168613.5,"d":"R44,168,613.50"},{"v":6000000,"d":"R6,000,000.00"},{"v":4000000,"d":"R4,000,000.00"},"2026-05-31","2025-06-27","2027-05-31",{"v":0.22640511457304405,"d":"23%"}]
[null,"URGENT ROUTINE ROAD MAINTENANCE ON NATIONAL ROUTE R26 SECTION 1 IN THE XHARIEP DISTRICT MUNICIPALITY","Rail Refurb Cc","R.026-010-2025/1",null,null,{"v":271980842.41,"d":"R271,980,842.41"},{"v":15603531.370000001,"d":"R15,603,531.37"},{"v":24725531.13,"d":"R24,725,531.13"},"2026-05-31","2025-06-27","2027-05-31",{"v":0.14827905576969125,"d":"15%"}]
[null,"CONSULTING ENGINEERING SERVICES FOR THE EMERGENCY ROUTINE ROAD MAINTENANCE ON NATIONAL ROUTE N6 SECTION 6 AND N8 SECTION 11X IN THE MANGAUNG METRO MUNICIPALITY\t\t\t\t\t\t\n\t\t\t\t\t\t\n\t\t\t\t\t\t","Q & A Consulting Engineering (Pty) Ltd","X.004-147-2025/1F",null,null,{"v":42768945,"d":"R42,768,945.00"},{"v":6000000,"d":"R6,000,000.00"},{"v":4000000,"d":"R4,000,000.00"},"2026-05-31","2025-06-27","2027-05-31",{"v":0.23381451190811464,"d":"23%"}]
[null,"FOR CONTRACTOR SERVICES FOR THE ROAD MAINTENANCE ON NATIONAL ROUTE N6 SECTION 10 AND N8 SECTION 11X IN THE MANGAUNG METRO MUNICIPALITY","DOWN TOUCH INVESTMENTS","X.004-147-2025/1",null,null,{"v":387993102.48,"d":"R387,993,102.48"},{"v":11207899.770000003,"d":"R11,207,899.77"},{"v":35272100.23,"d":"R35,272,100.23"},"2026-05-31","2025-06-27","2027-05-31",{"v":0.11979594405907233,"d":"12%"}]
[null,"Consulting Engineering Services for the Routine Road Maintenance of National Route N11 From Mokopane to Blouberg Municipal Border, R518 from Mokopane to Lepelle-Nkumpi Municipal Border, R101 from Mokopane to Polokwane Municipal Border","Endecon","X.002-090-2019/1F",null,null,{"v":16034266,"d":"R16,034,266.00"},{"v":10500000,"d":"R10,500,000.00"},{"v":8169222.109999999,"d":"R8,169,222.11"},"2026-05-31","2019-10-17","2027-05-31",{"v":1.1643328176044978,"d":"116%"}]
[null,"Consulting Engineering Services for the Routine Road Maintenance of National Route N1 Sections 23, 24 & 25 from Bela-Bela to the Polokwane Municipal Border","KBK Engineers","N.001-246-2018/1F",null,null,{"v":15730689.23,"d":"R15,730,689.23"},{"v":10500000,"d":"R10,500,000.00"},{"v":8242530.759999998,"d":"R8,242,530.76"},"2026-05-31","2018-11-01","2027-05-31",{"v":1.1914627824606765,"d":"119%"}]
[null,"Consulting Engineering Services for the Routine Road Maintenance of National Route R36 from Greater Tubatse Border to Greater Tzaneen Border, R40 from Mpumalanga Border to Ba\u0002Phalaborwa Border, R526 from Mica to Ba-Phalaborwa Border and R531 from R40 to Orpen Kruger Gate","Wanoza Consulting","X.002-120- 2019/1F",null,null,{"v":15807532,"d":"R15,807,532.00"},{"v":15000000,"d":"R15,000,000.00"},{"v":6785799.739999998,"d":"R6,785,799.74"},"2026-05-31","2019-08-26","2027-05-31",{"v":1.3781910889062252,"d":"138%"}]
[null,"Consulting Engineering Services for the Routine Road Maintenance Of National Routes R510 From North\u0002West Provincial Boundary over Thabazimbi to Lephalale Municipal Boundary, R511 To from North-West Provincial Boundary to R510 Intersection and R516 From R511 Intersection near Koedoeskop to Bela-Bela Municipality Boundary","Dinokeng Enginners","X.002-082- 2019/1F",null,null,{"v":16540335,"d":"R16,540,335.00"},{"v":15000000,"d":"R15,000,000.00"},{"v":6780691.23,"d":"R6,780,691.23"},"2026-05-31","2021-01-13","2027-05-31",{"v":1.3168228593919047,"d":"132%"}]
[null,"Consulting Engineering Services for the Routine Road Maintenance Of National Routes  N11 From Mpumalanga Provincial Boundary To Ephraim Mogale Municipal Boundary, R555 From Mpumalanga Provincial Boundary To Tubatse Municipal Boundary, R573 From Mpumalanga Provincial Boundary To Dr Js Moroka Municipal Boundary Near Denilton,  And R574 From R33 Intersection Near Motetema To R579 Interstion At Hlogotlou","Dinokeng Engineers","X.002-099-2019/1F",null,null,{"v":16540450,"d":"R16,540,450.00"},{"v":5200000,"d":"R5,200,000.00"},{"v":7929076.879999999,"d":"R7,929,076.88"},"2026-05-31","2021-01-27","2027-05-31",{"v":0.7937557249047033,"d":"79%"}]
[null,"Consulting Engineering Services for the Routine Road Maintenance of National Route R555 from Elias Motsoaledi Municipal Border to Burgersfort, R37 from Lepele-Nkumpi Municipal Border over Burgersfort to Mpumalanga Border, R36 from Mpumalanga Border to Maruleng Municipal Border and R532 from Mpumalanga Border to the R36.","Dinokeng Engineers","X.002-109-2019/2F",null,null,{"v":8363734.38,"d":"R8,363,734.38"},{"v":5200000.000000001,"d":"R5,200,000.00"},{"v":7490112.89,"d":"R7,490,112.89"},"2026-05-31","2025-01-24","2027-05-31",{"v":1.517278324900605,"d":"152%"}]
[null,"Consulting Engineering Services for the Routine Road Maintenance of National Route R81 from Molemole Municipal Boundary to Giyani, R578 from Collins Chabane Municipal Boundary to Giyani, R529 from Greater Giyani Municipal Boundary to Giyani and R36 from Greater Tzaneen Municipal Boundary through Modjadjiskloof to Molemole Municipal Boundary","ROMH Engineers","X.002-094-2019/1F",null,null,{"v":16231560,"d":"R16,231,560.00"},{"v":4700000,"d":"R4,700,000.00"},{"v":8623490.11,"d":"R8,623,490.11"},"2026-05-31","2019-08-27","2027-05-31",{"v":0.820838546017758,"d":"82%"}]
[null,"Consulting Engineering Services for the Routine Road Maintenance of National Routes N11 from the Ephraim Mogale Municipal Boundary to Mogalakwena Municipal Boundary, R33 from N11 intersection to Modimolle, and R101 from Middelfontein to Mogalakwena Municipal Boundary","Dinokeng Engineers","X.002-080-2019/1F",null,null,{"v":16557930,"d":"R16,557,930.00"},{"v":7000000,"d":"R7,000,000.00"},{"v":7522558.800000001,"d":"R7,522,558.80"},"2026-05-31","2021-01-18","2027-05-31",{"v":0.8770757455793086,"d":"88%"}]
[null,"Consulting Engineering Services for the Routine Road Maintenance of National Routes R101 from Bela-Bela to Middelfontein, R516 from Thabazimbi Municipal Boundary to Bela-Bela, R520 from Lephalale Municipal Boundary to R33 intersection at Vaalwater, and R33 from Modimolle to Lephalale Municipal Boundary","Dinokeng Engineers","X.002-083-2019/1F",null,null,{"v":16548097.5,"d":"R16,548,097.50"},{"v":6600000,"d":"R6,600,000.00"},{"v":7017987.670000002,"d":"R7,017,987.67"},"2026-05-31","2021-01-13","2027-05-31",{"v":0.8229337342253393,"d":"82%"}]
[null,"Routine Road Maintenance of National Routes R33 from Modimolle-Mookgophong Municipal Boundary to R510 intersection in Lephalale, R520 from the R510 intersection to Modimolle-Mookgophong Municipal Boundary, and R510 from Thabazimbi Municipal Boundary to R33 intersection in Lephalale","Dinokeng Engineers","X.002-084-2019/1F",null,null,{"v":16540335,"d":"R16,540,335.00"},{"v":7100000,"d":"R7,100,000.00"},{"v":7182580.780000001,"d":"R7,182,580.78"},"2026-05-31","2021-01-13","2027-05-31",{"v":0.8635000911408385,"d":"86%"}]
[null,"Consulting Engineering Services for the Routine Road Maintenance of National Route R510 from Lephalale to Monte Christo, R572 from Monte Christo to Tom Burke, R518 from Lephalale to Mogalakwena Municipal Boundary and N11 from Blouberg Municipal Boundary to Groblersbrug Border Post ","Wanoza Consulting","X.002-085-2019/1F",null,null,{"v":15727296.5,"d":"R15,727,296.50"},{"v":6800000,"d":"R6,800,000.00"},{"v":6983578.989999998,"d":"R6,983,578.99"},"2026-05-31","2019-09-19","2027-05-31",{"v":0.8764112121876763,"d":"88%"}]
[null,"Consulting Engineering Services for the Routine Road Maintenance of National Route R518 from the Lephalale Municipal Border to Mokopane, N11 from the Mogalakwena Municipal Border to R101 Intersection and R101 from the Mogalakwena Municipal Border to Mokopane","Marumo Consulting","X.002-086-2019/1F",null,null,{"v":16184180,"d":"R16,184,180.00"},{"v":7000000,"d":"R7,000,000.00"},{"v":7310665.879999999,"d":"R7,310,665.88"},"2026-05-31","2019-09-19","2027-05-31",{"v":0.8842379335869966,"d":"88%"}]
[null,"Consulting Engineering Services for the Routine Road Maintenance of National Route R36 from Maruleng Municipal Boundary to Greater Letaba Municipal Boundary, R71 from Polokwane Municipal Boundary to Ba-Phalaborwa Municipal Boundary and R529 from Letsitele to Greater Giyani Municipal Boundary","Dinokeng Engineers","X.002-095-2019/1F",null,null,{"v":16477200,"d":"R16,477,200.00"},{"v":4700000,"d":"R4,700,000.00"},{"v":8379200.23,"d":"R8,379,200.23"},"2026-05-31","2019-08-27","2027-05-31",{"v":0.7937756554511689,"d":"79%"}]
[null,"Consulting Engineering Services for the Routine Road Maintenance of National Route R521 from Molemole municipal border through Vivo to Louis Trichardt municipal border, R523 from Blouberg municipal border to Masekwaspoort, N1 from Louis Trichardt to Beit Bridge border bridge border post","Cinfratec Engineers","X.002-102-2019/1F & N.001-290-2019/2F",null,null,{"v":16055978,"d":"R16,055,978.00"},{"v":4700000,"d":"R4,700,000.00"},{"v":8578246.11,"d":"R8,578,246.11"},"2026-05-31","2019-10-03","2027-05-31",{"v":0.8269970293930398,"d":"83%"}]
[null,"Consulting Engineering Services for the Routine Road Maintenance of National Route R524 from Louis Trichardt to Punda Maria Gate, R578 from Louis Trichardt to Greater Giyani Municipal Border, R36 from Molemole municipal border to Bandelierskop, N1 from Molemole municipal border to Louis Trichardt","Cinfratec Engineers","X.002-103-2019/1F & N.001-280-2019/2F",null,null,{"v":16106060.05,"d":"R16,106,060.05"},{"v":4700000,"d":"R4,700,000.00"},{"v":8484234.45,"d":"R8,484,234.45"},"2026-05-31","2019-10-03","2027-05-31",{"v":0.8185884324950098,"d":"82%"}]
[null,"Consulting Engineering Services for the Routine Road Maintenance of National Route R40 from Maruleng Border to R71, R71 from Greater Tzaneen Border to Phalaborwa Kruger Park Gate and R526 from Maruleng Border to Gravelotte","Wanoza Consulting","X.002-121-2019/1F",null,null,{"v":15807428.5,"d":"R15,807,428.50"},{"v":4700000,"d":"R4,700,000.00"},{"v":8370909.449999999,"d":"R8,370,909.45"},"2026-05-31","2019-08-26","2027-05-31",{"v":0.8268839836915916,"d":"83%"}]
[null,"Consulting Engineering Services for the Routine Road Maintenance of National Route R81 from Polokwane Municipal Boundary to Molemole Municipal Boundary, R521 from Polokwane Municipal Boundary to Molemole Municipal Boundary, R36 from Greater Letaba Municipal Boundary to Molemole Municipal Boundary and N1_28X from Polokwane Municipal Boundary to Molemole Municipal Boundary","ROMH Enginners","X.002-079-2019/1F & N.001-280-2019/1F",null,null,{"v":18231560,"d":"R18,231,560.00"},{"v":4700000,"d":"R4,700,000.00"},{"v":9223555.120000001,"d":"R9,223,555.12"},"2026-05-31","2019-08-27","2027-05-31",{"v":0.7637061842212077,"d":"76%"}]
[null,"Consulting Engineering Services for the Routine Road Maintenance of National Route R101 from Mogalakwena Municipal Border to Polokwane, R37 from Polokwane to Lepelle-Nkumpi Municipal Border, R71 from Polokwane to Greater Tzaneen Municipal Border, R81 from Polokwane to Molemole Municipal Border and N1 from Mogalakwena Municipal Border to Molemole Municipal Border","Wanoza Engineers","X.002-087-2019/1F & N.001-260-2019/1F & N.001-278-2019/1F",null,null,{"v":15658112,"d":"R15,658,112.00"},{"v":4700000,"d":"R4,700,000.00"},{"v":8193357.23,"d":"R8,193,357.23"},"2026-05-31","2019-09-27","2027-05-31",{"v":0.8234298764755291,"d":"82%"}]
[null,"Consulting Engineering Services for the Routine Road Maintenance of National Route R37 from Polokwane Municipal Border to Fetakgomo-Greater Tubatse Municipal Border, R518 from Mogalakwena Municipal Border to R37, and R579 from R37 To Makhuduthamaga Municipal Border","Marumo Consulting","X.002-089- 2019/1F",null,null,{"v":16171875,"d":"R16,171,875.00"},{"v":5100000,"d":"R5,100,000.00"},{"v":7954943.210000001,"d":"R7,954,943.21"},"2026-05-31","2019-10-03","2027-05-31",{"v":0.8072621888309179,"d":"81%"}]
[null,"Consulting Engineering Services for the Routine Road Maintenance of National Route N11 from Mookgopong municipal border through Marble Hall to Elias Motsoaledi municipal border, R573 from Dr JS Moroka municipal border to Marble Hall, R579 from Elias Motsoaledi municipal border through Nebo to Lepelle-Nkumpi municipal border","Wanoza Engineers","X.002-100-2019/1F",null,null,{"v":16159225,"d":"R16,159,225.00"},{"v":15000000,"d":"R15,000,000.00"},{"v":7450123.23,"d":"R7,450,123.23"},"2026-05-31","2019-10-03","2027-05-31",{"v":1.3893069271577072,"d":"139%"}]
[null,"Consulting Engineering Services for the Routine Road Maintenance of National Route R521 from Polokwane to Molemole municipal border and R567 from Mogalakwena municipal border to Seshego","Endecon","X.002-101-2019/1F",null,null,{"v":16061383,"d":"R16,061,383.00"},{"v":15000000,"d":"R15,000,000.00"},{"v":8308178.239999998,"d":"R8,308,178.24"},"2026-05-31","2019-09-19","2027-05-31",{"v":1.4511937259699241,"d":"145%"}]
[{"$nulls":7},{"$f":"#REF!-I249","v":{"$error":"#REF!"}}]
[{"$nulls":7},{"$f":"#REF!-I250","v":{"$error":"#REF!"}}]
[{"$nulls":7},{"$f":"#REF!-I251","v":{"$error":"#REF!"}}]
[{"$nulls":7},{"$f":"#REF!-I252","v":{"$error":"#REF!"}}]
[{"$nulls":7},{"$f":"#REF!-I253","v":{"$error":"#REF!"}}]
[{"$nulls":7},{"$f":"#REF!-I254","v":{"$error":"#REF!"}}]
[{"$nulls":7},{"$f":"#REF!-I255","v":{"$error":"#REF!"}}]
[{"$nulls":7},{"$f":"#REF!-I256","v":{"$error":"#REF!"}}]
[{"$nulls":7},{"$f":"#REF!-I257","v":{"$error":"#REF!"}}]
[{"$nulls":7},{"$f":"#REF!-I258","v":{"$error":"#REF!"}}]
[{"$nulls":7},{"$f":"#REF!-I259","v":{"$error":"#REF!"}}]
[{"$nulls":7},{"$f":"#REF!-I260","v":{"$error":"#REF!"}}]
[{"$nulls":7},{"$f":"#REF!-I261","v":{"$error":"#REF!"}}]
[{"$nulls":7},{"$f":"#REF!-I262","v":{"$error":"#REF!"}}]
[{"$nulls":7},{"$f":"#REF!-I263","v":{"$error":"#REF!"}}]
[{"$nulls":7},{"$f":"#REF!-I264","v":{"$error":"#REF!"}}]
[{"$nulls":7},{"$f":"#REF!-I265","v":{"$error":"#REF!"}}]
[{"$nulls":7},{"$f":"#REF!-I266","v":{"$error":"#REF!"}}]
[{"$nulls":7},{"$f":"#REF!-I267","v":{"$error":"#REF!"}}]
[{"$nulls":7},{"$f":"#REF!-I268","v":{"$error":"#REF!"}}]
[{"$nulls":7},{"$f":"#REF!-I269","v":{"$error":"#REF!"}}]
[{"$nulls":7},{"$f":"#REF!-I270","v":{"$error":"#REF!"}}]
[{"$nulls":7},{"$f":"#REF!-I271","v":{"$error":"#REF!"}}]
[{"$nulls":7},{"$f":"#REF!-I272","v":{"$error":"#REF!"}}]
[{"$nulls":7},{"$f":"#REF!-I273","v":{"$error":"#REF!"}}]
[{"$nulls":7},{"$f":"#REF!-I274","v":{"$error":"#REF!"}}]
[{"$nulls":7},{"$f":"#REF!-I275","v":{"$error":"#REF!"}}]
[{"$nulls":7},{"$f":"#REF!-I276","v":{"$error":"#REF!"}}]
[{"$nulls":7},{"$f":"#REF!-I277","v":{"$error":"#REF!"}}]
[{"$nulls":7},{"$f":"#REF!-I278","v":{"$error":"#REF!"}}]
[{"$nulls":7},{"$f":"#REF!-I279","v":{"$error":"#REF!"}}]
[{"$nulls":7},{"$f":"#REF!-I280","v":{"$error":"#REF!"}}]
[{"$nulls":7},{"$f":"#REF!-I281","v":{"$error":"#REF!"}}]
[{"$nulls":7},{"$f":"#REF!-I282","v":{"$error":"#REF!"}}]
[{"$nulls":7},{"$f":"#REF!-I283","v":{"$error":"#REF!"}}]
[{"$nulls":7},{"$f":"#REF!-I284","v":{"$error":"#REF!"}}]
[{"$nulls":7},{"$f":"#REF!-I285","v":{"$error":"#REF!"}}]
[{"$nulls":7},{"$f":"#REF!-I286","v":{"$error":"#REF!"}}]
[{"$nulls":7},{"$f":"#REF!-I287","v":{"$error":"#REF!"}}]
[{"$nulls":7},{"$f":"#REF!-I288","v":{"$error":"#REF!"}}]
[{"$nulls":7},{"$f":"#REF!-I289","v":{"$error":"#REF!"}}]
[{"$nulls":7},{"$f":"#REF!-I290","v":{"$error":"#REF!"}}]
[{"$nulls":7},{"$f":"#REF!-I291","v":{"$error":"#REF!"}}]
[{"$nulls":7},{"$f":"#REF!-I292","v":{"$error":"#REF!"}}]
[{"$nulls":7},{"$f":"#REF!-I293","v":{"$error":"#REF!"}}]
[{"$nulls":7},{"$f":"#REF!-I294","v":{"$error":"#REF!"}}]
[{"$nulls":7},{"$f":"#REF!-I295","v":{"$error":"#REF!"}}]
[{"$nulls":7},{"$f":"#REF!-I296","v":{"$error":"#REF!"}}]
[{"$nulls":7},{"$f":"#REF!-I297","v":{"$error":"#REF!"}}]
[{"$nulls":7},{"$f":"#REF!-I298","v":{"$error":"#REF!"}}]
[{"$nulls":7},{"$f":"#REF!-I299","v":{"$error":"#REF!"}}]
[{"$nulls":7},{"$f":"#REF!-I300","v":{"$error":"#REF!"}}]
[{"$nulls":7},{"$f":"#REF!-I301","v":{"$error":"#REF!"}}]
[{"$nulls":7},{"$f":"#REF!-I302","v":{"$error":"#REF!"}}]
[{"$nulls":7},{"$f":"#REF!-I303","v":{"$error":"#REF!"}}]
[{"$nulls":7},{"$f":"#REF!-I304","v":{"$error":"#REF!"}}]
[{"$nulls":7},{"$f":"#REF!-I305","v":{"$error":"#REF!"}}]
[{"$nulls":7},{"$f":"#REF!-I306","v":{"$error":"#REF!"}}]
[{"$nulls":7},{"$f":"#REF!-I307","v":{"$error":"#REF!"}}]
[{"$nulls":7},{"$f":"#REF!-I308","v":{"$error":"#REF!"}}]
[{"$nulls":7},{"$f":"#REF!-I309","v":{"$error":"#REF!"}}]
[{"$nulls":7},{"$f":"#REF!-I310","v":{"$error":"#REF!"}}]
[{"$nulls":7},{"$f":"#REF!-I311","v":{"$error":"#REF!"}}]
[{"$nulls":7},{"$f":"#REF!-I312","v":{"$error":"#REF!"}}]
[{"$nulls":7},{"$f":"#REF!-I313","v":{"$error":"#REF!"}}]
[{"$nulls":7},{"$f":"#REF!-I314","v":{"$error":"#REF!"}}]
[{"$nulls":7},{"$f":"#REF!-I315","v":{"$error":"#REF!"}}]
[{"$nulls":7},{"$f":"#REF!-I316","v":{"$error":"#REF!"}}]
[{"$nulls":7},{"$f":"#REF!-I317","v":{"$error":"#REF!"}}]
[{"$nulls":7},{"$f":"#REF!-I318","v":{"$error":"#REF!"}}]
[{"$nulls":7},{"$f":"#REF!-I319","v":{"$error":"#REF!"}}]
[{"$nulls":7},{"$f":"#REF!-I320","v":{"$error":"#REF!"}}]
[{"$nulls":7},{"$f":"#REF!-I321","v":{"$error":"#REF!"}}]
[{"$nulls":7},{"$f":"#REF!-I322","v":{"$error":"#REF!"}}]
[{"$nulls":7},{"$f":"#REF!-I323","v":{"$error":"#REF!"}}]
[{"$nulls":7},{"$f":"#REF!-I324","v":{"$error":"#REF!"}}]
[{"$nulls":7},{"$f":"#REF!-I325","v":{"$error":"#REF!"}}]
[{"$nulls":7},{"$f":"#REF!-I326","v":{"$error":"#REF!"}}]
[{"$nulls":7},{"$f":"#REF!-I327","v":{"$error":"#REF!"}}]
[{"$nulls":7},{"$f":"#REF!-I328","v":{"$error":"#REF!"}}]
[{"$nulls":7},{"$f":"#REF!-I329","v":{"$error":"#REF!"}}]
[{"$nulls":7},{"$f":"#REF!-I330","v":{"$error":"#REF!"}}]
[{"$nulls":7},{"$f":"#REF!-I331","v":{"$error":"#REF!"}}]
[{"$nulls":7},{"$f":"#REF!-I332","v":{"$error":"#REF!"}}]
[{"$nulls":7},{"$f":"#REF!-I333","v":{"$error":"#REF!"}}]
[{"$nulls":7},{"$f":"#REF!-I334","v":{"$error":"#REF!"}}]
[{"$nulls":7},{"$f":"#REF!-I335","v":{"$error":"#REF!"}}]
[{"$nulls":7},{"$f":"#REF!-I336","v":{"$error":"#REF!"}}]
[{"$nulls":7},{"$f":"#REF!-I337","v":{"$error":"#REF!"}}]
[{"$nulls":7},{"$f":"#REF!-I338","v":{"$error":"#REF!"}}]
[{"$nulls":7},{"$f":"#REF!-I339","v":{"$error":"#REF!"}}]
[{"$nulls":7},{"$f":"#REF!-I340","v":{"$error":"#REF!"}}]
[{"$nulls":7},{"$f":"#REF!-I341","v":{"$error":"#REF!"}}]
[{"$nulls":7},{"$f":"#REF!-I342","v":{"$error":"#REF!"}}]
[{"$nulls":7},{"$f":"#REF!-I343","v":{"$error":"#REF!"}}]
[{"$nulls":7},{"$f":"#REF!-I344","v":{"$error":"#REF!"}}]
[{"$nulls":7},{"$f":"#REF!-I345","v":{"$error":"#REF!"}}]
[{"$nulls":7},{"$f":"#REF!-I346","v":{"$error":"#REF!"}}]
[{"$nulls":7},{"$f":"#REF!-I347","v":{"$error":"#REF!"}}]
[{"$nulls":7},{"$f":"#REF!-I348","v":{"$error":"#REF!"}}]
[{"$nulls":7},{"$f":"#REF!-I349","v":{"$error":"#REF!"}}]
[{"$nulls":7},{"$f":"#REF!-I350","v":{"$error":"#REF!"}}]
[{"$nulls":7},{"$f":"#REF!-I351","v":{"$error":"#REF!"}}]
[{"$nulls":7},{"$f":"#REF!-I352","v":{"$error":"#REF!"}}]
[{"$nulls":7},{"$f":"#REF!-I353","v":{"$error":"#REF!"}}]
[{"$nulls":7},{"$f":"#REF!-I354","v":{"$error":"#REF!"}}]
[{"$nulls":7},{"$f":"#REF!-I355","v":{"$error":"#REF!"}}]
[{"$nulls":7},{"$f":"#REF!-I356","v":{"$error":"#REF!"}}]
[{"$nulls":7},{"$f":"#REF!-I357","v":{"$error":"#REF!"}}]
[{"$nulls":7},{"$f":"#REF!-I358","v":{"$error":"#REF!"}}]
[{"$nulls":7},{"$f":"#REF!-I359","v":{"$error":"#REF!"}}]
[{"$nulls":7},{"$f":"#REF!-I360","v":{"$error":"#REF!"}}]
[{"$nulls":7},{"$f":"#REF!-I361","v":{"$error":"#REF!"}}]
[{"$nulls":7},{"$f":"#REF!-I362","v":{"$error":"#REF!"}}]
[{"$nulls":7},{"$f":"#REF!-I363","v":{"$error":"#REF!"}}]
[{"$nulls":7},{"$f":"#REF!-I364","v":{"$error":"#REF!"}}]
[{"$nulls":7},{"$f":"#REF!-I365","v":{"$error":"#REF!"}}]
[{"$nulls":7},{"$f":"#REF!-I366","v":{"$error":"#REF!"}}]
[{"$nulls":7},{"$f":"#REF!-I367","v":{"$error":"#REF!"}}]
[{"$nulls":7},{"$f":"#REF!-I368","v":{"$error":"#REF!"}}]
[{"$nulls":7},{"$f":"#REF!-I369","v":{"$error":"#REF!"}}]
[{"$nulls":7},{"$f":"#REF!-I370","v":{"$error":"#REF!"}}]
[{"$nulls":7},{"$f":"#REF!-I371","v":{"$error":"#REF!"}}]
[{"$nulls":7},{"$f":"#REF!-I372","v":{"$error":"#REF!"}}]
[{"$nulls":7},{"$f":"#REF!-I373","v":{"$error":"#REF!"}}]
[{"$nulls":7},{"$f":"#REF!-I374","v":{"$error":"#REF!"}}]
[{"$nulls":7},{"$f":"#REF!-I375","v":{"$error":"#REF!"}}]
[{"$nulls":7},{"$f":"#REF!-I376","v":{"$error":"#REF!"}}]
[{"$nulls":7},{"$f":"#REF!-I377","v":{"$error":"#REF!"}}]
[{"$nulls":7},{"$f":"#REF!-I378","v":{"$error":"#REF!"}}]
[{"$nulls":7},{"$f":"#REF!-I379","v":{"$error":"#REF!"}}]
[{"$nulls":7},{"$f":"#REF!-I380","v":{"$error":"#REF!"}}]
[{"$nulls":7},{"$f":"#REF!-I381","v":{"$error":"#REF!"}}]
[{"$nulls":7},{"$f":"#REF!-I382","v":{"$error":"#REF!"}}]
[{"$nulls":7},{"$f":"#REF!-I383","v":{"$error":"#REF!"}}]
[{"$nulls":7},{"$f":"#REF!-I384","v":{"$error":"#REF!"}}]
[{"$nulls":7},{"$f":"#REF!-I385","v":{"$error":"#REF!"}}]
[{"$nulls":7},{"$f":"#REF!-I386","v":{"$error":"#REF!"}},{"$nulls":3},"2027-05-31"]
[{"$nulls":7},{"$f":"#REF!-I387","v":{"$error":"#REF!"}},{"$nulls":3},"2027-05-31"]
[{"$nulls":7},{"$f":"#REF!-I388","v":{"$error":"#REF!"}},{"$nulls":3},"2027-05-31"]
[{"$nulls":7},{"$f":"#REF!-I389","v":{"$error":"#REF!"}},{"$nulls":3},"2027-05-31"]
[{"$nulls":7},{"$f":"#REF!-I390","v":{"$error":"#REF!"}},{"$nulls":3},"2027-05-31"]
[{"$nulls":7},{"$f":"#REF!-I391","v":{"$error":"#REF!"}},{"$nulls":3},"2027-05-31"]
[{"$nulls":7},{"$f":"#REF!-I392","v":{"$error":"#REF!"}},{"$nulls":3},"2027-05-31"]
[{"$nulls":7},{"$f":"#REF!-I393","v":{"$error":"#REF!"}},{"$nulls":3},"2027-05-31"]
[{"$nulls":7},{"$f":"#REF!-I394","v":{"$error":"#REF!"}},{"$nulls":3},"2027-05-31"]
[{"$nulls":7},{"$f":"#REF!-I395","v":{"$error":"#REF!"}},{"$nulls":3},"2027-05-31"]
[{"$nulls":7},{"$f":"#REF!-I396","v":{"$error":"#REF!"}},{"$nulls":3},"2027-05-31"]
[{"$nulls":7},{"$f":"#REF!-I397","v":{"$error":"#REF!"}},{"$nulls":3},"2027-05-31"]
[{"$nulls":7},{"$f":"#REF!-I398","v":{"$error":"#REF!"}},{"$nulls":3},"2027-05-31"]
[{"$nulls":7},{"$f":"#REF!-I399","v":{"$error":"#REF!"}},{"$nulls":3},"2027-05-31"]
[{"$nulls":7},{"$f":"#REF!-I400","v":{"$error":"#REF!"}},{"$nulls":3},"2027-05-31"]
[{"$nulls":7},{"$f":"#REF!-I401","v":{"$error":"#REF!"}},{"$nulls":3},"2027-05-31"]
[{"$nulls":7},{"$f":"#REF!-I402","v":{"$error":"#REF!"}},{"$nulls":3},"2027-05-31"]
[{"$nulls":7},{"$f":"#REF!-I403","v":{"$error":"#REF!"}},{"$nulls":3},"2027-05-31"]
[{"$nulls":7},{"$f":"#REF!-I404","v":{"$error":"#REF!"}},{"$nulls":3},"2027-05-31"]
[{"$nulls":7},{"$f":"#REF!-I405","v":{"$error":"#REF!"}},{"$nulls":3},"2027-05-31"]
[{"$nulls":7},{"$f":"#REF!-I406","v":{"$error":"#REF!"}},{"$nulls":3},"2027-05-31"]
[{"$nulls":7},{"$f":"#REF!-I407","v":{"$error":"#REF!"}},{"$nulls":3},"2027-05-31"]
[{"$nulls":7},{"$f":"#REF!-I408","v":{"$error":"#REF!"}},{"$nulls":3},"2027-05-31"]
[{"$nulls":7},{"$f":"#REF!-I409","v":{"$error":"#REF!"}},{"$nulls":3},"2027-05-31"]
[{"$nulls":7},{"$f":"#REF!-I410","v":{"$error":"#REF!"}},{"$nulls":3},"2027-05-31"]
[{"$nulls":7},{"$f":"#REF!-I411","v":{"$error":"#REF!"}},{"$nulls":3},"2027-05-31"]
[{"$nulls":7},{"$f":"#REF!-I412","v":{"$error":"#REF!"}},{"$nulls":3},"2027-05-31"]
[{"$nulls":7},{"$f":"#REF!-I413","v":{"$error":"#REF!"}},{"$nulls":3},"2027-05-31"]
[{"$nulls":7},{"$f":"#REF!-I414","v":{"$error":"#REF!"}},{"$nulls":3},"2027-05-31"]
[{"$nulls":7},{"$f":"#REF!-I415","v":{"$error":"#REF!"}},{"$nulls":3},"2027-05-31"]
[{"$nulls":7},{"$f":"#REF!-I416","v":{"$error":"#REF!"}},{"$nulls":3},"2027-05-31"]
[{"$nulls":7},{"$f":"#REF!-I417","v":{"$error":"#REF!"}},{"$nulls":3},"2027-05-31"]
[{"$nulls":7},{"$f":"#REF!-I418","v":{"$error":"#REF!"}},{"$nulls":3},"2027-05-31"]
[{"$nulls":7},{"$f":"#REF!-I419","v":{"$error":"#REF!"}},{"$nulls":3},"2027-05-31"]
[{"$nulls":7},{"$f":"#REF!-I420","v":{"$error":"#REF!"}},{"$nulls":3},"2027-05-31"]
[{"$nulls":7},{"$f":"#REF!-I421","v":{"$error":"#REF!"}},{"$nulls":3},"2027-05-31"]
[{"$nulls":7},{"$f":"#REF!-I422","v":{"$error":"#REF!"}},{"$nulls":3},"2027-05-31"]
[{"$nulls":7},{"$f":"#REF!-I423","v":{"$error":"#REF!"}},{"$nulls":3},"2027-05-31"]
[{"$nulls":7},{"$f":"#REF!-I424","v":{"$error":"#REF!"}},{"$nulls":3},"2027-05-31"]
[{"$nulls":7},{"$f":"#REF!-I425","v":{"$error":"#REF!"}},{"$nulls":3},"2027-05-31"]
[{"$nulls":7},{"$f":"#REF!-I426","v":{"$error":"#REF!"}},{"$nulls":3},"2027-05-31"]
[{"$nulls":7},{"$f":"#REF!-I427","v":{"$error":"#REF!"}},{"$nulls":3},"2027-05-31"]
[{"$nulls":7},{"$f":"#REF!-I428","v":{"$error":"#REF!"}},{"$nulls":3},"2027-05-31"]
[{"$nulls":7},{"$f":"#REF!-I429","v":{"$error":"#REF!"}},{"$nulls":3},"2027-05-31"]
[{"$nulls":7},{"$f":"#REF!-I430","v":{"$error":"#REF!"}}]
[{"$nulls":7},{"$f":"#REF!-I431","v":{"$error":"#REF!"}}]
[{"$nulls":7},{"$f":"#REF!-I432","v":{"$error":"#REF!"}}]
[{"$nulls":7},{"$f":"#REF!-I433","v":{"$error":"#REF!"}}]
[{"$nulls":7},{"$f":"#REF!-I434","v":{"$error":"#REF!"}}]
[{"$nulls":7},{"$f":"#REF!-I435","v":{"$error":"#REF!"}}]
[{"$nulls":7},{"$f":"#REF!-I436","v":{"$error":"#REF!"}}]
[{"$nulls":7},{"$f":"#REF!-I437","v":{"$error":"#REF!"}}]
[{"$nulls":7},{"$f":"#REF!-I438","v":{"$error":"#REF!"}}]
[{"$nulls":7},{"$f":"#REF!-I439","v":{"$error":"#REF!"}}]
[{"$nulls":7},{"$f":"#REF!-I440","v":{"$error":"#REF!"}}]
[{"$nulls":7},{"$f":"#REF!-I441","v":{"$error":"#REF!"}}]
[{"$nulls":7},{"$f":"#REF!-I442","v":{"$error":"#REF!"}}]
[{"$nulls":7},{"$f":"#REF!-I443","v":{"$error":"#REF!"}}]
[{"$nulls":7},{"$f":"#REF!-I444","v":{"$error":"#REF!"}}]
[{"$nulls":7},{"$f":"#REF!-I445","v":{"$error":"#REF!"}}]
[{"$nulls":7},{"$f":"#REF!-I446","v":{"$error":"#REF!"}}]
[{"$nulls":7},{"$f":"#REF!-I447","v":{"$error":"#REF!"}}]
[{"$nulls":7},{"$f":"#REF!-I448","v":{"$error":"#REF!"}}]
[{"$nulls":7},{"$f":"#REF!-I449","v":{"$error":"#REF!"}}]
[{"$nulls":7},{"$f":"#REF!-I450","v":{"$error":"#REF!"}}]
[{"$nulls":7},{"$f":"#REF!-I451","v":{"$error":"#REF!"}}]
[{"$nulls":7},{"$f":"#REF!-I452","v":{"$error":"#REF!"}}]
[{"$nulls":7},{"$f":"#REF!-I453","v":{"$error":"#REF!"}}]
[{"$nulls":7},{"$f":"#REF!-I454","v":{"$error":"#REF!"}}]
[{"$nulls":7},{"$f":"#REF!-I455","v":{"$error":"#REF!"}}]
[{"$nulls":7},{"$f":"#REF!-I456","v":{"$error":"#REF!"}}]
[{"$nulls":7},{"$f":"#REF!-I457","v":{"$error":"#REF!"}}]
[{"$nulls":7},{"$f":"#REF!-I458","v":{"$error":"#REF!"}}]
[{"$nulls":7},{"$f":"#REF!-I459","v":{"$error":"#REF!"}}]
[{"$nulls":7},{"$f":"#REF!-I460","v":{"$error":"#REF!"}}]
[{"$nulls":7},{"$f":"#REF!-I461","v":{"$error":"#REF!"}}]
[{"$nulls":7},{"$f":"#REF!-I462","v":{"$error":"#REF!"}}]
[{"$nulls":7},{"$f":"#REF!-I463","v":{"$error":"#REF!"}}]
[{"$nulls":7},{"$f":"#REF!-I464","v":{"$error":"#REF!"}}]
[{"$nulls":7},{"$f":"#REF!-I465","v":{"$error":"#REF!"}}]
[{"$nulls":7},{"$f":"#REF!-I466","v":{"$error":"#REF!"}}]
[{"$nulls":7},{"$f":"#REF!-I467","v":{"$error":"#REF!"}}]
[{"$nulls":7},{"$f":"#REF!-I468","v":{"$error":"#REF!"}}]
[{"$nulls":7},{"$f":"#REF!-I469","v":{"$error":"#REF!"}}]
[{"$nulls":7},{"$f":"#REF!-I470","v":{"$error":"#REF!"}}]
[{"$nulls":7},{"$f":"#REF!-I471","v":{"$error":"#REF!"}}]
[{"$nulls":7},{"$f":"#REF!-I472","v":{"$error":"#REF!"}}]
[{"$nulls":7},{"$f":"#REF!-I473","v":{"$error":"#REF!"}}]
[{"$nulls":7},{"$f":"#REF!-I474","v":{"$error":"#REF!"}}]
[{"$nulls":7},{"$f":"#REF!-I475","v":{"$error":"#REF!"}}]
[{"$nulls":7},{"$f":"#REF!-I476","v":{"$error":"#REF!"}}]
[{"$nulls":7},{"$f":"#REF!-I477","v":{"$error":"#REF!"}}]
[{"$nulls":7},{"$f":"#REF!-I478","v":{"$error":"#REF!"}}]
[{"$nulls":7},{"$f":"#REF!-I479","v":{"$error":"#REF!"}}]
[{"$nulls":7},{"$f":"#REF!-I480","v":{"$error":"#REF!"}}]
[{"$nulls":7},{"$f":"#REF!-I481","v":{"$error":"#REF!"}}]
[{"$nulls":7},{"$f":"#REF!-I482","v":{"$error":"#REF!"}}]
[{"$nulls":7},{"$f":"#REF!-I483","v":{"$error":"#REF!"}}]
[{"$nulls":7},{"$f":"#REF!-I484","v":{"$error":"#REF!"}}]
[{"$nulls":7},{"$f":"#REF!-I485","v":{"$error":"#REF!"}}]
[{"$nulls":7},{"$f":"#REF!-I486","v":{"$error":"#REF!"}}]
[{"$nulls":7},{"$f":"#REF!-I487","v":{"$error":"#REF!"}}]
[{"$nulls":7},{"$f":"#REF!-I488","v":{"$error":"#REF!"}}]
[{"$nulls":7},{"$f":"#REF!-I489","v":{"$error":"#REF!"}}]
[{"$nulls":7},{"$f":"#REF!-I490","v":{"$error":"#REF!"}}]
[{"$nulls":7},{"$f":"#REF!-I491","v":{"$error":"#REF!"}}]
[{"$nulls":7},{"$f":"#REF!-I492","v":{"$error":"#REF!"}}]
[{"$nulls":7},{"$f":"#REF!-I493","v":{"$error":"#REF!"}}]
[{"$nulls":7},{"$f":"#REF!-I494","v":{"$error":"#REF!"}}]
[{"$nulls":7},{"$f":"#REF!-I495","v":{"$error":"#REF!"}}]
[{"$nulls":7},{"$f":"#REF!-I496","v":{"$error":"#REF!"}}]
[{"$nulls":7},{"$f":"#REF!-I497","v":{"$error":"#REF!"}}]
[{"$nulls":7},{"$f":"#REF!-I498","v":{"$error":"#REF!"}}]
[{"$nulls":7},{"$f":"#REF!-I499","v":{"$error":"#REF!"}}]
[{"$nulls":7},{"$f":"#REF!-I500","v":{"$error":"#REF!"}}]
[{"$nulls":7},{"$f":"#REF!-I501","v":{"$error":"#REF!"}}]
[{"$nulls":7},{"$f":"#REF!-I502","v":{"$error":"#REF!"}}]
[{"$nulls":7},{"$f":"#REF!-I503","v":{"$error":"#REF!"}}]
[{"$nulls":7},{"$f":"#REF!-I504","v":{"$error":"#REF!"}}]
[{"$nulls":7},{"$f":"#REF!-I505","v":{"$error":"#REF!"}}]
[{"$nulls":7},{"$f":"#REF!-I506","v":{"$error":"#REF!"}}]
[{"$nulls":7},{"$f":"#REF!-I507","v":{"$error":"#REF!"}}]
[{"$nulls":7},{"$f":"#REF!-I508","v":{"$error":"#REF!"}}]
[{"$nulls":7},{"$f":"#REF!-I509","v":{"$error":"#REF!"}}]
[{"$nulls":7},{"$f":"#REF!-I510","v":{"$error":"#REF!"}}]
[{"$nulls":7},{"$f":"#REF!-I511","v":{"$error":"#REF!"}}]
[{"$nulls":7},{"$f":"#REF!-I512","v":{"$error":"#REF!"}}]
[{"$nulls":7},{"$f":"#REF!-I513","v":{"$error":"#REF!"}}]
[{"$nulls":7},{"$f":"#REF!-I514","v":{"$error":"#REF!"}}]
[{"$nulls":7},{"$f":"#REF!-I515","v":{"$error":"#REF!"}}]
[{"$nulls":7},{"$f":"#REF!-I516","v":{"$error":"#REF!"}}]
[{"$nulls":7},{"$f":"#REF!-I517","v":{"$error":"#REF!"}}]
[{"$nulls":7},{"$f":"#REF!-I518","v":{"$error":"#REF!"}}]
[{"$nulls":7},{"$f":"#REF!-I519","v":{"$error":"#REF!"}}]
[{"$nulls":7},{"$f":"#REF!-I520","v":{"$error":"#REF!"}}]
[{"$nulls":7},{"$f":"#REF!-I521","v":{"$error":"#REF!"}}]
[{"$nulls":7},{"$f":"#REF!-I522","v":{"$error":"#REF!"}}]
[{"$nulls":7},{"$f":"#REF!-I523","v":{"$error":"#REF!"}}]
[{"$nulls":7},{"$f":"#REF!-I524","v":{"$error":"#REF!"}}]
[{"$nulls":7},{"$f":"#REF!-I525","v":{"$error":"#REF!"}}]
[{"$nulls":7},{"$f":"#REF!-I526","v":{"$error":"#REF!"}}]
[{"$nulls":7},{"$f":"#REF!-I527","v":{"$error":"#REF!"}}]
[{"$nulls":7},{"$f":"#REF!-I528","v":{"$error":"#REF!"}}]
[{"$nulls":7},{"$f":"#REF!-I529","v":{"$error":"#REF!"}}]
[{"$nulls":7},{"$f":"#REF!-I530","v":{"$error":"#REF!"}}]
[{"$nulls":7},{"$f":"#REF!-I531","v":{"$error":"#REF!"}}]
[{"$nulls":7},{"$f":"#REF!-I532","v":{"$error":"#REF!"}}]
[{"$nulls":7},{"$f":"#REF!-I533","v":{"$error":"#REF!"}}]
[{"$nulls":7},{"$f":"#REF!-I534","v":{"$error":"#REF!"}}]
[{"$nulls":7},{"$f":"#REF!-I535","v":{"$error":"#REF!"}}]
[{"$nulls":7},{"$f":"#REF!-I536","v":{"$error":"#REF!"}}]
[{"$nulls":7},{"$f":"#REF!-I537","v":{"$error":"#REF!"}}]
[{"$nulls":7},{"$f":"#REF!-I538","v":{"$error":"#REF!"}}]
[{"$nulls":7},{"$f":"#REF!-I539","v":{"$error":"#REF!"}}]
[{"$nulls":7},{"$f":"#REF!-I540","v":{"$error":"#REF!"}}]
[{"$nulls":7},{"$f":"#REF!-I541","v":{"$error":"#REF!"}}]
[{"$nulls":7},{"$f":"#REF!-I542","v":{"$error":"#REF!"}}]
[{"$nulls":7},{"$f":"#REF!-I543","v":{"$error":"#REF!"}}]
[{"$nulls":7},{"$f":"#REF!-I544","v":{"$error":"#REF!"}}]
[{"$nulls":7},{"$f":"#REF!-I545","v":{"$error":"#REF!"}}]
[{"$nulls":7},{"$f":"#REF!-I546","v":{"$error":"#REF!"}}]
[{"$nulls":7},{"$f":"#REF!-I547","v":{"$error":"#REF!"}}]
[{"$nulls":7},{"$f":"#REF!-I548","v":{"$error":"#REF!"}}]
[{"$nulls":7},{"$f":"#REF!-I549","v":{"$error":"#REF!"}}]
[{"$nulls":7},{"$f":"#REF!-I550","v":{"$error":"#REF!"}}]
[{"$nulls":7},{"$f":"#REF!-I551","v":{"$error":"#REF!"}}]
[{"$nulls":7},{"$f":"#REF!-I552","v":{"$error":"#REF!"}}]
[{"$nulls":7},{"$f":"#REF!-I553","v":{"$error":"#REF!"}}]
[{"$nulls":7},{"$f":"#REF!-I554","v":{"$error":"#REF!"}}]
[{"$nulls":7},{"$f":"#REF!-I555","v":{"$error":"#REF!"}}]
[{"$nulls":7},{"$f":"#REF!-I556","v":{"$error":"#REF!"}}]
[{"$nulls":7},{"$f":"#REF!-I557","v":{"$error":"#REF!"}}]
[{"$nulls":7},{"$f":"#REF!-I558","v":{"$error":"#REF!"}}]
[{"$nulls":7},{"$f":"#REF!-I559","v":{"$error":"#REF!"}}]
[{"$nulls":7},{"$f":"#REF!-I560","v":{"$error":"#REF!"}}]
[{"$nulls":7},{"$f":"#REF!-I561","v":{"$error":"#REF!"}}]
[{"$nulls":7},{"$f":"#REF!-I562","v":{"$error":"#REF!"}}]
[{"$nulls":7},{"$f":"#REF!-I563","v":{"$error":"#REF!"}}]
[{"$nulls":7},{"$f":"#REF!-I564","v":{"$error":"#REF!"}}]
[{"$nulls":7},{"$f":"#REF!-I565","v":{"$error":"#REF!"}}]
[{"$nulls":7},{"$f":"#REF!-I566","v":{"$error":"#REF!"}}]
[{"$nulls":7},{"$f":"#REF!-I567","v":{"$error":"#REF!"}}]
[{"$nulls":7},{"$f":"#REF!-I568","v":{"$error":"#REF!"}}]
[{"$nulls":7},{"$f":"#REF!-I569","v":{"$error":"#REF!"}}]
[{"$nulls":7},{"$f":"#REF!-I570","v":{"$error":"#REF!"}}]
[{"$nulls":7},{"$f":"#REF!-I571","v":{"$error":"#REF!"}}]
[{"$nulls":7},{"$f":"#REF!-I572","v":{"$error":"#REF!"}}]
[{"$nulls":7},{"$f":"#REF!-I573","v":{"$error":"#REF!"}}]
[{"$nulls":7},{"$f":"#REF!-I574","v":{"$error":"#REF!"}}]
[{"$nulls":7},{"$f":"#REF!-I575","v":{"$error":"#REF!"}}]
[{"$nulls":7},{"$f":"#REF!-I576","v":{"$error":"#REF!"}}]
[{"$nulls":7},{"$f":"#REF!-I577","v":{"$error":"#REF!"}}]
[{"$nulls":7},{"$f":"#REF!-I578","v":{"$error":"#REF!"}}]
[{"$nulls":7},{"$f":"#REF!-I579","v":{"$error":"#REF!"}}]
[{"$nulls":7},{"$f":"#REF!-I580","v":{"$error":"#REF!"}}]
[{"$nulls":7},{"$f":"#REF!-I581","v":{"$error":"#REF!"}}]
[{"$nulls":7},{"$f":"#REF!-I582","v":{"$error":"#REF!"}}]
[{"$nulls":7},{"$f":"#REF!-I583","v":{"$error":"#REF!"}}]
[{"$nulls":7},{"$f":"#REF!-I584","v":{"$error":"#REF!"}}]
[{"$nulls":7},{"$f":"#REF!-I585","v":{"$error":"#REF!"}}]
[{"$nulls":7},{"$f":"#REF!-I586","v":{"$error":"#REF!"}}]
[{"$nulls":7},{"$f":"#REF!-I587","v":{"$error":"#REF!"}}]
[{"$nulls":7},{"$f":"#REF!-I588","v":{"$error":"#REF!"}}]
[{"$nulls":7},{"$f":"#REF!-I589","v":{"$error":"#REF!"}}]
[{"$nulls":7},{"$f":"#REF!-I590","v":{"$error":"#REF!"}}]
[{"$nulls":7},{"$f":"#REF!-I591","v":{"$error":"#REF!"}}]
[{"$nulls":7},{"$f":"#REF!-I592","v":{"$error":"#REF!"}}]
[{"$nulls":7},{"$f":"#REF!-I593","v":{"$error":"#REF!"}}]
[{"$nulls":7},{"$f":"#REF!-I594","v":{"$error":"#REF!"}}]
[{"$nulls":7},{"$f":"#REF!-I595","v":{"$error":"#REF!"}}]
[{"$nulls":7},{"$f":"#REF!-I596","v":{"$error":"#REF!"}}]
[{"$nulls":7},{"$f":"#REF!-I597","v":{"$error":"#REF!"}}]
[{"$nulls":7},{"$f":"#REF!-I598","v":{"$error":"#REF!"}}]
[{"$nulls":7},{"$f":"#REF!-I599","v":{"$error":"#REF!"}}]
[{"$nulls":7},{"$f":"#REF!-I600","v":{"$error":"#REF!"}}]
[{"$nulls":7},{"$f":"#REF!-I601","v":{"$error":"#REF!"}}]
[{"$nulls":7},{"$f":"#REF!-I602","v":{"$error":"#REF!"}}]
[{"$nulls":7},{"$f":"#REF!-I603","v":{"$error":"#REF!"}}]
[{"$nulls":7},{"$f":"#REF!-I604","v":{"$error":"#REF!"}}]
[{"$nulls":7},{"$f":"#REF!-I605","v":{"$error":"#REF!"}}]
[{"$nulls":7},{"$f":"#REF!-I606","v":{"$error":"#REF!"}}]
[{"$nulls":7},{"$f":"#REF!-I607","v":{"$error":"#REF!"}}]
[{"$nulls":7},{"$f":"#REF!-I608","v":{"$error":"#REF!"}}]
[{"$nulls":7},{"$f":"#REF!-I609","v":{"$error":"#REF!"}}]
[{"$nulls":7},{"$f":"#REF!-I610","v":{"$error":"#REF!"}}]
[{"$nulls":7},{"$f":"#REF!-I611","v":{"$error":"#REF!"}}]
[{"$nulls":7},{"$f":"#REF!-I612","v":{"$error":"#REF!"}}]
[{"$nulls":7},{"$f":"#REF!-I613","v":{"$error":"#REF!"}}]
[{"$nulls":7},{"$f":"#REF!-I614","v":{"$error":"#REF!"}}]
[{"$nulls":7},{"$f":"#REF!-I615","v":{"$error":"#REF!"}}]
[{"$nulls":7},{"$f":"#REF!-I616","v":{"$error":"#REF!"}}]
[{"$nulls":7},{"$f":"#REF!-I617","v":{"$error":"#REF!"}}]
[{"$nulls":7},{"$f":"#REF!-I618","v":{"$error":"#REF!"}}]
[{"$nulls":7},{"$f":"#REF!-I619","v":{"$error":"#REF!"}}]
[{"$nulls":7},{"$f":"#REF!-I620","v":{"$error":"#REF!"}}]
[{"$nulls":7},{"$f":"#REF!-I621","v":{"$error":"#REF!"}}]
[{"$nulls":7},{"$f":"#REF!-I622","v":{"$error":"#REF!"}}]
[{"$nulls":7},{"$f":"#REF!-I623","v":{"$error":"#REF!"}}]
[{"$nulls":7},{"$f":"#REF!-I624","v":{"$error":"#REF!"}}]
[{"$nulls":7},{"$f":"#REF!-I625","v":{"$error":"#REF!"}}]
[{"$nulls":7},{"$f":"#REF!-I626","v":{"$error":"#REF!"}}]
[{"$nulls":7},{"$f":"#REF!-I627","v":{"$error":"#REF!"}}]
[{"$nulls":7},{"$f":"#REF!-I628","v":{"$error":"#REF!"}}]
[{"$nulls":7},{"$f":"#REF!-I629","v":{"$error":"#REF!"}}]
[{"$nulls":7},{"$f":"#REF!-I630","v":{"$error":"#REF!"}}]
[{"$nulls":7},{"$f":"#REF!-I631","v":{"$error":"#REF!"}}]
[{"$nulls":7},{"$f":"#REF!-I632","v":{"$error":"#REF!"}}]
[{"$nulls":7},{"$f":"#REF!-I633","v":{"$error":"#REF!"}}]
[{"$nulls":7},{"$f":"#REF!-I634","v":{"$error":"#REF!"}}]
[{"$nulls":7},{"$f":"#REF!-I635","v":{"$error":"#REF!"}}]
[{"$nulls":7},{"$f":"#REF!-I636","v":{"$error":"#REF!"}}]
[{"$nulls":7},{"$f":"#REF!-I637","v":{"$error":"#REF!"}}]
[{"$nulls":7},{"$f":"#REF!-I638","v":{"$error":"#REF!"}}]
[{"$nulls":7},{"$f":"#REF!-I639","v":{"$error":"#REF!"}}]
[{"$nulls":7},{"$f":"#REF!-I640","v":{"$error":"#REF!"}}]
[{"$nulls":7},{"$f":"#REF!-I641","v":{"$error":"#REF!"}}]
[{"$nulls":7},{"$f":"#REF!-I642","v":{"$error":"#REF!"}}]
[{"$nulls":7},{"$f":"#REF!-I643","v":{"$error":"#REF!"}}]
[{"$nulls":7},{"$f":"#REF!-I644","v":{"$error":"#REF!"}}]
[{"$nulls":7},{"$f":"#REF!-I645","v":{"$error":"#REF!"}}]
[{"$nulls":7},{"$f":"#REF!-I646","v":{"$error":"#REF!"}}]
[{"$nulls":7},{"$f":"#REF!-I647","v":{"$error":"#REF!"}}]
[{"$nulls":7},{"$f":"#REF!-I648","v":{"$error":"#REF!"}}]
[{"$nulls":7},{"$f":"#REF!-I649","v":{"$error":"#REF!"}}]
[{"$nulls":7},{"$f":"#REF!-I650","v":{"$error":"#REF!"}}]
[{"$nulls":7},{"$f":"#REF!-I651","v":{"$error":"#REF!"}}]
[{"$nulls":7},{"$f":"#REF!-I652","v":{"$error":"#REF!"}}]
[{"$nulls":7},{"$f":"#REF!-I653","v":{"$error":"#REF!"}}]
[{"$nulls":7},{"$f":"#REF!-I654","v":{"$error":"#REF!"}}]
[{"$nulls":7},{"$f":"#REF!-I655","v":{"$error":"#REF!"}}]
[{"$nulls":7},{"$f":"#REF!-I656","v":{"$error":"#REF!"}}]
[{"$nulls":7},{"$f":"#REF!-I657","v":{"$error":"#REF!"}}]
[{"$nulls":7},{"$f":"#REF!-I658","v":{"$error":"#REF!"}}]
[{"$nulls":7},{"$f":"#REF!-I659","v":{"$error":"#REF!"}}]
[{"$nulls":7},{"$f":"#REF!-I660","v":{"$error":"#REF!"}}]
[{"$nulls":7},{"$f":"#REF!-I661","v":{"$error":"#REF!"}}]
[{"$nulls":7},{"$f":"#REF!-I662","v":{"$error":"#REF!"}}]
[{"$nulls":7},{"$f":"#REF!-I663","v":{"$error":"#REF!"}}]
[{"$nulls":7},{"$f":"#REF!-I664","v":{"$error":"#REF!"}}]
[{"$nulls":7},{"$f":"#REF!-I665","v":{"$error":"#REF!"}}]
[{"$nulls":7},{"$f":"#REF!-I666","v":{"$error":"#REF!"}}]
[{"$nulls":7},{"$f":"#REF!-I667","v":{"$error":"#REF!"}}]
[{"$nulls":7},{"$f":"#REF!-I668","v":{"$error":"#REF!"}}]
[{"$nulls":7},{"$f":"#REF!-I669","v":{"$error":"#REF!"}}]
[{"$nulls":7},{"$f":"#REF!-I670","v":{"$error":"#REF!"}}]
[{"$nulls":7},{"$f":"#REF!-I671","v":{"$error":"#REF!"}}]
[{"$nulls":7},{"$f":"#REF!-I672","v":{"$error":"#REF!"}}]
[{"$nulls":7},{"$f":"#REF!-I673","v":{"$error":"#REF!"}}]
[{"$nulls":7},{"$f":"#REF!-I674","v":{"$error":"#REF!"}}]
[{"$nulls":7},{"$f":"#REF!-I675","v":{"$error":"#REF!"}}]
[{"$nulls":7},{"$f":"#REF!-I676","v":{"$error":"#REF!"}}]
[{"$nulls":7},{"$f":"#REF!-I677","v":{"$error":"#REF!"}}]
[{"$nulls":7},{"$f":"#REF!-I678","v":{"$error":"#REF!"}}]
[{"$nulls":7},{"$f":"#REF!-I679","v":{"$error":"#REF!"}}]
[{"$nulls":7},{"$f":"#REF!-I680","v":{"$error":"#REF!"}}]
[{"$nulls":7},{"$f":"#REF!-I681","v":{"$error":"#REF!"}}]
[{"$nulls":7},{"$f":"#REF!-I682","v":{"$error":"#REF!"}}]
[{"$nulls":7},{"$f":"#REF!-I683","v":{"$error":"#REF!"}}]
[{"$nulls":7},{"$f":"#REF!-I684","v":{"$error":"#REF!"}}]
[{"$nulls":7},{"$f":"#REF!-I685","v":{"$error":"#REF!"}}]
[{"$nulls":7},{"$f":"#REF!-I686","v":{"$error":"#REF!"}}]
[{"$nulls":7},{"$f":"#REF!-I687","v":{"$error":"#REF!"}}]
[{"$nulls":7},{"$f":"#REF!-I688","v":{"$error":"#REF!"}}]
[{"$nulls":7},{"$f":"#REF!-I689","v":{"$error":"#REF!"}}]
[{"$nulls":7},{"$f":"#REF!-I690","v":{"$error":"#REF!"}}]
[{"$nulls":7},{"$f":"#REF!-I691","v":{"$error":"#REF!"}}]
[{"$nulls":7},{"$f":"#REF!-I692","v":{"$error":"#REF!"}}]
[{"$nulls":7},{"$f":"#REF!-I693","v":{"$error":"#REF!"}}]
[{"$nulls":7},{"$f":"#REF!-I694","v":{"$error":"#REF!"}}]
[{"$nulls":7},{"$f":"SUBTOTAL(9,H116:H694)","v":{"v":32900000,"d":"R32,900,000.00"}}]
{"$rows_empty":570}
[8]
[9]
[]
[null,"The Accounting Officer/ Authority confirms that the information captured in this report is a true reflection of the approved procurement by other means and the approved expansions and variations of contracts."]
[]
[null,"ACCOUNTING OFFICER/ AUTHORITY SIGNATURE"]

{"sheet":"Sheet1","index":2,"n_rows":217,"n_cols":2,"rows_kept":217}
["X.003-065-2024/1F","2023-04-26"]
["X.003-030-2019/1","2023-03-01"]
["X.003-066-2024/1F","2023-04-12"]
["X.003-031-2019/1","2023-03-01"]
["X.003-033-2019/1(f)","2019-11-28"]
["X.003-033-2019/1","2023-03-03"]
["X.003-034-2019/1F","2020-09-01"]
["X.003-034-2019/1","2020-09-01"]
["X.003-035-2019/2F","2023-04-28"]
["X.003-035-2019/2","2023-04-28"]
["X.003-036-2019/1F","2019-12-26"]
["X.003-036-2019/1","2021-10-07"]
["X.003-037-2019/1F","2020-01-01"]
["X.003-037-2019/1","2021-11-16"]
["X.003-038-2019/1F","2020-01-14"]
["X.003-038-2019/1","2021-09-30"]
["X.003-039-2019/1","2023-03-31"]
["X.003-039-2019/1F","2023-05-01"]
["X.003-040-2019/1F","2020-01-14"]
["X.003-040-2019/1","2021-10-18"]
["X.003-041-2019/2F","2021-07-21"]
["X.003-041-2019/2","2023-03-28"]
["X.003-042-2019/1F","2019-12-18"]
["X.003-042-2019/1","2023-05-02"]
["X.003-043-2019/1F","2020-04-14"]
["X.003-043-2019/1","2023-05-01"]
["X.003-044-2019/1F","2021-01-10"]
["X.003-044-2019/1","2021-11-03"]
["X.003-045-2019/1F","2020-05-30"]
["X.003-045-2019/1","2021-11-02"]
["X.003-046-2019/1F","2020-09-01"]
["X.003-046-2019/1","2020-09-01"]
["X.003-047-2019/1F","2019-11-01"]
["X.003-047-2019/1","2020-09-01"]
["X.003-049-2019/1F","2019-12-18"]
["X.003-049-2019/1","2021-10-08"]
["R.072-014-2019/1F","2020-06-01"]
["R.072-014-2019/1","2023-04-06"]
["X.003-057-2021/1F","2022-08-02"]
["X.003-067-2024/1F","2023-02-13"]
["X.003-067-2024/1","2023-07-29"]
["X.003-071-2024/1F","2023-08-16"]
["X.003-071-2024/1","2023-08-16"]
["X.004-130-2024/1F","2024-01-04"]
["X.004-130-2024/1","2024-01-30"]
["X.004-076-2019/1F","2020-10-01"]
["X.004-076-2019/1","2020-03-01"]
["N.001-167-2019/1F","2019-12-10"]
["N.001-167-2019/1","2022-05-05"]
["X.004-068-2019/1F","2019-12-11"]
["X.004-068-2019/1","2022-04-25"]
["X.004-127-2024/1F","2024-01-19"]
["X.004-127-2024/1","2024-01-30"]
["X.004-128-2024/1F","2019-09-23"]
["X.004-128-2024/1","2024-01-04"]
["N.006-068-2019/1F","2020-11-11"]
["N.001-179-2019/1F","2019-10-16"]
["X.004-067-2019/1F","2019-09-23"]
["X.004-067-2019/1","2022-02-18"]
["X.004-075-2019/1F","2019-10-07"]
["X.004-075-2019/1","2021-12-13"]
["X.004-145-2025/1","2025-03-30"]
["X.004-145-2025/1F","00:00:00"]
["X.004-146-2025/1F","2025-06-27"]
["X.004-146-2025/1","2025-06-27"]
["R.026-113-2025/1F","2025-06-27"]
["R.026-113-2025/1","2025-06-27"]
["R.026-100-2025/1F","2025-06-27"]
["R.026-100-2025/1","2025-06-27"]
["R.026-010-2025/1F","2025-06-27"]
["R.026-010-2025/1","2025-06-27"]
["X.004-147-2025/1F","2025-06-27"]
["X.004-147-2025/1","2025-06-27"]
["X.004-071-2019/1F","2020-04-01"]
["X.004-071-2019/1","2021-09-01"]
["X.004-072-2019/1F","2020-04-01"]
["X.004-072-2019/1","2021-09-01"]
["N.011-014-2019/1F","00:00:00"]
["N.011-014-2019/1","2021-09-01"]
["N.002-213-2019/1F","2019-08-08"]
["N.002-213-2019/1","2021-09-01"]
["X.004-069-2019/1F","2019-08-08"]
["X.004-069-2019/1","2021-10-01"]
["N.002-279-2019/1F","2022-07-05"]
["N.002-279-2019/1","2022-06-29"]
["X.002-090-2019/1 (Non-Toll) & N.001-250-2019/2 (Toll)","2021-01-22"]
["X.002-090-2019/1F (Non-Toll) & N.001-250-2019/2F (Toll)","2019-10-17"]
["N.001-246-2018/1","2021-03-01"]
["N.001-246-2018/1F","2018-11-01"]
["X.002-120-2019/1F","2019-08-26"]
["X.002-120-2019/1","2021-03-01"]
["X.002-082-2019/1F","2021-01-13"]
["X.002-082-2019/1","2022-05-18"]
["X.002-099-2019/1F","2021-01-27"]
["X.002-099-2019/1","2022-04-30"]
["X.002-109-2019/1F X.002-109-20192F","2025-01-24"]
["X.002-109-2019/1","2021-04-01"]
["X.002-094-2019/1F","2019-08-27"]
["X.002-094-2019/1","2021-03-01"]
["X.002-080-2019/1F (Non Toll) & N.001-250-2019/1F (Toll)","2021-01-18"]
["X.002-080-2019/1","2022-05-11"]
["X.002-083-2019/1F (Non Toll) & N.001-234-2019/1F (Toll)","2021-01-13"]
["X.002-083-2019/1","2022-05-11"]
["X.002-084-2019/1F","2021-01-13"]
["X.002-084-2019/1","2022-05-11"]
["X.002-085-2019/1F","2019-09-19"]
["X.002-085-2019/1","2021-04-01"]
["X.002-086-2019/1F","2019-09-19"]
["X.002-086-2019/1","2021-04-30"]
["X.002-095-2019/1F","2019-08-27"]
["X.002-095-2019/1","2022-04-30"]
["X.002-102-2019/1F (Non Toll), N.001-290-2019/2F (Toll)","2019-10-03"]
["X.002-102-2019/1 (Non Toll), N.001-290-2019/2 (Toll)","2021-07-01"]
["X.002-103-2019/1F (Non-Toll) & N.001-280-2019/2F (Toll)","2019-10-03"]
["X.002-103-2019/1 (Non-Toll) & N.001-280-2019/2 (Toll)","2021-07-01"]
["X.002-121-2019/1F","2019-08-26"]
["X.002-121-2019/1","2021-03-01"]
["X.002-079-2019/1F (NON TOLL) & N.001-280-2019/1F (TOLL)","2019-08-27"]
["X.002-079-2019/1 (NON TOLL) & N.001-280-2019/1 (TOLL)","2021-06-01"]
["X.002-087-2019/1F (NON-TOLL), N.001-260-2019/1F (TOLL) AND N.001-278-2019/1F (TOLL)","2019-09-27"]
["X.002-087-2019/1 (NON-TOLL), N.001-260-2019/1 (TOLL) AND N.001-278-2019/1 (TOLL)","2021-07-01"]
["X.002-089-2019/1F","2019-10-03"]
["X.002-089-2019/1","2021-02-01"]
["X.002-100-2019/1F","2019-10-03"]
["X.002-100-2019/1","2021-07-01"]
["X.002-101-2019/1F","2019-09-19"]
["X.002-101-2019/1","2021-07-01"]
["X.002-097-2019/1F","2019-08-26"]
["X.002-097-2019/1","2020-11-01"]
["X.002-091-2019/1F","2019-08-01"]
["X.002-091-2019/1","2020-12-01"]
["X.002-093-2019/1F","2019-08-01"]
["X.002-093-2019/1","2021-02-01"]
["X.002-092-2019/1F","2019-08-01"]
["X.002-092-2019/1","2020-12-09"]
["X.002-098-2019/1F (Non toll) & N.017-040-2019/1F (Toll)","2019-09-10"]
["X.002-098-2019/1 (Non toll) & N.017-040-2019/1 (Toll)","2020-12-10"]
["X.002-081-2019/1F","2021-01-13"]
["X.002-081-2019/1","2022-04-30"]
["X.002-096-2019/1 & N.017-034-2019/1F","2019-08-15"]
["X.002-096-2019/1 & N.017-034-2019/1","2022-04-30"]
["X.002-106-2019/1F","2019-08-26"]
["X.002-106-2019/1","2021-02-01"]
["X.002-108-2019/1F","2019-08-26"]
["X.002-108-2019/1","2021-02-01"]
["X.002-104-2019/1F","2019-08-26"]
["X.002-104-2019/1","2021-03-10"]
["X.002-107-2019/1F","2019-08-26"]
["X.002-107-2019/1","2021-02-17"]
["X.002-105-2019/1F","2019-08-02"]
["X.002-105-2019/1","2020-12-28"]
["X.005-045-2022/1F","2022-03-24"]
["X.005-045-2022/1","2023-04-01"]
["N.010-058-2023/1","2023-05-01"]
["N.010-058-2023/1F","2022-08-12"]
["N.012-057-2023/1","2023-07-01"]
["N.012-057-2023/1F","2022-04-29"]
["N.001-091-2023/1","2023-04-01"]
["N.001-091-2023/1F","2022-04-29"]
["X.005-044-2023/1","2023-05-01"]
["X.005-044-2023/1F","2022-04-29"]
["N.008-068-2023/1F","2022-09-28"]
["N.008-068-2023/1","2023-07-31"]
["N.012-079-2023/1F","2022-08-29"]
["N.012-079-2023/1","2023-05-01"]
["X.005-046-2023/1F","2022-07-29"]
["X.005-046-2023/1","2023-05-01"]
["X.005-047-2023/1F","2022-08-01"]
["X.005-047-2023/1","2023-07-01"]
["N.014-013-2022/1F","2022-04-01"]
["N.014-013-2022/1","2023-04-01"]
["X.005-041-2022/1F","2022-04-29"]
["X.005-041-2022/1","2023-06-01"]
["R.027-070-2022/1F","2022-04-08"]
["R.027-070-2022/1","2023-04-01"]
["X.005-043-2023/1","2023-07-01"]
["X.005-042-2023/1","2023-06-01"]
["X.005-042-2023/1F","2022-04-21"]
["X.005-043-2023/1F","2022-07-29"]
["X.002-066-2018/1F","2018-02-19"]
["X.002-066-2018/1","2020-11-01"]
["X.002-067-2018/1F","2018-02-19"]
["X.002-067-2018/1","2020-11-01"]
["X.002-068-2018/1F","2018-02-19"]
["X.002-068-2018/1","2020-11-01"]
["X.002-069-2018/1F","2018-02-19"]
["X.002-069-2018/1","2020-11-01"]
["X.002-070-2018/1F","2018-02-19"]
["X.002-070-2018/1","2020-11-01"]
["X.002-071-2018/1F","2018-02-19"]
["X.002-071-2018/1","2020-11-01"]
["X.002-072-2018/1F","2018-02-19"]
["X.002-072-2018/1","2020-11-01"]
["X.002-110-2019/1F","2019-08-26"]
["X.002-110-2019/1","2020-11-01"]
["X.002-114-2019/1F","2019-08-26"]
["X.002-114-2019/1","2020-11-01"]
["X.002-119-2019/1F","2019-08-19"]
["X.002-119-2019/1","2020-11-01"]
["X.002-122-2019/1F","2019-08-26"]
["X.002-122-2019/1","2020-11-01"]
["X.002-123-2019/1F","2019-08-26"]
["X.002-123-2019/1","2020-11-01"]
["X.002-124-2019/1F","2019-08-26"]
["X.002-124-2019/1","2020-11-01"]
["X.002-125-2019/1F","2019-08-26"]
["X.002-125-2019/1","2020-11-01"]
["X.002-127-2019/1F","2019-08-26"]
["X.002-127-2019/1","2020-11-01"]
["X.002-138-2021/1 NOW X.002-138-2021/9","2022-02-22"]
["X.002-128-2019/1 (Toll) Now X.002-128-2019/9 & N.017-010-2019/1 (Non Toll)","2020-12-01"]
["X.002-128-2019/1F (Toll) Now X.002-128-2019/9F & N.017-010-2019/1F (Non Toll)","2019-05-21"]
["X.002-129-2019/1 (Toll) Now X.002-129-2019/9 & N.003-112-2019/1 (Non Toll)","2020-11-01"]
["X.002-129-2019/1F (Toll) Now N.003-112-2019/9F & N.003-112-2019/1F (Non Toll)","2019-05-21"]
["X.002-088-2019/1 (Toll) Now X.002-088-2019/9 & R.104-012-2019/1 (Non Toll)","2020-11-01"]
["X.002-088-2019/1F (Toll) Now X.002-088-2019/9F & R.104-012-2019/1F (Non Toll)","2019-05-21"]
["X.005-036-2019/1","2020-12-01"]