Workbook
Name Airport: 'G5_3 Mid-Life Upgrade'!#REF!
Name Airport: 'G6 Options'!#REF!

Sheet Instructions
C3: Bidder : | D3: Bidder Company Name
C4: Project Name | D4: Fibre Termination Nodes Project
C5: Foreign Currency: | D5: FC
C6: ROE: 1R= | D6: 0.1
C7: Date: | D7: 46217
C10: This file contains the following sheets:
C11: G1 SUMMARY | D11: Summary of all sheets.
C12: G2_1 PMP | D12: Project management and associated costs.
C13: G2_2 ILS | D13: Logistic Support and associated costs.
C14: G3_1 to 9 | D14: All items and associated cost on the equipment per site.
C15: G4 Miscellaneous | D15: All miscellaneous items costs
C16: G5_1 Support Contract (Base) | D16: 10 Year maintenance contract at base cost. Please provide details.
C17: G5_2 Support Contract (Inflated) | D17: 10 Year maintenance contract including inflation. Please provide details.
C18: G5_3 Mid-Life Upgrade | D18: Mid-Life Upgrade cost for the relevant year of when it will be implemented.
C19: G6 Options | D19: All optional items and costs
C22: VAT SHALL BE CLEARLY INDICATED ON THE G1 SUMMARY SHEET
C23: THE BIDDER SHALL BE RESPONSIBLE FOR VERIFYING THAT THERE ARE NO ERROS IN QUANTITIES, PRICING, CALCULATIONS AND TOTALS AS INDICATED ON THEIR SUBMITTED PRICING SCHEDULE

Sheet G1 SUMMARY
A1: BIDDER PRICE SCHEDULE: APPENDIX G1
A2: (INCLUDING VALUE ADDED TAX)
A3: BIDDER : | C3: =Instructions!D3 -> Bidder Company Name
A4: DESCRIPTION : | C4: =Instructions!D4 -> Fibre Termination Nodes Project
A5: Item Nr: | C5: G1
A6: Item Description: | C6: SUMMARY
A7: Foreign Currancy | C7: =Instructions!D5 -> FC
A8: ROE: 1R = | C8: =Instructions!D6 -> 0.1
C10: Overseas Items | I10: Local Items
A12: Schedule Item Number | B12: Description | C12: Foreign Currency | D12: Quantity | E12: Foreign Amount Unit Cost | F12: Foreign Amount Total Cost | G12: ROE: 1R = … | H12: Total Foreign Cost in Rands | I12: Quantity | J12: Local Amount Unit Cost | K12: Local Amount Total Cost | L12: Total Rands
A16: G2 | B16: SERVICES
A17: G2.1 | B17: Project Management | C17: =C7 -> FC | E17: ='G2_1 PMP'!E42 -> 0 | F17: ='G2_1 PMP'!F42 -> 0 | G17: ='G2_1 PMP'!G42 -> 0.1 | H17: ='G2_1 PMP'!H42 -> 0 | J17: ='G2_1 PMP'!J42 -> 0 | K17: ='G2_1 PMP'!K42 -> 0 | L17: ='G2_1 PMP'!L42 -> 0
A18: G2.2 | B18: Integrated Logistic Support | C18: =C7 -> FC | E18: ='G2_2 ILS'!E65 -> 0 | F18: ='G2_2 ILS'!F65 -> 0 | G18: ='G2_2 ILS'!G65 -> 0.1 | H18: ='G2_2 ILS'!H65 -> 0 | I18: ='G2_2 ILS'!I65 -> 0 | J18: ='G2_2 ILS'!J65 -> 0 | K18: ='G2_2 ILS'!K65 -> 0 | L18: ='G2_2 ILS'!L65 -> 0
A20: G3 | B20: INSTALLATION AND MATERIALS
A21: G3.1 | B21: FALE | C21: =C7 -> FC | E21: ='G3_1 FALE'!E37 -> 0 | F21: ='G3_1 FALE'!F37 -> 0 | G21: ='G3_1 FALE'!G37 -> 0.1 | H21: ='G3_1 FALE'!H37 -> 0 | I21: ='G3_1 FALE'!I37 -> 0 | J21: ='G3_1 FALE'!J37 -> 0 | K21: ='G3_1 FALE'!K37 -> 0 | L21: ='G3_1 FALE'!L37 -> 0
A22: G3.2 | B22: FABL | C22: =C7 -> FC | E22: ='G3_2 FABL'!E36 -> 0 | F22: ='G3_2 FABL'!F36 -> 0 | G22: ='G3_2 FABL'!G36 -> 0.1 | H22: ='G3_2 FABL'!H36 -> 0 | I22: ='G3_2 FABL'!I36 -> 0 | J22: ='G3_2 FABL'!J36 -> 0 | K22: ='G3_2 FABL'!K36 -> 0 | L22: ='G3_2 FABL'!L36 -> 0
A23: G3.3 | B23: FAKM | C23: =C7 -> FC | E23: ='G3_3 FAKM'!E35 -> 0 | F23: ='G3_3 FAKM'!F35 -> 0 | G23: ='G3_3 FAKM'!G35 -> 0.1 | H23: ='G3_3 FAKM'!H35 -> 0 | I23: ='G3_3 FAKM'!I35 -> 0 | J23: ='G3_3 FAKM'!J35 -> 0 | K23: ='G3_3 FAKM'!K35 -> 0 | L23: ='G3_3 FAKM'!L35 -> 0
A24: G3.4 | B24: FAUP | C24: =C7 -> FC | E24: ='G3_4 FAUP'!E37 -> 0 | F24: ='G3_4 FAUP'!F37 -> 0 | G24: ='G3_4 FAUP'!G37 -> 0.1 | H24: ='G3_4 FAUP'!H37 -> 0 | I24: ='G3_4 FAUP'!I37 -> 0 | J24: ='G3_4 FAUP'!J37 -> 0 | K24: ='G3_4 FAUP'!K37 -> 0 | L24: ='G3_4 FAUP'!L37 -> 0
A25: G3.5 | B25: FAPE | C25: =C7 -> FC | E25: ='G3_5 FAPE'!E38 -> 0 | F25: ='G3_5 FAPE'!F38 -> 0 | G25: ='G3_5 FAPE'!G38 -> 0.1 | H25: ='G3_5 FAPE'!H38 -> 0 | I25: ='G3_5 FAPE'!I38 -> 0 | J25: ='G3_5 FAPE'!J38 -> 0 | K25: ='G3_5 FAPE'!K38 -> 0 | L25: ='G3_5 FAPE'!L38 -> 0
A26: G3.6 | B26: FAEL | C26: =C7 -> FC | E26: ='G3_6 FAEL'!E36 -> 0 | F26: ='G3_6 FAEL'!F36 -> 0 | G26: ='G3_6 FAEL'!G36 -> 0.1 | H26: ='G3_6 FAEL'!H36 -> 0 | I26: ='G3_6 FAEL'!I36 -> 0 | J26: ='G3_6 FAEL'!J36 -> 0 | K26: ='G3_6 FAEL'!K36 -> 0 | L26: ='G3_6 FAEL'!L36 -> 0
A27: G3.7 | B27: FAGG | C27: =C7 -> FC | E27: ='G3_7 FAGG'!E37 -> 0 | F27: ='G3_7 FAGG'!F37 -> 0 | G27: ='G3_7 FAGG'!G37 -> 0.1 | H27: ='G3_7 FAGG'!H37 -> 0 | I27: ='G3_7 FAGG'!I37 -> 0 | J27: ='G3_7 FAGG'!J37 -> 0 | K27: ='G3_7 FAGG'!K37 -> 0 | L27: ='G3_7 FAGG'!L37 -> 0
A28: G3.8 | B28: FACT | C28: =C7 -> FC | E28: ='G3_8 FACT'!E38 -> 0 | F28: ='G3_8 FACT'!F38 -> 0 | G28: ='G3_8 FACT'!G38 -> 0.1 | H28: ='G3_8 FACT'!H38 -> 0 | I28: ='G3_8 FACT'!I38 -> 0 | J28: ='G3_8 FACT'!J38 -> 0 | K28: ='G3_8 FACT'!K38 -> 0 | L28: ='G3_8 FACT'!L38 -> 0
A29: G3.9 | B29: ATA | C29: =C7 -> FC | E29: ='G3_9 ATA'!E42 -> 0 | F29: ='G3_9 ATA'!F42 -> 0 | G29: ='G3_9 ATA'!G42 -> 0.1 | H29: ='G3_9 ATA'!H42 -> 0 | I29: ='G3_9 ATA'!I42 -> 0 | J29: ='G3_9 ATA'!J42 -> 0 | K29: ='G3_9 ATA'!K42 -> 0 | L29: ='G3_9 ATA'!L42 -> 0
A31: G4 | B31: MISCELLANEOUS | E31: ='G4 Miscellaneous'!E42 -> 0 | F31: ='G4 Miscellaneous'!F42 -> 0 | G31: ='G4 Miscellaneous'!G42 -> 0.1 | H31: ='G4 Miscellaneous'!H42 -> 0 | I31: ='G4 Miscellaneous'!I42 -> 0 | J31: ='G4 Miscellaneous'!J42 -> 0 | K31: ='G4 Miscellaneous'!K42 -> 0 | L31: ='G4 Miscellaneous'!L42 -> 0
B33: TOTAL (Excluding System Support) | E33: =SUM(E17:E31) -> 0 | F33: =SUM(F15:F31) -> 0 | H33: =SUM(H15:H31) -> 0 | J33: =SUM(J15:J31) -> 0 | K33: =SUM(K15:K31) -> 0 | L33: =SUM(L15:L31) -> 0
A35: G5.2 | B35: SUPPORT CONTRACT (with Inflation) | C35: =C7 -> FC | E35: ='G5_2 Support Contract (Inflated'!E41 -> 0 | F35: ='G5_2 Support Contract (Inflated'!F41 -> 0 | G35: ='G5_2 Support Contract (Inflated'!G41 -> 0.1 | H35: ='G5_2 Support Contract (Inflated'!H41 -> 0 | I35: ='G5_2 Support Contract (Inflated'!I41 -> 0 | J35: ='G5_2 Support Contract (Inflated'!J41 -> 0 | K35: ='G5_2 Support Contract (Inflated'!K41 -> 0 | L35: ='G5_2 Support Contract (Inflated'!L41 -> 0
A36: G5.3 | B36: MID-LIFE UPGRADE | C36: =C7 -> FC | E36: ='G5_3 Mid-Life Upgrade'!E61 -> 0 | F36: ='G5_3 Mid-Life Upgrade'!F61 -> 0 | G36: ='G5_3 Mid-Life Upgrade'!G61 -> 0.1 | H36: ='G5_3 Mid-Life Upgrade'!H61 -> 0 | I36: ='G5_3 Mid-Life Upgrade'!I61 -> 0 | J36: ='G5_3 Mid-Life Upgrade'!J61 -> 0 | K36: ='G5_3 Mid-Life Upgrade'!K61 -> 0 | L36: ='G5_3 Mid-Life Upgrade'!L61 -> 0
B38: GRAND TOTAL | E38: =E33+E35 -> 0 | F38: =F33+F35 -> 0 | H38: =H33+H35 -> 0 | J38: =J33+J35 -> 0 | K38: =K33+K35 -> 0 | L38: =L33+L35 -> 0
A40: G6 | B40: OPTIONS | C40: =C7 -> FC | E40: ='G6 Options'!E62 -> 0 | F40: ='G6 Options'!F62 -> 0 | G40: ='G6 Options'!G62 -> 0.1 | H40: ='G6 Options'!H62 -> 0 | I40: ='G6 Options'!I62 -> 0 | J40: ='G6 Options'!J62 -> 0 | K40: ='G6 Options'!K62 -> 0 | L40: ='G6 Options'!L62 -> 0
B42: GRAND TOTAL (Including Options) | E42: =E38+E40 -> 0 | F42: =F38+F40 -> 0 | H42: =H38+H40 -> 0 | J42: =J38+J40 -> 0 | K42: =K38+K40 -> 0 | L42: =L38+L40 -> 0
B44: VAT (15%) | E44: =0.15*E42 -> 0 | F44: =0.15*F42 -> 0 | H44: =0.15*H42 -> 0 | J44: =0.15*J42 -> 0 | K44: =0.15*K42 -> 0 | L44: =0.15*L42 -> 0
B46: GRAND TOTAL (Including VAT) | E46: =E42+E44 -> 0 | F46: =F42+F44 -> 0 | H46: =H42+H44 -> 0 | J46: =J42+J44 -> 0 | K46: =K42+K44 -> 0 | L46: =L42+L44 -> 0

Sheet G2_1 PMP
A1: BIDDER PRICE SCHEDULE: APPENDIX G2.1
A2: (INCLUDING VALUE ADDED TAX)
A3: BIDDER : | B3: =Instructions!D3 -> Bidder Company Name
A4: PROJECT : | B4: =Instructions!D4 -> Fibre Termination Nodes Project | D4: Fibre Termination Nodes Project
A5: Item Nr: | B5: G2.1
A6: Item Description: | B6: Project Management
A7: Foreign Currancy | B7: =Instructions!D5 -> FC
A8: ROE: 1R = | B8: =Instructions!D6 -> 0.1
C10: Overseas Items | I10: Local Items
A12: Schedule Item Number | B12: Description | C12: Foreign Currency | D12: Quantity | E12: Foreign Amount Unit Cost | F12: Foreign Amount Total Cost | G12: ROE: 1R = … | H12: Total Foreign Cost in Rands | I12: Quantity | J12: Local Amount Unit Cost | K12: Local Amount Total Cost | L12: Total Rands
A15: =B5 -> G2.1 | B15: =B6 -> Project Management
B16: {All Project Management items, with at least the following items. Additional items must be added and quantities adjusted by the bidder as necessary.}
B17: Where items are identified and have a quantity greater than zero associated to it and the cost is recorded as zero then such item shall be supplied by the Bidder at no cost to ATNS.
A18: 2.1.1 | B18: Documents:
B19: Project Management Plan | C19: =$B$7 -> FC | F19: =D19*E19 -> 0 | G19: =$B$8 -> 0.1 | H19: =IF(G19<>0,F19/G19,0) -> 0 | K19: =I19*J19 -> 0 | L19: =IF(OR(J19>0,H19>0),H19+K19,0) -> 0
B20: As-Built Document | C20: =$B$7 -> FC | F20: =D20*E20 -> 0 | G20: =$B$8 -> 0.1 | H20: =IF(G20<>0,F20/G20,0) -> 0 | K20: =I20*J20 -> 0 | L20: =IF(OR(J20>0,H20>0),H20+K20,0) -> 0
B21: Master Project Schedule | C21: =$B$7 -> FC | F21: =D21*E21 -> 0 | G21: =$B$8 -> 0.1 | H21: =IF(G21<>0,F21/G21,0) -> 0 | K21: =I21*J21 -> 0 | L21: =IF(OR(J21>0,H21>0),H21+K21,0) -> 0
B22: Safety File | C22: =$B$7 -> FC | F22: =D22*E22 -> 0 | G22: =$B$8 -> 0.1 | H22: =IF(G22<>0,F22/G22,0) -> 0 | K22: =I22*J22 -> 0 | L22: =IF(OR(J22>0,H22>0),H22+K22,0) -> 0
B23: Site Survey Report | C23: =$B$7 -> FC | F23: =D23*E23 -> 0 | G23: =$B$8 -> 0.1 | H23: =IF(G23<>0,F23/G23,0) -> 0 | K23: =I23*J23 -> 0 | L23: =IF(OR(J23>0,H23>0),H23+K23,0) -> 0
B24: Resource Allocation Plan | C24: =$B$7 -> FC | F24: =D24*E24 -> 0 | G24: =$B$8 -> 0.1 | H24: =IF(G24<>0,F24/G24,0) -> 0 | K24: =I24*J24 -> 0 | L24: =IF(OR(J24>0,H24>0),H24+K24,0) -> 0
B25: Design and Specification | C25: =$B$7 -> FC | F25: =D25*E25 -> 0 | G25: =$B$8 -> 0.1 | H25: =IF(G25<>0,F25/G25,0) -> 0 | K25: =I25*J25 -> 0 | L25: =IF(OR(J25>0,H25>0),H25+K25,0) -> 0
A26: 2.1.2 | B26: Acceptance Tests | F26: =D26*E26 -> 0
B27: Factory Acceptance Test | C27: =$B$7 -> FC | F27: =D27*E27 -> 0 | G27: =$B$8 -> 0.1 | H27: =IF(G27<>0,F27/G27,0) -> 0 | K27: =I27*J27 -> 0 | L27: =IF(OR(J27>0,H27>0),H27+K27,0) -> 0
B28: Installation and commisioning tests | C28: =$B$7 -> FC | F28: =D28*E28 -> 0 | G28: =$B$8 -> 0.1 | H28: =IF(G28<>0,F28/G28,0) -> 0 | K28: =I28*J28 -> 0 | L28: =IF(OR(J28>0,H28>0),H28+K28,0) -> 0
B29: Site Acceptance Test | C29: =$B$7 -> FC | F29: =D29*E29 -> 0 | G29: =$B$8 -> 0.1 | H29: =IF(G29<>0,F29/G29,0) -> 0 | K29: =I29*J29 -> 0 | L29: =IF(OR(J29>0,H29>0),H29+K29,0) -> 0
C30: =$B$7 -> FC | F30: =D30*E30 -> 0 | G30: =$B$8 -> 0.1 | H30: =IF(G30<>0,F30/G30,0) -> 0 | K30: =I30*J30 -> 0 | L30: =IF(OR(J30>0,H30>0),H30+K30,0) -> 0
A31: 2.1.3 | B31: Project Management Services | F31: =D31*E31 -> 0
B32: All PM Services | C32: =$B$7 -> FC | F32: =D32*E32 -> 0 | G32: =$B$8 -> 0.1 | H32: =IF(G32<>0,F32/G32,0) -> 0 | K32: =I32*J32 -> 0 | L32: =IF(OR(J32>0,H32>0),H32+K32,0) -> 0
B33: Decommissioning and Disposal | C33: =$B$7 -> FC | F33: =D33*E33 -> 0 | G33: =$B$8 -> 0.1 | H33: =IF(G33<>0,F33/G33,0) -> 0 | K33: =I33*J33 -> 0 | L33: =IF(OR(J33>0,H33>0),H33+K33,0) -> 0
B34: ACSA Permits | C34: =$B$7 -> FC | F34: =D34*E34 -> 0 | G34: =$B$8 -> 0.1 | H34: =IF(G34<>0,F34/G34,0) -> 0 | K34: =I34*J34 -> 0 | L34: =IF(OR(J34>0,H34>0),H34+K34,0) -> 0
B35: Electrical Compliance Certificates (COCs) | C35: =$B$7 -> FC | F35: =D35*E35 -> 0 | G35: =$B$8 -> 0.1 | H35: =IF(G35<>0,F35/G35,0) -> 0 | K35: =I35*J35 -> 0 | L35: =IF(OR(J35>0,H35>0),H35+K35,0) -> 0
C36: =$B$7 -> FC | F36: =D36*E36 -> 0 | G36: =$B$8 -> 0.1 | H36: =IF(G36<>0,F36/G36,0) -> 0 | K36: =I36*J36 -> 0 | L36: =IF(OR(J36>0,H36>0),H36+K36,0) -> 0
A37: 2.1.4 | B37: Shipping, Insurance & Associated costs
B38: Shipping | C38: =$B$7 -> FC | F38: =D38*E38 -> 0 | G38: =$B$8 -> 0.1 | H38: =IF(G38<>0,F38/G38,0) -> 0 | K38: =I38*J38 -> 0 | L38: =IF(OR(J38>0,H38>0),H38+K38,0) -> 0
B39: Insurance | C39: =$B$7 -> FC | F39: =D39*E39 -> 0 | G39: =$B$8 -> 0.1 | H39: =IF(G39<>0,F39/G39,0) -> 0 | K39: =I39*J39 -> 0 | L39: =IF(OR(J39>0,H39>0),H39+K39,0) -> 0
C40: =$B$7 -> FC | F40: =D40*E40 -> 0 | G40: =$B$8 -> 0.1 | H40: =IF(G40<>0,F40/G40,0) -> 0 | K40: =I40*J40 -> 0 | L40: =IF(OR(J40>0,H40>0),H40+K40,0) -> 0
C41: =$B$7 -> FC | F41: =D41*E41 -> 0 | G41: =$B$8 -> 0.1 | H41: =IF(G41<>0,F41/G41,0) -> 0 | K41: =I41*J41 -> 0 | L41: =IF(OR(J41>0,H41>0),H41+K41,0) -> 0
B42: =+"SUB-TOTAL: "&A15 -> SUB-TOTAL: G2.1 | E42: =SUM(E15:E41) -> 0 | F42: =SUM(F15:F41) -> 0 | G42: =$B$8 -> 0.1 | H42: =SUM(H15:H41) -> 0 | J42: =SUM(J15:J41) -> 0 | K42: =SUM(K15:K41) -> 0 | L42: =SUM(L15:L41) -> 0
B43: VAT (15%) | L43: =0.15*L42 -> 0

Sheet G2_2 ILS
A1: BIDDER PRICE SCHEDULE: APPENDIX G2.2
A2: (INCLUDING VALUE ADDED TAX)
A3: BIDDER : | B3: =Instructions!D3 -> Bidder Company Name
A4: PROJECT : | B4: =Instructions!D4 -> Fibre Termination Nodes Project | D4: Fibre Termination Nodes Project
A5: Item Nr: | B5: G2.2
A6: Item Description: | B6: Integrated Logistic Support
A7: Foreign Currancy | B7: =Instructions!D5 -> FC
A8: ROE: 1R = | B8: =Instructions!D6 -> 0.1
C10: Overseas Items | I10: Local Items
A12: Schedule Item Number | B12: Description | C12: Foreign Currency | D12: Quantity | E12: Foreign Amount Unit Cost | F12: Foreign Amount Total Cost | G12: ROE: 1R = … | H12: Total Foreign Cost in Rands | I12: Quantity | J12: Local Amount Unit Cost | K12: Local Amount Total Cost | L12: Total Rands
A15: =B5 -> G2.2 | B15: =B6 -> Integrated Logistic Support
B16: { All Logistic Support items with at least the following items. Additional items must be added and quantities adjusted by the bidder as necessary.}
B17: Where items are identified and have a quantity greater than zero associated to it and the cost is recorded as zero then such item shall be supplied by the Bidder at no cost to ATNS.
A18: 2.2.1 | B18: Logistic Support Services
B19: Logistic Support | C19: =$B$7 -> FC | F19: =D19*E19 -> 0 | G19: =$B$8 -> 0.1 | H19: =IF(G19<>0,F19/G19,0) -> 0 | K19: =I19*J19 -> 0 | L19: =IF(OR(J19>0,H19>0),H19+K19,0) -> 0
B20: Packaging ,Shipping, Handling and Transportation | C20: =$B$7 -> FC | F20: =D20*E20 -> 0 | G20: =$B$8 -> 0.1 | H20: =IF(G20<>0,F20/G20,0) -> 0 | K20: =I20*J20 -> 0 | L20: =IF(OR(J20>0,H20>0),H20+K20,0) -> 0
B21: Site preparations | C21: =$B$7 -> FC | F21: =D21*E21 -> 0 | G21: =$B$8 -> 0.1 | H21: =IF(G21<>0,F21/G21,0) -> 0 | K21: =I21*J21 -> 0 | L21: =IF(OR(J21>0,H21>0),H21+K21,0) -> 0
C22: =$B$7 -> FC | F22: =D22*E22 -> 0 | G22: =$B$8 -> 0.1 | H22: =IF(G22<>0,F22/G22,0) -> 0 | K22: =I22*J22 -> 0 | L22: =IF(OR(J22>0,H22>0),H22+K22,0) -> 0
C23: =$B$7 -> FC | F23: =D23*E23 -> 0 | G23: =$B$8 -> 0.1 | H23: =IF(G23<>0,F23/G23,0) -> 0 | K23: =I23*J23 -> 0 | L23: =IF(OR(J23>0,H23>0),H23+K23,0) -> 0
A25: 2.2.2 | B25: Documents
B26: Integrated Logistic Support Plan | C26: =$B$7 -> FC | F26: =D26*E26 -> 0 | G26: =$B$8 -> 0.1 | H26: =IF(G26<>0,F26/G26,0) -> 0 | K26: =I26*J26 -> 0 | L26: =IF(OR(J26>0,H26>0),H26+K26,0) -> 0
C27: =$B$7 -> FC | F27: =D27*E27 -> 0 | G27: =$B$8 -> 0.1 | H27: =IF(G27<>0,F27/G27,0) -> 0 | K27: =I27*J27 -> 0 | L27: =IF(OR(J27>0,H27>0),H27+K27,0) -> 0
C28: =$B$7 -> FC | F28: =D28*E28 -> 0 | G28: =$B$8 -> 0.1 | H28: =IF(G28<>0,F28/G28,0) -> 0 | K28: =I28*J28 -> 0 | L28: =IF(OR(J28>0,H28>0),H28+K28,0) -> 0
C29: =$B$7 -> FC | F29: =D29*E29 -> 0 | G29: =$B$8 -> 0.1 | H29: =IF(G29<>0,F29/G29,0) -> 0 | K29: =I29*J29 -> 0 | L29: =IF(OR(J29>0,H29>0),H29+K29,0) -> 0
C30: =$B$7 -> FC | F30: =D30*E30 -> 0 | G30: =$B$8 -> 0.1 | H30: =IF(G30<>0,F30/G30,0) -> 0 | K30: =I30*J30 -> 0 | L30: =IF(OR(J30>0,H30>0),H30+K30,0) -> 0
C31: =$B$7 -> FC | F31: =D31*E31 -> 0 | G31: =$B$8 -> 0.1 | H31: =IF(G31<>0,F31/G31,0) -> 0 | K31: =I31*J31 -> 0 | L31: =IF(OR(J31>0,H31>0),H31+K31,0) -> 0
C32: =$B$7 -> FC | F32: =D32*E32 -> 0 | G32: =$B$8 -> 0.1 | H32: =IF(G32<>0,F32/G32,0) -> 0 | K32: =I32*J32 -> 0 | L32: =IF(OR(J32>0,H32>0),H32+K32,0) -> 0
C33: =$B$7 -> FC | F33: =D33*E33 -> 0 | G33: =$B$8 -> 0.1 | H33: =IF(G33<>0,F33/G33,0) -> 0 | K33: =I33*J33 -> 0 | L33: =IF(OR(J33>0,H33>0),H33+K33,0) -> 0
A34: 2.2.3 | B34: Training
C35: =$B$7 -> FC | F35: =D35*E35 -> 0 | G35: =$B$8 -> 0.1 | H35: =IF(G35<>0,F35/G35,0) -> 0 | K35: =I35*J35 -> 0 | L35: =IF(OR(J35>0,H35>0),H35+K35,0) -> 0
C36: =$B$7 -> FC | F36: =D36*E36 -> 0 | G36: =$B$8 -> 0.1 | H36: =IF(G36<>0,F36/G36,0) -> 0 | K36: =I36*J36 -> 0 | L36: =IF(OR(J36>0,H36>0),H36+K36,0) -> 0
C37: =$B$7 -> FC | F37: =D37*E37 -> 0 | G37: =$B$8 -> 0.1 | H37: =IF(G37<>0,F37/G37,0) -> 0 | K37: =I37*J37 -> 0 | L37: =IF(OR(J37>0,H37>0),H37+K37,0) -> 0
C38: =$B$7 -> FC | F38: =D38*E38 -> 0 | G38: =$B$8 -> 0.1 | H38: =IF(G38<>0,F38/G38,0) -> 0 | K38: =I38*J38 -> 0 | L38: =IF(OR(J38>0,H38>0),H38+K38,0) -> 0
C39: =$B$7 -> FC | F39: =D39*E39 -> 0 | G39: =$B$8 -> 0.1 | H39: =IF(G39<>0,F39/G39,0) -> 0 | K39: =I39*J39 -> 0 | L39: =IF(OR(J39>0,H39>0),H39+K39,0) -> 0
C40: =$B$7 -> FC | F40: =D40*E40 -> 0 | G40: =$B$8 -> 0.1 | H40: =IF(G40<>0,F40/G40,0) -> 0 | K40: =I40*J40 -> 0 | L40: =IF(OR(J40>0,H40>0),H40+K40,0) -> 0
C41: =$B$7 -> FC | F41: =D41*E41 -> 0 | G41: =$B$8 -> 0.1 | H41: =IF(G41<>0,F41/G41,0) -> 0 | K41: =I41*J41 -> 0 | L41: =IF(OR(J41>0,H41>0),H41+K41,0) -> 0
C42: =$B$7 -> FC | F42: =D42*E42 -> 0 | G42: =$B$8 -> 0.1 | H42: =IF(G42<>0,F42/G42,0) -> 0 | K42: =I42*J42 -> 0 | L42: =IF(OR(J42>0,H42>0),H42+K42,0) -> 0
C43: =$B$7 -> FC | F43: =D43*E43 -> 0 | G43: =$B$8 -> 0.1 | H43: =IF(G43<>0,F43/G43,0) -> 0 | K43: =I43*J43 -> 0 | L43: =IF(OR(J43>0,H43>0),H43+K43,0) -> 0
A44: 2.2.4 | B44: Spares
C45: =$B$7 -> FC | F45: =D45*E45 -> 0 | G45: =$B$8 -> 0.1 | H45: =IF(G45<>0,F45/G45,0) -> 0 | K45: =I45*J45 -> 0 | L45: =IF(OR(J45>0,H45>0),H45+K45,0) -> 0
...

Sheet G3_1 FALE
A1: BIDDER PRICE SCHEDULE: APPENDIX G3.1
A2: (INCLUDING VALUE ADDED TAX)
A3: BIDDER : | B3: =Instructions!D3 -> Bidder Company Name
A4: PROJECT : | B4: =Instructions!D4 -> Fibre Termination Nodes Project | D4: Fibre Termination Nodes Project
A5: Item Nr: | B5: G3.1
A6: Item Description: | B6: FALE
A7: Foreign Currancy | B7: =Instructions!D5 -> FC
A8: ROE: 1R = | B8: =Instructions!D6 -> 0.1
C10: Overseas Items | I10: Local Items
A12: Schedule Item Number | B12: Description {Equipment Common to all site} | C12: Foreign Currency | D12: Quantity | E12: Foreign Amount Unit Cost | F12: Foreign Amount Total Cost | G12: ROE: 1R = … | H12: Total Foreign Cost in Rands | I12: Quantity | J12: Local Amount Unit Cost | K12: Local Amount Total Cost | L12: Total Rands
A15: =B5 -> G3.1 | B15: =B6 -> FALE
B16: (All equipment as required, with at least the following headings. Additional items must be added and quantities adjusted by the bidder as necessary.)
B17: Where items are identified and have a quantity greater than zero associated to it and the cost is recorded as zero then such item shall be supplied by the Bidder at no cost to ATNS.
B18: Material
B19: 24 Ports Fibre Termination Node | C19: =$B$7 -> FC | D19: 2 | F19: =D19*E19 -> 0 | G19: =$B$8 -> 0.1 | H19: =IF(G19<>0,F19/G19,0) -> 0 | K19: =I19*J19 -> 0 | L19: =IF(OR(J19>0,H19>0),H19+K19,0) -> 0
B20: 8 Ports Fibre Termination Node | C20: =$B$7 -> FC | D20: 10 | F20: =D20*E20 -> 0 | G20: =$B$8 -> 0.1 | H20: =IF(G20<>0,F20/G20,0) -> 0 | K20: =I20*J20 -> 0 | L20: =IF(OR(J20>0,H20>0),H20+K20,0) -> 0
B21: 2 Ports Serial Interface Converter (RS232) | C21: =$B$7 -> FC | D21: 6 | F21: =D21*E21 -> 0 | G21: =$B$8 -> 0.1 | H21: =IF(G21<>0,F21/G21,0) -> 0 | K21: =I21*J21 -> 0 | L21: =IF(OR(J21>0,H21>0),H21+K21,0) -> 0
B22: 3kVA UPS | C22: =$B$7 -> FC | D22: 6 | F22: =D22*E22 -> 0 | G22: =$B$8 -> 0.1 | H22: =IF(G22<>0,F22/G22,0) -> 0 | K22: =I22*J22 -> 0 | L22: =IF(OR(J22>0,H22>0),H22+K22,0) -> 0
C23: =$B$7 -> FC | F23: =D23*E23 -> 0 | G23: =$B$8 -> 0.1 | H23: =IF(G23<>0,F23/G23,0) -> 0 | K23: =I23*J23 -> 0 | L23: =IF(OR(J23>0,H23>0),H23+K23,0) -> 0
B24: Auxiliary
B25: 1m Fibre Patch Cables | C25: =$B$7 -> FC | D25: 48 | F25: =D25*E25 -> 0 | G25: =$B$8 -> 0.1 | H25: =IF(G25<>0,F25/G25,0) -> 0 | K25: =I25*J25 -> 0 | L25: =IF(OR(J25>0,H25>0),H25+K25,0) -> 0
B26: 4m Power Cables | C26: =$B$7 -> FC | D26: 12 | F26: =D26*E26 -> 0 | G26: =$B$8 -> 0.1 | H26: =IF(G26<>0,F26/G26,0) -> 0 | K26: =I26*J26 -> 0 | L26: =IF(OR(J26>0,H26>0),H26+K26,0) -> 0
B27: Computer and monitor | C27: =$B$7 -> FC | D27: 1 | F27: =D27*E27 -> 0 | G27: =$B$8 -> 0.1 | H27: =IF(G27<>0,F27/G27,0) -> 0 | K27: =I27*J27 -> 0 | L27: =IF(OR(J27>0,H27>0),H27+K27,0) -> 0
B28: 19 inch Equipment Rack | C28: =$B$7 -> FC | F28: =D28*E28 -> 0 | G28: =$B$8 -> 0.1 | H28: =IF(G28<>0,F28/G28,0) -> 0 | K28: =I28*J28 -> 0 | L28: =IF(OR(J28>0,H28>0),H28+K28,0) -> 0
C29: =$B$7 -> FC | F29: =D29*E29 -> 0 | G29: =$B$8 -> 0.1 | H29: =IF(G29<>0,F29/G29,0) -> 0 | K29: =I29*J29 -> 0 | L29: =IF(OR(J29>0,H29>0),H29+K29,0) -> 0
B30: Software
B31: Software licences | C31: =$B$7 -> FC | F31: =D31*E31 -> 0 | G31: =$B$8 -> 0.1 | H31: =IF(G31<>0,F31/G31,0) -> 0 | K31: =I31*J31 -> 0 | L31: =IF(OR(J31>0,H31>0),H31+K31,0) -> 0
C32: =$B$7 -> FC | F32: =D32*E32 -> 0 | G32: =$B$8 -> 0.1 | H32: =IF(G32<>0,F32/G32,0) -> 0 | K32: =I32*J32 -> 0 | L32: =IF(OR(J32>0,H32>0),H32+K32,0) -> 0
C33: =$B$7 -> FC | F33: =D33*E33 -> 0 | G33: =$B$8 -> 0.1 | H33: =IF(G33<>0,F33/G33,0) -> 0 | K33: =I33*J33 -> 0 | L33: =IF(OR(J33>0,H33>0),H33+K33,0) -> 0
B34: Installation and Integration
B35: Total installation and integration | C35: =$B$7 -> FC | F35: =D35*E35 -> 0 | G35: =$B$8 -> 0.1 | H35: =IF(G35<>0,F35/G35,0) -> 0 | K35: =I35*J35 -> 0 | L35: =IF(OR(J35>0,H35>0),H35+K35,0) -> 0
C36: =$B$7 -> FC | F36: =D36*E36 -> 0 | G36: =$B$8 -> 0.1 | H36: =IF(G36<>0,F36/G36,0) -> 0 | K36: =I36*J36 -> 0 | L36: =IF(OR(J36>0,H36>0),H36+K36,0) -> 0
B37: =+"SUB-TOTAL: "&A15 -> SUB-TOTAL: G3.1 | E37: =SUM(E15:E36) -> 0 | F37: =SUM(F15:F36) -> 0 | G37: =$B$8 -> 0.1 | H37: =SUM(H15:H36) -> 0 | J37: =SUM(J15:J36) -> 0 | K37: =SUM(K15:K36) -> 0 | L37: =SUM(L15:L36) -> 0
B38: VAT (15%) | L38: =0.15*L37 -> 0

Sheet G3_2 FABL
A1: BIDDER PRICE SCHEDULE: APPENDIX G3.2
A2: (INCLUDING VALUE ADDED TAX)
A3: BIDDER : | B3: =Instructions!D3 -> Bidder Company Name
A4: PROJECT : | B4: =Instructions!D4 -> Fibre Termination Nodes Project | D4: Fibre Termination Nodes Project
A5: Item Nr: | B5: G3.2
A6: Item Description: | B6: FABL
A7: Foreign Currancy | B7: =Instructions!D5 -> FC
A8: ROE: 1R = | B8: =Instructions!D6 -> 0.1
C10: Overseas Items | I10: Local Items
A12: Schedule Item Number | B12: Description {Equipment Common to all site} | C12: Foreign Currency | D12: Quantity | E12: Foreign Amount Unit Cost | F12: Foreign Amount Total Cost | G12: ROE: 1R = … | H12: Total Foreign Cost in Rands | I12: Quantity | J12: Local Amount Unit Cost | K12: Local Amount Total Cost | L12: Total Rands
A15: =B5 -> G3.2 | B15: =B6 -> FABL
B16: (All equipment as required, with at least the following headings. Additional items must be added and quantities adjusted by the bidder as necessary.)
B17: Where items are identified and have a quantity greater than zero associated to it and the cost is recorded as zero then such item shall be supplied by the Bidder at no cost to ATNS.
B18: Material
B19: 16 Ports Fibre Termination Node | C19: =$B$7 -> FC | D19: 1 | F19: =D19*E19 -> 0 | G19: =$B$8 -> 0.1 | H19: =IF(G19<>0,F19/G19,0) -> 0 | K19: =I19*J19 -> 0 | L19: =IF(OR(J19>0,H19>0),H19+K19,0) -> 0
B20: 8 Ports Fibre Termination Node | C20: =$B$7 -> FC | D20: 4 | F20: =D20*E20 -> 0 | G20: =$B$8 -> 0.1 | H20: =IF(G20<>0,F20/G20,0) -> 0 | K20: =I20*J20 -> 0 | L20: =IF(OR(J20>0,H20>0),H20+K20,0) -> 0
C21: =$B$7 -> FC | F21: =D21*E21 -> 0 | G21: =$B$8 -> 0.1 | H21: =IF(G21<>0,F21/G21,0) -> 0 | K21: =I21*J21 -> 0 | L21: =IF(OR(J21>0,H21>0),H21+K21,0) -> 0
C22: =$B$7 -> FC | F22: =D22*E22 -> 0 | G22: =$B$8 -> 0.1 | H22: =IF(G22<>0,F22/G22,0) -> 0 | K22: =I22*J22 -> 0 | L22: =IF(OR(J22>0,H22>0),H22+K22,0) -> 0
B23: Auxiliary
B24: 1m Fibre Patch Cables | C24: =$B$7 -> FC | D24: 20 | F24: =D24*E24 -> 0 | G24: =$B$8 -> 0.1 | H24: =IF(G24<>0,F24/G24,0) -> 0 | K24: =I24*J24 -> 0 | L24: =IF(OR(J24>0,H24>0),H24+K24,0) -> 0
B25: 4m Power Cables | C25: =$B$7 -> FC | D25: 5 | F25: =D25*E25 -> 0 | G25: =$B$8 -> 0.1 | H25: =IF(G25<>0,F25/G25,0) -> 0 | K25: =I25*J25 -> 0 | L25: =IF(OR(J25>0,H25>0),H25+K25,0) -> 0
B26: Computer and monitor | C26: =$B$7 -> FC | D26: 1 | F26: =D26*E26 -> 0 | G26: =$B$8 -> 0.1 | H26: =IF(G26<>0,F26/G26,0) -> 0 | K26: =I26*J26 -> 0 | L26: =IF(OR(J26>0,H26>0),H26+K26,0) -> 0
B27: 19 inch Equipment Rack | C27: =$B$7 -> FC | F27: =D27*E27 -> 0 | G27: =$B$8 -> 0.1 | H27: =IF(G27<>0,F27/G27,0) -> 0 | K27: =I27*J27 -> 0 | L27: =IF(OR(J27>0,H27>0),H27+K27,0) -> 0
C28: =$B$7 -> FC | F28: =D28*E28 -> 0 | G28: =$B$8 -> 0.1 | H28: =IF(G28<>0,F28/G28,0) -> 0 | K28: =I28*J28 -> 0 | L28: =IF(OR(J28>0,H28>0),H28+K28,0) -> 0
B29: Software
B30: Software licences | C30: =$B$7 -> FC | F30: =D30*E30 -> 0 | G30: =$B$8 -> 0.1 | H30: =IF(G30<>0,F30/G30,0) -> 0 | K30: =I30*J30 -> 0 | L30: =IF(OR(J30>0,H30>0),H30+K30,0) -> 0
C31: =$B$7 -> FC | F31: =D31*E31 -> 0 | G31: =$B$8 -> 0.1 | H31: =IF(G31<>0,F31/G31,0) -> 0 | K31: =I31*J31 -> 0 | L31: =IF(OR(J31>0,H31>0),H31+K31,0) -> 0
C32: =$B$7 -> FC | F32: =D32*E32 -> 0 | G32: =$B$8 -> 0.1 | H32: =IF(G32<>0,F32/G32,0) -> 0 | K32: =I32*J32 -> 0 | L32: =IF(OR(J32>0,H32>0),H32+K32,0) -> 0
B33: Installation and Integration
B34: Total installation and integration | C34: =$B$7 -> FC | F34: =D34*E34 -> 0 | G34: =$B$8 -> 0.1 | H34: =IF(G34<>0,F34/G34,0) -> 0 | K34: =I34*J34 -> 0 | L34: =IF(OR(J34>0,H34>0),H34+K34,0) -> 0
C35: =$B$7 -> FC | F35: =D35*E35 -> 0 | G35: =$B$8 -> 0.1 | H35: =IF(G35<>0,F35/G35,0) -> 0 | K35: =I35*J35 -> 0 | L35: =IF(OR(J35>0,H35>0),H35+K35,0) -> 0
B36: =+"SUB-TOTAL: "&A15 -> SUB-TOTAL: G3.2 | E36: =SUM(E15:E35) -> 0 | F36: =SUM(F15:F35) -> 0 | G36: =$B$8 -> 0.1 | H36: =SUM(H15:H35) -> 0 | J36: =SUM(J15:J35) -> 0 | K36: =SUM(K15:K35) -> 0 | L36: =SUM(L15:L35) -> 0
B37: VAT (15%) | L37: =0.15*L36 -> 0

Sheet G3_3 FAKM
A1: BIDDER PRICE SCHEDULE: APPENDIX G3.3
A2: (INCLUDING VALUE ADDED TAX)
A3: BIDDER : | B3: =Instructions!D3 -> Bidder Company Name
A4: PROJECT : | B4: =Instructions!D4 -> Fibre Termination Nodes Project | D4: Fibre Termination Nodes Project
A5: Item Nr: | B5: G3.3
A6: Item Description: | B6: FAKM
A7: Foreign Currancy | B7: =Instructions!D5 -> FC
A8: ROE: 1R = | B8: =Instructions!D6 -> 0.1
C10: Overseas Items | I10: Local Items
A12: Schedule Item Number | B12: Description {Equipment Common to all site} | C12: Foreign Currency | D12: Quantity | E12: Foreign Amount Unit Cost | F12: Foreign Amount Total Cost | G12: ROE: 1R = … | H12: Total Foreign Cost in Rands | I12: Quantity | J12: Local Amount Unit Cost | K12: Local Amount Total Cost | L12: Total Rands
A15: =B5 -> G3.3 | B15: =B6 -> FAKM
B16: (All equipment as required, with at least the following headings. Additional items must be added and quantities adjusted by the bidder as necessary.)
B17: Where items are identified and have a quantity greater than zero associated to it and the cost is recorded as zero then such item shall be supplied by the Bidder at no cost to ATNS.
B18: Material
B19: 6 Ports Fibre Termination Node | C19: =$B$7 -> FC | D19: 4 | F19: =D19*E19 -> 0 | G19: =$B$8 -> 0.1 | H19: =IF(G19<>0,F19/G19,0) -> 0 | K19: =I19*J19 -> 0 | L19: =IF(OR(J19>0,H19>0),H19+K19,0) -> 0
C20: =$B$7 -> FC | F20: =D20*E20 -> 0 | G20: =$B$8 -> 0.1 | H20: =IF(G20<>0,F20/G20,0) -> 0 | K20: =I20*J20 -> 0 | L20: =IF(OR(J20>0,H20>0),H20+K20,0) -> 0
C21: =$B$7 -> FC | F21: =D21*E21 -> 0 | G21: =$B$8 -> 0.1 | H21: =IF(G21<>0,F21/G21,0) -> 0 | K21: =I21*J21 -> 0 | L21: =IF(OR(J21>0,H21>0),H21+K21,0) -> 0
B22: Auxiliary
B23: 1m Fibre Patch Cables | C23: =$B$7 -> FC | D23: 16 | F23: =D23*E23 -> 0 | G23: =$B$8 -> 0.1 | H23: =IF(G23<>0,F23/G23,0) -> 0 | K23: =I23*J23 -> 0 | L23: =IF(OR(J23>0,H23>0),H23+K23,0) -> 0
B24: 4m Power Cables | C24: =$B$7 -> FC | D24: 4 | F24: =D24*E24 -> 0 | G24: =$B$8 -> 0.1 | H24: =IF(G24<>0,F24/G24,0) -> 0 | K24: =I24*J24 -> 0 | L24: =IF(OR(J24>0,H24>0),H24+K24,0) -> 0
B25: Computer and monitor | C25: =$B$7 -> FC | D25: 1 | F25: =D25*E25 -> 0 | G25: =$B$8 -> 0.1 | H25: =IF(G25<>0,F25/G25,0) -> 0 | K25: =I25*J25 -> 0 | L25: =IF(OR(J25>0,H25>0),H25+K25,0) -> 0
B26: 19 inch Equipment Rack | C26: =$B$7 -> FC | F26: =D26*E26 -> 0 | G26: =$B$8 -> 0.1 | H26: =IF(G26<>0,F26/G26,0) -> 0 | K26: =I26*J26 -> 0 | L26: =IF(OR(J26>0,H26>0),H26+K26,0) -> 0
C27: =$B$7 -> FC | F27: =D27*E27 -> 0 | G27: =$B$8 -> 0.1 | H27: =IF(G27<>0,F27/G27,0) -> 0 | K27: =I27*J27 -> 0 | L27: =IF(OR(J27>0,H27>0),H27+K27,0) -> 0
B28: Software
B29: Software licences | C29: =$B$7 -> FC | F29: =D29*E29 -> 0 | G29: =$B$8 -> 0.1 | H29: =IF(G29<>0,F29/G29,0) -> 0 | K29: =I29*J29 -> 0 | L29: =IF(OR(J29>0,H29>0),H29+K29,0) -> 0
C30: =$B$7 -> FC | F30: =D30*E30 -> 0 | G30: =$B$8 -> 0.1 | H30: =IF(G30<>0,F30/G30,0) -> 0 | K30: =I30*J30 -> 0 | L30: =IF(OR(J30>0,H30>0),H30+K30,0) -> 0
C31: =$B$7 -> FC | F31: =D31*E31 -> 0 | G31: =$B$8 -> 0.1 | H31: =IF(G31<>0,F31/G31,0) -> 0 | K31: =I31*J31 -> 0 | L31: =IF(OR(J31>0,H31>0),H31+K31,0) -> 0
B32: Installation and Integration
B33: Total installation and integration | C33: =$B$7 -> FC | F33: =D33*E33 -> 0 | G33: =$B$8 -> 0.1 | H33: =IF(G33<>0,F33/G33,0) -> 0 | K33: =I33*J33 -> 0 | L33: =IF(OR(J33>0,H33>0),H33+K33,0) -> 0
C34: =$B$7 -> FC | F34: =D34*E34 -> 0 | G34: =$B$8 -> 0.1 | H34: =IF(G34<>0,F34/G34,0) -> 0 | K34: =I34*J34 -> 0 | L34: =IF(OR(J34>0,H34>0),H34+K34,0) -> 0
B35: =+"SUB-TOTAL: "&A15 -> SUB-TOTAL: G3.3 | E35: =SUM(E15:E34) -> 0 | F35: =SUM(F15:F34) -> 0 | G35: =$B$8 -> 0.1 | H35: =SUM(H15:H34) -> 0 | J35: =SUM(J15:J34) -> 0 | K35: =SUM(K15:K34) -> 0 | L35: =SUM(L15:L34) -> 0
B36: VAT (15%) | L36: =0.15*L35 -> 0

Sheet G3_4 FAUP
A1: BIDDER PRICE SCHEDULE: APPENDIX G3.4
A2: (INCLUDING VALUE ADDED TAX)
A3: BIDDER : | B3: =Instructions!D3 -> Bidder Company Name
A4: PROJECT : | B4: =Instructions!D4 -> Fibre Termination Nodes Project | D4: Fibre Termination Nodes Project
A5: Item Nr: | B5: G3.4
A6: Item Description: | B6: FAUP
A7: Foreign Currancy | B7: =Instructions!D5 -> FC
A8: ROE: 1R = | B8: =Instructions!D6 -> 0.1
C10: Overseas Items | I10: Local Items
A12: Schedule Item Number | B12: Description {Equipment Common to all site} | C12: Foreign Currency | D12: Quantity | E12: Foreign Amount Unit Cost | F12: Foreign Amount Total Cost | G12: ROE: 1R = … | H12: Total Foreign Cost in Rands | I12: Quantity | J12: Local Amount Unit Cost | K12: Local Amount Total Cost | L12: Total Rands
A15: =B5 -> G3.4 | B15: =B6 -> FAUP
B16: (All equipment as required, with at least the following headings. Additional items must be added and quantities adjusted by the bidder as necessary.)
B17: Where items are identified and have a quantity greater than zero associated to it and the cost is recorded as zero then such item shall be supplied by the Bidder at no cost to ATNS.
B18: Material
B19: 16 Ports Fibre Termination Node | C19: =$B$7 -> FC | D19: 1 | F19: =D19*E19 -> 0 | G19: =$B$8 -> 0.1 | H19: =IF(G19<>0,F19/G19,0) -> 0 | K19: =I19*J19 -> 0 | L19: =IF(OR(J19>0,H19>0),H19+K19,0) -> 0
B20: 8 Ports Fibre Termination Node | C20: =$B$7 -> FC | D20: 3 | F20: =D20*E20 -> 0 | G20: =$B$8 -> 0.1 | H20: =IF(G20<>0,F20/G20,0) -> 0 | K20: =I20*J20 -> 0 | L20: =IF(OR(J20>0,H20>0),H20+K20,0) -> 0
B21: 2 Ports Serial Interface Converter (RS232) | C21: =$B$7 -> FC | D21: 1 | F21: =D21*E21 -> 0 | G21: =$B$8 -> 0.1 | H21: =IF(G21<>0,F21/G21,0) -> 0 | K21: =I21*J21 -> 0 | L21: =IF(OR(J21>0,H21>0),H21+K21,0) -> 0
B22: 4 Ports Wire E&M Gateway | C22: =$B$7 -> FC | D22: 1 | F22: =D22*E22 -> 0 | G22: =$B$8 -> 0.1 | H22: =IF(G22<>0,F22/G22,0) -> 0 | K22: =I22*J22 -> 0 | L22: =IF(OR(J22>0,H22>0),H22+K22,0) -> 0
C23: =$B$7 -> FC | F23: =D23*E23 -> 0 | G23: =$B$8 -> 0.1 | H23: =IF(G23<>0,F23/G23,0) -> 0 | K23: =I23*J23 -> 0 | L23: =IF(OR(J23>0,H23>0),H23+K23,0) -> 0
B24: Auxiliary
B25: 1m Fibre Patch Cables | C25: =$B$7 -> FC | D25: 16 | F25: =D25*E25 -> 0 | G25: =$B$8 -> 0.1 | H25: =IF(G25<>0,F25/G25,0) -> 0 | K25: =I25*J25 -> 0 | L25: =IF(OR(J25>0,H25>0),H25+K25,0) -> 0
B26: 4m Power Cables | C26: =$B$7 -> FC | D26: 4 | F26: =D26*E26 -> 0 | G26: =$B$8 -> 0.1 | H26: =IF(G26<>0,F26/G26,0) -> 0 | K26: =I26*J26 -> 0 | L26: =IF(OR(J26>0,H26>0),H26+K26,0) -> 0
B27: Computer and monitor | C27: =$B$7 -> FC | D27: 1 | F27: =D27*E27 -> 0 | G27: =$B$8 -> 0.1 | H27: =IF(G27<>0,F27/G27,0) -> 0 | K27: =I27*J27 -> 0 | L27: =IF(OR(J27>0,H27>0),H27+K27,0) -> 0
B28: 19 inch Equipment Rack | C28: =$B$7 -> FC | F28: =D28*E28 -> 0 | G28: =$B$8 -> 0.1 | H28: =IF(G28<>0,F28/G28,0) -> 0 | K28: =I28*J28 -> 0 | L28: =IF(OR(J28>0,H28>0),H28+K28,0) -> 0
C29: =$B$7 -> FC | F29: =D29*E29 -> 0 | G29: =$B$8 -> 0.1 | H29: =IF(G29<>0,F29/G29,0) -> 0 | K29: =I29*J29 -> 0 | L29: =IF(OR(J29>0,H29>0),H29+K29,0) -> 0
B30: Software
B31: Software licences | C31: =$B$7 -> FC | F31: =D31*E31 -> 0 | G31: =$B$8 -> 0.1 | H31: =IF(G31<>0,F31/G31,0) -> 0 | K31: =I31*J31 -> 0 | L31: =IF(OR(J31>0,H31>0),H31+K31,0) -> 0
C32: =$B$7 -> FC | F32: =D32*E32 -> 0 | G32: =$B$8 -> 0.1 | H32: =IF(G32<>0,F32/G32,0) -> 0 | K32: =I32*J32 -> 0 | L32: =IF(OR(J32>0,H32>0),H32+K32,0) -> 0
C33: =$B$7 -> FC | F33: =D33*E33 -> 0 | G33: =$B$8 -> 0.1 | H33: =IF(G33<>0,F33/G33,0) -> 0 | K33: =I33*J33 -> 0 | L33: =IF(OR(J33>0,H33>0),H33+K33,0) -> 0
B34: Installation and Integration
B35: Total installation and integration | C35: =$B$7 -> FC | F35: =D35*E35 -> 0 | G35: =$B$8 -> 0.1 | H35: =IF(G35<>0,F35/G35,0) -> 0 | K35: =I35*J35 -> 0 | L35: =IF(OR(J35>0,H35>0),H35+K35,0) -> 0
C36: =$B$7 -> FC | F36: =D36*E36 -> 0 | G36: =$B$8 -> 0.1 | H36: =IF(G36<>0,F36/G36,0) -> 0 | K36: =I36*J36 -> 0 | L36: =IF(OR(J36>0,H36>0),H36+K36,0) -> 0
B37: =+"SUB-TOTAL: "&A15 -> SUB-TOTAL: G3.4 | E37: =SUM(E15:E36) -> 0 | F37: =SUM(F15:F36) -> 0 | G37: =$B$8 -> 0.1 | H37: =SUM(H15:H36) -> 0 | J37: =SUM(J15:J36) -> 0 | K37: =SUM(K15:K36) -> 0 | L37: =SUM(L15:L36) -> 0
B38: VAT (15%) | L38: =0.15*L37 -> 0

Sheet G3_5 FAPE
A1: BIDDER PRICE SCHEDULE: APPENDIX G3.5
A2: (INCLUDING VALUE ADDED TAX)
A3: BIDDER : | B3: =Instructions!D3 -> Bidder Company Name
A4: PROJECT : | B4: =Instructions!D4 -> Fibre Termination Nodes Project | D4: Fibre Termination Nodes Project
A5: Item Nr: | B5: G3.5
A6: Item Description: | B6: FAPE
A7: Foreign Currancy | B7: =Instructions!D5 -> FC
A8: ROE: 1R = | B8: =Instructions!D6 -> 0.1
C10: Overseas Items | I10: Local Items
A12: Schedule Item Number | B12: Description {Equipment Common to all site} | C12: Foreign Currency | D12: Quantity | E12: Foreign Amount Unit Cost | F12: Foreign Amount Total Cost | G12: ROE: 1R = … | H12: Total Foreign Cost in Rands | I12: Quantity | J12: Local Amount Unit Cost | K12: Local Amount Total Cost | L12: Total Rands
A15: =B5 -> G3.5 | B15: =B6 -> FAPE
B16: (All equipment as required, with at least the following headings. Additional items must be added and quantities adjusted by the bidder as necessary.)
B17: Where items are identified and have a quantity greater than zero associated to it and the cost is recorded as zero then such item shall be supplied by the Bidder at no cost to ATNS.
B18: Material
B19: 24 Ports Fibre Termination Node | C19: =$B$7 -> FC | D19: 1 | F19: =D19*E19 -> 0 | G19: =$B$8 -> 0.1 | H19: =IF(G19<>0,F19/G19,0) -> 0 | K19: =I19*J19 -> 0 | L19: =IF(OR(J19>0,H19>0),H19+K19,0) -> 0
B20: 8 Ports Fibre Termination Node | C20: =$B$7 -> FC | D20: 5 | F20: =D20*E20 -> 0 | G20: =$B$8 -> 0.1 | H20: =IF(G20<>0,F20/G20,0) -> 0 | K20: =I20*J20 -> 0 | L20: =IF(OR(J20>0,H20>0),H20+K20,0) -> 0
B21: 2 Ports Serial Interface Converter (RS232) | C21: =$B$7 -> FC | D21: 2 | F21: =D21*E21 -> 0 | G21: =$B$8 -> 0.1 | H21: =IF(G21<>0,F21/G21,0) -> 0 | K21: =I21*J21 -> 0 | L21: =IF(OR(J21>0,H21>0),H21+K21,0) -> 0
B22: 1 Ports Serial Interface Converter (RS232) | C22: =$B$7 -> FC | D22: 1 | F22: =D22*E22 -> 0 | G22: =$B$8 -> 0.1 | H22: =IF(G22<>0,F22/G22,0) -> 0 | K22: =I22*J22 -> 0 | L22: =IF(OR(J22>0,H22>0),H22+K22,0) -> 0
B23: 12 Ports 4-Wire E&M Gateway | C23: =$B$7 -> FC | D23: 1 | F23: =D23*E23 -> 0 | G23: =$B$8 -> 0.1 | H23: =IF(G23<>0,F23/G23,0) -> 0 | K23: =I23*J23 -> 0 | L23: =IF(OR(J23>0,H23>0),H23+K23,0) -> 0
B24: 4 Ports 4-Wire E&M Gateway | C24: =$B$7 -> FC | D24: 1 | F24: =D24*E24 -> 0 | G24: =$B$8 -> 0.1 | H24: =IF(G24<>0,F24/G24,0) -> 0 | K24: =I24*J24 -> 0 | L24: =IF(OR(J24>0,H24>0),H24+K24,0) -> 0
C25: =$B$7 -> FC | F25: =D25*E25 -> 0 | G25: =$B$8 -> 0.1 | H25: =IF(G25<>0,F25/G25,0) -> 0 | K25: =I25*J25 -> 0 | L25: =IF(OR(J25>0,H25>0),H25+K25,0) -> 0
B26: Auxiliary
B27: 1m Fibre Patch Cables | C27: =$B$7 -> FC | D27: 24 | F27: =D27*E27 -> 0 | G27: =$B$8 -> 0.1 | H27: =IF(G27<>0,F27/G27,0) -> 0 | K27: =I27*J27 -> 0 | L27: =IF(OR(J27>0,H27>0),H27+K27,0) -> 0
B28: 4m Power Cables | C28: =$B$7 -> FC | D28: 6 | F28: =D28*E28 -> 0 | G28: =$B$8 -> 0.1 | H28: =IF(G28<>0,F28/G28,0) -> 0 | K28: =I28*J28 -> 0 | L28: =IF(OR(J28>0,H28>0),H28+K28,0) -> 0
B29: Computer and monitor | C29: =$B$7 -> FC | D29: 1 | F29: =D29*E29 -> 0 | G29: =$B$8 -> 0.1 | H29: =IF(G29<>0,F29/G29,0) -> 0 | K29: =I29*J29 -> 0 | L29: =IF(OR(J29>0,H29>0),H29+K29,0) -> 0
C30: =$B$7 -> FC | F30: =D30*E30 -> 0 | G30: =$B$8 -> 0.1 | H30: =IF(G30<>0,F30/G30,0) -> 0 | K30: =I30*J30 -> 0 | L30: =IF(OR(J30>0,H30>0),H30+K30,0) -> 0
B31: Software
B32: Software licences | C32: =$B$7 -> FC | F32: =D32*E32 -> 0 | G32: =$B$8 -> 0.1 | H32: =IF(G32<>0,F32/G32,0) -> 0 | K32: =I32*J32 -> 0 | L32: =IF(OR(J32>0,H32>0),H32+K32,0) -> 0
C33: =$B$7 -> FC | F33: =D33*E33 -> 0 | G33: =$B$8 -> 0.1 | H33: =IF(G33<>0,F33/G33,0) -> 0 | K33: =I33*J33 -> 0 | L33: =IF(OR(J33>0,H33>0),H33+K33,0) -> 0
C34: =$B$7 -> FC | F34: =D34*E34 -> 0 | G34: =$B$8 -> 0.1 | H34: =IF(G34<>0,F34/G34,0) -> 0 | K34: =I34*J34 -> 0 | L34: =IF(OR(J34>0,H34>0),H34+K34,0) -> 0
B35: Installation and Integration
B36: Total installation and integration | C36: =$B$7 -> FC | F36: =D36*E36 -> 0 | G36: =$B$8 -> 0.1 | H36: =IF(G36<>0,F36/G36,0) -> 0 | K36: =I36*J36 -> 0 | L36: =IF(OR(J36>0,H36>0),H36+K36,0) -> 0
C37: =$B$7 -> FC | F37: =D37*E37 -> 0 | G37: =$B$8 -> 0.1 | H37: =IF(G37<>0,F37/G37,0) -> 0 | K37: =I37*J37 -> 0 | L37: =IF(OR(J37>0,H37>0),H37+K37,0) -> 0
B38: =+"SUB-TOTAL: "&A15 -> SUB-TOTAL: G3.5 | E38: =SUM(E15:E37) -> 0 | F38: =SUM(F15:F37) -> 0 | G38: =$B$8 -> 0.1 | H38: =SUM(H15:H37) -> 0 | J38: =SUM(J15:J37) -> 0 | K38: =SUM(K15:K37) -> 0 | L38: =SUM(L15:L37) -> 0
B39: VAT (15%) | L39: =0.15*L38 -> 0

Sheet G3_6 FAEL
A1: BIDDER PRICE SCHEDULE: APPENDIX G3.6
A2: (INCLUDING VALUE ADDED TAX)
A3: BIDDER : | B3: =Instructions!D3 -> Bidder Company Name
A4: PROJECT : | B4: =Instructions!D4 -> Fibre Termination Nodes Project | D4: Fibre Termination Nodes Project
A5: Item Nr: | B5: G3.6
A6: Item Description: | B6: FAEL
A7: Foreign Currancy | B7: =Instructions!D5 -> FC
A8: ROE: 1R = | B8: =Instructions!D6 -> 0.1
C10: Overseas Items | I10: Local Items
A12: Schedule Item Number | B12: Description {Equipment Common to all site} | C12: Foreign Currency | D12: Quantity | E12: Foreign Amount Unit Cost | F12: Foreign Amount Total Cost | G12: ROE: 1R = … | H12: Total Foreign Cost in Rands | I12: Quantity | J12: Local Amount Unit Cost | K12: Local Amount Total Cost | L12: Total Rands
A15: =B5 -> G3.6 | B15: =B6 -> FAEL
B16: (All equipment as required, with at least the following headings. Additional items must be added and quantities adjusted by the bidder as necessary.)
B17: Where items are identified and have a quantity greater than zero associated to it and the cost is recorded as zero then such item shall be supplied by the Bidder at no cost to ATNS.
B18: Material
B19: 16 Ports Fibre Termination Node | C19: =$B$7 -> FC | D19: 1 | F19: =D19*E19 -> 0 | G19: =$B$8 -> 0.1 | H19: =IF(G19<>0,F19/G19,0) -> 0 | K19: =I19*J19 -> 0 | L19: =IF(OR(J19>0,H19>0),H19+K19,0) -> 0
B20: 8 Ports Fibre Termination Node | C20: =$B$7 -> FC | D20: 3 | F20: =D20*E20 -> 0 | G20: =$B$8 -> 0.1 | H20: =IF(G20<>0,F20/G20,0) -> 0 | K20: =I20*J20 -> 0 | L20: =IF(OR(J20>0,H20>0),H20+K20,0) -> 0
C21: =$B$7 -> FC | F21: =D21*E21 -> 0 | G21: =$B$8 -> 0.1 | H21: =IF(G21<>0,F21/G21,0) -> 0 | K21: =I21*J21 -> 0 | L21: =IF(OR(J21>0,H21>0),H21+K21,0) -> 0
C22: =$B$7 -> FC | F22: =D22*E22 -> 0 | G22: =$B$8 -> 0.1 | H22: =IF(G22<>0,F22/G22,0) -> 0 | K22: =I22*J22 -> 0 | L22: =IF(OR(J22>0,H22>0),H22+K22,0) -> 0
B23: Auxiliary
B24: 1m Fibre Patch Cables | C24: =$B$7 -> FC | D24: 16 | F24: =D24*E24 -> 0 | G24: =$B$8 -> 0.1 | H24: =IF(G24<>0,F24/G24,0) -> 0 | K24: =I24*J24 -> 0 | L24: =IF(OR(J24>0,H24>0),H24+K24,0) -> 0
B25: 4m Power Cables | C25: =$B$7 -> FC | D25: 4 | F25: =D25*E25 -> 0 | G25: =$B$8 -> 0.1 | H25: =IF(G25<>0,F25/G25,0) -> 0 | K25: =I25*J25 -> 0 | L25: =IF(OR(J25>0,H25>0),H25+K25,0) -> 0
B26: Computer and monitor | C26: =$B$7 -> FC | D26: 1 | F26: =D26*E26 -> 0 | G26: =$B$8 -> 0.1 | H26: =IF(G26<>0,F26/G26,0) -> 0 | K26: =I26*J26 -> 0 | L26: =IF(OR(J26>0,H26>0),H26+K26,0) -> 0
B27: 19 inch Equipment Rack | C27: =$B$7 -> FC | F27: =D27*E27 -> 0 | G27: =$B$8 -> 0.1 | H27: =IF(G27<>0,F27/G27,0) -> 0 | K27: =I27*J27 -> 0 | L27: =IF(OR(J27>0,H27>0),H27+K27,0) -> 0
C28: =$B$7 -> FC | F28: =D28*E28 -> 0 | G28: =$B$8 -> 0.1 | H28: =IF(G28<>0,F28/G28,0) -> 0 | K28: =I28*J28 -> 0 | L28: =IF(OR(J28>0,H28>0),H28+K28,0) -> 0
B29: Software
B30: Software licences | C30: =$B$7 -> FC | F30: =D30*E30 -> 0 | G30: =$B$8 -> 0.1 | H30: =IF(G30<>0,F30/G30,0) -> 0 | K30: =I30*J30 -> 0 | L30: =IF(OR(J30>0,H30>0),H30+K30,0) -> 0
C31: =$B$7 -> FC | F31: =D31*E31 -> 0 | G31: =$B$8 -> 0.1 | H31: =IF(G31<>0,F31/G31,0) -> 0 | K31: =I31*J31 -> 0 | L31: =IF(OR(J31>0,H31>0),H31+K31,0) -> 0
C32: =$B$7 -> FC | F32: =D32*E32 -> 0 | G32: =$B$8 -> 0.1 | H32: =IF(G32<>0,F32/G32,0) -> 0 | K32: =I32*J32 -> 0 | L32: =IF(OR(J32>0,H32>0),H32+K32,0) -> 0
B33: Installation and Integration
B34: Total installation and integration | C34: =$B$7 -> FC | F34: =D34*E34 -> 0 | G34: =$B$8 -> 0.1 | H34: =IF(G34<>0,F34/G34,0) -> 0 | K34: =I34*J34 -> 0 | L34: =IF(OR(J34>0,H34>0),H34+K34,0) -> 0
C35: =$B$7 -> FC | F35: =D35*E35 -> 0 | G35: =$B$8 -> 0.1 | H35: =IF(G35<>0,F35/G35,0) -> 0 | K35: =I35*J35 -> 0 | L35: =IF(OR(J35>0,H35>0),H35+K35,0) -> 0
B36: =+"SUB-TOTAL: "&A15 -> SUB-TOTAL: G3.6 | E36: =SUM(E15:E35) -> 0 | F36: =SUM(F15:F35) -> 0 | G36: =$B$8 -> 0.1 | H36: =SUM(H15:H35) -> 0 | J36: =SUM(J15:J35) -> 0 | K36: =SUM(K15:K35) -> 0 | L36: =SUM(L15:L35) -> 0
B37: VAT (15%) | L37: =0.15*L36 -> 0

Sheet G3_7 FAGG
A1: BIDDER PRICE SCHEDULE: APPENDIX G3.7
A2: (INCLUDING VALUE ADDED TAX)
A3: BIDDER : | B3: =Instructions!D3 -> Bidder Company Name
A4: PROJECT : | B4: =Instructions!D4 -> Fibre Termination Nodes Project | D4: Fibre Termination Nodes Project
A5: Item Nr: | B5: G3.7
A6: Item Description: | B6: FAGG
A7: Foreign Currancy | B7: =Instructions!D5 -> FC
A8: ROE: 1R = | B8: =Instructions!D6 -> 0.1
C10: Overseas Items | I10: Local Items
A12: Schedule Item Number | B12: Description {Equipment Common to all site} | C12: Foreign Currency | D12: Quantity | E12: Foreign Amount Unit Cost | F12: Foreign Amount Total Cost | G12: ROE: 1R = … | H12: Total Foreign Cost in Rands | I12: Quantity | J12: Local Amount Unit Cost | K12: Local Amount Total Cost | L12: Total Rands
A15: =B5 -> G3.7 | B15: =B6 -> FAGG
B16: (All equipment as required, with at least the following headings. Additional items must be added and quantities adjusted by the bidder as necessary.)
B17: Where items are identified and have a quantity greater than zero associated to it and the cost is recorded as zero then such item shall be supplied by the Bidder at no cost to ATNS.
B18: Material
B19: 24 Ports Fibre Termination Node | C19: =$B$7 -> FC | D19: 1 | F19: =D19*E19 -> 0 | G19: =$B$8 -> 0.1 | H19: =IF(G19<>0,F19/G19,0) -> 0 | K19: =I19*J19 -> 0 | L19: =IF(OR(J19>0,H19>0),H19+K19,0) -> 0
B20: 8 Ports Fibre Termination Node | C20: =$B$7 -> FC | D20: 5 | F20: =D20*E20 -> 0 | G20: =$B$8 -> 0.1 | H20: =IF(G20<>0,F20/G20,0) -> 0 | K20: =I20*J20 -> 0 | L20: =IF(OR(J20>0,H20>0),H20+K20,0) -> 0
B21: 2 Ports Serial Interface Converter (RS232) | C21: =$B$7 -> FC | D21: 3 | F21: =D21*E21 -> 0 | G21: =$B$8 -> 0.1 | H21: =IF(G21<>0,F21/G21,0) -> 0 | K21: =I21*J21 -> 0 | L21: =IF(OR(J21>0,H21>0),H21+K21,0) -> 0
C22: =$B$7 -> FC | F22: =D22*E22 -> 0 | G22: =$B$8 -> 0.1 | H22: =IF(G22<>0,F22/G22,0) -> 0 | K22: =I22*J22 -> 0 | L22: =IF(OR(J22>0,H22>0),H22+K22,0) -> 0
C23: =$B$7 -> FC | F23: =D23*E23 -> 0 | G23: =$B$8 -> 0.1 | H23: =IF(G23<>0,F23/G23,0) -> 0 | K23: =I23*J23 -> 0 | L23: =IF(OR(J23>0,H23>0),H23+K23,0) -> 0
B24: Auxiliary
B25: 1m Fibre Patch Cables | C25: =$B$7 -> FC | D25: 24 | F25: =D25*E25 -> 0 | G25: =$B$8 -> 0.1 | H25: =IF(G25<>0,F25/G25,0) -> 0 | K25: =I25*J25 -> 0 | L25: =IF(OR(J25>0,H25>0),H25+K25,0) -> 0
B26: 4m Power Cables | C26: =$B$7 -> FC | D26: 6 | F26: =D26*E26 -> 0 | G26: =$B$8 -> 0.1 | H26: =IF(G26<>0,F26/G26,0) -> 0 | K26: =I26*J26 -> 0 | L26: =IF(OR(J26>0,H26>0),H26+K26,0) -> 0
B27: Computer and monitor | C27: =$B$7 -> FC | D27: 1 | F27: =D27*E27 -> 0 | G27: =$B$8 -> 0.1 | H27: =IF(G27<>0,F27/G27,0) -> 0 | K27: =I27*J27 -> 0 | L27: =IF(OR(J27>0,H27>0),H27+K27,0) -> 0
B28: 19 inch Equipment Rack | C28: =$B$7 -> FC | F28: =D28*E28 -> 0 | G28: =$B$8 -> 0.1 | H28: =IF(G28<>0,F28/G28,0) -> 0 | K28: =I28*J28 -> 0 | L28: =IF(OR(J28>0,H28>0),H28+K28,0) -> 0
C29: =$B$7 -> FC | F29: =D29*E29 -> 0 | G29: =$B$8 -> 0.1 | H29: =IF(G29<>0,F29/G29,0) -> 0 | K29: =I29*J29 -> 0 | L29: =IF(OR(J29>0,H29>0),H29+K29,0) -> 0
B30: Software
B31: Software licences | C31: =$B$7 -> FC | F31: =D31*E31 -> 0 | G31: =$B$8 -> 0.1 | H31: =IF(G31<>0,F31/G31,0) -> 0 | K31: =I31*J31 -> 0 | L31: =IF(OR(J31>0,H31>0),H31+K31,0) -> 0
C32: =$B$7 -> FC | F32: =D32*E32 -> 0 | G32: =$B$8 -> 0.1 | H32: =IF(G32<>0,F32/G32,0) -> 0 | K32: =I32*J32 -> 0 | L32: =IF(OR(J32>0,H32>0),H32+K32,0) -> 0
C33: =$B$7 -> FC | F33: =D33*E33 -> 0 | G33: =$B$8 -> 0.1 | H33: =IF(G33<>0,F33/G33,0) -> 0 | K33: =I33*J33 -> 0 | L33: =IF(OR(J33>0,H33>0),H33+K33,0) -> 0
B34: Installation and Integration
B35: Total installation and integration | C35: =$B$7 -> FC | F35: =D35*E35 -> 0 | G35: =$B$8 -> 0.1 | H35: =IF(G35<>0,F35/G35,0) -> 0 | K35: =I35*J35 -> 0 | L35: =IF(OR(J35>0,H35>0),H35+K35,0) -> 0
C36: =$B$7 -> FC | F36: =D36*E36 -> 0 | G36: =$B$8 -> 0.1 | H36: =IF(G36<>0,F36/G36,0) -> 0 | K36: =I36*J36 -> 0 | L36: =IF(OR(J36>0,H36>0),H36+K36,0) -> 0
B37: =+"SUB-TOTAL: "&A15 -> SUB-TOTAL: G3.7 | E37: =SUM(E15:E36) -> 0 | F37: =SUM(F15:F36) -> 0 | G37: =$B$8 -> 0.1 | H37: =SUM(H15:H36) -> 0 | J37: =SUM(J15:J36) -> 0 | K37: =SUM(K15:K36) -> 0 | L37: =SUM(L15:L36) -> 0
B38: VAT (15%) | L38: =0.15*L37 -> 0

Sheet G3_8 FACT
A1: BIDDER PRICE SCHEDULE: APPENDIX G3.8
A2: (INCLUDING VALUE ADDED TAX)
A3: BIDDER : | B3: =Instructions!D3 -> Bidder Company Name
A4: PROJECT : | B4: =Instructions!D4 -> Fibre Termination Nodes Project | D4: Fibre Termination Nodes Project
A5: Item Nr: | B5: G3.8
A6: Item Description: | B6: FACT
A7: Foreign Currancy | B7: =Instructions!D5 -> FC
A8: ROE: 1R = | B8: =Instructions!D6 -> 0.1
C10: Overseas Items | I10: Local Items
A12: Schedule Item Number | B12: Description {Equipment Common to all site} | C12: Foreign Currency | D12: Quantity | E12: Foreign Amount Unit Cost | F12: Foreign Amount Total Cost | G12: ROE: 1R = … | H12: Total Foreign Cost in Rands | I12: Quantity | J12: Local Amount Unit Cost | K12: Local Amount Total Cost | L12: Total Rands
A15: =B5 -> G3.8 | B15: =B6 -> FACT
B16: (All equipment as required, with at least the following headings. Additional items must be added and quantities adjusted by the bidder as necessary.)
B17: Where items are identified and have a quantity greater than zero associated to it and the cost is recorded as zero then such item shall be supplied by the Bidder at no cost to ATNS.
B18: Material
B19: 32 Ports Fibre Termination Node | C19: =$B$7 -> FC | D19: 2 | F19: =D19*E19 -> 0 | G19: =$B$8 -> 0.1 | H19: =IF(G19<>0,F19/G19,0) -> 0 | K19: =I19*J19 -> 0 | L19: =IF(OR(J19>0,H19>0),H19+K19,0) -> 0
B20: 22 Ports Fibre Termination Node | C20: =$B$7 -> FC | D20: 4 | F20: =D20*E20 -> 0 | G20: =$B$8 -> 0.1 | H20: =IF(G20<>0,F20/G20,0) -> 0 | K20: =I20*J20 -> 0 | L20: =IF(OR(J20>0,H20>0),H20+K20,0) -> 0
B21: 16 Ports Fibre Termination Node | C21: =$B$7 -> FC | D21: 2 | F21: =D21*E21 -> 0 | G21: =$B$8 -> 0.1 | H21: =IF(G21<>0,F21/G21,0) -> 0 | K21: =I21*J21 -> 0 | L21: =IF(OR(J21>0,H21>0),H21+K21,0) -> 0
B22: 12 Ports Fibre Termination Node | C22: =$B$7 -> FC | D22: 4 | F22: =D22*E22 -> 0 | G22: =$B$8 -> 0.1 | H22: =IF(G22<>0,F22/G22,0) -> 0 | K22: =I22*J22 -> 0 | L22: =IF(OR(J22>0,H22>0),H22+K22,0) -> 0
B23: 8 Ports Fibre Termination Node | C23: =$B$7 -> FC | D23: 2 | F23: =D23*E23 -> 0 | G23: =$B$8 -> 0.1 | H23: =IF(G23<>0,F23/G23,0) -> 0 | K23: =I23*J23 -> 0 | L23: =IF(OR(J23>0,H23>0),H23+K23,0) -> 0
B24: 2 Ports Serial Interface Converter (RS232) | C24: =$B$7 -> FC | D24: 7 | F24: =D24*E24 -> 0 | G24: =$B$8 -> 0.1 | H24: =IF(G24<>0,F24/G24,0) -> 0 | K24: =I24*J24 -> 0 | L24: =IF(OR(J24>0,H24>0),H24+K24,0) -> 0
C25: =$B$7 -> FC | F25: =D25*E25 -> 0 | G25: =$B$8 -> 0.1 | H25: =IF(G25<>0,F25/G25,0) -> 0 | K25: =I25*J25 -> 0 | L25: =IF(OR(J25>0,H25>0),H25+K25,0) -> 0
B26: Auxiliary
B27: 1m Fibre Patch Cables | C27: =$B$7 -> FC | D27: 56 | F27: =D27*E27 -> 0 | G27: =$B$8 -> 0.1 | H27: =IF(G27<>0,F27/G27,0) -> 0 | K27: =I27*J27 -> 0 | L27: =IF(OR(J27>0,H27>0),H27+K27,0) -> 0
B28: 4m Power Cables | C28: =$B$7 -> FC | D28: 14 | F28: =D28*E28 -> 0 | G28: =$B$8 -> 0.1 | H28: =IF(G28<>0,F28/G28,0) -> 0 | K28: =I28*J28 -> 0 | L28: =IF(OR(J28>0,H28>0),H28+K28,0) -> 0
B29: Computer and monitor | C29: =$B$7 -> FC | D29: 1 | F29: =D29*E29 -> 0 | G29: =$B$8 -> 0.1 | H29: =IF(G29<>0,F29/G29,0) -> 0 | K29: =I29*J29 -> 0 | L29: =IF(OR(J29>0,H29>0),H29+K29,0) -> 0
C30: =$B$7 -> FC | F30: =D30*E30 -> 0 | G30: =$B$8 -> 0.1 | H30: =IF(G30<>0,F30/G30,0) -> 0 | K30: =I30*J30 -> 0 | L30: =IF(OR(J30>0,H30>0),H30+K30,0) -> 0
B31: Software
B32: Software licences | C32: =$B$7 -> FC | F32: =D32*E32 -> 0 | G32: =$B$8 -> 0.1 | H32: =IF(G32<>0,F32/G32,0) -> 0 | K32: =I32*J32 -> 0 | L32: =IF(OR(J32>0,H32>0),H32+K32,0) -> 0
C33: =$B$7 -> FC | F33: =D33*E33 -> 0 | G33: =$B$8 -> 0.1 | H33: =IF(G33<>0,F33/G33,0) -> 0 | K33: =I33*J33 -> 0 | L33: =IF(OR(J33>0,H33>0),H33+K33,0) -> 0
C34: =$B$7 -> FC | F34: =D34*E34 -> 0 | G34: =$B$8 -> 0.1 | H34: =IF(G34<>0,F34/G34,0) -> 0 | K34: =I34*J34 -> 0 | L34: =IF(OR(J34>0,H34>0),H34+K34,0) -> 0
B35: Installation and Integration
B36: Total installation and integration | C36: =$B$7 -> FC | F36: =D36*E36 -> 0 | G36: =$B$8 -> 0.1 | H36: =IF(G36<>0,F36/G36,0) -> 0 | K36: =I36*J36 -> 0 | L36: =IF(OR(J36>0,H36>0),H36+K36,0) -> 0
C37: =$B$7 -> FC | F37: =D37*E37 -> 0 | G37: =$B$8 -> 0.1 | H37: =IF(G37<>0,F37/G37,0) -> 0 | K37: =I37*J37 -> 0 | L37: =IF(OR(J37>0,H37>0),H37+K37,0) -> 0
B38: =+"SUB-TOTAL: "&A15 -> SUB-TOTAL: G3.8 | E38: =SUM(E15:E37) -> 0 | F38: =SUM(F15:F37) -> 0 | G38: =$B$8 -> 0.1 | H38: =SUM(H15:H37) -> 0 | J38: =SUM(J15:J37) -> 0 | K38: =SUM(K15:K37) -> 0 | L38: =SUM(L15:L37) -> 0
B39: VAT (15%) | L39: =0.15*L38 -> 0

Sheet G3_9 ATA
A1: BIDDER PRICE SCHEDULE: APPENDIX G3.9
A2: (INCLUDING VALUE ADDED TAX)
A3: BIDDER : | B3: =Instructions!D3 -> Bidder Company Name
A4: PROJECT : | B4: =Instructions!D4 -> Fibre Termination Nodes Project | D4: Fibre Termination Nodes Project
A5: Item Nr: | B5: G3.9
A6: Item Description: | B6: ATA
A7: Foreign Currancy | B7: =Instructions!D5 -> FC
A8: ROE: 1R = | B8: =Instructions!D6 -> 0.1
C10: Overseas Items | I10: Local Items
A12: Schedule Item Number | B12: Description {Equipment Common to all site} | C12: Foreign Currency | D12: Quantity | E12: Foreign Amount Unit Cost | F12: Foreign Amount Total Cost | G12: ROE: 1R = … | H12: Total Foreign Cost in Rands | I12: Quantity | J12: Local Amount Unit Cost | K12: Local Amount Total Cost | L12: Total Rands
A15: =B5 -> G3.9 | B15: =B6 -> ATA
B16: (All equipment as required, with at least the following headings. Additional items must be added and quantities adjusted by the bidder as necessary.)
B17: Where items are identified and have a quantity greater than zero associated to it and the cost is recorded as zero then such item shall be supplied by the Bidder at no cost to ATNS.
B18: Material
B19: 8 Ports Fibre Termination Node | C19: =$B$7 -> FC | D19: 3 | F19: =D19*E19 -> 0 | G19: =$B$8 -> 0.1 | H19: =IF(G19<>0,F19/G19,0) -> 0 | K19: =I19*J19 -> 0 | L19: =IF(OR(J19>0,H19>0),H19+K19,0) -> 0
B20: 2 Ports Serial Interface Converter (RS232) | C20: =$B$7 -> FC | D20: 1 | F20: =D20*E20 -> 0 | G20: =$B$8 -> 0.1 | H20: =IF(G20<>0,F20/G20,0) -> 0 | K20: =I20*J20 -> 0 | L20: =IF(OR(J20>0,H20>0),H20+K20,0) -> 0
B21: 1 Ports Serial Interface Converter (RS232) | C21: =$B$7 -> FC | D21: 2 | F21: =D21*E21 -> 0 | G21: =$B$8 -> 0.1 | H21: =IF(G21<>0,F21/G21,0) -> 0 | K21: =I21*J21 -> 0 | L21: =IF(OR(J21>0,H21>0),H21+K21,0) -> 0
B22: 2 Ports 4-Wire E&M Gateway | C22: =$B$7 -> FC | D22: 1 | F22: =D22*E22 -> 0 | G22: =$B$8 -> 0.1 | H22: =IF(G22<>0,F22/G22,0) -> 0 | K22: =I22*J22 -> 0 | L22: =IF(OR(J22>0,H22>0),H22+K22,0) -> 0
B23: 1 Ports 4-Wire E&M Gateway | C23: =$B$7 -> FC | D23: 2 | F23: =D23*E23 -> 0 | G23: =$B$8 -> 0.1 | H23: =IF(G23<>0,F23/G23,0) -> 0 | K23: =I23*J23 -> 0 | L23: =IF(OR(J23>0,H23>0),H23+K23,0) -> 0
C24: =$B$7 -> FC | F24: =D24*E24 -> 0 | G24: =$B$8 -> 0.1 | H24: =IF(G24<>0,F24/G24,0) -> 0 | K24: =I24*J24 -> 0 | L24: =IF(OR(J24>0,H24>0),H24+K24,0) -> 0
C25: =$B$7 -> FC | F25: =D25*E25 -> 0 | G25: =$B$8 -> 0.1 | H25: =IF(G25<>0,F25/G25,0) -> 0 | K25: =I25*J25 -> 0 | L25: =IF(OR(J25>0,H25>0),H25+K25,0) -> 0
C26: =$B$7 -> FC | F26: =D26*E26 -> 0 | G26: =$B$8 -> 0.1 | H26: =IF(G26<>0,F26/G26,0) -> 0 | K26: =I26*J26 -> 0 | L26: =IF(OR(J26>0,H26>0),H26+K26,0) -> 0
C27: =$B$7 -> FC | F27: =D27*E27 -> 0 | G27: =$B$8 -> 0.1 | H27: =IF(G27<>0,F27/G27,0) -> 0 | K27: =I27*J27 -> 0 | L27: =IF(OR(J27>0,H27>0),H27+K27,0) -> 0
B28: Auxiliary
B29: 1m Fibre Patch Cables | C29: =$B$7 -> FC | D29: 6 | F29: =D29*E29 -> 0 | G29: =$B$8 -> 0.1 | H29: =IF(G29<>0,F29/G29,0) -> 0 | K29: =I29*J29 -> 0 | L29: =IF(OR(J29>0,H29>0),H29+K29,0) -> 0
B30: 4m Power Cables | C30: =$B$7 -> FC | D30: 3 | F30: =D30*E30 -> 0 | G30: =$B$8 -> 0.1 | H30: =IF(G30<>0,F30/G30,0) -> 0 | K30: =I30*J30 -> 0 | L30: =IF(OR(J30>0,H30>0),H30+K30,0) -> 0
B31: Computer and monitor | C31: =$B$7 -> FC | D31: 1 | F31: =D31*E31 -> 0 | G31: =$B$8 -> 0.1 | H31: =IF(G31<>0,F31/G31,0) -> 0 | K31: =I31*J31 -> 0 | L31: =IF(OR(J31>0,H31>0),H31+K31,0) -> 0
B32: 19 inch Equipment Rack | C32: =$B$7 -> FC | D32: 1 | F32: =D32*E32 -> 0 | G32: =$B$8 -> 0.1 | H32: =IF(G32<>0,F32/G32,0) -> 0 | K32: =I32*J32 -> 0 | L32: =IF(OR(J32>0,H32>0),H32+K32,0) -> 0
C33: =$B$7 -> FC | F33: =D33*E33 -> 0 | G33: =$B$8 -> 0.1 | H33: =IF(G33<>0,F33/G33,0) -> 0 | K33: =I33*J33 -> 0 | L33: =IF(OR(J33>0,H33>0),H33+K33,0) -> 0
C34: =$B$7 -> FC | F34: =D34*E34 -> 0 | G34: =$B$8 -> 0.1 | H34: =IF(G34<>0,F34/G34,0) -> 0 | K34: =I34*J34 -> 0 | L34: =IF(OR(J34>0,H34>0),H34+K34,0) -> 0
B35: Software
B36: Software licences | C36: =$B$7 -> FC | F36: =D36*E36 -> 0 | G36: =$B$8 -> 0.1 | H36: =IF(G36<>0,F36/G36,0) -> 0 | K36: =I36*J36 -> 0 | L36: =IF(OR(J36>0,H36>0),H36+K36,0) -> 0
C37: =$B$7 -> FC | F37: =D37*E37 -> 0 | G37: =$B$8 -> 0.1 | H37: =IF(G37<>0,F37/G37,0) -> 0 | K37: =I37*J37 -> 0 | L37: =IF(OR(J37>0,H37>0),H37+K37,0) -> 0
C38: =$B$7 -> FC | F38: =D38*E38 -> 0 | G38: =$B$8 -> 0.1 | H38: =IF(G38<>0,F38/G38,0) -> 0 | K38: =I38*J38 -> 0 | L38: =IF(OR(J38>0,H38>0),H38+K38,0) -> 0
B39: Installation and Integration
B40: Total installation and integration | C40: =$B$7 -> FC | F40: =D40*E40 -> 0 | G40: =$B$8 -> 0.1 | H40: =IF(G40<>0,F40/G40,0) -> 0 | K40: =I40*J40 -> 0 | L40: =IF(OR(J40>0,H40>0),H40+K40,0) -> 0
C41: =$B$7 -> FC | F41: =D41*E41 -> 0 | G41: =$B$8 -> 0.1 | H41: =IF(G41<>0,F41/G41,0) -> 0 | K41: =I41*J41 -> 0 | L41: =IF(OR(J41>0,H41>0),H41+K41,0) -> 0
B42: =+"SUB-TOTAL: "&A15 -> SUB-TOTAL: G3.9 | E42: =SUM(E15:E41) -> 0 | F42: =SUM(F15:F41) -> 0 | G42: =$B$8 -> 0.1 | H42: =SUM(H15:H41) -> 0 | J42: =SUM(J15:J41) -> 0 | K42: =SUM(K15:K41) -> 0 | L42: =SUM(L15:L41) -> 0
B43: VAT (15%) | L43: =0.15*L42 -> 0

Sheet G4 Miscellaneous
A1: BIDDER PRICE SCHEDULE: APPENDIX G4
A2: (INCLUDING VALUE ADDED TAX)
A3: BIDDER : | B3: =Instructions!D3 -> Bidder Company Name
A4: PROJECT : | B4: =Instructions!D4 -> Fibre Termination Nodes Project | D4: Fibre Termination Nodes Project
A5: Item Nr: | B5: G4
A6: Item Description: | B6: MISCELLANEOUS
A7: Foreign Currancy | B7: =Instructions!D5 -> FC
A8: ROE: 1R = | B8: =Instructions!D6 -> 0.1
C10: Overseas Items | I10: Local Items
A12: Schedule Item Number | B12: Description | C12: Foreign Currency | D12: Quantity | E12: Foreign Amount Unit Cost | F12: Foreign Amount Total Cost | G12: ROE: 1R = … | H12: Total Foreign Cost in Rands | I12: Quantity | J12: Local Amount Unit Cost | K12: Local Amount Total Cost | L12: Total Rands
A15: =B5 -> G4 | B15: =B6 -> MISCELLANEOUS
B16: (Items and services necessary for the installation, commissioning, operation and maintenance of the system and not included elsewhere.)
B17: Where items are identified and have a quantity greater than zero associated to it and the cost is recorded as zero then such item shall be supplied by the Bidder at no cost to ATNS.
B18: (To be individually itemized and priced.)
A19: 4.1
C20: =$B$7 -> FC | F20: =D20*E20 -> 0 | G20: =$B$8 -> 0.1 | H20: =IF(G20<>0,F20/G20,0) -> 0 | K20: =I20*J20 -> 0 | L20: =IF(OR(J20>0,H20>0),H20+K20,0) -> 0
C21: =$B$7 -> FC | F21: =D21*E21 -> 0 | G21: =$B$8 -> 0.1 | H21: =IF(G21<>0,F21/G21,0) -> 0 | K21: =I21*J21 -> 0 | L21: =IF(OR(J21>0,H21>0),H21+K21,0) -> 0
C22: =$B$7 -> FC | F22: =D22*E22 -> 0 | G22: =$B$8 -> 0.1 | H22: =IF(G22<>0,F22/G22,0) -> 0 | K22: =I22*J22 -> 0 | L22: =IF(OR(J22>0,H22>0),H22+K22,0) -> 0
C23: =$B$7 -> FC | F23: =D23*E23 -> 0 | G23: =$B$8 -> 0.1 | H23: =IF(G23<>0,F23/G23,0) -> 0 | K23: =I23*J23 -> 0 | L23: =IF(OR(J23>0,H23>0),H23+K23,0) -> 0
C24: =$B$7 -> FC | F24: =D24*E24 -> 0 | G24: =$B$8 -> 0.1 | H24: =IF(G24<>0,F24/G24,0) -> 0 | K24: =I24*J24 -> 0 | L24: =IF(OR(J24>0,H24>0),H24+K24,0) -> 0
C25: =$B$7 -> FC | F25: =D25*E25 -> 0 | G25: =$B$8 -> 0.1 | H25: =IF(G25<>0,F25/G25,0) -> 0 | K25: =I25*J25 -> 0 | L25: =IF(OR(J25>0,H25>0),H25+K25,0) -> 0
C26: =$B$7 -> FC | F26: =D26*E26 -> 0 | G26: =$B$8 -> 0.1 | H26: =IF(G26<>0,F26/G26,0) -> 0 | K26: =I26*J26 -> 0 | L26: =IF(OR(J26>0,H26>0),H26+K26,0) -> 0
C27: =$B$7 -> FC | F27: =D27*E27 -> 0 | G27: =$B$8 -> 0.1 | H27: =IF(G27<>0,F27/G27,0) -> 0 | K27: =I27*J27 -> 0 | L27: =IF(OR(J27>0,H27>0),H27+K27,0) -> 0
C28: =$B$7 -> FC | F28: =D28*E28 -> 0 | G28: =$B$8 -> 0.1 | H28: =IF(G28<>0,F28/G28,0) -> 0 | K28: =I28*J28 -> 0 | L28: =IF(OR(J28>0,H28>0),H28+K28,0) -> 0
C29: =$B$7 -> FC | F29: =D29*E29 -> 0 | G29: =$B$8 -> 0.1 | H29: =IF(G29<>0,F29/G29,0) -> 0 | K29: =I29*J29 -> 0 | L29: =IF(OR(J29>0,H29>0),H29+K29,0) -> 0
C30: =$B$7 -> FC | F30: =D30*E30 -> 0 | G30: =$B$8 -> 0.1 | H30: =IF(G30<>0,F30/G30,0) -> 0 | K30: =I30*J30 -> 0 | L30: =IF(OR(J30>0,H30>0),H30+K30,0) -> 0
C31: =$B$7 -> FC | F31: =D31*E31 -> 0 | G31: =$B$8 -> 0.1 | H31: =IF(G31<>0,F31/G31,0) -> 0 | K31: =I31*J31 -> 0 | L31: =IF(OR(J31>0,H31>0),H31+K31,0) -> 0
... C40: =$B$7 -> FC | F40: =D40*E40 -> 0 | G40: =$B$8 -> 0.1 | H40: =IF(G40<>0,F40/G40,0) -> 0 | K40: =I40*J40 -> 0 | L40: =IF(OR(J40>0,H40>0),H40+K40,0) -> 0
B42: =+"SUB-TOTAL: "&A15 -> SUB-TOTAL: G4 | E42: =SUM(E20:E40) -> 0 | F42: =SUM(F20:F40) -> 0 | G42: =$B$8 -> 0.1 | H42: =SUM(H20:H40) -> 0 | J42: =SUM(J20:J40) -> 0 | K42: =SUM(K20:K40) -> 0 | L42: =SUM(L20:L40) -> 0
B43: VAT (15%) | L43: =0.15*L42 -> 0

Sheet G5_1 Support Contract (Base)
A1: BIDDER PRICE SCHEDULE: APPENDIX G5.1
A2: (INCLUDING VALUE ADDED TAX)
A3: BIDDER : | B3: =Instructions!D3 -> Bidder Company Name
A4: PROJECT : | B4: =Instructions!D4 -> Fibre Termination Nodes Project | D4: Fibre Termination Nodes Project
A5: Item Nr: | B5: G5.1
A6: Item Description: | B6: Support Contract in base cost
A7: Foreign Currancy | B7: =Instructions!D5 -> FC
A8: ROE: 1R = | B8: =Instructions!D6 -> 0.1
C10: Overseas Items | I10: Local Items
