Workbook
Name ____tax1: #REF!
Name ____tax1: #REF!
Name ____tax2: #REF!
Name ____tax2: #REF!
Name ____tax3: #REF!
Name ____tax3: #REF!
Name ____tax4: #REF!
Name ____tax4: #REF!
Name ___tax1: #REF!
Name ___tax1: #REF!
Name ___tax2: #REF!
Name ___tax2: #REF!
Name ___tax3: #REF!
Name ___tax3: #REF!
Name ___tax4: #REF!
Name ___tax4: #REF!
Name __tax1: #REF!
Name __tax1: #REF!
Name __tax2: #REF!
Name __tax2: #REF!
Name __tax3: #REF!
Name __tax3: #REF!
Name __tax4: #REF!
Name __tax4: #REF!
Name _tax1: #REF!
Name _tax1: #REF!
Name _tax2: #REF!
Name _tax2: #REF!
Name _tax3: #REF!
Name _tax3: #REF!
Name _tax4: #REF!
Name _tax4: #REF!
Name _Toc156992825: 'tender req'!$A$1
Name boxes: #REF!
Name boxes: #REF!
Name boxes: #REF!
Name button_area_1: #REF!
Name button_area_1: #REF!
Name button_area_1: #REF!
Name CC: '[1]Customize Your Invoice'!$G$22:$G$25
Name CCT: #REF!
Name CCT: #REF!
Name CCT: #REF!
Name celltips_area: #REF!
Name celltips_area: #REF!
Name celltips_area: #REF!
Name data1: #REF!
Name data1: #REF!
Name data1: #REF!
Name data10: #REF!
Name data10: #REF!
Name data10: #REF!
Name data11: #REF!
Name data11: #REF!
Name data11: #REF!
Name data12: #REF!
Name data12: #REF!
Name data12: #REF!
Name data13: #REF!
Name data13: #REF!

Sheet CP
D11: =+'Bills of Quantities'!A1 -> THABANA PIPE STORE BUILDING EXTENSION
D13: NECSA
D15: BILLS OF QUANTITIES
D17: ANNEXURE A
D19: =+'Bills of Quantities'!F1 -> 45520

Sheet tender req
A1: 1 TENDER REQUIREMENTS
A2: · Submit a complete priced tender Bill of Quantities
A3: · Supply a level 3 Construction Schedule with your tender. (MS Project)
A4: · Supply a full Organogram of personnel for the execution of this work.
A5: · Supply a list of all equipment to be used for the work.
A6: · Appointed Safety officer for the project execution is required.
A7: · Appointed Construction Manager to be on site during execution.
A8: · Supply a quotation for preparation and approval of a safety file
A9: · Supply hourly labour rates for all employees to be involved during construction
A10: · Supply all equipment hourly rates for all equipment to be used during construction
A11: · Supply prices for all consumables to be used during construction
A12: · Supply a price schedule (unit rates) for quantities of material to be used on site e.g. a price of excavating 1m3 of soil, breaking 1m3 of rock or as listed in the tender bill of quantities.
A13: · Supply alternative pricing proposals for different drilling methods of the boreholes such as Auger Drilling, Air Percussion Drilling.

Sheet Pre-Tender
A1: PRINCIPAL BUILDING AGREEMENT: CONTRACT DATA
A4: PROJECT | D4: Thabana Pipe Store Exntension Project
A5: EMPLOYER | D5: South African Nuclear Energy Corporation
A6: CONTRACTOR
A7: CONTRACT DATE
A8: FILE CODE
A11: A | B11: TENDER INFORMATION
A13: A1 | B13: Project name | D13: =D4 -> Thabana Pipe Store Exntension Project
A15: A2 | B15: Works description | D15: Extension of the Thabana Pipestore Facility
A19: A3 | B19: Site Description
B20: Erf No/Township | D20: Pelindaba
B21: Local authority | D21: District of Madibeng
B22: Street address | D22: Church Street West Extension
A24: A4 | B24: Employer
B25: Name | D25: South African Nuclear Energy Corporation
B26: Business (eg: public co.) | D26: 0123054000
B27: Business registration no. | D27: Ref No.2000/003735/06 | E27: VAT/GST
B28: Contact person | D28: Buyani Nsibande | E28: Mobile
B29: E-mail | D29: Buyani.Nsibande@necsa.co.za
B30: Registered str. Address | D30: Church Street West Extension, Pelindaba, District of Madibeng
B31: Postal address | D31: P.O Box 582 Pretoria 0001
E32: Code
B33: Telephone | D33: (012) 3045 4000 | E33: Fax | F33: (012)
A36: A5 | B36: Principal Agent
B37: Name
B38: Practice registration no. | E38: VAT/GST
B39: Contact person | E39: Mobile
B40: E-mail
B41: Registered str. Address
B42: Postal address
E43: Code
B44: Telephone | D44: (012) | E44: Fax | F44: (012)
A47: A6 | B47: Agent
B48: Name
B49: Practice registration no. | E49: VAT/GST | F49: NA
B50: Contact person | E50: Mobile
B51: E-mail
B52: Registered str. Address
B53: Postal address
B54: Telephone
...

Sheet Prelim
A1: =+CP!D19 -> 45520 | C1: =+'Bills of Quantities'!A1 -> THABANA PIPE STORE BUILDING EXTENSION
A2: Sec 1 | C2: =+B7 -> PRELIMINARIES AND GENERAL
A3: No | C3: Description | D3: Unit | E3: Quant | F3: Rate | G3: Fixed | H3: Time | I3: Value
B5: SECTION 1
B7: PRELIMINARIES AND GENERAL
B9: SUPPLEMENTARY NOTES
B11: I) | C11: The agreement and schedule of conditions of building contract are the "Principal Building Agreement" with Bills of Quantities as recommended by the Joint Building Contracts Committee Series 2000 and shall be deemed to be included herein
B12: ii) | C12: The preambles are to be the "Modal Preambles for Trade" 1999 edition and shall be deemed to be included herein
B13: iii) | C13: TENDERERS are referred to the abovementioned documents for the full intent and meaning of each clause thereof (hereinafter referred to by heading and clause number only) for which such allowance must be made as may be considered necessary
B14: iv) | C14: Where standard clauses or alternatives are not entirely applicable to this contract such modifications, corrections or supplements as will apply are given under each relevant clause heading
B15: v) | C15: Where any item is not relevant to this specific contract such item is marked N/A (signifying "not applicable"
B16: vi) | C16: Notwithstanding anything to the contrary contained in any of the contract documents, the provision of the "Preliminaries" as hereafter set forth shall prevail and take precedence
B18: SECTION A: CONDITIONS OF CONTRACT
A20: 1 | B20: DEFINITIONS
A21: =A20 + 1 -> 2 | B21: Definitions and interpretation (clause 1) | D21: Item
A22: =A21 + 1 -> 3 | B22: OBJECTIVE
A23: =A22 + 1 -> 4 | B23: Offer Acceptance and Performance (clause 2) | D23: Item
A24: =A23 + 1 -> 5 | B24: PREPARATION
A25: =A24 + 1 -> 6 | B25: Documents (clause 3) | D25: Item
A26: =A25 + 1 -> 7 | B26: Design Responsibility (clause 4) | D26: Item
A27: =A26 + 1 -> 8 | B27: Employer's Agents (clause 5) | D27: Item
A28: =A27 + 1 -> 9 | B28: Site Representative (clause 6) | D28: Item
A29: =A28 + 1 -> 10 | B29: Compliance with Regulations (clause 7) | D29: Item
A30: =A29 + 1 -> 11 | B30: Works risk (clause 8) | D30: Item
A31: =A30 + 1 -> 12 | B31: Indemnities (clause 9) | D31: Item
A32: =A31 + 1 -> 13 | B32: Works Insurances (clause 10) | D32: Item
A33: =A32 + 1 -> 14 | B33: Liability Insurances (clause 11) | D33: Item
A34: =A33 + 1 -> 15 | B34: Effecting Insurances (clause 12) | D34: Item
A35: =A34 + 1 -> 16 | B35: Insurances - Government Contracts (clause 13) | D35: Item
A36: =A35 + 1 -> 17 | B36: Security (clause 14) | D36: Item
B37: Replace first sentence of 14.2.1 with:
B38: The contractor shall have the right to select the security to be provided in terms of 14.2, 14.3, 14.4 or 14.8 as stated in the schedule.
B41: Add:14.8 Retention
B42: The employer shall retain FIVE percent (5%) of the value of certificate up to a limit of five percent (5%) of the contract amount to the date of practical completion. Two and a half percent (2.5%) of such value after the date of practical completion to, but not including, the date of issue of the final payment certificate. The retention held shall be increased to include any unpaid amount due in the previous certificate to the employer. | D42: Item
A50: =A36 + 1 -> 18 | B50: EXECUTION
A51: =A50 + 1 -> 19 | B51: Preparation for and Execution of the Works (clause 15) | D51: Item
A52: =A51 + 1 -> 20 | B52: Access to the Works (clause 16) | D52: Item
A53: =A52 + 1 -> 21 | B53: Contract Instructions (clause 17) | D53: Item
A54: =A53 + 1 -> 22 | B54: Setting out of the Works (clause 18) | D54: Item
A55: =A54 + 1 -> 23 | B55: Assignment (clause 19) | D55: Item
...

Sheet Bills of Quantities
A1: THABANA PIPE STORE BUILDING EXTENSION | C1: Tariff/m2 | F1: 45520
B2: Profit | E2: 0.05
A3: No | B3: Description | C3: Unit | D3: Quant | E3: Rate | F3: Total
B4: EXISTING AREA | C4: m2 | D4: 375
B5: NEW AREA | C5: m2 | D5: 320
B6: TOTAL AREA | C6: m2 | D6: 695
B8: ="SECTION "&1 -> SECTION 1
B9: PRELIMINARIES AND GENERAL | C9: =E9/SUM(F85:F279) -> 0 | E9: =SUM(F9:F35) -> 0
B10: Herewith a possible breakdown for P&G, please adjust as required | C10: =+E9/$D$6 -> 0 | D10: /m | E10: =E9/D11 -> 0
A11: 1 | B11: Project manager | C11: Mnth | D11: 7 | F11: =ROUND(D11*E11,2) -> 0
A12: =+A11+1 -> 2 | B12: Site agent | C12: Mnth | D12: 7 | F12: =ROUND(D12*E12,2) -> 0
A13: =+A12+1 -> 3 | B13: Foreman | C13: Mnth | D13: 7 | F13: =ROUND(D13*E13,2) -> 0
A14: =+A13+1 -> 4 | B14: Store man | C14: Mnth | D14: 7 | F14: =ROUND(D14*E14,2) -> 0
A15: =+A14+1 -> 5 | B15: Night watch | C15: Mnth | D15: 0 | F15: =ROUND(D15*E15,2) -> 0
A16: =+A15+1 -> 6 | B16: Contractor's office and admin | C16: Mnth | D16: 7 | F16: =ROUND(D16*E16,2) -> 0
A17: =+A16+1 -> 7 | B17: Vehicle and fuel, transport and toll gates | C17: Mnth | D17: 7 | F17: =ROUND(D17*E17,2) -> 0
A18: =+A17+1 -> 8 | B18: Bank costs | C18: Mnth | D18: 7 | F18: =ROUND(D18*E18,2) -> 0
A19: =+A18+1 -> 9 | B19: Security: Cost of guarantee, null if retention | C19: Fixed | D19: 0 | F19: =ROUND(D19*E19,2) -> 0
A20: =+A19+1 -> 10 | B20: Tools | C20: Mnth | D20: 7 | F20: =ROUND(D20*E20,2) -> 0
A21: =+A20+1 -> 11 | B21: Scaffolding | C21: Mnth | D21: 7 | F21: =ROUND(D21*E21,2) -> 0
A22: =+A21+1 -> 12 | B22: Builders water connection | C22: Fixed | D22: 0 | F22: =ROUND(D22*E22,2) -> 0
A23: =+A22+1 -> 13 | B23: Builders electric connection | C23: Fixed | D23: 0 | F23: =ROUND(D23*E23,2) -> 0
... A31: =+A30+1 -> 21 | B31: Site access for all workers. (International passport requires six week clearance and a valid work permit) | C31: Mnth | D31: 7 | F31: =ROUND(D31*E31,2) -> 0
F32: =ROUND(D32*E32,2) -> 0
A33: =+A31+1 -> 22 | B33: Quantity Surveyor fee's | C33: Fixed/m2 | D33: 695 | F33: =ROUND(D33*E33,2) -> 0
B37: BUILDER'S WORK
B39: ="BILL NO "&A40 -> BILL NO 1
A40: 1 | B40: ALTERATIONS | C40: 874.40639 | D40: /m2 | E40: =SUM(F42:F53) -> 0
A41: =+A40+0.01 -> 1.01 | B41: BREAK OUT AND REMOVE
A42: =+A41+0.01 -> 1.02 | B42: Remove rubble | C42: m3 | D42: 7.63 | F42: =ROUND(D42*E42,2) -> 0
A43: =+A42+0.01 -> 1.03 | B43: Break out strip footing and fence base | C43: m3 | D43: 6 | F43: =ROUND(D43*E43,2) -> 0
A44: =+A43+0.01 -> 1.04 | B44: Break out reinforced surface bed 150mm thick | C44: m2 | D44: 63 | F44: =D44*E44 -> 0
A45: =+A44+0.01 -> 1.05 | B45: Hack together 75mm stone and remove | C45: m2 | D45: 92 | F45: =D45*E45 -> 0
A46: =+A45+0.01 -> 1.06 | B46: Break out vertical cladding and frame | C46: m2 | D46: 160 | F46: =D46*E46 -> 0
A47: =+A46+0.01 -> 1.07 | B47: Carefully remove existing barge flashing, store and re install in new position | C47: m | D47: 56 | F47: =D47*E47 -> 0
A48: =+A47+0.01 -> 1.08 | B48: Break out 200-250mm spotllight mass, 12m long and prepare for re-use | C48: No | D48: 1 | F48: =ROUND(D48*E48,2) -> 0
A49: =+A48+0.01 -> 1.09 | B49: Break out 175x75x20x3mm Lipped channel girder complete, 10.6m long average 100kg | C49: No | D49: 6 | F49: =ROUND(D49*E49,2) -> 0
A50: =+A49+0.01 -> 1.1 | B50: Break out 406x178x60 column, 6.7m long, complete with foot and topplate, average 450kg | C50: No | D50: 2 | F50: =ROUND(D50*E50,2) -> 0
A51: =+A50+0.01 -> 1.11 | B51: Break out single door and frame | C51: No | D51: 2 | F51: =ROUND(D51*E51,2) -> 0
A52: =+A51+0.01 -> 1.12 | B52: Carefully take out and store for re-installation
...

Sheet Reconciliation
B1: =+'Bills of Quantities'!A1 -> THABANA PIPE STORE BUILDING EXTENSION
B2: =+'Bills of Quantities'!F1 -> 45520
B4: RECONCILIATION
B5: AREA | C5: =+'Bills of Quantities'!D6 -> 695 | D5: m2
D6: Rate/m2
A7: A | B7: ESTIMATE | C7: =+'Bills of Quantities'!F311 -> 693231.5 | D7: =C7/$C$5 -> 997.4554
A8: 1 | C8: 0 | D8: =C8/$C$5 -> 0
A9: =+A8+1 -> 2
A10: =+A9+1 -> 3
A11: =+A10+1 -> 4
A12: =+A11+1 -> 5
B18: Sundry | C18: =ROUND(C19-SUM(C7:C17),0) -> 0 | D18: =C18/$C$5 -> 0
B19: TOTAL | C19: =+'Bills of Quantities'!F311 -> 693231.5 | D19: =C19/$C$5 -> 997.4554

Sheet frm
B1: FORM OF TENDER
B3: PROJECT:
B4: =+'Bills of Quantities'!A1 -> THABANA PIPE STORE BUILDING EXTENSION
A7: D | B7: TENDERER'S SELECTION
A9: 11 | B9: Securities
D10: Obligation | E10: y/n ?
A12: 11.1.2 | B12: Guarantee for Construction (variable) | D12: If specified, contractor's choice
A15: 11.1.3 | B15: or Guarantee for Construction (fixed) | D15: If specified, contractor's choice
B18: Retention 5% to maximum of 5%, 2.5% on practical Completion
A21: 11.1.4 | B21: Guarantee for Advance Payment | D21: Provided by the contractor | E21: No
B22: (where the contractor requests the employer to pay an advance for materials and goods)
B24: Purpose
B25: Currency | D25: Amount
A27: 11.4 | B27: Guarantee for Payment | D27: Provided by the employer
B29: Currency | D29: Amount
A32: 19 | B32: Contractor's holiday periods during the construction period ?
D34: from | E34: until
B35: Contractor's annual holiday period - year 1
B36: Contractor's 'other' holiday period - year 1
B37: Contractor's annual holiday period - year 2
B38: Contractor's 'other' holiday period - year 2
B39: Contractor's annual holiday period - year 3
B40: Contractor's 'other' holiday period - year 3
A43: 26 | B43: Payment / Adjustment of Preliminaries
B46: Payment of preliminaries
A47: Option A | B47: Assessed by principal agent, an amount pro rated to the value of the works executed in the same ratio as the preliminaries to the contract sum, (including tax); shall exclude the amount of preliminaries, all contingency sum(s) and any allowance for CPAP
B49: OR…
A50: Option B | B50: An amount agreed by the principal agent and the contractor in terms of the Bills of Quantities or the priced document to identify an initial establishment charge / a monthly charge / and a final disestablishment charge
B52: Where the contractor does not indicate option 'A' or option 'B' - option 'A' shall apply
B54: Adjustment of preliminaries [26.9.4]
A55: Option A | B55: For the adjustment of preliminaries both the contract sum and the contract value (including tax) shall exclude the amount of preliminaries, all contingency sum(s) and any provision for Cost Price Adjustment Provisions:-
B58: ~ An amount which shall not be varied
B59: ~ An amount varied in proportion to the contract value as compared to the contract sum
B60: ~ An amount varied in proportion to the construction period as compared to the initial construction period (excluding revisions to the construction period to which the contractor is not entitled) to adjustment of the contract value in terms of the agreement
B64: The contractor shall provide a breakdown of charges (including tax) within 15 working days of the date of acceptance of tender and, where applicable, an apportionment of preliminaries per section
B67: Where such information is not provided the following subdivision shall be deemed to apply:
B68: ~ 10% of the amount shall not be varied
B69: ~ 15% varied in proportion of the contract value to the contract sum
B70: ~ 75% varied in proportion to the revised construction period compared to the initial construction period
B72: OR…
...
