Workbook
Name _SEC1200: #REF!
Name _SEC1200: #REF!
Name Items_01: #REF!
Name Items_01: #REF!
Name Items_01: #REF!
Name Items_01: #REF!
Name Items_01: #REF!
Name MAAAAAAAAAAAAAAAA: 'Prov Sums'!$J$28

Sheet Fixed P&Gs
H1: ORB.NAIL.2021
B2: CAPRICORN DISTRICT MUNICIPALITY - LIMPOPO PROVINCE
B3: SCHEDULE OF QUANTITIES:
B4: NAILANA VILLAGE WATER SUPPLY | F4: CONTRACT No:INF-W06/2022/2023
B5: SCHEDULE A: PRELIMINARY AND GENERAL OBLIGATIONS
B6: SECTION 1: PRELIMINARY AND GENERAL - FIXED CHARGE AND VALUE RELATED OBLIGATIONS
B8: ITEM NUMBER | C8: PAYMENT CLAUSE | D8: DESCRIPTION | E8: UNIT | F8: QUANTITY | G8: RATE | H8: AMOUNT
B9: A.1 | D9: FIXED CHARGE AND VALUE RELATED ITEMS:
D10: (As specified in SABS 1200 A, SABS 1200 AB and the Project Specifications.) | H10: =IF(E11="",IF(G10="","","Rate Only"),E11*G10)
H11: =IF(F11="",IF(G11="","","Rate Only"),F11*G11)
B12: 1.1 | D12: Contractual Requirements: | H12: =IF(F12="",IF(G12="","","Rate Only"),F12*G12)
B13: 1.1.1 | C13: 8.3.1 | D13: Fixed charge contractual requirements. | E13: Sum | F13: 1
B14: 1.1.2 | C14: 8.3.1 | D14: Value related contractual requirements. | E14: Sum | F14: 1
B16: 1.2 | D16: Facilities for Engineer:
B17: 1.2.1 | C17: 8.3.2.1 a | D17: Furnished office - 1 No. | E17: Sum | F17: 1
B18: 1.2.2 | C18: 8.3.2.1 c | D18: Name board | E18: Sum | F18: 2
B19: 1.2.3 | C19: PSA 14.1 a | D19: Provision of survey equipment. | E19: Sum | F19: 1
B21: 1.3 | D21: Facilities for Contractor:
B22: 1.3.1 | C22: 8.3.2.2 a | D22: Offices and storage sheds | E22: Sum | F22: 1
B23: 1.3.2 | C23: 8.3.2.2 b | D23: Workshops | E23: Sum | F23: 1
B24: 1.3.3 | C24: 8.3.2.2 c | D24: Laboratories | E24: Sum | F24: 1
B25: 1.3.4 | C25: 8.3.2.2 d | D25: Living accommodation | E25: Sum | F25: 1
B26: 1.3.5 | C26: 8.3.2.2 e | D26: Ablution and latrine facilities | E26: Sum | F26: 1
B27: 1.3.6 | C27: 8.3.2.2 f | D27: Tools and equipment | E27: Sum | F27: 1
B28: 1.3.7 | C28: 8.3.2.2 g | D28: Water supplies, electric power and communications | E28: Sum | F28: 1
B29: 1.3.8 | C29: 8.3.2.2 h | D29: Dealing with water | E29: Sum | F29: 1
B30: 1.3.9 | C30: 8.3.2.2 i | D30: Access | E30: Sum | F30: 1
B31: 1.3.10 | C31: 8.3.2.2 j | D31: Plant | E31: Sum | F31: 1
B32: 1.3.11 | C32: PSA 14.2 a | D32: Materials on site storage and protection. | E32: Sum | F32: 1
B33: 1.3.12 | C33: PSA 14.2 b | D33: Accommodation of traffic. | E33: Sum | F33: 1
B34: 1.3.13 | C34: PSA 14.2 c | D34: Labour intensive activity training. | E34: Sum | F34: 1
B36: 1.4 | C36: 8.3.3 | D36: Other Fixed Charge Obligations: | E36: Sum | F36: 1
B38: 1.5 | C38: 8.3.4 | D38: Removal of Site Establishment: | E38: Sum | F38: 1
B40: 1.6 | C40: PSA 14.3 a | D40: Environmental Management: | E40: Sum | F40: 1
B42: TOTAL SCHEDULE A - SECTION 1 CARRIED TO SUMMARY: | H42: =SUM(H13:H40) -> 0
B44: NAILANA WS BoQ

Sheet Time Related
H1: ='Fixed P&Gs'!H1 -> ORB.NAIL.2021
B2: ='Fixed P&Gs'!B2 -> CAPRICORN DISTRICT MUNICIPALITY - LIMPOPO PROVINCE
B3: ='Fixed P&Gs'!B3 -> SCHEDULE OF QUANTITIES:
B4: ='Fixed P&Gs'!B4 -> NAILANA VILLAGE WATER SUPPLY | F4: `
B5: SCHEDULE A: PRELIMINARY AND GENERAL OBLIGATIONS
B6: SECTION 2: PRELIMINARY AND GENERAL - TIME RELATED OBLIGATIONS
B8: ITEM NUMBER | C8: PAYMENT CLAUSE | D8: DESCRIPTION | E8: UNIT | F8: QUANTITY | G8: RATE | H8: AMOUNT
B9: A.2 | D9: TIME RELATED ITEMS: | H9: =IF(F9="",IF(G9="","","Rate Only"),F9*G9)
D10: (As specified in SABS 1200 A, SABS 1200 AB and the Project Specifications.) | H10: =IF(F10="",IF(G10="","","Rate Only"),F10*G10)
H11: =IF(F11="",IF(G11="","","Rate Only"),F11*G11)
B12: 2.1 | D12: Contractual Requirements: | H12: =IF(F12="",IF(G12="","","Rate Only"),F12*G12)
B13: 2.1.1 | C13: 8.4.1 | D13: Time related contractual requirements. | E13: Month | F13: 12
B15: 2.2 | D15: Facilities for Engineer:
B16: 2.2.1 | C16: 8.4.2.1 a | D16: Furnished office - 1 No. | E16: Month | F16: =IF($F$13="","",IF(E16="","",$F$13)) -> 12
B17: 2.2.2 | C17: 8.4.2.1 c | D17: Name boards - 2 No. | E17: Month | F17: =IF($F$13="","",IF(E17="","",$F$13)) -> 12
B18: 2.2.3 | C18: 8.4.2.1 d | D18: Survey assistants and material. | E18: Month | F18: =IF($F$13="","",IF(E18="","",$F$13)) -> 12
F19: =IF($F$13="","",IF(E19="","",$F$13))
B20: 2.3 | D20: Facilities for Contractor: | F20: =IF($F$13="","",IF(E20="","",$F$13))
B21: 2.3.1 | C21: 8.4.2.2 a | D21: Offices and storage sheds. | E21: Month | F21: =IF($F$13="","",IF(E21="","",$F$13)) -> 12
B22: 2.3.2 | C22: 8.4.2.2 b | D22: Workshops. | E22: Month | F22: =IF($F$13="","",IF(E22="","",$F$13)) -> 12
B23: 2.3.3 | C23: 8.4.2.2 c | D23: Laboratories. | E23: Month | F23: =IF($F$13="","",IF(E23="","",$F$13)) -> 12
B24: 2.3.4 | C24: 8.4.2.2 d | D24: Living accommodation. | E24: Month | F24: =IF($F$13="","",IF(E24="","",$F$13)) -> 12
B25: 2.3.5 | C25: 8.4.2.2 e | D25: Ablution and latrine facilities. | E25: Month | F25: =IF($F$13="","",IF(E25="","",$F$13)) -> 12
B26: 2.3.6 | C26: 8.4.2.2 f | D26: Tools and equipment. | E26: Month | F26: =IF($F$13="","",IF(E26="","",$F$13)) -> 12
B27: 2.3.7 | C27: 8.4.2.2 g | D27: Water supplies, electric power and communications. | E27: Month | F27: =IF($F$13="","",IF(E27="","",$F$13)) -> 12
B28: 2.3.8 | C28: 8.4.2.2 h | D28: Dealing with water. | E28: Month | F28: =IF($F$13="","",IF(E28="","",$F$13)) -> 12
B29: 2.3.9 | C29: 8.4.2.2 i | D29: Access. | E29: Month | F29: =IF($F$13="","",IF(E29="","",$F$13)) -> 12
B30: 2.3.10 | C30: 8.4.2.2 j | D30: Plant. | E30: Month | F30: =IF($F$13="","",IF(E30="","",$F$13)) -> 12
F31: =IF($F$13="","",IF(E31="","",$F$13))
B32: 2.4 | C32: 8.4.3 | D32: Supervision for Duration of the Contract: | E32: Month | F32: =IF($F$13="","",IF(E32="","",$F$13)) -> 12
F33: =IF($F$13="","",IF(E33="","",$F$13))
B34: 2.5 | C34: 8.4.4 | D34: Overhead Costs for the Duration of the Contract: | E34: Month | F34: =IF($F$13="","",IF(E34="","",$F$13)) -> 12
F35: =IF($F$13="","",IF(E35="","",$F$13))
B36: 2.6 | C36: 8.4.5 | D36: Other Time Related Obligations: | E36: Month | F36: =IF($F$13="","",IF(E36="","",$F$13)) -> 12
F37: =IF($F$13="","",IF(E37="","",$F$13))
B38: 2.7 | C38: PSA 14.3 b | D38: Environmental Management: | E38: Month | F38: =IF($F$13="","",IF(E38="","",$F$13)) -> 12
F39: =IF($F$13="","",IF(E39="","",$F$13))
B40: 2.8 | C40: PSA 14.4 a | D40: Construction Management Administration: | E40: Month | F40: =IF($F$13="","",IF(E40="","",$F$13)) -> 12
F41: =IF($F$13="","",IF(E41="","",$F$13))
B42: TOTAL SCHEDULE A - SECTION 2 CARRIED TO SUMMARY: | H42: =SUM(H13:H40) -> 0
...

Sheet Prov Sums
H1: ='Fixed P&Gs'!H1 -> ORB.NAIL.2021
B2: ='Fixed P&Gs'!B2 -> CAPRICORN DISTRICT MUNICIPALITY - LIMPOPO PROVINCE
B3: ='Fixed P&Gs'!B3 -> SCHEDULE OF QUANTITIES:
B4: ='Fixed P&Gs'!B4 -> NAILANA VILLAGE WATER SUPPLY | F4: ='Fixed P&Gs'!F4:H4 -> CONTRACT No:INF-W06/2022/2023
B5: SCHEDULE A: PRELIMINARY AND GENERAL OBLIGATIONS
B6: SECTION 3: PRELIMINARY AND GENERAL - PROVISIONAL SUMS
B8: ITEM NUMBER | C8: PAYMENT CLAUSE | D8: DESCRIPTION | E8: UNIT | F8: QUANTITY | G8: RATE | H8: AMOUNT
B9: A.3 | D9: PROVISIONAL SUMS:
D10: (As specified in SABS 1200 A and the Project Specifications.)
B12: 3.1 | C12: 8.5 b | D12: Community Liaison Officer:
B13: 3.1.1 | C13: PSA 14.5 a | D13: Provision for the employment of CLO. | E13: Prov. Sum | F13: ='Time Related'!F13 -> 12 | G13: 7000 | H13: =IF(G13="",IF(F13="","","Rate Only"),F13*G13) -> 84000
B14: 3.1.2 | C14: PSA 14.5 b | D14: Overheads, charges and profit on item 3.1.1. | E14: % | F14: =H13 -> 84000
B16: 3.2 | C16: 8.5 b | D16: PSC Attendance at Site Meeting:
B17: 3.2.1 | C17: PSA 14.5 c | D17: Provision for the attendance of PSC members. | E17: Prov. Sum | F17: 1 | G17: =400*5*6*2 -> 24000 | H17: =IF(G17="",IF(F17="","","Rate Only"),F17*G17) -> 24000
B18: 3.2.2 | C18: PSA 14.5 d | D18: Overheads, charges and profit on item 3.2.1. | E18: % | F18: =H17 -> 24000
B20: 3.3 | C20: 8.5 b | D20: Basic Skills and Construction Training:
B21: 3.3.1 | C21: PSA 14.5 e | D21: Provision for basic skills and construction site safety training. | E21: Prov. Sum | F21: 1 | G21: 120000 | H21: =IF(G21="",IF(F21="","","Rate Only"),F21*G21) -> 120000
B22: 3.3.2 | C22: PSA 14.5 f | D22: Overheads, charges and profit on item 3.3.1. | E22: % | F22: =H21 -> 120000
B24: 3.4 | C24: 8.5 b | D24: Relocation/Protection of Existing Services:
B25: 3.4.1 | C25: PSA 14.5 g | D25: Provision for relocation/protection of existing services. | E25: Prov. Sum | F25: 1 | G25: 15000 | H25: =IF(G25="",IF(F25="","","Rate Only"),F25*G25) -> 15000
B26: 3.4.2 | C26: PSA 14.5 h | D26: Overheads, charges and profit on item 3.4.1. | E26: % | F26: =H25 -> 15000
B28: 3.5 | C28: 8.5 b | D28: Additional Tests required by Engineer:
B29: 3.5.1 | C29: PSA 14.5 i | D29: Provision for additional tests. | E29: Prov. Sum | F29: 1 | G29: 25000 | H29: =IF(G29="",IF(F29="","","Rate Only"),F29*G29) -> 25000
B30: 3.5.2 | C30: PSA 14.5 j | D30: Overheads, charges and profit on item 3.5.1. | E30: % | F30: =H29 -> 25000
H31: =IF(G31="","",G31*F31)
B32: 3.6 | C32: 8.5 b | D32: Occupational Health and Safety Audits:
B33: 3.6.1 | C33: PSA 14.5 k | D33: Provision for Occupational Health and Safety audits on site. | E33: Prov. Sum | F33: 1 | G33: =15000*6 -> 90000 | H33: =IF(G33="",IF(F33="","","Rate Only"),F33*G33) -> 90000
B34: 3.6.2 | C34: PSA 14.5 l | D34: Overheads, charges and profit on item 3.6.1. | E34: % | F34: =H33 -> 90000
H35: =IF(F35="",IF(G35="","","Rate Only"),F35*G35)
B36: 3.6 | C36: 8.5 b | D36: Socail Facilitation
B37: 3.6.1 | C37: PSA 14.5 k | D37: Provision for Social Facilitation by a Client Appointed Service Provider . | E37: Prov. Sum | F37: 1 | G37: =25000*6 -> 150000 | H37: =IF(G37="",IF(F37="","","Rate Only"),F37*G37) -> 150000
B38: 3.6.2 | C38: PSA 14.5 l | D38: Overheads, charges and profit on item 3.6.1. | E38: % | F38: =H37 -> 150000
B40: TOTAL SCHEDULE A - SECTION 3 CARRIED TO SUMMARY:
B42: ='Fixed P&Gs'!$B$44:$G$44 -> NAILANA WS BoQ

Sheet PC Items
H1: ='Fixed P&Gs'!H1 -> ORB.NAIL.2021
B2: ='Fixed P&Gs'!B2 -> CAPRICORN DISTRICT MUNICIPALITY - LIMPOPO PROVINCE
B3: ='Fixed P&Gs'!B3 -> SCHEDULE OF QUANTITIES:
B4: ='Fixed P&Gs'!B4 -> NAILANA VILLAGE WATER SUPPLY | F4: ='Fixed P&Gs'!F4:H4 -> CONTRACT No:INF-W06/2022/2023
B5: SCHEDULE A: PRELIMINARY AND GENERAL OBLIGATIONS
B6: SECTION 4: PRELIMINARY AND GENERAL - PRIME COST SUMS
B8: ITEM NUMBER | C8: PAYMENT CLAUSE | D8: DESCRIPTION | E8: UNIT | F8: QUANTITY | G8: RATE | H8: AMOUNT
B9: A.4 | D9: PRIME COST ITEMS:
D10: (As specified in SABS 1200 A and the Project Specifications.)
B12: 4.1 | C12: 8.6 | D12: Pipe Specials:
B13: 4.1.1 | C13: PSA 14.6 k | D13: Provision of pipe specials, valves and fittings for reservoir connections. | E13: PC Sum | F13: 1 | G13: 75000 | H13: =IF(G13="",IF(F13="","","Rate Only"),F13*G13) -> 75000
B14: 4.1.2 | C14: PSA 14.6 l | D14: Overheads, charges and profit on item 4.1.1. | E14: % | F14: =H13 -> 75000
H23: =IF(G23="","",G23*F23)
H25: =IF(G25="","",G25*F25)
B27: TOTAL SCHEDULE A - SECTION 4 CARRIED TO SUMMARY:
B29: ='Fixed P&Gs'!$B$44:$G$44 -> NAILANA WS BoQ

Sheet Dayworks
B2: ='Fixed P&Gs'!B2 -> CAPRICORN DISTRICT MUNICIPALITY - LIMPOPO PROVINCE | H2: ='Fixed P&Gs'!H1 -> ORB.NAIL.2021
B3: ='Fixed P&Gs'!B3 -> SCHEDULE OF QUANTITIES:
B4: ='Fixed P&Gs'!B4 -> NAILANA VILLAGE WATER SUPPLY | F4: ='Fixed P&Gs'!F4:H4 -> CONTRACT No:INF-W06/2022/2023
B5: SCHEDULE A: PRELIMINARY AND GENERAL OBLIGATIONS
B6: SECTION 5: PRELIMINARY AND GENERAL - DAYWORKS
B8: ITEM NUMBER | C8: PAYMENT CLAUSE | D8: DESCRIPTION | E8: UNIT | F8: QUANTITY | G8: RATE | H8: AMOUNT
B9: A.5 | D9: DAYWORK: | H9: =IF(F9="",IF(E9="","","Rate Only"),"")
D10: (As specified in SABS 1200 A and the Project Specifications.) | H10: =IF(F10="",IF(E10="","","Rate Only"),"")
H11: =IF(F11="",IF(E11="","","Rate Only"),"")
B12: 5.1 | C12: 8.7 | D12: Labour - Normal Working Hours: [Provisional] | H12: =IF(F12="",IF(E12="","","Rate Only"),"")
B13: 5.1.1 | D13: Skilled Labour (Artisan). | E13: hr | H13: =IF(F13="",IF(E13="","","Rate Only"),"") -> Rate Only
B14: 5.1.2 | D14: Semi-skilled Labour. | E14: hr | H14: =IF(F14="",IF(E14="","","Rate Only"),"") -> Rate Only
B15: 5.1.3 | D15: Unskilled Labour. | E15: hr | H15: =IF(F15="",IF(E15="","","Rate Only"),"") -> Rate Only
B16: 5.1.4 | D16: Foreman. | E16: hr | H16: =IF(F16="",IF(E16="","","Rate Only"),"") -> Rate Only
B17: 5.1.5 | D17: Extra-over rate for items 5.1.1 to 5.1.4 for work during non working hours. | E17: % | H17: =IF(F17="",IF(E17="","","Rate Only"),"") -> Rate Only
H18: =IF(F18="",IF(E18="","","Rate Only"),"")
B19: 5.2 | C19: 8.7 | D19: Materials: [Provisional] | H19: =IF(F19="",IF(E19="","","Rate Only"),"")
B20: 5.2.1 | D20: Allowance for Materials used under Dayworks. | E20: Sum | F20: 1 | G20: 35000 | H20: =IF(G20="",IF(F20="","","Rate Only"),F20*G20) -> 35000
B21: 5.2.2 | D21: Overheads, Handling and all Charges on Item 5.2.1. | E21: % | F21: =H20 -> 35000
H22: =IF(F22="",IF(E22="","","Rate Only"),"")
B23: 5.3 | C23: 8.7 | D23: Plant - Heavy Equipment: [Provisional] | H23: =IF(F23="",IF(E23="","","Rate Only"),"")
D24: (Plant shall not be more than 3 years old or have more than 3000 hrs logged. Operator to be qualified and competency certified.) | H24: =IF(F24="",IF(E24="","","Rate Only"),"")
B25: 5.3.1 | D25: Excavator - Size Cat 225. | E25: hr | H25: =IF(F25="",IF(E25="","","Rate Only"),"") -> Rate Only
B26: 5.3.2 | D26: Excavator - TLB. | E26: hr | H26: =IF(F26="",IF(E26="","","Rate Only"),"") -> Rate Only
B27: 5.3.3 | D27: Grader 140G or similar. | E27: hr | H27: =IF(F27="",IF(E27="","","Rate Only"),"") -> Rate Only
B28: 5.3.4 | D28: Front end loader - bucket capacity ≤ 1.5 m3. | E28: hr | H28: =IF(F28="",IF(E28="","","Rate Only"),"") -> Rate Only
B29: 5.3.5 | D29: Front end loader - bucket capacity >1.5 m3. | E29: hr | H29: =IF(F29="",IF(E29="","","Rate Only"),"") -> Rate Only
B30: 5.3.6 | D30: Tip truck - 5 m3 capacity. | E30: hr | H30: =IF(F30="",IF(E30="","","Rate Only"),"") -> Rate Only
B31: 5.3.7 | D31: Tip truck - 10 m3 capacity. | E31: hr | H31: =IF(F31="",IF(E31="","","Rate Only"),"") -> Rate Only
B32: 5.3.8 | D32: Vibratory compaction roller - 13.5 ton. | E32: hr | H32: =IF(F32="",IF(E32="","","Rate Only"),"") -> Rate Only
B33: 5.3.9 | D33: Transport cost per any unit of plant to deliver to site and remove from site for items 5.3.1 to 5.3.8 | E33: Sum | H33: =IF(F33="",IF(E33="","","Rate Only"),"") -> Rate Only
H34: =IF(F34="",IF(E34="","","Rate Only"),"")
B35: 5.4 | C35: 8.7 | D35: Plant - Small Equipment: [Provisional] | H35: =IF(F35="",IF(E35="","","Rate Only"),"")
B36: 5.4.1 | D36: Pedestrian roller - BW90 or similar. | E36: hr | H36: =IF(F36="",IF(E36="","","Rate Only"),"") -> Rate Only
B37: 5.4.2 | D37: Vibratory plate compactor. | E37: hr | H37: =IF(F37="",IF(E37="","","Rate Only"),"") -> Rate Only
B38: 5.4.3 | D38: Vibratory rammer. | E38: hr | H38: =IF(F38="",IF(E38="","","Rate Only"),"") -> Rate Only
B39: 5.4.4 | D39: Transport cost per any unit of plant to deliver to site and remove from site for items 5.4.1 to 5.4.3. | E39: Sum | H39: =IF(F39="",IF(E39="","","Rate Only"),"") -> Rate Only
H40: =IF(F40="",IF(E40="","","Rate Only"),"")
H41: =IF(F41="",IF(E41="","","Rate Only"),"")
B42: TOTAL SCHEDULE A - SECTION 5 CARRIED TO SUMMARY:
...

Sheet Temp Works
B2: ='Fixed P&Gs'!B2 -> CAPRICORN DISTRICT MUNICIPALITY - LIMPOPO PROVINCE | I2: ='Fixed P&Gs'!H1 -> ORB.NAIL.2021
B3: ='Fixed P&Gs'!B3 -> SCHEDULE OF QUANTITIES:
B4: ='Fixed P&Gs'!B4 -> NAILANA VILLAGE WATER SUPPLY | G4: =Dayworks!F4 -> CONTRACT No:INF-W06/2022/2023
B5: SCHEDULE A: PRELIMINARY AND GENERAL OBLIGATIONS
B6: SECTION 6: PRELIMINARY AND GENERAL - TEMPORARY WORKS
B8: ITEM NUMBER | C8: LI | D8: PAYMENT CLAUSE | E8: DESCRIPTION | F8: UNIT | G8: QUANTITY | H8: RATE | I8: AMOUNT
B9: A.6 | E9: TEMPORARY WORKS: | I9: =IF(G9="",IF(F9="","","Rate Only"),"")
E10: (As specified in SABS 1200 A and the Project Specifications.) | I10: =IF(G10="",IF(F10="","","Rate Only"),"")
I11: =IF(G11="",IF(F11="","","Rate Only"),"")
B12: 6.1 | D12: 8.8 | E12: Access Roads to the Works. | I12: =IF(G12="",IF(F12="","","Rate Only"),"")
B13: 6.1.1 | D13: PSA 14.7 a | E13: Provision and maintenance of construction access to sites, camp or pipeline routes as required by the contractor. | F13: Sum | G13: 1 | I13: =H13*G13 -> 0
B15: 6.2 | D15: 8.8 | E15: Safety Measures at Excavations:
B16: 6.2.1 | D16: PSA 14.7 b | E16: Provision of all safety measures required to fully protect all excavations against public access, injury or any other possible accident. | F16: Sum | G16: 1 | I16: =H16*G16 -> 0
I17: =IF(G17="",IF(F17="","","Rate Only"),"")
I18: =IF(G18="",IF(F18="","","Rate Only"),"")
I19: =IF(G19="",IF(F19="","","Rate Only"),"")
I20: =IF(G20="",IF(F20="","","Rate Only"),"")
I21: =IF(G21="",IF(F21="","","Rate Only"),"")
I22: =IF(G22="",IF(F22="","","Rate Only"),"")
I23: =IF(G23="",IF(F23="","","Rate Only"),"")
B24: TOTAL SCHEDULE A - SECTION 6 CARRIED TO SUMMARY: | I24: =SUM(I10:I23) -> 0
B26: ='Fixed P&Gs'!$B$44:$G$44 -> NAILANA WS BoQ

Sheet Earthworks_Trench
B2: ='Fixed P&Gs'!B2 -> CAPRICORN DISTRICT MUNICIPALITY - LIMPOPO PROVINCE | I2: ='Fixed P&Gs'!H1 -> ORB.NAIL.2021
B3: ='Fixed P&Gs'!B3 -> SCHEDULE OF QUANTITIES:
B4: ='Fixed P&Gs'!B4 -> NAILANA VILLAGE WATER SUPPLY | G4: ='Fixed P&Gs'!F4 -> CONTRACT No:INF-W06/2022/2023
B5: SCHEDULE B: BULK SUPPLY AND NETWORK DISTRIBUTION WORKS
B6: SECTION 1: EARTHWORKS FOR PIPE TRENCHES
B8: ITEM NUMBER | C8: LI | D8: PAYMENT CLAUSE | E8: DESCRIPTION | F8: UNIT | G8: QUANTITY | H8: RATE | I8: AMOUNT
B9: B.1 | E9: EARTHWORKS:
E10: (As specified in SABS 1200 DB and the Project Specifications.)
B12: 1.1 | E12: Site Clearance:
B13: 1.1.1 | D13: 8.3.1 a | E13: Clear vegetation, 800 mm wide. (Provisional) | F13: m | G13: =SUM(Pipelines1!G14:G18) -> 29200
B14: 1.1.2 | D14: 8.3.1 b | E14: Clear trees of girth over 1.0 m. | F14: No. | G14: =ROUND(G13/2500,0) -> 12
B15: 1.1.3 | D15: 8.3.1 c | E15: Remove 150 mm topsoil, 800 mm wide. | F15: m2 | G15: =G13*0.8*0.15 -> 3504
B16: 1.1.4 | C16: LI | E16: Demolish existing concrete. | F16: m3 | G16: =ROUND(G13/5000,0) -> 6
B18: 1.2 | D18: PSDB 1.1 | E18: Excavation using Plant:
B19: 1.2.1 | E19: Excavate in all materials for trench depths up to 1000 mm, 800 mm wide. | F19: m | G19: =G13 -> 29200
B20: 1.2.2 | E20: Excavate in all materials for trench depths exceeding 1000 mm up to 1500 mm, 800 mm wide. | F20: m | G20: =G19*0.05 -> 1460
B21: 1.2.3 | E21: Extra-over items 1.2.1 and 1.2.2 for excavation in intermediate material. | F21: m3 | G21: =G19*0.025 -> 730
B22: 1.2.4 | E22: Extra-over items 1.2.1 and 1.2.2 for excavation in hard material. (Provisional) | F22: m3 | G22: =G19*0.8*0.25 -> 5840
B23: 1.2.5 | E23: Excavate and dispose of unsuitable material from trench bottom. | F23: m3 | G23: =G19*0.15*0.8*0.5 -> 1752
B24: 1.2.6 | E24: Spoil unsuitable backfill material. | F24: m3 | G24: =G19*0.15*0.8*0.1 -> 350.4
B26: 1.3 | C26: LI | D26: PSDB 1.1 | E26: Excavation using Labour Intensive Methods:
B27: 1.3.1 | C27: LI | E27: Extra-over Item 1.2.1 for excavation in soft material using labour intensive methods. | F27: m | G27: =G19 -> 29200
B28: 1.3.2 | C28: LI | E28: Extra-over Item 1.2.2 for excavation in soft material using labour intensive methods. | F28: m | G28: =G20 -> 1460
B29: 1.3.4 | C29: LI | E29: Extra-over Item 1.2.3 for excavation in intermediate material using labour intensive methods. | F29: m3 | G29: =G21 -> 730
B30: 1.3.5 | C30: LI | E30: Extra-over Item 1.2.5 for excavate and dispose of unsuitable materisl using labour intensive methods. | F30: m3 | G30: =G23 -> 1752
B32: SUB-TOTAL SCHEDULE B - SECTION 1 CARRIED FORWARD:
B34: ='Fixed P&Gs'!$B$44:$G$44 -> NAILANA WS BoQ

Sheet Earthworks_Trench2
B2: ='Fixed P&Gs'!B2 -> CAPRICORN DISTRICT MUNICIPALITY - LIMPOPO PROVINCE | I2: ='Fixed P&Gs'!H1 -> ORB.NAIL.2021
B3: ='Fixed P&Gs'!B3 -> SCHEDULE OF QUANTITIES:
B4: ='Fixed P&Gs'!B4 -> NAILANA VILLAGE WATER SUPPLY | G4: ='Fixed P&Gs'!F4 -> CONTRACT No:INF-W06/2022/2023
B5: SCHEDULE B: BULK SUPPLY AND NETWORK DISTRIBUTION WORKS
B6: SECTION 1: EARTHWORKS FOR PIPE TRENCHES
B8: ITEM NUMBER | C8: LI | D8: PAYMENT CLAUSE | E8: DESCRIPTION | F8: UNIT | G8: QUANTITY | H8: RATE | I8: AMOUNT
B9: SUB-TOTAL SCHEDULE B - SECTION 1 BROUGHT FORWARD: | I9: =Earthworks_Trench!I32 -> 0
B10: B.1 | E10: EARTHWORKS: (Continues)
E11: (As specified in SABS 1200 DB and the Project Specifications.)
B13: 1.4 | D13: PSDB 1.2 | E13: Backfill and Compaction:
B14: 1.4.1 | C14: LI | E14: Backfill and compact trenches using labour intensive methods. | F14: m3 | G14: =Earthworks_Trench!G13*0.8*0.85*1.05 -> 20848.8
B15: 1.4.2 | C15: LI | E15: Backfill road crosings using a commercial type G4 material compacted to 98% Mod. AASHTO density. | F15: m3 | G15: =Earthworks_Trench!G13*0.8*0.3*0.05 -> 350.4
B17: 1.5 | E17: Excavation Ancillaries;
B18: 1.5.1 | D18: 8.3.3.1 a | E18: Make up deficiency in backfill material from other excavations. | F18: m3 | G18: =G14*0.045*1.05 -> 985.1058
B19: 1.5.2 | D19: 8.3.3.1 b | E19: Make up deficiency in backfill material from borrow pits. Free-haul is 5.0 km. | F19: m3 | G19: =G14*0.025*1.05 -> 547.281
B20: 1.5.4 | D20: 8.3.3.2 | E20: Opening and closing designated borrow pits. | F20: Sum | G20: 1 | I20: =H20*G20 -> 0
B21: 1.5.5 | D21: 8.3.3.3 | E21: Compaction within road reserve to 90 % of Modified AASHTO density clause 5.7.1. | F21: m3 | G21: =G15 -> 350.4
B22: 1.5.6 | D22: 8.3.3.3 | E22: Compaction within road reserve to 98 % of Modified AASHTO density, as per clause 5.7.2. | F22: m3 | G22: =G21*0.6 -> 210.24
B24: 1.6 | E24: Overhaul:
B25: 1.6.1 | D25: 8.3.3.4 | E25: Overhaul in excess of the free-haul of 5.0 km. | F25: m3-km | G25: =ROUND(G19,0) -> 547
B27: 1.7 | E27: Existing Services:
B28: 1.7.1 | C28: LI | D28: 8.3.5 a | E28: Services that intersect a trench. | F28: No. | G28: =ROUND(Earthworks_Trench!G13/2500,0) -> 12
B30: 1.8 | E30: Finishing: | I30: =IF(G30="",IF(F30="","","Rate Only"),"")
B31: 1.8.1 | D31: 8.3.6.1 c | E31: Reinstate road surfaces using 40 mm asphalt. | F31: m2 | I31: =IF(G31="",IF(F31="","","Rate Only"),"") -> Rate Only
B32: 1.8.2 | C32: LI | E32: Topsoil trenches. (Provisional) | F32: m2 | G32: =Earthworks_Trench!G13*0.8*0.15*1.05 -> 3679.2
B34: TOTAL SCHEDULE B - SECTION 1 CARRIED TO SUMMARY: | I34: =SUM(I9:I32) -> 0
B36: ='Fixed P&Gs'!$B$44:$G$44 -> NAILANA WS BoQ

Sheet Bedding
B2: ='Fixed P&Gs'!B2 -> CAPRICORN DISTRICT MUNICIPALITY - LIMPOPO PROVINCE | I2: ='Fixed P&Gs'!H1 -> ORB.NAIL.2021
B3: ='Fixed P&Gs'!B3 -> SCHEDULE OF QUANTITIES:
B4: ='Fixed P&Gs'!B4 -> NAILANA VILLAGE WATER SUPPLY | G4: ='Fixed P&Gs'!F4 -> CONTRACT No:INF-W06/2022/2023
B5: SCHEDULE B: BULK SUPPLY AND NETWORK DISTRIBUTION WORKS
B6: SECTION 2: PIPE BEDDING
B8: ITEM NUMBER | C8: LI | D8: PAYMENT CLAUSE | E8: DESCRIPTION | F8: UNIT | G8: QUANTITY | H8: RATE | I8: AMOUNT
B9: B.2 | E9: BEDDING:
E10: (As specified in SABS 1200 LB and the Project Specifications.)
B12: 2.1 | D12: 8.2.1 | E12: Bedding from Trench Excavations:
E13: (Bedding to be Class C for flexible pipes as indicated in the contract drawings)
B14: 2.1.1 | C14: LI | E14: Provision of bedding from pipe trench excavation within 1.0 km, using selected granular material. | F14: m3 | G14: =Earthworks_Trench!G19*0.8*0.3 -> 7008
B15: 2.1.2 | C15: LI | E15: Provision of bedding from pipe trench excavation within 1.0 km, using selected fill material. | F15: m3 | G15: =G14*0.35 -> 2452.8
B17: 2.2 | D17: 8.2.2 | E17: Imported Bedding Material:
E18: (Bedding to be Class C for flexible pipes as indicated in the contract drawings)
B19: 2.2.1 | E19: Provision of bedding imported from designated borrow pit using selected granular material. | F19: m3 | G19: =ROUND(G14*0.25,0) -> 1752
B20: 2.2.2 | E20: Provision of bedding imported from designated borrow pit using selected fill material. | F20: m3 | G20: =ROUND(G15*0.25,0) -> 613
B26: TOTAL SCHEDULE B - SECTION 2 CARRIED TO SUMMARY:
B28: ='Fixed P&Gs'!$B$44:$G$44 -> NAILANA WS BoQ

Sheet Pipelines1
B2: ='Fixed P&Gs'!B2 -> CAPRICORN DISTRICT MUNICIPALITY - LIMPOPO PROVINCE | I2: ='Fixed P&Gs'!H1 -> ORB.NAIL.2021
B3: ='Fixed P&Gs'!B3 -> SCHEDULE OF QUANTITIES:
B4: ='Fixed P&Gs'!B4 -> NAILANA VILLAGE WATER SUPPLY | G4: ='Fixed P&Gs'!F4 -> CONTRACT No:INF-W06/2022/2023
B5: SCHEDULE B: BULK SUPPLY AND NETWORK DISTRIBUTION WORKS
B6: SECTION 3: MEDIUM PRESSURE PIPELINES AND ANCILLARIES
B8: ITEM NUMBER | C8: LI | D8: PAYMENT CLAUSE | E8: DESCRIPTION | F8: UNIT | G8: QUANTITY | H8: RATE | I8: AMOUNT
B9: B.3 | E9: MEDIUM PRESSURE PIPES:
E10: (As specified in SABS 1200 L, SABS 1200 GA and the Project Specifications.)
B12: 3.1 | C12: LI | D12: 8.2.1 | E12: Supply, Lay and Bed uPVC Pipes Complete:
E13: (The rates shall include disinfecting of pipes after completion of hydraulic pipe test.)
B14: 3.1.1 | C14: LI | E14: 75 mm uPVC medium pressure pipes - Class 9. | F14: m | G14: 20500
B15: 3.1.2 | C15: LI | E15: 75 mm uPVC medium pressure pipes - Class 12. | F15: m | G15: 5500
B16: 3.1.3 | C16: LI | E16: 25 mm HDPE PN 20 | F16: m | G16: 3200
B17: 3.1.4 | E17: 110 mm uPVC medium pressure pipes - Class 16. | F17: m
B18: 3.1.5 | E18: 160 mm uPVC medium pressure pipes - Class 12. | F18: m
B20: 3.2 | D20: 8.2.2 | E20: Fittings and Specials - uPVC Lyng Bends:
E21: (Extra-over rate to Items 3.1)
B22: 3.2.1 | C22: LI | E22: 75 mm Upvc class 16:
B23: 3.2.1.1 | C23: LI | E23: uPVC bends less than 25 degree angle. | F23: No. | G23: 98
B24: 3.2.1.2 | C24: LI | E24: uPVC bends with 45 degree angle. | F24: No. | G24: 45
B25: 3.2.1.3 | C25: LI | E25: uPVC bends with 90 degree angle. | F25: No. | G25: 55
B26: 3.2.2 | C26: LI | E26: 160 mm uPVC class 16:
B27: 3.2.2.1 | C27: LI | E27: uPVC bends less than 25 degree angle. | F27: No. | G27: 0
B28: 3.2.2.2 | C28: LI | E28: uPVC bends with 45 degree angle. | F28: No. | G28: 0
B29: 3.2.2.3 | C29: LI | E29: uPVC bends with 90 degree angle. | F29: No. | G29: 0
B30: 3.2.3 | C30: LI | E30: 200 mm uPVC class 16:
B31: 3.2.3.1 | C31: LI | E31: uPVC bends less than 25 degree angle. | F31: No. | G31: 0
B32: 3.2.3.2 | C32: LI | E32: uPVC bends with 45 degree angle. | F32: No. | G32: 0
B33: 3.2.3.3 | C33: LI | E33: uPVC bends with 90 degree angle. | F33: No. | G33: 0
B35: 3.3 | C35: LI | D35: 8.2.2 | E35: Specials and Fittings - Cast Iron Equal Tees:
C36: LI | E36: (Bitumen dipped and LYNG sockets on all sides all to SABS 546 and SABS 966.)
B37: 3.3.1 | C37: LI | E37: 75 mm dia. | F37: No. | G37: 25
B38: 3.3.2 | C38: LI | E38: 160 mm dia. | F38: No. | G38: 0
B39: 3.3.3 | C39: LI | E39: 200 mm dia | F39: No. | G39: 0
B40: SUB-TOTAL SCHEDULE B - SECTION 3 CARRIED FORWARD:
B42: ='Fixed P&Gs'!$B$44:$G$44 -> NAILANA WS BoQ
I44: =IF(G44="",IF(F44="","","Rate Only"),"")

Sheet Pipelines2
B2: ='Fixed P&Gs'!B2 -> CAPRICORN DISTRICT MUNICIPALITY - LIMPOPO PROVINCE | I2: ='Fixed P&Gs'!H1 -> ORB.NAIL.2021
B3: ='Fixed P&Gs'!B3 -> SCHEDULE OF QUANTITIES:
B4: ='Fixed P&Gs'!B4 -> NAILANA VILLAGE WATER SUPPLY | G4: ='Fixed P&Gs'!F4 -> CONTRACT No:INF-W06/2022/2023
B5: SCHEDULE B: BULK SUPPLY AND NETWORK DISTRIBUTION WORKS
B6: SECTION 3: MEDIUM PRESSURE PIPELINES AND ANCILLARIES
B8: ITEM NUMBER | C8: LI | D8: PAYMENT CLAUSE | E8: DESCRIPTION | F8: UNIT | G8: QUANTITY | H8: RATE | I8: AMOUNT
B9: SUB-TOTAL SCHEDULE B - SECTION 3 BROUGHT FORWARD: | I9: =Pipelines1!I40 -> 0
B10: B.3 | E10: MEDIUM PRESSURE PIPES:
E11: (As specified in SABS 1200 L, SABS 1200 GA and the Project Specifications.)
B13: 3.4 | C13: LI | D13: 8.2.2 | E13: Specials and Fittings - Hydrant Tees:
E14: (Cast iron hydrant tees, Bitumen dipped and LYNG sockets to SABS 546 and SABS 966 with flanged branch, 80 mm dia, drilled to SABS 1123, Table 16.)
B15: 3.4.1 | C15: LI | E15: 75 mm dia. | F15: No. | G15: 5
B16: 3.4.2 | C16: LI | E16: 160 mm dia. | F16: No. | G16: 0
B17: 3.4.3 | C17: LI | E17: 200 mm dia. | F17: No. | G17: 0
B19: 3.5 | C19: LI | D19: 8.2.2 | E19: Specials and Fittings - Cast Iron Scour Tees:
E20: (Cast iron scour tee, Bitumen dipped and LYNG sockets to SABS 546 and SABS 966 with flanged branch, 100 mm dia, drilled to SABS 1123, Table 16.)
B21: 3.5.1 | C21: LI | E21: 75 mm dia. | F21: No. | G21: 5
B22: 3.5.2 | C22: LI | E22: 160 mm dia. | F22: No. | G22: 0
B23: 3.5.3 | C23: LI | E23: 200 mm dia. | F23: No. | G23: 0
B25: 3.6 | C25: LI | D25: 8.2.2 | E25: Specials and Fittings - Cast Iron End Caps:
B26: 3.6.1 | C26: LI | E26: 75 mm dia. | F26: No. | G26: 20
B27: 3.6.2 | C27: LI | E27: 160 mm dia. | F27: No. | G27: 0
B29: 3.7 | C29: LI | D29: 8.2.2 | E29: Specials and Fittings - Cast Iron Reducers:
E30: (Bitumen dipped, spigot and socket and socketed cast iron reducers all to SABS 546 and SABS 966.)
B31: 3.7.1 | E31: 75 mm x 160 mm dia. [S] | F31: No. | G31: 0
B32: 3.7.2 | E32: 75 mm x 200 mm dia. [S] | F32: No. | G32: 0
B33: 3.7.3 | E33: 160 mm x 200 mm dia. [S] | F33: No. | G33: 0
B35: 3.8 | C35: LI | D35: 8.2.2 | E35: Specials and Fittings - Flang Adaptors:
E36: (Bitumen dipped and LYNG sockets to SABS 546 and SABS 966 with flange drilled to SABS 1123, Table 16.)
B37: 3.8.1 | C37: LI | E37: 75 mm dia. | F37: No. | G37: 15
B38: 3.8.2 | C38: LI | E38: 160 mm dia. | F38: No. | G38: 0
B39: 3.8.3 | C39: LI | E39: 91 mm dia. | F39: No.
B40: 3.8.4 | C40: LI | E40: 200 mm dia. | F40: No. | G40: 0
B42: SUB-TOTAL SCHEDULE B - SECTION 3 CARRIED FORWARD:
B44: ='Fixed P&Gs'!$B$44:$G$44 -> NAILANA WS BoQ

Sheet Pipelines3
B2: ='Fixed P&Gs'!B2 -> CAPRICORN DISTRICT MUNICIPALITY - LIMPOPO PROVINCE | I2: ='Fixed P&Gs'!H1 -> ORB.NAIL.2021
B3: ='Fixed P&Gs'!B3 -> SCHEDULE OF QUANTITIES:
B4: ='Fixed P&Gs'!B4 -> NAILANA VILLAGE WATER SUPPLY | G4: ='Fixed P&Gs'!F4 -> CONTRACT No:INF-W06/2022/2023
B5: SCHEDULE B: BULK SUPPLY AND NETWORK DISTRIBUTION WORKS
B6: SECTION 3: MEDIUM PRESSURE PIPELINES AND ANCILLARIES
B8: ITEM NUMBER | C8: LI | D8: PAYMENT CLAUSE | E8: DESCRIPTION | F8: UNIT | G8: QUANTITY | H8: RATE | I8: AMOUNT
B9: SUB-TOTAL SCHEDULE B - SECTION 3 BROUGHT FORWARD:
B10: B.3 | E10: MEDIUM PRESSURE PIPES:
E11: (As specified in SABS 1200 L, SABS 1200 GA and the Project Specifications.)
B13: 3.9 | C13: LI | D13: 8.2.2 | E13: Specials and Fittings - Saddles:
E14: (Cast iron, bitumen dipped saddle to be 25 mm BSP drilling and tapping.)
B15: 3.9.1 | C15: LI | E15: 75 mm dia. | F15: No. | G15: 170
B16: 3.9.2 | C16: LI | E16: 160 mm dia. | F16: No. | G16: 20 | I16: Rate Only
B18: 3.10 | C18: LI | D18: 8.2.3 | E18: Specials and Fittings - Isolating Valves:
E19: (Flanged RSV isolating valves. Valves to be non-rising spindles with cap top.)
B20: 3.10.1 | C20: LI | E20: 80 mm dia. Class 16 | F20: No. | G20: 15
B21: 3.10.2 | C21: LI | E21: 160 mm dia. Class 16 | F21: No. | G21: 0
B22: 3.10.3 | C22: LI | E22: 161 mm dia. Class 16 | F22: No.
B23: 3.10.4 | C23: LI | E23: 200 mm dia. Class 16 | F23: No. | G23: 0
B25: 3.11 | C25: LI | D25: 8.2.3 | E25: Specials and Fittings - Socketed Valves:
E26: (Socket ends RSV isolating valves. Valves to be non-rising spindles with cap top.)
B27: 3.11.1 | C27: LI | E27: 75 mm dia. Class 16 | F27: No. | G27: 15
B28: 3.11.2 | C28: LI | E28: 160 mm dia. Class 16 | F28: No. | G28: 0
B29: 3.11.3 | C29: LI | E29: 200 mm dia. Class 16 | F29: No. | G29: 0
B31: 3.12 | C31: LI | D31: 8.2.3 | E31: Specials and Fittings - Air Valve:
E32: (Vent O' Mat SERIES RBX with screwed BSP male inlet, or similar. Complete with flange, barrel nipple, and 50 mm gate valve)
B33: 3.12.1 | C33: LI | E33: 50 mm Air Valve | F33: No. | G33: 4
B35: 3.13 | C35: LI | D35: 8.2.3 | E35: Specials and Fittings - Bulk Water Meter:
E36: (Kent or similar approved, flanged and drilled to SABS 1123, Table 16)
B37: 3.13.1 | C37: LI | E37: 80 mm dia. In-Line Bulk Water Meter. | F37: No. | G37: 2
B38: 3.13.2 | C38: LI | E38: 150 mm dia. In-Line Bulk Water Meter. | F38: No. | G38: 0
B39: 3.13.3 | C39: LI | E39: 200 mm dia. In-Line Bulk Water Meter. | F39: No. | G39: 0
B41: 3.14 | C41: LI | D41: 8.2.3 | E41: Flow Control Valves
E42: (Bermad or similar approved, flanged and drilled to SABS 1123, Table 16)
B43: 3.14.1 | E43: Provisional Sum for the supply of 150 mm dia. In-Line Flow Control Valves. | F43: No. | G43: 2 | I43: Rate Only
B46: SUB-TOTAL SCHEDULE B - SECTION 3 CARRIED FORWARD:
B48: ='Fixed P&Gs'!$B$44:$G$44 -> NAILANA WS BoQ

Sheet Pipelines4
B2: ='Fixed P&Gs'!B2 -> CAPRICORN DISTRICT MUNICIPALITY - LIMPOPO PROVINCE | I2: ='Fixed P&Gs'!H1 -> ORB.NAIL.2021
B3: ='Fixed P&Gs'!B3 -> SCHEDULE OF QUANTITIES:
B4: ='Fixed P&Gs'!B4 -> NAILANA VILLAGE WATER SUPPLY | G4: ='Fixed P&Gs'!F4 -> CONTRACT No:INF-W06/2022/2023
B5: SCHEDULE B: BULK SUPPLY AND NETWORK DISTRIBUTION WORKS
B6: SECTION 3: MEDIUM PRESSURE PIPELINES AND ANCILLARIES
B8: ITEM NUMBER | C8: LI | D8: PAYMENT CLAUSE | E8: DESCRIPTION | F8: UNIT | G8: QUANTITY | H8: RATE | I8: AMOUNT
B9: SUB-TOTAL SCHEDULE B - SECTION 3 BROUGHT FORWARD: | I9: =Pipelines3!I46 -> 0
B10: B.3 | E10: MEDIUM PRESSURE PIPES:
E11: (As specified in SABS 1200 L, SABS 1200 GA and the Project Specifications.)
B12: 3.14 | C12: LI | D12: 8.2.2 | E12: Specials and Fittings - Stand Pipes
B13: 3.14.1 | C13: LI | E13: Stand pipe fittings complete, excluding saddles, including all labour, plant and incidentals as per DWAF details. | F13: No. | G13: 190
B14: 3.14.2 | C14: LI | E14: Supply and Installation of 15mm Kent Water meter brass type for household connections all complete as per project specifications | F14: No. | G14: =G13 -> 190
B16: 3.15 | C16: LI | D16: 8.2.2 | E16: Pipe Specials - Galvanised:
B17: 3.15.1 | C17: LI | E17: 80 mm dia. x 300 mm long GMS pipe, flanged both ends, drilled to SABS 1123 Table 16. | F17: No. | G17: =Pipelines3!G33 -> 4
B18: 3.15.2 | C18: LI | E18: 150 mm dia air valve chamber vent as per details. | F18: No. | G18: =G17 -> 4
B20: 3.16 | C20: LI | D20: 8.2.13 | E20: Valve Chambers:
B21: 3.16.1 | E21: Valve chamber - 1200 mm x 1400 mm x 1000 mm depth, complete including excavation, materials, plant, labour and incidentals, as per detail drawings. | F21: No. | G21: =Pipelines3!G20+Pipelines3!G21+Pipelines3!G22+Pipelines3!G27+Pipelines3!G28+Pipelines3!G29+Pipelines3!G33+Pipelines3!G37+Pipelines3!G38 -> 36
B22: 3.16.2 | E22: Extra-over Item 3.15.1 for depth increments of 250 mm. | F22: No. | G22: 2
B24: 3.17 | C24: LI | E24: Standpipes:
B25: 3.17.1 | C25: LI | E25: Stand pipe complete, excluding specials and fittings, including all labour, plant, materials and incidentals, as per detail drawings. | F25: No. | G25: =G13 -> 190
B27: 3.18 | D27: 8.2.1 | E27: Hydraulic Pipe Testing:
B28: 3.18.1 | E28: 75 mm dia. Pipes | F28: m | G28: =IF(Pipelines1!G14="","",Pipelines1!G14) -> 20500
B29: 3.18.2 | E29: 160 mm dia. Pipes | F29: m
B30: 3.18.3 | E30: 25 mm HDPE PN 20 | F30: m | G30: =IF(Pipelines1!G16="","",Pipelines1!G16) -> 3200
B31: 3.18.4 | E31: Pipe specials and fittings for testing. | F31: Sum | G31: 1 | I31: =H31*G31 -> 0
B33: 3.19 | C33: LI | D33: 8.2.1 | E33: Disinfecting Pipe Works.
B34: 3.19.1 | E34: 75 mm dia. Pipes | F34: m | G34: =IF(G28="","",G28) -> 20500
B35: 3.19.2 | E35: 160 mm dia. Pipes | F35: m
B36: 3.19.3 | E36: 25 mm dia. Pipes | F36: m | G36: =IF(G30="","",G30) -> 3200
B37: 3.19.4 | E37: 110 mm dia. Pipes | F37: m | G37: =IF(#REF!="","",#REF!) -> #REF! | I37: =IF(G37="",IF(F37="","","Rate Only"),"") -> #REF!
B38: SUB-TOTAL SCHEDULE B - SECTION 3 CARRIED FORWARD: | I38: =SUM(I9:I36) -> 0
B40: ='Fixed P&Gs'!$B$44:$G$44 -> NAILANA WS BoQ

Sheet Pipelines5
B2: ='Fixed P&Gs'!B2 -> CAPRICORN DISTRICT MUNICIPALITY - LIMPOPO PROVINCE | I2: ='Fixed P&Gs'!H1 -> ORB.NAIL.2021
B3: ='Fixed P&Gs'!B3 -> SCHEDULE OF QUANTITIES:
B4: ='Fixed P&Gs'!B4 -> NAILANA VILLAGE WATER SUPPLY | G4: ='Fixed P&Gs'!F4 -> CONTRACT No:INF-W06/2022/2023
B5: SCHEDULE B: BULK SUPPLY AND NETWORK DISTRIBUTION WORKS
B6: SECTION 3: MEDIUM PRESSURE PIPELINES AND ANCILLARIES
B8: ITEM NUMBER | C8: LI | D8: PAYMENT CLAUSE | E8: DESCRIPTION | F8: UNIT | G8: QUANTITY | H8: RATE | I8: AMOUNT
B9: SUB-TOTAL SCHEDULE B - SECTION 3 BROUGHT FORWARD: | I9: =Pipelines4!I38 -> 0
B10: B.3 | E10: MEDIUM PRESSURE PIPES:
E11: (As specified in SABS 1200 L, SABS 1200 GA and the Project Specifications.)
B13: 3.2 | D13: 8.2.11 | E13: Thrust Blocks:
B14: 3.20.1 | C14: LI | E14: Excavation. | F14: m3 | G14: =ROUNDUP(Earthworks_Trench!G13*0.8*0.0078358,0) -> 184
B15: 3.20.2 | C15: LI | E15: Formwork. | F15: m2 | G15: =G14*2 -> 368
B16: 3.20.3 | C16: LI | E16: Concrete. [Class 20/19 MPa] | F16: m3 | G16: =ROUND(G14*0.1404761904762,0) -> 26
B18: 3.21 | E18: Pipe Works Ancillaries:
B19: 3.21.1 | E19: 550 mm x 550 mm Fabricated manhole cover with frame, galvanised. | F19: No. | G19: =Pipelines4!G21 -> 36
B20: 3.21.2 | E20: Access ladder - 304 SS, galvanised. | F20: No. | G20: =G19 -> 36
B21: 3.21.3 | C21: LI | E21: Concrete pipe line markers as per details. | F21: No. | G21: =ROUND(Earthworks_Trench!G13/250,0) -> 117
B27: TOTAL SCHEDULE B - SECTION 3 CARRIED TO SUMMARY: | I27: =SUM(I9:I26) -> 0
B29: ='Fixed P&Gs'!$B$44:$G$44 -> NAILANA WS BoQ

Sheet Ancillaries 1
B2: ='Fixed P&Gs'!B2 -> CAPRICORN DISTRICT MUNICIPALITY - LIMPOPO PROVINCE | H2: ='Fixed P&Gs'!H1 -> ORB.NAIL.2021
B3: ='Fixed P&Gs'!B3 -> SCHEDULE OF QUANTITIES:
B4: ='Fixed P&Gs'!B4 -> NAILANA VILLAGE WATER SUPPLY | F4: ='Fixed P&Gs'!F4 -> CONTRACT No:INF-W06/2022/2023
B5: SCHEDULE B: BULK SUPPLY AND NETWORK DISTRIBUTION WORKS
B6: SECTION 4: ANCILLARY WATER SUPPLY WORKS
B8: ITEM NUMBER | C8: PAYMENT CLAUSE | D8: DESCRIPTION | E8: UNIT | F8: QUANTITY | G8: RATE | H8: AMOUNT
B9: B.4 | D9: ANCILLARY WORKS:
D10: (As specified in the Project Specifications.)
B11: 4.1 | C11: PSH 4.1 | D11: Elevated Pressed Steel Reservoir:
D12: (Reservoir shall be a Braithwaite type, or similar,pressed steel. All manufacturing to SABS standards with hot dip galvaising to SANS 121(ISO 1461), Installation to be performed by the supplier)
B13: 4.1.1 | D13: Supply and erect 140 kl capacity elevated pressed steel reservoir with base 15m above natural ground level. | E13: No. | F13: 1
B14: 4.1.2 | D14: Excavating in soft material for maximum depth of 2.0m for the tank footings. | E14: m3 | F14: 15
B15: 4.1.3 | D15: Extra over subitem 4.1.3 for excavation in hard material, irrespective of depth. | E15: m3 | F15: =ROUND(F14*0.33333333333333,0) -> 5
B16: 4.1.4 | D16: Supply, bend and fixing of High yield stress steel reinforcement for the tank footings. | E16: t | F16: 0.2
B17: 4.1.5 | D17: Supply, bend and fixing of Mild stress steel reinforcement for the tank footings. | E17: t | F17: 0.01
B18: 4.1.6 | D18: Vertical formwork to provide Class F1 surface finish to the tank footings. | E18: m2 | F18: 20
B19: 4.1.7 | D19: Supply and placement of blinding layer concrete. [Class 15/10 MPa] for the tank footings. | E19: m3 | F19: 2
B20: 4.1.8 | D20: Supply and placement of reinforced concrete. [Class 25/19 MPa] for the tank footings. | E20: m3 | F20: 7
B21: 4.1.9 | D21: Supply and install Ø24mm x 700mm long holding bolts to be casted in the tank footings. | E21: No. | F21: 16
B22: 4.1.10 | D22: Provision for extension of the existing tank stand | E22: Prov.Sum | F22: 1 | G22: 75000 | H22: =G22*F22 -> 75000
B24: 4.2 | D24: Borehole Development:
D25: Re-drilling and Equipping Boreholes
B26: 4.2.1 | D26: Re-drilling and or rehabilitation of Borehole H11-2768 including yield test and chemical analysis reporting. Borehole depth up to 120m | E26: Sum | F26: 1 | G26: 0 | H26: Rate Only
B27: 4.2.2 | D27: Supply and equip Borehole H11-2768 with a suitably sized 3 phase electric motor capable of delivering 1.0l/s at 100m head. Unit complete with starter panel, cabling, valves, flow meter and delivery pipework as per drawing No. NAIL-STD-12 | E27: Sum | F27: 1 | H27: =G27*F27 -> 0
B28: 4.2.3 | D28: Supply and equip Borehole H11-1372 with a suitably sized 3 phase electric motor capable of delivering 4.0l/s at 100m head. Unit complete with starter panel, cabling, valves, flow meter and delivery pipework as per drawing No. NAIL-STD-12 | E28: Sum | F28: 1 | H28: =G28*F28 -> 0
B30: SUB-TOTAL SCHEDULE B - SECTION 4 CARRIED FORWARD:
B32: ='Fixed P&Gs'!$B$44:$G$44 -> NAILANA WS BoQ

Sheet Ancillaries 2
B2: ='Fixed P&Gs'!B2 -> CAPRICORN DISTRICT MUNICIPALITY - LIMPOPO PROVINCE | H2: ='Fixed P&Gs'!H1 -> ORB.NAIL.2021
B3: ='Fixed P&Gs'!B3 -> SCHEDULE OF QUANTITIES:
B4: ='Fixed P&Gs'!B4 -> NAILANA VILLAGE WATER SUPPLY | F4: ='Fixed P&Gs'!F4 -> CONTRACT No:INF-W06/2022/2023
B5: SCHEDULE B: BULK SUPPLY AND NETWORK DISTRIBUTION WORKS
B6: SECTION 4: ANCILLARY WATER SUPPLY WORKS
B8: ITEM NUMBER | C8: PAYMENT CLAUSE | D8: DESCRIPTION | E8: UNIT | F8: QUANTITY | G8: RATE | H8: AMOUNT
B9: SUB-TOTAL SCHEDULE B - SECTION 4 BROUGHT FORWARD:
B10: B.4 | D10: ANCILLARY WORKS:
D11: (As specified in the Project Specifications.)
B12: 4.2.4 | D12: Allow a Provisional Sum for removing, cleaning and handing over to the Engineer existing Boreholes H11- 2768 & 1372 pump equipment. | E12: Prov Sum | F12: 2 | G12: 75000 | H12: =G12*F12 -> 150000
B13: 4.2.5 | D13: Supply and install precast concrete pump house as per DWS specifications, complete with heavy duty lockable steel access door for boreholes above. | E13: No. | F13: 1 | H13: =G13*F13 -> 0
B14: 4.2.6 | D14: Provision for ESKOM Connection for items 4.2.2, 4.2.3 & 4.3.1 | E14: Prov.Sum | F14: 1 | G14: 170000 | H14: =G14*F14 -> 170000
B15: 4.2.7 | D15: Overheads, charges and profit on item 4.2.4 & 4.2.6 | E15: % | F15: =H14+H12 -> 320000 | H15: =+F15*G15 -> 0
B17: 4.3 | D17: Water Package Plant in Nailana Village:
B18: 4.3.1 | D18: Installation of 140 KL/day Water Treatment Package Plant for Reverse Osmosis. | E18: Prov.Sum | F18: 1 | G18: =1600000*1.35 -> 2160000 | H18: =G18*F18 -> 2160000
B19: 4.3.2 | D19: Overheads, charges and profit on item 4.2.1,42.4 & 4.3.1 | E19: % | F19: =H18 -> 2160000 | H19: =+F19*G19 -> 0
B20: 4.3.3 | D20: Allow for formation of a reed bed for effluent discharge in 4.3.1 above | E20: Prov.Sum | F20: 1 | G20: 75000 | H20: =G20*F20 -> 75000
B21: 4.3.4 | D21: Overheads, charges and profit on item 4.3.3 | E21: % | F21: =H20 -> 75000 | H21: =+F21*G21 -> 0
B22: 4.4 | D22: Palisade Fencing
B23: 4.4.1 | D23: Supply, delivery and installation of 2.4 m high concrete palisade fence with 4.5m wide steel sliding gate, all inclusive of area clearance, civil foundations and all details as per drawing NAIL-STD-09 &10 | E23: m
B26: TOTAL SCHEDULE B - SECTION 4 CARRIED TO SUMMARY:
B28: ='Fixed P&Gs'!$B$44:$G$44 -> NAILANA WS BoQ

Sheet SUM
B1: ='Fixed P&Gs'!B2 -> CAPRICORN DISTRICT MUNICIPALITY - LIMPOPO PROVINCE | H1: ='Fixed P&Gs'!H1 -> ORB.NAIL.2021
B2: SUMMARY SCHEDULE OF QUANTITIES
B3: ='Fixed P&Gs'!B4 -> NAILANA VILLAGE WATER SUPPLY | F3: ='Fixed P&Gs'!F4:H4 -> CONTRACT No:INF-W06/2022/2023
B4: CALCULATION OF TENDER SUM
B7: SCHEDULE | C7: SECTION | D7: SECTION DESCRIPTION | G7: TENDERED AMOUNT
B8: A | C8: PRELIMINARY AND GENERAL:
B9: A | C9: 1 | D9: FIXED CHARGE AND VALUE RELATED OBLIGATIONS
B10: A | C10: 2 | D10: TIME RELATED OBLIGATIONS
B11: A | C11: 3 | D11: PROVISIONAL SUMS
B12: A | C12: 4 | D12: PRIME COST SUMS
B13: A | C13: 5 | D13: DAYWORKS
B14: A | C14: 6 | D14: TEMPORARY WORKS
B15: TOTAL SCHEDULE A: | G15: =SUM(G8:H14) -> 0
B16: B | C16: BULK SUPPLY AND NETWORK DISTRIBUTION WORKS:
B17: B | C17: 1 | D17: EARTHWORKS FOR PIPE TRENCHES
B18: B | C18: 2 | D18: PIPE BEDDING
B19: B | C19: 4 | D19: ANCILLARY WATER SUPPLY WORKS
B20: TOTAL SCHEDULE B: | G20: =SUM(G17:H19) -> 0
B22: TOTAL AMOUNT - SCHEDULE A: | G22: =G15 -> 0
B23: TOTAL AMOUNT – SCHEDULE B: | G23: =G20 -> 0
B24: TENDER SUM: | G24: =G22+G23 -> 0
B25: CONTINGENCIES [10.00%]: | G25: =G24*10% -> 0
B26: CONTRACT PRICE ADJUSTMENT(CPA)(2.5%):
B27: SUB-TOTAL: | G27: =G24+G25 -> 0
B28: VAT [15.00%]: | G28: =G27*15% -> 0
B29: TENDER PRICE: | G29: =G27+G28 -> 0
B31: ='Fixed P&Gs'!$B$44:$G$44 -> NAILANA WS BoQ
