Workbook
Name AA: #REF!
Name Answers_to_Template4_Q: #REF!
Name Answers_to_Template4_Q: #REF!
Name Answers_to_Template4_Q: #REF!
Name Cost_Changes: #REF!
Name Cost_Changes: #REF!
Name Cost_Changes: #REF!
Name EE: #REF!
Name Names_cells: #REF!
Name Names_cells: #REF!
Name Names_cells: #REF!
Name QQ: #REF!
Name RR: #REF!
Name SS: #REF!
Name TOTAL_E: #REF!
Name TOTAL_E: #REF!
Name TOTAL_E: #REF!
Name TOTAL_I: #REF!
Name TOTAL_I: #REF!
Name TOTAL_I: #REF!
Name TOTAL_M: #REF!
Name TOTAL_M: #REF!
Name TOTAL_M: #REF!
Name TT: #REF!
Name WW: #REF!
Name XX: #REF!
Name XX: #REF!
Name Years: #REF!
Name Years: #REF!
Name Years: #REF!
Name YY: #REF!
Name YY: #REF!

Sheet COVER SHEET
A11: PRICING SUBMISSION
A13: BID NO: | E13: KZNB01/DSD/2024/25
A15: BID NAME: | E15: APPOINTMENT OF A SERVICE PROVIDER FOR THE PROVISION OF TRAVEL MANAGEMENT FOR THE KWAZULU-NATAL DEPARTMENT OF SOCIAL DEVELOPMENT FOR A PERIOD OF THIRTY-SIX MONTHS.
A17: BIDDER NAME | E17: <NAME OF BIDDER TO BE FILLED IN HERE>
A19: PRICE INSTRUCTIONS
A21: 1. STRUCTURE OF THE TENDER
A22: This spreadsheet for BID KZNB01/DSD/2024/25 contains the financial response templates for the bid. The bid pricing submission instructions in this document must be read in conjunction with instructions or notes embedded in the various tabs of spreadsheet (Pricing Schedule).
A24: 2. GENERAL INSTRUCTIONS FOR COMPLETING THE PRICING SCHEDULE TEMPLATES
A25: 2.1 Tender submission format
A26: 2.1.1 Bidders to use only the electronic supplied pricing schedule.
A27: 2.1.2 Bidders must complete and submit the templates attached ,which is/are management fee model offsite, transactional fee model offsite and the pricing declaration
A28: 2.1.3 Bidders must reference BID main document section 5.2 for current travel volumes.
A30: 2.2 Input spreadsheets
A31: 2.2.1 The Pricing Schedule templates are contained within the one (1) Excel Workbook
A32: 2.2.2 Bidders must not make any changes to the spreadsheets or change the formatting of the Pricing Schedule.
A33: 2.2.3 Cells are formatted to automatically indicate South African Rands, ordinary text fields and percentages (%) where applicable.
... A42: 2.3.2 The Pricing Schedule template is designed such that VAT (15% VAT) will be calculated on Bidders’ input pricing; therefore Bidders must complete the templates with unit prices excluding VAT.

Sheet 1. TRANSACTION FEE OFFSITE 
C1: TEMPLATE 1: TRANSACTION FEE MODEL
C4: OFF-SITE SERVICES
A7: BID NO: | C7: ='COVER SHEET'!$E13 -> KZNB01/DSD/2024/25
A8: BID NAME: | C8: ='COVER SHEET'!$E15 -> APPOINTMENT OF A SERVICE PROVIDER FOR THE PROVISION OF TRAVEL MANAGEMENT FOR THE KWAZULU-NATAL DEPARTMENT OF SOCIAL DEVELOPMENT FOR A PERIOD OF THIRTY-SIX MONTHS.
A9: BIDDER NAME | C9: ='COVER SHEET'!$E17 -> <NAME OF BIDDER TO BE FILLED IN HERE>
A10: 1.1 TRANSACTION FEES
D11: ONLINE BOOKINGS
A12: ITEM | B12: Transaction Type | C12: Estimated Volume 2023/2024 | D12: Unit Price (excl VAT) | E12: Unit Price (incl VAT) | F12: TOTAL Price (incl VAT)
A13: 1 | B13: Air Travel – International | C13: 15 | E13: =D13*1.15 -> 0 | F13: =E13*C13 -> 0
A14: 2 | B14: Air Travel – Regional | C14: 2 | E14: =D14*1.15 -> 0 | F14: =E14*C14 -> 0
A15: 3 | B15: Air Travel – Domestic | C15: 431 | E15: =D15*1.15 -> 0 | F15: =E15*C15 -> 0
A16: 4 | B16: Air travel - International (Re-issue) | C16: 0 | E16: =D16*1.15 -> 0 | F16: =E16*C16 -> 0
A17: 5 | B17: Air Travel - Regional (Re-issue) | C17: 0 | E17: =D17*1.15 -> 0 | F17: =E17*C17 -> 0
A18: 6 | B18: Air Travel - Domestic (Re-issue) | C18: 0 | E18: =D18*1.15 -> 0 | F18: =E18*C18 -> 0
A19: 7 | B19: Refunds – Air International | C19: 0 | E19: =D19*1.15 -> 0 | F19: =E19*C19 -> 0
A20: 8 | B20: Refunds – Air Regional | C20: 0 | E20: =D20*1.15 -> 0 | F20: =E20*C20 -> 0
A21: 9 | B21: Refunds – Air Domestic | C21: 3 | E21: =D21*1.15 -> 0 | F21: =E21*C21 -> 0
A22: 10 | B22: Car Rental – International | C22: 0 | E22: =D22*1.15 -> 0 | F22: =E22*C22 -> 0
A23: 11 | B23: Car Rental – Regional | C23: 0 | E23: =D23*1.15 -> 0 | F23: =E23*C23 -> 0
A24: 12 | B24: Car Rental – Domestic | C24: 90 | E24: =D24*1.15 -> 0 | F24: =E24*C24 -> 0
... A29: 17 | B29: Accommodation – Regional | C29: 2 | E29: =D29*1.15 -> 0 | F29: =E29*C29 -> 0
A30: 18 | B30: Accommodation – Domestic | C30: 10 833 | E30: =D30*1.15 -> 0 | F30: =E30*C30 -> 0
A31: 19 | B31: Bus/Coach Bookings | C31: 0 | E31: =D31*1.15 -> 0 | F31: =E31*C31 -> 0
A32: 20 | B32: Train Bookings – International | C32: 0 | E32: =D32*1.15 -> 0 | F32: =E32*C32 -> 0
A33: 21 | B33: Visa Assistance (Provision of documents and advice) | C33: 17 | E33: =D33*1.15 -> 0 | F33: =E33*C33 -> 0
A34: 22 | B34: Courier services for travel documentation | C34: 0 | E34: =D34*1.15 -> 0 | F34: =E34*C34 -> 0
A35: 23 | B35: SMS notifications | C35: 11000 | E35: =D35*1.15 -> 0 | F35: =E35*C35 -> 0
A36: 24 | B36: Parking bookings | C36: 0 | E36: =D36*1.15 -> 0 | F36: =E36*C36 -> 0
A37: 25 | B37: Cancellations | C37: 0 | E37: =D37*1.15 -> 0 | F37: =E37*C37 -> 0
A38: 26 | B38: Changes to bookings | C38: 1100 | E38: =D38*1.15 -> 0 | F38: =E38*C38 -> 0
A39: 27 | B39: After Hours services | C39: 92 | E39: =D39*1.15 -> 0 | F39: =E39*C39 -> 0
A40: 28 | B40: Additional Ad-hoc Reports (per report) | C40: 5 | E40: =D40*1.15 -> 0 | F40: =E40*C40 -> 0
A41: 29 | B41: Customised Reports (per report) | C41: 1 | E41: =D41*1.15 -> 0 | F41: =E41*C41 -> 0
A42: 30 | B42: Travel Lodge card reconciliation | C42: 1 | E42: =D42*1.15 -> 0 | F42: =E42*C42 -> 0
... A49: 37 | B49: Other (Specify) | C49: 0 | E49: =D49*1.15 -> 0 | F49: =E49*C49 -> 0
B50: Total | C50: =SUM(C13:C49) -> 13056 | F50: =SUM(F13:F49) -> 0
D51: Percentage Online | E51: 1 | F51: =F50 -> 0
D52: Quote For 3 years | F52: =F51*3 -> 0
A53: PRICE THAT WILL BE USED FOR EVALUATION PURPOSES | E53: =F52 -> 0
A54: 1.2 CONFERENCE TRANSACTION FEE
...

Sheet 2. MANAGEMENT FEE OFFSITE
C1: TEMPLATE 2: MANAGEMENT FEE MODEL
C4: OFF-SITE SERVICES
A7: BID NO: | C7: ='COVER SHEET'!$E13 -> KZNB01/DSD/2024/25
A8: BID NAME: | C8: APPOINTMENT OF A SERVICE PROVIDER FOR THE PROVISION OF TRAVEL MANAGEMENT FOR THE KWAZULU-NATAL DEPARTMENT OF SOCIAL DEVELOPMENT FOR A PERIOD OF THIRTY-SIX MONTHS.
A10: BIDDER NAME | C10: ='COVER SHEET'!$E17 -> <NAME OF BIDDER TO BE FILLED IN HERE>
A12: ESTIMATED TRANSACTION VOLUMES PER ANNUM * | C12: 13056
C13: See Section 5.2 of the bid document
A14: 1.1 MANAGEMENT FEES
D15: ONLINE BOOKINGS
A16: ITEM | B16: Transaction Type | D16: Annual Cost (cost per year) (Excl VAT)
A17: Fixed Costs (Management Fees) | C17: Estimated #
A18: 1 | B18: Compensation
B19: Account Manager
B20: Travel Consultant
B21: System Operations Manager
A23: 2 | B23: Standard Monthly Reports (3 Std Reports x 12 months)
A24: 3 | B24: Standard Weekly Reports (3 Weekly Report x 52 weeks)
A25: 4 | B25: * Communication (SMS, Email alerts, Travel App Industry updates)
A26: 5 | B26: Marketing
A27: 6 | B27: Technology (Software Licences)
A28: 7 | B28: Computing / GDS Fees
A29: 8 | B29: Office Leasing (if applicable)
A30: 9 | B30: Utility bills (phone, broadband, electricity, etc.
A31: 10 | B31: Assocciation membership fees
A32: 11 | B32: Banking Services (Interest, Merchant Fees, etc.)
A33: 12 | B33: System Setup
A34: 13 | B34: System implementation
... A38: 17 | B38: Profit
A41: Total Fixed Annual Cost (Excl VAT) | D41: =SUM(D18:D39) -> 0
D43: ONLINE BOOKINGS
A44: Variable Costs | C44: Estimated # | D44: Annual Cost (Excl VAT)
A45: 1 | B45: After-Hours (VIP/Executive Travel Consultant) (Estimated at 60 Calls per month
A46: 2 | B46: After-Hours Call Center / Contact Number(17h00 - 8h00 Weekdays; 24 hours weekends and public holidays) (Estimated at 120 Calls per month
A47: 3 | B47: Stationery (Estimated per annum)
A48: 4 | B48: Training & Recruitment (own Staff estimated per annum)
A49: 5 | B49: Other (Specify)
A50: 6 | B50: Other (Specify)
A51: 7 | B51: Other (Specify)
A52: 8 | B52: Other (Specify)
A53: Total Variable Annual Cost (Excl VAT) | D53: =SUM(D45:D52) -> 0
...

Sheet Price Declaration 
A8: BID NO | C8: ='COVER SHEET'!$E$13 -> KZNB01/DSD/2024/25
A9: BID NAME: | C9: ='COVER SHEET'!$E$15 -> APPOINTMENT OF A SERVICE PROVIDER FOR THE PROVISION OF TRAVEL MANAGEMENT FOR THE KWAZULU-NATAL DEPARTMENT OF SOCIAL DEVELOPMENT FOR A PERIOD OF THIRTY-SIX MONTHS.
A10: BIDDER NAME | C10: ='COVER SHEET'!$E$17 -> <NAME OF BIDDER TO BE FILLED IN HERE>
A13: Price Declaration
A14: Dear Sir/Madam,
A16: Having read through and examined the BID Document, the General Conditions, The Requirement and all other Annexures to the BID Document, we offer to provide OFF-SITE travel management service to the KZN Department of Social Development at the following total amounts (including VAT). The following amounts are for 3 years.
A17: Template 1: Transaction Fee (Off-Site)
A18: ='1. TRANSACTION FEE OFFSITE '!E53 -> 0 | C18: (incl. VAT)
A19: In words:
A23: Template 2: Management Fee (Off-Site)
A24: ='2. MANAGEMENT FEE OFFSITE'!D57 -> 0 | C24: (incl. VAT)
A25: In words:
A27: Final Total to be carried over to Section G of the Bid document
A28: Transaction Fee (Off Site) | E28: =A18 -> 0
A29: Management Fee (Off Site) | E29: =A24 -> 0
A31: =E28+E29 -> 0 | C31: (incl. VAT)
A32: In words:
A35: We undertake to hold this offer open for acceptance for a period of 180 days from the date of submission of offers. We further undertake that upon final acceptance of our offer, we will commence with the provision of service when required to do so by the KZN Department of Social Development.
A37: We understand that KZN Department of Social Development is not bound to accept the lowest or any offer and that we must bear all costs which we have incurred in connection with preparing and submitting this bid.
A39: We hereby undertake for the period during which this bid remains open for acceptance not to divulge to any persons, other than the persons to which the bid is submitted, any information relating to the submission of this bid or the details therein except where such is necessary for the submission of this bid.
A41: Signature | E41: Date
A42: Print name of signatory: …………………………………………………………………………….
A43: Designation: ………………………………………………………………………………………….
A45: FOR AND ON BEHALF OF: COMPANY NAME
A47: Tel No: ……………………………………….
A48: Fax No: ……………………………………….
A49: Cell No: ……………………………………….
A50: Email:………………………………………….
