Workbook

Sheet 1200
A1: GREATER TZANEEN LOCAL MUNICIPALITY | F1: SECTION 1200
A2: PETANENGE BRIDGE
A3: SCHEDULE A : GENERAL
A5: ITEM | B5: DESCRIPTION | C5: UNIT | D5: QTY | E5: RATE | F5: AMOUNT
A6: 1200 | B6: GENERAL REQUIREMENTS AND PROVISIONS
A7: B12.03 | B7: Provision for Relocation/Protection of Services
B8: (a) Allow a provisional sum for existing services to be relocated and/or protected as ordered by the engineer | C8: Prov Sum | D8: 1 | E8: 15000 | F8: =E8*D8 -> 15000
B9: (b) Handling cost and profit in respect of subitem B12.03(a) | C9: % | D9: =F8 -> 15000
A10: B12.04 | B10: Provision for a Community Liaison Officer
B11: (a) Provisional Sum for the payment of the Community Liaison Officer | C11: Prov Sum | D11: 6 | E11: 6000 | F11: =E11*D11 -> 36000
B12: (b) Provisional Sum for PSC | C12: Prov Sum | D12: 6 | E12: 1000 | F12: =E12*D12 -> 6000
B14: (c) Handling costs and profit in respect of subitem B12.04(a) &(b) | C14: % | D14: =F11+F12 -> 42000
A15: B12.05 | B15: (a) Health and Safety obligations | C15: Month | D15: 6
B16: (b) Handling costs and profit in respect of subitem B12.05(a)+(b) | C16: %
A17: B12.06 | B17: Supply and Install Contract Notice boards as instructed by the Engineer (as per drawing) | C17: No. | D17: 1
A18: B12.07 | B18: Training: | F18: =E18*D18 -> 0
B19: a) Accredited training and approved courses for local labourers | C19: Prov Sum | D19: 1 | E19: 130000 | F19: =E19*D19 -> 130000
B20: (b) Handling costs and profit in respect of subitem B12.07(a) | C20: % | F20: =E20*D20 -> 0
B22: TOTAL CARRIED TO SUMMARY

Sheet 1300
A1: ='1200'!A1 -> GREATER TZANEEN LOCAL MUNICIPALITY | F1: SECTION 1300
A2: ='1200'!A2 -> PETANENGE BRIDGE
A3: SCHEDULE A : GENERAL
A4: ITEM | B4: DESCRIPTION | C4: UNIT | D4: QTY | E4: RATE | F4: AMOUNT
A5: 1300 | B5: CONTRACTORS ESTABLISHMENT ON
B6: SITE AND GENERAL OBLIGATIONS
A8: 13.01 | B8: The contractors general obligations
A10: (a) | B10: Fixed obligations | C10: L/sum | D10: 1
A12: (b) | B12: Value related obligations | C12: L/sum | D12: 1
A14: (c) | B14: Time related obligations | C14: Month | D14: 6
B17: NB: The combined tendered total for subitem (a)
B18: (b) and (c) should not exceed 15% of the tender
B19: sum, excluding VAT. (refer to form H;
B20: CONTRACTORS ESTABLISHMENT ON SITE)
A22: B13.02 | B22: Contractor's initial obligations in respect of the Occupational
B23: Health and Safety Act and Construction Regulations.
A25: (a) | B25: Preparation of Health & Safety Plan | C25: L/Sum | D25: 1
A27: (b) | B27: Compilation of a Risk Assessment prior to | C27: L/Sum | D27: 1
B28: commencement of Construction.
A30: (c) | B30: Health & safety induction training of employees | C30: L/Sum | D30: 1
A33: B13.04 | B33: Submission of the Health and Safety File, and obtaining | C33: L/Sum | D33: 1
B34: the construction permit
B36: The combined total tendered for Items B13.02, B13.03
B37: and B13.04 shall not be less than 1% of the total tendered
B38: sum, excluding VAT.
B41: TOTAL CARRIED TO SUMMARY | F41: =SUM(F5:F40) -> 0

Sheet 1400
A1: ='1300'!A1 -> GREATER TZANEEN LOCAL MUNICIPALITY
A2: ='1200'!A2 -> PETANENGE BRIDGE | F2: SECTION 1400
A3: SCHEDULE A : GENERAL
A5: ITEM | B5: DESCRIPTION | C5: UNIT | D5: QTY | E5: RATE | F5: AMOUNT
A8: 1400 | B8: HOUSING, OFFICES AND LABORATORIES FOR THE ENGINEER’S SITE PERSONNEL
A9: 14.01 | B9: Office and Laboratory
B10: Accommodation:
B11: (a) Offices (interior floor space only - engineer's office and conference room) | C11: m2 | D11: 25
B13: (c) Open concrete working floors, 150mm thick | C13: m2 | D13: 30
B14: (d) Roof cover open concrete working floors | C14: m2 | D14: 30
B15: (e) Ablution units | C15: m2 | D15: 4
A17: 14.02 | B17: Office and laboratory furniture:
B18: (a) Chairs | C18: No. | D18: 10
B19: (d) Desks, complete with drawers and locks | C19: No. | D19: 1
B20: (e) Drawing table | C20: No. | D20: 1
A21: B14.03 | B21: Office and laboratory fittings,
B22: installations and equipment
B23: (a) Items measured by number:
B24: (i) 220/250 volt power points | C24: No. | D24: 3
B25: (iii) Double 80 watt fluorescent light fittings complete with ballast and tubes | C25: No. | D25: 2
B29: TOTAL CARRIED FORWARD | F29: =SUM(F7:F27) -> 0
A31: ='1200'!A2 -> PETANENGE BRIDGE | F31: SECTION 1400
A32: SCHEDULE A :
A34: ITEM | B34: DESCRIPTION | C34: UNIT | D34: QTY | E34: RATE | F34: AMOUNT
B35: TOTAL BROUGHT FORWARD | F35: =F29 -> 0
B36: (vi) Wash - hand basins complete with taps and drains
C37: No. | D37: 3
B40: (x) Fire extinguishers, 9kg, All Purpose dry powder complete, mounted on wall with brackets | C40: No. | D40: 2
B43: (xiv) General-purpose steel cup- boards with shelves | C43: No. | D43: 2
B44: (xv) Steel filing cabinets with Drawers | C44: No. | D44: 2
B45: (b) Prime-cost items and items paid in a lump sum:
B46: (ix) 1. Provision of cellular telephone | C46: No | D46: 1 | F46: =D46*E46 -> 0
B47: 3. Handling cost and profit in respect of sub item B14.03 (b) (ix) 2 | C47: % | D47: =F46 -> 0 | F47: =D47*E47 -> 0
B48: (x) Supply of computer equipment
B49: (1) Computer | C49: PC Sum | D49: 1 | E49: 40000 | F49: =D49*E49 -> 40000
B50: (2) Printer/fax/copier | C50: PC Sum | D50: 1 | E50: 2500 | F50: =D50*E50 -> 2500
B51: 3(i) Handling costs and profit in respect of subitems B14,03(b)(x)(1 & 2) above | C51: % | D51: =SUM(F49,F50) -> 42500
B52: (4) Supply of ink, paper and other consumables | C52: month | D52: 6
B53: TOTAL CARRIED FORWARD
A55: ='1200'!A2 -> PETANENGE BRIDGE | F55: SECTION 1400
...

Sheet 1500
A1: ='1300'!A1 -> GREATER TZANEEN LOCAL MUNICIPALITY
A2: ='1400'!A2 -> PETANENGE BRIDGE | E2: SECTION 1500
A3: SCHEDULE B : BRIDGEWORKS
A4: ITEM | B4: DESCRIPTION | C4: UNIT | D4: QUANTITY | E4: RATE | F4: AMOUNT
B7: ACCOMMODATION OF TRAFFIC
A9: B15.01 | B9: Accommodating traffic and maintaining
B10: temporary deviations (incl watering of bypasses) | C10: km | D10: 0 | F10: -
A12: 15.02 | B12: Earthworks for temporary deviations:
B14: (a) Shaping of temporary deviations | C14: km | D14: 1
A16: 15.03 | B16: Temporary traffic-control facilities:
B18: (a) Flagmen | C18: man-days | D18: 120
B21: (d) Amber flicker lights | C21: No | D21: 0
B23: (e) Road signs, R- and TR-series, 1 200mm in
B24: diameter | C24: No | D24: 0
B26: (f) Road signs, TW-series, 1200mm sides | C26: No | D26: 25
B28: (g) Road signs, STW-, DTG-, TGS- and TG-series
B29: (excluding delineators and barricades) | C29: m² | D29: 0
B31: (h) Delineators (DTG50J) (1000mm x 250mm):
B32: (i) Single | C32: No. | D32: 0
B34: (ii) Mounted back to back | C34: No. | D34: 0
B36: (i) Movable barricade/road sign combination
B37: (900mm diameter and 2400mm x 400mm) | C37: No. | D37: 6
A42: 1500 | B42: TOTAL CARRIED TO SUMMARY | F42: =SUM(F14:F41) -> 0

Sheet 1700
A1: ='1500'!A1 -> GREATER TZANEEN LOCAL MUNICIPALITY
A2: ='1500'!A2 -> PETANENGE BRIDGE
A3: ='1500'!A3 -> SCHEDULE B : BRIDGEWORKS
A4: ITEM | B4: DESCRIPTION | C4: UNIT | D4: QUANTITY | E4: RATE | F4: AMOUNT
B7: CLEARING AND GRUBBING
A9: B17.01 | B9: Clearing and grubbing
B11: (a) Normal areas:
B13: (i) Within the borrow-areas | C13: ha
A16: 17.02 | B16: Removal and grubbing of large trees and
B17: tree stumps:
B19: (a) Girth exceeding 1m up to and including 2m | C19: No | F19: Rate Only
A45: 1700 | B45: TOTAL CARRIED TO SUMMARY | F45: =SUM(F9:F44) -> 0

Sheet 1800
A1: ='1700'!A1 -> GREATER TZANEEN LOCAL MUNICIPALITY
A2: ='1500'!A2 -> PETANENGE BRIDGE
A3: ='1500'!A3 -> SCHEDULE B : BRIDGEWORKS
A4: ITEM | B4: DESCRIPTION | C4: UNIT | D4: QUANTITY | E4: RATE | F4: AMOUNT
B6: DAYWORKS
A8: B18.01 | B8: Labourers:
B10: (i) Unskilled | C10: hour | D10: 8 | F10: Rate Only
B12: (ii) Semi-skilled | C12: hour | D12: 8 | F12: Rate Only
B14: (iii) Skilled | C14: hour | D14: 8 | F14: Rate Only
A16: B18.02 | B16: Foreman | C16: hour | D16: 8 | F16: Rate Only
A18: B18.03 | B18: Tipper trucks:
B20: (i) 3 - 5 ton | C20: hour | D20: 8 | F20: Rate Only
B22: (ii) 5,1 - 10 ton | C22: hour | D22: 8 | F22: Rate Only
A24: B18.04 | B24: Loader (0,5m³) | C24: hour | D24: 8 | F24: Rate Only
A26: B18.05 | B26: Grader (CAT 140G or similar) | C26: hour | D26: 8 | F26: Rate Only
A28: B18.06 | B28: LDV | C28: hour | D28: 8 | F28: Rate Only
A30: B18.07 | B30: Compaction Rollers:
B32: (i) Vibrator roller | C32: hour | D32: 8 | F32: Rate Only
B34: (ii) Tamping roller | C34: hour | D34: 8 | F34: Rate Only
B36: (iii) Grid roller | C36: hour | D36: 8 | F36: Rate Only
A38: B18.08 | B38: Hand controlled compactors:
B40: (i) Pedestrian roller (Bomag BW90) | C40: hour | D40: 8 | F40: Rate Only
B42: (ii) Vibratory plate | C42: hour | D42: 8 | F42: Rate Only
B44: (iii) Rammers | C44: hour | D44: 8 | F44: Rate Only
A46: B18.09 | B46: Water truck (min. 10 000 l) | C46: hour | D46: 8 | F46: Rate Only
A48: B18.10 | B48: Dozer (D7 or similar) | C48: hour | D48: 8 | F48: Rate Only
A50: B18.11 | B50: Tracked Excavator (92kw) | C50: hour | D50: 8 | F50: Rate Only
A55: 1800 | B55: TOTAL CARRIED TO SUMMARY | F55: Rate Only

Sheet 2200
A1: ='1800'!A1 -> GREATER TZANEEN LOCAL MUNICIPALITY
A2: ='1800'!A2 -> PETANENGE BRIDGE
A3: ='1800'!A3 -> SCHEDULE B : BRIDGEWORKS | F3: SECTION 2200
A5: Item Type | B5: Item | C5: Description | D5: Unit | E5: Quantity | F5: Rate | G5: Amount R
B6: 2200 | C6: PREFABRICATED CULVERTS
B7: 22.03 | C7: Concrete pipe culverts
C8: a) Class B bedding 750mm dia. 75D ogee | D8: m | E8: 91
A9: 2200 | B9: TOTAL CARRIED TO SUMMARY | G9: =G8 -> 0

Sheet 2300
A1: ='2200'!A1 -> GREATER TZANEEN LOCAL MUNICIPALITY
A2: ='2200'!A2 -> PETANENGE BRIDGE | F2: SECTION 2300
A3: ='2200'!A3 -> SCHEDULE B : BRIDGEWORKS
A4: ITEM TYPE | B4: ITEM | C4: DESCRIPTION | D4: UNIT | E4: QUANTITY | F4: RATE | G4: AMOUNT
B6: 2300 | C6: CONCRETE KERBING, CONCRETE CHANNELLING, CHUTES AND DOWNPIPES, AND CONCRETE LININGS FOR OPEN DRAINS
C8: 300 x 300mm Concrete guide blocks | D8: No' | E8: 84
A10: 2300 | B10: TOTAL CARRIED TO SUMMARY | G10: =G8 -> 0

Sheet 3400
A1: ='2300'!A1 -> GREATER TZANEEN LOCAL MUNICIPALITY
A2: ='2300'!A2 -> PETANENGE BRIDGE | F2: SECTION 3400
A3: ='2300'!A3 -> SCHEDULE B : BRIDGEWORKS
A4: ITEM | B4: DESCRIPTION | C4: UNIT | D4: QUANTITY | E4: RATE | F4: AMOUNT
A6: 3400 | B6: PAVEMENT LAYERS OF GRAVEL MATERIAL
B7: Pavement layers constructed from gravel taken from cut or borrow or commercial sources of G5 quality
B8: 96% mod AASHTO density (150mm thick) | C8: m³ | D8: =5750*7.4*0.15 -> 6382.5
A10: 3400 | B10: TOTAL CARRIEED TO SUMMARY | F10: =F8 -> 0

Sheet 4200
A1: ='3400'!A1 -> GREATER TZANEEN LOCAL MUNICIPALITY
A2: ='3400'!A2 -> PETANENGE BRIDGE | G2: SECTION 4200
A3: ='3400'!A3 -> SCHEDULE B : BRIDGEWORKS
A4: Item Type | B4: Item | C4: Description | D4: Unit | E4: Quantity | F4: Rate | G4: Amount R
A5: Section | B5: 4200 | C5: ASPHALT BASE AND SURFACING
A6: Label | B6: 4200 | C6: ASPHALT BASE AND SURFACING
A7: Header2 | B7: 42.02 | C7: Asphalt Surfacing :
A8: Item | B8: (a) | C8: Continuosly graded asphalt (medium grade) 40mm nominal thickness using 60/70 penetration bitumen applied in two layers (levelling + final layer) | D8: t | E8: 0
A9: 4200 | B9: TOTAL CARRIED TO SUMMARY | G9: =G8 -> 0

Sheet 5100
A1: ='4200'!A1 -> GREATER TZANEEN LOCAL MUNICIPALITY
A2: ='4200'!A2 -> PETANENGE BRIDGE | G2: SECTION 5100
A3: ='4200'!A3 -> SCHEDULE B : BRIDGEWORKS
A4: Item Type | B4: Item | C4: Description | D4: Unit | E4: Quantity | F4: Rate | G4: Amount R
B5: 5100 | C5: PITCHING, STONEWORK AND PROTECTION AGAINST EROSION
B6: 51.01 | C6: Stone pitching
C7: (b) Grouted stone pitching | D7: m² | E7: 490
A9: 5100 | B9: TOTAL CARRIED TO SUMMARY | G9: =G7 -> 0

Sheet 5200
A1: ='5100'!A1 -> GREATER TZANEEN LOCAL MUNICIPALITY
A2: ='5100'!A2 -> PETANENGE BRIDGE
A3: ='5100'!A3 -> SCHEDULE B : BRIDGEWORKS
A4: Item Type | B4: Item | C4: Description | D4: Unit | E4: Quantity | F4: Rate | G4: Amount R
A5: Section | B5: 5200 | C5: GABIONS
A7: Label | B7: 5200 | C7: GABIONS
A8: Header2 | B8: 52.01 | C8: Foundation trench excavation and backfilling:
A9: Item | B9: (a) | C9: In solid rock (material which requires blasting) | D9: m³ | E9: 20
A10: Item | B10: (b) | C10: In all other classes of material | D10: m³ | E10: 5
A11: Item | B11: 52.02 | C11: Surface preparation for bedding of gabions | D11: m² | E11: 150
A12: Header2 | B12: 52.03 | C12: Gabions:
A13: Label | B13: (a)
A14: Item | B14: (i) | C14: 1.0m wide x 1.0m deep with length between 1.0m and 4.0m | D14: m³ | E14: 89
A15: Item | B15: (ii) | C15: 1.0m wide x 0.5m deep with length between 1.0m and 4.0m | D15: m³ | E15: 180
A16: Label | B16: (c) | C16: Galvanized gabion mattresses, Class A 80x80mm mesh, 2.7mm diameter wire and 600mm diaphragm spacing
A17: Item | B17: (ii) | C17: 6m long x 2m wide x 300mm deep | D17: m³ | E17: =131 -> 131
A18: Item | B18: 52.04 | C18: Filter fabric "Kaymat U 34", 270 g/m² or approved equal | D18: m² | E18: 504
B20: TOTAL CARRIED TO SUMMARY | G20: =SUM(G9:G19) -> 0

Sheet Petanenge
A1: ='5200'!A1 -> GREATER TZANEEN LOCAL MUNICIPALITY
A2: ='5200'!A2 -> PETANENGE BRIDGE
A3: ='5200'!A3 -> SCHEDULE B : BRIDGEWORKS
A4: Section | B4: 5400 | C4: GUARDRAILS
A5: Label | B5: 5400 | C5: GUARDRAILS
A6: Header2 | B6: 54.05 | C6: Additional guardrail posts:
A7: Item | B7: (b) | C7: Steel (800mm nominal height IPEAA 180 post welded to 300x300x16mm base plate, all galvanised, bolted to concrete plinths with 5No M16 3000mm long | D7: No | E7: 240
A9: TOTAL CARRIED TO SUMMARY | G9: =G7 -> 0
A10: Section | B10: 6100 | C10: FOUNDATIONS FOR STRUCTURES
A11: Label | B11: 6100 | C11: FOUNDATIONS FOR STRUCTURES
A12: Sum | B12: 61.01 | C12: Additional foundation investigations | D12: Prov Sum | E12: 1 | F12: 200000 | G12: =E12*F12 -> 200000
A13: Header2 | B13: B61.02 | C13: Excavation:
A14: Label | B14: Note: | C14: Excavation quantities allow for 500mm working space around perimeter of excavations and include excavations required for the removal of that part of the existing culvert extending into the new road formation only. Excavations required for the removal of part or whole of the existing culvert outside the new road formation shall be measured and paid for under the relevant earthworks item in the Roadworks Schedule.
A15: Label | B15: (a) | C15: Excavating soft material situated within the following successive depth ranges:
A16: Item | B16: (i) | C16: 0 m up to 2 m | D16: m³ | E16: 468
A17: Item | B17: (ii) | C17: Exceeding 2 m and up to 4 m | D17: m³ | E17: 52
A18: Item | B18: (iii) | C18: Exceeding 4 m and up to 6 m | D18: m³ | E18: 0
A19: Item | B19: (iv) | C19: Exceeding 6 m and up to 8 m | D19: m³ | E19: 0
A20: Item | B20: (v) | C20: Exceeding 8 m and up to 10 m | D20: m³ | E20: 0
A21: Item | B21: (b) | C21: Extra over sub-item 61.02(a) for excavation in hard material irrespective of depth (provisional) | D21: m³ | E21: 25
A22: Item | B22: (c) | C22: Extra over sub-item 61.02(a) for additional excavation required by the engineer after the excavation has been completed (provisional) | D22: m³ | E22: 25
A23: Item | B23: (d) | C23: Extra over sub-item 61.02(a) for excavation by hand (provisional) | D23: m³ | E23: 25
A24: Header2 | B24: 61.03 | C24: Access and drainage:
A25: Item | B25: (a) | C25: Access | D25: lump sum | E25: 1
A26: Header2 | B26: 61.04 | C26: Backfill to excavations utilising: | G26: =E26*F26 -> 0
A27: Item | B27: (a) | C27: Material from the excavation | D27: m³ | E27: 102
A28: Item | B28: (b) | C28: Imported material | D28: m³ | E28: 40
A29: Item | B29: (c) | C29: Soil cement (provisional) | D29: m³ | E29: 15
A30: Item | B30: 61.05 | C30: Fill within restricted areas (extra over item 33.01) - No separate payment will be made | D30: m³ | E30: 15
A31: Item | B31: 61.06 | C31: Overhaul in excess of 1,0 km on excavated material and on material imported for backfill, foundation fill and fill for caissons | D31: m³km | E31: 9720
A32: Item | B32: 61.07 | C32: Overbreak in excavation in hard material (Provisional) | D32: m² | E32: 10
A33: Header2 | B33: 61.08 | C33: Foundation fill consisting of:
A34: Item | B34: (a) | C34: Rock fill (provisional) | D34: m³ | E34: 96
A35: Item | B35: (b) | C35: Crushed-stone fill (provisional) | D35: m³ | E35: 20
A36: Item | B36: (d) | C36: Mass concrete class 15/38 | D36: m³ | E36: 20
A37: Label | B37: (e) | C37: Concrete screed class 15/19
A38: Item | B38: (i) | C38: 75mm thick to culvert barrel, cut-off walls and wingwalls | D38: m³ | E38: 10
A39: Item | B39: (ii) | C39: 50mm thick to wingwalls | D39: m³ | E39: 5
A40: Header2 | B40: 61.11 | C40: Drilling of holes:
A41: Item | B41: (a) | C41: 35mm diameter up to 2.5m long percussion drilled holes into rock formation (Provisional) | D41: m | E41: 0
...

Sheet Summary
B2: ='1200'!A1 -> GREATER TZANEEN LOCAL MUNICIPALITY
B4: ='1200'!A2 -> PETANENGE BRIDGE
B6: SUMMARY OF SCHEDULES OF QUANTITIES
B8: SCHEDULE A : GENERAL
B10: Section | C10: Description | D10: Amount
B11: 1200 | C11: GENERAL REQUIREMENTS AND PROVISIONS | D11: ='1200'!F22 -> 0
B12: 1300 | C12: CONTRACTORS ESTABLISHMENT ON SITE AND GENERAL OBLIGATIONS | D12: ='1300'!F41 -> 0
B13: 1400 | C13: HOUSING, OFFICES AND LABORATORIES FOR THE ENGINEER’S SITE PERSONNEL | D13: ='1400'!F83 -> 0
B15: TOTAL SCHEDULE A : GENERAL | D15: =SUM(D11:D13) -> 0
B17: SCHEDULE B : BRIDGEWORKS
B18: 1500 | C18: ='1500'!B7 -> ACCOMMODATION OF TRAFFIC | D18: ='1500'!F42 -> 0
B19: 1700 | C19: ='1700'!B7 -> CLEARING AND GRUBBING | D19: ='1700'!F45 -> 0
B20: 2200 | C20: ='2200'!C6 -> PREFABRICATED CULVERTS | D20: ='2200'!G9 -> 0
B21: 2300 | C21: CONCRETE KERBING, CONCRETE CHANNELLING, CHUTES AND DOWNPIPES, AND CONCRETE LININGS FOR OPEN DRAINS | D21: ='2300'!G10 -> 0
B22: 3400 | C22: PAVEMENT LAYERS OF GRAVEL MATERIAL | D22: ='3400'!F10 -> 0
B23: 4200 | C23: ASPHALT BASE AND SURFACING | D23: ='4200'!G9 -> 0
B24: 5100 | C24: PITCHING, STONEWORK AND PROTECTION AGAINST EROSION | D24: ='5100'!G9 -> 0
B25: 5200 | C25: GABIONS | D25: ='5200'!G20 -> 0
B26: 5400 | C26: GUARDRAILS | D26: =Petanenge!G9 -> 0
B27: 6100 | C27: FOUNDATIONS FOR STRUCTURES | D27: =Petanenge!G50 -> 0
B28: 6200 | C28: FALSEWORK, FORMWORK AND CONCRETE FINISH | D28: =Petanenge!G66 -> 0
B29: 6300 | C29: STEEL REINFORCEMENT FOR STRUCTURES | D29: =Petanenge!G75 -> 0
B30: 6400 | C30: CONCRETE FOR STRUCTURES | D30: =Petanenge!G93 -> 0
B31: 6600 | C31: NO-FINES CONCRETE, JOINTS, BEARINGS, PARAPETS AND DRAINAGE FOR STRUCTURES | D31: =Petanenge!G123 -> 0
B32: 8100 | C32: TESTING MATERIALS AND WORKMANSHIP | D32: =Petanenge!G133 -> 0
B34: TOTAL SCHEDULE B : BRIDGEWORKS | D34: =SUM(D18:D33) -> 0
C35: SUB TOTAL(A+B) | D35: =SUM(D15+D34) -> 0
C36: CONTINGENCIES @ 5% | D36: =D35*5% -> 0
C37: SUB TOTAL | D37: =D35+D36 -> 0
C38: VALUE ADDED TAX AT 15% | D38: =D37*15% -> 0
C39: TOTAL CONTRACT VALUE | D39: =D37+D38 -> 0
