Workbook
Name ToSort: #REF!
Name ToSort: #REF!
Name ToSort: #REF!
Name ToSort: #REF!
Name ToSort: #REF!
Name ToSort: #REF!
Name ToSort: #REF!
Name ToSort: #REF!
Name ToSort: #REF!
Name ToSort: #REF!
Name ToSort: #REF!
Name ToSort: #REF!

Sheet Instructions to the Bidder
B2: ANNEXURE D_COMPUTER HARDWARE PRICING SCHEDULE TRANSNET REQUEST FOR PROPOSAL [RFP] : HOAC-HO-37603 DESCRIPTION: FOR THE SUPPLY AND LEASING OF END USER COMPUTING HARDWARE TO TRANSNET FREIGHT RAIL ON AN AS AND WHEN BASIS FOR A PERIOD OF FIVE [5] YEARS.
B3: Instructions for Completion of the Worksheets
B4: Bidders should complete this schedule by filling in each worksheets as indicated.
B5: 1. Rental rates must be provided in the worksheet Annexure D1_Rental Rates. The rental rate for 36 months will be used to calculate the value of the total contract. 2. Extention and Termination Lease Options to be considered and signed off in worksheet Annexure D2_Lease Options. 3. For each of the Desktops (listed in Annexure D3_Desktop Pricing worksheet), Laptops (listed in Annexure D4_Laptop Pricing worksheet) and Tablets (listed in Annexure D5_Tablet Pricing worksheet) configurations listed, Bidders should fill in: - The computer model proposed for each of the main categories. - The bidder's unit price (excluding VAT) for each category. - The bidder's price per unit (excluding VAT) for each upgrade option and/or extra. - The proposed model and the bidder's unit price (excluding VAT) for each alternative model. - The bidder's unit price (excluding VAT) for each of the extras listed. 4. The computer model proposed by the Bidder for each of the main categories as per Annexure A_Computer Hardware Specifications to be completed as indicated. 5. The bidder's full price per unit to be completed for extras and upgrade options as indicated. Failure to complete the pricing IN FULL as indicated above will result in disqualification of a Bid
B6: Additional notes to the Bidder
B7: 1. Models and components proposed by the Bidders must meet or exceed the specifications of the configurations provided in this Annexure D and in Annexure A. 2. All models proposed must be available for at least one year unless otherwise clearly indicated. 3. Upgrade Options and Extras are defined as discrete peripherals or add-ons. 4. Prices must be quoted in South African Rand EXCLUDING VAT. 5. All pricing must include a 3-year Next Business Day on-site warrantee. 6. Settlements on losses that occur during the lease term to be calculated at 10% of the original purchase price. 7. Transnet Freight Rail recognises that it may be necessary for the successful Bidder to modify or upgrade the desktop or laptop computer configuration as technology evolves. 8. The successful Bidder and Transnet Freight Rail shall review both pricing and configuration based on the current market conditions, at least every 90 days in order to establish changes and impact on original bid.

Sheet Annexure D_Pricing summary
B2: ANNEXURE D_PRICING SUMMARY TRANSNET REQUEST FOR PROPOSAL [RFP] : HOAC-HO-37603 DESCRIPTION: FOR THE SUPPLY AND LEASING OF END USER COMPUTING HARDWARE TO TRANSNET FREIGHT RAIL ON AN AS AND WHEN BASIS FOR A PERIOD OF FIVE [5] YEARS.
B3: 1. DESKTOPS | C3: Proposed Brand and Model | D3: Baseline Quantity (excl upgrade options) | E3: UNIT PRICE | F3: TOTAL PRICE EXCLUDING UPGRADE OPTIONS AND VAT (A) | G3: TOTAL PRICE UPGRADE OPTIONS EXCLUDING VAT (C) | H3: TOTAL PRICE EXCLUDING VAT (A)+(C) | I3: VAT ON TOTAL PRICE | J3: TOTAL PRICE AT PURCHASE RATES | K3: TOTAL PRICE AT RENTAL RATE QUOTED | L3: VAT ON TOTAL PRICE AT RENTAL RATE QUOTED | M3: TOTAL PRICE AT RENTAL RATE QUOTED INCLUDING VAT
B4: ='Annexure D3_Desktop Pricing'!C3 -> 1. Traditional Mainstream Desktop [TM] Type 1 | C4: ='Annexure D3_Desktop Pricing'!C40 -> 0 | D4: ='Annexure D3_Desktop Pricing'!C38 -> 130 | E4: ='Annexure D3_Desktop Pricing'!C41 -> 0 | F4: ='Annexure D3_Desktop Pricing'!C42 -> 0 | G4: ='Annexure D3_Desktop Pricing'!E70 -> 0 | H4: =+G4+F4 -> 0 | I4: =H4*0.15 -> 0 | J4: =I4+H4 -> 0 | K4: =-PMT('Annexure D1_Rental Rates'!$C$5/12,36,'Annexure D_Pricing summary'!H4)*36 -> 0 | L4: =K4*0.15 -> 0 | M4: =L4+K4 -> 0
B5: ='Annexure D3_Desktop Pricing'!F3 -> 2. Traditional Mainstream Desktop [TM] Type 2 | C5: ='Annexure D3_Desktop Pricing'!F40 -> 0 | D5: ='Annexure D3_Desktop Pricing'!F38 -> 1170 | E5: ='Annexure D3_Desktop Pricing'!F41 -> 0 | F5: ='Annexure D3_Desktop Pricing'!F42 -> 0 | G5: ='Annexure D3_Desktop Pricing'!H70 -> 0 | H5: =+G5+F5 -> 0 | I5: =H5*0.15 -> 0 | J5: =I5+H5 -> 0 | K5: =-PMT('Annexure D1_Rental Rates'!$C$5/12,36,'Annexure D_Pricing summary'!H5)*36 -> 0 | L5: =K5*0.15 -> 0 | M5: =L5+K5 -> 0
B6: ='Annexure D3_Desktop Pricing'!I3 -> 3. Creator Desktop [CD] | C6: ='Annexure D3_Desktop Pricing'!I40 -> 0 | D6: ='Annexure D3_Desktop Pricing'!I38 -> 15 | E6: ='Annexure D3_Desktop Pricing'!I41 -> 0 | F6: ='Annexure D3_Desktop Pricing'!I42 -> 0 | G6: ='Annexure D3_Desktop Pricing'!K70 -> 0 | H6: =+G6+F6 -> 0 | I6: =H6*0.15 -> 0 | J6: =I6+H6 -> 0 | K6: =-PMT('Annexure D1_Rental Rates'!$C$5/12,36,'Annexure D_Pricing summary'!H6)*36 -> 0 | L6: =K6*0.15 -> 0 | M6: =L6+K6 -> 0
B7: ='Annexure D3_Desktop Pricing'!L3 -> 4. Micro Form Factor Desktop [MF] Type 1 | C7: ='Annexure D3_Desktop Pricing'!L40 -> 0 | D7: ='Annexure D3_Desktop Pricing'!L38 -> 90 | E7: ='Annexure D3_Desktop Pricing'!L41 -> 0 | F7: ='Annexure D3_Desktop Pricing'!L42 -> 0 | G7: ='Annexure D3_Desktop Pricing'!N70 -> 0 | H7: =+G7+F7 -> 0 | I7: =H7*0.15 -> 0 | J7: =I7+H7 -> 0 | K7: =-PMT('Annexure D1_Rental Rates'!$C$5/12,36,'Annexure D_Pricing summary'!H7)*36 -> 0 | L7: =K7*0.15 -> 0 | M7: =L7+K7 -> 0
B8: ='Annexure D3_Desktop Pricing'!O3 -> 5. Micro Form Factor Desktop [MF] Type 2 | C8: ='Annexure D3_Desktop Pricing'!O40 -> 0 | D8: ='Annexure D3_Desktop Pricing'!O38 -> 800 | E8: ='Annexure D3_Desktop Pricing'!O41 -> 0 | F8: ='Annexure D3_Desktop Pricing'!O42 -> 0 | G8: ='Annexure D3_Desktop Pricing'!Q70 -> 0 | H8: =+G8+F8 -> 0 | I8: =H8*0.15 -> 0 | J8: =I8+H8 -> 0 | K8: =-PMT('Annexure D1_Rental Rates'!$C$5/12,36,'Annexure D_Pricing summary'!H8)*36 -> 0 | L8: =K8*0.15 -> 0 | M8: =L8+K8 -> 0
B9: ='Annexure D3_Desktop Pricing'!R3 -> 6. Thin Client [TC] | C9: ='Annexure D3_Desktop Pricing'!R40 -> 0 | D9: ='Annexure D3_Desktop Pricing'!R38 -> 360 | E9: ='Annexure D3_Desktop Pricing'!R41 -> 0 | F9: ='Annexure D3_Desktop Pricing'!R42 -> 0 | G9: ='Annexure D3_Desktop Pricing'!T70 -> 0 | H9: =+G9+F9 -> 0 | I9: =H9*0.15 -> 0 | J9: =I9+H9 -> 0 | K9: =-PMT('Annexure D1_Rental Rates'!$C$5/12,36,'Annexure D_Pricing summary'!H9)*36 -> 0 | L9: =K9*0.15 -> 0 | M9: =L9+K9 -> 0
B10: ='Annexure D3_Desktop Pricing'!U3 -> 7. AIO PC Touch [APT] | C10: ='Annexure D3_Desktop Pricing'!U40 -> 0 | D10: ='Annexure D3_Desktop Pricing'!U38 -> 5 | E10: ='Annexure D3_Desktop Pricing'!U41 -> 0 | F10: ='Annexure D3_Desktop Pricing'!U42 -> 0 | G10: ='Annexure D3_Desktop Pricing'!W70 -> 0 | H10: =+G10+F10 -> 0 | I10: =H10*0.15 -> 0 | J10: =I10+H10 -> 0 | K10: =-PMT('Annexure D1_Rental Rates'!$C$5/12,36,'Annexure D_Pricing summary'!H10)*36 -> 0 | L10: =K10*0.15 -> 0 | M10: =L10+K10 -> 0
B11: CONSOLIDATE PRICE DESKTOPS | D11: =SUM(D4:D10) -> 2570 | F11: =SUM(F4:F10) -> 0 | G11: =SUM(G4:G10) -> 0 | H11: =SUM(H4:H10) -> 0 | I11: =SUM(I4:I10) -> 0 | J11: =SUM(J4:J10) -> 0 | K11: =SUM(K4:K10) -> 0 | L11: =SUM(L4:L10) -> 0 | M11: =SUM(M4:M10) -> 0
B14: 2. LAPTOPS | C14: Proposed Brand and Model | D14: Baseline Quantity (excl upgrade options) | E14: UNIT PRICE | F14: TOTAL PRICE EXCLUDING UPGRADE OPTIONS AND VAT (A) | G14: TOTAL PRICE UPGRADE OPTIONS EXCLUDING VAT (C) | H14: TOTAL PRICE EXCLUDING VAT (A)+(C)+(E) | I14: VAT ON TOTAL PRICE | J14: TOTAL PRICE AT RENTAL RATE QUOTED | K14: TOTAL PRICE AT RENTAL RATE QUOTED | L14: VAT ON TOTAL PRICE AT RENTAL RATE QUOTED | M14: TOTAL PRICE AT RENTAL RATE QUOTED INCLUDING VAT
B15: ='Annexure D4_Laptop Pricing'!C3 -> 1. Creator Laptop [C] | C15: ='Annexure D4_Laptop Pricing'!C41 -> 0 | D15: ='Annexure D4_Laptop Pricing'!C39 -> 100 | E15: ='Annexure D4_Laptop Pricing'!C43 -> 0 | F15: ='Annexure D4_Laptop Pricing'!C44 -> 0 | G15: ='Annexure D4_Laptop Pricing'!E75 -> 0 | H15: =+G15+F15 -> 0 | I15: =H15*0.15 -> 0 | J15: =-PMT('Annexure D1_Rental Rates'!$C$5/12,36,'Annexure D_Pricing summary'!H15)*36 -> 0 | K15: =-PMT('Annexure D1_Rental Rates'!$C$5/12,36,'Annexure D_Pricing summary'!H15)*36 -> 0 | L15: =K15*0.15 -> 0 | M15: =L15+K15 -> 0
B16: ='Annexure D4_Laptop Pricing'!F3 -> 2. Modern Mainstream Laptop [MM] Type 1 | C16: ='Annexure D4_Laptop Pricing'!F41 -> 0 | D16: ='Annexure D4_Laptop Pricing'!F39 -> 3300 | E16: ='Annexure D4_Laptop Pricing'!F43 -> 0 | F16: ='Annexure D4_Laptop Pricing'!F44 -> 0 | G16: ='Annexure D4_Laptop Pricing'!H75 -> 0 | H16: =+G16+F16 -> 0 | I16: =H16*0.15 -> 0 | J16: =-PMT('Annexure D1_Rental Rates'!$C$5/12,36,'Annexure D_Pricing summary'!H16)*36 -> 0 | K16: =-PMT('Annexure D1_Rental Rates'!$C$5/12,36,'Annexure D_Pricing summary'!H16)*36 -> 0 | L16: =K16*0.15 -> 0 | M16: =L16+K16 -> 0
B17: ='Annexure D4_Laptop Pricing'!I3 -> 3. Modern Mainstream Laptop [MM] Type 2 | C17: ='Annexure D4_Laptop Pricing'!I41 -> 0 | D17: ='Annexure D4_Laptop Pricing'!I39 -> 4960 | E17: ='Annexure D4_Laptop Pricing'!I43 -> 0 | F17: ='Annexure D4_Laptop Pricing'!I44 -> 0 | G17: ='Annexure D4_Laptop Pricing'!K75 -> 0 | H17: =+G17+F17 -> 0 | I17: =H17*0.15 -> 0 | J17: =-PMT('Annexure D1_Rental Rates'!$C$5/12,36,'Annexure D_Pricing summary'!H17)*36 -> 0 | K17: =-PMT('Annexure D1_Rental Rates'!$C$5/12,36,'Annexure D_Pricing summary'!H17)*36 -> 0 | L17: =K17*0.15 -> 0 | M17: =L17+K17 -> 0
B18: ='Annexure D4_Laptop Pricing'!L3 -> 4. Highly Mobile Laptop [HM] Type 1 | C18: ='Annexure D4_Laptop Pricing'!L41 -> 0 | D18: ='Annexure D4_Laptop Pricing'!L39 -> 25 | E18: ='Annexure D4_Laptop Pricing'!L43 -> 0 | F18: ='Annexure D4_Laptop Pricing'!L44 -> 0 | G18: ='Annexure D4_Laptop Pricing'!N75 -> 0 | H18: =+G18+F18 -> 0 | I18: =H18*0.15 -> 0 | J18: =-PMT('Annexure D1_Rental Rates'!$C$5/12,36,'Annexure D_Pricing summary'!H18)*36 -> 0 | K18: =-PMT('Annexure D1_Rental Rates'!$C$5/12,36,'Annexure D_Pricing summary'!H18)*36 -> 0 | L18: =K18*0.15 -> 0 | M18: =L18+K18 -> 0
B19: ='Annexure D4_Laptop Pricing'!O3 -> 5. Highly Mobile Laptop [HM] Type 2 | C19: ='Annexure D4_Laptop Pricing'!O41 -> 0 | D19: ='Annexure D4_Laptop Pricing'!O39 -> 95 | E19: ='Annexure D4_Laptop Pricing'!O43 -> 0 | F19: ='Annexure D4_Laptop Pricing'!O44 -> 0 | G19: ='Annexure D4_Laptop Pricing'!Q75 -> 0 | H19: =+G19+F19 -> 0 | I19: =H19*0.15 -> 0 | J19: =-PMT('Annexure D1_Rental Rates'!$C$5/12,36,'Annexure D_Pricing summary'!H19)*36 -> 0 | K19: =-PMT('Annexure D1_Rental Rates'!$C$5/12,36,'Annexure D_Pricing summary'!H19)*36 -> 0 | L19: =K19*0.15 -> 0 | M19: =L19+K19 -> 0
B20: CONSOLIDATE PRICE LAPTOPS | D20: =SUM(D15:D19) -> 8480 | F20: =SUM(F15:F19) -> 0 | G20: =SUM(G15:G19) -> 0 | H20: =SUM(H15:H19) -> 0 | I20: =SUM(I15:I19) -> 0 | J20: =SUM(J15:J19) -> 0 | K20: =SUM(K15:K19) -> 0 | L20: =SUM(L15:L19) -> 0 | M20: =SUM(M15:M19) -> 0
B22: 3. TABLETS | C22: Proposed Brand and Model | D22: Baseline Quantity (excl upgrade options) | E22: UNIT PRICE | F22: TOTAL PRICE EXCLUDING UPGRADE OPTIONS AND VAT (A) | G22: TOTAL PRICE UPGRADE OPTIONS EXCLUDING VAT (C) | H22: TOTAL PRICE EXCLUDING VAT (A)+(C) | I22: VAT ON TOTAL PRICE | J22: TOTAL PRICE AT RENTAL RATE QUOTED | K22: TOTAL PRICE AT RENTAL RATE QUOTED | L22: VAT ON TOTAL PRICE AT RENTAL RATE QUOTED | M22: TOTAL PRICE AT RENTAL RATE QUOTED INCLUDING VAT
B23: ='Annexure D5 _Tablet Pricing'!C3 -> 1. Executive iPad | C23: ='Annexure D5 _Tablet Pricing'!C15 -> 0 | D23: ='Annexure D5 _Tablet Pricing'!C16 -> 119 | E23: ='Annexure D5 _Tablet Pricing'!C17 -> 0 | F23: ='Annexure D5 _Tablet Pricing'!C18 -> 0 | G23: ='Annexure D5 _Tablet Pricing'!C20 -> 0 | H23: =+G23+F23 -> 0 | I23: =H23*0.15 -> 0 | J23: =I23*0.15 -> 0 | K23: =-PMT('Annexure D1_Rental Rates'!$C$5/12,36,'Annexure D_Pricing summary'!H23)*36 -> 0 | L23: =K23*0.15 -> 0 | M23: =L23+K23 -> 0
B24: ='Annexure D5 _Tablet Pricing'!F3 -> 2. Rugged Tablets | C24: ='Annexure D5 _Tablet Pricing'!F15 -> 0 | D24: ='Annexure D5 _Tablet Pricing'!F16 -> 7000 | E24: ='Annexure D5 _Tablet Pricing'!F17 -> 0 | F24: ='Annexure D5 _Tablet Pricing'!F18 -> 0 | G24: ='Annexure D5 _Tablet Pricing'!F20 -> 0 | H24: =+G24+F24 -> 0 | I24: =H24*0.15 -> 0 | J24: =I24*0.15 -> 0 | K24: =-PMT('Annexure D1_Rental Rates'!$C$5/12,36,'Annexure D_Pricing summary'!H24)*36 -> 0 | L24: =K24*0.15 -> 0 | M24: =L24+K24 -> 0
B25: CONSOLIDATE PRICE TABLETS | D25: =+SUM(D23:D24) -> 7119 | F25: =F23+F24 -> 0 | G25: =G23+G24 -> 0 | H25: =H23+H24 -> 0 | I25: =I23+I24 -> 0 | J25: =J23+J24 -> 0 | K25: =K23+K24 -> 0 | L25: =L23+L24 -> 0 | M25: =M23+M24 -> 0
B27: TOTAL CONSOLIDATED PRICE | D27: =D11+D20+D25 -> 18169 | F27: =F11+F20+F25 -> 0 | G27: =G11+G20+G25 -> 0 | H27: =H11+H20+H25 -> 0 | I27: =I11+I20+I25 -> 0 | J27: =J11+J20+J25 -> 0 | K27: =K11+K20+K25 -> 0 | L27: =L11+L20+L25 -> 0 | M27: =M11+M20+M25 -> 0

Sheet Annexure D1_Rental Rates
B2: ANNEXURE D1_COMPUTER HARDWARE RENTAL RATES TRANSNET REQUEST FOR PROPOSAL [RFP] : HOAC-HO-37603 DESCRIPTION: FOR THE SUPPLY AND LEASING OF END USER COMPUTING HARDWARE TO TRANSNET FREIGHT RAIL ON AN AS AND WHEN BASIS FOR A PERIOD OF FIVE [5] YEARS.
B3: RENTAL TERM | C3: 36 Months 4 | D3: 48 Months | E3: 60 Months
B4: RESERVE BANK PRIME LENDING RATE AS AT ADD DATE AND TIME (e.g. 6,00%) 1
B5: PROPOSED VENDOR LENDING RATE 2 (e.g. 5,50%)
B6: % VARIANCE FROM PRIME (e.g. PRIME LESS 0.5%) 3 | C6: =C4-C5 -> 0 | D6: =D4-D5 -> 0 | E6: =E4-E5 -> 0
B8: 1 This is the Reserve Bank Prime Lending Rate as published on the Reserve Bank Website at the close of business 7 days prior to the closing date of this tender
B9: 2 The lending or lease rate proposed by the vendor
B10: 3 This lending rate is fixed in relation to the Reserve Bank Prime Lending Rate for the duration of the contract e.g. Prime less 2% - the rate changes only if the Prime Lending Rate changes but remains 2% below prime for the duration of the agreement. This is a calculated value obtained by subtracting the the proposed lending rate from the Prime Lending Rate
B11: 4 For purposes of calculating a single contract value for comparative purposes, this 36-month rate will be applied to all priced items at the volumes indicated to determine the total estimated value of this proposal
B13: Name and Surname: | C13: Signature:

Sheet Annexure D2_Lease Options
B2: ANNEXURE D2_COMPUTER HARDWARE LEASE OPTIONS TRANSNET REQUEST FOR PROPOSAL [RFP] : HOAC-HO-37603 DESCRIPTION: FOR THE SUPPLY AND LEASING OF END USER COMPUTING HARDWARE TO TRANSNET FREIGHT RAIL ON AN AS AND WHEN BASIS FOR A PERIOD OF FIVE [5] YEARS.
B3: COMPUTER OPERATIONAL LEASE OPTIONS Transnet Freight Rail wishes to lease the bulk of the equipment on this contract. Purchasing will be limited to bespoke and non standard equipment or equipment for special projects. Transnet Freight Rail further wishes to have: 1) An option to purchase the equipment at the end of the lease term at a predetermined purchase price as per the table below. By signing this page the Bidder agrees to the end-of-term value of the equipment. 2) An option to return the equipment at no additional cost to Transnet Freight Rail at the end of the term. 3) An option to extend the lease of the existing equipment, on either a month-to-month or a fixed-term basis at a discounted pre-determined rate as per the table below. By signing this page the Bidder agrees to the extention terms set out in teh table below. Please provide options for special short term leases for 1 week, 1 month and 3 month periods. The percentages indicated in the table below Column C to be used for rental extension calculations. The percentages indicated in the table below Column D to be used in the place of the Fair Market Value at the end of term for calculations.
B4: Extension Term | C4: Extended rental discount as a percentage of the monthly rent 3 | D4: Purchase price at the end of the extension (percentage of the initial procurement price) 1
B5: Monthly Extension | C5: 0.15 | D5: 0.075
B6: 6-Month Extension | C6: 0.3 | D6: 0.05
B7: 12-Month Extension | C7: 0.5 | D7: 0.025
B8: 24-Month Extension | C8: 0.75 | D8: 0
B10: The percentages indicated in Column D in the table above will apply to all settlements required during the execution of this contract. For settlements during the first 36-month term, the settlement will comprise of the outstanding rental payments but the "Fair Market Value" principle will be replaced with an agreed value equal to 10% of the initial purchase price. In addition, where costs of wear and tear exceed these percentages upon return, the claim from the Bidder will be limited to this percentage. By signing this page the Bidder agrees to the terms and percentages contained in this page.
B12: Name and Surname: | C12: Signature:

Sheet Annexure D3_Desktop Pricing
B2: ANNEXURE D3_COMPUTER HARDWARE DESKTOP PRICING TRANSNET REQUEST FOR PROPOSAL [RFP] : HOAC-HO-37603 DESCRIPTION: FOR THE SUPPLY AND LEASING OF END USER COMPUTING HARDWARE TO TRANSNET FREIGHT RAIL ON AN AS AND WHEN BASIS FOR A PERIOD OF FIVE [5] YEARS.
C3: 1. Traditional Mainstream Desktop [TM] Type 1 | F3: 2. Traditional Mainstream Desktop [TM] Type 2 | I3: 3. Creator Desktop [CD] | L3: 4. Micro Form Factor Desktop [MF] Type 1 | O3: 5. Micro Form Factor Desktop [MF] Type 2 | R3: 6. Thin Client [TC] | U3: 7. AIO PC Touch [APT]
B4: Form Factor | C4: Tower (+/- 20L) | F4: Tower (+/- 20L) | I4: Tower | L4: Tiny (+-1L ) | O4: Tiny (+-1L ) | R4: Thin Client | U4: All-in- One with Monitor stand and VESA support (100mm)
B5: Chipset | C5: Intel | F5: AMD | I5: Intel | L5: Intel | O5: AMD | R5: AMD | U5: Intel
B6: Processor | C6: Intel i7 | F6: Ryzen 7 | I6: Intel Xeon E, 4 Cores | L6: Intel i7 | O6: Ryzen 7 | R6: Ryzen 5 | U6: Intel i7
B7: Graphics | C7: Integrated Graphics | F7: Integrated Graphics | I7: Graphics Card Quad (4) port, 2GB DDR3, Dual-Link DVI-I, Display Port Graphics Card | L7: Integrated Graphics | O7: Integrated Graphics | R7: Integrated Graphics | U7: Integrated Graphics
C8: Support for 2 x 4 port graphics card | F8: Support for 2 x 4 port graphics card | L8: 1 x Display Port, 2 x Other, Supports two independent displays | O8: 1 x Display Port, 2 x Other, Supports two independent displays | R8: 1 x Display Port, 2 x Other, Supports two independent displays | U8: 1 x Display Port, 2 x Other, Supports two independent displays
B9: Display | U9: 24" Touch (604.5mm) Full HD 1080p (1920x1080) TFT colour, WVA panel, wide viewing angle (+/- 89°), LED backlight, 250 nits, 16:9 aspect ratio, 1000:1 contrast ratio, (DP in / out combo)
B10: Memory Type | C10: DDR4, Minimum 2 sockets | F10: DDR4, Minimum 2 sockets | I10: DDR4, Minimum 2 sockets | L10: DDR4, Minimum 2 sockets | O10: DDR4, Minimum 2 sockets | R10: DDR4, Minimum 2 sockets | U10: DDR4, Minimum 2 sockets
B11: Memory Size | C11: 16GB, 1 Dimm | F11: 16GB, 1 Dimm | I11: 32GB, 1 Dimm | L11: 16GB, 1 Dimm | O11: 16GB, 1 Dimm | R11: 8GB, 1 Dimm | U11: 16GB, 1 Dimm
B12: Hard Disk Type | C12: Sata | F12: Sata | I12: Sata | L12: Sata | O12: Sata | R12: M.2 SSD | U12: Sata
B13: Hard Disk Size | C13: Minimum 500GB 3.5", 2 x HDD Bays | F13: Minimum 500GB 3.5", 2 x HDD Bays | I13: Minimum 1TB 3.5", 4 x HDD Bays | L13: Minimum 500GB 2.5", 2 x HDD Bays | O13: Minimum 500GB 2.5", 2 x HDD Bays | R13: 128GB SSD M.2 | U13: Minimum 500GB 3.5", 2 x HDD Bays
B14: Optical Drive | C14: None | F14: None | I14: None | L14: None | O14: None | R14: None | U14: None
B15: Connectivity | C15: Gigabit Ethernet, Wake on LAN | F15: Gigabit Ethernet, Wake on LAN | I15: Gigabit Ethernet, Wake on LAN | L15: Gigabit Ethernet, Wake on LAN | O15: Gigabit Ethernet, Wake on LAN | R15: Gigabit Ethernet, Wake on LAN | U15: Gigabit Ethernet, Wake on LAN
B16: Ports | C16: Front ports: 2 x USB 3.0, microphone (3.5mm), headphone (3.5mm) | F16: Front ports: 2 x USB 3.0, microphone (3.5mm), headphone (3.5mm) | I16: Front ports: 2 x USB 3.0, microphone (3.5mm), headphone (3.5mm) | L16: Front ports: 2 x USB 3.0, microphone (3.5mm), headphone (3.5mm) | O16: Front ports: 2 x USB 3.0, microphone (3.5mm), headphone (3.5mm) | R16: Front ports: 2 x USB 3.0, microphone (3.5mm), headphone (3.5mm) | U16: Rear ports: Four USB 3.0, Ethernet (RJ-45), Display Port in/out combo port
C17: Rear ports: 4 x USB 3.0, 1 x serial (9-pin), 1 x Ethernet (RJ-45), 1 x HDMI, 2 x Other graphics | F17: Rear ports: 4 x USB 3.0, 1 x serial (9-pin), 1 x Ethernet (RJ-45), 1 x HDMI, 2 x Other graphics | I17: Rear ports: 4 x USB 3.0, 1 x serial (9-pin), 1 x Ethernet (RJ-45), 1 x Graphics | L17: Rear ports: 4 x USB 3.0, 1 x serial (9-pin), 1 x Ethernet (RJ-45), 1 x VGA,1 x Display Port/HDMI, 1 x Other | O17: Rear ports: 4 x USB 3.0, 1 x serial (9-pin), 1 x Ethernet (RJ-45), 1 x VGA,1 x Display Port/HDMI, 1 x Other | R17: Rear ports: 4 x USB 3.0, 1 x serial (9-pin), 1 x Ethernet (RJ-45), 1 x VGA,1 x Display Port/HDMI, 1 x Other | U17: Side ports: Two USB 3.0 , optional card reader, one headphone / microphone combo jack (3.5mm)
C18: Rear audio ports: Line-in (3.5mm), line-out (3.5mm), microphone-in (3.5mm) | F18: Rear audio ports: Line-in (3.5mm), line-out (3.5mm), microphone-in (3.5mm) | I18: Rear audio ports: Line-in (3.5mm), line-out (3.5mm), microphone-in (3.5mm) | L18: Rear audio ports: Line-in (3.5mm), line-out (3.5mm), microphone-in (3.5mm) | O18: Rear audio ports: Line-in (3.5mm), line-out (3.5mm), microphone-in (3.5mm) | R18: Rear audio ports: Line-in (3.5mm), line-out (3.5mm), microphone-in (3.5mm)
B19: Audio | C19: High Definition (HD) Audio, internal speaker front and rear | F19: High Definition (HD) Audio, internal speaker front and rear | I19: High Definition (HD) Audio, internal speaker front and rear | L19: High Definition (HD) Audio, internal speaker front and rear | O19: High Definition (HD) Audio, internal speaker front and rear | R19: High Definition (HD) Audio, internal speaker front and rear | U19: High Definition (HD) Audio, internal speaker front and rear
B20: Keyboard | C20: Full size Keyboard (USB connector), black | F20: Full size Keyboard (USB connector), black | I20: Full size Keyboard (USB connector), black | L20: Full size Keyboard (USB connector), black | O20: Full size Keyboard (USB connector), black | R20: Full size Keyboard (USB connector), black | U20: Full size Keyboard (USB connector), black
B21: Mouse | C21: USB Optical Wheel Mouse, black | F21: USB Optical Wheel Mouse, black | I21: USB Optical Wheel Mouse, black | L21: USB Optical Wheel Mouse, black | O21: USB Optical Wheel Mouse, black | R21: USB Optical Wheel Mouse, black | U21: USB Optical Wheel Mouse, black
B22: Security | C22: 1.Security chip - Trusted Platform Module, TCG 2.0 - compliant | F22: 1.Security chip - Trusted Platform Module, TCG 2.0 - compliant | I22: 1.Security chip - Trusted Platform Module, TCG 2.0 - compliant | L22: 1.Security chip - Trusted Platform Module, TCG 2.0 - compliant | O22: 1.Security chip - Trusted Platform Module, TCG 2.0 - compliant | R22: 1.Security chip - Trusted Platform Module, TCG 2.0 - compliant | U22: 1.Security chip - Trusted Platform Module, TCG 2.0 - compliant
C23: 2. Chassis Intrusion Switch | F23: 2. Chassis Intrusion Switch | I23: 2. Chassis Intrusion Switch | L23: 2. Chassis Intrusion Switch | O23: 2. Chassis Intrusion Switch | R23: 2. Chassis Intrusion Switch | U23: 2. Chassis Intrusion Switch
C24: 3. One lock to secure both cover and entire system: a. Padlock loop (rear for optional padlock) b. Security slot (in rear for optional cable) | F24: 3. One lock to secure both cover and entire system: a. Padlock loop (rear for optional padlock) b. Security slot (in rear for optional cable) | I24: 3. One lock to secure both cover and entire system: a. Padlock loop (rear for optional padlock) b. Security slot (in rear for optional cable) | L24: 3. One lock to secure both cover and entire system: a. Padlock loop (rear for optional padlock) b. Security slot (in rear for optional cable) | O24: 3. One lock to secure both cover and entire system: a. Padlock loop (rear for optional padlock) b. Security slot (in rear for optional cable) | R24: 3. One lock to secure both cover and entire system: a. Padlock loop (rear for optional padlock) b. Security slot (in rear for optional cable) | U24: 3. One lock to secure both cover and entire system: a. Padlock loop (rear for optional padlock) b. Security slot (in rear for optional cable)
C25: 4. Power-on, Administrator & Hard disk password | F25: 4. Power-on, Administrator & Hard disk password | I25: 4. Power-on, Administrator & Hard disk password | L25: 4. Power-on, Administrator & Hard disk password | O25: 4. Power-on, Administrator & Hard disk password | R25: 4. Power-on, Administrator & Hard disk password | U25: 4. Power-on, Administrator & Hard disk password
C26: 5. Boot sequence control | F26: 5. Boot sequence control | I26: 5. Boot sequence control | L26: 5. Boot sequence control | O26: 5. Boot sequence control | R26: 5. Boot sequence control | U26: 5. Boot sequence control
C27: 6. Boot without keyboard and mouse | F27: 6. Boot without keyboard and mouse | I27: 6. Boot without keyboard and mouse | L27: 6. Boot without keyboard and mouse | O27: 6. Boot without keyboard and mouse | R27: 6. Boot without keyboard and mouse | U27: 6. Boot without keyboard and mouse
B28: Environmental | C28: ENERGY STAR 6.0, EPEAT Gold rating; ErP Lot 3; GREENGUARD; RoHS-compliant | F28: ENERGY STAR 6.0, EPEAT Gold rating; ErP Lot 3; GREENGUARD; RoHS-compliant | I28: ENERGY STAR 6.0, EPEAT Gold rating; ErP Lot 3; GREENGUARD; RoHS-compliant | L28: ENERGY STAR 6.0, EPEAT Gold rating; ErP Lot 3; GREENGUARD; RoHS-compliant | O28: ENERGY STAR 6.0, EPEAT Gold rating; ErP Lot 3; GREENGUARD; RoHS-compliant | R28: ENERGY STAR 6.0, EPEAT Gold rating; ErP Lot 3; GREENGUARD; RoHS-compliant | U28: ENERGY STAR 6.0, EPEAT Gold rating; ErP Lot 3; GREENGUARD; RoHS-compliant
B29: Operating System Software | C29: Windows 11 Enterprise 64-bit | F29: Windows 11 Enterprise 64-bit | I29: Windows 11 Enterprise 64-bit | L29: Windows 11 Enterprise 64-bit | O29: Windows 11 Enterprise 64-bit | R29: Windows 11 Enterprise 64-bit | U29: Windows 11 Enterprise 64-bit
B30: Warranty | C30: 3 Years On-Site Next Business Day | F30: 3 Years On-Site Next Business Day | I30: 3 Years On-Site Next Business Day | L30: 3 Years On-Site Next Business Day | O30: 3 Years On-Site Next Business Day | R30: 3 Years On-Site Next Business Day | U30: 3 Years On-Site Next Business Day
B31: On-board SATA | C31: 3 On-board SATA connectors | F31: 3 On-board SATA connectors | I31: 3 On-board SATA connectors | U31: 3 On-board SATA connectors
B32: Plug | C32: Red Octopus Plug (CPU and monitor to connect to single red power) | F32: Red Octopus Plug (CPU and monitor to connect to single red power) | I32: Red Octopus Plug (CPU and monitor to connect to single red power) | L32: Red Octopus Plug (CPU and monitor to connect to single red power) | O32: Red Octopus Plug (CPU and monitor to connect to single red power) | R32: Red Octopus Plug (CPU and monitor to connect to single red power) | U32: Red Octopus Plug (CPU and monitor to connect to single red power)
B33: Image | C33: Transnet Freight Rail Software Image Installed via Microsoft Autopilot | F33: Transnet Freight Rail Software Image Installed via Microsoft Autopilot | I33: Transnet Freight Rail Software Image Installed via Microsoft Autopilot | L33: Transnet Freight Rail Software Image Installed via Microsoft Autopilot | O33: Transnet Freight Rail Software Image Installed via Microsoft Autopilot | R33: Transnet Freight Rail Software Image Installed via Microsoft Autopilot | U33: Transnet Freight Rail Software Image Installed via Microsoft Autopilot
B34: Asset Tag | C34: Transnet Freight Rail Asset Tag with unique number | F34: Transnet Freight Rail Asset Tag with unique number | I34: Transnet Freight Rail Asset Tag with unique number | L34: Transnet Freight Rail Asset Tag with unique number | O34: Transnet Freight Rail Asset Tag with unique number | R34: Transnet Freight Rail Asset Tag with unique number | U34: Transnet Freight Rail Asset Tag with unique number
B35: Lock | C35: SAFE Kensington Key Lock | F35: SAFE Kensington Key Lock | I35: SAFE Kensington Key Lock | L35: SAFE Kensington Key Lock | O35: SAFE Kensington Key Lock | R35: SAFE Kensington Key Lock | U35: SAFE Kensington Key Lock
B36: Delivery | C36: Delivery to end user | F36: Delivery to end user | I36: Delivery to end user | L36: Delivery to end user | O36: Delivery to end user | R36: Delivery to end user | U36: Delivery to end user
B38: Baseline Quantity (Indicative) | C38: =(910+15+375)*0.1 -> 130 | F38: =(910+15+375)*0.9 -> 1170 | I38: 15 | L38: =890*0.1+1 -> 90 | O38: =890*0.9-1 -> 800 | R38: 360 | U38: 5
B40: Proposed Brand and Model
B41: Purchase Price per Unit (ZAR)
B42: Total VAT Exclusive (A) | C42: =C41*C38 -> 0 | F42: =F41*F38 -> 0 | I42: =I41*I38 -> 0 | L42: =L41*L38 -> 0 | O42: =O41*O38 -> 0 | R42: =R41*R38 -> 0 | U42: =U41*U38 -> 0
B43: VAT (B) | C43: =C42*0.15 -> 0 | F43: =F42*0.15 -> 0 | I43: =I42*0.15 -> 0 | L43: =L42*0.15 -> 0 | O43: =O42*0.15 -> 0 | R43: =R42*0.15 -> 0 | U43: =U42*0.15 -> 0
...

Sheet Annexure D4_Laptop Pricing
B2: ANNEXURE D4_COMPUTER HARDWARE LAPTOP PRICING TRANSNET REQUEST FOR PROPOSAL [RFP] : HOAC-HO-37603 DESCRIPTION: FOR THE SUPPLY AND LEASING OF END USER COMPUTING HARDWARE TO TRANSNET FREIGHT RAIL ON AN AS AND WHEN BASIS FOR A PERIOD OF FIVE [5] YEARS.
C3: 1. Creator Laptop [C] | F3: 2. Modern Mainstream Laptop [MM] Type 1 | I3: 3. Modern Mainstream Laptop [MM] Type 2 | L3: 4. Highly Mobile Laptop [HM] Type 1 | O3: 5. Highly Mobile Laptop [HM] Type 2
B4: Display Size | C4: 14" | F4: 14" | I4: 14" | L4: 13" | O4: 13"
B5: Chipset | C5: Intel | F5: Intel | I5: AMD | L5: Intel | O5: AMD
B6: Processor | C6: Intel Xeon E 4 cores | F6: Intel i7 | I6: Ryzen 7 | L6: Intel i7 | O6: Ryzen 7
B7: Graphics | C7: Graphics Card e.g. NVIDIA | F7: Integrated Graphics | I7: Integrated Graphics | L7: Integrated Graphics | O7: Integrated Graphics
B8: Display | C8: HD (1366x768), 200 nits, 300:1 contrast ratio | F8: HD (1366x768), 200 nits, 300:1 contrast ratio | I8: HD (1366x768), 200 nits, 300:1 contrast ratio | L8: HD (1366x768), 200 nits, 300:1 contrast ratio | O8: HD (1366x768), 200 nits, 300:1 contrast ratio
B9: Camera | C9: HD720p resolution, low light sensitive, fixed focus | F9: HD720p resolution, low light sensitive, fixed focus | I9: HD720p resolution, low light sensitive, fixed focus | L9: HD720p resolution, low light sensitive, fixed focus | O9: HD720p resolution, low light sensitive, fixed focus
B10: Memory Type | C10: DDR4, 2 x socket | F10: DDR4, 2 x socket | I10: DDR4, 2 x socket | L10: DDR4, 2 x socket | O10: DDR4, 2 x socket
B11: Memory Size | C11: 32GB, 1 Dimm | F11: 16GB, 1 Dimm | I11: 16GB, 1 Dimm | L11: 16GB, 1 Dimm | O11: 16GB, 1 Dimm
B12: Hard Disk Type | C12: SSD | F12: SSD | I12: SSD | L12: SSD | O12: SSD
B13: Hard Disk Size | C13: 1TB 2.5" | F13: Minimum 500GB 2.5" | I13: Minimum 500GB 2.5" | L13: Minimum 512GB 2.5" | O13: Minimum 512GB 2.5"
B14: Connectivity | C14: Gigabit Ethernet | F14: Gigabit Ethernet | I14: Gigabit Ethernet | L14: Gigabit Ethernet | O14: Gigabit Ethernet
B15: WWAN | C15: LTE | F15: LTE | I15: LTE | L15: LTE | O15: LTE
... B19: Security | C19: Security: Power-on password, hard disk password, supervisor password, security keyhole | F19: Security: Power-on password, hard disk password, supervisor password, security keyhole | I19: Security: Power-on password, hard disk password, supervisor password, security keyhole | L19: Security: Power-on password, hard disk password, supervisor password, security keyhole | O19: Security: Power-on password, hard disk password, supervisor password, security keyhole
C20: Security chip: Trusted Platform Module, TCG 2.0 -compliant | F20: Security chip: Trusted Platform Module, TCG 2.0 -compliant | I20: Security chip: Trusted Platform Module, TCG 2.0 -compliant | L20: Security chip: Trusted Platform Module, TCG 2.0 -compliant | O20: Security chip: Trusted Platform Module, TCG 2.0 -compliant
C21: Fingerprint reader: Swipe style fingerprint reader on the keyboard bezel | F21: Fingerprint reader: Swipe style fingerprint reader on the keyboard bezel | I21: Fingerprint reader: Swipe style fingerprint reader on the keyboard bezel | L21: Fingerprint reader: Swipe style fingerprint reader on the keyboard bezel | O21: Fingerprint reader: Swipe style fingerprint reader on the keyboard bezel
B22: Environmental | C22: ENERGY STAR 6.1; RoHS-compliant | F22: ENERGY STAR 6.1; RoHS-compliant | I22: ENERGY STAR 6.1; RoHS-compliant | L22: ENERGY STAR 6.1; RoHS-compliant | O22: ENERGY STAR 6.1; RoHS-compliant
B23: Operating System Software | C23: Windows 11 Enterprise 64-bit | F23: Windows 11 Enterprise 64-bit | I23: Windows 11 Enterprise 64-bit | L23: Windows 11 Enterprise 64-bit | O23: Windows 11 Enterprise 64-bit
B24: Warranty | C24: 3 Years On-Site Next Business Day | F24: 3 Years On-Site Next Business Day | I24: 3 Years On-Site Next Business Day | L24: 3 Years On-Site Next Business Day | O24: 3 Years On-Site Next Business Day
B25: Ports | C25: Three USB 3.0 ( Always On), HDMI, Ethernet (RJ-45 or equivalent) | F25: Three USB 3.0 ( Always On), MiniDP/HDMI, Ethernet (RJ-45 or equivalent) | I25: Three USB 3.0 ( Always On), MiniDP/HDMI, Ethernet (RJ-45 or equivalent) | L25: Three USB 3.0 ( Always On), MiniDP/HDMI, Ethernet (RJ-45 or equivalent) | O25: Three USB 3.0 ( Always On), MiniDP/HDMI, Ethernet (RJ-45 or equivalent)
C26: 4-in-1 reader | F26: 4-in-1 reader | I26: 4-in-1 reader | L26: 4-in-1 reader | O26: 4-in-1 reader
C27: HDMI to VGA Monitor Cable | F27: MiniDP / HDMI to VGA Monitor Cable | I27: MiniDP / HDMI to VGA Monitor Cable | L27: MiniDP / HDMI to VGA Monitor Cable | O27: MiniDP / HDMI to VGA Monitor Cable
B28: Multimedia | C28: HD Audio, stereo speakers, 1W x 2 / dual array microphone, combo audio/microphone jack/ internal speaker | F28: HD Audio, stereo speakers, 1W x 2 / dual array microphone, combo audio/microphone jack/ internal speaker | I28: HD Audio, stereo speakers, 1W x 2 / dual array microphone, combo audio/microphone jack/ internal speaker | L28: HD Audio, stereo speakers, 1W x 2 / dual array microphone, combo audio/microphone jack/ internal speaker | O28: HD Audio, stereo speakers, 1W x 2 / dual array microphone, combo audio/microphone jack/ internal speaker
B29: Keyboard | C29: 6-row, spill-resistant, multimedia Fn keys, LED backlight | F29: 6-row, spill-resistant, multimedia Fn keys, LED backlight | I29: 6-row, spill-resistant, multimedia Fn keys, LED backlight | L29: 6-row, spill-resistant, multimedia Fn keys, LED backlight | O29: 6-row, spill-resistant, multimedia Fn keys, LED backlight
B30: Pointing Device | C30: TrackPoint pointing device and surface touchpad, multi-touch | F30: TrackPoint pointing device and surface touchpad, multi-touch | I30: TrackPoint pointing device and surface touchpad, multi-touch | L30: TrackPoint pointing device and surface touchpad, multi-touch | O30: TrackPoint pointing device and surface touchpad, multi-touch
B31: Mouse | C31: USB Optical Wheel Travel Mouse | F31: USB Optical Wheel Travel Mouse | I31: USB Optical Wheel Travel Mouse | L31: USB Optical Wheel Travel Mouse | O31: USB Optical Wheel Travel Mouse
B32: Carry Bag | C32: Basic backpack relevant to display size | F32: Basic backpack relevant to display size | I32: Basic backpack relevant to display size | L32: Basic backpack relevant to display size | O32: Basic backpack relevant to display size
B33: Plug | C33: Red Plug | F33: Red Plug | I33: Red Plug | L33: Red Plug | O33: Red Plug
B34: Lock | C34: Notebook Key Lock | F34: Notebook Key Lock | I34: Notebook Key Lock | L34: Notebook Key Lock | O34: Notebook Key Lock
B35: Image | C35: Transnet Freight Rail Software Image Installed via Microsoft Autopilot | F35: Transnet Freight Rail Software Image Installed via Microsoft Autopilot | I35: Transnet Freight Rail Software Image Installed via Microsoft Autopilot | L35: Transnet Freight Rail Software Image Installed via Microsoft Autopilot | O35: Transnet Freight Rail Software Image Installed via Microsoft Autopilot
B36: Asset Tag | C36: Transnet Freight Rail Asset Tag with unique number | F36: Transnet Freight Rail Asset Tag with unique number | I36: Transnet Freight Rail Asset Tag with unique number | L36: Transnet Freight Rail Asset Tag with unique number | O36: Transnet Freight Rail Asset Tag with unique number
B37: Delivery | C37: Delivery to end user | F37: Delivery to end user | I37: Delivery to end user | L37: Delivery to end user | O37: Delivery to end user
B39: Baseline Quantity [Indicative] | C39: 100 | F39: =8260*0.4-4 -> 3300 | I39: =8260*0.6+4 -> 4960 | L39: 25 | O39: 95
B41: Proposed Brand and Model
B42: Quantity for this calculation | C42: 50 | F42: =F39*0.65 -> 2145 | I42: =I39*0.65 -> 3224 | L42: 1 | O42: 94
B43: Purchase Price per Unit
B44: Total Price Excluding VAT (A) | C44: =C42*C43 -> 0 | F44: =F42*F43 -> 0 | I44: =I42*I43 -> 0 | L44: =L42*L43 -> 0 | O44: =O42*O43 -> 0
B45: VAT (B) | C45: =C44*0.15 -> 0 | F45: =F44*0.15 -> 0 | I45: =I44*0.15 -> 0 | L45: =L44*0.15 -> 0 | O45: =O44*0.15 -> 0
B46: Total Price Including VAT (A)+(B) | C46: =C45+C44 -> 0 | F46: =F45+F44 -> 0 | I46: =I45+I44 -> 0 | L46: =L45+L44 -> 0 | O46: =O45+O44 -> 0
...

Sheet Annexure D5 _Tablet Pricing
B2: ANNEXURE D5_TABLET PRICING TRANSNET REQUEST FOR PROPOSAL [RFP] : HOAC-HO-37603 DESCRIPTION: FOR THE SUPPLY AND LEASING OF END USER COMPUTING HARDWARE TO TRANSNET FREIGHT RAIL ON AN AS AND WHEN BASIS FOR A PERIOD OF FIVE [5] YEARS.
C3: 1. Executive iPad | F3: 2. Rugged Tablets
B4: Display Size | C4: 11" | F4: 11"
B5: Chipset | C5: Intel | F5: Android 7 (minimum)
B6: Connectivity | C6: Wi-Fi, Cellular, Bluetooth | F6: Wi-Fi, Cellular, Bluetooth
B7: Colour | C7: Space Grey | F7: Black
B8: Memory Size | C8: 256GB | F8: 64GB (minimum)
B9: Asset Tag | C9: Transnet Freight Rail Asset Tag with unique number | F9: Transnet Freight Rail Asset Tag with unique number
B10: Delivery | C10: Delivery to end user | F10: Delivery to end user
B11: Removal and Disposal | C11: Removal and disposal at the end of the rental term | F11: Removal and disposal at the end of the rental term
B13: Baseline Quantity [Indicative] | C13: 120 | F13: 7000
B15: Proposed Brand and Model
B16: Quantity for calculation | C16: 119 | F16: 7000
B17: Purchase Price per Unit
B18: Total Price EXCLUDING VAT (A) | C18: =C16*C17 -> 0 | F18: =F16*F17 -> 0
B19: VAT (B) | C19: =+C18*0.15 -> 0 | F19: =+F18*0.15 -> 0
B20: Total Price INCLUDING VAT (A)+(B) | C20: =C19+C18 -> 0 | F20: =F19+F18 -> 0
B22: Upgrade Options and Extras | C22: Executive iPad Upgrade Options and Extras | D22: Baseline Quantity | E22: Unit Price (ZAR) | F22: Rugged Tablet Upgrade Options and Extras | G22: Baseline Quantity | H22: Unit Price (ZAR)
B23: Upgrade Options and Extras | C23: 12" (same specification as the 11") | D23: 1
C24: Smart Keyboard Folio 11" | D24: 95 | F24: Ruggedised Cover | G24: 7000
C25: Magic Keyboard 11" | D25: 24
C26: Magic Keyboard 12" | D26: 1
C27: Apple Pencil (2nd generation) | D27: 120
B29: Total Price Upgrade Options and Extras (VAT Exclusive) (C) | E29: =D23*E23+D24*E24+D25*E25+D27*E27 -> 0 | H29: =G24*H24 -> 0
B30: VAT (D) | E30: =E29*0.15 -> 0 | H30: =H29*0.15 -> 0
B31: Total Price Upgrade Options and Extras (VAT Inclusive) (C)+(D) | E31: =E29+E30 -> 0 | H31: =H29+H30 -> 0
B33: TOTAL TABLETS EXCLUDING VAT (A)+(C) | E33: =E29+C18 -> 0 | H33: =H29+F18 -> 0
B34: TOTAL TABLETS INCLUDING VAT (A)+(B)+(C)+(D) | E34: =E31+C20 -> 0 | H34: =H31+F20 -> 0
B36: To facilitate like-for-like comparison bidders must duly complete and submit the ANNEXURE D5_TABLET PRICING strictly in accordance with this specification schedule and not utilise a different format. Deviation from this pricing schedule could result in a bid being declared non responsive
B37: By signing this Annexure D5_Tablet Pricing the Bidder agrees that what they are providing will not be lesser than the minimum specifications set out in this Annexure A_Computer Hardware Specifications
B38: Name and Surname: | C38: Signature:

Sheet Traditional Mainstream Desktop
A1: Traditional Mainstream Desktop Pricing
A2: PROPOSED DESKTOP MODEL FOR TRADITIONAL MAINSTREAM USE | C2: (MODEL Number)
A3: Traditional Mainstream Bundle incl Monitor minimum specifications | C3: Can Supply Yes / No | D3: Improved Spec (Description/Brand/SKU or Part Number) | E3: Baseline Quantity | F3: Published List Price | G3: % Discount | H3: PURCHASE PRICE
E5: 6480 | F5: 15000 | H5: =F5-(F5*G5) -> 15000
A6: Form Factor | B6: Tower (+/- 20L)
A7: Chipset | B7: Intel
A8: Processor | B8: CORE i5 Dual Core
A9: Graphics | B9: Intergrated Graphics
B10: 1 x Display Port, 2 x Other, Supports two independent displays
A11: Memory Type | B11: DDR4, Minimum 2 sockets
A12: Memory Size | B12: 16GB, 1 Dimm
A13: Hard Disk Type | B13: Sata
A14: Hard Disk Size | B14: Minimum 500GB 3.5", 2 x HDD Bays
A15: Monitor | B15: 22" WIDE LED TFT Tilt Monitor
A16: Optical Drive | B16: None
A17: Connectivity | B17: Gigabit ethernet, Wake on LAN
A18: Ports | B18: Front ports: 2 x USB 3.0, microphone (3.5mm), headphone (3.5mm)
B19: Rear ports: 4 x USB 3.0, 1 x serial (9-pin), 1 x ethernet (RJ-45), 1 x VGA,1 x DisplayPort, 1 x Other
B20: Rear audio ports: Line-in (3.5mm), line-out (3.5mm), microphone-in (3.5mm)
A21: Audio | B21: High Definition (HD) Audio, internal speaker
B22: Front and rear
A23: Keyboard | B23: Full size Keyboard (USB connector), black
A24: Mouse | B24: USB Optical Wheel Mouse, black
A25: Security | B25: 1.Security chip - Trusted Platform Module,
B26: TCG 2.0 - compliant
B27: 2. Chassis Intrusion Switch
B28: 3. One lock to secure both cover and entire system:
B29: a. Padlock loop (rear for optional padlock)
B30: b.Security slot (in rear for optional cable)
B31: 4. Power-on, Administrator & Hard disk password
B32: 5. Boot sequence control
B33: 6. Boot without keyboard and mouse
A34: Environmental | B34: ENERGY STAR 6.0, EPEAT Gold rating; ErP Lot 3; GREENGUARD; RoHS-compliant
A35: Operating System Software | B35: Windows 10 Enterprise 64-bit
A36: Warranty | B36: 3 Years On-Site Next Business Day
A37: On-board SATA | B37: 3 On-board SATA connectors
A38: Plug | B38: Red Octopus Plug (CPU and monitor to connect to single red power)
A39: Image | B39: Transnet Freight Rail Software Image Installed
A40: Asset Tag | B40: Transnet Freight Rail Asset Tag with unique number
A41: Lock | B41: SAFE Kensington Lock
...

Sheet Creator Desktop
A1: Creator Desktop Pricing
A2: PROPOSED DESKTOP MODEL FOR CREATOR DESKTOP USE | C2: (MODEL Number)
A3: Traditional Mainstream Bundle incl Monitor minimum specifications | C3: Can Supply Yes / No | D3: Improved Spec (Description/Brand/SKU or Part Number) | E3: Baseline Quantity | F3: Published List Price | G3: % Discount | H3: PURCHASE PRICE
E5: 150 | F5: 25000 | G5: 0 | H5: 25000
A6: Form Factor | B6: Tower
A7: Chipset | B7: Intel
A8: Processor | B8: Intel Xeon E, 4 Cores
A9: Graphics | B9: Graphics Card Quad port, 2GB DDR3, Dual-Link DVI-I, DisplayPort Graphics Card
A10: Memory Type | B10: DDR4, Minimum 2 sockets
A11: Memory Size | B11: 16GB, 1 Dimm
A12: Hard Disk Type | B12: Sata
A13: Hard Disk Size | B13: Minimum 1TB 3.5", 4 x HDD Bays
A14: Monitor | B14: 24" WIDE LED TFT Tilt Monitor
A15: Optical Drive | B15: None
A16: Connectivity | B16: Gigabit ethernet, Wake on LAN
A17: Ports | B17: Front ports: 2 x USB 3.0, microphone (3.5mm), headphone (3.5mm)
B18: Rear ports: 4 x USB 3.0, 1 x serial (9-pin), 1 x ethernet (RJ-45), 1 x Graphics
B19: Rear audio ports: Line-in (3.5mm), line-out (3.5mm), microphone-in (3.5mm)
A20: Audio | B20: High Definition (HD) Audio, internal speaker
B21: Front and rear
A22: Keyboard | B22: Full size Keyboard (USB connector), black
A23: Mouse | B23: USB Optical Wheel Mouse, black
A24: Security | B24: 1.Security chip - Trusted Platform Module,
B25: TCG 2.0 - compliant
B26: 2. Chassis Intrusion Switch
B27: 3. One lock to secure both cover and entire system:
B28: a. Padlock loop (rear for optional padlock)
B29: b.Security slot (in rear for optional cable)
B30: 4. Power-on, Administrator & Hard disk password
B31: 5. Boot sequence control
B32: 6. Boot without keyboard and mouse
A33: Environmental | B33: ENERGY STAR 6.0, EPEAT Gold rating; ErP Lot 3; GREENGUARD; RoHS-compliant
A34: Operating System Software | B34: Windows 10 Enterprise 64-bit
A35: Warranty | B35: 3 Years On-Site Next Business Day
A36: On-board SATA | B36: 3 On-board SATA connectors
A37: Plug | B37: Red Octopus Plug (CPU and monitor to connect to single red power)
A38: Image | B38: Transnet Freight Rail Software Image Installed
A39: Asset Tag | B39: Transnet Freight Rail Asset Tag with unique number
A40: Lock | B40: SAFE Kensington Lock
A41: Delivery | B41: Delivery to end user
...

Sheet Micro Form Factor Desktop 
A1: Micro Form Factor Desktop Pricing
A2: PROPOSED DESKTOP MODEL FOR MICRO FORM FACTOR USE | C2: (MODEL Number)
A3: Micro Form Factor Desktop incl Monitor minimum specifications | C3: Can Supply Yes / No | D3: Improved Spec (Description/Brand/SKU or Part Number) | E3: Baseline Quantity | F3: Published List Price | G3: % Discount | H3: PURCHASE PRICE
E5: 20 | F5: 10000 | G5: 0 | H5: 10000
A6: Form Factor | B6: Tiny (+-1L )
A7: Chipset | B7: Intel
A8: Processor | B8: CORE i5 Dual Core
A9: Graphics | B9: Intergrated Graphics
B10: 1 x Display Port, 2 x Other, Supports two independent displays
A11: Memory Type | B11: DDR4, Minimum 2 sockets
A12: Memory Size | B12: 8GB, 1 Dimm
A13: Hard Disk Type | B13: Sata
A14: Hard Disk Size | B14: Minimum 500GB 2.5", 2 x HDD Bays
A15: Monitor | B15: 22" WIDE LED TFT Tilt Monitor
A16: Optical Drive | B16: None
A17: Connectivity | B17: Gigabit ethernet, Wake on LAN
A18: Ports | B18: Front ports: 2 x USB 3.0, microphone (3.5mm), headphone (3.5mm)
B19: Rear ports: 4 x USB 3.0, 1 x serial (9-pin), 1 x ethernet (RJ-45), 1 x VGA,1 x DisplayPort/HDMI, 1 x Other
B20: Rear audio ports: Line-in (3.5mm), line-out (3.5mm), microphone-in (3.5mm)
A21: Audio | B21: High Definition (HD) Audio, internal speaker
B22: Front and rear
A23: Keyboard | B23: Full size Keyboard (USB connector), black
A24: Mouse | B24: USB Optical Wheel Mouse, black
A25: Security | B25: 1.Security chip - Trusted Platform Module,
B26: TCG 2.0 - compliant
B27: 2. Chassis Intrusion Switch
B28: 3. One lock to secure both cover and entire system:
B29: a. Padlock loop (rear for optional padlock)
B30: b.Security slot (in rear for optional cable)
B31: 4. Power-on, Administrator & Hard disk password
B32: 5. Boot sequence control
B33: 6. Boot without keyboard and mouse
A34: Environmental | B34: ENERGY STAR 6.0, EPEAT Gold rating; ErP Lot 3; GREENGUARD; RoHS-compliant
A35: Operating System Software | B35: Windows 10 Enterprise 64-bit
A36: Warranty | B36: 3 Years On-Site Next Business Day
A37: Plug | B37: Red Octopus Plug (CPU and monitor to connect to single red power)
A38: Image | B38: Transnet Freight Rail Software Image Installed
A39: Asset Tag | B39: Transnet Freight Rail Asset Tag with unique number
A40: Lock | B40: SAFE Kensington Lock
A41: Delivery | B41: Delivery to end user
...

Sheet Thin Client 
A1: Thin Client Pricing
A2: PROPOSED DESKTOP MODEL FOR THIN CLIENT USE | C2: (MODEL Number)
A3: Thin Client incl Monitor minimum specifications | C3: Can Supply Yes / No | D3: Improved Spec (Description/Brand/SKU or Part Number) | E3: Baseline Quantity | F3: Published List Price | G3: % Discount | H3: PURCHASE PRICE
E5: 350 | F5: 9000 | G5: 0 | H5: 9000
A6: Form Factor | B6: Thin Client
A7: Chipset | B7: Intel
A8: Processor | B8: CORE i5 Dual Core
A9: Graphics | B9: Intergrated Graphics
B10: 1 x Display Port, 2 x Other, Supports two independent displays
A11: Memory Type | B11: DDR4, Minimum 2 sockets
A12: Memory Size | B12: 8GB, 1 DIMM
A13: Hard Disk Type | B13: M.2 SSD
A14: Hard Disk Size | B14: 32GB SSD M.2
A15: Monitor | B15: 22" WIDE LED TFT Tilt Monitor
A16: Optical Drive | B16: None
A17: Connectivity | B17: Gigabit ethernet, Wake on LAN
A18: Ports | B18: Front ports: 2 x USB 3.0, microphone (3.5mm), headphone (3.5mm)
B19: Rear ports: 4 x USB 3.0, 1 x serial (9-pin), 1 x ethernet (RJ-45), 1 x VGA,1 x DisplayPort/HDMI, 1 x Other
B20: Rear audio ports: Line-in (3.5mm), line-out (3.5mm), microphone-in (3.5mm)
A21: Audio | B21: High Definition (HD) Audio, internal speaker
B22: Front and rear
A23: Keyboard | B23: Full size Keyboard (USB connector), black
A24: Mouse | B24: USB Optical Wheel Mouse, black
A25: Security | B25: 1.Security chip - Trusted Platform Module,
B26: TCG 2.0 - compliant
B27: 2. Chassis Intrusion Switch
B28: 3. One lock to secure both cover and entire system:
B29: a. Padlock loop (rear for optional padlock)
B30: b.Security slot (in rear for optional cable)
B31: 4. Power-on, Administrator & Hard disk password
B32: 5. Boot sequence control
B33: 6. Boot without keyboard and mouse
A34: Environmental | B34: ENERGY STAR 6.0, EPEAT Gold rating; ErP Lot 3; GREENGUARD; RoHS-compliant
A35: Operating System Software | B35: Windows 10 Embedded 64 bit
A36: Warranty | B36: 3 Years On-Site Next Business Day
A37: Plug | B37: Red Octopus Plug (CPU and monitor to connect to single red power)
A38: Image | B38: Transnet Freight Rail Software Image Installed
A39: Asset Tag | B39: Transnet Freight Rail Asset Tag with unique number
A40: Lock | B40: SAFE Kensington Lock
A41: Delivery | B41: Delivery to end user
...

Sheet AIO PC Touch 
A1: AIO PC Touch Pricing
A2: PROPOSED DESKTOP MODEL FOR AIO PC TOUCH USE | C2: (MODEL Number)
A3: AIO PC Touch | C3: Can Supply Yes / No | D3: Improved Spec (Description/Brand/SKU or Part Number) | E3: Baseline Quantity | F3: Published List Price | G3: % Discount | H3: PURCHASE PRICE
E5: 200 | F5: 16000 | G5: 0 | H5: 16000
A6: Form Factor | B6: All-in- One with Monitor stand and VESA support (100mm)
A7: Chipset | B7: Intel
A8: Processor | B8: CORE i5 Dual Core
A9: Graphics | B9: Intergrated Graphics
B10: 1 x Display Port, 2 x Other, Supports two independent displays
A11: Display | B11: 24" Touch (604.5mm) Full HD 1080p (1920x1080) TFT colour, WVA panel, wide viewing angle (+/- 89°), LED backlight, 250 nits, 16:9 aspect ratio, 1000:1 contrast ratio, (DP in / out combo)
A12: Memory Type | B12: DDR4, Minimum 2 sockets
A13: Memory Size | B13: 8GB, 1 Dimm
A14: Hard Disk Type | B14: Sata
A15: Hard Disk Size | B15: Minimum 500GB 3.5", 2 x HDD Bays
A16: Optical Drive | B16: None
A17: Connectivity | B17: Gigabit ethernet, Wake on LAN
A18: Ports | B18: Rear ports: Four USB 3.0, ethernet (RJ-45), DisplayPort in/out combo port
B19: Side ports: Two USB 3.0 , optional card reader, one headphone / microphone combo jack (3.5mm)
A20: Audio | B20: High Definition (HD) Audio, internal speaker
B21: Front and rear
A22: Keyboard | B22: Full size Keyboard (USB connector), black
A23: Mouse | B23: USB Optical Wheel Mouse, black
A24: Security | B24: 1.Security chip - Trusted Platform Module,
B25: TCG 2.0 - compliant
B26: 2. Chassis Intrusion Switch
B27: 3. One lock to secure both cover and entire system:
B28: a. Padlock loop (rear for optional padlock)
B29: b.Security slot (in rear for optional cable)
B30: 4. Power-on, Administrator & Hard disk password
B31: 5. Boot sequence control
B32: 6. Boot without keyboard and mouse
A33: Environmental | B33: ENERGY STAR 6.0, EPEAT Gold rating; ErP Lot 3; GREENGUARD; RoHS-compliant
A34: Operating System Software | B34: Windows 10 Enterprise 64-bit
A35: Warranty | B35: 3 Years On-Site Next Business Day
A36: On-board SATA | B36: 3 On-board SATA connectors
A37: Plug | B37: Red Octopus Plug (CPU and monitor to connect to single red power)
A38: Image | B38: Transnet Freight Rail Software Image Installed
A39: Asset Tag | B39: Transnet Freight Rail Asset Tag with unique number
A40: Lock | B40: SAFE Kensington Lock
A41: Delivery | B41: Delivery to end user
...

Sheet Highly Mobile Laptop
A1: Highly Mobile Laptop Pricing
A2: PROPOSED LAPTOP MODEL FOR HIGHLY MOBILE USE | C2: (MODEL Number)
A3: Highly Mobile Laptop minimum specifications | C3: Can Supply Yes / No | D3: Improved Spec (Description/Brand/SKU or Part Number) | E3: Baseline Quantity | F3: Published List Price | G3: % Discount | H3: PURCHASE PRICE
E5: 150 | F5: 10000 | G5: 0 | H5: 10000
A6: Form Factor (Display Size) | B6: 12"
A7: Chipset | B7: Intel
A8: Processor | B8: Intel i5
A9: Graphics | B9: Intergrated Graphics
A10: Display | B10: HD (1366x768), 200 nits, 300:1 contrast ratio
A11: Camera | B11: HD720p resolution, low light sensitive, fixed focus
A12: Memory Type | B12: DDR4, 2 x socket
A13: Memory Size | B13: 8GB, 1 Dimm
A14: Hard Disk Type | B14: SSD
A15: Hard Disk Size | B15: Minimum 256GB 2.5"
A16: Connectivity | B16: USB 3.0 Ethernet dongle
A17: WWAN | B17: 4G LTE
... A21: Security | B21: Security: Power-on password, hard disk password, supervisor password, security keyhole
B22: Security chip: Trusted Platform Module, TCG 2.0 -compliant
B23: Fingerprint reader: Swipe style fingerprint reader on the keyboard bezel
A24: Environmental | B24: ENERGY STAR 6.1; RoHS-compliant
A25: Operating System Software | B25: Windows 10 Enterprise 64-bit
A26: Warranty | B26: 3 Years On-Site Next Business Day
A27: Ports | B27: Three USB 3.0 ( Always On), MiniDP/HDMI, Ethernet (RJ-45)
B28: 4-in-1 reader
B29: Mini DisplayPort to VGA Monitor Cable
A30: Multimedia | B30: HD Audio, stereo speakers, 1W x 2 / dual array microphone, combo audio/microphone jack/ 720p low light sensitivity Camera/ internal speaker
A32: Keyboard | B32: 6-row, spill-resistant, multimedia Fn keys, LED backlight
A33: Pointing Device | B33: TrackPoint pointing device and surface touchpad, multi-touch
A34: Mouse | B34: USB Optical Wheel Travel Mouse
A35: Carry Bag | B35: Basic relevant to display size
A36: Plug | B36: Red Plug
A37: Lock | B37: Notebook Lock
A38: Image | B38: Transnet Freight Rail Software Image Installed
A39: Asset Tag | B39: Transnet Freight Rail Asset Tag with unique number
A40: Delivery | B40: Delivery to end user
A43: Upgrade Options - Highly Mobile Laptop
A44: Description | C44: Can Supply Yes / No | D44: Improved Spec (Description/Brand/SKU or Part Number) | E44: Baseline Quantity | F44: Published List Price | G44: % Discount | H44: PURCHASE PRICE
A46: 8GB DDR4 | E46: 1
A47: 16GB DDR4 | E47: 1
A48: 12" display with touch | D48: (Model number) | E48: 1
...

Sheet Traditional Mainstream Laptop
A1: Traditional Mainstream Laptop Pricing
A2: PROPOSED LAPTOP MODEL FOR HIGHLY MOBILE USE | C2: (MODEL Number)
A3: Traditional Mainstream Laptop minimum specifications | C3: Can Supply Yes / No | D3: Improved Spec (Description/Brand/SKU or Part Number) | E3: Baseline Quantity | F3: Published List Price | G3: % Discount | H3: PURCHASE PRICE
E5: 4300 | F5: 15000 | G5: 0 | H5: 15000
A6: Form Factor (Display size) | B6: 14"
A7: Chipset | B7: Intel
A8: Processor | B8: Intel i5
A9: Graphics | B9: Intergrated Graphics
A10: Display | B10: HD (1366x768), 200 nits, 300:1 contrast ratio
A11: Camera | B11: HD720p resolution, low light sensitive, fixed focus
A12: Memory Type | B12: DDR4, 2 x socket
A13: Memory Size | B13: 16GB, 1 Dimm
A14: Hard Disk Type | B14: SATA
A15: Hard Disk Size | B15: Minimum 500GB 2.5"
A16: Connectivity | B16: Gigabit Ethernet
A17: WWAN | B17: 4G LTE
... A21: Security | B21: Security: Power-on password, hard disk password, supervisor password, security keyhole
B22: Security chip: Trusted Platform Module, TCG 2.0 -compliant
B23: Fingerprint reader: Swipe style fingerprint reader on the keyboard bezel
A24: Environmental | B24: ENERGY STAR 6.1; RoHS-compliant
A25: Operating System Software | B25: Windows 10 Enterprise 64-bit
A26: Warranty | B26: 3 Years On-Site Next Business Day
A27: Ports | B27: Three USB 3.0 ( Always On), MiniDP/HDMI, Ethernet (RJ-45)
B28: 4-in-1 reader
B29: Mini DisplayPort to VGA Monitor Cable
A30: Multimedia | B30: HD Audio, stereo speakers, 1W x 2 / dual array microphone, combo audio/microphone jack/ 720p low light sensitivity Camera/ internal speaker
A31: Keyboard | B31: 6-row, spill-resistant, multimedia Fn keys, LED backlight
A32: Pointing Device | B32: TrackPoint pointing device and surface touchpad, multi-touch
A33: Mouse | B33: USB Optical Wheel Travel Mouse
A34: Carry Bag | B34: Basic relevant to display size
A35: Plug | B35: Red Plug
A36: Lock | B36: Notebook Lock
A37: Image | B37: Transnet Freight Rail Software Image Installed
A38: Asset Tag | B38: Transnet Freight Rail Asset Tag with unique number
A39: Delivery | B39: Delivery to end user
A42: Upgrade Options - Traditional Mainstream Laptop
A43: Description | C43: Can Supply Yes / No | D43: Improved Spec (Description/Brand/SKU or Part Number) | E43: Baseline Quantity | F43: Published List Price | G43: % Discount | H43: PURCHASE PRICE
A45: 16GB DDR4 | E45: 1
A46: 14" display with touch | D46: (Model number) | E46: 1
A47: 15" display | D47: (Model number) | E47: 1
...

Sheet Creator Laptop
A1: Creator Laptop Pricing
A2: PROPOSED LAPTOP MODEL FOR HIGHLY MOBILE USE | C2: (MODEL Number)
A3: Creator Laptop minimum specifications | C3: Can Supply Yes / No | D3: Improved Spec (Description/Brand/SKU or Part Number) | E3: Baseline Quantity | F3: Published List Price | G3: % Discount | H3: PURCHASE PRICE
E5: 100 | F5: 0 | G5: 0
A6: Form Factor | B6: 14"
A7: Chipset | B7: Intel
A8: Processor | B8: Intel Xeon E 4 cores
A9: Graphics | B9: Graphics Card eg. NVIDIA
A10: Display | B10: HD (1366x768), 200 nits, 300:1 contrast ratio
A11: Camera | B11: HD720p resolution, low light sensitive, fixed focus
A12: Memory Type | B12: DDR4, 2 x socket
A13: Memory Size | B13: 32GB, 1 Dimm
A14: Hard Disk Type | B14: SATA
A15: Hard Disk Size | B15: 1TB 2.5"
A16: Connectivity | B16: Gigabit Ethernet
A17: WWAN | B17: 4G LTE
... A21: Security | B21: Security: Power-on password, hard disk password, supervisor password, security keyhole
B22: Security chip: Trusted Platform Module, TCG 2.0 -compliant
B23: Fingerprint reader: Swipe style fingerprint reader on the keyboard bezel
A24: Environmental | B24: ENERGY STAR 6.1; RoHS-compliant
A25: Operating System Software | B25: Windows 10 Enterprise 64-bit
A26: Warranty | B26: 3 Years On-Site Next Business Day
A27: Ports | B27: Three USB 3.0 ( Always On), MiniDP/HDMI, Ethernet (RJ-45)
B28: 4-in-1 reader
B29: Mini DisplayPort to VGA Monitor Cable
A30: Multimedia | B30: HD Audio, stereo speakers, 1W x 2 / dual array microphone, combo audio/microphone jack/ 720p low light sensitivity Camera/ internal speaker
A32: Keyboard | B32: 6-row, spill-resistant, multimedia Fn keys, LED backlight
A33: Pointing Device | B33: TrackPoint pointing device and surface touchpad, multi-touch
A34: Mouse | B34: USB Optical Wheel Travel Mouse
A35: Carry Bag | B35: Basic relevant to display size
A36: Plug | B36: Red Plug
A37: Lock | B37: Notebook Lock
A38: Image | B38: Transnet Freight Rail Software Image Installed
A39: Asset Tag | B39: Transnet Freight Rail Asset Tag with unique number
A40: Delivery | B40: Delivery to end user
A42: Upgrade Options - Creator Laptop
A43: Description | C43: Can Supply Yes / No | D43: Improved Spec (Description/Brand/SKU or Part Number) | E43: Baseline Quantity | F43: Published List Price | G43: % Discount | H43: PURCHASE PRICE
E45: 1
D46: (Model number) | E46: 1
D47: (Model number) | E47: 1
...

Sheet Modern Mainstream Laptop
A1: Modern Mainstream Laptop Pricing
A2: PROPOSED LAPTOP MODEL FOR HIGHLY MOBILE USE | C2: (MODEL Number)
A3: Modern Mainstream Laptop minimum specifications | C3: Can Supply Yes / No | D3: Improved Spec (Description/Brand/SKU or Part Number) | E3: Baseline Quantity | F3: Published List Price | G3: % Discount | H3: PURCHASE PRICE
E5: 250 | F5: 17000 | G5: 0 | H5: 17000
A6: Form Factor (Display Size) | B6: 14"
A7: Chipset | B7: Intel
A8: Processor | B8: Intel i7
A9: Graphics | B9: Intergrated Graphics
