Workbook

Sheet BOQ
B2: Item No. | C2: Refer | D2: Description of the item | E2: Unit | F2: Qty | G2: Rate | I2: Price (R)
G3: Material | H3: Labour
B4: 1 | C4: SABS 1200A | D4: PRELIMINARIES
B6: 1.1 | D6: Eskom’s specific requirements
B7: 1.1.1 | C7: 8.3.1 | D7: Contractual requirements | E7: item | F7: 1 | I7: =SUM(G7:H7)*F7 -> 0
B8: 1.1.2 | C8: 8.3.2 | D8: Establishment of facilities on site such as plant, sheds, lighting, fridge, security lighting, etc. | E8: item | F8: 1 | I8: =SUM(G8:H8)*F8 -> 0
B10: 1.1.3 | C10: 8.3.3 | D10: Supply and install electrical connection to site camp. | E10: item | F10: 1 | I10: =SUM(G10:H10)*F10 -> 0
B11: 1.1.4 | C11: 8.3.3 | D11: Supply and install a water connection to site camp. | E11: item | F11: 1 | I11: =SUM(G11:H11)*F11 -> 0
B12: 1.1.5 | C12: 8.3.3 | D12: Removal of site establishment | E12: item | F12: 1 | I12: =SUM(G12:H12)*F12 -> 0
B13: 1.1.6 | C13: 8.3.4 | D13: Transport all free issue material from Eskom Stores to site | E13: item | F13: 1 | I13: =SUM(G13:H13)*F13 -> 0
B14: 1.1.7 | C14: 8.3.5 | D14: CLO | E14: Item | F14: 1 | I14: =SUM(G14:H14)*F14 -> 0
B16: 1.2 | D16: Contractor’s time related items: | I16: =SUM(G16:H16)*F16 -> 0
B17: 1.2.1 | C17: 8.4.1 | D17: Contractual requirements | E17: month | F17: 6 | I17: =SUM(G17:H17)*F17 -> 0
B18: 1.2.2 | C18: 8.4.2 | D18: Operation & maintenance of facilities | E18: month | F18: 6 | I18: =SUM(G18:H18)*F18 -> 0
B19: 1.2.3 | C19: 8.4.3 | D19: Supervision | E19: month | F19: 6 | I19: =SUM(G19:H19)*F19 -> 0
B20: 1.2.4 | C20: 8.4.4 | D20: Company & head office overhead costs | E20: month | F20: 6 | I20: =SUM(G20:H20)*F20 -> 0
B21: 1.2.5 | D21: Machinery hire, purchase costs, transport cost to and from site. | E21: month | F21: 6 | I21: =SUM(G21:H21)*F21 -> 0
B22: 1.2.6 | D22: Assistance and arrangement with Eskom stores for transport and delivery of material. | E22: month | F22: 6 | I22: =SUM(G22:H22)*F22 -> 0
B24: 1.2.7 | D24: Receiving, taking control and administering material. | E24: month | F24: 6 | I24: =SUM(G24:H24)*F24 -> 0
B25: 1.2.8 | D25: Arrangement with Eskom Control, obtaining permits, arranging outages, etc. and to energise line. | E25: month | F25: 6 | I25: =SUM(G25:H25)*F25 -> 0
B27: 1.2.9 | D27: Site security, safe guarding material in site camp and during construction. | E27: month | F27: 6 | I27: =SUM(G27:H27)*F27 -> 0
B29: 1.2.10 | D29: Accommodation and LOA | E29: month | F29: 6 | I29: =SUM(G29:H29)*F29 -> 0
B30: 1.3 | D30: Construction regulations:
B31: 1.3.1 | D31: Cost for Compliance to Construction Regulations requirements as well as Cost for Compliance to the Health and Safety Specification & Covid-19 directive, compiling a Health and Safety Plan, etc; Refer to Sections 2 and 3. Comply with ZERO Harm Regulations in terms of implementation (double supervision / qualified artisan etc.) | E31: item | F31: 1 | I31: =SUM(G31:H31)*F31 -> 0
B36: 1.3.2 | C36: DOCUMENTATION | D36: Complete all parts of the Construction Handbook that applies to the construction of the line. | E36: Item | F36: 1 | I36: =SUM(G36:H36)*F36 -> 0
B37: Subtotal carried to Item 1 of Summary | G37: R | I37: =SUM(I7:I36) -> 0
B40: Item No. | C40: Refer | D40: Description of the item | E40: Unit | F40: Qty | G40: Rate | I40: Price (R)
G41: Material | H41: Labour
B42: 2 | D42: LINE CONSTRUCTION - SITE CLEARING
B43: 2.1 | D43: Test Joint:
D44: Supply all material and perform the following test at an approved body:(refer to Volume 4 for the required material) Please Note: The crimper to be used for doing crimping on the line shall be used by the authorised person that will do the joints on the line, to crimp the test piece. This must be witnessed by the Design Engineer and test certificates to be part of the Hand Over Documentation.
B52: 2.1.1 | D52: Kingbird conductor | E52: item | F52: 1 | I52: =SUM(G52:H52)*F52 -> 0
B53: 2.1.2 | D53: Hare conductor | E53: item | F53: 1 | I53: =SUM(G53:H53)*F53 -> 0
B54: 2.2 | D54: Bush Clearing:
B55: 2.2.1 | C55: ESKASABG3 Rev1 & DISTIZAC2 | D55: Contractor to identify extent of bush clearing and quote to do bush clearing on the whole line in accordance with the standard. | E55: m | F55: 3166 | I55: =SUM(G55:H55)*F55 -> 0
B60: Subtotal carried to Item 2 of Summary | G60: R | I60: =SUM(I52:I59) -> 0
B63: Item No. | C63: Refer | D63: Description of the item | E63: Unit | F63: Qty | G63: Rate | I63: Price (R)
G64: Material | H64: Labour
B65: 3 | D65: FOUNDATIONS
B66: 3.1 | D66: Soil Nominations: Nomination of foundation types to be done on site by a professional Civil Engineer. The professional Civil Engineer must specify which of the foundation types must be used for each structure. | E66: ea | F66: 18 | I66: =SUM(G66:H69)*F66 -> 0
...

Sheet Summary
A2: 1 | B2: PRELIMINARIES | C2: =+BOQ!I37 -> 0
A3: 2 | B3: LINE CONSTRUCTION - SITE CLEARING | C3: =+BOQ!I60 -> 0
A4: 3 | B4: FOUNDATIONS | C4: =+BOQ!I111 -> 0
A5: 4 | B5: LINE CONSTRUCTION - EARTHING | C5: =+BOQ!I142 -> 0
A6: 5 | B6: LINE CONSTRUCTION - STRUCTURES | C6: =+BOQ!I161 -> 0
A7: 6 | B7: LINE CONSTRUCTION - STAY ASSEMBLIES | C7: =+BOQ!I193 -> 0
A8: 7 | B8: LINE CONSTRUCTION - POLE DRESSING | C8: =+BOQ!I213 -> 0
A9: 8 | B9: LINE CONSTRUCTION - STRINGING AND REGULATION | C9: =+BOQ!I252 -> 0
A10: 9 | B10: LINE CONSTRUCTION - LABELING | C10: =+BOQ!I267 -> 0
A11: 10 | B11: DISMANTLING | C11: =+BOQ!I287 -> 0
B12: TOTAL EXCLUDING VAT | C12: =SUM(C2:C10) -> 0

Sheet Sheet3
