Workbook

Sheet BOQ
B2: Item No. | C2: Refer | D2: Description of the item | E2: Unit | F2: Qty | G2: Rate | I2: Price (R)
G3: Material | H3: Labour
B4: 1 | C4: SABS 1200A | D4: PRELIMINARIES
B6: 1.1 | D6: Eskom’s specific requirements
B7: 1.1.1 | C7: 8.3.1 | D7: Contractual requirements | E7: item | F7: 1 | I7: =SUM(G7:H7)*F7 -> 0
B8: 1.1.2 | C8: 8.3.2 | D8: Establishment of facilities on site such as plant, sheds, lighting, fridge, security lighting, etc. | E8: item | F8: 1 | I8: =SUM(G8:H8)*F8 -> 0
B10: 1.1.3 | C10: 8.3.3 | D10: Supply and install electrical connection to site camp. | E10: item | F10: 1 | I10: =SUM(G10:H10)*F10 -> 0
B11: 1.1.4 | C11: 8.3.3 | D11: Supply and install a water connection to site camp. | E11: item | F11: 1 | I11: =SUM(G11:H11)*F11 -> 0
B12: 1.1.5 | C12: 8.3.3 | D12: Removal of site establishment | E12: item | F12: 1 | I12: =SUM(G12:H12)*F12 -> 0
B13: 1.1.6 | C13: 8.3.4 | D13: Transport all free issue material from Eskom Stores to site | E13: item | F13: 1 | I13: =SUM(G13:H13)*F13 -> 0
B14: 1.1.7 | C14: 8.3.5 | D14: CLO | E14: Item | F14: 1 | I14: =SUM(G14:H14)*F14 -> 0
B16: 1.2 | D16: Contractor’s time related items: | I16: =SUM(G16:H16)*F16 -> 0
B17: 1.2.1 | C17: 8.4.1 | D17: Contractual requirements | E17: month | F17: 6 | I17: =SUM(G17:H17)*F17 -> 0
B18: 1.2.2 | C18: 8.4.2 | D18: Operation & maintenance of facilities | E18: month | F18: 6 | I18: =SUM(G18:H18)*F18 -> 0
B19: 1.2.3 | C19: 8.4.3 | D19: Supervision | E19: month | F19: 6 | I19: =SUM(G19:H19)*F19 -> 0
B20: 1.2.4 | C20: 8.4.4 | D20: Company & head office overhead costs | E20: month | F20: 6 | I20: =SUM(G20:H20)*F20 -> 0
B21: 1.2.5 | D21: Machinery hire, purchase costs, transport cost to and from site. | E21: month | F21: 6 | I21: =SUM(G21:H21)*F21 -> 0
B22: 1.2.6 | D22: Assistance and arrangement with Eskom stores for transport and delivery of material. | E22: month | F22: 6 | I22: =SUM(G22:H22)*F22 -> 0
B24: 1.2.7 | D24: Receiving, taking control and administering material. | E24: month | F24: 6 | I24: =SUM(G24:H24)*F24 -> 0
B25: 1.2.8 | D25: Arrangement with Eskom Control, obtaining permits, arranging outages, etc. and to energise line. | E25: month | F25: 6 | I25: =SUM(G25:H25)*F25 -> 0
B27: 1.2.9 | D27: Site security, safe guarding material in site camp and during construction. | E27: month | F27: 6 | I27: =SUM(G27:H27)*F27 -> 0
B29: 1.2.10 | D29: Accommodation and LOA | E29: month | F29: 6 | I29: =SUM(G29:H29)*F29 -> 0
B30: 1.3 | D30: Construction regulations:
B31: 1.3.1 | D31: Cost for Compliance to Construction Regulations requirements as well as Cost for Compliance to the Health and Safety Specification & Covid-19 directive, compiling a Health and Safety Plan, etc; Refer to Sections 2 and 3. Comply with ZERO Harm Regulations in terms of implementation (double supervision / qualified artisan etc.) | E31: item | F31: 1 | I31: =SUM(G31:H31)*F31 -> 0
B36: 1.3.2 | C36: DOCUMENTATION | D36: Complete all parts of the Construction Handbook that applies to the construction of the line. | E36: Item | F36: 1 | I36: =SUM(G36:H36)*F36 -> 0
B37: Subtotal carried to Item 1 of Summary | G37: R | I37: =SUM(I7:I36) -> 0
B40: Item No. | C40: Refer | D40: Description of the item | E40: Unit | F40: Qty | G40: Rate | I40: Price (R)
G41: Material | H41: Labour
B42: 2 | D42: LINE CONSTRUCTION - SITE CLEARING
B43: 2.1 | D43: Test Joint:
D44: Supply all material and perform the following test at an approved body:(refer to Volume 4 for the required material) Please Note: The crimper to be used for doing crimping on the line shall be used by the authorised person that will do the joints on the line, to crimp the test piece. This must be witnessed by the Design Engineer and test certificates to be part of the Hand Over Documentation.
B52: 2.1.1 | D52: Kingbird conductor | E52: item | F52: 1 | I52: =SUM(G52:H52)*F52 -> 0
B53: 2.1.2 | D53: Hare conductor | E53: item | F53: 1 | I53: =SUM(G53:H53)*F53 -> 0
B54: 2.2 | D54: Bush Clearing:
B55: 2.2.1 | C55: ESKASABG3 Rev1 & DISTIZAC2 | D55: Contractor to identify extent of bush clearing and quote to do bush clearing on the whole line in accordance with the standard. | E55: m | F55: 3166 | I55: =SUM(G55:H55)*F55 -> 0
B60: Subtotal carried to Item 2 of Summary | G60: R | I60: =SUM(I52:I59) -> 0
B63: Item No. | C63: Refer | D63: Description of the item | E63: Unit | F63: Qty | G63: Rate | I63: Price (R)
G64: Material | H64: Labour
B65: 3 | D65: FOUNDATIONS
B66: 3.1 | D66: Soil Nominations: Nomination of foundation types to be done on site by a professional Civil Engineer. The professional Civil Engineer must specify which of the foundation types must be used for each structure. | E66: ea | F66: 18 | I66: =SUM(G66:H69)*F66 -> 0
B70: 3.2 | D70: Structure Foundations for soil type Rock:
D71: Transport to pole position imported material, dispose excavated material, excavate, barricade, supply and install complete foundations for rock on the following structures:
B75: 3.2.1 | C75: D-DT-7851 sheet 1 | D75: D-DT-7615 - STAYED ANGLE STRAIN 0-90°, POLE 22m | E75: ea | F75: 1 | I75: =SUM(G75:H75)*F75 -> 0
B76: 3.2.2 | C76: D-DT-7854s1 (Steel Pole) | D76: 132kV Single Circuit Twin Steel Poles, 208kN Free Standing 15 – 90⁰ Angle Strain Structure, 21m (Quote for design and casting of foundations) | E76: ea | F76: 1 | I76: =SUM(G76:H76)*F76 -> 0
B77: 3.2.3 | C77: D-DT-7850 sheet 1 | D77: D-DT-7611 - S/C INTERMEDIATE 23kN; POLE 23m | E77: ea | F77: 1 | I77: =SUM(G77:H77)*F77 -> 0
B78: 3.2.4 | C78: 2-WT-1412s2 & D-DT-7851s1 | D78: 2-WT-1412 S/Pole 90° Terminal (vertical-to-horizontal right) – 17.1m Long | E78: ea | F78: 1 | I78: =SUM(G78:H78)*F78 -> 0
B80: 3.3 | D80: Structure Foundations for soil type 4:
D81: Transport to pole position imported material, dispose excavated material, excavate, barricade, supply and install complete foundations for type 4 soil on the following structures:
B85: 3.3.1 | C85: D-DT-7851 sheet 5 | D85: D-DT-7615 - STAYED ANGLE STRAIN 0-90°, POLE 22m | E85: ea | F85: 1 | I85: =SUM(G85:H85)*F85 -> 0
B86: 3.3.2 | C86: D-DT-7850 sheet 5 | D86: D-DT-7611 - S/C INTERMEDIATE 23kN; POLE 22m | E86: ea | F86: 1 | I86: =SUM(G86:H86)*F86 -> 0
B87: 3.3.3 | C87: D-DT-7854s2 (Steel Pole) | D87: 132kV Single Circuit Twin Steel Poles, 208kN Free Standing 15 – 90⁰ Angle Strain Structure, 21m (Quote for design and casting of foundations) | E87: ea | F87: 1 | I87: =SUM(G87:H87)*F87 -> 0
B88: 3.3.4 | C88: 2-WT-1412s2 & D-DT-7851s5 | D88: 2-WT-1412 S/Pole 90° Terminal (vertical-to-horizontal right) – 17.1m Long | E88: ea | F88: 1 | I88: =SUM(G88:H88)*F88 -> 0
B89: 3.4 | D89: Structure Foundations for soil type 3:
D90: Transport to pole position imported material, dispose excavated material, excavate, barricade, supply and install complete foundations for type 3 soil on the following structures:
B94: 3.4.1 | C94: D-DT-7851 sheet 4 | D94: D-DT-7615 - STAYED ANGLE STRAIN 0-90°, POLE 20m | E94: ea | F94: 1 | I94: =SUM(G94:H94)*F94 -> 0
B95: 3.4.2 | C95: D-DT-7850 sheet 4 | D95: D-DT-7611 - S/C INTERMEDIATE 23kN; POLE 24m | E95: ea | F95: 1 | I95: =SUM(G95:H95)*F95 -> 0
B96: 3.4.3 | C96: D-DT-7854s2 (Steel Pole) | D96: 132kV Single Circuit Twin Steel Poles, 208kN Free Standing 15 – 90⁰ Angle Strain Structure, 21m (Quote for design and casting of foundations) | E96: ea | F96: 1 | I96: =SUM(G96:H96)*F96 -> 0
B97: 3.4.4 | C97: D-DT-7850 sheet 4 | D97: D-DT-7612 - D/C INTERMEDIATE 37kN; POLE 20m | E97: ea | F97: 1 | I97: =SUM(G97:H97)*F97 -> 0
B98: 3.4.5 | C98: D-DT-7850 sheet 4 | D98: 2NT/00815 - 132 & 11kV SHARED INTERMEDIATE 23kN; POLE 22m | E98: ea | F98: 1 | I98: =SUM(G98:H98)*F98 -> 0
B99: 3.5 | D99: Structure Foundations for soil type 2:
D100: Transport to pole position imported material, dispose excavated material, excavate, barricade, supply and install complete foundations for type 2 soil on the following structures:
B104: 3.5.1 | C104: D-DT-7851 sheet 3 | D104: D-DT-7615 - STAYED ANGLE STRAIN 0-90°, POLE 22m | E104: ea | F104: 1 | I104: =SUM(G104:H104)*F104 -> 0
B105: 3.5.2 | C105: D-DT-7850 sheet 3 | D105: D-DT-7611 - S/C INTERMEDIATE 23kN; POLE 22m | E105: ea | F105: 1 | I105: =SUM(G105:H105)*F105 -> 0
B106: 3.5.3 | C106: D-DT-7854s1 (Steel Pole) | D106: 132kV Single Circuit Twin Steel Poles, 208kN Free Standing 15 – 90⁰ Angle Strain Structure, 21m (Quote for design and casting of foundations) | E106: ea | F106: 1 | I106: =SUM(G106:H106)*F106 -> 0
B107: 3,6 | D107: Structure Foundations for soil type 1:
D108: Transport to pole position imported material, dispose excavated material, excavate, barricade, supply and install complete foundations for type 1 soil on the following structures:
B109: 3.6.1 | C109: D-DT-7851 sheet 2 | D109: D-DT-7615 - STAYED ANGLE STRAIN 0-90°, POLE 22m | E109: ea | F109: 1 | I109: =SUM(G109:H109)*F109 -> 0
B110: 3.6.2 | C110: D-DT-7850 sheet 2 | D110: D-DT-7611 - S/C INTERMEDIATE 23kN; POLE 22m | E110: ea | F110: 1 | I110: =SUM(G110:H110)*F110 -> 0
B111: Subtotal carried to Item 3 of Summary | G111: R | I111: =SUM(I66:I110) -> 0
B114: Item No. | C114: Refer | D114: Description of the item | E114: Unit | F114: Qty | G114: Rate | I114: Price (R)
G115: Material | H115: Labour
B116: 4 | D116: LINE CONSTRUCTION - EARTHING
B117: 4.1 | C117: D-DT 7857 | D117: Structure Earthing:
B119: 4.1.1 | D119: Testing of structure footing resistance: | E119: ea | F119: 18 | I119: =SUM(G119:H124)*F119 -> 0
D120: Please note:
D121: Structue footing resistance test shall be carried out before the connection of the shield wire. The earth conductor shall enter the ground immidiately next to the structure and shall not be taken over the concrete base / cap.
B125: 4.1.2 | C125: 2-WT-763 | D125: Excavate, supply and install complete 3 point star earth electrode in actual site (incl. rocky terrain) | E125: ea | F125: 18 | I125: =SUM(G125:H126)*F125 -> 0
A127: . | B127: 4.1.3 | D127: Bond terminal structure to substation earthmat using 50x3mm flat copper, buried 1m deep. The 2 conductors must be connected to the 2 outer poles of each terminal structure. Price to include supply, excavation, installation and backfilling in any terrain. | E127: m | F127: 50 | I127: =SUM(G127:H131)*F127 -> 0
B132: 4.1.4 | D132: Bond 2 poles of H-pole and 2 poles of 3-pole structures to the third pole by using 50x3mm Cu strap, buried 1m deep. Price to include supply, excavation, installations and backfilling in any terrain. | E132: m | F132: 15 | I132: =SUM(G132:H135)*F132 -> 0
F135: 200
B136: 4.1.5 | C136: D-DT-7857 | D136: Install concrete cap as per drawing (2 Caps for H-Pole and 3 Caps for 3-Pole) | E136: ea | F136: 19 | I136: =SUM(G136:H138)*F136 -> 0
B139: 4.1.6 | C139: Twin Steel Poles D-DT-7854 | D139: Install concrete cap as per drawing | E139: ea | F139: 3 | I139: =SUM(G139:H141)*F139 -> 0
B142: Subtotal carried to Item 4 of Summary | G142: R | I142: =SUM(I119:I141) -> 0
B145: Item No. | C145: Refer | D145: Description of the item | E145: Unit | F145: Qty | G145: Rate | I145: Price (R)
G146: Material | H146: Labour
B147: 5 | D147: LINE CONSTRUCTION - STRUCTURES
B148: 5.1 | D148: Erection of structures:
D149: Supply, transport to pole position, install and erect the steel pole for the following structures at specified positions including backfilling (Eskom to supply steel poles):
B152: 5.1.1 | C152: D-DT-7615 | D152: D-DT-7615 - STAYED ANGLE STRAIN 0-90°, POLE 20m | E152: ea | F152: 1 | G152: Eskom Supply | I152: =SUM(G152:H152)*F152 -> 0
B153: 5.1.3 | D153: D-DT-7615 - STAYED ANGLE STRAIN 0-90°, POLE 22m | E153: ea | F153: 2 | G153: Eskom Supply | I153: =SUM(G153:H153)*F153 -> 0
B154: 5.1.5 | C154: D-DT-7611 | D154: D-DT-7611 - S/C INTERMEDIATE 23kN; POLE 22m | E154: ea | F154: 6 | G154: Eskom Supply | I154: =SUM(G154:H154)*F154 -> 0
B155: 5.1.6 | D155: D-DT-7611 - S/C INTERMEDIATE 23kN; POLE 23m | E155: ea | F155: 1 | G155: Eskom Supply | I155: =SUM(G155:H155)*F155 -> 0
B156: 5.1.7 | D156: D-DT-7611 - S/C INTERMEDIATE 23kN; POLE 24m | E156: ea | F156: 1 | G156: Eskom Supply | I156: =SUM(G156:H156)*F156 -> 0
B157: 5.1.8 | C157: D-DT7633 (Steel) | D157: 132kV Single Circuit Twin Steel Poles, 208kN Free Standing 15 – 90⁰ Angle Strain Structure, 21m | E157: ea | F157: 4 | G157: Eskom Supply | I157: =SUM(G157:H157)*F157 -> 0
B158: 5.1.9 | C158: 2-WT-1412 | D158: 2-WT-1412 S/Pole 90° Terminal (vertical-to-horizontal right), 17.1m | E158: ea | F158: 1 | G158: Eskom Supply | I158: =SUM(G158:H158)*F158 -> 0
B159: 5.1.10 | C159: D-DT-7612 | D159: 88/132kV D/C INTERMEDIATE STRUCTGENERAL, 20m | E159: ea | F159: 1 | G159: Eskom Supply | I159: =SUM(G159:H159)*F159 -> 0
B160: 5.1.11 | C160: 2NT/00815 | D160: 132 & 22 kV Shared intermediate structure, 22m | E160: ea | F160: 1 | G160: Eskom Supply | I160: =SUM(G160:H160)*F160 -> 0
B161: Subtotal carried to Item 5 of Summary | G161: R | I161: =SUM(I152:I160) -> 0
B164: Item No. | C164: Refer | D164: Description of the item | E164: Unit | F164: Qty | G164: Rate | I164: Price (R)
G165: Material | H165: Labour
...

Sheet Summary
A2: 1 | B2: PRELIMINARIES | C2: =+BOQ!I37 -> 0
A3: 2 | B3: LINE CONSTRUCTION - SITE CLEARING | C3: =+BOQ!I60 -> 0
A4: 3 | B4: FOUNDATIONS | C4: =+BOQ!I111 -> 0
A5: 4 | B5: LINE CONSTRUCTION - EARTHING | C5: =+BOQ!I142 -> 0
A6: 5 | B6: LINE CONSTRUCTION - STRUCTURES | C6: =+BOQ!I161 -> 0
A7: 6 | B7: LINE CONSTRUCTION - STAY ASSEMBLIES | C7: =+BOQ!I193 -> 0
A8: 7 | B8: LINE CONSTRUCTION - POLE DRESSING | C8: =+BOQ!I213 -> 0
A9: 8 | B9: LINE CONSTRUCTION - STRINGING AND REGULATION | C9: =+BOQ!I252 -> 0
A10: 9 | B10: LINE CONSTRUCTION - LABELING | C10: =+BOQ!I267 -> 0
A11: 10 | B11: DISMANTLING | C11: =+BOQ!I287 -> 0
B12: TOTAL EXCLUDING VAT | C12: =SUM(C2:C10) -> 0

Sheet Sheet3
