Workbook

Sheet Coal Plant 1  (2)
A3: Occupational Health and Safety Baseline risk assessment template
A4: Project/Dept.: | B4: Coal Plant | M4: Next Review Date:
A6: Date: | H6: €
A9: Refer to Occupational Health and Safety Risk assessment procedure 32-520
A10: 1: List activity | H10: 4: Assess & Analyse Risks
A11: List activity (When applicable) | B11: Hazard Identification | C11: Associated risk (Risk identification) | D11: Risk type | E11: Exposure patterns | F11: Cause(s) of the risk | G11: Conditions(Routine/Non-routine) | H11: What are the Consequences? | I11: Existing Controls | J11: First determine Consequence and then the Likelihood of that Consequence. | L11: Risk Priority Rating
A12: List specific activities to be performed taking into consideration the equipment to be used, the personnel involved in the task. | B12: A hazard is anything that is likely to lead to an event that will have an adverse impact on achieving an objective. A hazard can pose more than one risk. | C12: A physical event occurs or could occur in relation to the hazard | D12: Safety or health | E12: The frequency and duration the person/group is exposed to the hazard e.g. Daily for 3 hrs. | F12: What causes the risk to come into effect? | G12: Indicate Yes or No.Yes if routine and No if non-routine These short-term changes to conditions that could not be reasonably anticipated e.g. Emergencies | H12: What is the expected adverse impact on the objective? | I12: Include: - Preventative Controls (controls implemented to eliminate hazards or reduce the likelihood of the risk occurring), and - Reactive Controls (controls implemented to reduce the immediate impact of the risk occurring) | J12: Consequence | K12: Likelihood | M12: RCE Risk Control Effectiveness
A13: On line maintenance - changing - motors, fluid drives, gear boxes, couplings. rigging, lifting and material handling | B13: Exposure to Suspended material | C13: Falling object-Injuries | D13: Safety | E13: 8 hours as and when necessary (breakdown) | F13: Falling of suspended material/objects | G13: No | H13: Falling object-Injuries | I13: Engineering: Guarding/barriers/rails. Administrative:Load testing of slings and rigging equipment, equipment inspection Person job specifications, training, task risk assessment,PPE: Full PPE. | J13: 4 | K13: 3 | L13: =INDEX([1]Sheet1!$D$3:$H$8,'Coal Plant 1 (2)'!J13,K13) -> II. | M13: F
A14: On line maintenance - changing - motors, fluid drives, gear boxes, couplings. rigging, lifting and material handling | B14: Exposure to Noise | C14: NIHL | D14: Health | E14: 8 hours as and when necessary (breakdown) | F14: Exposure to excessive noise | G14: No | H14: =C14 -> NIHL | I14: Engineering: Amandatory Signs Administrative: Hearing conservation training, task risk assessments, Medical Survaillance. PPE:HPD. | J14: 4 | K14: 3 | L14: =INDEX([1]Sheet1!$D$3:$H$8,'Coal Plant 1 (2)'!J14,K14) -> II. | M14: F
A15: On line maintenance - changing - motors, fluid drives, gear boxes, couplings. rigging, lifting and material handling | B15: Exposure to Coal Dust | C15: Lung disease | D15: Health | E15: 8 hours as and when necessary (breakdown) | F15: Inhalation of coal dust | G15: No | H15: Lung Disease | I15: Engineering: Dust supression system. Administrative: , Task Risk assessment. Dust mask, regular cleaning, Medical Survaillance, Person Job Spec, PPE: Respiratory PPE | J15: 4 | K15: 3 | L15: =INDEX([1]Sheet1!$D$3:$H$8,'Coal Plant 1 (2)'!J15,K15) -> II. | M15: F
A16: On line maintenance - changing - motors, fluid drives, gear boxes, couplings. rigging, lifting and material handling | B16: Uneven floor surfaces | C16: Tripping and falling | D16: Safety | E16: 8 hours as and when necessary (breakdown) | F16: =B16 -> Uneven floor surfaces | G16: No | H16: Injuries | I16: Administrative:Being Careful of your surrounding , task risk assessment. Toolbox talk, reporting of any unsafe conditions., PPE: Full PPE | J16: 4 | K16: 3 | L16: =INDEX([1]Sheet1!$D$3:$H$8,'Coal Plant 1 (2)'!J16,K16) -> II. | M16: F
A17: Repair/replace idlers | B17: Manual handling | C17: Falling when handling | D17: Safety | E17: Daily 3hrs | F17: Slipping out of hands | G17: Yes | H17: Injuries | I17: Engineering: Use lifting Equipment where possible.Administrative: Use Buddy System , task risk assessment. Toolbox talk, GlovesPPE: Applicable PPE | J17: 4 | K17: 3 | L17: =INDEX([1]Sheet1!$D$3:$H$8,'Coal Plant 1 (2)'!J17,K17) -> II. | M17: F
A18: Conveyors - , belts, drive motors, pulleys, bearings, installing counter weights (60-600kg) | B18: Suspended loads | C18: Falling load | D18: Safety | E18: 8 hours as and when necessary (breakdown) | F18: Falling of suspended material/objects | G18: No | H18: Fatality | I18: Engineering: Guarding/barriers/rails. Administrative:Use of competent personnel,Load testing, equipment inspection Person job specifications, training, task risk assessment ,PPE. | J18: 4 | K18: 3 | L18: =INDEX([1]Sheet1!$D$3:$H$8,'Coal Plant 1 (2)'!J18,K18) -> II. | M18: F
A19: Conveyors - repair/replace idlers, belts, drive motors, pulleys, bearings, rigging counter weights (60-600kg) | B19: Incorrect use of Sharp tools - splicing and cutting belts - tools used have sharp blades and edges. | C19: Cut/wounds/lacerations | D19: Safety | E19: 8hours as and when necessary (breakdown) | F19: Incorrect use of Sharp tools - splicing and cutting belts - | G19: Yes | H19: =C19 -> Cut/wounds/lacerations | I19: Administrative: Safe work methods, task risk assessment, Use of conpetent persons, Being carefull when using these tools, PTW. PPE: Full PPE. | J19: 4 | K19: 3 | L19: =INDEX([1]Sheet1!$D$3:$H$8,'Coal Plant 1 (2)'!J19,K19) -> II. | M19: F
A20: Conveyors - repair/replace idlers, belts, drive motors, pulleys, bearings, rigging counter weights (60-600kg) | B20: Working at heights | C20: Falling from heights - fatality | D20: Safety | E20: 8 hours as and when necessary (breakdown) | F20: =B20 -> Working at heights | G20: Yes | H20: =C20 -> Falling from heights - fatality | I20: Engineering: Guarding/barriers/rails, hook up points. Administrative: Training - working at heights, medical surveillance, PTW, Task Risk Assessment, Local safe work procedures. PPE: Full PPE (Safety Harness) . | J20: 5 | K20: 3 | L20: =INDEX([1]Sheet1!$D$3:$H$8,'Coal Plant 1 (2)'!J20,K20) -> II. | M20: F
A21: Liner replacement in chutes and silos - use stainless steel sheets are bolted to walls and floors. | B21: Toxic gas / coal dust | C21: Inhalation of gases/dust | D21: Health | E21: 6 hours in a month | F21: Inhalation of coal dust/toxic gases | G21: Yes | H21: Lung Disease | I21: Engineering: Ventilation/extraction. Administrative: Training/awareness, medical surveillance, PTW, Task risk assessment, Local safe work procedures. PPE: Full PPE (Respiratory protection). | J21: 4 | K21: 3 | L21: =INDEX([1]Sheet1!$D$3:$H$8,'Coal Plant 1 (2)'!J21,K21) -> II. | M21: F
A22: Liner replacement in chutes and silos - use stainless steel sheets are bolted to walls and floors. | B22: Incorrect manual lifting - and material handling | C22: Back trauma | D22: Health | E22: 6 hours in a month | F22: =B22 -> Incorrect manual lifting - and material handling | G22: Yes | H22: Back trauma | I22: Administrative:Use buddy system to manually lift, make use of lifting equipment where possible,Education and awareness, person job specifications, Task risk assessment, local safe work procedures, PTW. | J22: 4 | K22: 3 | L22: =INDEX([1]Sheet1!$D$3:$H$8,'Coal Plant 1 (2)'!J22,K22) -> II. | M22: F
A23: Liner replacement in chutes and silos - use stainless steel sheets are bolted to walls and floors. | B23: Limited space when lifting counter weights - rigging, lifting, material handling | C23: Body injuries | D23: Safety | E23: 4 hours as and when necessary (breakdown) | F23: Limited space when lifting counter weights - rigging, lifting, material handling | G23: No | H23: =C23 -> Body injuries | I23: Engineering: Approved rigging equipment,. Administrative: Communication / awareness, training - rigging operator, PTW, Task Risk Assessment, Local safe work procedures. | J23: 4 | K23: 3 | L23: =INDEX([1]Sheet1!$D$3:$H$8,'Coal Plant 1 (2)'!J23,K23) -> II. | M23: F
A24: Liner replacement in chutes and silos - use stainless steel sheets are bolted to walls and floors. | B24: Working at heights | C24: Falling from heights | D24: Safety | E24: 8 hours as and when necessary (breakdown) | F24: =B24 -> Working at heights | G24: No | H24: Fatality | I24: Engineering: Approved scaffolding, guarding barriers, rails. Administrative: Training - working at heights, medical surveillance, person job specifications, PTW, Local Safe Work procedures, Task Risk Assessment. PPE: Full PPE. | J24: 5 | K24: 3 | L24: =INDEX([1]Sheet1!$D$3:$H$8,'Coal Plant 1 (2)'!J24,K24) -> II. | M24: F
A25: Liner replacement in chutes and silos - use stainless steel sheets are bolted to walls and floors. | B25: Toxic gases from welding, cutting, grinding, heating bolts. | C25: Inhalation - irritation / asphyxiation. | D25: Health | E25: 8 hours as and when necessary (breakdown) | F25: Inhalation of Toxic gases from welding, cutting, grinding, heating bolts. | G25: No | H25: Lung Disease | I25: Engineering: Ventilation/extraction. Administrative: Training/awareness, medical surveillance, task risk assessment, PTW, Local safe work procedures. PPE: Full PPE (Respiratory protection). | J25: 4 | K25: 3 | L25: =INDEX([1]Sheet1!$D$3:$H$8,'Coal Plant 1 (2)'!J25,K25) -> II. | M25: F
A26: Liner replacement in chutes and silos - use stainless steel sheets are bolted to walls and floors. | B26: Ultra violet rays from welding. | C26: Arc eyes | D26: Health | E26: 8 hours as and when necessary (breakdown) | F26: Exposure to Ultra violet rays from welding. | G26: No | H26: =C26 -> Arc eyes | I26: Administrative:Task Risk Assessment. training/awareness. PPE: Full PPE (Eye protection) | J26: 4 | K26: 3 | L26: =INDEX([1]Sheet1!$D$3:$H$8,'Coal Plant 1 (2)'!J26,K26) -> II. | M26: F
A27: Liner replacement in chutes and silos - use stainless steel sheets are bolted to walls and floors. | B27: Noise from cutting and grinding | C27: NIHL | D27: Health | E27: 8 hours in 1 months | F27: Exposure to Noise from cutting and grinding | G27: Yes | H27: =C27 -> NIHL | I27: Administrative: Zoned noise areas, training/awareness, PTW, Task risk assessment, local safe work procedures. PPE: Hearing protection. | J27: 4 | K27: 3 | L27: =INDEX([1]Sheet1!$D$3:$H$8,'Coal Plant 1 (2)'!J27,K27) -> II. | M27: F
A28: Replacement of defective grizzling/grating | B28: Toxic gases from welding, cutting, grinding, heating bolts. | C28: Inhalation - irritation / asphyxiation. | D28: Health | E28: 8 hours as and when necessary (breakdown) | F28: Inhalation of Toxic gases from welding, cutting, grinding, heating bolts. | G28: No | H28: Lung Disease | I28: Engineering: Ventilation/extraction. Administrative: Training/awareness, medical surveillance, task risk assessment, PTW, Local safe work procedures. PPE: Full PPE (Respiratory protection). | J28: 4 | K28: 3 | L28: =INDEX([1]Sheet1!$D$3:$H$8,'Coal Plant 1 (2)'!J28,K28) -> II. | M28: F
A29: Replacement of defective grizzling/grating | B29: Heat from welding, cutting, grinding | C29: Body Burns | D29: Safety | E29: 8 hours as and when necessary (breakdown) | F29: Exposure to heat when welding,cutting g grinding | G29: No | H29: =C29 -> Body Burns | I29: Administrative: PTW, local safe work procedures, task risk assessment. PPE: Full PPE. | J29: 4 | K29: 3 | L29: =INDEX([1]Sheet1!$D$3:$H$8,'Coal Plant 1 (2)'!J29,K29) -> II. | M29: F
A30: Night time travelling | B30: Lack of rest | C30: MVA-Injuries | D30: Safety | E30: 2hrsDaily | F30: =B30 -> Lack of rest | G30: Yes | H30: =C30 -> MVA-Injuries | I30: Administrative: Compliance to rest period, Eskom driving assessment,Driver not to drive when feeling exhausted; Use of transport service provider | J30: 4 | K30: 3 | L30: =INDEX([1]Sheet1!$D$3:$H$8,'Coal Plant 1 (2)'!J30,K30) -> II. | M30: F
A31: Night time travelling | B31: Stray on the road | C31: MVA-Injuries/Property Damage | D31: Safety | E31: 2hrsDaily | F31: =B31 -> Stray on the road | G31: Yes | H31: =C31 -> MVA-Injuries/Property Damage | I31: Engineering: Proper vehicle light, Road Worthiness,Administrative: Road worthy vehicle-Vehicle Inspeftion. (Lights working) Training. Driver permit,awareness. Travelling Risk Assessment | J31: 4 | K31: 3 | L31: =INDEX([1]Sheet1!$D$3:$H$8,'Coal Plant 1 (2)'!J31,K31) -> II. | M31: F
A32: Travelling | B32: Bad road conditions | C32: MVA - Injuries | D32: Safety | E32: 2hrsDaily | F32: Driving in the Bad road conditions | G32: Yes | H32: =C32 -> MVA - Injuries | I32: Administrative: Training, travelling on same road every time. Eskom Driver assessment,adherence to speed limit, Travelling Risk Assessment | J32: 4 | K32: 3 | L32: =INDEX([1]Sheet1!$D$3:$H$8,'Coal Plant 1 (2)'!J32,K32) -> II. | M32: F
A33: Travelling | B33: Speeding | C33: MVA - Injuries | D33: Safety | E33: 2hrsDaily | F33: Driving at high speed | G33: Yes | H33: =C33 -> MVA - Injuries | I33: Administrative: Training, travelling on same road every time. Eskom Driver assessment,adherence to speed limit, Travelling Risk Assessment | J33: 4 | K33: 3 | L33: =INDEX([1]Sheet1!$D$3:$H$8,'Coal Plant 1 (2)'!J33,K33) -> II. | M33: P
A34: Travelling | B34: Rural/dangerous roads | C34: High jacking | D34: Safety | E34: 2hrsDaily | F34: =B34 -> Rural/dangerous roads | G34: Yes | H34: =C34 -> High jacking | I34: Administrative: Training, travelling on same road every time, Travelling Risk Assessment | J34: 4 | K34: 3 | L34: =INDEX([1]Sheet1!$D$3:$H$8,'Coal Plant 1 (2)'!J34,K34) -> II. | M34: P
A35: Walking to and from site | B35: Uneven road/floor surfaces | C35: Trip and fall - injury | D35: Safety | E35: 8hrs Daily | F35: =B35 -> Uneven road/floor surfaces | G35: Yes | H35: =C35 -> Trip and fall - injury | I35: Administrative: Training on relevant procedures and risks. | J35: 4 | K35: 3 | L35: =INDEX([1]Sheet1!$D$3:$H$8,'Coal Plant 1 (2)'!J35,K35) -> II. | M35: P
A36: Walking to and from site | B36: Slippery road/floor surfaces | C36: Slip and fall - injury | D36: Safety | E36: 8hrs Daily | F36: =B36 -> Slippery road/floor surfaces | G36: Yes | H36: =C36 -> Slip and fall - injury | I36: Administrative: Training on relevant procedures and risks. | J36: 4 | K36: 3 | L36: =INDEX([1]Sheet1!$D$3:$H$8,'Coal Plant 1 (2)'!J36,K36) -> II. | M36: P
A37: Walking to and from site | B37: Open manholes | C37: Falling in-Injuries | D37: Safety | E37: 8hrs Daily | F37: =B37 -> Open manholes | G37: Yes | H37: =C37 -> Falling in-Injuries | I37: Administrative: Inspections, training on relevant procedures and risks. | J37: 4 | K37: 3 | L37: =INDEX([1]Sheet1!$D$3:$H$8,'Coal Plant 1 (2)'!J37,K37) -> II. | M37: P
A38: Driving | B38: Distraction while driving | C38: MVA - Injuries | D38: Safety | E38: 2hrsDaily | F38: =B38 -> Distraction while driving | G38: Yes | H38: =C38 -> MVA - Injuries | I38: Engineering: Bleutooth device installed,Installation of vehicle cameras systems. Administrative: training/awareness.Task risk assessment. The driver to focus on the road and avoid distractions. | J38: 4 | K38: 3 | L38: =INDEX([1]Sheet1!$D$3:$H$8,'Coal Plant 1 (2)'!J38,K38) -> II. | M38: P

Sheet Risk Control Effectiveness
A3: Risk | B3: RISK CONTROL EFFECTIVENESS GUIDE
B4: RCE | D4: Guide
B5: Fully effective | C5: F | D5: Nothing more to be done except review and monitor the existing controls. Controls are well designed for the risk, are largely preventative and address the root causes and Management believes that they are effective and reliable at all times. Reactive controls only support preventative controls.
B6: Partially effective | C6: P | D6: Most controls are designed correctly and are in place and effective. Some more work to be done to improve operating effectiveness or Management has doubts about operational effectiveness and reliability.
B7: Ineffective | C7: I | D7: While the design of controls may be largely correct in that they treat most of the root causes of the risk, they are not currently very effective. There may be an over-reliance on reactive controls. OR Some of the controls do not seem correctly designed in that they do not treat root causes, those that are correctly designed are operating effectively.
B8: Totally ineffective | C8: Ti | D8: Significant control gaps. Either controls do not treat root causes or they do not operate at all effectively. Controls, if they exist are just reactive.
B9: None | C9: N | D9: Virtually no credible control. Management has no confidence that any degree of control is being achieved due to poor control design and/or very limited operational effectiveness.

Sheet Consequence Rating
C2: Consequence criteria
B3: Consequence rating | C3: Description
C4: Health and Safety
B5: 1 | C5: No injuries or health effects(near misses)
B6: 2 | C6: First-aid treatment case, and temporary discomfort case
B7: 3 | C7: Medical treatment case; occupational disease with reversible/non-permanent effect
B8: 4 | C8: Lost Time Injury. Irreversible health effects/occupational disease with permanent consequence
B9: 5 | C9: Fatality or life threatening health effects
B10: 6 | C10: Multiple fatalities

Sheet Likelihood Rating
B2: Likelihood criteria
B3: Score | C3: Descriptor | D3: Safety and Environment | E3: Occupational Hygiene
E4: Exposure | F4: Probability of exceeding OEL
B5: 1 | C5: Highly unlikely | D5: § <5% probability | E5: Rare(once a year) | F5: No exposure (or exposure < 10% of OEL)
D6: § occurrence requires exceptional circumstances
D7: § exceptionally unlikely, even in the long-term future
D8: § only occurs as a “100-year event”
B9: 2 | C9: Unlikely | D9: § >5% probability, or | E9: Short periods of time, a few times per day / intermittent (once in 6, 3 or a month) | F9: Low exposure (<50% of OEL)
D10: § may occur but not anticipated, or
D11: § could occur in “years to decades”
B12: 3 | C12: Possible | D12: § >20% probability, or | E12: Continuous for between 1 and 2 hours (often / weekly) | F12: Moderate exposure (chronic exposure > 50% of OEL or acute exposure >/-OEL
D13: § may occur shortly but a distinct probability it will not, or
D14: § could occur within “months to year\s”
B15: 4 | C15: Likely | D15: § >70% probability, or | E15: Continuous for between 2 and 4 hours (frequent / daily) | F15: High exposure (chronic exposure > OEL, or exposure exceeding OEL-STEL)
D16: § balance of probability it will occur, or
D17: § could occur within “weeks to months”
B18: 5 | C18: Unavoidable | D18: § 99% probability, or | E18: Continuous for 8 hour shift | F18: Very high exposure (chronic exposure > 2 x OEL or exposure exceeding OEL-C
D19: § impact is occurring now, or
D20: § could occur within “days to weeks”

Sheet Risk Matrix & Profile
A2: LETHABO POWER STATION BASELINE RISK ASSESSMENT
A3: Unique ID: 240-70044602
A4: Revision: 1
A5: Date: June 2016
A6: Next Review: June 2020
A7: Management Representative: Bob Phahle Signature:_______________ Date:___________
A8: Power Station Manager: Thomas Conradie Signature:_______________ Date:___________
A11: STATION BASELINE RISK ASSESSMENT - 09 JUNE 2016
A12: RISK AND ASSURANCE DEPARTMENT
B13: Risk | C13: Mitigation | D13: Consequence | E13: Likelihood | F13: Score before | H13: Consequence | I13: Likelihood | J13: Score after
A14: 1 | B14: Travelling | C14: ='[2]Safety Risk Management.'!#REF! -> #REF! | D14: 5 | E14: 4 | F14: I | H14: 5 | I14: 4 | J14: I
A16: SUPPORT SERVICES
B17: Risk | C17: Mitigation | D17: Consequence | E17: Likelihood | F17: Score before | H17: Consequence | I17: Likelihood | J17: Score after
A18: 1 | B18: No "high risk" risks
A20: OPERATING DEPARTMENT
B21: Risk | C21: Mitigation | D21: Consequence | E21: Likelihood | F21: Score before | H21: Consequence | I21: Likelihood | J21: Score after
A22: 1 | B22: Electrocution | C22: Administrative Access restriction (LAR) Task risk assessment PTW-Life saving rule Equipment inspections training on risk profile PPE Full body PPE | D22: 5 | E22: 4 | F22: I | H22: 5 | I22: 4 | J22: I
A23: 2 | B23: Working in elevated areas / confined spaces | C23: Administrative: Training - Occ. Exposure, Medical surveillance, Task Risk Assessment, Service Level Agreement PPE: Full body protection (respirators) | D23: 4 | E23: 4 | F23: I | H23: 4 | I23: 4 | J23: I
A25: ENGINEERING DEPARTMENT
B26: Risk | C26: Mitigation | D26: Consequence | E26: Likelihood | F26: Score before | H26: Consequence | I26: Likelihood | J26: Score after
A27: 1 | B27: Travelling | C27: Administrative: driver monitoring programme, trauma council ling, awareness/education. | D27: 5 | E27: 4 | F27: I | H27: 5 | I27: 4 | J27: I
A28: 2 | B28: Noise | C28: Administrative: zoned noise areas, training/awareness. PPE: Hearing protection. | D28: 4 | E28: 4 | F28: I | H28: 4 | I28: 4 | J28: I
A29: 3 | B29: HCS (Safety) | C29: Engineering: emergency equipment, escape and evacuation facilities. Administrative: training/awareness. PPE: Hand protection, face protection. | D29: 4 | E29: 4 | F29: I | H29: 4 | I29: 4 | J29: I
A30: 4 | B30: HCS (Health) | C30: Engineering: Ventilation/extraction. Administrative: training/awareness, medical surveillance, gas monitoring. PPE: Respiratory protection. | D30: 5 | E30: 4 | F30: I | H30: 5 | I30: 4 | J30: I
A31: 5 | B31: Biological | C31: Administrative: Training - snake handling, awareness/communication, emergency medical response. PPE: All required PPE. | D31: 4 | E31: 4 | F31: I | H31: 4 | I31: 4 | J31: I
A32: 6 | B32: Working at heights | C32: Engineering: guarding/barriers/rails, hook up points, Administrative: person job specifications, training - working at heights, medical surveillance. PPE: Safety harness. | D32: 5 | E32: 4 | F32: I | H32: 5 | I32: 4 | J32: I
A33: 7 | B33: Drowning | C33: Engineering: Installing floating device. Administrative: awareness/training, safe work methods. PPE: Safety harness | D33: 5 | E33: 4 | F33: I | H33: 5 | I33: 4 | J33: I
A34: 8 | B34: Fatigue | C34: Administrative: Access control, training. Permit to work. | D34: 5 | E34: 4 | F34: I | H34: 5 | I34: 4 | J34: I
A35: 9 | B35: Open Manholes | C35: Administrative: Inspections, training on relevant procedures and risks. | D35: 5 | E35: 4 | F35: I | H35: 5 | I35: 4 | J35: I
A36: 10 | B36: Uneven surfaces/Roads | C36: Administrative: Training on relevant procedures and risks. | D36: 4 | E36: 4 | F36: I | H36: 4 | I36: 4 | J36: I
A37: 11 | B37: Psychological | C37: Administrative: Employee assistance programme. Training on relevant procedures and risks | D37: 5 | E37: 4 | F37: I | H37: 5 | I37: 4 | J37: I
A38: 12 | B38: Cellphone use while working | C38: Administrative: Training on relevant procedures and risks. | D38: 5 | E38: 4 | F38: I | H38: 5 | I38: 4 | J38: I
A40: MAINTENANCE DEPARTMENT
B41: Risk | C41: Mitigation | D41: Consequence | E41: Likelihood | F41: Score before | H41: Consequence | I41: Likelihood | J41: Score after
A42: 1 | B42: HCS (Flammable gases) | C42: Engineering Emergency response equipment Administrative PTW Safe work methods Plant safety rags | D42: 6 | E42: 3 | F42: I | H42: 6 | I42: 3 | J42: I
A43: 2 | B43: Heat exposure | C43: Administrative Safe work methods Job rotation Medical surveillance Training - Occ. Exposure | D43: 4 | E43: 4 | F43: I | H43: 4 | I43: 4 | J43: I
A45: PROJECTS, OUTAGES, FINANCE, PROCUREMENT, ENVIRONMENTAL , SERVICES, CHEMICAL SERV, REAL ESTATE DEPARTMENTS
B46: Risk | C46: Mitigation | D46: Consequence | E46: Likelihood | F46: Score before | H46: Consequence | I46: Likelihood | J46: Score after
A47: 1 | B47: No "high risk" risks
A49: HR DEPARTMENT
B50: Risk | C50: Mitigation | D50: Consequence | E50: Likelihood | F50: Score before | H50: Consequence | I50: Likelihood | J50: Score after
A51: 1 | B51: Psychological | C51: No controls in place | D51: 3 | E51: 5 | F51: I | H51: 3 | I51: 5 | J51: I
B53: MED CENT
B54: Risk | C54: Mitigation | D54: Consequence | E54: Likelihood | F54: Score before | H54: Consequence | I54: Likelihood | J54: Score after
A55: 1 | B55: Psychological | C55: No controls in place | D55: 3 | E55: 5 | F55: I | H55: 3 | I55: 5 | J55: I
A58: RISK MATRIX
A59: Consequences | B59: 6 | C59: III | D59: II | E59: I | F59: I | G59: I
B60: 5 | C60: III | D60: II | E60: II | F60: I | G60: I
B61: 4 | C61: IV | D61: III | E61: II | F61: I | G61: I
B62: 3 | C62: IV | D62: III | E62: II | F62: II | G62: I
B63: 2 | C63: IV | D63: IV | E63: III | F63: II | G63: II
B64: 1 | C64: IV | D64: IV | E64: III | F64: III | G64: III
C65: 1 | D65: 2 | E65: 3 | F65: 4 | G65: 5
C66: Likelihood
A68: Priority | B68: Risk ranking | C68: Action required
A69: I | B69: Very high | C69: Immediate action required
A70: II | B70: High | C70: Strong mandatory action required
A71: III | B71: Medium | C71: Action required, possibly at administrative level
A72: IV | B72: Low | C72: Minor or no action required
A75: RISK PROFILE
B76: PRIORITY RATING (RISK RANKING)
A77: Department | B77: I | C77: II | D77: III | E77: IV | F77: TOTAL
A78: HR/Fin/Proc/EAL/MM
A79: Operating
A80: Risk and Assurance
A81: Engineering
A82: Maintenance
A83: Outages
A84: Environmental
A85: Total
