Workbook
Name _Hlk143960454: 'SCHED 1B-1_OR'!#REF!
Name _Hlk143960454: 'SCHED 1B-2_OR'!#REF!
Name _Hlk143960454: 'SCHED 1B-3A_OR'!#REF!
Name _Hlk143960454: 'SCHED 1B-4_OR'!#REF!
Name _Hlk143960454: 'SCHED 1B-5_OR'!#REF!
Name _Hlk143960454: 'SCHED 1B-6_OR'!#REF!

Sheet SUMMARY
B2: SCHEDULE MAINTENANCE OF BOILERS & CALORIFIERS AT CLUSTER ONE (1) - OR THAMBO AND ALFRED NZO DISTRICT - HEALTH FACILITIES (36 MONTHS)
B4: CONTRACT REF NO | D4: SCMU3-23/24-0790-HO | E4: Cluster/District: | F4: OR TAMBO & ALFRED NZO
F5: Cluster 1
B6: ASSET TYPE | D6: BOILER & CALORIFIER SYSTEM
B8: SCHEDULE NUMBER | C8: DESCRIPTION | F8: TENDER AMOUNT
B10: 1B-1 | C10: OR & AN DISTRICT - | D10: ='SCHED 1B-1_OR'!D6 -> FIXED CHARGE AND VALUE RELATED ITEMS APPLICABLE TO ALL WORK
B12: 1B-2 | C12: OR & AN DISTRICT - | D12: ='SCHED 1B-2_OR'!D6 -> FIXED CHARGE AND VALUE RELATED ITEMS APPLICABLE TO ALL WORK (continued)
B14: 1B-3 | C14: OR & AN DISTRICT - | D14: ='SCHED 1B-4_OR'!D6 -> FIXED CHARGE AND VALUE RELATED ITEMS APPLICABLE TO ALL WORK (continued)
B16: 1B-4 | C16: OR & AN DISTRICT - | D16: ='SCHED 1B-5_OR'!D6 -> FIXED CHARGE AND VALUE RELATED ITEMS APPLICABLE TO ALL WORK (continued)
B18: 1B-5 | C18: OR & AN DISTRICT - | D18: ='SCHED 1B-6_OR'!D6 -> FIXED CHARGE AND VALUE RELATED ITEMS APPLICABLE TO ALL WORK
B20: 1B-6 | C20: OR & AN DISTRICT - | D20: ='SCHED 1B-6_OR'!D6 -> FIXED CHARGE AND VALUE RELATED ITEMS APPLICABLE TO ALL WORK
B22: 2B-1 | C22: OR & AN DISTRICT - | D22: ='SCHED 2B-1_OR'!D6 -> FUNCTIONAL REPAIR SCHEDULE
B24: 2B-2 | C24: OR & AN DISTRICT - | D24: ='SCHED 2B-2_OR'!D6 -> FUNCTIONAL REPAIR SCHEDULE (continued)
B26: 2B-3 | C26: OR & AN DISTRICT - | D26: ='SCHED 2B-3_OR'!D6 -> FUNCTIONAL REPAIR SCHEDULE (continued)
B28: 2B-4 | C28: OR & AN DISTRICT - | D28: ='SCHED 2B-4_OR'!D6 -> FUNCTIONAL REPAIR SCHEDULE
B30: 3B | C30: OR & AN DISTRICT - | D30: ='SCHEDULE 3B_OR'!D6 -> MAINTENANCE SERVICE SCHEDULE FOR 36 MONTHS
B33: TOTAL AMOUNT OF WORKS (EXCL VAT) - CARRIED TO FINAL SUMMARY

Sheet SCHED 1B-1_OR
B2: SCHEDULE MAINTENANCE OF BOILERS & CALORIFIERS AT CLUSTER ONE (1) - OR THAMBO AND ALFRED NZO DISTRICT - HEALTH FACILITIES (36 MONTHS)
B3: CONTRACT REF. NO: | D3: =SUMMARY!D4 -> SCMU3-23/24-0790-HO | E3: Cluster/District: | G3: =SUMMARY!F4 -> OR TAMBO & ALFRED NZO
B4: ASSET TYPE: | D4: =SUMMARY!D6 -> BOILER & CALORIFIER SYSTEM | G4: =SUMMARY!F5 -> Cluster 1
B6: SCHEDULE 1B-1 : | D6: FIXED CHARGE AND VALUE RELATED ITEMS APPLICABLE TO ALL WORK
B8: ITEM Nr. | C8: PAYMENT REFERS | D8: DESCRIPTION | E8: UNIT | F8: QTY: (A) | G8: RATE: (B) | H8: AMOUNT: (A*B)
B9: 1 | C9: GM 2.5 | D9: VERIFICATION OF ASSETS ON SITE : Verify assets on site vs Asset Register (C4.1), and compile plant layout line drawings as per GM 2.5 (1) and (2).
B10: 1.1 | D10: Holy Cross Hospital | E10: Item | F10: 1
B11: 1.2 | D11: St Elizabeths' Hospital | E11: Item | F11: 1
B12: 1.3 | D12: Bambisana Hospital | E12: Item | F12: 1
B13: 1.4 | D13: Nessie Knight Hospital | E13: Item | F13: 1
B14: 1.5 | D14: Dr Malizo Mpehle Memorial Hospital | E14: Item | F14: 1
B15: 1.6 | D15: Isilimela Hospital | E15: Item | F15: 1
B16: 1.7 | D16: Port St Johns CHC | E16: Item | F16: 1
B17: 1.8 | D17: St Patrick's Hospital | E17: Item | F17: 1
B18: 1.9 | D18: Greenville Hospital | E18: Item | F18: 1
B19: 1.10 | D19: Mount Ayliff Hospital | E19: Item | F19: 1
B20: 1.11 | D20: Afsondering Clinic | E20: Item | F20: 1
B21: 1.12 | D21: Umtumase Clinic | E21: Item | F21: 1
... B28: 1.19 | D28: St Lucy hospital | E28: Item | F28: 1
B33: TOTAL CARRIED FORWARD TO SUMMARY

Sheet SCHED 1B-2_OR
B2: SCHEDULE MAINTENANCE OF BOILERS & CALORIFIERS AT CLUSTER ONE (1) - OR THAMBO AND ALFRED NZO DISTRICT - HEALTH FACILITIES (36 MONTHS)
B3: CONTRACT REF. NO: | D3: =SUMMARY!D4 -> SCMU3-23/24-0790-HO | E3: Cluster/District: | G3: =SUMMARY!F4 -> OR TAMBO & ALFRED NZO
B4: ASSET TYPE: | D4: =SUMMARY!D6 -> BOILER & CALORIFIER SYSTEM | G4: =SUMMARY!F5 -> Cluster 1
B6: SCHEDULE 1B-2: | D6: FIXED CHARGE AND VALUE RELATED ITEMS APPLICABLE TO ALL WORK (continued)
B8: ITEM Nr. | C8: PAYMENT REFERS | D8: DESCRIPTION | E8: UNIT | F8: QTY: (A) | G8: RATE: (B) | H8: AMOUNT: (A*B)
B9: 2 | C9: GM 2.5 & 3.2 | D9: VERIFICATION OF SPARE PART INVENTORY ON SITE : Find and verify all spares for the asset type that is currently available on site
B10: 1.1 | D10: Holy Cross Hospital | E10: Item | F10: 1
B11: 1.2 | D11: St Elizabeths' Hospital | E11: Item | F11: 1
B12: 1.3 | D12: Bambisana Hospital | E12: Item | F12: 1
B13: 1.4 | D13: Nessie Knight Hospital | E13: Item | F13: 1
B14: 1.5 | D14: Dr Malizo Mpehle Memorial Hospital | E14: Item | F14: 1
B15: 1.6 | D15: Isilimela Hospital | E15: Item | F15: 1
B16: 1.7 | D16: Port St Johns CHC | E16: Item | F16: 1
B17: 1.8 | D17: St Patrick's Hospital | E17: Item | F17: 1
B18: 1.9 | D18: Greenville Hospital | E18: Item | F18: 1
B19: 1.10 | D19: Mount Ayliff Hospital | E19: Item | F19: 1
B20: 1.11 | D20: Afsondering Clinic | E20: Item | F20: 1
B21: 1.12 | D21: Umtumase Clinic | E21: Item | F21: 1
... B28: 1.19 | D28: St Lucy hospital | E28: Item | F28: 1
B31: TOTAL CARRIED FORWARD TO SUMMARY

Sheet SCHED 1B-3A_OR
B2: SCHEDULE MAINTENANCE OF BOILERS & CALORIFIERS AT CLUSTER ONE (1) - OR THAMBO AND ALFRED NZO DISTRICT - HEALTH FACILITIES (36 MONTHS)
B3: CONTRACT REF. NO: | D3: =SUMMARY!D4 -> SCMU3-23/24-0790-HO | E3: Cluster/District: | G3: =SUMMARY!F4 -> OR TAMBO & ALFRED NZO
B4: ASSET TYPE: | D4: =SUMMARY!D6 -> BOILER & CALORIFIER SYSTEM | G4: =SUMMARY!F5 -> Cluster 1
B6: SCHEDULE 1B-3: | D6: FIXED CHARGE AND VALUE RELATED ITEMS APPLICABLE TO ALL WORK (continued)
B8: ITEM Nr. | C8: PAYMENT REFERS | D8: DESCRIPTION | E8: UNIT | F8: QTY: (A) | G8: RATE: (B) | H8: AMOUNT: (A*B)
B9: 3 | C9: GM 2.7 | D9: COMPILING OF CONDITIONAL AND PERFORMANCE INSPECTION REPORT: Compile a inspection report on the current status and operation of the existing generating sets on site. The report shall be in line with the inspection report template included in this tender.
B10: 1.1 | D10: Holy Cross Hospital | E10: Item | F10: 1
B11: 1.2 | D11: St Elizabeths' Hospital | E11: Item | F11: 1
B12: 1.3 | D12: Bambisana Hospital | E12: Item | F12: 1
B13: 1.4 | D13: Nessie Knight Hospital | E13: Item | F13: 1
B14: 1.5 | D14: Dr Malizo Mpehle Memorial Hospital | E14: Item | F14: 1
B15: 1.6 | D15: Isilimela Hospital | E15: Item | F15: 1
B16: 1.7 | D16: Port St Johns CHC | E16: Item | F16: 1
B17: 1.8 | D17: St Patrick's Hospital | E17: Item | F17: 1
B18: 1.9 | D18: Greenville Hospital | E18: Item | F18: 1
B19: 1.10 | D19: Mount Ayliff Hospital | E19: Item | F19: 1
B20: 1.11 | D20: Afsondering Clinic | E20: Item | F20: 1
B21: 1.12 | D21: Umtumase Clinic | E21: Item | F21: 1
... B28: 1.19 | D28: St Lucy hospital | E28: Item | F28: 1
B32: TOTAL CARRIED FORWARD TO SUMMARY

Sheet SCHED 1B-4_OR
B2: SCHEDULE MAINTENANCE OF BOILERS & CALORIFIERS AT CLUSTER ONE (1) - OR THAMBO AND ALFRED NZO DISTRICT - HEALTH FACILITIES (36 MONTHS)
B3: CONTRACT REF. NO: | D3: =SUMMARY!D4 -> SCMU3-23/24-0790-HO | E3: Cluster/District: | G3: =SUMMARY!F4 -> OR TAMBO & ALFRED NZO
B4: ASSET TYPE: | D4: =SUMMARY!D6 -> BOILER & CALORIFIER SYSTEM | G4: =SUMMARY!F5 -> Cluster 1
B6: SCHEDULE 1B-4: | D6: FIXED CHARGE AND VALUE RELATED ITEMS APPLICABLE TO ALL WORK (continued)
B8: ITEM Nr. | C8: PAYMENT REFERS | D8: DESCRIPTION | E8: UNIT | F8: QTY: (A) | G8: RATE: (B) | H8: AMOUNT: (A*B)
B9: 4 | C9: GM 2.7 | D9: COMPILING OF OPERATING AND MAINTENANCE MANUALS : Compile three sets of O&M Manuals per site per asset type and asset model as per information from the Asset Register C4.1
B10: 1.1 | D10: Holy Cross Hospital | E10: Item | F10: 1
B11: 1.2 | D11: St Elizabeths' Hospital | E11: Item | F11: 1
B12: 1.3 | D12: Bambisana Hospital | E12: Item | F12: 1
B13: 1.4 | D13: Nessie Knight Hospital | E13: Item | F13: 1
B14: 1.5 | D14: Dr Malizo Mpehle Memorial Hospital | E14: Item | F14: 1
B15: 1.6 | D15: Isilimela Hospital | E15: Item | F15: 1
B16: 1.7 | D16: Port St Johns CHC | E16: Item | F16: 1
B17: 1.8 | D17: St Patrick's Hospital | E17: Item | F17: 1
B18: 1.9 | D18: Greenville Hospital | E18: Item | F18: 1
B19: 1.10 | D19: Mount Ayliff Hospital | E19: Item | F19: 1
B20: 1.11 | D20: Afsondering Clinic | E20: Item | F20: 1
B21: 1.12 | D21: Umtumase Clinic | E21: Item | F21: 1
... B28: 1.19 | D28: St Lucy hospital | E28: Item | F28: 1
B32: TOTAL CARRIED FORWARD TO SUMMARY

Sheet SCHED 1B-5_OR
B2: SCHEDULE MAINTENANCE OF BOILERS & CALORIFIERS AT CLUSTER ONE (1) - OR THAMBO AND ALFRED NZO DISTRICT - HEALTH FACILITIES (36 MONTHS)
B3: CONTRACT REF. NO: | D3: =SUMMARY!D4 -> SCMU3-23/24-0790-HO | E3: Cluster/District: | G3: =SUMMARY!F4 -> OR TAMBO & ALFRED NZO
B4: ASSET TYPE: | D4: =SUMMARY!D6 -> BOILER & CALORIFIER SYSTEM | G4: =SUMMARY!F5 -> Cluster 1
B6: SCHEDULE 1B-5: | D6: FIXED CHARGE AND VALUE RELATED ITEMS APPLICABLE TO ALL WORK (continued)
B8: ITEM Nr. | C8: PAYMENT REFERS | D8: DESCRIPTION | E8: UNIT | F8: QTY: (A) | G8: RATE: (B) | H8: AMOUNT: (A*B)
B9: 5 | C9: SS 8 & 9 | D9: OPERATOR AND MAINTAINER TRAINING : Provide Operator and Maintainer training as per SS8 and SS9
B10: 1.1 | D10: Holy Cross Hospital | E10: Hr | F10: 40
B11: 1.2 | D11: St Elizabeths' Hospital | E11: Hr | F11: 40
B12: 1.3 | D12: Bambisana Hospital | E12: Hr | F12: 40
B13: 1.4 | D13: Nessie Knight Hospital | E13: Hr | F13: 40
B14: 1.5 | D14: Dr Malizo Mpehle Memorial Hospital | E14: Hr | F14: 40
B15: 1.6 | D15: Isilimela Hospital | E15: Hr | F15: 40
B16: 1.7 | D16: Port St Johns CHC | E16: Hr | F16: 40
B17: 1.8 | D17: St Patrick's Hospital | E17: Hr | F17: 40
B18: 1.9 | D18: Greenville Hospital | E18: Hr | F18: 40
B19: 1.10 | D19: Mount Ayliff Hospital | E19: Hr | F19: 40
B20: 1.11 | D20: Afsondering Clinic | E20: Hr | F20: 40
B21: 1.12 | D21: Umtumase Clinic | E21: Hr | F21: 40
... B28: 1.19 | D28: St Lucy hospital | E28: Hr | F28: 40
B31: TOTAL CARRIED FORWARD TO SUMMARY

Sheet SCHED 1B-6_OR
B2: SCHEDULE MAINTENANCE OF BOILERS & CALORIFIERS AT CLUSTER ONE (1) - OR THAMBO AND ALFRED NZO DISTRICT - HEALTH FACILITIES (36 MONTHS)
B3: CONTRACT REF. NO: | D3: =SUMMARY!D4 -> SCMU3-23/24-0790-HO | E3: Cluster/District: | G3: =SUMMARY!F4 -> OR TAMBO & ALFRED NZO
B4: ASSET TYPE: | D4: =SUMMARY!D6 -> BOILER & CALORIFIER SYSTEM | G4: =SUMMARY!F5 -> Cluster 1
B6: SCHEDULE 1B-6: | D6: FIXED CHARGE AND VALUE RELATED ITEMS APPLICABLE TO ALL WORK
B8: ITEM Nr. | C8: PAYMENT REFERS | D8: DESCRIPTION | E8: UNIT | F8: QTY: (A) | G8: RATE: (B) | H8: AMOUNT: (A*B)
B9: 6 | C9: GM 3 | D9: MAINTENANCE CONTROL PLAN : Compiling of a detailed Maintenance Control Plan for each Health Facility included in this Tender (See SS 3 for facility listing)
B10: 1.1 | D10: Holy Cross Hospital | E10: Item | F10: 1
B11: 1.2 | D11: St Elizabeths' Hospital | E11: Item | F11: 1
B12: 1.3 | D12: Bambisana Hospital | E12: Item | F12: 1
B13: 1.4 | D13: Nessie Knight Hospital | E13: Item | F13: 1
B14: 1.5 | D14: Dr Malizo Mpehle Memorial Hospital | E14: Item | F14: 1
B15: 1.6 | D15: Isilimela Hospital | E15: Item | F15: 1
B16: 1.7 | D16: Port St Johns CHC | E16: Item | F16: 1
B17: 1.8 | D17: St Patrick's Hospital | E17: Item | F17: 1
B18: 1.9 | D18: Greenville Hospital | E18: Item | F18: 1
B19: 1.10 | D19: Mount Ayliff Hospital | E19: Item | F19: 1
B20: 1.11 | D20: Afsondering Clinic | E20: Item | F20: 1
B21: 1.12 | D21: Umtumase Clinic | E21: Item | F21: 1
... B28: 1.19 | D28: St Lucy hospital | E28: Item | F28: 1
B30: TOTAL CARRIED FORWARD TO SUMMARY

Sheet SCHED 2B-1_OR
B2: SCHEDULE MAINTENANCE OF BOILERS & CALORIFIERS AT CLUSTER ONE (1) - OR THAMBO AND ALFRED NZO DISTRICT - HEALTH FACILITIES (36 MONTHS)
B3: CONTRACT REF. NO: | D3: =SUMMARY!D4 -> SCMU3-23/24-0790-HO | E3: Cluster/District: | G3: ='SCHED 1B-1_OR'!G3 -> OR TAMBO & ALFRED NZO
B4: ASSET TYPE: | D4: =SUMMARY!D6 -> BOILER & CALORIFIER SYSTEM | G4: =SUMMARY!F5 -> Cluster 1
B6: SCHEDULE 2B-1: | D6: FUNCTIONAL REPAIR SCHEDULE
B8: ITEM Nr. | C8: PAYMENT REFERS | D8: DESCRIPTION | E8: UNIT | F8: QTY: (A) | G8: RATE: (B) | H8: AMOUNT: (A*B)
B9: 1 | C9: GM 2.5 | D9: FUNCTIONAL CONDITION ASSESSMENT : Perform Functional Condition Assessment (Inspection and Testing) on all listed assets at all Health Facilities included in the Tender
B10: 1.1 | D10: Holy Cross Hospital | E10: Item | F10: 1
B11: 1.2 | D11: St Elizabeths' Hospital | E11: Item | F11: 1
B12: 1.3 | D12: Bambisana Hospital | E12: Item | F12: 1
B13: 1.4 | D13: Nessie Knight Hospital | E13: Item | F13: 1
B14: 1.5 | D14: Dr Malizo Mpehle Memorial Hospital | E14: Item | F14: 1
B15: 1.6 | D15: Isilimela Hospital | E15: Item | F15: 1
B16: 1.7 | D16: Port St Johns CHC | E16: Item | F16: 1
B17: 1.8 | D17: St Patrick's Hospital | E17: Item | F17: 1
B18: 1.9 | D18: Greenville Hospital | E18: Item | F18: 1
B19: 1.10 | D19: Mount Ayliff Hospital | E19: Item | F19: 1
B20: 1.11 | D20: Afsondering Clinic | E20: Item | F20: 1
B21: 1.12 | D21: Umtumase Clinic | E21: Item | F21: 1
... B28: 1.19 | D28: St Lucy hospital | E28: Item | F28: 1
B30: TOTAL CARRIED FORWARD TO SUMMARY

Sheet SCHED 2B-2_OR
B2: SCHEDULE MAINTENANCE OF BOILERS & CALORIFIERS AT CLUSTER ONE (1) - OR THAMBO AND ALFRED NZO DISTRICT - HEALTH FACILITIES (36 MONTHS)
B3: CONTRACT REF. NO: | D3: =SUMMARY!D4 -> SCMU3-23/24-0790-HO | E3: Cluster/District: | G3: ='SCHED 1B-1_OR'!G3 -> OR TAMBO & ALFRED NZO
B4: ASSET TYPE: | D4: =SUMMARY!D6 -> BOILER & CALORIFIER SYSTEM | G4: =SUMMARY!F5 -> Cluster 1
B6: SCHEDULE 2B-2: | D6: FUNCTIONAL REPAIR SCHEDULE (continued)
B8: ITEM Nr. | C8: PAYMENT REFERS | D8: DESCRIPTION | E8: UNIT | F8: QTY: (A) | G8: RATE: (B) | H8: AMOUNT: (A*B)
B9: 2 | C9: GM 2.5.(5) | D9: COMPILING OF PRICED SPARE PART LISTS : Compile detailed, comprehensive priced spare parts lists for each site and asset type (based on Contrcator's cost price). NOTE: The Employer retains the right to negotiate the offered spare part prices, if they are not in line with national price norms.
B10: 1.1 | D10: Holy Cross Hospital | E10: Item | F10: 1
B11: 1.2 | D11: St Elizabeths' Hospital | E11: Item | F11: 1
B12: 1.3 | D12: Bambisana Hospital | E12: Item | F12: 1
B13: 1.4 | D13: Nessie Knight Hospital | E13: Item | F13: 1
B14: 1.5 | D14: Dr Malizo Mpehle Memorial Hospital | E14: Item | F14: 1
B15: 1.6 | D15: Isilimela Hospital | E15: Item | F15: 1
B16: 1.7 | D16: Port St Johns CHC | E16: Item | F16: 1
B17: 1.8 | D17: St Patrick's Hospital | E17: Item | F17: 1
B18: 1.9 | D18: Greenville Hospital | E18: Item | F18: 1
B19: 1.10 | D19: Mount Ayliff Hospital | E19: Item | F19: 1
B20: 1.11 | D20: Afsondering Clinic | E20: Item | F20: 1
B21: 1.12 | D21: Umtumase Clinic | E21: Item | F21: 1
... B28: 1.19 | D28: St Lucy hospital | E28: Item | F28: 1
B31: TOTAL CARRIED FORWARD TO SUMMARY

Sheet SCHED 2B-3_OR
B2: SCHEDULE MAINTENANCE OF BOILERS & CALORIFIERS AT CLUSTER ONE (1) - OR THAMBO AND ALFRED NZO DISTRICT - HEALTH FACILITIES (36 MONTHS)
B3: CONTRACT REF. NO: | D3: =SUMMARY!D4 -> SCMU3-23/24-0790-HO | E3: Cluster/District: | G3: ='SCHED 1B-1_OR'!G3 -> OR TAMBO & ALFRED NZO
B4: ASSET TYPE: | D4: =SUMMARY!D6 -> BOILER & CALORIFIER SYSTEM | G4: =SUMMARY!F5 -> Cluster 1
B6: SCHEDULE 2B-3: | D6: FUNCTIONAL REPAIR SCHEDULE (continued)
B8: ITEM Nr. | C8: PAYMENT REFERS | D8: DESCRIPTION | E8: UNIT | F8: QTY: (A) | G8: RATE: (B) | H8: AMOUNT: (A*B)
B9: 3 | C9: GM 2.5 | D9: COMPILING OF DETAILED REPAIR SCHEDULE : Compile detailed, comprehensive repair schedule including defect description, recommended repair method, detailed quote including priced spare parts, outsourced work, and provisional work program, for each Health Facility and asset type.
B10: 1.1 | D10: Holy Cross Hospital | E10: Item | F10: 1
B11: 1.2 | D11: St Elizabeths' Hospital | E11: Item | F11: 1
B12: 1.3 | D12: Bambisana Hosital | E12: Item | F12: 1
B13: 1.4 | D13: Nessie Knight Hospital | E13: Item | F13: 1
B14: 1.5 | D14: Dr Malizo Mpehle Memorial Hospital | E14: Item | F14: 1
B15: 1.6 | D15: Isilimela Hospital | E15: Item | F15: 1
B16: 1.7 | D16: Port St Johns CHC | E16: Item | F16: 1
B17: 1.8 | D17: St Patrick's Hospital | E17: Item | F17: 1
B18: 1.9 | D18: Greenville Hospital | E18: Item | F18: 1
B19: 1.10 | D19: Mount Ayliff Hospital | E19: Item | F19: 1
B20: 1.11 | D20: Afsondering Clinic | E20: Item | F20: 1
B21: 1.12 | D21: Umtumase Clinic | E21: Item | F21: 1
... B28: 1.19 | D28: St Lucy hospital | E28: Item | F28: 1
B31: TOTAL CARRIED FORWARD TO SUMMARY

Sheet SCHED 2B-4_OR
B2: SCHEDULE MAINTENANCE OF BOILERS & CALORIFIERS AT CLUSTER ONE (1) - OR THAMBO AND ALFRED NZO DISTRICT - HEALTH FACILITIES (36 MONTHS)
B3: CONTRACT REF. NO: | D3: =SUMMARY!D4 -> SCMU3-23/24-0790-HO | E3: Cluster/District: | G3: ='SCHED 1B-1_OR'!G3 -> OR TAMBO & ALFRED NZO
B4: ASSET TYPE: | D4: =SUMMARY!D6 -> BOILER & CALORIFIER SYSTEM | G4: =SUMMARY!F5 -> Cluster 1
B6: SCHEDULE 2B-4: | D6: FUNCTIONAL REPAIR SCHEDULE
B8: ITEM Nr. | C8: PAYMENT REFERS | D8: DESCRIPTION | E8: UNIT | F8: QTY: (A) | G8: RATE: (B) | H8: AMOUNT: (A*B)
B9: 4 | C9: GM 2.6 | D9: COMPILE FUNCTIONAL CONDITION ASSESSMENT REPORT: Compile Functional Condition Assessment Report for all asset types at all Health Facilities included in the Tender
B10: 1.1 | D10: Holy Cross Hospital | E10: Item | F10: 1
B11: 1.2 | D11: St Elizabeths' Hospital | E11: Item | F11: 1
B12: 1.3 | D12: Bambisana Hosital | E12: Item | F12: 1
B13: 1.4 | D13: Nessie Knight Hospital | E13: Item | F13: 1
B14: 1.5 | D14: Dr Malizo Mpehle Memorial Hospital | E14: Item | F14: 1
B15: 1.6 | D15: Isilimela Hospital | E15: Item | F15: 1
B16: 1.7 | D16: Port St Johns CHC | E16: Item | F16: 1
B17: 1.8 | D17: St Patrick's Hospital | E17: Item | F17: 1
B18: 1.9 | D18: Greenville Hospital | E18: Item | F18: 1
B19: 1.10 | D19: Mount Ayliff Hospital | E19: Item | F19: 1
B20: 1.11 | D20: Afsondering Clinic | E20: Item | F20: 1
B21: 1.12 | D21: Umtumase Clinic | E21: Item | F21: 1
... B28: 1.19 | D28: St Lucy hospital | E28: Item | F28: 1
B31: TOTAL CARRIED FORWARD TO SUMMARY

Sheet SCHEDULE 3B_OR
B2: SCHEDULE MAINTENANCE OF BOILERS & CALORIFIERS AT CLUSTER ONE (1) - OR THAMBO AND ALFRED NZO DISTRICT - HEALTH FACILITIES (36 MONTHS)
B3: CONTRACT REF. NO: | D3: =SUMMARY!D4 -> SCMU3-23/24-0790-HO | E3: Cluster/District: | H3: ='SCHED 1B-1_OR'!G3 -> OR TAMBO & ALFRED NZO
B4: ASSET TYPE: | D4: =SUMMARY!D6 -> BOILER & CALORIFIER SYSTEM | H4: =SUMMARY!F5 -> Cluster 1
B6: SCHEDULE 3B : | D6: MAINTENANCE SERVICE SCHEDULE FOR 36 MONTHS
B8: ITEM Nr. | C8: PAYMENT REFERS | D8: DESCRIPTION | E8: UNIT | F8: MACHINE QTY: (A) | G8: QTY OF SERVICE PER MACHINE: (B) | H8: RATE: (C ) | I8: AMOUNT: (A*B*C)
B9: 1 | C9: GM 3.2 | D9: MAINTENANCE WORKS : Standard servicing and planned Maintenance Costs including all parts, consumables and lubricants, labour, travelling, accommodation and subsistence allowances (Price per machine)
B10: 1.1 | D10: HOLY CROSS HOSPITAL
D11: Electric calorifiers
B12: 1.1.1 | C12: GM 3.2 | D12: Minor Service Cost : Price per Three Monthly Service / Inspection per machine, as per tasks from the Three Monthly Service Inspection Guideline in C6. | E12: No | F12: 3 | G12: 9
B13: 1.1.2 | C13: GM 3.3 | D13: Major Service Cost: Price per Annual Service / Inspection per machine, as per tasks from the Annual Service Inspection Guideline in C6. | E13: No | F13: 3 | G13: 6
B14: 1.1.3 | C14: GM 3.4 | D14: Major Service Cost: Price per 3 year (36 months) Service / Inspection per machine, as per tasks from the 3 year Service Inspection Guideline in C6. | E14: No | F14: 3 | G14: 1
B15: 1.2 | D15: ST ELIZABETHS' HOSPITAL
D16: Electric calorifiers
B17: 1.2.1 | C17: GM 3.2 | D17: Minor Service Cost : Price per Three Monthly Service / Inspection per machine, as per tasks from the Three Monthly Service Inspection Guideline in C6. | E17: No | F17: 1 | G17: 9
B18: 1.2.2 | C18: GM 3.3 | D18: Major Service Cost: Price per Annual Service / Inspection per machine, as per tasks from the Annual Service Inspection Guideline in C6. | E18: No | F18: 1 | G18: 6
B19: 1.2.3 | C19: GM 3.4 | D19: Major Service Cost: Price per 3 year (36 months) Service / Inspection per machine, as per tasks from the 3 year Service Inspection Guideline in C6. | E19: No | F19: 1 | G19: 1
B20: 1.3 | D20: BAMBISANA HOSPITAL
D21: Electric calorifiers
B22: 1.3.1 | C22: GM 3.2 | D22: Minor Service Cost : Price per Three Monthly Service / Inspection per machine, as per tasks from the Three Monthly Service Inspection Guideline in C6. | E22: No | F22: 1 | G22: 9
B23: 1.3.2 | C23: GM 3.3 | D23: Major Service Cost: Price per Annual Service / Inspection per machine, as per tasks from the Annual Service Inspection Guideline in C6. | E23: No | F23: 1 | G23: 6
B24: 1.3.3 | C24: GM 3.4 | D24: Major Service Cost: Price per 3 year (36 months) Service / Inspection per machine, as per tasks from the 3 year Service Inspection Guideline in C6. | E24: No | F24: 1 | G24: 1
B25: 1.4 | D25: NESSIE KNIGHT HOSPITAL
D26: Electric calorifiers
B27: 1.4.1 | C27: GM 3.2 | D27: Minor Service Cost : Price per Three Monthly Service / Inspection per machine, as per tasks from the Three Monthly Service Inspection Guideline in C6. | E27: No | F27: 1 | G27: 9
B28: 1.4.2 | C28: GM 3.3 | D28: Major Service Cost: Price per Annual Service / Inspection per machine, as per tasks from the Annual Service Inspection Guideline in C6. | E28: No | F28: 1 | G28: 6
B29: 1.4.3 | C29: GM 3.4 | D29: Major Service Cost: Price per 3 year (36 months) Service / Inspection per machine, as per tasks from the 3 year Service Inspection Guideline in C6. | E29: No | F29: 1 | G29: 1
B30: 1.5 | D30: DR MALIZO MPEHLE MEMORIAL HOSPITAL
D31: Electric calorifiers
B32: 1.5,1 | C32: GM 3.2 | D32: Minor Service Cost : Price per Three Monthly Service / Inspection per machine, as per tasks from the Three Monthly Service Inspection Guideline in C6. | E32: No | F32: 2 | G32: 9
B33: 1.5,2 | C33: GM 3.3 | D33: Major Service Cost: Price per Annual Service / Inspection per machine, as per tasks from the Annual Service Inspection Guideline in C6. | E33: No | F33: 2 | G33: 6
B34: 1.5,3 | C34: GM 3.4 | D34: Major Service Cost: Price per 3 year (36 months) Service / Inspection per machine, as per tasks from the 3 year Service Inspection Guideline in C6. | E34: No | F34: 2 | G34: 1
B35: 1.6 | D35: ISILIMELA HOSPITAL
D36: Electric calorifiers
B37: 1.6.1 | C37: GM 3.2 | D37: Minor Service Cost : Price per Three Monthly Service / Inspection per machine, as per tasks from the Three Monthly Service Inspection Guideline in C6. | E37: No | F37: 1 | G37: 9
B38: 1.6.2 | C38: GM 3.3 | D38: Major Service Cost: Price per Annual Service / Inspection per machine, as per tasks from the Annual Service Inspection Guideline in C6. | E38: No | F38: 1 | G38: 6
B39: 1.6.3 | C39: GM 3.4 | D39: Major Service Cost: Price per 3 year (36 months) Service / Inspection per machine, as per tasks from the 3 year Service Inspection Guideline in C6. | E39: No | F39: 1 | G39: 1
B40: 1.7 | D40: PORT ST JOHNS COMMUNITY HEALTH CENTRE
D41: Electric calorifiers
B42: 1.7.1 | C42: GM 3.2 | D42: Minor Service Cost : Price per Three Monthly Service / Inspection per machine, as per tasks from the Three Monthly Service Inspection Guideline in C6. | E42: No | F42: 2 | G42: 9
B43: 1.7.2 | C43: GM 3.3 | D43: Major Service Cost: Price per Annual Service / Inspection per machine, as per tasks from the Annual Service Inspection Guideline in C6. | E43: No | F43: 2 | G43: 6
...

Sheet SCHEDULE 4
B2: SCHEDULE MAINTENANCE OF BOILERS & CALORIFIERS AT CLUSTER ONE (1) - OR THAMBO AND ALFRED NZO DISTRICT - HEALTH FACILITIES (36 MONTHS)
B3: CONTRACT REF. NO: | D3: SCMU3-23/24-0790-HO | E3: Cluster/District: | G3: =[1]SUMMARY!F4 -> OR TAMBO & ALFRED NZO
B4: ASSET TYPE: | D4: BOILER & CALORIFIER SYSTEM | G4: =[1]SUMMARY!F5 -> Cluster 1
B6: SCHEDULE 4 : | D6: TERM REPAIRS SUBJECT TO APPROVAL OF QUOTATION OF THE WORKS
B8: ITEM Nr. | C8: PAYMENT REFERS | D8: DESCRIPTION | E8: UNIT | F8: QTY: (A) | G8: RATE: (B) | H8: AMOUNT: (A*B)
B9: 1 | C9: GM 2.8 | D9: LABOUR RATES APPLICABLE TO UNSCHEDULED WORK (DAY RATES): Labour rates that Contractor will charge for additional adhoc work that is not contained in Schedules 1 to 3.
B10: 1.1 | D10: Technician | E10: R/Hr | F10: 300
B11: 1.2 | D11: Senior Artisan (Trade Tested & Additional Certification) | E11: R/Hr | F11: 600
B12: 1.3 | D12: Artisan (Trade Tested) | E12: R/Hr | F12: 430
B13: 1.4 | D13: Utility Man (Non-Trade Tested) | E13: R/Hr | F13: 850
B14: 1.5 | D14: Artisan Aid | E14: R/Hr | F14: 500
B15: 1.6 | D15: General Worker | E15: R/Hr | F15: 990
C16: GM 2.8 | D16: LABOUR RATES APPLICABLE TO UNSCHEDULED WORK (NIGHT RATES): Labour rates that Contractor will charge for additional adhoc work that is not contained in Schedules 1 to 3.
B17: 1.1 | D17: Technician | E17: R/Hr | F17: 300
B18: 1.2 | D18: Senior Artisan (Trade Tested & Additional Certification) | E18: R/Hr | F18: 600
B19: 1.3 | D19: Artisan (Trade Tested) | E19: R/Hr | F19: 430
B20: 1.4 | D20: Utility Man (Non-Trade Tested) | E20: R/Hr | F20: 850
B21: 1.5 | D21: Artisan Aid | E21: R/Hr | F21: 500
B22: 1.6 | D22: General Worker | E22: R/Hr | F22: 990
B23: 2 | C23: GM 2.8.3 | D23: TRAVELLING : Travelling cost will be as per the rates for reimbursable expenses published monthly by the National Department of Public Works at the time of rendering the service/repair.
B24: 2.1 | D24: Vehicle Travelling Estimate | E24: Km | F24: 80000
B25: 3 | C25: GM 2.8.3 | D25: ACCOMMODATION AND SUBSISTENCE : Daily Rates per person that the Contractor will claim for approved trips lasting more than one day at a time.
B26: 3.1 | D26: Accommodation | E26: Per/night | F26: 60
B27: 3.2 | D27: Subsistence | E27: Per/day | F27: 60
B28: 4 | C28: GM 2.5 (10), GM 2.8.1 & GM 2.10.3 | D28: PROVISION TO COVER REPAIRS DURING THE TERM OF THE CONTRACT : Lump Sum Provision to cover repairs and breakdowns during the course of the Contract in addition to the agreed routine servicing of the Assets. | E28: PSum | F28: 1 | G28: 6000000 | H28: =G28 -> 6000000
B29: 5 | C29: GM 2.8.1 & Clause 11.2(8) | D29: DIRECT FEE PERCENTAGE (MARK-UP) ON MATERIALS AND SERVICES THAT IS NOT INCLUDED IN PRICE LISTS : Mark-up on proven cost for materials and/or Outsourced Services based on the Provisional sum listed in Item 4. above. (Apply % to provisional sum in Item 4 above when pricing the tender) | E29: %
B31: 6 | C31: GM 2.15 | D31: ENVIRONMENTAL MANAGEMENT PLAN : The Contractor must compile a basic Environmental plan specific to the type of work that he will be performing at the Health Facilities as per C3.2 | E31: Item | F31: 1
B32: 7 | C32: GM 2.15 | D32: OCCUPATIONAL HEALTH AND SAFETY ACT COMPLIANCE COST : The Contractor must comply to the project Health and Safety Specification specific to the type of work that he will be performing on site as per C3.2 | E32: Month | F32: 36
B33: 8 | C33: Clause 83.1 | D33: INSURANCE : LIMITATION OF LIABILITY (Amounts applicable for whole Contract)
B34: 8.1 | D34: Provision for General Contractor's Insurance (Minimum liability limit must be equal to R5,000 000) to cover requirements of Clause 83.1 in Contract Data | E34: Month | F34: 36
B35: 9 | C35: X13 | D35: PERFORMANCE BOND (Amounts applicable for whole Contract)
B36: 9.1 | D36: Provision for a Performance bond of not less than 2,5% of the Tender Value | E36: Month | F36: 36
B37: 10 | C37: SS15 | D37: IN-SERVICE TRAINING OF GRADUATES AND INTERNS : Provisional Sum to pay the costs associated with employing nominated Interns and Graduates for the duration of the Contract
B38: 10.1 | D38: Interns(1 Interns @R5000 per month) | E38: Months | F38: 36
B39: 10.2 | D39: Graduates(1 Graduates @R7000 per month) | E39: Months | F39: 36
B40: 11 | C40: GM 6 | D40: PROVISION FOR SPECIAL TESTING BY SERVICE MANAGER : Lump sum provision for doing special tests at the Health Facilities as per the prerogative of the Service Manager | E40: PSum | F40: 1 | G40: 140000 | H40: =G40 -> 140000
B41: 11.1 | C41: Clause 11.2(8) | D41: Direct Fee Percentage (Mark-up) to be charged by Contractor on amounts above | E41: %
B42: 12 | C42: GM 2.6 | D42: MAINTENANCE DOCUMENTATION SITE STORAGE CONSOLE: Provisional sum to supply and install O&M Manual, Log Books, and site Maintenance Records at each equipment type location as directed by the Service Manager | E42: PSum | F42: 1 | G42: 50000 | H42: =G42 -> 50000
B43: 12.1 | C43: Clause 11.2(8) | D43: Direct Fee Percentage (Mark-up) to be charged by Contractor on amounts above | E43: %
B44: 14 | C44: SS16 | D44: PROVISION OF ASSET APPLICABLE ACCREDITED TRAINING : Arranging of Accredited Asset Applicable Training for Operating and Maintenance Staff as per SS16 | E44: Psum | F44: 1 | G44: 345000 | H44: =G44 -> 345000
...

Sheet FINAL SUMMARY 
B2: SCHEDULE MAINTENANCE OF BOILERS & CALROIFIERS AT CLUSER ONE (1) - OR TAMBO AND ALFRED NZO DISTRICT - HEALTH FACILITIES (36 MONTHS)
B3: CONTRACT REF NO | D3: SCMU3-23/24-0790-HO | E3: Cluster/District: | F3: OR TAMBO DISTRICT & ALFRED NZO
B5: ASSET TYPE | D5: BOILER & CALORIFIER SYSTEM
C7: DESCRIPTION | F7: TOTAL AMOUNT OF WORKS (EXCL VAT)
B8: 1 | C8: OR TAMBO & ALFRED NZO DISTRICTS
B10: 2 | C10: SCHEDULE 4: TERM REPAIRS SUBJECT TO APPROVAL OF QUOTATION OF THE WORKS
B12: 3 | C12: Add contingencies (10%)
B21: SUBTOTAL AMOUNT OF WORKS (EXCL VAT)
B22: ALLOWANCE FOR VAT AT 15%
B23: TOTAL AMOUNT OF WORKS (INCL VAT) - ENTER THIS AMOUNT TO FORM OF OFFER

Sheet WORK ORDERS  01 LAETITIA BAM CH
A9: QUOTE TO : | F9: Qoute No | H9: 1
A10: Department of Health | F10: Date | H10: 43770
A11: 717 Dukumbana Building | F11: Facility | H11: LAETITIA BAM CHC
A12: Independent Avenue | F12: Work Order | H12: 39138
A13: Bhisho | F13: Tender No | H13: SCMU3 - 17/18-0303 - HO
F14: Contract Term | H14: 24 MONTHS
A15: WORK REQUEST : Generator is faulty.
A16: SCHEDULED WORK
A17: Item 1 | B17: Discription | E17: Unit | F17: Sch No | G17: Quantity | H17: Rate | I17: Amount
I18: =SUM(G18*H18) -> 0
I19: =SUM(G19*H19) -> 0
I20: =SUM(G20*H20) -> 0
A21: Sub Total A | I21: =SUM(I18:I20) -> 0
A22: NON SCHEDULED WORK
A23: Item 2 | B23: Discription | F23: Quantity | G23: Mark -Up | H23: Rate | I23: Amount
A24: 1 | B24: RELAY 11 PIN 12V DC | F24: 2 | G24: 0.15 | H24: 110 | I24: =H24*F24*1.15 -> 253
A25: 2 | B25: RELAY BASE | F25: 2 | G25: 0.15 | H25: 65 | I25: =H25*F25*1.15 -> 149.5
A26: 3 | B26: DEEPSEA CONTROLLER | F26: 1 | G26: 0.15 | H26: 6239 | I26: =H26*F26*1.15 -> 7174.85
A27: 4 | B27: MCB 6A SP | F27: 2 | G27: 0.15 | H27: 21.6 | I27: =H27*F27*1.15 -> 49.68
A28: 5 | B28: RED STOP TWIST RELEASE | F28: 2 | G28: 0.15 | H28: 65.5 | I28: =H28*F28*1.15 -> 150.65
A29: 6 | B29: CONTACT BLOCK 1N/0 + 1N/C | F29: 2 | G29: 0.15 | H29: 68.5 | I29: =H29*F29*1.15 -> 157.55
A32: Sub Total B | I32: =SUM(I24:I31) -> 7935.23
A33: LABOUR
A34: Item 3 | B34: (Normal Rate) | E34: Unit | G34: Quantity | H34: Rate | I34: Amount
A35: 1 | B35: Techinician | E35: HRS | G35: 15 | H35: 450 | I35: =SUM(G35*H35) -> 6750
A36: 2 | B36: Senior Artisan | E36: HRS | H36: 350 | I36: =SUM(G36*H36) -> 0
A37: 3 | B37: Artisan (Trade Tested) | E37: HRS | H37: 300 | I37: =SUM(G37*H37) -> 0
A38: 4 | B38: Utility Man (Non - Trade Tested) | E38: HRS | G38: 15 | H38: 200 | I38: =SUM(G38*H38) -> 3000
A39: 5 | B39: Artisan Aid | E39: HRS | H39: 200 | I39: =SUM(G39*H39) -> 0
A40: 6 | B40: General Worker | E40: HRS | H40: 140 | I40: =SUM(G40*H40) -> 0
A44: Sub Total C | I44: =SUM(I35:I43) -> 9750
A45: TRANSPORT
A46: Item 4 | B46: Destinantion | E46: No of Trips | G46: KMs | H46: Rate | I46: Amount
A47: 12 | B47: Port Elizabeth office to Laetitia Bam
B48: CHC and back. | E48: 2 | G48: 154.4 | H48: 5 | I48: =H48*G48 -> 772
A50: Sub Total D | I50: =SUM(I47:I49) -> 772
G52: Sub Total (A+B+C+D) | I52: =I50+I44+I32+I21 -> 18457.23
G54: Sub Total | I54: =I52+I53 -> 18457.23

Sheet JOSE PEARSON TB HOSPITAL (02)
A9: QUOTE TO : | F9: Qoute No | H9: 2
A10: Department of Health | F10: Date | H10: 43498
A11: 717 Dukumbana Building | F11: Facility | H11: JOSE PEARSON TB HOSPITAL
A12: Independent Avenue | F12: Work Order | H12: 40578
A13: Bhisho | F13: Tender No | H13: SCMU3 - 17/18-0303 - HO
F14: Contract Term | H14: 24 MONTHS
A15: WORK REQUEST : Phamarcy building dep needs to be connected to the gen
A16: SCHEDULED WORK
A17: Item 1 | B17: Discription | E17: Unit | F17: Sch No | G17: Quantity | H17: Rate | I17: Amount
I18: =SUM(G18*H18) -> 0
I19: =SUM(G19*H19) -> 0
I20: =SUM(G20*H20) -> 0
A21: Sub Total A | I21: =SUM(I18:I20) -> 0
A22: NON SCHEDULED WORK
A23: Item 2 | B23: Discription | F23: Quantity | G23: MarK UP | H23: Rate | I23: Amount
A32: Sub Total B | I32: =SUM(I24:I31) -> 0
A33: LABOUR
A34: Item 3 | B34: (Normal Rate) | E34: Unit | G34: Quantity | H34: Rate | I34: Amount
A35: 1 | B35: Techinician | E35: HRS | G35: 6 | H35: 450 | I35: =SUM(G35*H35) -> 2700
A36: 2 | B36: Senior Artisan | E36: HRS | H36: 350 | I36: =SUM(G36*H36) -> 0
A37: 3 | B37: Artisan (Trade Tested) | E37: HRS | H37: 300 | I37: =SUM(G37*H37) -> 0
A38: 4 | B38: Utility Man (Non - Trade Tested) | E38: HRS | G38: 6 | H38: 200 | I38: =SUM(G38*H38) -> 1200
A39: 5 | B39: Artisan Aid | E39: HRS | H39: 200 | I39: =SUM(G39*H39) -> 0
A40: 6 | B40: General Worker | E40: HRS | H40: 140 | I40: =SUM(G40*H40) -> 0
A44: Sub Total C | I44: =SUM(I35:I43) -> 3900
A45: TRANSPORT
A46: Item 4 | B46: Destinantion | E46: No of Trips | G46: KMs | H46: Rate | I46: Amount
A47: 12 | B47: Port Elizabeth office to Jose Pearson
B48: TB Hospital and back. | E48: 1 | G48: 47 | H48: 5 | I48: =H48*G48 -> 235
A50: Sub Total D | I50: =SUM(I47:I49) -> 235
G52: Sub Total (A+B+C+D) | I52: =I50+I44+I32+I21 -> 4135
G54: Sub Total | I54: =I52 -> 4135

Sheet NEW BRIGHTON MORTUARY (03)
A9: QUOTE TO : | F9: Qoute No | H9: 3
A10: Department of Health | F10: Date | H10: 43801
A11: 717 Dukumbana Building | F11: Facility | H11: NEW BRIGHTON MORTUARY
A12: Independent Avenue | F12: Work Order | H12: 41253
A13: Bhisho | F13: Tender No | H13: SCMU3 - 17/18-0303 - HO
F14: Contract Term | H14: 24 MONTHS
A15: WORK REQUEST : Gen does not start.
A16: SCHEDULED WORK
A17: Item 1 | B17: Discription | E17: Unit | F17: Sch No | G17: Quantity | H17: Rate | I17: Amount
I18: =SUM(G18*H18) -> 0
I19: =SUM(G19*H19) -> 0
I20: =SUM(G20*H20) -> 0
A21: Sub Total A | I21: =SUM(I18:I20) -> 0
A22: NON SCHEDULED WORK
A23: Item 2 | B23: Discription | F23: Quantity | G23: MarK UP | H23: Rate | I23: Amount
A32: Sub Total B | I32: =SUM(I24:I31) -> 0
A33: LABOUR
A34: Item 3 | B34: (Normal Rate) | E34: Unit | G34: Quantity | H34: Rate | I34: Amount
A35: 1 | B35: Techinician | E35: HRS | G35: 1.5 | H35: 450 | I35: =SUM(G35*H35) -> 675
A36: 2 | B36: Senior Artisan | E36: HRS | H36: 350 | I36: =SUM(G36*H36) -> 0
A37: 3 | B37: Artisan (Trade Tested) | E37: HRS | H37: 300 | I37: =SUM(G37*H37) -> 0
A38: 4 | B38: Utility Man (Non - Trade Tested) | E38: HRS | G38: 1.5 | H38: 200 | I38: =SUM(G38*H38) -> 300
A39: 5 | B39: Artisan Aid | E39: HRS | H39: 200 | I39: =SUM(G39*H39) -> 0
A40: 6 | B40: General Worker | E40: HRS | H40: 140 | I40: =SUM(G40*H40) -> 0
A44: Sub Total C | I44: =SUM(I35:I43) -> 975
A45: TRANSPORT
A46: Item 4 | B46: Destinantion | E46: No of Trips | G46: KMs | H46: Rate | I46: Amount
A47: 12 | B47: Port Elizabeth office to New Brighton
B48: Mortuary and back. | E48: 1 | G48: 21.4 | H48: 5 | I48: =H48*G48 -> 107
A50: Sub Total D | I50: =SUM(I47:I49) -> 107
G52: Sub Total (A+B+C+D) | I52: =I50+I44+I32+I21 -> 1082
G54: Sub Total | I54: =I52+I53 -> 1082

Sheet DORA NGIZA HOSPITAL (04)
A9: QUOTE TO : | F9: Qoute No | H9: 4
A10: Department of Health | F10: Date | H10: 43771
A11: 717 Dukumbana Building | F11: Facility | H11: DORA NGINZA HOSPITAL
A12: Independent Avenue | F12: Work Order | H12: 41177
A13: Bhisho | F13: Tender No | H13: SCMU3 - 17/18-0303 - HO
F14: Contract Term | H14: 24 MONTHS
A15: WORK REQUEST : Request to repair faulty cable connecting to thechange over switch.
A16: SCHEDULED WORK
A17: Item 1 | B17: Discription | E17: Unit | F17: Sch No | G17: Quantity | H17: Rate | I17: Amount
I18: =SUM(G18*H18) -> 0
I19: =SUM(G19*H19) -> 0
I20: =SUM(G20*H20) -> 0
A21: Sub Total A | I21: =SUM(I18:I20) -> 0
A22: NON SCHEDULED WORK
A23: Item 2 | B23: Discription | F23: Quantity | G23: Mark - Up | H23: Rate | I23: Amount
A24: 1 | B24: ELECTRO PHASE FAILER RELAY 400V | F24: 1 | G24: 0.15 | H24: 396 | I24: =H24*F24*1.15 -> 455.4
A25: 2 | B25: 10 X 38mm FUSE 100KVA | F25: 1 | G25: 0.15 | H25: 12 | I25: =H25*F25*1.15 -> 13.8
A32: Sub Total B | I32: =SUM(I24:I31) -> 469.2
A33: LABOUR
A34: Item 3 | B34: (Normal Rate) | E34: Unit | G34: Quantity | H34: Rate | I34: Amount
A35: 1 | B35: Techinician | E35: HRS | G35: 2 | H35: 450 | I35: =SUM(G35*H35) -> 900
A36: 2 | B36: Senior Artisan | E36: HRS | H36: 350 | I36: =SUM(G36*H36) -> 0
A37: 3 | B37: Artisan (Trade Tested) | E37: HRS | H37: 300 | I37: =SUM(G37*H37) -> 0
A38: 4 | B38: Utility Man (Non - Trade Tested) | E38: HRS | G38: 2 | H38: 200 | I38: =SUM(G38*H38) -> 400
A39: 5 | B39: Artisan Aid | E39: HRS | H39: 200 | I39: =SUM(G39*H39) -> 0
A40: 6 | B40: General Worker | E40: HRS | H40: 140 | I40: =SUM(G40*H40) -> 0
A44: Sub Total C | I44: =SUM(I35:I43) -> 1300
A45: TRANSPORT
A46: Item 4 | B46: Destinantion | E46: No of Trips | G46: KMs | H46: Rate | I46: Amount
A47: 1 | B47: Port Elizabeth office to Dora Nginza
B48: Hospital and back. | E48: 1 | G48: 28.6 | H48: 5 | I48: =H48*G48 -> 143
A50: Sub Total D | I50: =SUM(I47:I49) -> 143
G52: Sub Total (A+B+C+D) | I52: =I50+I44+I32+I21 -> 1912.2
G54: Sub Total | I54: =I52+I53 -> 1912.2

Sheet LAETITIA BAM CHC (05)
A9: QUOTE TO : | F9: Qoute No | H9: 5
A10: Department of Health | F10: Date | H10: 43740
A11: 717 Dukumbana Building | F11: Facility | H11: LAETITIA BAM CHC
A12: Independent Avenue | F12: Work Order | H12: 41140
A13: Bhisho | F13: Tender No | H13: SCMU3 - 17/18-0303 - HO
F14: Contract Term | H14: 24 MONTHS
A15: WORK REQUEST : Gen did not start.
A16: SCHEDULED WORK
A17: Item 1 | B17: Discription | E17: Unit | F17: Sch No | G17: Quantity | H17: Rate | I17: Amount
I18: =SUM(G18*H18) -> 0
I19: =SUM(G19*H19) -> 0
I20: =SUM(G20*H20) -> 0
A21: Sub Total A | I21: =SUM(I18:I20) -> 0
A22: NON SCHEDULED WORK
A23: Item 2 | B23: Discription | F23: Quantity | H23: Rate | I23: Amount
A32: Sub Total B | I32: =SUM(I24:I31) -> 0
A33: LABOUR
A34: Item 3 | B34: (Normal Rate) | E34: Unit | G34: Quantity | H34: Rate | I34: Amount
A35: 1 | B35: Techinician | E35: HRS | G35: 1 | H35: 450 | I35: =SUM(G35*H35) -> 450
A36: 2 | B36: Senior Artisan | E36: HRS | H36: 350 | I36: =SUM(G36*H36) -> 0
A37: 3 | B37: Artisan (Trade Tested) | E37: HRS | H37: 300 | I37: =SUM(G37*H37) -> 0
A38: 4 | B38: Utility Man (Non - Trade Tested) | E38: HRS | G38: 1 | H38: 200 | I38: =SUM(G38*H38) -> 200
A39: 5 | B39: Artisan Aid | E39: HRS | H39: 200 | I39: =SUM(G39*H39) -> 0
A40: 6 | B40: General Worker | E40: HRS | H40: 140 | I40: =SUM(G40*H40) -> 0
A44: Sub Total C | I44: =SUM(I35:I43) -> 650
A45: TRANSPORT
A46: Item 4 | B46: Destinantion | E46: No of Trips | G46: KMs | H46: Rate | I46: Amount
A47: 1 | B47: Port Elizabeth office to Laetitia Bam
B48: CHC and back. | E48: 1 | G48: 77.2 | H48: 5 | I48: =H48*G48 -> 386
A50: Sub Total D | I50: =SUM(I47:I49) -> 386
G52: Sub Total (A+B+C+D) | I52: =I50+I44+I32+I21 -> 1036
G54: Sub Total | I54: =I52+I53 -> 1036

Sheet MOTHERWELL CHC (06)
A9: QUOTE TO : | F9: Qoute No | H9: 6
A10: Department of Health | F10: Date | H10: 13/2/2019
A11: 717 Dukumbana Building | F11: Facility | H11: MOTHERWELL CHC
A12: Independent Avenue | F12: Work Order | H12: 41408
A13: Bhisho | F13: Tender No | H13: SCMU3 - 17/18-0303 - HO
F14: Contract Term | H14: 24 MONTHS
A15: WORK REQUEST : Request to repair gen ,not staring.
A16: SCHEDULED WORK
A17: Item 1 | B17: Discription | E17: Unit | F17: Sch No | G17: Quantity | H17: Rate | I17: Amount
I18: =SUM(G18*H18) -> 0
I19: =SUM(G19*H19) -> 0
I20: =SUM(G20*H20) -> 0
A21: Sub Total A | I21: =SUM(I18:I20) -> 0
A22: NON SCHEDULED WORK
A23: Item 2 | B23: Discription | F23: Quantity | H23: Rate | I23: Amount
A32: Sub Total B | I32: =SUM(I24:I31) -> 0
A33: LABOUR
A34: Item 3 | B34: (Normal Rate) | E34: Unit | G34: Quantity | H34: Rate | I34: Amount
A35: 1 | B35: Techinician | E35: HRS | G35: 1 | H35: 450 | I35: =SUM(G35*H35) -> 450
A36: 2 | B36: Senior Artisan | E36: HRS | H36: 350 | I36: =SUM(G36*H36) -> 0
A37: 3 | B37: Artisan (Trade Tested) | E37: HRS | H37: 300 | I37: =SUM(G37*H37) -> 0
A38: 4 | B38: Utility Man (Non - Trade Tested) | E38: HRS | G38: 1 | H38: 200 | I38: =SUM(G38*H38) -> 200
A39: 5 | B39: Artisan Aid | E39: HRS | H39: 200 | I39: =SUM(G39*H39) -> 0
A40: 6 | B40: General Worker | E40: HRS | H40: 140 | I40: =SUM(G40*H40) -> 0
A44: Sub Total C | I44: =SUM(I35:I43) -> 650
A45: TRANSPORT
A46: Item 4 | B46: Destinantion | E46: No of Trips | G46: KMs | H46: Rate | I46: Amount
A47: 12 | B47: Port Elizabeth office to Motherwell
B48: CHC and back. | E48: 1 | G48: 48.8 | H48: 5 | I48: =H48*G48 -> 244
A50: Sub Total D | I50: =SUM(I47:I49) -> 244
G52: Sub Total (A+B+C+D) | I52: =I50+I44+I32+I21 -> 894
G54: Sub Total | I54: =I52+I53 -> 894

Sheet MOTHERWEL CHC (07)
A9: QUOTE TO : | F9: Qoute No | H9: 7
A10: Department of Health | F10: Date | H10: 18/2/2019
A11: 717 Dukumbana Building | F11: Facility | H11: MOTHERWELL CHC
A12: Independent Avenue | F12: Work Order | H12: 43238
A13: Bhisho | F13: Tender No | H13: SCMU3 - 17/18-0303 - HO
F14: Contract Term | H14: 24 MONTHS
A15: WORK REQUEST : Repair to faulty gen keeps on tripping.
A16: SCHEDULED WORK
A17: Item 1 | B17: Discription | E17: Unit | F17: Sch No | G17: Quantity | H17: Rate | I17: Amount
I18: =SUM(G18*H18) -> 0
I19: =SUM(G19*H19) -> 0
I20: =SUM(G20*H20) -> 0
A21: Sub Total A | I21: =SUM(I18:I20) -> 0
A22: NON SCHEDULED WORK
A23: Item 2 | B23: Discription | F23: Quantity | H23: Rate | I23: Amount
A32: Sub Total B | I32: =SUM(I24:I31) -> 0
A33: LABOUR
A34: Item 3 | B34: (Normal Rate) | E34: Unit | G34: Quantity | H34: Rate | I34: Amount
A35: 1 | B35: Techinician | E35: HRS | G35: 1.5 | H35: 450 | I35: =SUM(G35*H35) -> 675
A36: 2 | B36: Senior Artisan | E36: HRS | H36: 350 | I36: =SUM(G36*H36) -> 0
A37: 3 | B37: Artisan (Trade Tested) | E37: HRS | H37: 300 | I37: =SUM(G37*H37) -> 0
A38: 4 | B38: Utility Man (Non - Trade Tested) | E38: HRS | G38: 1.5 | H38: 200 | I38: =SUM(G38*H38) -> 300
A39: 5 | B39: Artisan Aid | E39: HRS | H39: 200 | I39: =SUM(G39*H39) -> 0
A40: 6 | B40: General Worker | E40: HRS | H40: 140 | I40: =SUM(G40*H40) -> 0
A44: Sub Total C | I44: =SUM(I35:I43) -> 975
A45: TRANSPORT
A46: Item 4 | B46: Destinantion | E46: No of Trips | G46: KMs | H46: Rate | I46: Amount
A47: 1 | B47: Port Elizabeth office to Motherwell
B48: CHC and back. | E48: 1 | G48: 48.8 | H48: 5 | I48: =H48*G48 -> 244
A50: Sub Total D | I50: =SUM(I47:I49) -> 244
G52: Sub Total (A+B+C+D) | I52: =I50+I44+I32+I21 -> 1219
G54: Sub Total | I54: =I52+I53 -> 1219

Sheet ORSMOND TB HOSPITAL (08)
A9: QUOTE TO : | F9: Qoute No | H9: 8
A10: Department of Health | F10: Date | H10: 16/2/2019
A11: 717 Dukumbana Building | F11: Facility | H11: ORSMOND TB HOSPITAL
A12: Independent Avenue | F12: Work Order | H12: 43191
A13: Bhisho | F13: Tender No | H13: SCMU3 - 17/18-0303 - HO
F14: Contract Term | H14: 24 MONTHS
A15: WORK REQUEST : Gen faulty.
A16: SCHEDULED WORK
A17: Item 1 | B17: Discription | E17: Unit | F17: Sch No | G17: Quantity | H17: Rate | I17: Amount
I18: =SUM(G18*H18) -> 0
I19: =SUM(G19*H19) -> 0
I20: =SUM(G20*H20) -> 0
A21: Sub Total A | I21: =SUM(I18:I20) -> 0
A22: NON SCHEDULED WORK
A23: Item 2 | B23: Discription | F23: Quantity | G23: Mark - Up | H23: Rate | I23: Amount
A32: Sub Total B | I32: =SUM(I24:I31) -> 0
A33: LABOUR
A34: Item 3 | B34: (Normal Rate) | E34: Unit | G34: Quantity | H34: Rate | I34: Amount
A35: 1 | B35: Techinician | E35: HRS | G35: 2.5 | H35: 450 | I35: =SUM(G35*H35) -> 1125
A36: 2 | B36: Senior Artisan | E36: HRS | H36: 350 | I36: =SUM(G36*H36) -> 0
A37: 3 | B37: Artisan (Trade Tested) | E37: HRS | H37: 300 | I37: =SUM(G37*H37) -> 0
A38: 4 | B38: Utility Man (Non - Trade Tested) | E38: HRS | G38: 2.5 | H38: 200 | I38: =SUM(G38*H38) -> 500
A39: 5 | B39: Artisan Aid | E39: HRS | H39: 200 | I39: =SUM(G39*H39) -> 0
A40: 6 | B40: General Worker | E40: HRS | H40: 140 | I40: =SUM(G40*H40) -> 0
A44: Sub Total C | I44: =SUM(I35:I43) -> 1625
A45: TRANSPORT
A46: Item 4 | B46: Destinantion | E46: No of Trips | G46: KMs | H46: Rate | I46: Amount
A47: 1 | B47: Port Elizabeth office to Orsmmon TB hospital
B48: and back. | E48: 1 | G48: 81.4 | H48: 5 | I48: =H48*G48 -> 407
A50: Sub Total D | I50: =SUM(I47:I49) -> 407
G52: Sub Total (A+B+C+D) | I52: =I50+I44+I32+I21 -> 2032
G54: Sub Total | I54: =I52+I53 -> 2032

Sheet JOSE PEARSON TB HOSPITAL (09)
A9: QUOTE TO : | F9: Qoute No | H9: 9
A10: Department of Health | F10: Date | H10: 43618
A11: 717 Dukumbana Building | F11: Facility | H11: JOSE PEARSON TB HOSPITAL
A12: Independent Avenue | F12: Work Order | H12: 42608
A13: Bhisho | F13: Tender No | H13: SCMU3 - 17/18-0303 - HO
F14: Contract Term | H14: 24 MONTHS
A15: WORK REQUEST : Repair to a faulty gen and diesel pump.
A16: SCHEDULED WORK
A17: Item 1 | B17: Discription | E17: Unit | F17: Sch No | G17: Quantity | H17: Rate | I17: Amount
I18: =SUM(G18*H18) -> 0
I19: =SUM(G19*H19) -> 0
I20: =SUM(G20*H20) -> 0
A21: Sub Total A | I21: =SUM(I18:I20) -> 0
A22: NON SCHEDULED WORK
A23: Item 2 | B23: Discription | F23: Quantity | G23: Mark -Up | H23: Rate | I23: Amount
A24: 1 | B24: ROTARY PUMP | F24: 1 | G24: 0.15 | H24: 239.13 | I24: =H24*F24*1.15 -> 274.9995
A25: 2 | B25: BOND ADHESIVE | F25: 1 | G25: 0.15 | H25: 52.17 | I25: =H25*F25*1.15 -> 59.9955
A32: Sub Total B | I32: =SUM(I24:I31) -> 334.995
A33: LABOUR
A34: Item 3 | B34: (Normal Rate) | E34: Unit | G34: Quantity | H34: Rate | I34: Amount
A35: 1 | B35: Techinician | E35: HRS | G35: 2 | H35: 450 | I35: =SUM(G35*H35) -> 900
A36: 2 | B36: Senior Artisan | E36: HRS | H36: 350 | I36: =SUM(G36*H36) -> 0
A37: 3 | B37: Artisan (Trade Tested) | E37: HRS | H37: 300 | I37: =SUM(G37*H37) -> 0
A38: 4 | B38: Utility Man (Non - Trade Tested) | E38: HRS | G38: 2 | H38: 200 | I38: =SUM(G38*H38) -> 400
A39: 5 | B39: Artisan Aid | E39: HRS | H39: 200 | I39: =SUM(G39*H39) -> 0
A40: 6 | B40: General Worker | E40: HRS | H40: 140 | I40: =SUM(G40*H40) -> 0
A44: Sub Total C | I44: =SUM(I35:I43) -> 1300
A45: TRANSPORT
A46: Item 4 | B46: Destinantion | E46: No of Trips | G46: KMs | H46: Rate | I46: Amount
A47: 1 | B47: Port Elizabeth office to Jose Pearson
B48: TB and back. | E48: 1 | G48: 47 | H48: 5 | I48: =H48*G48 -> 235
A50: Sub Total D | I50: =SUM(I47:I49) -> 235
G52: Sub Total (A+B+C+D) | I52: =I50+I44+I32+I21 -> 1869.995
G54: Sub Total | I54: =I52+I53 -> 1869.995

Sheet LIVINGSTONE HOSPITAL (10)
A9: QUOTE TO : | F9: Qoute No | H9: 10
A10: Department of Health | F10: Date | H10: 43619
A11: 717 Dukumbana Building | F11: Facility | H11: LIVINGSTONE HOSPITAL
A12: Independent Avenue | F12: Work Order | H12: 42600
A13: Bhisho | F13: Tender No | H13: SCMU3 - 17/18-0303 - HO
F14: Contract Term | H14: 24 MONTHS
A15: WORK REQUEST : Repair to faulty gen.
A16: SCHEDULED WORK
A17: Item 1 | B17: Discription | E17: Unit | F17: Sch No | G17: Quantity | H17: Rate | I17: Amount
I18: =SUM(G18*H18) -> 0
I19: =SUM(G19*H19) -> 0
I20: =SUM(G20*H20) -> 0
A21: Sub Total A | I21: =SUM(I18:I20) -> 0
A22: NON SCHEDULED WORK
A23: Item 2 | B23: Discription | F23: Quantity | G23: Mark - Up | H23: Rate | I23: Amount
A24: 1 | B24: BATTERY 689 SHD | F24: 4 | G24: 0.15 | H24: 3346 | I24: =H24*F24*1.15 -> 15391.6
A25: 2 | B25: BATTERY 689 | F25: 4 | G25: 0.15 | H25: 2213 | I25: =H25*F25*1.15 -> 10179.8
A32: Sub Total B | I32: =SUM(I24:I31) -> 25571.4
A33: LABOUR
A34: Item 3 | B34: (Normal Rate) | E34: Unit | G34: Quantity | H34: Rate | I34: Amount
A35: 1 | B35: Techinician | E35: HRS | G35: 4 | H35: 450 | I35: =SUM(G35*H35) -> 1800
A36: 2 | B36: Senior Artisan | E36: HRS | H36: 350 | I36: =SUM(G36*H36) -> 0
A37: 3 | B37: Artisan (Trade Tested) | E37: HRS | H37: 300 | I37: =SUM(G37*H37) -> 0
A38: 4 | B38: Utility Man (Non - Trade Tested) | E38: HRS | G38: 4 | H38: 200 | I38: =SUM(G38*H38) -> 800
A39: 5 | B39: Artisan Aid | E39: HRS | H39: 200 | I39: =SUM(G39*H39) -> 0
A40: 6 | B40: General Worker | E40: HRS | H40: 140 | I40: =SUM(G40*H40) -> 0
A44: Sub Total C | I44: =SUM(I35:I43) -> 2600
A45: TRANSPORT
A46: Item 4 | B46: Destinantion | E46: No of Trips | G46: KMs | H46: Rate | I46: Amount
A47: 1 | B47: Port Elizabeth office to Livingstone
B48: Hospital and back. | E48: 1 | G48: 23 | H48: 5 | I48: =H48*G48 -> 115
A50: Sub Total D | I50: =SUM(I47:I49) -> 115
G52: Sub Total (A+B+C+D) | I52: =I50+I44+I32+I21 -> 28286.4
G54: Sub Total | I54: =I52+I53 -> 28286.4

Sheet LAETITIA BAM CHC (11)
A9: QUOTE TO : | F9: Qoute No | H9: 11
A10: Department of Health | F10: Date | H10: 28/3/2019
A11: 717 Dukumbana Building | F11: Facility | H11: LAETITIA BAM CHC
A12: Independent Avenue | F12: Work Order | H12: 43269
A13: Bhisho | F13: Tender No | H13: SCMU3 - 17/18-0303 - HO
F14: Contract Term | H14: 24 MONTHS
A15: WORK REQUEST : Generator does not kick start.
A16: SCHEDULED WORK
A17: Item 1 | B17: Description | E17: Unit | F17: Sch No | G17: Quantity | H17: Rate | I17: Amount
I18: =SUM(G18*H18) -> 0
I19: =SUM(G19*H19) -> 0
I20: =SUM(G20*H20) -> 0
A21: Sub Total A | I21: =SUM(I18:I20) -> 0
A22: NON SCHEDULED WORK
A23: Item 2 | B23: Description | G23: Quantity | H23: Rate | I23: Amount
A32: Sub Total | I32: =SUM(I24:I31) -> 0
A33: Mark - Up 15% | I33: =I32*0.15 -> 0
A34: SUb Total B | I34: =I32+I33 -> 0
A35: LABOUR
A36: Item 3 | B36: (Normal Rate) | E36: Unit | G36: Quantity | H36: Rate | I36: Amount
A37: 1 | B37: Techinician | E37: HRS | G37: 2 | H37: 450 | I37: =SUM(G37*H37) -> 900
A38: 2 | B38: Senior Artisan | E38: HRS | H38: 350 | I38: =SUM(G38*H38) -> 0
A39: 3 | B39: Artisan (Trade Tested) | E39: HRS | H39: 300 | I39: =SUM(G39*H39) -> 0
A40: 4 | B40: Utility Man (Non - Trade Tested) | E40: HRS | G40: 2 | H40: 200 | I40: =SUM(G40*H40) -> 400
A41: 5 | B41: Artisan Aid | E41: HRS | H41: 200 | I41: =SUM(G41*H41) -> 0
A42: 6 | B42: General Worker | E42: HRS | H42: 140 | I42: =SUM(G42*H42) -> 0
A46: Sub Total C | I46: =SUM(I37:I45) -> 1300
A47: TRANSPORT
A48: Item 4 | B48: Destinantion | E48: No of Trips | G48: KMs | H48: Rate | I48: Amount
A49: 1 | B49: Port Elizabeth office to Laetitia CHC
B50: and back. | E50: 1 | G50: 77.4 | H50: 5 | I50: =H50*G50 -> 387
A52: Sub Total D | I52: =SUM(I49:I51) -> 387
G54: Sub Total (A+B+C+D) | I54: =I52+I46+I34 -> 1687
G56: Sub Total | I56: =I54+I55 -> 1687

Sheet WEST END (12)
A9: QUOTE TO : | F9: Qoute No | H9: 12
A10: Department of Health | F10: Date | H10: 22/3/2019
A11: 717 Dukumbana Building | F11: Facility | H11: West End CHC
A12: Independent Avenue | F12: Work Order | H12: 43444
A13: Bhisho | F13: Tender No | H13: SCMU3 - 17/18-0303 - HO
F14: Contract Term | H14: 24 MONTHS
A15: WORK REQUEST : The generator is leaking oil.
A16: SCHEDULED WORK
A17: Item 1 | B17: Description | E17: Unit | F17: Sch No | G17: Quantity | H17: Rate | I17: Amount
I18: =SUM(G18*H18) -> 0
I19: =SUM(G19*H19) -> 0
I20: =SUM(G20*H20) -> 0
A21: Sub Total A | I21: =SUM(I18:I20) -> 0
A22: NON SCHEDULED WORK
A23: Item 2 | B23: Description | G23: Quantity | H23: Rate | I23: Amount
A24: 1 | B24: REAR OIL SEAL (6105) | G24: 1 | H24: 172.17 | I24: =H24*G24 -> 172.17
A25: 2 | B25: RIMULA R4 X 15W40 | G25: 1 | H25: 665.1 | I25: =H25*G25 -> 665.1
A32: Sub Total | I32: =SUM(I24:I31) -> 837.27
A33: Mark - Up 15% | I33: =I32*0.15 -> 125.5905
A34: SUb Total B | I34: =I32+I33 -> 962.8605
A35: LABOUR
A36: Item 3 | B36: (Normal Rate) | E36: Unit | G36: Quantity | H36: Rate | I36: Amount
A37: 1 | B37: Techinician | E37: HRS | G37: 9 | H37: 450 | I37: =SUM(G37*H37) -> 4050
A38: 2 | B38: Senior Artisan | E38: HRS | H38: 350 | I38: =SUM(G38*H38) -> 0
A39: 3 | B39: Artisan (Trade Tested) | E39: HRS | H39: 300 | I39: =SUM(G39*H39) -> 0
A40: 4 | B40: Utility Man (Non - Trade Tested) | E40: HRS | G40: 9 | H40: 200 | I40: =SUM(G40*H40) -> 1800
A41: 5 | B41: Artisan Aid | E41: HRS | H41: 200 | I41: =SUM(G41*H41) -> 0
A42: 6 | B42: General Worker | E42: HRS | H42: 140 | I42: =SUM(G42*H42) -> 0
A46: Sub Total C | I46: =SUM(I37:I45) -> 5850
A47: TRANSPORT
A48: Item 4 | B48: Destinantion | E48: No of Trips | G48: KMs | H48: Rate | I48: Amount
A49: 1 | B49: Port Elizabeth office to West End
B50: Mortuary and back. | E50: 1 | G50: 73.6 | H50: 5 | I50: =H50*G50 -> 368
A52: Sub Total D | I52: =SUM(I49:I51) -> 368
G54: Sub Total (A+B+C+D) | I54: =I52+I46+I34+I21 -> 7180.8605
G56: Sub Total | I56: =I54+I55 -> 7180.8605

Sheet PORT ELIZABETH PRO.(13)
A9: QUOTE TO : | F9: Qoute No | H9: 13
A10: Department of Health | F10: Date | H10: 29/3/2019
A11: 717 Dukumbana Building | F11: Facility | H11: PORT ELIZABETH HOSPITAL PROV
A12: Independent Avenue | F12: Work Order | H12: 43856
A13: Bhisho | F13: Tender No | H13: SCMU3 - 17/18-0303 - HO
F14: Contract Term | H14: 24 MONTHS
A15: WORK REQUEST : The back up generator is faulty.
A16: SCHEDULED WORK
A17: Item 1 | B17: Description | E17: Unit | F17: Sch No | G17: Quantity | H17: Rate | I17: Amount
I18: =SUM(G18*H18) -> 0
I19: =SUM(G19*H19) -> 0
I20: =SUM(G20*H20) -> 0
A21: Sub Total A | I21: =SUM(I18:I20) -> 0
A22: NON SCHEDULED WORK
A23: Item 2 | B23: Description | G23: Quantity | H23: Rate | I23: Amount
A24: 1 | B24: 12 V REALY | G24: 1 | H24: 110 | I24: =H24*G24 -> 110
A32: Sub Total | I32: =SUM(I24:I31) -> 110
A33: Mark - Up 15% | I33: =I32*0.15 -> 16.5
A34: SUb Total B | I34: =I32+I33 -> 126.5
A35: LABOUR
A36: Item 3 | B36: (Normal Rate) | E36: Unit | G36: Quantity | H36: Rate | I36: Amount
A37: 1 | B37: Techinician | E37: HRS | G37: 2 | H37: 450 | I37: =SUM(G37*H37) -> 900
A38: 2 | B38: Senior Artisan | E38: HRS | H38: 350 | I38: =SUM(G38*H38) -> 0
A39: 3 | B39: Artisan (Trade Tested) | E39: HRS | H39: 300 | I39: =SUM(G39*H39) -> 0
A40: 4 | B40: Utility Man (Non - Trade Tested) | E40: HRS | G40: 2 | H40: 200 | I40: =SUM(G40*H40) -> 400
A41: 5 | B41: Artisan Aid | E41: HRS | H41: 200 | I41: =SUM(G41*H41) -> 0
A42: 6 | B42: General Worker | E42: HRS | H42: 140 | I42: =SUM(G42*H42) -> 0
A46: Sub Total C | I46: =SUM(I37:I45) -> 1300
A47: TRANSPORT
A48: Item 4 | B48: Destinantion | E48: No of Trips | G48: KMs | H48: Rate | I48: Amount
A49: 1 | B49: Port Elizabeth office to Prort Elizabeth Prov
B50: Hospital and back. | E50: 1 | G50: 1.9 | H50: 5 | I50: =H50*G50 -> 9.5
A52: Sub Total D | I52: =SUM(I49:I51) -> 9.5
G54: Sub Total (A+B+C+D) | I54: =I52+I46+I34+I21 -> 1436
G56: Sub Total | I56: =I54+I55 -> 1436

Sheet DORA NGIZA HOSP (14)
A9: QUOTE TO : | F9: Qoute No | H9: 14
A10: Department of Health | F10: Date | H10: 16/4/2019
A11: 717 Dukumbana Building | F11: Facility | H11: DORA HOSPITAL PROVINCIAL
A12: Independent Avenue | F12: Work Order | H12: 43167
A13: Bhisho | F13: Tender No | H13: SCMU3 - 17/18-0303 - HO
F14: Contract Term | H14: 24 MONTHS
A15: WORK REQUEST : Casuality generator has a faulty pre - heater.
A16: SCHEDULED WORK
A17: Item 1 | B17: Discription | E17: Unit | F17: Sch No | G17: Quantity | H17: Rate | I17: Amount
I18: =SUM(G18*H18) -> 0
I19: =SUM(G19*H19) -> 0
I20: =SUM(G20*H20) -> 0
A21: Sub Total A | I21: =SUM(I18:I20) -> 0
A22: NON SCHEDULED WORK
A23: Item 2 | B23: Description | G23: Quantity | H23: Rate | I23: Amount
A24: 1 | B24: ELEMENT (2KW) | G24: 1 | H24: 254.18 | I24: =H24*G24 -> 254.18
A25: 2 | B25: THERMOSTAT | G25: 1 | H25: 250.12 | I25: =H25*G25 -> 250.12
A26: 3 | B26: ANTIFREEZE | G26: 15 | H26: 39.81 | I26: =H26*G26 -> 597.15
A27: 4 | B27: 100A (MCB) | G27: 1 | H27: 1646.25 | I27: =H27*G27 -> 1646.25
A28: 5 | B28: SAMITE ADAPTOR PLATE | G28: 2 | H28: 18.9 | I28: =H28*G28 -> 37.8
I29: =H29*G29 -> 0
I30: =H30*G30 -> 0
A32: Sub Total | I32: =SUM(I24:I31) -> 2785.5
A33: Mark - Up 15% | I33: =I32*0.15 -> 417.825
A34: SUb Total B | I34: =I32+I33 -> 3203.325
A35: LABOUR
A36: Item 3 | B36: (Normal Rate) | E36: Unit | G36: Quantity | H36: Rate | I36: Amount
A37: 1 | B37: Techinician | E37: HRS | G37: 6 | H37: 450 | I37: =SUM(G37*H37) -> 2700
A38: 2 | B38: Senior Artisan | E38: HRS | H38: 350 | I38: =SUM(G38*H38) -> 0
A39: 3 | B39: Artisan (Trade Tested) | E39: HRS | H39: 300 | I39: =SUM(G39*H39) -> 0
A40: 4 | B40: Utility Man (Non - Trade Tested) | E40: HRS | G40: 6 | H40: 200 | I40: =SUM(G40*H40) -> 1200
A41: 5 | B41: Artisan Aid | E41: HRS | H41: 200 | I41: =SUM(G41*H41) -> 0
A42: 6 | B42: General Worker | E42: HRS | H42: 140 | I42: =SUM(G42*H42) -> 0
A46: Sub Total C | I46: =SUM(I37:I45) -> 3900
A47: TRANSPORT
A48: Item 4 | B48: Destinantion | E48: No of Trips | G48: KMs | H48: Rate | I48: Amount
A49: 1 | B49: Port Elizabeth office to Dora Ngiza
B50: Hospital and back. | E50: 1 | G50: 28.6 | H50: 5 | I50: =H50*G50 -> 143
A52: Sub Total D | I52: =SUM(I49:I51) -> 143
G54: Sub Total (A+B+C+D) | I54: =I52+I46+I34+I21 -> 7246.325
...

Sheet ORSMOND TB HOSP (15)
A9: QUOTE TO : | F9: Qoute No | H9: 15
A10: Department of Health | F10: Date | H10: 16/3/2019
A11: 717 Dukumbana Building | F11: Facility | H11: ORSMOND TB HOSPITAL
A12: Independent Avenue | F12: Work Order | H12: 44769
A13: Bhisho | F13: Tender No | H13: SCMU3 - 17/18-0303 - HO
F14: Contract Term | H14: 24 MONTHS
A15: WORK REQUEST : Back up generator does not start.
A16: SCHEDULED WORK
A17: Item 1 | B17: Discription | E17: Unit | F17: Sch No | G17: Quantity | H17: Rate | I17: Amount
I18: =SUM(G18*H18) -> 0
I19: =SUM(G19*H19) -> 0
I20: =SUM(G20*H20) -> 0
A21: Sub Total A | I21: =SUM(I18:I20) -> 0
A22: NON SCHEDULED WORK
A23: Item 2 | B23: Description | G23: Quantity | H23: Rate | I23: Amount
A24: 1 | B24: BATTERY (674) | G24: 1 | H24: 1430 | I24: =H24*G24 -> 1430
A32: Sub Total | I32: =SUM(I24:I31) -> 1430
A33: Mark - Up 15% | I33: =I32*0.15 -> 214.5
A34: SUb Total B | I34: =I32+I33 -> 1644.5
A35: LABOUR
A36: Item 3 | B36: (Normal Rate) | E36: Unit | G36: Quantity | H36: Rate | I36: Amount
A37: 1 | B37: Techinician | E37: HRS | G37: 1 | H37: 450 | I37: =SUM(G37*H37) -> 450
A38: 2 | B38: Senior Artisan | E38: HRS | H38: 350 | I38: =SUM(G38*H38) -> 0
A39: 3 | B39: Artisan (Trade Tested) | E39: HRS | H39: 300 | I39: =SUM(G39*H39) -> 0
A40: 4 | B40: Utility Man (Non - Trade Tested) | E40: HRS | G40: 1 | H40: 200 | I40: =SUM(G40*H40) -> 200
A41: 5 | B41: Artisan Aid | E41: HRS | H41: 200 | I41: =SUM(G41*H41) -> 0
A42: 6 | B42: General Worker | E42: HRS | H42: 140 | I42: =SUM(G42*H42) -> 0
A46: Sub Total C | I46: =SUM(I37:I45) -> 650
A47: TRANSPORT
A48: Item 4 | B48: Destinantion | E48: No of Trips | G48: KMs | H48: Rate | I48: Amount
A49: 1 | B49: Port Elizabeth office to Orsmond
B50: Hospital and back. | E50: 1 | G50: 81.6 | H50: 5 | I50: =H50*G50 -> 408
A52: Sub Total D | I52: =SUM(I49:I51) -> 408
G54: Sub Total (A+B+C+D) | I54: =I52+I46+I34+I21 -> 2702.5
G56: Sub Total | I56: =I54+I55 -> 2702.5

Sheet MOUNT RD MORT. (16)
A9: QUOTE TO : | F9: Qoute No | H9: 16
A10: Department of Health | F10: Date | H10: 43713
A11: 717 Dukumbana Building | F11: Facility | H11: MOUNT ROAD MORTAURY
A12: Independent Avenue | F12: Work Order | H12: 45596
A13: Bhisho | F13: Tender No | H13: SCMU3 - 17/18-0303 - HO
F14: Contract Term | H14: 24 MONTHS
A15: WORK REQUEST : Diesel generator is making noise.
A16: SCHEDULED WORK
A17: Item 1 | B17: Description | E17: Unit | F17: Sch No | G17: Quantity | H17: Rate | I17: Amount
I18: =SUM(G18*H18) -> 0
I19: =SUM(G19*H19) -> 0
I20: =SUM(G20*H20) -> 0
A21: Sub Total A | I21: =SUM(I18:I20) -> 0
A22: NON SCHEDULED WORK
A23: Item 2 | B23: Description | G23: Quantity | H23: Rate | I23: Amount
A24: 1 | B24: BATTERY (674) | G24: 1 | H24: 1498.26 | I24: =H24*G24 -> 1498.26
A32: Sub Total | I32: =SUM(I24:I31) -> 1498.26
A33: Mark - Up 15% | I33: =I32*0.15 -> 224.739
A34: SUb Total B | I34: =I32+I33 -> 1722.999
A35: LABOUR
A36: Item 3 | B36: (Normal Rate) | E36: Unit | G36: Quantity | H36: Rate | I36: Amount
A37: 1 | B37: Techinician | E37: HRS | G37: 3 | H37: 450 | I37: =SUM(G37*H37) -> 1350
A38: 2 | B38: Senior Artisan | E38: HRS | H38: 350 | I38: =SUM(G38*H38) -> 0
A39: 3 | B39: Artisan (Trade Tested) | E39: HRS | H39: 300 | I39: =SUM(G39*H39) -> 0
