Workbook
Name Items_01: #REF!
Name Items_01: #REF!
Name Items_01: #REF!
Name Items_01: #REF!
Name Items_01___0: #REF!
Name Items_01___0: #REF!
Name items_02: #REF!
Name items_02: #REF!

Sheet A. P&Gs
A1: =Summary!A1 -> UPGRADING OF THE WESTERN BULK SEWER – CBD (SAVANNAH FALLS ESTATE OUTFALL SEWER AND PUMPSTATION)
A2: TENDER BoQ -RLM/OMM/0051/2022/23
A3: SECTION A - PRELIMINARY AND GENERAL
A4: ITEM NO | B4: PAYM REFERS | C4: DESCRIPTION | D4: UNIT | E4: QTY | F4: RATE | G4: AMOUNT
B5: SABS 1200 A,AB
A6: A.1 | B6: 8.3 | C6: FIXED-CHARGE ITEMS
A7: A.1.1 | B7: 8.3.1 | C7: Contractual requirements | D7: sum | E7: 1 | G7: =F7*E7 -> 0
A8: A.1.2 | B8: 8.3.2 | C8: Establish Facilities on Site | D8: sum | E8: 1 | G8: =F8*E8 -> 0
A9: A.2 | B9: 8.3.2.1 | C9: Facilities for Engineer
A10: A.2.1 | B10: (a) | C10: Name board | D10: sum | E10: 1 | G10: =F10*E10 -> 0
A11: A.2.2 | B11: (b) | C11: Provide Survey Equipment & Assistants | D11: sum | E11: 1 | G11: =F11*E11 -> 0
A12: A.3 | B12: 8.3.2.2 | C12: Facilities for Contractor
A13: A.3.1 | B13: (a) | C13: Offices and Storage sheds | D13: sum | E13: 1 | G13: =F13*E13 -> 0
A14: A.3.2 | B14: (b) | C14: Workshops | D14: sum | E14: 1 | G14: =F14*E14 -> 0
A15: A.3.3 | B15: (c) | C15: Laboratories | D15: sum | E15: 1 | G15: =F15*E15 -> 0
A16: A.3.4 | B16: (d) | C16: Living Accommodation | D16: sum | E16: 1 | G16: =F16*E16 -> 0
A17: A.3.5 | B17: (e) | C17: Ablution and Latrine facilities | D17: sum | E17: 1 | G17: =F17*E17 -> 0
A18: A.3.6 | B18: (f) | C18: Tools and Equipment | D18: sum | E18: 1 | G18: =F18*E18 -> 0
A19: A.3.7 | B19: (g) | C19: Water supplies, electric power and communications, dealing with water and access | D19: sum | E19: 1 | G19: =F19*E19 -> 0
A20: A.3.8 | B20: (h) | C20: Plant | D20: sum | E20: 1 | G20: =F20*E20 -> 0
A21: A.3.9 | B21: 8.3.3 | C21: Other Fixed Charge Obligations | D21: sum | E21: 1 | G21: =F21*E21 -> 0
A22: A.3.10 | B22: 8.3.4 | C22: Removal of Site Establishment | D22: sum | E22: 1 | G22: =F22*E22 -> 0
A23: A.4 | B23: 8.4 | C23: TIME RELATED ITEMS
A24: A.4.1 | B24: 8.4.1 | C24: Contractual requirements | D24: mth | E24: 7 | G24: =F24*E24 -> 0
A25: A.4.2 | B25: 8.4.2 | C25: Operate and Maintain Facilities on Site | D25: mth | E25: 7 | G25: =F25*E25 -> 0
A26: A.5 | B26: 8.4.2.1 | C26: Facilities for Engineer
A27: A.5.1 | B27: (a) | C27: Name board | D27: mth | E27: 7 | G27: =$E27*F27 -> 0
A28: A.5.2 | B28: (b) | C28: Provide Survey Equipment & Assistants | D28: sum | E28: 7 | G28: =$E28*F28 -> 0
A29: A..6 | B29: 8.4.2.2 | C29: Facilities for Contractor
A30: A.6.1 | B30: (a) | C30: Offices and Storage sheds | D30: mth | E30: 7 | G30: =$E30*F30 -> 0
A31: A.6.2 | B31: (b) | C31: Workshops | D31: mth | E31: 7 | G31: =$E31*F31 -> 0
A32: A.6.3 | B32: (c) | C32: Laboratories | D32: mth | E32: 7 | G32: =$E32*F32 -> 0
A33: A.6.4 | B33: (d) | C33: Living Accommodation | D33: mth | E33: 7 | G33: =$E33*F33 -> 0
A34: A.6.5 | B34: (e) | C34: Ablution and Latrine facilities | D34: mth | E34: 7 | G34: =$E34*F34 -> 0
A35: A.6.6 | B35: (f) | C35: Tools and Equipment | D35: mth | E35: 7 | G35: =$E35*F35 -> 0
A36: A.6.7 | B36: (g) | C36: Water supplies, electric power and communications, dealing with water and access | D36: mth | E36: 7 | G36: =$E36*F36 -> 0
A37: A.6.8 | B37: (h) | C37: Plant | D37: mth | E37: 7 | G37: =$E37*F37 -> 0
A38: A.6.9 | B38: 8.4.3 | C38: Supervision for the duration of Construction | D38: mth | E38: 7 | G38: =$E38*F38 -> 0
A39: A.6.10 | B39: 8.4.4 | C39: Company and Overhead costs | D39: mth | E39: 7 | G39: =$E39*F39 -> 0
A40: A.6.11 | B40: 8.4.5 | C40: Other Time-related Obligations | D40: mth | E40: 7 | G40: =$E40*F40 -> 0
A41: A.6.12 | C41: Search and locate existing services, survey beacons and pegs | D41: sum | E41: 1 | G41: =$E41*F41 -> 0
C42: TOTAL CARRIED FORWARD | G42: =SUM(G7:G41) -> 0
A43: ITEM NO | B43: PAYM REFERS | C43: DESCRIPTION | D43: UNIT | E43: QTY | F43: RATE | G43: AMOUNT
C44: TOTAL BROUGHT FORWARD | G44: =G42 -> 0
A45: A.7 | B45: 8.8 | C45: TEMPORARY WORKS AND PROVISIONAL SUMS
A46: A.7.1 | C46: Protect existing services and Beacons | D46: sum | E46: 1 | G46: =$E46*F46 -> 0
A47: A.7.2 | C47: Materials on Dayworks | D47: Prov sum | E47: 1 | F47: 10000 | G47: =$E47*F47 -> 10000
A48: A.8 | C48: Allowance for conducting community and skills training during construction | D48: Prov sum | E48: 1 | F48: 60000 | G48: =$E48*F48 -> 60000
A49: A.9 | C49: Acceptance testing by Engineer | D49: Prov sum | E49: 1 | F49: 20000 | G49: =$E49*F49 -> 20000
A50: A.10 | C50: Compensation for permanent removal of private property | D50: Prov sum | E50: 1 | F50: 25000 | G50: =F50*E50 -> 25000
A51: A.11 | C51: Overhead, charges and profit on Item A.10 | D51: % | E51: =G50 -> 25000 | G51: =F51*E51 -> 0
A52: A.12 | C52: Communication for Engineer | D52: Prov sum | E52: 1 | F52: =1000*7+5000 -> 12000 | G52: =F52*E52 -> 12000
A53: A.13 | C53: Overhead, charges and profit on Item A.11 | D53: % | E53: =G52 -> 12000 | G53: =F53*E53 -> 0
A54: A.14 | C54: Provision of a CLO | D54: mth | E54: 7 | F54: 5000 | G54: =F54*E54 -> 35000
A55: A.15 | C55: Overhead, charges and profit on Item A1.4 | D55: % | E55: =G54 -> 35000 | G55: =F55*E55 -> 0
A56: A.16 | C56: Provisional Sum for Connecting to existing lines | D56: Prov sum | E56: 1 | F56: 15000 | G56: =F56*E56 -> 15000
A57: A.17 | C57: Overhead, charges and profit on Item A.16 | D57: % | E57: =G56 -> 15000 | G57: =F57*E57/100 -> 0
A59: TOTAL SECTION A CARRIED TO SUMMARY | G59: =SUM(G44:G58) -> 177000

Sheet B. Earthworks
A1: =Summary!A1 -> UPGRADING OF THE WESTERN BULK SEWER – CBD (SAVANNAH FALLS ESTATE OUTFALL SEWER AND PUMPSTATION)
A2: ='A. P&Gs'!A2:G2 -> TENDER BoQ -RLM/OMM/0051/2022/23
A3: Item | B3: PAYM | C3: Description | D3: Unit | E3: Qty | F3: Rate | G3: Amount
A4: No | G4: R C
A5: B. | B5: SABS 1200 C, D, LB PSDB | C5: SECTION B: SITE CLEARANCE AND EARTHWORKS | H5: 1.45
A7: B1. | B7: 1200 C | C7: SITE CLEARANCE
A9: B1.1 | B9: C8.2.1 | C9: Clear and grub vegetation along pipeline route over a width of 3.0m and where ordered by the Engineer | D9: m | E9: 650 | G9: =F9*E9 -> 0 | I9: Clear areas and grub along the pipeline route over a width of 3,0 m and where ordered by the Engineer
A11: B1.2 | C11: Clear and grub area of vegetation for construction of pump sump and the emergency holding pond | D11: m2 | E11: =30*12 -> 360 | G11: =F11*E11 -> 0
A13: B1.3 | B13: C8.2.2 | C13: Remove & Grub Large Trees And tree stumps up to 1m girth | D13: No | E13: 3 | G13: =F13*E13 -> 0
A15: B1.4 | C15: Remove and reinstate fences where required irrespective of height
A16: (a) | C16: Mesh and barbed wire fences | D16: m | E16: 650 | G16: =F16*E16 -> 0
A18: (b) | C18: Pallisade, brick or concrete panel type | D18: m | E18: 50 | G18: =F18*E18 -> 0
A20: B2. | B20: 1200 DA | C20: EARTHWORKS (Small Works)
C21: Excavation
A22: B2.1 | B22: 8.3.1 a | C22: Remove topsoil to 150mm nominal depth and stock pile | D22: m2 | E22: =E11 -> 360 | G22: =F22*E22 -> 0
A24: B2.2 | B24: 8.3.1 b | C24: Excavate in all material and use for embankment or backfill or disposal | D24: m3 | E24: =ROUNDUP('[1]Waterfkloof Estate'!$C$79+'[1]Waterfkloof Estate'!$C$63,0) -> 375 | G24: =F24*E24 -> 0
B26: 8.3.1.c | C26: Extra-over item B2.2 above for:
C28: (i) Intermediate excavation including prior ripping/loosening | D28: m3 | E28: =ROUNDUP(E24*10%*0.75*1,0) -> 29 | G28: =F28*E28 -> 0
C30: (ii) Hard rock excavation including prior drilling/blasting | D30: m3 | E30: =ROUNDUP(E28*50%,0) -> 15 | G30: =F30*E30 -> 0
C32: (iv) Loading of surplus material and disposal by conventional methods including 2 km freehaul | D32: m3 | E32: =ROUNDUP(E28+E30,0) -> 44 | G32: =F32*E32 -> 0
A34: B2.3 | B34: 8.3.2 | C34: Restricted Excavation
C35: Excavate for restricted foundations, footings and trenches in all material and use for backfill or embankment or disposal | D35: m3 | E35: 120 | G35: =F35*E35 -> 0
A37: B2.4 | B37: 8.3.4 | C37: Importing of material from commercial sources or borrow pits | D37: m3.km | E37: =E35*5 -> 600 | G37: =F37*E37 -> 0
A39: B2.5 | B39: 8.3.6 | C39: Topsoiling (Rate to cover for excavating from stock pile hauling and spreading sa directed by Engineer) | D39: m2 | E39: =E22*25% -> 90 | G39: =F39*E39 -> 0
B41: 1200 D | C41: Backfilling and Compaction
A42: B2.7 | C42: Backfilling and Compaction around structures on completion and emabankment formation in 200mm layers (95% MOD AASHTO) | D42: m3 | E42: =ROUNDUP(E24*15%,0) -> 57 | G42: =F42*E42 -> 0
A44: B3. | B44: 1200 DB | C44: EARTHWORKS (Pipe Trenches)
A46: B3.1 | B46: DB 8.3.2 (a) PSDB 5.3 (a) | C46: Excavate in all materials for trenches, backfill, compact and dispose of surplus material within 500 m of the excavation, for pipes not exceeding 250 mm OD for depths:
C48: Over (m) up to (m)
A50: B3.1.1 | C50: 0,0 1,0 | D50: m | E50: 100 | G50: =F50*E50 -> 0
A52: B3.1.2 | C52: 1,0 2,0 | D52: m | E52: 450 | G52: =F52*E52 -> 0
A54: B3.1.3 | C54: 2,0 3,0 | D54: m | E54: 100 | G54: =F54*E54 -> 0
A56: B3.1.4 | C56: 3,0 over 3,0 | D56: m | E56: 50 | G56: =F56*E56 -> 0
A58: TOTAL CARRIED FORWARD | G58: =SUM(G5:G57) -> 0
A59: BROUGHT FORWARD | G59: =G58 -> 0
A60: B3.2 | B60: PSDB 5.3 (b) | C60: Extra-over item B3.1 above for:
A62: B3.2.1 | C62: (i) Intermediate excavation including prior ripping/loosening | D62: m3 | E62: =ROUNDUP(E9*10%*0.75*1,0) -> 49 | G62: =F62*E62 -> 0 | H62: 2148.12
A64: B3.2.2 | C64: (ii) Hard rock excavation including prior drilling/blasting | D64: m3 | E64: =ROUNDUP(E62*50%,0) -> 25 | G64: =F64*E64 -> 0 | H64: 358.02
A66: B3.2.3 | C66: (iv) Loading of surplus material and disposal by conventional methods including 2 km freehaul | D66: m3 | E66: =ROUNDUP(E62+E64,0) -> 74 | G66: =F66*E66 -> 0 | H66: 200
A68: B3.3 | B68: DB 8.3.2 (a) PSDB 5.3 (c) | C68: Excavate in all materials for trenches, backfill, compact and dispose of surplus material utilising Labour Intensive Construction Methods, for pipes not exceeding 250 mm OD for depths:
C70: Over (m) up to (m)
A72: B3.3.1 | C72: 0,0 1,0 | D72: m | G72: Rate only
A74: B3.3.2 | C74: 1,0 2,0 | D74: m | G74: Rate only
A76: B3.4 | B76: PSDB 5.3 (d) | C76: Extra-over item B3.3 above for:
A78: B3.4.1 | C78: (i) Intermediate excavation | D78: Sum | G78: Rate only
A80: B3.4.2 | C80: (ii) Hard rock excavation | D80: Sum | G80: Rate only
A82: B3.4.3 | C82: (iii) Soft excavation for manholes | D82: m3 | E82: =((2.45/2)^2*PI()*2*25) -> 235.71762 | G82: =F82*E82 -> 0
A84: B3.4.4 | C84: (iii) Backfill and compact by in layers of 200 mm compacted to 93% Mod AASHTO where instructed | D84: m3 | E84: =ROUNDUP(E9*2*0.75*50%,0) -> 488 | G84: =F84*E84 -> 0
A86: B3.4.5 | C86: (iv) Disposal of surplus material by LIC methods within 50 m from the source of spoil material using wheel barows | D86: m3 | G86: Rate only
A88: B3.5 | B88: DB8.3.2 (c) | C88: Excavate and disposal of unsuitable material from trench bottom (provisional) | D88: m3 | E88: =ROUNDUP(E9*0.75*0.15*100%,0) -> 74 | G88: =F88*E88 -> 0
A90: B3.6 | B90: PSDB 5.6 | C90: Extra-over items B3.1 and B3.3 above for:
A92: B3.6.1 | C92: Restricted excavation around existing pipelines | D92: No | E92: 10 | G92: =F92*E92 -> 0
A94: B3.6.2 | C94: Shoring of trenches where instructed by the engineer | D94: m | E94: =SUM(E54:E56)*2 -> 300 | G94: =F94*E94 -> 0
A96: B3.6.3 | C96: Compaction in road reserves (where ordered by engineer) | D96: m3 | E96: 50 | G96: =F96*E96 -> 0
A98: B3.7 | B98: 1200DB | C98: Extra over item B3.1 for existing services that intersect or adjoin services
A100: B3.7.1 | B100: 8.3.5 (a) | C100: Services that intersect a trench
C101: (a) under ground cables | D101: No | E101: 5 | G101: =F101*E101 -> 0
C102: (b) overhead cables | D102: No | E102: 3 | G102: =F102*E102 -> 0
C103: (c) water mains | D103: No | E103: 3 | G103: =F103*E103 -> 0
C104: (d) sewer mains | D104: No | E104: 2 | G104: =F104*E104 -> 0
C105: (e) stormwater pipes | D105: No | E105: 5 | G105: =F105*E105 -> 0
A107: B3.7.2 | B107: 8.3.5 (b) | C107: Services that adjoin a trench
C108: (a) under ground cables | D108: m | E108: 25 | G108: =F108*E108 -> 0
C109: (b) overhead cables | D109: m | E109: 650 | G109: =F109*E109 -> 0
C110: (c) water mains | D110: m | E110: 650 | G110: =F110*E110 -> 0
C111: (d) sewer mains | D111: m | E111: 50 | G111: =F111*E111 -> 0
C112: (e) stormwater pipes | D112: m | E112: 50 | G112: =F112*E112 -> 0
A114: B3.8 | C114: Make up deficiency in backfill material (provisional)
A116: B3.8.1 | C116: (c) By importation from commercial or off-site sources selected by the Contractor | D116: m3 | E116: =E88 -> 74 | G116: =F116*E116 -> 0
A118: TOTAL CARRIED FORWARD | G118: =SUM(G59:G117) -> 0
A119: BROUGHT FORWARD | G119: =G118 -> 0
A121: B3.9 | B121: DB8.3.3.4 PSDB 5.4 | C121: Overhaul
A123: B3.9.1 | C123: (b) Long overhaul (provisional) | D123: m3km | E123: =ROUNDUP(E84*5*50%,0) -> 1220 | G123: =F123*E123 -> 0
A125: B4 | B125: 1200LB | C125: BEDDING (Pipes)
A127: B4.1 | B127: LB8.2.1 | C127: Provision of bedding from trench excavation
A129: B4.1.1 | C129: (a) Selected granular material (cradle) | D129: m3 | E129: =ROUNDUP(E9/2*0.9*0.15,0) -> 44 | G129: =F129*E129 -> 0 | O129: 0.5
A131: B4.1.2 | C131: (b) Selected fill material (blanket) | D131: m3 | E131: =E129*2 -> 88 | G131: =F131*E131 -> 0
A133: B4.2 | B133: LB8.2.2 | C133: Supply only of bedding by importation
A135: B4.2.1 | B135: LB8.2.2.2 | C135: From borrow pits (provisional)
A137: B4.2.1.1 | C137: (a) Selected granular material (cradle) | D137: m3 | E137: =E129 -> 44 | G137: =F137*E137 -> 0
A139: B4.2.1.2 | C139: (b) Selected fill material (blanket) | D139: m3 | E139: =E137*2 -> 88 | G139: =F139*E139 -> 0
A141: B4.3 | B141: D8.3.4 (b) | C141: Opening up and closing down of designated borrow pit | D141: Sum | E141: 1 | G141: =F141*E141 -> 0
A142: TOTAL SECTION B CARRIED TO SUMMARY | G142: =SUM(G119:G141) -> 0

Sheet C. SEWERS & CONC WORKS
A1: ='A. P&Gs'!A1:G1 -> UPGRADING OF THE WESTERN BULK SEWER – CBD (SAVANNAH FALLS ESTATE OUTFALL SEWER AND PUMPSTATION)
A2: ='A. P&Gs'!A2:G2 -> TENDER BoQ -RLM/OMM/0051/2022/23
A3: Item | B3: PAYM | C3: Description | D3: Unit | E3: Qty | F3: Rate | G3: Amount
A4: No | G4: R C
A5: C. | B5: SABS 1200 LD PSL | C5: SECTION C : SEWERS & MANHOLES
A7: C1. | B7: 1200 L | C7: SEWERS
A9: C1.1 | B9: L8.2.1 PSL 4.1 PSL 4.2 | C9: SUPPLY, HANDLE, BED (flexible pipe bedding) , LAY, JOINT and TEST
A11: C1.1.1 | C11: 110 mm nb, uPVC ,Class 34 (heavy duty) solid wall | D11: m | E11: 6 | G11: Rate Only
G12: =F12*E12 -> 0
A13: C1.1.2 | C13: 160 mm nb, uPVC ,Class 34 (heavy duty) solid wall | D13: m | E13: 650 | G13: =F13*E13 -> 0 | H13: 936.5
G14: =F14*E14 -> 0
A15: C1.1.3 | C15: 200 mm nb, uPVC ,Class 34 (heavy duty) solid wall | D15: m | E15: 30 | G15: =F15*E15 -> 0 | H15: 1507
G16: =F16*E16 -> 0
A17: C1.1.4 | C17: 250 mm nb, uPVC ,Class 34 (heavy duty) solid wall | D17: m | E17: 6 | G17: Rate only
G18: =F18*E18 -> 0
A19: C2. | C19: MANHOLES
A21: C2.1 | B21: L8.2.2 PSL 4.1 PSL 4.2 | C21: Construct Precact Concrete Manholes (1.25m ND) complete with cover slab and concrete lid
C22: Over and up to
A23: C2.1.1 | C23: 0,0m - 1,0m | D23: No | E23: 10 | G23: =F23*E23 -> 0
A24: C2.1.2 | C24: 1,0m - 1,5m | D24: No | E24: 4 | G24: =F24*E24 -> 0
A25: C2.1.3 | C25: 1,5m - 2,0m | D25: No | E25: 4 | G25: =F25*E25 -> 0
A26: C2.1.4 | C26: 2,0m - 2,5m | D26: No | E26: 1 | G26: =F26*E26 -> 0
C27: Over 2.5m | D27: No | E27: 3 | G27: =F27*E27 -> 0
A29: C2.2 | C29: Construct Precact Concrete Manholes (1.5m ND) complete with cover slab and concrete lid for deep manholes (over 3.0m) where instructed (Prov) | D29: No | E29: 2 | G29: =F29*E29 -> 0
A31: C.2.3 | C31: Construct Pump Sump (out of precast concrete rectangular units3.0m x 2.5m x 150mm thick) complete with cover slab and steps as per the issued drawing. | D31: No | E31: 2 | G31: =F31*E31 -> 0
A33: C2.4 | B33: 8.4.3 | C33: Concrete Works to Sump & Emergency Holding Pond
A34: C2.4.1 | B34: 8.1.1 | C34: Class 20/19 blinding below foundation | D34: m2 | E34: =E36/0.15 -> 23.1 | G34: =F34*E34 -> 0
A36: C2.4.2 | C36: Class 35/19 concrete to sump base including any channelling | D36: m3 | E36: =7*3.3*0.15 -> 3.465 | G36: =F36*E36 -> 0
G37: =F37*E37 -> 0
A38: C2.4.3 | C38: Class 35/19 concrete to suspended landing | D38: m3 | E38: =3*1.5*0.15*2 -> 1.35 | G38: =F38*E38 -> 0
G39: =F39*E39 -> 0
A40: C2.4.4 | C40: Class 25/19 to 75mm thick pond lining & aprons | D40: m3 | E40: ='[1]Waterfkloof Estate'!$G$72+1*56*0.075 -> 8.3277375 | G40: =F40*E40 -> 0
A42: C2.5 | B42: 8.2.1-2 | C42: Formwork
A44: C2.5.1 | C44: Smooth vertical plane shuttering to suspended landing and deck | D44: m2 | E44: =1.5*3*2+3 -> 12 | G44: =$E44*F44 -> 0
A46: C2.5.2 | C46: Smooth vertical plane shuttering to landing and access sides | D46: m2 | E46: =0.15*3*2 -> 0.9 | G46: =$E46*F46 -> 0
A48: C2.6 | B48: 8.1.2 | C48: Reinforcement
B49: 8.1.2.2 | C49: Mild steel bars
C50: a) 8mm | D50: kg | E50: 100 | G50: =$E50*F50 -> 0
C51: b) 10mm | D51: kg | E51: 200 | G51: =$E51*F51 -> 0
B53: 8.1.2.3 | C53: High tensile steel bars
C54: a) 10mm | D54: kg | E54: 200 | G54: =$E54*F54 -> 0
C55: b) 12mm | D55: kg | E55: 500 | G55: =$E55*F55 -> 0
A57: TOTAL CARRIED FORWARD | G57: =SUM(G5:G56) -> 0
A58: BROUGHT FORWARD | G58: =G57 -> 0
A59: C2.7 | B59: 8.3.2 | C59: High tensile welded mesh reinforcement
C60: a) Ref 245 in aprons | D60: m2 | E60: 50 | G60: =F60*E60 -> 0
C61: b) Ref 193 | D61: m2 | E61: 1 | G61: Rate only
C62: c) Ref 395 | D62: m2 | E62: 1 | G62: Rate only
C63: d) Ref 617 | D63: m2 | E63: 1 | G63: Rate only
A65: C2.8 | B65: 8.4.4 | C65: Unformed surface finishes
A66: C2.8.1 | C66: Fine Wood float finish to deck and landing | D66: m2 | E66: =E44 -> 12 | G66: =$E66*F66 -> 0
A67: C2.8.2 | C67: Steel float finish to floor slab and top of walls | D67: m2 | E67: =7*3.3 -> 23.1 | G67: =$E67*F67 -> 0
A68: C2.8.3 | C68: Power float finish to pond lining and apron around sump | D68: m2 | E68: =E60+'[1]Waterfkloof Estate'!$G$70 -> 105.0365 | G68: =$E68*F68 -> 0
A70: C2.9 | C70: Supply and Install HDPE coated stepirons including caulking | G70: =F70*E70 -> 0
A71: C2.9.1 | C71: a) 200 mm long x 160mm wide | D71: No | E71: =ROUNDUP(25/0.3,0) -> 84 | G71: =F71*E71 -> 0
A73: C3 | C73: Concrete bases and benching in pump sump
A75: C3.1 | C75: Class 25/19 concrete base cast on levelled surface minimum 100mm thick | D75: m3 | E75: =ROUNDUP(0.75*0.75*22/7*0.15*25,0) -> 7 | G75: =F75*E75 -> 0
A77: C3.2 | C77: Class 25/19 concrete benching including channelling with steel float finish | D77: m3 | E77: =ROUNDUP(E75*75%,0) -> 6 | G77: =F77*E77 -> 0
A79: C3.3 | C79: Class 25/19 concrete in mass concrete where instructed | D79: m3 | E79: 2 | G79: =F79*E79 -> 0
A81: C4 | C81: Miscellaneous Manhole Works
A82: C4.1 | C82: Extra over C2.4 for forming ramps and back drops | D82: No | E82: 6 | G82: =F82*E82 -> 0
A84: C4.2 | C84: Breaking into live sewer and building new manhole | D84: No | E84: 3 | G84: =F84*E84 -> 0
A86: C4.3 | C86: Lowering or raising existing manholes | D86: No | E86: 5 | G86: =F86*E86 -> 0
A88: C4.4 | C88: Provisional Amount for cast insitu outlet valve chamber c/w cover and polymer concrete lid and ladder | D88: Prov Sum | E88: 1 | G88: =F88*E88 -> 0
A90: C5 | C90: Road Crossings
C91: Laying160mm dia sewer across Savannah Drive and Waterkloof Hills Estate Access by conventional methods
A93: C5.1 | C93: E.O.item B3 for excavation and backfilling to lines and grade including the removal of surfacing at all depths | D93: m | E93: 24 | G93: =F93*E93 -> 0
G94: =F94*E94 -> 0
A95: C5.2 | C95: Supply and lay 450mm dia 50D stormwater pipe as sleeves to lines and grades indicated | D95: m | E95: 24 | G95: =F95*E95 -> 0
G96: =F96*E96 -> 0
A97: C5.3 | C97: E.O item C1.1.2 for laying pipes in C5.2 above | D97: m | E97: 24 | G97: =F97*E97 -> 0
G98: =F98*E98 -> 0
A99: C5.4 | C99: Contruct 220mm thick brick head walls as instucted by Engineer at ends of C5.2 above | D99: No | E99: 4 | G99: =F99*E99 -> 0
A100: C | G100: =F100*E100 -> 0
A101: C5.5 | C101: Reinstate surface to road crossings in C5.1 above to original standard | D101: m2 | E101: =20*1 -> 20 | G101: =F101*E101 -> 0
A104: TOTAL SECTION C CARRIED TO SUMMARY | G104: =SUM(G58:G103) -> 0

Sheet D.Mech & Elec
A1: ='A. P&Gs'!A1:G1 -> UPGRADING OF THE WESTERN BULK SEWER – CBD (SAVANNAH FALLS ESTATE OUTFALL SEWER AND PUMPSTATION)
A2: ='A. P&Gs'!A2:G2 -> TENDER BoQ -RLM/OMM/0051/2022/23
A3: Item | B3: PAYM | C3: Description | D3: Unit | E3: Qty | F3: Rate | G3: Amount
A4: No | G4: R C
A5: D | C5: SECTION D :MECHANICAL & ELECTRICAL
A7: D1. | C7: PUMP STATION
C8: Supply, Install, Test and Commission by qualified and approved installers. Rates to include attendanace to approved installers
A9: D1.1 | C9: New Macerator complete with+/- 4.5 m extension shaft complete with 4kW/4P/380V/IP55 electrical motor and stainless steel wall mounted bracket to suit. | D9: No | E9: 1 | G9: =F9*E9 -> 0
A11: D1.2 | C11: New 100 l/s @24 meter head submersible pumps complete with duckfoot bend and stainless steel guide rails | D11: No | E11: 2 | G11: =F11*E11 -> 0
A13: D1.3 | C13: Control panel to suit Pumps and Macerator. | D13: No | E13: 1 | G13: =F13*E13 -> 0
A15: D1.4 | C15: Mechanical hoist to suit pumps & Macerator (Gantry Beams) | D15: No | E15: 2 | G15: =F15*E15 -> 0
A17: D1.5 | C17: 250mm nb connecting pipework to connect new pumps with existing delivery line. | D17: No | E17: 1 | G17: =F17*E17 -> 0
C18: 150mm nb gate valves to suit pump | D18: No | E18: 2 | G18: =F18*E18 -> 0
A20: D1.6 | C20: 150mm nb Ball type non-return valves | D20: No | E20: 2 | G20: =F20*E20 -> 0
A22: D1.7 | C22: Supply and install Stainless Steel Ladders +/- 6.0m high c/w mounting to concrete walls | D22: No | E22: 2 | G22: =F22*E22 -> 0
A24: D1.8 | C24: Allow a provisional sum for automation of pump set with manual by-pass | D24: Prov Sum | E24: 1 | F24: 35000 | G24: =F24*E24 -> 35000
A26: D1.9 | C26: Allow a provisional sum for decomissioning and removal of PS 1 and PS2 equipment to handover to RLM | D26: Prov Sum | E26: 1 | F26: 25000 | G26: =F26*E26 -> 25000
A28: D1.10 | C28: Supply and Install 1 050mm x 700mm Polymer concrete Manhole cover and Frame to new sump openings | D28: No | E28: 6 | G28: =F28*E28 -> 0
A30: D1.11 | C30: Supply and deliver potable electric immersible desluging pump capable of discharging 25l/s at 5m head c/w 100mm diameter x 12m long flexible hose | D30: No | E30: 1 | G30: =F30*E30 -> 0
A32: D2 | C32: ELECTRO MAGNETIC FLOW METER
C33: Supply, deliver, install, test and commission 150mm diam flow meter complete with data logger
A34: D2.1 | C34: Allow PC Sum for flow meter by nominated sub-contractor | D34: PC Sum | E34: 1 | F34: 150000 | G34: =$E34*F34 -> 150000
A36: D2.2 | C36: Attendance for above covered in item A.17 & A.20 | D36: % | E36: =G34 -> 150000 | G36: =E36*F36% -> 0
A38: D2.3 | C38: Supply and install 1.5m dia x 2.0m deep precast lockable concrete manhole with 20mm aggregate base for flow meter in D2.1 above | D38: No | E38: 1 | G38: =$E38*F38 -> 0
A40: D2.4 | C40: PC Sum for supply and installation of steel specials for connecting flow meter to rising main | D40: PC Sum | E40: 1 | F40: 10000 | G40: =$E40*F40 -> 10000
A42: D3 | C42: Other
A43: D3.1 | C43: Class 25/19 concrete encasing encasing for sewer pipe where instructed | D43: m3 | E43: 5 | G43: =F43*E43 -> 0
A45: D3.2 | C45: Y10 reinforcing where ordered by Engineer | D45: t | E45: 1 | G45: =F45*E45 -> 0
A47: D3.4 | C47: Allow for other material and costs not covered in the sewer items | D47: Prov Sum | E47: 1 | F47: 25000 | G47: =F47*E47 -> 25000
A48: TOTAL SECTION D CARRIED TO SUMMARY

Sheet E. MISCELLANEOUS
A1: ='A. P&Gs'!A1:G1 -> UPGRADING OF THE WESTERN BULK SEWER – CBD (SAVANNAH FALLS ESTATE OUTFALL SEWER AND PUMPSTATION)
A2: ='A. P&Gs'!A2:G2 -> TENDER BoQ -RLM/OMM/0051/2022/23
A3: Item | B3: PAYM | C3: Description | D3: Unit | E3: Qty | F3: Rate | G3: Amount
A4: No | G4: R C
A5: E | C5: SECTION E :MISCELLANEOUS
A7: E1 | C7: SECURITY FENCE & LIGHTING
A9: E1.1 | C9: Supply and Install Concrete Palisade Fence 2.4m high with razor wire topping +/- 400mm high as per detail drawing | D9: m | E9: 168 | G9: =$E9*F9 -> 0
A11: E1.2 | C11: 4.5m wide manual sliding gate on rail c/w lock | D11: No | E11: 1 | G11: =$E11*F11 -> 0
A13: E1.3 | C13: Allow Provisional Sum Security Lighting and at sump and pond | D13: Prov Sum | E13: 1 | F13: 50000 | G13: =$E13*F13 -> 50000
A15: E1.3 | C15: Allow Provisional Sum for CCTV at PS 2 as specified | D15: Prov Sum | E15: 1 | F15: 50000 | G15: =$E15*F15 -> 50000
A17: E2 | C17: ACCESS ROAD & PAVING
A19: E2.1 | C19: Level and grade 4m wide access road as instructed on site | D19: m | E19: 100 | G19: =$E19*F19 -> 0
A21: E2.2 | C21: Supply and install 60mm concrete block paving around the site as detailed | D21: m2 | E21: 300 | G21: =$E21*F21 -> 0
A23: E2.3 | C23: Class 25/19 concrete to edge beams including excavation and finishing | D23: m3 | E23: 5 | G23: =$E23*F23 -> 0
A37: TOTAL SECTION E CARRIED TO SUMMARY

Sheet Summary
A1: UPGRADING OF THE WESTERN BULK SEWER – CBD (SAVANNAH FALLS ESTATE OUTFALL SEWER AND PUMPSTATION)
A2: ='A. P&Gs'!A2:G2 -> TENDER BoQ -RLM/OMM/0051/2022/23
B3: SUMMARY OF SCHEDULE OF QUANTITIES
A4: SECTION | B4: DESCRIPTION | C4: AMOUNT
A5: A | B5: PRELIMINARY AND GENERAL
A7: B | B7: EARTHWORKS | C7: ='B. Earthworks'!G142 -> 0
A9: C | B9: SEWERS & CONCRETE WORKS | C9: ='C. SEWERS & CONC WORKS'!G104 -> 0
A11: D | B11: MECHANICAL & ELECTRICAL | C11: ='D.Mech & Elec'!G48 -> 0
A13: E | B13: MISECELLANEOUS | C13: ='E. MISCELLANEOUS'!G37 -> 0
A15: SUB-TOTAL FOR CONSTRUCTION | C15: =SUM(C5:C13) -> 0
A17: ADD 10% FOR CONTINGENCIES | C17: =C15*10% -> 0
A19: SUB TOTAL | C19: =SUM(C15:C17) -> 0
A21: PLUS 15% VAT | C21: =C19*0.15 -> 0
A22: TOTAL AMOUNT | C22: =SUM(C19:C21) -> 0
