Workbook
Name Items_01: #REF!
Name Items_01: #REF!
Name Items_01: #REF!
Name Items_01: #REF!
Name Items_01___0: #REF!
Name Items_01___0: #REF!
Name items_02: #REF!
Name items_02: #REF!

Sheet A. P&Gs
A1: =Summary!A1 -> UPGRADING OF THE WESTERN BULK SEWER – CBD (SAVANNAH FALLS ESTATE OUTFALL SEWER AND PUMPSTATION)
A2: TENDER BoQ -RLM/OMM/0051/2022/23
A3: SECTION A - PRELIMINARY AND GENERAL
A4: ITEM NO | B4: PAYM REFERS | C4: DESCRIPTION | D4: UNIT | E4: QTY | F4: RATE | G4: AMOUNT
B5: SABS 1200 A,AB
A6: A.1 | B6: 8.3 | C6: FIXED-CHARGE ITEMS
A7: A.1.1 | B7: 8.3.1 | C7: Contractual requirements | D7: sum | E7: 1 | G7: =F7*E7 -> 0
A8: A.1.2 | B8: 8.3.2 | C8: Establish Facilities on Site | D8: sum | E8: 1 | G8: =F8*E8 -> 0
A9: A.2 | B9: 8.3.2.1 | C9: Facilities for Engineer
A10: A.2.1 | B10: (a) | C10: Name board | D10: sum | E10: 1 | G10: =F10*E10 -> 0
A11: A.2.2 | B11: (b) | C11: Provide Survey Equipment & Assistants | D11: sum | E11: 1 | G11: =F11*E11 -> 0
A12: A.3 | B12: 8.3.2.2 | C12: Facilities for Contractor
A13: A.3.1 | B13: (a) | C13: Offices and Storage sheds | D13: sum | E13: 1 | G13: =F13*E13 -> 0
A14: A.3.2 | B14: (b) | C14: Workshops | D14: sum | E14: 1 | G14: =F14*E14 -> 0
A15: A.3.3 | B15: (c) | C15: Laboratories | D15: sum | E15: 1 | G15: =F15*E15 -> 0
A16: A.3.4 | B16: (d) | C16: Living Accommodation | D16: sum | E16: 1 | G16: =F16*E16 -> 0
A17: A.3.5 | B17: (e) | C17: Ablution and Latrine facilities | D17: sum | E17: 1 | G17: =F17*E17 -> 0
A18: A.3.6 | B18: (f) | C18: Tools and Equipment | D18: sum | E18: 1 | G18: =F18*E18 -> 0
A19: A.3.7 | B19: (g) | C19: Water supplies, electric power and communications, dealing with water and access | D19: sum | E19: 1 | G19: =F19*E19 -> 0
A20: A.3.8 | B20: (h) | C20: Plant | D20: sum | E20: 1 | G20: =F20*E20 -> 0
A21: A.3.9 | B21: 8.3.3 | C21: Other Fixed Charge Obligations | D21: sum | E21: 1 | G21: =F21*E21 -> 0
A22: A.3.10 | B22: 8.3.4 | C22: Removal of Site Establishment | D22: sum | E22: 1 | G22: =F22*E22 -> 0
A23: A.4 | B23: 8.4 | C23: TIME RELATED ITEMS
A24: A.4.1 | B24: 8.4.1 | C24: Contractual requirements | D24: mth | E24: 7 | G24: =F24*E24 -> 0
A25: A.4.2 | B25: 8.4.2 | C25: Operate and Maintain Facilities on Site | D25: mth | E25: 7 | G25: =F25*E25 -> 0
A26: A.5 | B26: 8.4.2.1 | C26: Facilities for Engineer
A27: A.5.1 | B27: (a) | C27: Name board | D27: mth | E27: 7 | G27: =$E27*F27 -> 0
A28: A.5.2 | B28: (b) | C28: Provide Survey Equipment & Assistants | D28: sum | E28: 7 | G28: =$E28*F28 -> 0
A29: A..6 | B29: 8.4.2.2 | C29: Facilities for Contractor
A30: A.6.1 | B30: (a) | C30: Offices and Storage sheds | D30: mth | E30: 7 | G30: =$E30*F30 -> 0
A31: A.6.2 | B31: (b) | C31: Workshops | D31: mth | E31: 7 | G31: =$E31*F31 -> 0
A32: A.6.3 | B32: (c) | C32: Laboratories | D32: mth | E32: 7 | G32: =$E32*F32 -> 0
A33: A.6.4 | B33: (d) | C33: Living Accommodation | D33: mth | E33: 7 | G33: =$E33*F33 -> 0
A34: A.6.5 | B34: (e) | C34: Ablution and Latrine facilities | D34: mth | E34: 7 | G34: =$E34*F34 -> 0
A35: A.6.6 | B35: (f) | C35: Tools and Equipment | D35: mth | E35: 7 | G35: =$E35*F35 -> 0
A36: A.6.7 | B36: (g) | C36: Water supplies, electric power and communications, dealing with water and access | D36: mth | E36: 7 | G36: =$E36*F36 -> 0
A37: A.6.8 | B37: (h) | C37: Plant | D37: mth | E37: 7 | G37: =$E37*F37 -> 0
A38: A.6.9 | B38: 8.4.3 | C38: Supervision for the duration of Construction | D38: mth | E38: 7 | G38: =$E38*F38 -> 0
A39: A.6.10 | B39: 8.4.4 | C39: Company and Overhead costs | D39: mth | E39: 7 | G39: =$E39*F39 -> 0
A40: A.6.11 | B40: 8.4.5 | C40: Other Time-related Obligations | D40: mth | E40: 7 | G40: =$E40*F40 -> 0
...

Sheet B. Earthworks
A1: =Summary!A1 -> UPGRADING OF THE WESTERN BULK SEWER – CBD (SAVANNAH FALLS ESTATE OUTFALL SEWER AND PUMPSTATION)
A2: ='A. P&Gs'!A2:G2 -> TENDER BoQ -RLM/OMM/0051/2022/23
A3: Item | B3: PAYM | C3: Description | D3: Unit | E3: Qty | F3: Rate | G3: Amount
A4: No | G4: R C
A5: B. | B5: SABS 1200 C, D, LB PSDB | C5: SECTION B: SITE CLEARANCE AND EARTHWORKS | H5: 1.45
A7: B1. | B7: 1200 C | C7: SITE CLEARANCE
A9: B1.1 | B9: C8.2.1 | C9: Clear and grub vegetation along pipeline route over a width of 3.0m and where ordered by the Engineer | D9: m | E9: 650 | G9: =F9*E9 -> 0 | I9: Clear areas and grub along the pipeline route over a width of 3,0 m and where ordered by the Engineer
A11: B1.2 | C11: Clear and grub area of vegetation for construction of pump sump and the emergency holding pond | D11: m2 | E11: =30*12 -> 360 | G11: =F11*E11 -> 0
A13: B1.3 | B13: C8.2.2 | C13: Remove & Grub Large Trees And tree stumps up to 1m girth | D13: No | E13: 3 | G13: =F13*E13 -> 0
A15: B1.4 | C15: Remove and reinstate fences where required irrespective of height
A16: (a) | C16: Mesh and barbed wire fences | D16: m | E16: 650 | G16: =F16*E16 -> 0
A18: (b) | C18: Pallisade, brick or concrete panel type | D18: m | E18: 50 | G18: =F18*E18 -> 0
A20: B2. | B20: 1200 DA | C20: EARTHWORKS (Small Works)
C21: Excavation
A22: B2.1 | B22: 8.3.1 a | C22: Remove topsoil to 150mm nominal depth and stock pile | D22: m2 | E22: =E11 -> 360 | G22: =F22*E22 -> 0
A24: B2.2 | B24: 8.3.1 b | C24: Excavate in all material and use for embankment or backfill or disposal | D24: m3 | E24: =ROUNDUP('[1]Waterfkloof Estate'!$C$79+'[1]Waterfkloof Estate'!$C$63,0) -> 375 | G24: =F24*E24 -> 0
B26: 8.3.1.c | C26: Extra-over item B2.2 above for:
C28: (i) Intermediate excavation including prior ripping/loosening | D28: m3 | E28: =ROUNDUP(E24*10%*0.75*1,0) -> 29 | G28: =F28*E28 -> 0
C30: (ii) Hard rock excavation including prior drilling/blasting | D30: m3 | E30: =ROUNDUP(E28*50%,0) -> 15 | G30: =F30*E30 -> 0
C32: (iv) Loading of surplus material and disposal by conventional methods including 2 km freehaul | D32: m3 | E32: =ROUNDUP(E28+E30,0) -> 44 | G32: =F32*E32 -> 0
A34: B2.3 | B34: 8.3.2 | C34: Restricted Excavation
C35: Excavate for restricted foundations, footings and trenches in all material and use for backfill or embankment or disposal | D35: m3 | E35: 120 | G35: =F35*E35 -> 0
A37: B2.4 | B37: 8.3.4 | C37: Importing of material from commercial sources or borrow pits | D37: m3.km | E37: =E35*5 -> 600 | G37: =F37*E37 -> 0
A39: B2.5 | B39: 8.3.6 | C39: Topsoiling (Rate to cover for excavating from stock pile hauling and spreading sa directed by Engineer) | D39: m2 | E39: =E22*25% -> 90 | G39: =F39*E39 -> 0
B41: 1200 D | C41: Backfilling and Compaction
A42: B2.7 | C42: Backfilling and Compaction around structures on completion and emabankment formation in 200mm layers (95% MOD AASHTO) | D42: m3 | E42: =ROUNDUP(E24*15%,0) -> 57 | G42: =F42*E42 -> 0
A44: B3. | B44: 1200 DB | C44: EARTHWORKS (Pipe Trenches)
A46: B3.1 | B46: DB 8.3.2 (a) PSDB 5.3 (a) | C46: Excavate in all materials for trenches, backfill, compact and dispose of surplus material within 500 m of the excavation, for pipes not exceeding 250 mm OD for depths:
C48: Over (m) up to (m)
A50: B3.1.1 | C50: 0,0 1,0 | D50: m | E50: 100 | G50: =F50*E50 -> 0
A52: B3.1.2 | C52: 1,0 2,0 | D52: m | E52: 450 | G52: =F52*E52 -> 0
A54: B3.1.3 | C54: 2,0 3,0 | D54: m | E54: 100 | G54: =F54*E54 -> 0
A56: B3.1.4 | C56: 3,0 over 3,0 | D56: m | E56: 50 | G56: =F56*E56 -> 0
A58: TOTAL CARRIED FORWARD | G58: =SUM(G5:G57) -> 0
A59: BROUGHT FORWARD | G59: =G58 -> 0
A60: B3.2 | B60: PSDB 5.3 (b) | C60: Extra-over item B3.1 above for:
A62: B3.2.1 | C62: (i) Intermediate excavation including prior ripping/loosening | D62: m3 | E62: =ROUNDUP(E9*10%*0.75*1,0) -> 49 | G62: =F62*E62 -> 0 | H62: 2148.12
A64: B3.2.2 | C64: (ii) Hard rock excavation including prior drilling/blasting | D64: m3 | E64: =ROUNDUP(E62*50%,0) -> 25 | G64: =F64*E64 -> 0 | H64: 358.02
A66: B3.2.3 | C66: (iv) Loading of surplus material and disposal by conventional methods including 2 km freehaul | D66: m3 | E66: =ROUNDUP(E62+E64,0) -> 74 | G66: =F66*E66 -> 0 | H66: 200
A68: B3.3 | B68: DB 8.3.2 (a) PSDB 5.3 (c) | C68: Excavate in all materials for trenches, backfill, compact and dispose of surplus material utilising Labour Intensive Construction Methods, for pipes not exceeding 250 mm OD for depths:
...

Sheet C. SEWERS & CONC WORKS
A1: ='A. P&Gs'!A1:G1 -> UPGRADING OF THE WESTERN BULK SEWER – CBD (SAVANNAH FALLS ESTATE OUTFALL SEWER AND PUMPSTATION)
A2: ='A. P&Gs'!A2:G2 -> TENDER BoQ -RLM/OMM/0051/2022/23
A3: Item | B3: PAYM | C3: Description | D3: Unit | E3: Qty | F3: Rate | G3: Amount
A4: No | G4: R C
A5: C. | B5: SABS 1200 LD PSL | C5: SECTION C : SEWERS & MANHOLES
A7: C1. | B7: 1200 L | C7: SEWERS
A9: C1.1 | B9: L8.2.1 PSL 4.1 PSL 4.2 | C9: SUPPLY, HANDLE, BED (flexible pipe bedding) , LAY, JOINT and TEST
A11: C1.1.1 | C11: 110 mm nb, uPVC ,Class 34 (heavy duty) solid wall | D11: m | E11: 6 | G11: Rate Only
G12: =F12*E12 -> 0
A13: C1.1.2 | C13: 160 mm nb, uPVC ,Class 34 (heavy duty) solid wall | D13: m | E13: 650 | G13: =F13*E13 -> 0 | H13: 936.5
G14: =F14*E14 -> 0
A15: C1.1.3 | C15: 200 mm nb, uPVC ,Class 34 (heavy duty) solid wall | D15: m | E15: 30 | G15: =F15*E15 -> 0 | H15: 1507
G16: =F16*E16 -> 0
A17: C1.1.4 | C17: 250 mm nb, uPVC ,Class 34 (heavy duty) solid wall | D17: m | E17: 6 | G17: Rate only
G18: =F18*E18 -> 0
A19: C2. | C19: MANHOLES
A21: C2.1 | B21: L8.2.2 PSL 4.1 PSL 4.2 | C21: Construct Precact Concrete Manholes (1.25m ND) complete with cover slab and concrete lid
C22: Over and up to
A23: C2.1.1 | C23: 0,0m - 1,0m | D23: No | E23: 10 | G23: =F23*E23 -> 0
A24: C2.1.2 | C24: 1,0m - 1,5m | D24: No | E24: 4 | G24: =F24*E24 -> 0
A25: C2.1.3 | C25: 1,5m - 2,0m | D25: No | E25: 4 | G25: =F25*E25 -> 0
A26: C2.1.4 | C26: 2,0m - 2,5m | D26: No | E26: 1 | G26: =F26*E26 -> 0
C27: Over 2.5m | D27: No | E27: 3 | G27: =F27*E27 -> 0
A29: C2.2 | C29: Construct Precact Concrete Manholes (1.5m ND) complete with cover slab and concrete lid for deep manholes (over 3.0m) where instructed (Prov) | D29: No | E29: 2 | G29: =F29*E29 -> 0
A31: C.2.3 | C31: Construct Pump Sump (out of precast concrete rectangular units3.0m x 2.5m x 150mm thick) complete with cover slab and steps as per the issued drawing. | D31: No | E31: 2 | G31: =F31*E31 -> 0
A33: C2.4 | B33: 8.4.3 | C33: Concrete Works to Sump & Emergency Holding Pond
A34: C2.4.1 | B34: 8.1.1 | C34: Class 20/19 blinding below foundation | D34: m2 | E34: =E36/0.15 -> 23.1 | G34: =F34*E34 -> 0
A36: C2.4.2 | C36: Class 35/19 concrete to sump base including any channelling | D36: m3 | E36: =7*3.3*0.15 -> 3.465 | G36: =F36*E36 -> 0
G37: =F37*E37 -> 0
A38: C2.4.3 | C38: Class 35/19 concrete to suspended landing | D38: m3 | E38: =3*1.5*0.15*2 -> 1.35 | G38: =F38*E38 -> 0
G39: =F39*E39 -> 0
A40: C2.4.4 | C40: Class 25/19 to 75mm thick pond lining & aprons | D40: m3 | E40: ='[1]Waterfkloof Estate'!$G$72+1*56*0.075 -> 8.3277375 | G40: =F40*E40 -> 0
A42: C2.5 | B42: 8.2.1-2 | C42: Formwork
A44: C2.5.1 | C44: Smooth vertical plane shuttering to suspended landing and deck | D44: m2 | E44: =1.5*3*2+3 -> 12 | G44: =$E44*F44 -> 0
A46: C2.5.2 | C46: Smooth vertical plane shuttering to landing and access sides | D46: m2 | E46: =0.15*3*2 -> 0.9 | G46: =$E46*F46 -> 0
A48: C2.6 | B48: 8.1.2 | C48: Reinforcement
B49: 8.1.2.2 | C49: Mild steel bars
C50: a) 8mm | D50: kg | E50: 100 | G50: =$E50*F50 -> 0
C51: b) 10mm | D51: kg | E51: 200 | G51: =$E51*F51 -> 0
B53: 8.1.2.3 | C53: High tensile steel bars
...

Sheet D.Mech & Elec
A1: ='A. P&Gs'!A1:G1 -> UPGRADING OF THE WESTERN BULK SEWER – CBD (SAVANNAH FALLS ESTATE OUTFALL SEWER AND PUMPSTATION)
A2: ='A. P&Gs'!A2:G2 -> TENDER BoQ -RLM/OMM/0051/2022/23
A3: Item | B3: PAYM | C3: Description | D3: Unit | E3: Qty | F3: Rate | G3: Amount
A4: No | G4: R C
A5: D | C5: SECTION D :MECHANICAL & ELECTRICAL
A7: D1. | C7: PUMP STATION
C8: Supply, Install, Test and Commission by qualified and approved installers. Rates to include attendanace to approved installers
A9: D1.1 | C9: New Macerator complete with+/- 4.5 m extension shaft complete with 4kW/4P/380V/IP55 electrical motor and stainless steel wall mounted bracket to suit. | D9: No | E9: 1 | G9: =F9*E9 -> 0
A11: D1.2 | C11: New 100 l/s @24 meter head submersible pumps complete with duckfoot bend and stainless steel guide rails | D11: No | E11: 2 | G11: =F11*E11 -> 0
A13: D1.3 | C13: Control panel to suit Pumps and Macerator. | D13: No | E13: 1 | G13: =F13*E13 -> 0
A15: D1.4 | C15: Mechanical hoist to suit pumps & Macerator (Gantry Beams) | D15: No | E15: 2 | G15: =F15*E15 -> 0
A17: D1.5 | C17: 250mm nb connecting pipework to connect new pumps with existing delivery line. | D17: No | E17: 1 | G17: =F17*E17 -> 0
C18: 150mm nb gate valves to suit pump | D18: No | E18: 2 | G18: =F18*E18 -> 0
A20: D1.6 | C20: 150mm nb Ball type non-return valves | D20: No | E20: 2 | G20: =F20*E20 -> 0
A22: D1.7 | C22: Supply and install Stainless Steel Ladders +/- 6.0m high c/w mounting to concrete walls | D22: No | E22: 2 | G22: =F22*E22 -> 0
A24: D1.8 | C24: Allow a provisional sum for automation of pump set with manual by-pass | D24: Prov Sum | E24: 1 | F24: 35000 | G24: =F24*E24 -> 35000
A26: D1.9 | C26: Allow a provisional sum for decomissioning and removal of PS 1 and PS2 equipment to handover to RLM | D26: Prov Sum | E26: 1 | F26: 25000 | G26: =F26*E26 -> 25000
A28: D1.10 | C28: Supply and Install 1 050mm x 700mm Polymer concrete Manhole cover and Frame to new sump openings | D28: No | E28: 6 | G28: =F28*E28 -> 0
A30: D1.11 | C30: Supply and deliver potable electric immersible desluging pump capable of discharging 25l/s at 5m head c/w 100mm diameter x 12m long flexible hose | D30: No | E30: 1 | G30: =F30*E30 -> 0
A32: D2 | C32: ELECTRO MAGNETIC FLOW METER
C33: Supply, deliver, install, test and commission 150mm diam flow meter complete with data logger
A34: D2.1 | C34: Allow PC Sum for flow meter by nominated sub-contractor | D34: PC Sum | E34: 1 | F34: 150000 | G34: =$E34*F34 -> 150000
A36: D2.2 | C36: Attendance for above covered in item A.17 & A.20 | D36: % | E36: =G34 -> 150000 | G36: =E36*F36% -> 0
A38: D2.3 | C38: Supply and install 1.5m dia x 2.0m deep precast lockable concrete manhole with 20mm aggregate base for flow meter in D2.1 above | D38: No | E38: 1 | G38: =$E38*F38 -> 0
A40: D2.4 | C40: PC Sum for supply and installation of steel specials for connecting flow meter to rising main | D40: PC Sum | E40: 1 | F40: 10000 | G40: =$E40*F40 -> 10000
A42: D3 | C42: Other
A43: D3.1 | C43: Class 25/19 concrete encasing encasing for sewer pipe where instructed | D43: m3 | E43: 5 | G43: =F43*E43 -> 0
A45: D3.2 | C45: Y10 reinforcing where ordered by Engineer | D45: t | E45: 1 | G45: =F45*E45 -> 0
A47: D3.4 | C47: Allow for other material and costs not covered in the sewer items | D47: Prov Sum | E47: 1 | F47: 25000 | G47: =F47*E47 -> 25000
A48: TOTAL SECTION D CARRIED TO SUMMARY

Sheet E. MISCELLANEOUS
A1: ='A. P&Gs'!A1:G1 -> UPGRADING OF THE WESTERN BULK SEWER – CBD (SAVANNAH FALLS ESTATE OUTFALL SEWER AND PUMPSTATION)
A2: ='A. P&Gs'!A2:G2 -> TENDER BoQ -RLM/OMM/0051/2022/23
A3: Item | B3: PAYM | C3: Description | D3: Unit | E3: Qty | F3: Rate | G3: Amount
A4: No | G4: R C
A5: E | C5: SECTION E :MISCELLANEOUS
A7: E1 | C7: SECURITY FENCE & LIGHTING
A9: E1.1 | C9: Supply and Install Concrete Palisade Fence 2.4m high with razor wire topping +/- 400mm high as per detail drawing | D9: m | E9: 168 | G9: =$E9*F9 -> 0
A11: E1.2 | C11: 4.5m wide manual sliding gate on rail c/w lock | D11: No | E11: 1 | G11: =$E11*F11 -> 0
A13: E1.3 | C13: Allow Provisional Sum Security Lighting and at sump and pond | D13: Prov Sum | E13: 1 | F13: 50000 | G13: =$E13*F13 -> 50000
A15: E1.3 | C15: Allow Provisional Sum for CCTV at PS 2 as specified | D15: Prov Sum | E15: 1 | F15: 50000 | G15: =$E15*F15 -> 50000
A17: E2 | C17: ACCESS ROAD & PAVING
A19: E2.1 | C19: Level and grade 4m wide access road as instructed on site | D19: m | E19: 100 | G19: =$E19*F19 -> 0
A21: E2.2 | C21: Supply and install 60mm concrete block paving around the site as detailed | D21: m2 | E21: 300 | G21: =$E21*F21 -> 0
A23: E2.3 | C23: Class 25/19 concrete to edge beams including excavation and finishing | D23: m3 | E23: 5 | G23: =$E23*F23 -> 0
A37: TOTAL SECTION E CARRIED TO SUMMARY

Sheet Summary
A1: UPGRADING OF THE WESTERN BULK SEWER – CBD (SAVANNAH FALLS ESTATE OUTFALL SEWER AND PUMPSTATION)
A2: ='A. P&Gs'!A2:G2 -> TENDER BoQ -RLM/OMM/0051/2022/23
B3: SUMMARY OF SCHEDULE OF QUANTITIES
A4: SECTION | B4: DESCRIPTION | C4: AMOUNT
A5: A | B5: PRELIMINARY AND GENERAL
A7: B | B7: EARTHWORKS | C7: ='B. Earthworks'!G142 -> 0
A9: C | B9: SEWERS & CONCRETE WORKS | C9: ='C. SEWERS & CONC WORKS'!G104 -> 0
A11: D | B11: MECHANICAL & ELECTRICAL | C11: ='D.Mech & Elec'!G48 -> 0
A13: E | B13: MISECELLANEOUS | C13: ='E. MISCELLANEOUS'!G37 -> 0
A15: SUB-TOTAL FOR CONSTRUCTION | C15: =SUM(C5:C13) -> 0
A17: ADD 10% FOR CONTINGENCIES | C17: =C15*10% -> 0
A19: SUB TOTAL | C19: =SUM(C15:C17) -> 0
A21: PLUS 15% VAT | C21: =C19*0.15 -> 0
A22: TOTAL AMOUNT | C22: =SUM(C19:C21) -> 0
