Workbook

Sheet FAKKEL
C1: SPECIFICATIONS AND PRICING SCHEDULE: E8/2025/2026: SUPPLY AND DELIVERY OF TECHNICAL OCCUPATIONAL LTSM FOR SCHOOLS AT SKILLS
B2: NB: | C2: NOTE: PRICES MUST BE TYPED IN THE WHITE CELLS FOR YEAR ONE TO YEAR THREE. THE TOTAL AND GRAND TOTAL PRICES WILL ADD AUTOMATICALLY. COLUMNS HAVE BEEN FORMATTED, ONLY PUT THE AMOUNTS. Do not put the "R" for rand before you capture the amount as it is already set to automatically put the R. Use a comma if cents are involved (e.g. R2,03 Do not use a full stop). A HARD COPY SHOULD BE SIGNED AND THE NAME OF THE COMPANY COMPLETED IN THE SPACE PROVIDED. THE COMPLETED AND SIGNED PRINTED HARD COPIES SHOULD FORM PART OF THE BID DOCUMENTS TO BE SUBMITTED.
B3: NB: | C3: PLEASE NOTE THAT THERE ARE 8 SCHOOLS - ONE SCHOOL PER SHEET. PRICES MUST BE ALL INCLUSIVE (VAT, SUPPLY AND DELIVERY TO THE MENTIONED SCHOOLS AT THE UNDER-MENTIONED ADRESSES.) BIDDERS SHOULD PRICE PER UNIT. BIDDERS SHOULD QUOTE ON EACH AND EVERY ITEM FOR ALL EIGHT SCHOOLS AND FOR ALL THREE YEARS. IF ALL ITEMS ARE NOT PRICED, YOUR OFFER WILL BE DISQUALIFIED. QUANTITIES ARE "AS AND WHEN REQUIRED". NO QUANTITIES CAN BE GUARNTEED AND PURCHASES WILL BE DEPENDING ON NEEDS AND AVAILABLE BUDGET THE FREE STATE DEPARTMENT OF EDUCATION RESERVES THE RIGHT TO APPOINT ONE OR MORE THAN ONE SERVICE PROVIDER.
A4: A | C4: SCHOOLS OF SKILLS
A5: 1 | B5: 1 | C5: SASOLBURG: Fakkel School of Skiils, Sasolburg, 18 Jan Smuts Street, Sasolburg, 1947
A6: 2 | B6: 2 | C6: KROONSTAAD: Johan Slabbert School of Skills, Kroonstad, Du Toit Straat, Private bag X26, Kroonstad, 9500
A7: 3 | B7: 3 | C7: WELKOM: Nobilis School of Skills, Naboom 5, Virginia, 9430
A8: 4 | B8: 4 | C8: WELKOM: Orion School of Skills, Oribi Street Doorn, Welkom, 9459
A9: 5 | B9: 5 | C9: BLOEMFONTEIN: Bohmer School of Skills, Walter Sisulu Road, Universitas, Bloemfontein, 9300
A10: 6 | B10: 6 | C10: BOTSHABELO: Qelo School of Skills, 270 Section D, Botshabelo, 9781
A11: 7 | B11: 7 | C11: LADYBRAND: Ladybrand School Of Skills, Collins Street, Ladybrand, 9745
A12: 8 | B12: 8 | C12: BETHELHEM: Maluti Hoogland, 28 Union St, Bethelhem, 9701
B13: Company Name:…..................................
B14: Signature:…..............................................
C16: FAKKEL SCHOOL OF SKILLS
A17: A1 | B17: 1 | C17: Motor Mechanics - (Non-Consumable)
C18: Item | D18: Description | E18: Quantity | F18: Unit Price | G18: Total Price (VAT Included) | I18: Year One: Unit price (Including VAT and Supply and Delivery to specific school) | J18: Year Two: Unit price (Including VAT and Supply and Delivery to specific school) | K18: Year Three: Unit price (Including VAT and Supply and Delivery to specific school)
A19: 1.1 | B19: 1.1 | C19: Engine and Oil pressure test kit (11 piece) | D19: Is an instrument that monitors the oil pressure in your vehicle. This instrument not only tells you how much oil remains in your vehicle, but it is also an indicator of the general health of your engine. | E19: 1 | I19: 0 | J19: 0 | K19: 0
A20: 1.3 | B20: 1.2 | C20: Standing toolbox (103 pieces) | D20: Is a metal or plastic box which contains general tools that you need at home, for example to do repairs in your house or car. | E20: 1 | I20: 0 | J20: 0 | K20: 0
A21: 1.4 | B21: 1.3 | C21: Allen/spline socket set (46 piece) | D21: Is a small L shaped or T shaped tool with a 6-sided hexagonal tip which is used to loosen hex socket screws or bolts. | E21: 1 | I21: 0 | J21: 0 | K21: 0
A22: 1.5 | B22: 1.4 | C22: Battery Charger (12V/24V) | D22: Is a device that provides Direct Current (DC) to the battery to restore the used-up electrolyte. | E22: 1 | I22: 0 | J22: 0 | K22: 0
A23: 1.7 | B23: 1.5 | C23: Tyre inflator | D23: Is used to measure the pressure of the tyres of a car, motorbike or any vehicle that uses inflated tyres | E23: 1 | I23: 0 | J23: 0 | K23: 0
A24: TOTAL | C24: TOTAL | G24: =SUM(G19:G23) -> 0 | I24: =SUM(I19:I23) -> 0 | J24: =SUM(J19:J23) -> 0 | K24: =SUM(K19:K23) -> 0
C26: FAKKEL SCHOOL OF SKILLS
A27: A1 | B27: 2 | C27: Panel Beating and Spray painting (Consumable)
C28: Item | D28: Description | E28: Quantity | F28: Unit Price | G28: Total Price (VAT Included) | I28: Year One: Unit price (Including VAT and Supply and Delivery to specific school) | J28: Year Two: Unit price (Including VAT and Supply and Delivery to specific school) | K28: Year Three: Unit price (Including VAT and Supply and Delivery to specific school)
A29: 1.1 | B29: 2.1 | C29: Drill bits set (100 Piece) | D29: Drill bit sets include a collection of drill bits, typically featuring a range of sizes to ensure suitability for different applications. Drill bits are the tools which allow drills to cut holes into different materials through the application of circular torque, or rotational force made from stainless steel. | E29: 1 | I29: 0 | J29: 0 | K29: 0
A30: 1.2 | B30: 2.2 | C30: P40 (115MM) Cutting discs Stainless Steel pack of 10 | D30: They are used for cutting metals ,shaping and polishing off. | E30: 2 | I30: 0 | J30: 0 | K30: 0
A31: 1.3 | B31: 2.3 | C31: P80 Discs Velcro (100 pieces) | D31: Can be used for a universal range of application and materials. Sanding off of coatings and impurities. | E31: 2 | I31: 0 | J31: 0 | K31: 0
A32: TOTAL | C32: TOTAL | G32: =SUM(G29:G31) -> 0 | I32: =SUM(I29:I31) -> 0 | J32: =SUM(J29:J31) -> 0 | K32: =SUM(K29:K31) -> 0
B34: 3 | C34: Panel Beating and Spray painting (Non-Consumable)
C35: Item | D35: Description | E35: Quantity | F35: Unit Price | G35: Total Price (VAT Included) | I35: Year One: Unit price (Including VAT and Supply and Delivery to specific school) | J35: Year Two: Unit price (Including VAT and Supply and Delivery to specific school) | K35: Year Three: Unit price (Including VAT and Supply and Delivery to specific school)
A36: 1.5 | B36: 3.1 | C36: Spray Gun (1.4mm) | D36: Spray guns are equipment that can spray paint or varnish using air pressure to apply it or spread it on a surface made from stainless steel. | E36: 2 | I36: 0 | J36: 0 | K36: 0
A37: 1.6 | B37: 3.2 | C37: Wheel Creeper (1010 x 370 x 120mm) | D37: Enhances the action of getting underneath a stationary car by providing a stable wheel-driven platform to support your body and its movements. | E37: 2 | I37: 0 | J37: 0 | K37: 0
A38: 1.8 | B38: 3.3 | C38: 4 Ton Trolley Jack | D38: The device is designed to use hydraulic fluid and one-way valves to raise a ram rod so as to lift vehicles in order for the user to be able to change tires. | E38: 1 | I38: 0 | J38: 0 | K38: 0
A39: 1.9 | B39: 3.4 | C39: 4 piece Spoon and dolly set | D39: A spoon dolly is a specialized metalworking tool used in metal shaping and forming processes, particularly in the field of auto body repair and fabrication. It is part of a group of tools known as dollies and hammers, which are used together to shape and contour metal surfaces. | E39: 1 | I39: 0 | J39: 0 | K39: 0
A40: 1.10 | B40: 3.5 | C40: 50L Compressor | D40: An air compressor is a machine that takes ambient air from the surroundings and discharges it at a higher pressure. | E40: 1 | I40: 0 | J40: 0 | K40: 0
A41: 1.11 | B41: 3.6 | C41: Tyre Pressure Gauge | D41: Used to measure the pressure of the tyres of a car, motorbike or any vehicle that uses inflated tyres. | E41: 1 | I41: 0 | J41: 0 | K41: 0
A42: 1.12 | B42: 3.7 | C42: Toolbox with tools(85 pieces) | D42: A tool box is a metal or plastic box which contains general tools that you need at home, for example to do repairs in your house or car. | E42: 1 | I42: 0 | J42: 0 | K42: 0
A43: 1.13 | B43: 3.8 | C43: Angle Grinder (115 mm) | D43: Is a handheld power tool that can be used for a variety of metal fabrication jobs that include cutting, grinding, deburring, finishing and polishing. | E43: 3 | I43: 0 | J43: 0 | K43: 0
...

Sheet JOHAN SLABBERT
B1: JOHAN SLABBERT SCHOOL
A2: 1 | B2: Motor Mechanics (Non-Consumables)
B3: Item | C3: Description | D3: Quantity | E3: Unit Price | F3: Total Price (VAT Included) | G3: Year One: Unit price (Including VAT and Supply and Delivery to specific school) | H3: Year Two: Unit price (Including VAT and Supply and Delivery to specific school) | I3: Year Three: Unit price (Including VAT and Supply and Delivery to specific school)
A4: 1.1 | B4: Model engine kits(Plastic) | C4: Is a small internal combustion engine typically used to power a radio-controlled aircraft, radio-controlled car, radio-controlled boat, free flight, control line aircraft, or ground-running tether car model. | D4: 4 | G4: 0 | H4: 0 | I4: 0
A5: 1.2 | B5: Compression tester | C5: Are used to determine a material's behavior under applied crushing loads, and are typically conducted by applying compressive pressure to a test specimen (usually of either a cuboid or cylindrical geometry) using platens or specialized fixtures on a universal testing machine. | D5: 2 | G5: 0 | H5: 0 | I5: 0
A6: 1.3 | B6: Load tester | C6: It a designed to load test the output of transformer-type, engine- or motor-driven generator welding power sources. This portable unit can be used to test AC or DC welder outputs, and to demonstrate welding equipment to prospective customers. | D6: 1 | G6: 0 | H6: 0 | I6: 0
A7: 1.4 | B7: Micrometer set (4 pieces) | C7: A micrometer is a tool that measures the size of a target by enclosing it. | D7: 5 | G7: 0 | H7: 0 | I7: 0
A8: 1.5 | B8: 195 Compact MIG welder | C8: The Mig 195 Welder Dual Comes with a chipping hammer and welding shield. Single-phase, flux wire welding machine for flux (No gas) and Gas welding. The largest users of the Mig Welder are heavy and medium-heavy industries. It's also common for hobbyists and home users. | D8: 1 | G8: 0 | H8: 0 | I8: 0
A9: 1.6 | B9: Automotive Electric Multimeter | C9: Is a test tool used to measure two or more electrical values—principally voltage (volts), current (amps) and resistance (ohms). | D9: 3 | G9: 0 | H9: 0 | I9: 0
A10: 1.7 | B10: Tool box kit (139 pieces) | C10: Is a metal or plastic box which contains general tools that you need at home, for example to do repairs in your house or car. | D10: 4 | G10: 0 | H10: 0 | I10: 0
A11: 1.8 | B11: Torque wrench set(32 pieces) | C11: Is a tool used to tighten nuts and bolts to a predetermined torque value | D11: 2 sets | G11: 0 | H11: 0 | I11: 0
A12: 1.9 | B12: Trolley jack(2 Ton Hydraullic ) | C12: Is a device designed to raise a part of a vehicle via its chassis. | D12: 2 | G12: 0 | H12: 0 | I12: 0
A13: 1.10 | B13: 2-Post Lift 4 Ton | C13: Lift consists of two upright columns with four adjustable arms attached to a carriage assembly and two hydraulic cylinders | D13: 1 | G13: 0 | H13: 0 | I13: 0
A14: 1.11 | B14: Tyre pressure gauge | C14: Is used to measure the pressure of the tyres of a car, motorbike or any vehicle that uses inflated tyres | D14: 1 | G14: 0 | H14: 0 | I14: 0
A15: 1.12 | B15: Vernier (150mm) | C15: Is defined as a measuring device that is used for the measurement of linear dimensions. | D15: 5 | G15: 0 | H15: 0 | I15: 0
A16: 1.13 | B16: Socket sets (46 pieces) | C16: Sockets often come as a "socket set" with many different sizes or types of sockets to fit the heads of different-sized fasteners | D16: 2 | G16: 0 | H16: 0 | I16: 0
A17: 1.14 | B17: Allen key sets (9 piece T-Handle) | C17: Is a small L shaped or T shaped tool with a 6-sided hexagonal tip which is used to loosen hex socket screws or bolts. | D17: 2 | G17: 0 | H17: 0 | I17: 0
A18: 1.15 | B18: Wheel creeper (1010 x 370 x 120mm) | C18: Enhances the action of getting underneath a stationary car by providing a stable wheel-driven platform to support your body and its movements. | D18: 2 | G18: 0 | H18: 0 | I18: 0
B19: TOTAL | F19: =SUM(F4:F18) -> 0 | G19: =SUM(G4:G18) -> 0 | H19: =SUM(H4:H18) -> 0 | I19: =SUM(I4:I18) -> 0
B21: JOHAN SLABBERT SCHOOL
A22: 2 | B22: Welding (Non-Consumables)
B23: Item | C23: Description | D23: Quantity | E23: Unit Price | F23: Total Price (VAT Included) | G23: Year One: Unit price (Including VAT and Supply and Delivery to specific school) | H23: Year Two: Unit price (Including VAT and Supply and Delivery to specific school) | I23: Year Three: Unit price (Including VAT and Supply and Delivery to specific school)
A24: 2.1 | B24: 150mm G clamps | C24: A type of metal fastening device used to join two or more workpieces together. | D24: 5 | G24: 0 | H24: 0 | I24: 0
A25: 2.2 | B25: 115mm Angle Grinders | C25: A handheld power tool that can be used for a variety of metal fabrication jobs that include cutting, grinding, deburring, finishing and polishing | D25: 2 | G25: 0 | H25: 0 | I25: 0
A26: 2.3 | B26: C clamp grip plier | C26: Are used to hold materials in place, usually wood or metal. | D26: 5 | G26: 0 | H26: 0 | I26: 0
A27: 2.4 | B27: Core wire MIG/TIG welder (220V) | C27: MIG welding uses a continuously-fed electrode wire and shielding gas via a hand-held torch. TIG welding uses a non-consumable tungsten electrode with a shielding gas fed through a supply line and a separate, hand held filler rod that is manually fed into the weld pool. | D27: 1 | G27: 0 | H27: 0 | I27: 0
A28: 2.5 | B28: Drill bits set (100 Piece) | C28: Drill bit sets include a collection of drill bits, typically featuring a range of sizes to ensure suitability for different applications. Drill bits are the tools which allow drills to cut holes into different materials through the application of circular torque, or rotational force made from stainless steel. | D28: 1 | G28: 0 | H28: 0 | I28: 0
A29: 2.6 | B29: Engineering Square (100 x 150mm) | C29: Engineers squares are used to accurately check and mark angles, or to verify the squareness of straight edges and lines. | D29: 2 | G29: 0 | H29: 0 | I29: 0
A30: 2.7 | B30: Inverter AC/DC welder | C30: It converts AC power supply into a lower usable output voltage | D30: 2 | G30: 0 | H30: 0 | I30: 0
A31: 2.8 | B31: Plasma cutter (cut 40 Amp 220V) | C31: A plasma cutter or plasma cutting system uses a plasma stream to transfer energy to a conductive work material. The plasma stream is typically formed by forcing a gas such as nitrogen, oxygen, argon — or even air — through a narrow nozzle. | D31: 1 | G31: 0 | H31: 0 | I31: 0
A32: 2.9 | B32: Tap & die set (60 pieces) | C32: Cutting tools used in metalworking to create screw threads, which are helical ridges that allow screws and bolts to be inserted and tightened securely. | D32: 2 | G32: 0 | H32: 0 | I32: 0
A33: 2.10 | B33: Pedal Spot welder | C33: A pedal spot welder, also known as a foot-operated spot welder, is a welding machine used for joining two pieces of metal together through the process of spot welding. Spot welding is a resistance welding technique where metal surfaces are melted and fused together at localized points. | D33: 2 | G33: 0 | H33: 0 | I33: 0
A34: 2.11 | B34: Guillotine (1000mm) | C34: Machine for beheading by means of a heavy blade that slides down in vertical guides. | D34: 1 | G34: 0 | H34: 0 | I34: 0
A35: 2.12 | B35: Welding screen 3m | C35: A welding screen is used to create a safe working environment whilst welding. This is done by dispersing UV light eye hazards, providing optical protection and preventing welding splatter and flash burns | D35: 4 | G35: 0 | H35: 0 | I35: 0
B36: TOTAL | F36: =SUM(F24:F35) -> 0 | G36: =SUM(G24:G35) -> 0 | H36: =SUM(H24:H35) -> 0 | I36: =SUM(I24:I35) -> 0
B38: JOHAN SLABBERT SCHOOL
A39: 3 | B39: Woodworking (Non-Consumables)
B40: Item | C40: Description | D40: Quantity | E40: Unit Price | F40: Total Price (VAT Included) | G40: Year One: Unit price (Including VAT and Supply and Delivery to specific school) | H40: Year Two: Unit price (Including VAT and Supply and Delivery to specific school) | I40: Year Three: Unit price (Including VAT and Supply and Delivery to specific school)
A41: 3.1 | B41: Radial Arm saw | C41: Circular saws that cut downward, either with or against the wood grain (rip or crosscut) | D41: 1 | G41: 0 | H41: 0 | I41: 0
A42: 3.2 | B42: Band saw | C42: A power saw with a long, sharp blade consisting of a continuous band of toothed metal stretched between two or more wheels to cut material | D42: 1 | G42: 0 | H42: 0 | I42: 0
...

Sheet NOBILIS
B1: NOBILIS SCHOOL
A2: 1 | B2: Motor Mechanics (Non-Consumables)
B3: Item | C3: Description | D3: Quantity | E3: Unit Price | F3: Total Price (VAT Included) | G3: Year One: Unit price (Including VAT and Supply and Delivery to specific school) | H3: Year Two: Unit price (Including VAT and Supply and Delivery to specific school) | I3: Year Three: Unit price (Including VAT and Supply and Delivery to specific school)
A4: 1.1 | B4: 1Kg Fire Extinguishers | C4: Applied agent that will cool burning heat, smother fuel or remove oxygen so the fire cannot continue to burn. A portable fire extinguisher can quickly control a small fire if applied by an individual properly trained. | D4: 4 | G4: 0 | H4: 0 | I4: 0
A5: 1.2 | B5: 12V/24V Battery charger | C5: A device that provides Direct Current (DC) to the battery to restore the used-up electrolyte. | D5: 1 | G5: 0 | H5: 0 | I5: 0
A6: 1.3 | B6: 50L Compressor (230 V) | C6: A mechanical flowing device designed to increase the pressure of a gas by reducing its volume | D6: 1 | G6: 0 | H6: 0 | I6: 0
A7: 1.4 | B7: 195 Compact MIG welder | C7: MIG welder is used to join metal parts together. It functions to join steel, stainless steel, cast iron, and aluminum. MIG welding is used on sheet metal, pressure vessels, steel structures, pipelines, and automotive parts. | D7: 2 | G7: 0 | H7: 0 | I7: 0
A8: 1.5 | B8: Tool box kit (139 pieces) | C8: Is a metal or plastic box which contains general tools that you need at home, for example to do repairs in your house or car. | D8: 4 | G8: 0 | H8: 0 | I8: 0
A9: 1.6 | B9: 2-Post Lift 4 Ton | C9: Lift consists of two upright columns with four adjustable arms attached to a carriage assembly and two hydraulic cylinders | D9: 1 | G9: 0 | H9: 0 | I9: 0
B10: TOTAL | F10: =SUM(F4:F9) -> 0 | G10: =SUM(G4:G9) -> 0 | H10: =SUM(H4:H9) -> 0 | I10: =SUM(I4:I9) -> 0
B12: NOBILIS SCHOOL
A13: 2 | B13: Welding (Non-Consumables)
B14: Item | C14: Description | D14: Quantity | E14: Unit Price | F14: Total Price (VAT Included) | G14: Year One: Unit price (Including VAT and Supply and Delivery to specific school) | H14: Year Two: Unit price (Including VAT and Supply and Delivery to specific school) | I14: Year Three: Unit price (Including VAT and Supply and Delivery to specific school)
A15: 2.1 | B15: Angle grinder (115mm) | C15: A handheld power tool that can be used for a variety of metal fabrication jobs that include cutting, grinding, deburring, finishing and polishing | D15: 2 | G15: 0 | H15: 0 | I15: 0
A16: 2.2 | B16: Angle grinder (230mm) | C16: A handheld power tool that can be used for a variety of metal fabrication jobs that include cutting, grinding, deburring, finishing and polishing. | D16: 2 | G16: 0 | H16: 0 | I16: 0
A17: 2.3 | B17: 150 mm Bench grinder (370W) | C17: A bench grinder is a power tool that is typically mounted to a workbench or other sturdy surface. It consists of two grinding wheels, each with different grit sizes, which rotate at high speeds. | D17: 1 | G17: 0 | H17: 0 | I17: 0
A18: 2.4 | B18: 50L Air Compressor | C18: An air compressor is a machine that takes ambient air from the surroundings and discharges it at a higher pressure. | D18: 1 | G18: 0 | H18: 0 | I18: 0
A19: 2.5 | B19: Guillotine (1000mm) | C19: Machine for beheading by means of a heavy blade that slides down in vertical guides. | D19: 1 | G19: 0 | H19: 0 | I19: 0
A20: 2.6 | B20: Oxygen bottles 10 Liter (for welding oxy/acetylene) | C20: Contain compressed or liquefied acetylene; instead they contain acetylene gas dissolved in acetone that is absorbed onto a porous mass within the cylinder. | D20: 1 | G20: 0 | H20: 0 | I20: 0
A21: 2.7 | B21: Plasma Cutter (cut 40) | C21: Cutting system uses a plasma stream to transfer energy to a conductive work material. | D21: 1 | G21: 0 | H21: 0 | I21: 0
A22: 2.8 | B22: Roll slip bender (915mm) | C22: Capable of producing constant-radius and pinching/crushing bends in sheet metal. | D22: 1 | G22: 0 | H22: 0 | I22: 0
A23: 2.9 | B23: Pedal Spot Welder | C23: A pedal spot welder, also known as a foot-operated spot welder, is a welding machine used for joining two pieces of metal together through the process of spot welding. Spot welding is a resistance welding technique where metal surfaces are melted and fused together at localized points. | D23: 1 | G23: 0 | H23: 0 | I23: 0
B24: TOTAL | F24: =SUM(F15:F23) -> 0 | G24: =SUM(G15:G23) -> 0 | H24: =SUM(H15:H23) -> 0 | I24: =SUM(I15:I23) -> 0
B26: NOBILIS SCHOOL
A27: 3 | B27: Woodwork and Timber (Non-Consumables)
B28: Item | C28: Description | D28: Quantity | E28: Unit Price | F28: Total Price (VAT Included) | G28: Year One: Unit price (Including VAT and Supply and Delivery to specific school) | H28: Year Two: Unit price (Including VAT and Supply and Delivery to specific school) | I28: Year Three: Unit price (Including VAT and Supply and Delivery to specific school)
A29: 3.1 | B29: 1Kg Fire Extinguishers | C29: Applied agent that will cool burning heat, smother fuel or remove oxygen so the fire cannot continue to burn. | D29: 2 | G29: 0 | H29: 0 | I29: 0
A30: 3.2 | B30: Safety glasses/googles | C30: Standard safety glasses are designed to protect against light to moderate impact and flying particles and are constructed of metal or plastic with impact-resistant glass or plastic lenses | D30: 10 | G30: 0 | H30: 0 | I30: 0
A31: 3.3 | B31: Ear muffs | C31: Ear muffs are a type of personal protective equipment (PPE) designed to protect the ears from excessive noise levels, as well as other potential hazards such as flying debris or extreme weather conditions. They consist of ear cups connected by a headband or another means of secure attachment. | D31: 10 | G31: 0 | H31: 0 | I31: 0
A32: 3.4 | B32: Electric hand drill | C32: A tool with an electrical motor that rotates a replaceable drill bit at your choice of speeds to create a hole in a variety of materials. | D32: 2 | G32: 0 | H32: 0 | I32: 0
A33: 3.5 | B33: Jig saw | C33: A sharp power tool that's used for cutting curvy lines in wood or other materials. | D33: 2 | G33: 0 | H33: 0 | I33: 0
A34: 3.6 | B34: Portable belt sander | C34: A sanding belt used in shaping and finishing wood and other materials. | D34: 2 | G34: 0 | H34: 0 | I34: 0
A35: 3.7 | B35: Orbital sander (300W) | C35: Hand-held tools that work by rotating themselves elliptically to create a smooth surface. | D35: 3 | G35: 0 | H35: 0 | I35: 0
A36: 3.8 | B36: Table saw | C36: Versatile saws used for cutting across (crosscut) and with (rip) the wood grain. | D36: 2 | G36: 0 | H36: 0 | I36: 0
A37: 3.9 | B37: Surface planer | C37: Used in the initial preparation of wood, producing flat faces and square edges. | D37: 1 | G37: 0 | H37: 0 | I37: 0
A38: 3.10 | B38: Radial Arm saw | C38: Circular saws that cut downward, either with or against the wood grain (rip or crosscut). | D38: 1 | G38: 0 | H38: 0 | I38: 0
B39: TOTAL | F39: =SUM(F29:F38) -> 0 | G39: =SUM(G29:G38) -> 0 | H39: =SUM(H29:H38) -> 0 | I39: =SUM(I29:I38) -> 0
J40: Grand total for three years
A41: TOTAL PER YEAR FOR ALL ITEMS ON SCENARIO WHERE QUANTITY OF ONE IS ORDERED FOR EACH AND EVERY ITEM | G41: =SUM(G10+G24+G39) -> 0 | H41: =SUM(H10+H24+H39) -> 0 | I41: =SUM(I10+I24+I39) -> 0 | J41: =SUM(G41+H41+I41) -> 0

Sheet ORION
B1: ORION SCHOOL OF SKILLS
A2: 1 | B2: Panel Beating (Non-Consumables)
B3: Item | C3: Description | D3: Quantity | E3: Unit Price | F3: Total Price (VAT Included) | G3: Year One: Unit price (Including VAT and Supply and Delivery to specific school) | H3: Year Two: Unit price (Including VAT and Supply and Delivery to specific school) | I3: Year Three: Unit price (Including VAT and Supply and Delivery to specific school)
A4: 1.1 | B4: Fencing Pliers (300mm) | C4: Pliers, hand-operated tool for holding and gripping small articles or for bending and cutting wire | D4: 2 | G4: 0 | H4: 0 | I4: 0
A5: 1.2 | B5: Lock grip U type pliers | C5: These pliers have a unique design with a "U" shape, featuring serrated jaws that provide a strong grip when clamped onto an object. Lock grip U-type pliers are primarily used for clamping, holding, or gripping objects securely. | D5: 4 | G5: 0 | H5: 0 | I5: 0
A6: 1.3 | B6: Lock grip C pliers | C6: These pliers have a C-shaped or C-clamp design, resembling a "C" when viewed from the side. The primary function of lock grip C-type pliers is to clamp or hold objects firmly in place. | D6: 4 | G6: 0 | H6: 0 | I6: 0
A7: 1.4 | B7: Polisher 180mm | C7: A rotary polisher is a type typically used by professionals to restore bodywork and paintwork after panel beating | D7: 1 | G7: 0 | H7: 0 | I7: 0
A8: 1.5 | B8: Tin Snip left (250mm) | C8: These are good for cutting thin gauge metal sheet, metal mesh, and other mainly flat metal items. | D8: 1 | G8: 0 | H8: 0 | I8: 0
A9: 1.6 | B9: Tin Snip right (250mm) | C9: Right-cutting tin snips have blades that are angled to the right. When holding the tool with the handles facing upward, the blades are positioned to cut a curve or turn to the right side of the material being cut. | D9: 1 | G9: 0 | H9: 0 | I9: 0
A10: 1.7 | B10: Grip Straight Tin Snip (250mm) | C10: Straight-cut tin snips have straight blades, typically made of hardened steel. They are primarily used for cutting straight lines in sheet metal, aluminum, or other thin materials. | D10: 1 | G10: 0 | H10: 0 | I10: 0
A11: 1.8 | B11: Rubber sanding block (3 pack) | C11: Remove materials from high areas on uneven surfaces. Rough sand or make cosmetic repairs | D11: 3 | G11: 0 | H11: 0 | I11: 0
A12: 1.9 | B12: 7 piece panel beating kit | C12: A collection of tools used primarily in automotive repair and bodywork. It consists of various specialized tools designed to manipulate and repair vehicle body panels, straighten dents, and restore damaged surfaces. | D12: 5 | G12: 0 | H12: 0 | I12: 0
A13: 1.10 | B13: Angle Grinder (115mm) | C13: Is a handheld power tool that can be used for a variety of metal fabrication jobs that include cutting, grinding, deburring, finishing and polishing. | D13: 2 | G13: 0 | H13: 0 | I13: 0
A14: 1.11 | B14: Impact drill 18V (cordless) | C14: It is used for drilling | D14: 2 | G14: 0 | H14: 0 | I14: 0
B15: TOTAL | F15: =SUM(F4:F14) -> 0 | G15: =SUM(G4:G14) -> 0 | H15: =SUM(H4:H14) -> 0 | I15: =SUM(I4:I14) -> 0
B17: ORION SCHOOL OF SKILLS
A18: 2 | B18: Plumbing (Non-Consumables)
B19: Item | C19: Description | D19: Quantity | E19: Unit Price | F19: Total Price (VAT Included) | G19: Year One: Unit price (Including VAT and Supply and Delivery to specific school) | H19: Year Two: Unit price (Including VAT and Supply and Delivery to specific school) | I19: Year Three: Unit price (Including VAT and Supply and Delivery to specific school)
A20: 2.1 | B20: Copper pipe cutter | C20: A pipe cutter uses a sharp cutting wheel to penetrate through the pipe material and cut it off slowly. | D20: 2 | G20: 0 | H20: 0 | I20: 0
A21: 2.2 | B21: Shifting spanners (300mm) | C21: Shifting spanners are an open-end wrench with a movable jaw, allowing it to be used with different sizes of fastener head rather than just one fastener size. | D21: 4 | G21: 0 | H21: 0 | I21: 0
A22: 2.3 | B22: Spirit level (450mm) | C22: Is a tool used to indicate how parallel (level) or perpendicular (plumb) a surface is relative to the earth. | D22: 4 | G22: 0 | H22: 0 | I22: 0
A23: 2.4 | B23: Pipe wrench (600mm) | C23: A wrench for gripping and turning a cylindrical object (such as a pipe) usually by use of two serrated jaws so designed as to grip the pipe when turning in one direction only. | D23: 1 | G23: 0 | H23: 0 | I23: 0
A24: 2.5 | B24: Waterpump plier (300mm) | C24: Water pump pliers are the ideal choice for a great grip and can turn and grip a wide range of industrial workpieces, including bolts and nuts. | D24: 1 | G24: 0 | H24: 0 | I24: 0
A25: 2.6 | B25: 100L Direct solar geyser kit | C25: The direct geyser system pumps the warm water through the vacuum tubes attached to the geyser. The water warms up while running through the solar manifold | D25: 1 | G25: 0 | H25: 0 | I25: 0
A26: 2.7 | B26: 5.4kw Heat pump | C26: An energy-efficient alternative to furnaces and air conditioners for all climates. Like your refrigerator, heat pumps use electricity to transfer heat from a cool space to a warm space, making the cool space cooler and the warm space warmer. | D26: 1 | G26: 0 | H26: 0 | I26: 0
B27: TOTAL | F27: =SUM(F20:F26) -> 0 | G27: =SUM(G20:G26) -> 0 | H27: =SUM(H20:H26) -> 0 | I27: =SUM(I20:I26) -> 0
B29: ORION SCHOOL OF SKILLS
A30: 3 | B30: Woodworking (Non-Consumables)
B31: Item | C31: Description | D31: Quantity | E31: Unit Price | F31: Total Price (VAT Included) | G31: Year One: Unit price (Including VAT and Supply and Delivery to specific school) | H31: Year Two: Unit price (Including VAT and Supply and Delivery to specific school) | I31: Year Three: Unit price (Including VAT and Supply and Delivery to specific school)
A32: 3.1 | B32: Try square (300mm) | C32: A woodworking tool used for marking and checking 90° angles on pieces of wood. | D32: 2 | G32: 0 | H32: 0 | I32: 0
A33: 3.2 | B33: Marking gauge (200mm) | C33: Used in woodworking to mark out lines for cutting or other purposes. | D33: 2 | G33: 0 | H33: 0 | I33: 0
A34: 3.3 | B34: Tenon saw (11 Tpi) | C34: The tenon saw typically features a narrow, straight-backed blade with fine teeth that are sharpened for making straight cuts and tenon joints. | D34: 2 | G34: 0 | H34: 0 | I34: 0
A35: 3.4 | B35: Wood chisel set (6 piece set) | C35: A wood chisel is a cutting tool that consists of a flat, sharp metal blade used in woodworking and carpentry for shaping, carving, and cutting wood. | D35: 2 | G35: 0 | H35: 0 | I35: 0
A36: 3.5 | B36: Claw hammer | C36: A hammer with a head that is curved and partially split in the back so that it can be used for pulling out nails. | D36: 2 | G36: 0 | H36: 0 | I36: 0
A37: 3.6 | B37: 1200W Router (woodworking) | C37: A woodworking router is a versatile power tool used for shaping, cutting, and hollowing out areas in wood. | D37: 2 | G37: 0 | H37: 0 | I37: 0
A38: 3.7 | B38: Hand drill 500 W (light duty) | C38: A tool with an electrical motor that rotates a replaceable drill bit at your choice of speeds to create a hole in a variety of materials. | D38: 2 | G38: 0 | H38: 0 | I38: 0
A39: 3.8 | B39: Cordless drill | C39: Cordless drills work on rechargeable batteries, allowing the user to insert a battery pack and instantly have an operating drill without a power cable | D39: 1 | G39: 0 | H39: 0 | I39: 0
A40: 3.9 | B40: Jigsaw (600W) | C40: A sharp power tool that's used for cutting curvy lines in wood or other materials. | D40: 2 | G40: 0 | H40: 0 | I40: 0
A41: 3.10 | B41: Belt sander (76 x 457mm) | C41: A sanding belt used in shaping and finishing wood and other materials. | D41: 1 | G41: 0 | H41: 0 | I41: 0
A42: 3.11 | B42: 185mm Skill saw (1200W) | C42: A Skil saw is a handheld power tool commonly used in woodworking, construction, and DIY projects. | D42: 2 | G42: 0 | H42: 0 | I42: 0
...

Sheet QELO
B1: QELO SCHOOL OF SKILLS
A2: 1 | B2: Plumbing (Non-Consumables)
B3: Item | C3: Description | D3: Quantity | E3: Unit Price | F3: Total Price (VAT Included) | G3: Year One: Unit price (Including VAT and Supply and Delivery to specific school) | H3: Year Two: Unit price (Including VAT and Supply and Delivery to specific school) | I3: Year Three: Unit price (Including VAT and Supply and Delivery to specific school)
A4: 1.1 | B4: Bath tub (1700 x 700mm) | C4: A long plastic, metal, or ceramic container that is filled with water so that you can sit or lie in it to wash your whole body. | D4: 1 | G4: 0 | H4: 0 | I4: 0
A5: 1.2 | B5: 5L Zink | C5: Zinc is an alloy popularly used in the manufacture of pipe fittings, including tees and elbows. It can also be used to make pipes themselves. Zinc is useful because it has a low melting point, making it easier to work with than other metals. | D5: 1 | G5: 0 | H5: 0 | I5: 0
A6: 1.3 | B6: Rivet gun | C6: Placed on the rivet, pulling the mandrel into the rivet body, causing it to expand and grip the parts to be joined. | D6: 5 | G6: 0 | H6: 0 | I6: 0
A7: 1.4 | B7: Pressure control valve (22mm) | C7: Pressure-control valves are found in virtually every hydraulic system, and they assist in a variety of functions, from keeping system pressures safely below a desired upper limit to maintaining a set pressure in part of a circuit. | D7: 2 | G7: 0 | H7: 0 | I7: 0
A8: 1.5 | B8: Steel square ruler | C8: Heavy weight black coated steel measuring square, with measurements of inches in white on one side and centimetre/ millimetres on the other side. | D8: 5 | G8: 0 | H8: 0 | I8: 0
A9: 1.6 | B9: Compression fitting | C9: A type of pipe joint that uses an external screw thread to compress the two ends together. | D9: 10 | G9: 0 | H9: 0 | I9: 0
A10: 1.7 | B10: Toilet pan | C10: The base of the toilet and the part you sit on. It typically attaches to the floor or the wall and contains the bowl which refuse enters and water flushes into. | D10: 2 | G10: 0 | H10: 0 | I10: 0
A11: 1.8 | B11: Pick | C11: Picks are commonly used in plumbing and construction to dig narrow trenches or channels for laying pipes, conduits, or other underground utilities. | D11: 5 | G11: 0 | H11: 0 | I11: 0
A12: 1.9 | B12: Y-junction connector | C12: A Y-junction connector, also known as a Y-connector or Y-coupler, is a type of fitting or component in the shape of the letter "Y." It is designed to split or combine fluid or gas flow into two separate paths. | D12: 10 | G12: 0 | H12: 0 | I12: 0
B13: TOTAL PER YEAR FOR ALL ITEMS ON SCENARIO WHERE QUANTITY OF ONE IS ORDERED FOR EACH AND EVERY ITEM | F13: =SUM(F4:F12) -> 0 | G13: =SUM(G4:G12) -> 0 | H13: =SUM(H4:H12) -> 0 | I13: =SUM(I4:I12) -> 0
J14: Grand total for three years
J15: =SUM(G13+H13+I13) -> 0

Sheet MALUTI
B1: MALUTI HOOGLAND SKOOL/SCHOOL
A2: 1 | B2: Motor Mechanics (Non-Consumables)
B3: Item | C3: Description | D3: Quantity | E3: Unit Price | F3: Total Price (VAT Included) | G3: Year One: Unit price (Including VAT and Supply and Delivery to specific school) | H3: Year Two: Unit price (Including VAT and Supply and Delivery to specific school) | I3: Year Three: Unit price (Including VAT and Supply and Delivery to specific school)
A4: 1.1 | B4: Two post hoist | C4: Lift consists of two upright columns with four adjustable arms attached to a carriage assembly and two hydraulic cylinders | D4: 1 | G4: 0 | H4: 0 | I4: 0
A5: 1.2 | B5: Drawer roller tool set | C5: A multi-drawer tool cabinet, designed to work either as a stand-alone tool box, OR, serve as the base for a Tool Chest. | D5: 2 | G5: 0 | H5: 0 | I5: 0
A6: 1.3 | B6: Model engine kits | C6: Is a small internal combustion engine typically used to power a radio-controlled aircraft, radio-controlled car, radio-controlled boat, free flight, control line aircraft, or ground-running tether car model. | D6: 8 | G6: 0 | H6: 0 | I6: 0
A7: 1.4 | B7: Toolbox with tools(85 pieces) | C7: Is a metal or plastic box which contains general tools that you need at home, for example to do repairs in your house or car. | D7: 2 | G7: 0 | H7: 0 | I7: 0
A8: 1.5 | B8: Steel work tables(200kg loading capacity) | C8: Steel work tables are primarily made of steel, providing strength, stability, and resistance to wear and tear. They provide a stable platform for performing various tasks, such as assembly work, repair, maintenance, crafting, or processing in industrial, commercial, or domestic settings. | D8: 5 | G8: 0 | H8: 0 | I8: 0
A9: 1.6 | B9: 115mm Angle Grinders | C9: a handheld power tool that can be used for a variety of metal fabrication jobs that include cutting, grinding, deburring, finishing and polishing | D9: 3 | G9: 0 | H9: 0 | I9: 0
A10: 1.7 | B10: Pedestal drill (16mm) | C10: The pedestal drill has a long column which stands on the floor. This means it is capable of being used to drill large pieces of materials and produce larger holes. This is because the table can be lowered allowing long pieces of material to be positioned into the machine for drilling | D10: 1 | G10: 0 | H10: 0 | I10: 0
A11: 1.8 | B11: 150 mm Bench grinder (370W) | C11: A bench grinder is a power tool that is typically mounted to a workbench or other sturdy surface. It consists of two grinding wheels, each with different grit sizes, which rotate at high speeds. | D11: 3 | G11: 0 | H11: 0 | I11: 0
A12: 1.9 | B12: Welding Helmets | C12: A welding helmet is a type of personal protective equipment used in performing certain types of welding to protect the eyes, face, and neck from flash burn, sparks, infrared and ultraviolet light, and intense heat | D12: 5 | G12: 0 | H12: 0 | I12: 0
A13: 1.10 | B13: Vise grips set (2 piece set, 250mm and 125mm) | C13: Locking pliers (also called Vise-Grips, a vice grip, Mole wrench or mole grips) are pliers that can be locked into position, using an "over-center" cam action | D13: 5 | G13: 0 | H13: 0 | I13: 0
B14: TOTAL | F14: =SUM(F4:F13) -> 0 | G14: =SUM(G4:G13) -> 0 | H14: =SUM(H4:H13) -> 0 | I14: =SUM(I4:I13) -> 0
B16: MALUTI HOOGLAND SKOOL/SCHOOL
A17: 2 | B17: Welding (Consumables)
B18: Item | C18: Description | D18: Quantity | E18: Unit Price | F18: Total Price (VAT Included) | G18: Year One: Unit price (Including VAT and Supply and Delivery to specific school) | H18: Year Two: Unit price (Including VAT and Supply and Delivery to specific school) | I18: Year Three: Unit price (Including VAT and Supply and Delivery to specific school)
A19: 2.1 | B19: P40 (115MM) Cutting discs Stainless Steel (pack of 10) | C19: They are used for cutting metals ,shaping and polishing off. | D19: 2 | G19: 0 | H19: 0 | I19: 0
A20: 2.2 | B20: Drill bits set (100 Piece) | C20: Drill bit sets include a collection of drill bits, typically featuring a range of sizes to ensure suitability for different applications. Drill bits are the tools which allow drills to cut holes into different materials through the application of circular torque, or rotational force made from stainless steel. | D20: 16 | G20: 0 | H20: 0 | I20: 0
A21: 2.3 | B21: Hacksaw Blades 24 TPI( 100 piece per pack) | C21: Hacksaw blades vary by length, material, and TPI (teeth-per-inch). Length: Most hacksaw blades are 150, 254, or 300 mm long (6, 10, or 12 inches). Material: Common materials are classified by: Bimetal material: Bimetal hacksaw blades typically have high speed steel teeth electron beam welded onto spring steel. | D21: 2 | G21: 0 | H21: 0 | I21: 0
B22: TOTAL | F22: =SUM(F19:F21) -> 0 | G22: =SUM(G19:G21) -> 0 | H22: =SUM(H19:H21) -> 0 | I22: =SUM(I19:I21) -> 0
A24: 3 | B24: Welding (Non-consumables)
B25: Item | C25: Description | D25: Quantity | E25: Unit Price | F25: Total Price (VAT Included) | G25: Year One: Unit price (Including VAT and Supply and Delivery to specific school) | H25: Year Two: Unit price (Including VAT and Supply and Delivery to specific school) | I25: Year Three: Unit price (Including VAT and Supply and Delivery to specific school)
A26: 3.1 | B26: Guilotine Shear (1000mm) | C26: Machine for beheading by means of a heavy blade that slides down in vertical guides. | D26: 1 | G26: 0 | H26: 0 | I26: 0
A27: 3.2 | B27: Steel work tables(200kg loading capacity) | C27: Steel work tables are primarily made of steel, providing strength, stability, and resistance to wear and tear. They provide a stable platform for performing various tasks, such as assembly work, repair, maintenance, crafting, or processing in industrial, commercial, or domestic settings. | D27: 4 | G27: 0 | H27: 0 | I27: 0
A28: 3.3 | B28: 115mm Angle Grinders | C28: A handheld power tool that can be used for a variety of metal fabrication jobs that include cutting, grinding, deburring, finishing and polishing | D28: 6 | G28: 0 | H28: 0 | I28: 0
A29: 3.4 | B29: Pedestal drill (16mm) | C29: The pedestal drill has a long column which stands on the floor. This means it is capable of being used to drill large pieces of materials and produce larger holes. This is because the table can be lowered allowing long pieces of material to be positioned into the machine for drilling | D29: 1 | G29: 0 | H29: 0 | I29: 0
A30: 3.5 | B30: Cordless drill | C30: Cordless drills work on rechargeable batteries, allowing the user to insert a battery pack and instantly have an operating drill without a power cable | D30: 4 | G30: 0 | H30: 0 | I30: 0
A31: 3.6 | B31: Vice grips set (2 piece set, 250mm and 125mm) | C31: Locking pliers (also called Vise-Grips, a vice grip, Mole wrench or mole grips) are pliers that can be locked into position, using an "over-center" cam action | D31: 4 | G31: 0 | H31: 0 | I31: 0
A32: 3.7 | B32: Chipping Hammers (5 piece pack) | C32: Welding or chipping hammers are used to clean and remove slag from welds (dressing) and can also be used for boiler scaling applications | D32: 4 | G32: 0 | H32: 0 | I32: 0
A33: 3.8 | B33: Welding Helmets | C33: A welding helmet is a type of personal protective equipment used in performing certain types of welding to protect the eyes, face, and neck from flash burn, sparks, infrared and ultraviolet light, and intense heat | D33: 4 | G33: 0 | H33: 0 | I33: 0
A34: 3.9 | B34: Bench vice (105 mm) | C34: Bench vice, is a mechanical device used to securely hold an object in place while work is being done on it. It is an essential tool in woodworking, metalworking, and other crafts where a stable and firm grip on a workpiece is necessary. The bench vise is typically mounted to a workbench or other sturdy surface, providing a stable platform for various tasks. | D34: 5 | G34: 0 | H34: 0 | I34: 0
A35: 3.10 | B35: Welding screen (3m x 2m) | C35: A welding screen is used to create a safe working environment whilst welding. This is done by dispersing UV light eye hazards, providing optical protection and preventing welding splatter and flash burns | D35: 2 | G35: 0 | H35: 0 | I35: 0
B36: TOTAL | F36: =SUM(F26:F35) -> 0 | G36: =SUM(G26:G35) -> 0 | H36: =SUM(H26:H35) -> 0 | I36: =SUM(I26:I35) -> 0
J37: Grand total for three years
A38: TOTAL PER YEAR FOR ALL ITEMS ON SCENARIO WHERE QUANTITY OF ONE IS ORDERED FOR EACH AND EVERY ITEM | G38: =SUM(G14+G22+G36) -> 0 | H38: =SUM(H14+H22+H36) -> 0 | I38: =SUM(I14+I22+I36) -> 0 | J38: =SUM(G38:I38) -> 0

Sheet LADYBRAND
B1: LADYBRAND SCHOOL OF SKILLS
A2: 1 | B2: Welding (Non-consumables)
B3: Item | C3: Description | D3: Quantity | E3: Unit Price | F3: Total Price (VAT Included) | G3: Year One: Unit price (Including VAT and Supply and Delivery to specific school) | H3: Year Two: Unit price (Including VAT and Supply and Delivery to specific school) | I3: Year Three: Unit price (Including VAT and Supply and Delivery to specific school)
A4: 1.1 | B4: 115mm Angle Grinders | C4: a handheld power tool that can be used for a variety of metal fabrication jobs that include cutting, grinding, deburring, finishing and polishing | D4: 6 | G4: 0 | H4: 0 | I4: 0
A5: 1.2 | B5: Stand drill 16mm 3/5 hp | C5: A stand drill, also known as a drill press, is a fixed power tool used for drilling precise and accurate holes in various materials. | D5: 2 | G5: 0 | H5: 0 | I5: 0
A6: 1.3 | B6: Bench grinder sander tool | C6: A bench grinder is an appliance that is used to sharpen other tools. | D6: 2 | G6: 0 | H6: 0 | I6: 0
A7: 1.4 | B7: Chipping Hammers (5 piece pack) | C7: Welding or chipping hammers are used to clean and remove slag from welds (dressing) and can also be used for boiler scaling applications | D7: 4 | G7: 0 | H7: 0 | I7: 0
A8: 1.5 | B8: Ball Pein Hammer - similar or equal to Gedore | C8: A tool that has a heavy metal head attached to a handle and that is used for hitting nails or breaking things apart | D8: 10 | G8: 0 | H8: 0 | I8: 0
A9: 1.6 | B9: 200 L Compressor | C9: A mechanical flowing device designed to increase the pressure of a gas by reducing its volume | D9: 1 | G9: 0 | H9: 0 | I9: 0
A10: 1.7 | B10: Welding magnets with switch | C10: Magnetic workholding solutions that are designed for welding. | D10: 6 | G10: 0 | H10: 0 | I10: 0
A11: 1.8 | B11: Metal Files (5 piece pack) | C11: Metal files consist of a hardened steel bar with rows of parallel, sharp teeth or ridges known as teeth or cuts. They are used for shaping and smoothing metal surfaces by removing material through abrasion. | D11: 4 packs | G11: 0 | H11: 0 | I11: 0
B12: TOTAL | F12: =SUM(F4:F11) -> 0 | G12: =SUM(G4:G11) -> 0 | H12: =SUM(H4:H11) -> 0 | I12: =SUM(I4:I11) -> 0
B14: LADYBRAND SCHOOL OF SKILLS
A15: 2 | B15: Woodworking and Timber (Non-consumables)
B16: Item | C16: Description | D16: Quantity | E16: Unit Price | F16: Total Price (VAT Included) | G16: Year One: Unit price (Including VAT and Supply and Delivery to specific school) | H16: Year Two: Unit price (Including VAT and Supply and Delivery to specific school) | I16: Year Three: Unit price (Including VAT and Supply and Delivery to specific school)
A17: 2.1 | B17: 6" x 9" Belt and Disc sander | C17: A sanding belt used in shaping and finishing wood and other materials. | D17: 2 | G17: 0 | H17: 0 | I17: 0
A18: 2.2 | B18: FM300 dust collector | C18: Large suction capacity, supports 2 smaller woodworking machines. Main sleeve 125 mm and branch sleeve with 2 x 100 mm sleeves. Stand with castors, supplied complete with filter sacks and chip sacks. | D18: 2 | G18: 0 | H18: 0 | I18: 0
A19: 2.3 | B19: 14" Band saw | C19: A power saw with a long, sharp blade consisting of a continuous band of toothed metal stretched between two or more wheels to cut material | D19: 1 | G19: 0 | H19: 0 | I19: 0
A20: 2.4 | B20: Compound mitre saw | C20: Blades that pivot left and right for angled cuts and tilt in a single direction for beveled cuts. | D20: 1 | G20: 0 | H20: 0 | I20: 0
A21: 2.5 | B21: 300 x 900mm Wood Lathe | C21: A wood lathe consists of a horizontal bed or base, a headstock at one end, a tailstock at the opposite end, and a tool rest between them. The lathe also includes a motor that drives the spindle. The primary purpose of a wood lathe is to turn wooden workpieces into various shapes such as bowls, spindles, table legs, furniture components, or decorative items. | D21: 1 | G21: 0 | H21: 0 | I21: 0
A22: 2.6 | B22: Martlet table saw 250mm | C22: Are versatile saws used for cutting across (crosscut) and with (rip) the wood grain. | D22: 1 | G22: 0 | H22: 0 | I22: 0
A23: 2.7 | B23: 560mm Drum Sander | C23: A drum sander is a woodworking machine designed for sanding and smoothing large wooden surfaces efficiently. | D23: 1 | G23: 0 | H23: 0 | I23: 0
B24: TOTAL | F24: =SUM(F17:F23) -> 0 | G24: =SUM(G17:G23) -> 0 | H24: =SUM(H17:H23) -> 0 | I24: =SUM(I17:I23) -> 0
J25: Grand total for three years
A26: TOTAL PER YEAR FOR ALL ITEMS ON SCENARIO WHERE QUANTITY OF ONE IS ORDERED FOR EACH AND EVERY ITEM | G26: =SUM(G12+G24) -> 0 | H26: =SUM(H12+H24) -> 0 | I26: =SUM(I12+I24) -> 0 | J26: =SUM(G26:I26) -> 0

Sheet DR BOHMER AND TOTALS
B1: DR. BOHMER SCHOOL OF SKILLS
A2: 1 | B2: Motor Mechanics (Non-Consumable)
B3: Item | C3: Description | D3: Quantity | E3: Unit Price | F3: Total Price (VAT Included) | G3: Year One: Unit price (Including VAT and Supply and Delivery to specific school) | H3: Year Two: Unit price (Including VAT and Supply and Delivery to specific school) | I3: Year Three: Unit price (Including VAT and Supply and Delivery to specific school)
A4: 1.1 | B4: Bench grinder Hbg 150- 150W (15 cm wheel diameter) | C4: A bench grinder is a power tool that is typically mounted to a workbench or other sturdy surface. It consists of two grinding wheels, each with different grit sizes, which rotate at high speeds. | D4: 2 | G4: 0 | H4: 0 | I4: 0
A5: 1.2 | B5: Compressor 200 L with 2.2 KW output | C5: A mechanical flowing device designed to increase the pressure of a gas by reducing its volume | D5: 1 | G5: 0 | H5: 0 | I5: 0
A6: 1.3 | B6: Engine Model (Plastic) | C6: Is a small internal combustion engine typically used to power a radio-controlled aircraft, radio-controlled car, radio-controlled boat, free flight, control line aircraft, or ground-running tether car model. | D6: 2 | G6: 0 | H6: 0 | I6: 0
A7: 1.4 | B7: Inverter DC Welder 220V | C7: It converts AC power supply into a lower usable output voltage | D7: 1 | G7: 0 | H7: 0 | I7: 0
A8: 1.5 | B8: Load Tester 12V | C8: It a designed to load test the output of transformer-type, engine- or motor-driven generator welding power sources. This portable unit can be used to test AC or DC welder outputs, and to demonstrate welding equipment to prospective customers. | D8: 1 | G8: 0 | H8: 0 | I8: 0
A9: 1.6 | B9: MIG Welder 130GM with 220V output | C9: MIG welder is used to join metal parts together. It functions to join steel, stainless steel, cast iron, and aluminum. MIG welding is used on sheet metal, pressure vessels, steel structures, pipelines, and automotive parts. | D9: 1 | G9: 0 | H9: 0 | I9: 0
A10: 1.7 | B10: Multi-meter | C10: Is a test tool used to measure two or more electrical values—principally voltage (volts), current (amps) and resistance (ohms). | D10: 4 | G10: 0 | H10: 0 | I10: 0
A11: 1.8 | B11: Complete Toolbox with tools (metal 85 pieces) | C11: Is a metal or plastic box which contains general tools that you need at home, for example to do repairs in your house or car. | D11: 2 | G11: 0 | H11: 0 | I11: 0
A12: 1.9 | B12: Angle Grinder 115mm | C12: Is a handheld power tool that can be used for a variety of metal fabrication jobs that include cutting, grinding, deburring, finishing and polishing. | D12: 1 | G12: 0 | H12: 0 | I12: 0
A13: 1.10 | B13: Belt sander | C13: A sanding belt used in shaping and finishing wood and other materials. | D13: 2 | G13: 0 | H13: 0 | I13: 0
A14: 1.11 | B14: Cordless drill 24V | C14: Cordless drills work on rechargeable batteries, allowing the user to insert a battery pack and instantly have an operating drill without a power cable | D14: 2 | G14: 0 | H14: 0 | I14: 0
A15: 1.12 | B15: Cutt-off saw | C15: A cut off saw is a simple, yet powerful cutting tool used widely in metal cutting. | D15: 1 | G15: 0 | H15: 0 | I15: 0
A16: 1.13 | B16: Drill bits (Steel/Wood/Concrete) | C16: Drill bit sets include a collection of drill bits, typically featuring a range of sizes to ensure suitability for different applications. Drill bits are the tools which allow drills to cut holes into different materials through the application of circular torque, or rotational force made from stainless steel. | D16: 2 Sets | G16: 0 | H16: 0 | I16: 0
A17: 1.14 | B17: Screw driver set 6 pieces | C17: A set of hand tools used for the insertion and removal of screws. | D17: 2 | G17: 0 | H17: 0 | I17: 0
A18: 1.15 | B18: Side Cutter | C18: Side cutters are used on wire and the leads of electronic components, as well as to strip insulation. | D18: 4 | G18: 0 | H18: 0 | I18: 0
A19: 1.16 | B19: Pliers | C19: Pliers are a tool with two handles at one end and two hard, flat, metal parts at the other. Pliers are used for holding or pulling out things such as nails, or for bending or cutting wire. | D19: 4 | G19: 0 | H19: 0 | I19: 0
A20: 1.17 | B20: Ball-pein hammer | C20: A type of peining hammer used in metalworking. It has two heads, one flat and the other, called the peen, rounded. | D20: 4 | G20: 0 | H20: 0 | I20: 0
A21: 1.18 | B21: Lead 20m | C21: The electrode cable is your welding lead, which delivers power to the electrode and attaches to the electrode holder. | D21: 2 | G21: 0 | H21: 0 | I21: 0
A22: 1.19 | B22: Vice grip plier | C22: Locking pliers (also called Vise-Grips, a vice grip, Mole wrench or mole grips) are pliers that can be locked into position, using an "over-center" cam action | D22: 4 | G22: 0 | H22: 0 | I22: 0
A23: 1.20 | B23: Vice 15Omm | C23: Vise, device consisting of two parallel jaws for holding a workpiece; one of the jaws is fixed and the other movable by a screw, a lever, or a cam. | D23: 4 | G23: 0 | H23: 0 | I23: 0
A24: 1.21 | B24: Square 150mm | C24: Engineers squares are used to accurately check and mark angles, or to verify the squareness of straight edges and lines. | D24: 4 | G24: 0 | H24: 0 | I24: 0
A25: 1.22 | B25: Wrench | C25: A wrench for gripping and turning a cylindrical object (such as a pipe) usually by use of two serrated jaws so designed as to grip the pipe when turning in one direction only. | D25: 2 | G25: 0 | H25: 0 | I25: 0
A26: 1.23 | B26: Shifting Spanner | C26: Shifting spanners are an open-end wrench with a movable jaw, allowing it to be used with different sizes of fastener head rather than just one fastener size. | D26: 2 | G26: 0 | H26: 0 | I26: 0
B27: TOTAL | F27: =SUM(F3:F26) -> 0 | G27: =SUM(G4:G26) -> 0 | H27: =SUM(H4:H26) -> 0 | I27: =SUM(I4:I26) -> 0
B29: DR. BOHMER SCHOOL OF SKILLS
A30: 2 | B30: Welding (Non-Consumable)
B31: Item | C31: Description | D31: Quantity | E31: Unit Price | F31: Total Price (VAT Included) | G31: Year One: Unit price (Including VAT and Supply and Delivery to specific school) | H31: Year Two: Unit price (Including VAT and Supply and Delivery to specific school) | I31: Year Three: Unit price (Including VAT and Supply and Delivery to specific school)
A32: 2.1 | B32: 115mm Angle grinder | C32: Is a handheld power tool that can be used for a variety of metal fabrication jobs that include cutting, grinding, deburring, finishing and polishing. | D32: 8 | G32: 0 | H32: 0 | I32: 0
A33: 2.2 | B33: Chipping hammer | C33: Welding or chipping hammers are used to clean and remove slag from welds (dressing) and can also be used for boiler scaling applications | D33: 20 | G33: 0 | H33: 0 | I33: 0
A34: 2.3 | B34: Extension cords 40 m | C34: An extension cord is a great way to power an arc welder if you don't have a dedicated circuit for it. It is designed to carry electrical power from the power source to the welding equipment, allowing flexibility in positioning the welding machine in different locations. | D34: 2 | G34: 0 | H34: 0 | I34: 0
B35: TOTAL | F35: =SUM(F31:F34) -> 0 | G35: =SUM(G32:G34) -> 0 | H35: =SUM(H32:H34) -> 0 | I35: =SUM(I32:I34) -> 0
B37: DR. BOHMER SCHOOL OF SKILLS
A38: 3 | B38: Welding (Non-Consumables)
B39: Item | C39: Description | D39: Quantity | E39: Unit Price | F39: Total Price (VAT Included) | G39: Year One: Unit price (Including VAT and Supply and Delivery to specific school) | H39: Year Two: Unit price (Including VAT and Supply and Delivery to specific school) | I39: Year Three: Unit price (Including VAT and Supply and Delivery to specific school)
A40: 3.1 | B40: 150mm C clamps | C40: Welding table clamps are devices used to secure workpieces to a welding table or work surface during welding or fabrication processes. They are essential tools for holding materials firmly in place, preventing movement or distortion while welding, cutting, or grinding. | D40: 5 | G40: 0 | H40: 0 | I40: 0
A41: 3.2 | B41: Angle Grinder 115mm | C41: Is a handheld power tool that can be used for a variety of metal fabrication jobs that include cutting, grinding, deburring, finishing and polishing. | D41: 5 | G41: 0 | H41: 0 | I41: 0
A42: 3.3 | B42: Body punches | C42: A punch is a tool used to indent or create a hole through a hard surface. They usually consist of a hard metal rod with a narrow tip at one end and a broad flat "butt" at the other. | D42: 1 | G42: 0 | H42: 0 | I42: 0
...
