Workbook

Sheet List of Items & Enquiry number
A1: Steps to follow to prepare this file for tender
A2: 1 | B2: Enter the Enquiry number in the cell below (B14) so that the number is carried through to the AB Schedule Sheets
A3: 1.1 | B3: Leave enquiry number blank if not known
A4: 2 | B4: Go to Source Data worksheet and confirm the figures from columns BL to BO and EL are correct
A5: 3 | B5: Fix any other requirements on Source Data if there has been a change to the spec
A6: 4 | B6: Hide Source Data Sheet
A7: 5 | B7: Hide this sheet
A8: 6 | B8: Hide any unnecessary sheets if not needed for the tender
A10: NOTE:
B11: This AB schedule is only for Ester Oil options. If the the tender scope includes Ester options, please also submit the Ester Oil or Ester/Ester Schedule to the Buyer
A13: Type Enquiry Number in the cell below (overtype the green text) so that it transfers to all the AB Schedules
A14: >>> | B14: Enquiry Number: 123456XYZ
A17: List of Items
A18: SAP Number | B18: Description | C18: Schedule Name
A19: 0175077 | B19: TFR 16kVA 11kV/242V COASTAL D3021 | C19: Single-phase, 16 kVA, 11 kV/242V (Coastal, Ester Oil Only)
A20: 0175078 | B20: TFR 16kVA 22kV/242V COASTAL D3021 | C20: Single-phase, 16 kVA, 22 kV/242V (Coastal, Ester Oil Only)
A21: 0182712 | B21: TRF 16kVA 33kV/242V COASTAL D3192 | C21: Single-phase, 16 kVA, 33 kV/242V (Coastal, Ester Oil Only)
A22: 0175081 | B22: TFR 25kVA 11kV/420V COASTAL D3021 | C22: Three-phase, 25 kVA, 11 kV/420V (Coastal, Ester Oil Only)
A23: 0175082 | B23: TFR 25kVA 22kV/420V COASTAL D3021 | C23: Three-phase, 25 kVA, 22 kV/420V (Coastal, Ester Oil Only)
A24: 0182713 | B24: TRF 25kVA 33kV/420V COASTAL D3192 | C24: Three Phase, 25 kVA, 33 kV/420V (Coastal, Ester Oil Only)
A25: 0175097 | B25: TFR 32kVA 11kV/+242/-242V COASTAL D3021 | C25: Dual-phase, 32 kVA, 11 kV/+242V/-242V (Coastal, Ester Oil Only)
A26: 0175098 | B26: TFR 32kVA 22kV/+242/-242V COASTAL D3021 | C26: Dual-phase, 32 kVA, 22 kV/+242V/-242V (Coastal, Ester Oil Only)
A27: 0182719 | B27: TRF 32kVA 33kV/+242/-242V COASTAL D3192 | C27: Dual-phase, 32 kVA, 33 kV/+242V/-242V (Coastal, Ester Oil Only)
A28: 0175083 | B28: TFR 50kVA 11kV/420V COASTAL D3021 | C28: Three Phase, 50 kVA, 11 kV/420V (Coastal, Ester Oil Only)
A29: 0175084 | B29: TFR 50kVA 22kV/420V COASTAL D3021 | C29: Three-phase, 50 kVA, 22 kV/420V (Coastal, Ester Oil Only)
... A45: 0182718 | B45: TRF 500kVA 33kV/420V COASTAL D3192 | C45: Three Phase, 500 kVA, 33 kV/420V (Coastal, Ester Oil Only)

Sheet Source Data
A1: Select Pole Mounted Transformer (kVA, kV) here! | B1: Identification | C1: Name of manufacturer | D1: Name of supplier | E1: Product code for Inland transformers | F1: Product code for Coastal transformers | G1: Are the transformers covered by the SABS certification mark? | H1: State SABS 780 permit number | I1: Oil Type | J1: Ratings | K1: Power rating | L1: Rated primary voltage | M1: Rated no-load secondary voltage | N1: Frequency | O1: Number of phases | P1: Vector Group | Q1: Insulation levels | R1: BIL - Primary | S1: BIL - Secondary | T1: Power frequency withstand voltage - Primary | U1: Power frequency withstand voltage – Secondary | V1: Inter-turn winding insulation | W1: Type (Enamel or Paper) | X1: Enamel grade (if applicable) | Y1: Paper thickness (if applicable) | Z1: Paper type (if applicable) | AA1: Paper make (if applicable) | AB1: Paper minimum impulse withstand | AC1: Paper minimum power frequency withstand | AD1: Inter-turn winding insulation stres | AE1: Interlayer insulation | AF1: Highest interlayer stress in non-tap part of winding (<5kV/mm is not acceptable as the calculated value must be presented) | AG1: Highest interlayer stress in tap part of winding (<5kV/mm is not acceptable as the calculated value must be presented) | AH1: Paper type. | AI1: Paper make. | AJ1: Tapping connections | AK1: Type | AL1: Tapping range | AM1: MV Bushings for Inland transformers | AN1: Make | AO1: Product code | AP1: Material (e.g. Porcelain) | AQ1: Specific creepage distance | AR1: Clamping | AS1: Type | AT1: Stem diameter | AU1: MV Bushings for Coastal Transformers | AV1: Make | AW1: Product code | AX1: Material (e.g. Porcelain) | AY1: Specific creepage distance | AZ1: Clamping | BA1: Type | BB1: Stem diameter | BC1: LV Bushings | BD1: Make | BE1: Product code | BF1: Material (e.g. Porcelain) | BG1: Stem diameter | BH1: Supplied with flag | BI1: Flag supplied with 2 x M12 x 40 mm set screws, 4 x flatwashers, 2 x spring washers and 2 x nuts | BJ1: Losses | BK1: Loss factor base (Cost of Dx or Gx) | BL1: No-load Loss Factor, NLLF | BM1: Load Loss Factor, LLF | BN1: Guaranteed no-load losses, PNL | BO1: Guaranteed load losses, PLL | BP1: Impedance voltage & X/R ratio | BQ1: Impedance at principle tapping (specific design impedances to be stated) | BR1: X/R ratio | BS1: Audio-sound level (clause 8.5.3 of SANS 780) | BT1: Maximum limit of transformer audio-sound level | BU1: MV winding wire | BV1: Material (e.g. Cu or Al) | BW1: Type (e.g. Round, Strip or Foil) | BX1: LV winding wire | BY1: Material (e.g. Cu or Al) | BZ1: Type (e.g. Round, Strip or Foil) | CA1: Core material | CB1: Core material | CC1: Type/code | CD1: Maximum Flux Density of Material | CE1: Supplier | CF1: Tank and tank cover | CG1: Tank type: Sealed | CH1: Plain, rigid or corrugated | CI1: Transformer dimensions | CJ1: Wo (including surge arrester) | CK1: Lo | CL1: Ht | CM1: Mass | CN1: Oil capacity | CO1: Minimum clearance between live MV terminals and from MV live terminals to any part of the tank greater than twice the BIL | CP1: Minimum mechanical clearance of 100 mm between the brackets and LV bushings shall be maintained | CQ1: Pole mounting bracket | CR1: Single pole mounting bracket required? (Yes or No) | CS1: Supplied with: - 2 x clamps | CT1: - 1 x threaded rod (M20 x 350 mm) | CU1: - 4 x threaded rods (M20 x 250 mm) | CV1: - 12 x nuts, flat washers & spring washers (M20) | CW1: Dimension Mo | CX1: Dimension h1 | CY1: Dimension W1 | CZ1: Mounting hole diameter | DA1: Mounting hole centres | DB1: Transformer under base | DC1: Under base required? (Yes or No) | DD1: Lml | DE1: Lmw (300, 400 or 450) | DF1: Ls | DG1: Lmh | DH1: Mounting hole diameter | DI1: Lifting lugs | DJ1: Lifting lugs fitted | DK1: Hole diameter | DL1: Earthing terminals | DM1: Boss material | DN1: Boss depth | DO1: Set screw material | DP1: Set screw dimensions | DQ1: Supplied with washer and spring washer | DR1: Surge arrester brackets | DS1: Surge arrester brackets fitted | DT1: Mounting hole diameter | DU1: Dimension D (worst case) | DV1: Dimension E (worst case) | DW1: Dimension F (worst case) | DX1: Corrosion protection Inland transformers | DY1: Indicate the coating system (i.e. DS numbers according to DSP 240-75655504) that is offered. (e.g. DS-7 for mild steel) | DZ1: Tank | EA1: Radiators | EB1: Threaded rods and accessories | EC1: Colour of final coat | ED1: Corrosion protection for Coastal transformers | EE1: Indicate the coating system (i.e. DS numbers according to DSP 240-75655504) that is offered. (e.g. DS-14 + DS-15 for zinc sprayed mild steel with duplex coating) | EF1: Tank | EG1: Radiators | EH1: Threaded rods and accessories | EI1: Colour of final coat | EJ1: All Type Tests in Accordance with SANS 780: | EK1: All Routine Tests in Accordance with SANS 780 | EL1: Amorphous Losses (Guaranteed no-load losses, PNL)
A2: Single-phase, 16 kVA, 11 kV/242V (Coastal, Ester Oil Only) | C2: xxxxxxxxxxx | D2: xxxxxxxxxxx | E2: xxxxxxxxxxx | F2: xxxxxxxxxxx | G2: xxxxxxxxxxx | H2: xxxxxxxxxxx | I2: Ester Oil | K2: 16 | L2: 11 | M2: 242 | N2: 50 | O2: 1 ph | P2: N/A | R2: 95 | S2: 30 | T2: 28 | U2: 8 | W2: xxxxxxxxxxx | X2: Grade 3 | Y2: > 0.125 | Z2: xxxxxxxxxxx | AA2: xxxxxxxxxxx | AB2: 21 | AC2: 8 | AD2: <5 | AF2: < 5 | AG2: < 5 | AH2: xxxxxxxxxxx | AI2: xxxxxxxxxxx | AK2: External | AL2: 0, +2.5 , +5 | AN2: xxxxxxxxxxx | AO2: xxxxxxxxxxx | AP2: xxxxxxxxxxx | AQ2: ≥ 31 | AR2: Base | AS2: Draw lead | AT2: M12 | AV2: xxxxxxxxxxx | AW2: xxxxxxxxxxx | AX2: xxxxxxxxxxx | AY2: ≥ 31 | AZ2: Base | BA2: Draw lead | BB2: M12 | BD2: xxxxxxxxxxx | BE2: xxxxxxxxxxx | BF2: xxxxxxxxxxx | BG2: M12 | BH2: Yes | BI2: Yes | BK2: Distribution | BL2: 80500 | BM2: 17500 | BN2: 49 | BO2: 320 | BQ2: 3,0 to 4,5 | BR2: xxxxxxxxxx | BT2: ≤ 48 | BV2: xxxxxxxxxxx | BW2: xxxxxxxxxxx | BY2: xxxxxxxxxxx | BZ2: xxxxxxxxxxx | CB2: Steel or Amporphous | CC2: xxxxxxxxxxx | CD2: xxxxxxxxxxx | CE2: xxxxxxxxxxx | CG2: Sealed | CH2: xxxxxxxxxx | CJ2: ≤ 1 080 | CK2: ≤ 1 500 | CL2: ≤ 1 500 | CM2: ≤ 900 | CN2: xxxxxxxxxxx | CO2: =2*R2 -> 190 | CP2: 100 | CR2: Yes | CS2: Yes | CT2: Yes | CU2: Yes | CV2: Yes | CW2: 400 | CX2: ≤ 400 | CY2: ≤ 450 | CZ2: 22 | DA2: 146 | DC2: No | DD2: 400 | DE2: xxxxxxxxxxx | DF2: ≥ 320 | DG2: ≤ 120 | DH2: 22 | DJ2: Yes | DK2: ≥ 30 | DM2: 316 Stainless Steel or Mild Steel | DN2: ≥ 30 | DO2: 316 Stainless Steel or Mild Steel | DP2: M12 x 25 | DQ2: Yes | DS2: Yes | DT2: 14 | DU2: ≥ 200 | DV2: ≥ 190 | DW2: ≥ 150 | DZ2: xxxxxxxxxxx | EA2: xxxxxxxxxxx | EB2: xxxxxxxxxxx | EC2: Avocado | EF2: xxxxxxxxxxx | EG2: xxxxxxxxxxx | EH2: xxxxxxxxxxx | EI2: Azure Blue | EJ2: Report Numbers | EK2: Report Numbers | EL2: 23
A3: Single-phase, 16 kVA, 22 kV/242V (Coastal, Ester Oil Only) | C3: xxxxxxxxxxx | D3: xxxxxxxxxxx | E3: xxxxxxxxxxx | F3: xxxxxxxxxxx | G3: xxxxxxxxxxx | H3: xxxxxxxxxxx | I3: Ester Oil | K3: 16 | L3: 22 | M3: 242 | N3: 50 | O3: 1 ph | P3: N/A | R3: 150 | S3: 30 | T3: 50 | U3: 8 | W3: xxxxxxxxxxx | X3: Grade 3 | Y3: > 0.125 | Z3: xxxxxxxxxxx | AA3: xxxxxxxxxxx | AB3: 21 | AC3: 8 | AD3: <5 | AF3: < 5 | AG3: < 5 | AH3: xxxxxxxxxxx | AI3: xxxxxxxxxxx | AK3: External | AL3: 0, +2.5 , +5 | AN3: xxxxxxxxxxx | AO3: xxxxxxxxxxx | AP3: xxxxxxxxxxx | AQ3: ≥ 31 | AR3: Base | AS3: Draw lead | AT3: M12 | AV3: xxxxxxxxxxx | AW3: xxxxxxxxxxx | AX3: xxxxxxxxxxx | AY3: ≥ 31 | AZ3: Base | BA3: Draw lead | BB3: M12 | BD3: xxxxxxxxxxx | BE3: xxxxxxxxxxx | BF3: xxxxxxxxxxx | BG3: M12 | BH3: Yes | BI3: Yes | BK3: Distribution | BL3: 80500 | BM3: 17500 | BN3: 49 | BO3: 320 | BQ3: 3,0 to 4,5 | BR3: xxxxxxxxxx | BT3: ≤ 48 | BV3: xxxxxxxxxxx | BW3: xxxxxxxxxxx | BY3: xxxxxxxxxxx | BZ3: xxxxxxxxxxx | CB3: Steel or Amporphous | CC3: xxxxxxxxxxx | CD3: xxxxxxxxxxx | CE3: xxxxxxxxxxx | CG3: Sealed | CH3: xxxxxxxxxx | CJ3: ≤ 1 080 | CK3: ≤ 1 500 | CL3: ≤ 1 500 | CM3: ≤ 900 | CN3: xxxxxxxxxxx | CO3: =2*R3 -> 300 | CP3: 100 | CR3: Yes | CS3: Yes | CT3: Yes | CU3: Yes | CV3: Yes | CW3: 400 | CX3: ≤ 400 | CY3: ≤ 450 | CZ3: 22 | DA3: 146 | DC3: No | DD3: 400 | DE3: xxxxxxxxxxx | DF3: ≥ 320 | DG3: ≤ 120 | DH3: 22 | DJ3: Yes | DK3: ≥ 30 | DM3: 316 Stainless Steel or Mild Steel | DN3: ≥ 30 | DO3: 316 Stainless Steel or Mild Steel | DP3: M12 x 25 | DQ3: Yes | DS3: Yes | DT3: 14 | DU3: ≥ 200 | DV3: ≥ 300 | DW3: ≥ 150 | DZ3: xxxxxxxxxxx | EA3: xxxxxxxxxxx | EB3: xxxxxxxxxxx | EC3: Avocado | EF3: xxxxxxxxxxx | EG3: xxxxxxxxxxx | EH3: xxxxxxxxxxx | EI3: Azure Blue | EJ3: Report Numbers | EK3: Report Numbers | EL3: 23
A4: Single-phase, 16 kVA, 33 kV/242V (Coastal, Ester Oil Only) | C4: xxxxxxxxxxx | D4: xxxxxxxxxxx | E4: xxxxxxxxxxx | F4: xxxxxxxxxxx | G4: xxxxxxxxxxx | H4: xxxxxxxxxxx | I4: Ester Oil | K4: 16 | L4: 33 | M4: 242 | N4: 50 | O4: 1 ph | P4: N/A | R4: 200 | S4: 30 | T4: 70 | U4: 8 | W4: xxxxxxxxxxx | X4: Grade 3 | Y4: > 0.125 | Z4: xxxxxxxxxxx | AA4: xxxxxxxxxxx | AB4: 21 | AC4: 8 | AD4: <5 | AF4: < 5 | AG4: < 5 | AH4: xxxxxxxxxxx | AI4: xxxxxxxxxxx | AK4: External | AL4: 0, +2.5 , +5 | AN4: xxxxxxxxxxx | AO4: xxxxxxxxxxx | AP4: xxxxxxxxxxx | AQ4: ≥ 31 | AR4: Base | AS4: Draw lead | AT4: M12 | AV4: xxxxxxxxxxx | AW4: xxxxxxxxxxx | AX4: xxxxxxxxxxx | AY4: ≥ 31 | AZ4: Base | BA4: Draw lead | BB4: M12 | BD4: xxxxxxxxxxx | BE4: xxxxxxxxxxx | BF4: xxxxxxxxxxx | BG4: M12 | BH4: Yes | BI4: Yes | BK4: Distribution | BL4: 80500 | BM4: 17500 | BN4: 49 | BO4: 320 | BQ4: 3,0 to 4,5 | BR4: xxxxxxxxxx | BT4: ≤ 48 | BV4: xxxxxxxxxxx | BW4: xxxxxxxxxxx | BY4: xxxxxxxxxxx | BZ4: xxxxxxxxxxx | CB4: Steel or Amporphous | CC4: xxxxxxxxxxx | CD4: xxxxxxxxxxx | CE4: xxxxxxxxxxx | CG4: Sealed | CH4: xxxxxxxxxx | CJ4: ≤ 1 080 | CK4: ≤ 1 500 | CL4: ≤ 1 500 | CM4: ≤ 900 | CN4: xxxxxxxxxxx | CO4: =2*R4 -> 400 | CP4: 100 | CR4: Yes | CS4: Yes | CT4: Yes | CU4: Yes | CV4: Yes | CW4: 400 | CX4: ≤ 400 | CY4: ≤ 450 | CZ4: 22 | DA4: 146 | DC4: No | DD4: 400 | DE4: xxxxxxxxxxx | DF4: ≥ 320 | DG4: ≤ 120 | DH4: 22 | DJ4: Yes | DK4: ≥ 30 | DM4: 316 Stainless Steel or Mild Steel | DN4: ≥ 30 | DO4: 316 Stainless Steel or Mild Steel | DP4: M12 x 25 | DQ4: Yes | DS4: Yes | DT4: 14 | DU4: ≥ 200 | DV4: ≥ 400 | DW4: ≥ 150 | DZ4: xxxxxxxxxxx | EA4: xxxxxxxxxxx | EB4: xxxxxxxxxxx | EC4: Avocado | EF4: xxxxxxxxxxx | EG4: xxxxxxxxxxx | EH4: xxxxxxxxxxx | EI4: Azure Blue | EJ4: Report Numbers | EK4: Report Numbers | EL4: 23
A5: Three-phase, 25 kVA, 11 kV/420V (Coastal, Ester Oil Only) | C5: xxxxxxxxxxx | D5: xxxxxxxxxxx | E5: xxxxxxxxxxx | F5: xxxxxxxxxxx | G5: xxxxxxxxxxx | H5: xxxxxxxxxxx | I5: Ester Oil | K5: 25 | L5: 11 | M5: 420 | N5: 50 | O5: 3ph | P5: Dyn11 or Yzn11 | R5: 95 | S5: 30 | T5: 28 | U5: 8 | W5: xxxxxxxxxxx | X5: Grade 3 | Y5: > 0.125 | Z5: xxxxxxxxxxx | AA5: xxxxxxxxxxx | AB5: 21 | AC5: 8 | AD5: <5 | AF5: < 5 | AG5: < 5 | AH5: xxxxxxxxxxx | AI5: xxxxxxxxxxx | AK5: Switch | AL5: 0, ±2.5, ±5 | AN5: xxxxxxxxxxx | AO5: xxxxxxxxxxx | AP5: xxxxxxxxxxx | AQ5: ≥ 31 | AR5: Base | AS5: Draw lead | AT5: M12 | AV5: xxxxxxxxxxx | AW5: xxxxxxxxxxx | AX5: xxxxxxxxxxx | AY5: ≥ 31 | AZ5: Base | BA5: Draw lead | BB5: M12 | BD5: xxxxxxxxxxx | BE5: xxxxxxxxxxx | BF5: xxxxxxxxxxx | BG5: M12 | BH5: Yes | BI5: Yes | BK5: Distribution | BL5: 80500 | BM5: 17500 | BN5: 70 | BO5: 520 | BQ5: 3,0 to 4,5 | BR5: xxxxxxxxxx | BT5: ≤ 48 | BV5: xxxxxxxxxxx | BW5: xxxxxxxxxxx | BY5: xxxxxxxxxxx | BZ5: xxxxxxxxxxx | CB5: Steel or Amporphous | CC5: xxxxxxxxxxx | CD5: xxxxxxxxxxx | CE5: xxxxxxxxxxx | CG5: Sealed | CH5: xxxxxxxxxx | CJ5: ≤ 1 080 | CK5: ≤ 1 500 | CL5: ≤ 1 500 | CM5: ≤ 900 | CN5: xxxxxxxxxxx | CO5: =2*R5 -> 190 | CP5: 100 | CR5: Yes | CS5: Yes | CT5: Yes | CU5: Yes | CV5: Yes | CW5: 400 | CX5: ≤ 400 | CY5: ≤ 450 | CZ5: 22 | DA5: 146 | DC5: Yes | DD5: 400 | DE5: xxxxxxxxxxx | DF5: ≥ 320 | DG5: ≤ 120 | DH5: 22 | DJ5: Yes | DK5: ≥ 30 | DM5: 316 Stainless Steel or Mild Steel | DN5: ≥ 30 | DO5: 316 Stainless Steel or Mild Steel | DP5: M12 x 25 | DQ5: Yes | DS5: Yes | DT5: 14 | DU5: ≥ 200 | DV5: ≥ 190 | DW5: ≥ 150 | DZ5: xxxxxxxxxxx | EA5: xxxxxxxxxxx | EB5: xxxxxxxxxxx | EC5: Avocado | EF5: xxxxxxxxxxx | EG5: xxxxxxxxxxx | EH5: xxxxxxxxxxx | EI5: Azure Blue | EJ5: Report Numbers | EK5: Report Numbers | EL5: 30
A6: Three-phase, 25 kVA, 22 kV/420V (Coastal, Ester Oil Only) | C6: xxxxxxxxxxx | D6: xxxxxxxxxxx | E6: xxxxxxxxxxx | F6: xxxxxxxxxxx | G6: xxxxxxxxxxx | H6: xxxxxxxxxxx | I6: Ester Oil | K6: 25 | L6: 22 | M6: 420 | N6: 50 | O6: 3ph | P6: Dyn11 or Yzn11 | R6: 150 | S6: 30 | T6: 50 | U6: 8 | W6: xxxxxxxxxxx | X6: Grade 3 | Y6: > 0.125 | Z6: xxxxxxxxxxx | AA6: xxxxxxxxxxx | AB6: 21 | AC6: 8 | AD6: <5 | AF6: < 5 | AG6: < 5 | AH6: xxxxxxxxxxx | AI6: xxxxxxxxxxx | AK6: Switch | AL6: 0, ±2.5, ±5 | AN6: xxxxxxxxxxx | AO6: xxxxxxxxxxx | AP6: xxxxxxxxxxx | AQ6: ≥ 31 | AR6: Base | AS6: Draw lead | AT6: M12 | AV6: xxxxxxxxxxx | AW6: xxxxxxxxxxx | AX6: xxxxxxxxxxx | AY6: ≥ 31 | AZ6: Base | BA6: Draw lead | BB6: M12 | BD6: xxxxxxxxxxx | BE6: xxxxxxxxxxx | BF6: xxxxxxxxxxx | BG6: M12 | BH6: Yes | BI6: Yes | BK6: Distribution | BL6: 80500 | BM6: 17500 | BN6: 70 | BO6: 520 | BQ6: 3,0 to 4,5 | BR6: xxxxxxxxxx | BT6: ≤ 48 | BV6: xxxxxxxxxxx | BW6: xxxxxxxxxxx | BY6: xxxxxxxxxxx | BZ6: xxxxxxxxxxx | CB6: Steel or Amporphous | CC6: xxxxxxxxxxx | CD6: xxxxxxxxxxx | CE6: xxxxxxxxxxx | CG6: Sealed | CH6: xxxxxxxxxx | CJ6: ≤ 1 080 | CK6: ≤ 1 500 | CL6: ≤ 1 500 | CM6: ≤ 900 | CN6: xxxxxxxxxxx | CO6: =2*R6 -> 300 | CP6: 100 | CR6: Yes | CS6: Yes | CT6: Yes | CU6: Yes | CV6: Yes | CW6: 400 | CX6: ≤ 400 | CY6: ≤ 450 | CZ6: 22 | DA6: 146 | DC6: Yes | DD6: 400 | DE6: xxxxxxxxxxx | DF6: ≥ 320 | DG6: ≤ 120 | DH6: 22 | DJ6: Yes | DK6: ≥ 30 | DM6: 316 Stainless Steel or Mild Steel | DN6: ≥ 30 | DO6: 316 Stainless Steel or Mild Steel | DP6: M12 x 25 | DQ6: Yes | DS6: Yes | DT6: 14 | DU6: ≥ 200 | DV6: ≥ 300 | DW6: ≥ 150 | DZ6: xxxxxxxxxxx | EA6: xxxxxxxxxxx | EB6: xxxxxxxxxxx | EC6: Avocado | EF6: xxxxxxxxxxx | EG6: xxxxxxxxxxx | EH6: xxxxxxxxxxx | EI6: Azure Blue | EJ6: Report Numbers | EK6: Report Numbers | EL6: 30
A7: Three Phase, 25 kVA, 33 kV/420V (Coastal, Ester Oil Only) | C7: xxxxxxxxxxx | D7: xxxxxxxxxxx | E7: xxxxxxxxxxx | F7: xxxxxxxxxxx | G7: xxxxxxxxxxx | H7: xxxxxxxxxxx | I7: Ester Oil | K7: 25 | L7: 33 | M7: 420 | N7: 50 | O7: 3ph | P7: Dyn11 or Yzn11 | R7: 200 | S7: 30 | T7: 70 | U7: 8 | W7: xxxxxxxxxxx | X7: Grade 3 | Y7: > 0.125 | Z7: xxxxxxxxxxx | AA7: xxxxxxxxxxx | AB7: 21 | AC7: 8 | AD7: <5 | AF7: < 5 | AG7: < 5 | AH7: xxxxxxxxxxx | AI7: xxxxxxxxxxx | AK7: Switch | AL7: 0, ±2.5, ±5 | AN7: xxxxxxxxxxx | AO7: xxxxxxxxxxx | AP7: xxxxxxxxxxx | AQ7: ≥ 31 | AR7: Base | AS7: Draw lead | AT7: M12 | AV7: xxxxxxxxxxx | AW7: xxxxxxxxxxx | AX7: xxxxxxxxxxx | AY7: ≥ 31 | AZ7: Base | BA7: Draw lead | BB7: M12 | BD7: xxxxxxxxxxx | BE7: xxxxxxxxxxx | BF7: xxxxxxxxxxx | BG7: M12 | BH7: Yes | BI7: Yes | BK7: Distribution | BL7: 80500 | BM7: 17500 | BN7: 70 | BO7: 520 | BQ7: 3,0 to 4,5 | BR7: xxxxxxxxxx | BT7: ≤ 48 | BV7: xxxxxxxxxxx | BW7: xxxxxxxxxxx | BY7: xxxxxxxxxxx | BZ7: xxxxxxxxxxx | CB7: Steel or Amporphous | CC7: xxxxxxxxxxx | CD7: xxxxxxxxxxx | CE7: xxxxxxxxxxx | CG7: Sealed | CH7: xxxxxxxxxx | CJ7: ≤ 1 080 | CK7: ≤ 1 500 | CL7: ≤ 1 500 | CM7: ≤ 900 | CN7: xxxxxxxxxxx | CO7: =2*R7 -> 400 | CP7: 100 | CR7: Yes | CS7: Yes | CT7: Yes | CU7: Yes | CV7: Yes | CW7: 400 | CX7: ≤ 400 | CY7: ≤ 450 | CZ7: 22 | DA7: 146 | DC7: Yes | DD7: 400 | DE7: xxxxxxxxxxx | DF7: ≥ 320 | DG7: ≤ 120 | DH7: 22 | DJ7: Yes | DK7: ≥ 30 | DM7: 316 Stainless Steel or Mild Steel | DN7: ≥ 30 | DO7: 316 Stainless Steel or Mild Steel | DP7: M12 x 25 | DQ7: Yes | DS7: Yes | DT7: 14 | DU7: ≥ 200 | DV7: ≥ 400 | DW7: ≥ 150 | DZ7: xxxxxxxxxxx | EA7: xxxxxxxxxxx | EB7: xxxxxxxxxxx | EC7: Avocado | EF7: xxxxxxxxxxx | EG7: xxxxxxxxxxx | EH7: xxxxxxxxxxx | EI7: Azure Blue | EJ7: Report Numbers | EK7: Report Numbers | EL7: 30
A8: Dual-phase, 32 kVA, 11 kV/+242V/-242V (Coastal, Ester Oil Only) | C8: xxxxxxxxxxx | D8: xxxxxxxxxxx | E8: xxxxxxxxxxx | F8: xxxxxxxxxxx | G8: xxxxxxxxxxx | H8: xxxxxxxxxxx | I8: Ester Oil | K8: 32 | L8: 11 | M8: ±242 | N8: 50 | O8: 2ph | P8: N/A | R8: 95 | S8: 30 | T8: 28 | U8: 8 | W8: xxxxxxxxxxx | X8: Grade 3 | Y8: > 0.125 | Z8: xxxxxxxxxxx | AA8: xxxxxxxxxxx | AB8: 21 | AC8: 8 | AD8: <5 | AF8: < 5 | AG8: < 5 | AH8: xxxxxxxxxxx | AI8: xxxxxxxxxxx | AK8: Switch | AL8: 0, ±2.5, ±5 | AN8: xxxxxxxxxxx | AO8: xxxxxxxxxxx | AP8: xxxxxxxxxxx | AQ8: ≥ 31 | AR8: Base | AS8: Draw lead | AT8: M12 | AV8: xxxxxxxxxxx | AW8: xxxxxxxxxxx | AX8: xxxxxxxxxxx | AY8: ≥ 31 | AZ8: Base | BA8: Draw lead | BB8: M12 | BD8: xxxxxxxxxxx | BE8: xxxxxxxxxxx | BF8: xxxxxxxxxxx | BG8: M12 | BH8: Yes | BI8: Yes | BK8: Distribution | BL8: 80500 | BM8: 17500 | BN8: 76 | BO8: 540 | BQ8: 3,0 to 4,5 | BR8: xxxxxxxxxx | BT8: ≤ 48 | BV8: xxxxxxxxxxx | BW8: xxxxxxxxxxx | BY8: xxxxxxxxxxx | BZ8: xxxxxxxxxxx | CB8: Steel or Amporphous | CC8: xxxxxxxxxxx | CD8: xxxxxxxxxxx | CE8: xxxxxxxxxxx | CG8: Sealed | CH8: xxxxxxxxxx | CJ8: ≤ 1 080 | CK8: ≤ 1 500 | CL8: ≤ 1 500 | CM8: ≤ 900 | CN8: xxxxxxxxxxx | CO8: =2*R8 -> 190 | CP8: 100 | CR8: Yes | CS8: Yes | CT8: Yes | CU8: Yes | CV8: Yes | CW8: 400 | CX8: ≤ 400 | CY8: ≤ 450 | CZ8: 22 | DA8: 146 | DC8: No | DD8: 400 | DE8: xxxxxxxxxxx | DF8: ≥ 320 | DG8: ≤ 120 | DH8: 22 | DJ8: Yes | DK8: ≥ 30 | DM8: 316 Stainless Steel or Mild Steel | DN8: ≥ 30 | DO8: 316 Stainless Steel or Mild Steel | DP8: M12 x 25 | DQ8: Yes | DS8: Yes | DT8: 14 | DU8: ≥ 200 | DV8: ≥ 190 | DW8: ≥ 150 | DZ8: xxxxxxxxxxx | EA8: xxxxxxxxxxx | EB8: xxxxxxxxxxx | EC8: Avocado | EF8: xxxxxxxxxxx | EG8: xxxxxxxxxxx | EH8: xxxxxxxxxxx | EI8: Azure Blue | EJ8: Report Numbers | EK8: Report Numbers | EL8: 36
A9: Dual-phase, 32 kVA, 22 kV/+242V/-242V (Coastal, Ester Oil Only) | C9: xxxxxxxxxxx | D9: xxxxxxxxxxx | E9: xxxxxxxxxxx | F9: xxxxxxxxxxx | G9: xxxxxxxxxxx | H9: xxxxxxxxxxx | I9: Ester Oil | K9: 32 | L9: 22 | M9: ±242 | N9: 50 | O9: 2ph | P9: N/A | R9: 150 | S9: 30 | T9: 50 | U9: 8 | W9: xxxxxxxxxxx | X9: Grade 3 | Y9: > 0.125 | Z9: xxxxxxxxxxx | AA9: xxxxxxxxxxx | AB9: 21 | AC9: 8 | AD9: <5 | AF9: < 5 | AG9: < 5 | AH9: xxxxxxxxxxx | AI9: xxxxxxxxxxx | AK9: Switch | AL9: 0, ±2.5, ±5 | AN9: xxxxxxxxxxx | AO9: xxxxxxxxxxx | AP9: xxxxxxxxxxx | AQ9: ≥ 31 | AR9: Base | AS9: Draw lead | AT9: M12 | AV9: xxxxxxxxxxx | AW9: xxxxxxxxxxx | AX9: xxxxxxxxxxx | AY9: ≥ 31 | AZ9: Base | BA9: Draw lead | BB9: M12 | BD9: xxxxxxxxxxx | BE9: xxxxxxxxxxx | BF9: xxxxxxxxxxx | BG9: M12 | BH9: Yes | BI9: Yes | BK9: Distribution | BL9: 80500 | BM9: 17500 | BN9: 76 | BO9: 540 | BQ9: 3,0 to 4,5 | BR9: xxxxxxxxxx | BT9: ≤ 48 | BV9: xxxxxxxxxxx | BW9: xxxxxxxxxxx | BY9: xxxxxxxxxxx | BZ9: xxxxxxxxxxx | CB9: Steel or Amporphous | CC9: xxxxxxxxxxx | CD9: xxxxxxxxxxx | CE9: xxxxxxxxxxx | CG9: Sealed | CH9: xxxxxxxxxx | CJ9: ≤ 1 080 | CK9: ≤ 1 500 | CL9: ≤ 1 500 | CM9: ≤ 900 | CN9: xxxxxxxxxxx | CO9: =2*R9 -> 300 | CP9: 100 | CR9: Yes | CS9: Yes | CT9: Yes | CU9: Yes | CV9: Yes | CW9: 400 | CX9: ≤ 400 | CY9: ≤ 450 | CZ9: 22 | DA9: 146 | DC9: No | DD9: 400 | DE9: xxxxxxxxxxx | DF9: ≥ 320 | DG9: ≤ 120 | DH9: 22 | DJ9: Yes | DK9: ≥ 30 | DM9: 316 Stainless Steel or Mild Steel | DN9: ≥ 30 | DO9: 316 Stainless Steel or Mild Steel | DP9: M12 x 25 | DQ9: Yes | DS9: Yes | DT9: 14 | DU9: ≥ 200 | DV9: ≥ 300 | DW9: ≥ 150 | DZ9: xxxxxxxxxxx | EA9: xxxxxxxxxxx | EB9: xxxxxxxxxxx | EC9: Avocado | EF9: xxxxxxxxxxx | EG9: xxxxxxxxxxx | EH9: xxxxxxxxxxx | EI9: Azure Blue | EJ9: Report Numbers | EK9: Report Numbers | EL9: 36
A10: Dual-phase, 32 kVA, 33 kV/+242V/-242V (Coastal, Ester Oil Only) | C10: xxxxxxxxxxx | D10: xxxxxxxxxxx | E10: xxxxxxxxxxx | F10: xxxxxxxxxxx | G10: xxxxxxxxxxx | H10: xxxxxxxxxxx | I10: Ester Oil | K10: 32 | L10: 33 | M10: ±242 | N10: 50 | O10: 2ph | P10: N/A | R10: 200 | S10: 30 | T10: 70 | U10: 8 | W10: xxxxxxxxxxx | X10: Grade 3 | Y10: > 0.125 | Z10: xxxxxxxxxxx | AA10: xxxxxxxxxxx | AB10: 21 | AC10: 8 | AD10: <5 | AF10: < 5 | AG10: < 5 | AH10: xxxxxxxxxxx | AI10: xxxxxxxxxxx | AK10: Switch | AL10: 0, ±2.5, ±5 | AN10: xxxxxxxxxxx | AO10: xxxxxxxxxxx | AP10: xxxxxxxxxxx | AQ10: ≥ 31 | AR10: Base | AS10: Draw lead | AT10: M12 | AV10: xxxxxxxxxxx | AW10: xxxxxxxxxxx | AX10: xxxxxxxxxxx | AY10: ≥ 31 | AZ10: Base | BA10: Draw lead | BB10: M12 | BD10: xxxxxxxxxxx | BE10: xxxxxxxxxxx | BF10: xxxxxxxxxxx | BG10: M12 | BH10: Yes | BI10: Yes | BK10: Distribution | BL10: 80500 | BM10: 17500 | BN10: 190 | BO10: 630 | BQ10: 3,0 to 4,5 | BR10: xxxxxxxxxx | BT10: ≤ 48 | BV10: xxxxxxxxxxx | BW10: xxxxxxxxxxx | BY10: xxxxxxxxxxx | BZ10: xxxxxxxxxxx | CB10: Steel or Amporphous | CC10: xxxxxxxxxxx | CD10: xxxxxxxxxxx | CE10: xxxxxxxxxxx | CG10: Sealed | CH10: xxxxxxxxxx | CJ10: ≤ 1 080 | CK10: ≤ 1 500 | CL10: ≤ 1 500 | CM10: ≤ 900 | CN10: xxxxxxxxxxx | CO10: =2*R10 -> 400 | CP10: 100 | CR10: Yes | CS10: Yes | CT10: Yes | CU10: Yes | CV10: Yes | CW10: 400 | CX10: ≤ 400 | CY10: ≤ 450 | CZ10: 22 | DA10: 146 | DC10: No | DD10: 400 | DE10: xxxxxxxxxxx | DF10: ≥ 320 | DG10: ≤ 120 | DH10: 22 | DJ10: Yes | DK10: ≥ 30 | DM10: 316 Stainless Steel or Mild Steel | DN10: ≥ 30 | DO10: 316 Stainless Steel or Mild Steel | DP10: M12 x 25 | DQ10: Yes | DS10: Yes | DT10: 14 | DU10: ≥ 200 | DV10: ≥ 400 | DW10: ≥ 150 | DZ10: xxxxxxxxxxx | EA10: xxxxxxxxxxx | EB10: xxxxxxxxxxx | EC10: Avocado | EF10: xxxxxxxxxxx | EG10: xxxxxxxxxxx | EH10: xxxxxxxxxxx | EI10: Azure Blue | EJ10: Report Numbers | EK10: Report Numbers | EL10: 36
A11: Three Phase, 50 kVA, 11 kV/420V (Coastal, Ester Oil Only) | C11: xxxxxxxxxxx | D11: xxxxxxxxxxx | E11: xxxxxxxxxxx | F11: xxxxxxxxxxx | G11: xxxxxxxxxxx | H11: xxxxxxxxxxx | I11: Ester Oil | K11: 50 | L11: 11 | M11: 420 | N11: 50 | O11: 3ph | P11: Dyn11 or Yzn11 | R11: 95 | S11: 30 | T11: 28 | U11: 8 | W11: xxxxxxxxxxx | X11: Grade 3 | Y11: > 0.125 | Z11: xxxxxxxxxxx | AA11: xxxxxxxxxxx | AB11: 21 | AC11: 8 | AD11: <5 | AF11: < 5 | AG11: < 5 | AH11: xxxxxxxxxxx | AI11: xxxxxxxxxxx | AK11: Switch | AL11: 0, ±2.5, ±5 | AN11: xxxxxxxxxxx | AO11: xxxxxxxxxxx | AP11: xxxxxxxxxxx | AQ11: ≥ 31 | AR11: Base | AS11: Draw lead | AT11: M12 | AV11: xxxxxxxxxxx | AW11: xxxxxxxxxxx | AX11: xxxxxxxxxxx | AY11: ≥ 31 | AZ11: Base | BA11: Draw lead | BB11: M12 | BD11: xxxxxxxxxxx | BE11: xxxxxxxxxxx | BF11: xxxxxxxxxxx | BG11: M12 | BH11: Yes | BI11: Yes | BK11: Distribution | BL11: 80500 | BM11: 17500 | BN11: 110 | BO11: 880 | BQ11: 3,0 to 4,5 | BR11: xxxxxxxxxx | BT11: ≤ 48 | BV11: xxxxxxxxxxx | BW11: xxxxxxxxxxx | BY11: xxxxxxxxxxx | BZ11: xxxxxxxxxxx | CB11: Steel or Amporphous | CC11: xxxxxxxxxxx | CD11: xxxxxxxxxxx | CE11: xxxxxxxxxxx | CG11: Sealed | CH11: xxxxxxxxxx | CJ11: ≤ 1 080 | CK11: ≤ 1 500 | CL11: ≤ 1 500 | CM11: ≤ 900 | CN11: xxxxxxxxxxx | CO11: =2*R11 -> 190 | CP11: 100 | CR11: Yes | CS11: Yes | CT11: Yes | CU11: Yes | CV11: Yes | CW11: 400 | CX11: ≤ 400 | CY11: ≤ 450 | CZ11: 22 | DA11: 146 | DC11: Yes | DD11: 400 | DE11: xxxxxxxxxxx | DF11: ≥ 320 | DG11: ≤ 120 | DH11: 22 | DJ11: Yes | DK11: ≥ 30 | DM11: 316 Stainless Steel or Mild Steel | DN11: ≥ 30 | DO11: 316 Stainless Steel or Mild Steel | DP11: M12 x 25 | DQ11: Yes | DS11: Yes | DT11: 14 | DU11: ≥ 200 | DV11: ≥ 190 | DW11: ≥ 150 | DZ11: xxxxxxxxxxx | EA11: xxxxxxxxxxx | EB11: xxxxxxxxxxx | EC11: Avocado | EF11: xxxxxxxxxxx | EG11: xxxxxxxxxxx | EH11: xxxxxxxxxxx | EI11: Azure Blue | EJ11: Report Numbers | EK11: Report Numbers | EL11: 40
A12: Three-phase, 50 kVA, 22 kV/420V (Coastal, Ester Oil Only) | C12: xxxxxxxxxxx | D12: xxxxxxxxxxx | E12: xxxxxxxxxxx | F12: xxxxxxxxxxx | G12: xxxxxxxxxxx | H12: xxxxxxxxxxx | I12: Ester Oil | K12: 50 | L12: 22 | M12: 420 | N12: 50 | O12: 3ph | P12: Dyn11 or Yzn11 | R12: 150 | S12: 30 | T12: 50 | U12: 8 | W12: xxxxxxxxxxx | X12: Grade 3 | Y12: > 0.125 | Z12: xxxxxxxxxxx | AA12: xxxxxxxxxxx | AB12: 21 | AC12: 8 | AD12: <5 | AF12: < 5 | AG12: < 5 | AH12: xxxxxxxxxxx | AI12: xxxxxxxxxxx | AK12: Switch | AL12: 0, ±2.5, ±5 | AN12: xxxxxxxxxxx | AO12: xxxxxxxxxxx | AP12: xxxxxxxxxxx | AQ12: ≥ 31 | AR12: Base | AS12: Draw lead | AT12: M12 | AV12: xxxxxxxxxxx | AW12: xxxxxxxxxxx | AX12: xxxxxxxxxxx | AY12: ≥ 31 | AZ12: Base | BA12: Draw lead | BB12: M12 | BD12: xxxxxxxxxxx | BE12: xxxxxxxxxxx | BF12: xxxxxxxxxxx | BG12: M12 | BH12: Yes | BI12: Yes | BK12: Distribution | BL12: 80500 | BM12: 17500 | BN12: 110 | BO12: 880 | BQ12: 3,0 to 4,5 | BR12: xxxxxxxxxx | BT12: ≤ 48 | BV12: xxxxxxxxxxx | BW12: xxxxxxxxxxx | BY12: xxxxxxxxxxx | BZ12: xxxxxxxxxxx | CB12: Steel or Amporphous | CC12: xxxxxxxxxxx | CD12: xxxxxxxxxxx | CE12: xxxxxxxxxxx | CG12: Sealed | CH12: xxxxxxxxxx | CJ12: ≤ 1 080 | CK12: ≤ 1 500 | CL12: ≤ 1 500 | CM12: ≤ 900 | CN12: xxxxxxxxxxx | CO12: =2*R12 -> 300 | CP12: 100 | CR12: Yes | CS12: Yes | CT12: Yes | CU12: Yes | CV12: Yes | CW12: 400 | CX12: ≤ 400 | CY12: ≤ 450 | CZ12: 22 | DA12: 146 | DC12: Yes | DD12: 400 | DE12: xxxxxxxxxxx | DF12: ≥ 320 | DG12: ≤ 120 | DH12: 22 | DJ12: Yes | DK12: ≥ 30 | DM12: 316 Stainless Steel or Mild Steel | DN12: ≥ 30 | DO12: 316 Stainless Steel or Mild Steel | DP12: M12 x 25 | DQ12: Yes | DS12: Yes | DT12: 14 | DU12: ≥ 200 | DV12: ≥ 300 | DW12: ≥ 150 | DZ12: xxxxxxxxxxx | EA12: xxxxxxxxxxx | EB12: xxxxxxxxxxx | EC12: Avocado | EF12: xxxxxxxxxxx | EG12: xxxxxxxxxxx | EH12: xxxxxxxxxxx | EI12: Azure Blue | EJ12: Report Numbers | EK12: Report Numbers | EL12: 40
A13: Three Phase, 50 kVA, 33 kV/420V (Coastal, Ester Oil Only) | C13: xxxxxxxxxxx | D13: xxxxxxxxxxx | E13: xxxxxxxxxxx | F13: xxxxxxxxxxx | G13: xxxxxxxxxxx | H13: xxxxxxxxxxx | I13: Ester Oil | K13: 50 | L13: 33 | M13: 420 | N13: 50 | O13: 3ph | P13: Dyn11 or Yzn11 | R13: 200 | S13: 30 | T13: 70 | U13: 8 | W13: xxxxxxxxxxx | X13: Grade 3 | Y13: > 0.125 | Z13: xxxxxxxxxxx | AA13: xxxxxxxxxxx | AB13: 21 | AC13: 8 | AD13: <5 | AF13: < 5 | AG13: < 5 | AH13: xxxxxxxxxxx | AI13: xxxxxxxxxxx | AK13: Switch | AL13: 0, ±2.5, ±5 | AN13: xxxxxxxxxxx | AO13: xxxxxxxxxxx | AP13: xxxxxxxxxxx | AQ13: ≥ 31 | AR13: Base | AS13: Draw lead | AT13: M12 | AV13: xxxxxxxxxxx | AW13: xxxxxxxxxxx | AX13: xxxxxxxxxxx | AY13: ≥ 31 | AZ13: Base | BA13: Draw lead | BB13: M12 | BD13: xxxxxxxxxxx | BE13: xxxxxxxxxxx | BF13: xxxxxxxxxxx | BG13: M12 | BH13: Yes | BI13: Yes | BK13: Distribution | BL13: 80500 | BM13: 17500 | BN13: 110 | BO13: 880 | BQ13: 3,0 to 4,5 | BR13: xxxxxxxxxx | BT13: ≤ 48 | BV13: xxxxxxxxxxx | BW13: xxxxxxxxxxx | BY13: xxxxxxxxxxx | BZ13: xxxxxxxxxxx | CB13: Steel or Amporphous | CC13: xxxxxxxxxxx | CD13: xxxxxxxxxxx | CE13: xxxxxxxxxxx | CG13: Sealed | CH13: xxxxxxxxxx | CJ13: ≤ 1 080 | CK13: ≤ 1 500 | CL13: ≤ 1 500 | CM13: ≤ 900 | CN13: xxxxxxxxxxx | CO13: =2*R13 -> 400 | CP13: 100 | CR13: Yes | CS13: Yes | CT13: Yes | CU13: Yes | CV13: Yes | CW13: 400 | CX13: ≤ 400 | CY13: ≤ 450 | CZ13: 22 | DA13: 146 | DC13: Yes | DD13: 400 | DE13: xxxxxxxxxxx | DF13: ≥ 320 | DG13: ≤ 120 | DH13: 22 | DJ13: Yes | DK13: ≥ 30 | DM13: 316 Stainless Steel or Mild Steel | DN13: ≥ 30 | DO13: 316 Stainless Steel or Mild Steel | DP13: M12 x 25 | DQ13: Yes | DS13: Yes | DT13: 14 | DU13: ≥ 200 | DV13: ≥ 400 | DW13: ≥ 150 | DZ13: xxxxxxxxxxx | EA13: xxxxxxxxxxx | EB13: xxxxxxxxxxx | EC13: Avocado | EF13: xxxxxxxxxxx | EG13: xxxxxxxxxxx | EH13: xxxxxxxxxxx | EI13: Azure Blue | EJ13: Report Numbers | EK13: Report Numbers | EL13: 40
A14: Dual-phase, 64 kVA, 11 kV/+242V/-242V (Coastal, Ester Oil Only) | C14: xxxxxxxxxxx | D14: xxxxxxxxxxx | E14: xxxxxxxxxxx | F14: xxxxxxxxxxx | G14: xxxxxxxxxxx | H14: xxxxxxxxxxx | I14: Ester Oil | K14: 64 | L14: 11 | M14: ±242 | N14: 50 | O14: 2ph | P14: N/A | R14: 95 | S14: 30 | T14: 28 | U14: 8 | W14: xxxxxxxxxxx | X14: Grade 3 | Y14: > 0.125 | Z14: xxxxxxxxxxx | AA14: xxxxxxxxxxx | AB14: 21 | AC14: 8 | AD14: <5 | AF14: < 5 | AG14: < 5 | AH14: xxxxxxxxxxx | AI14: xxxxxxxxxxx | AK14: Switch | AL14: 0, ±2.5, ±5 | AN14: xxxxxxxxxxx | AO14: xxxxxxxxxxx | AP14: xxxxxxxxxxx | AQ14: ≥ 31 | AR14: Base | AS14: Draw lead | AT14: M12 | AV14: xxxxxxxxxxx | AW14: xxxxxxxxxxx | AX14: xxxxxxxxxxx | AY14: ≥ 31 | AZ14: Base | BA14: Draw lead | BB14: M12 | BD14: xxxxxxxxxxx | BE14: xxxxxxxxxxx | BF14: xxxxxxxxxxx | BG14: M12 | BH14: Yes | BI14: Yes | BK14: Distribution | BL14: 80500 | BM14: 17500 | BN14: 119 | BO14: 910 | BQ14: 3,0 to 4,5 | BR14: xxxxxxxxxx | BT14: ≤ 48 | BV14: xxxxxxxxxxx | BW14: xxxxxxxxxxx | BY14: xxxxxxxxxxx | BZ14: xxxxxxxxxxx | CB14: Steel or Amporphous | CC14: xxxxxxxxxxx | CD14: xxxxxxxxxxx | CE14: xxxxxxxxxxx | CG14: Sealed | CH14: xxxxxxxxxx | CJ14: ≤ 1 080 | CK14: ≤ 1 500 | CL14: ≤ 1 500 | CM14: ≤ 900 | CN14: xxxxxxxxxxx | CO14: =2*R14 -> 190 | CP14: 100 | CR14: Yes | CS14: Yes | CT14: Yes | CU14: Yes | CV14: Yes | CW14: 400 | CX14: ≤ 400 | CY14: ≤ 450 | CZ14: 22 | DA14: 146 | DC14: No | DD14: 400 | DE14: xxxxxxxxxxx | DF14: ≥ 320 | DG14: ≤ 120 | DH14: 22 | DJ14: Yes | DK14: ≥ 30 | DM14: 316 Stainless Steel or Mild Steel | DN14: ≥ 30 | DO14: 316 Stainless Steel or Mild Steel | DP14: M12 x 25 | DQ14: Yes | DS14: Yes | DT14: 14 | DU14: ≥ 200 | DV14: ≥ 190 | DW14: ≥ 150 | DZ14: xxxxxxxxxxx | EA14: xxxxxxxxxxx | EB14: xxxxxxxxxxx | EC14: Avocado | EF14: xxxxxxxxxxx | EG14: xxxxxxxxxxx | EH14: xxxxxxxxxxx | EI14: Azure Blue | EJ14: Report Numbers | EK14: Report Numbers | EL14: 57
A15: Dual-phase, 64 kVA, 22 kV/+242V/-242V (Coastal, Ester Oil Only) | C15: xxxxxxxxxxx | D15: xxxxxxxxxxx | E15: xxxxxxxxxxx | F15: xxxxxxxxxxx | G15: xxxxxxxxxxx | H15: xxxxxxxxxxx | I15: Ester Oil | K15: 64 | L15: 22 | M15: ±242 | N15: 50 | O15: 2ph | P15: N/A | R15: 150 | S15: 30 | T15: 50 | U15: 8 | W15: xxxxxxxxxxx | X15: Grade 3 | Y15: > 0.125 | Z15: xxxxxxxxxxx | AA15: xxxxxxxxxxx | AB15: 21 | AC15: 8 | AD15: <5 | AF15: < 5 | AG15: < 5 | AH15: xxxxxxxxxxx | AI15: xxxxxxxxxxx | AK15: Switch | AL15: 0, ±2.5, ±5 | AN15: xxxxxxxxxxx | AO15: xxxxxxxxxxx | AP15: xxxxxxxxxxx | AQ15: ≥ 31 | AR15: Base | AS15: Draw lead | AT15: M12 | AV15: xxxxxxxxxxx | AW15: xxxxxxxxxxx | AX15: xxxxxxxxxxx | AY15: ≥ 31 | AZ15: Base | BA15: Draw lead | BB15: M12 | BD15: xxxxxxxxxxx | BE15: xxxxxxxxxxx | BF15: xxxxxxxxxxx | BG15: M12 | BH15: Yes | BI15: Yes | BK15: Distribution | BL15: 80500 | BM15: 17500 | BN15: 119 | BO15: 910 | BQ15: 3,0 to 4,5 | BR15: xxxxxxxxxx | BT15: ≤ 48 | BV15: xxxxxxxxxxx | BW15: xxxxxxxxxxx | BY15: xxxxxxxxxxx | BZ15: xxxxxxxxxxx | CB15: Steel or Amporphous | CC15: xxxxxxxxxxx | CD15: xxxxxxxxxxx | CE15: xxxxxxxxxxx | CG15: Sealed | CH15: xxxxxxxxxx | CJ15: ≤ 1 080 | CK15: ≤ 1 500 | CL15: ≤ 1 500 | CM15: ≤ 900 | CN15: xxxxxxxxxxx | CO15: =2*R15 -> 300 | CP15: 100 | CR15: Yes | CS15: Yes | CT15: Yes | CU15: Yes | CV15: Yes | CW15: 400 | CX15: ≤ 400 | CY15: ≤ 450 | CZ15: 22 | DA15: 146 | DC15: No | DD15: 400 | DE15: xxxxxxxxxxx | DF15: ≥ 320 | DG15: ≤ 120 | DH15: 22 | DJ15: Yes | DK15: ≥ 30 | DM15: 316 Stainless Steel or Mild Steel | DN15: ≥ 30 | DO15: 316 Stainless Steel or Mild Steel | DP15: M12 x 25 | DQ15: Yes | DS15: Yes | DT15: 14 | DU15: ≥ 200 | DV15: ≥ 300 | DW15: ≥ 150 | DZ15: xxxxxxxxxxx | EA15: xxxxxxxxxxx | EB15: xxxxxxxxxxx | EC15: Avocado | EF15: xxxxxxxxxxx | EG15: xxxxxxxxxxx | EH15: xxxxxxxxxxx | EI15: Azure Blue | EJ15: Report Numbers | EK15: Report Numbers | EL15: 57
A16: Dual-phase, 64 kVA, 33 kV/+242V/-242V (Coastal, Ester Oil Only) | C16: xxxxxxxxxxx | D16: xxxxxxxxxxx | E16: xxxxxxxxxxx | F16: xxxxxxxxxxx | G16: xxxxxxxxxxx | H16: xxxxxxxxxxx | I16: Ester Oil | K16: 64 | L16: 33 | M16: ±242 | N16: 50 | O16: 2ph | P16: N/A | R16: 200 | S16: 30 | T16: 70 | U16: 8 | W16: xxxxxxxxxxx | X16: Grade 3 | Y16: > 0.125 | Z16: xxxxxxxxxxx | AA16: xxxxxxxxxxx | AB16: 21 | AC16: 8 | AD16: <5 | AF16: < 5 | AG16: < 5 | AH16: xxxxxxxxxxx | AI16: xxxxxxxxxxx | AK16: Switch | AL16: 0, ±2.5, ±5 | AN16: xxxxxxxxxxx | AO16: xxxxxxxxxxx | AP16: xxxxxxxxxxx | AQ16: ≥ 31 | AR16: Base | AS16: Draw lead | AT16: M12 | AV16: xxxxxxxxxxx | AW16: xxxxxxxxxxx | AX16: xxxxxxxxxxx | AY16: ≥ 31 | AZ16: Base | BA16: Draw lead | BB16: M12 | BD16: xxxxxxxxxxx | BE16: xxxxxxxxxxx | BF16: xxxxxxxxxxx | BG16: M12 | BH16: Yes | BI16: Yes | BK16: Distribution | BL16: 80500 | BM16: 17500 | BN16: 290 | BO16: 1200 | BQ16: 3,0 to 4,5 | BR16: xxxxxxxxxx | BT16: ≤ 48 | BV16: xxxxxxxxxxx | BW16: xxxxxxxxxxx | BY16: xxxxxxxxxxx | BZ16: xxxxxxxxxxx | CB16: Steel or Amporphous | CC16: xxxxxxxxxxx | CD16: xxxxxxxxxxx | CE16: xxxxxxxxxxx | CG16: Sealed | CH16: xxxxxxxxxx | CJ16: ≤ 1 080 | CK16: ≤ 1 500 | CL16: ≤ 1 500 | CM16: ≤ 900 | CN16: xxxxxxxxxxx | CO16: =2*R16 -> 400 | CP16: 100 | CR16: Yes | CS16: Yes | CT16: Yes | CU16: Yes | CV16: Yes | CW16: 400 | CX16: ≤ 400 | CY16: ≤ 450 | CZ16: 22 | DA16: 146 | DC16: No | DD16: 400 | DE16: xxxxxxxxxxx | DF16: ≥ 320 | DG16: ≤ 120 | DH16: 22 | DJ16: Yes | DK16: ≥ 30 | DM16: 316 Stainless Steel or Mild Steel | DN16: ≥ 30 | DO16: 316 Stainless Steel or Mild Steel | DP16: M12 x 25 | DQ16: Yes | DS16: Yes | DT16: 14 | DU16: ≥ 200 | DV16: ≥ 400 | DW16: ≥ 150 | DZ16: xxxxxxxxxxx | EA16: xxxxxxxxxxx | EB16: xxxxxxxxxxx | EC16: Avocado | EF16: xxxxxxxxxxx | EG16: xxxxxxxxxxx | EH16: xxxxxxxxxxx | EI16: Azure Blue | EJ16: Report Numbers | EK16: Report Numbers | EL16: 57
A17: Three Phase, 100 kVA, 11 kV/420V (Coastal, Ester Oil Only) | C17: xxxxxxxxxxx | D17: xxxxxxxxxxx | E17: xxxxxxxxxxx | F17: xxxxxxxxxxx | G17: xxxxxxxxxxx | H17: xxxxxxxxxxx | I17: Ester Oil | K17: 100 | L17: 11 | M17: 420 | N17: 50 | O17: 3ph | P17: Dyn11 or Yzn11 | R17: 95 | S17: 30 | T17: 28 | U17: 8 | W17: xxxxxxxxxxx | X17: Grade 3 | Y17: > 0.125 | Z17: xxxxxxxxxxx | AA17: xxxxxxxxxxx | AB17: 21 | AC17: 8 | AD17: <5 | AF17: < 5 | AG17: < 5 | AH17: xxxxxxxxxxx | AI17: xxxxxxxxxxx | AK17: Switch | AL17: 0, ±2.5, ±5 | AN17: xxxxxxxxxxx | AO17: xxxxxxxxxxx | AP17: xxxxxxxxxxx | AQ17: ≥ 31 | AR17: Base | AS17: Draw lead | AT17: M12 | AV17: xxxxxxxxxxx | AW17: xxxxxxxxxxx | AX17: xxxxxxxxxxx | AY17: ≥ 31 | AZ17: Base | BA17: Draw lead | BB17: M12 | BD17: xxxxxxxxxxx | BE17: xxxxxxxxxxx | BF17: xxxxxxxxxxx | BG17: M12 | BH17: Yes | BI17: Yes | BK17: Distribution | BL17: 80500 | BM17: 17500 | BN17: 190 | BO17: 1500 | BQ17: 3,0 to 4,5 | BR17: xxxxxxxxxx | BT17: ≤ 48 | BV17: xxxxxxxxxxx | BW17: xxxxxxxxxxx | BY17: xxxxxxxxxxx | BZ17: xxxxxxxxxxx | CB17: Steel or Amporphous | CC17: xxxxxxxxxxx | CD17: xxxxxxxxxxx | CE17: xxxxxxxxxxx | CG17: Sealed | CH17: xxxxxxxxxx | CJ17: ≤ 1 080 | CK17: ≤ 1 500 | CL17: ≤ 1 500 | CM17: ≤ 900 | CN17: xxxxxxxxxxx | CO17: =2*R17 -> 190 | CP17: 100 | CR17: Yes | CS17: Yes | CT17: Yes | CU17: Yes | CV17: Yes | CW17: 400 | CX17: ≤ 400 | CY17: ≤ 450 | CZ17: 22 | DA17: 146 | DC17: Yes | DD17: 400 | DE17: xxxxxxxxxxx | DF17: ≥ 320 | DG17: ≤ 120 | DH17: 22 | DJ17: Yes | DK17: ≥ 30 | DM17: 316 Stainless Steel or Mild Steel | DN17: ≥ 30 | DO17: 316 Stainless Steel or Mild Steel | DP17: M12 x 25 | DQ17: Yes | DS17: Yes | DT17: 14 | DU17: ≥ 200 | DV17: ≥ 190 | DW17: ≥ 150 | DZ17: xxxxxxxxxxx | EA17: xxxxxxxxxxx | EB17: xxxxxxxxxxx | EC17: Avocado | EF17: xxxxxxxxxxx | EG17: xxxxxxxxxxx | EH17: xxxxxxxxxxx | EI17: Azure Blue | EJ17: Report Numbers | EK17: Report Numbers | EL17: 70
A18: Three-phase, 100 kVA, 22 kV/420V (Coastal, Ester Oil Only) | C18: xxxxxxxxxxx | D18: xxxxxxxxxxx | E18: xxxxxxxxxxx | F18: xxxxxxxxxxx | G18: xxxxxxxxxxx | H18: xxxxxxxxxxx | I18: Ester Oil | K18: 100 | L18: 22 | M18: 420 | N18: 50 | O18: 3ph | P18: Dyn11 or Yzn11 | R18: 150 | S18: 30 | T18: 50 | U18: 8 | W18: xxxxxxxxxxx | X18: Grade 3 | Y18: > 0.125 | Z18: xxxxxxxxxxx | AA18: xxxxxxxxxxx | AB18: 21 | AC18: 8 | AD18: <5 | AF18: < 5 | AG18: < 5 | AH18: xxxxxxxxxxx | AI18: xxxxxxxxxxx | AK18: Switch | AL18: 0, ±2.5, ±5 | AN18: xxxxxxxxxxx | AO18: xxxxxxxxxxx | AP18: xxxxxxxxxxx | AQ18: ≥ 31 | AR18: Base | AS18: Draw lead | AT18: M12 | AV18: xxxxxxxxxxx | AW18: xxxxxxxxxxx | AX18: xxxxxxxxxxx | AY18: ≥ 31 | AZ18: Base | BA18: Draw lead | BB18: M12 | BD18: xxxxxxxxxxx | BE18: xxxxxxxxxxx | BF18: xxxxxxxxxxx | BG18: M12 | BH18: Yes | BI18: Yes | BK18: Distribution | BL18: 80500 | BM18: 17500 | BN18: 190 | BO18: 1500 | BQ18: 3,0 to 4,5 | BR18: xxxxxxxxxx | BT18: ≤ 48 | BV18: xxxxxxxxxxx | BW18: xxxxxxxxxxx | BY18: xxxxxxxxxxx | BZ18: xxxxxxxxxxx | CB18: Steel or Amporphous | CC18: xxxxxxxxxxx | CD18: xxxxxxxxxxx | CE18: xxxxxxxxxxx | CG18: Sealed | CH18: xxxxxxxxxx | CJ18: ≤ 1 080 | CK18: ≤ 1 500 | CL18: ≤ 1 500 | CM18: ≤ 900 | CN18: xxxxxxxxxxx | CO18: =2*R18 -> 300 | CP18: 100 | CR18: Yes | CS18: Yes | CT18: Yes | CU18: Yes | CV18: Yes | CW18: 400 | CX18: ≤ 400 | CY18: ≤ 450 | CZ18: 22 | DA18: 146 | DC18: Yes | DD18: 400 | DE18: xxxxxxxxxxx | DF18: ≥ 320 | DG18: ≤ 120 | DH18: 22 | DJ18: Yes | DK18: ≥ 30 | DM18: 316 Stainless Steel or Mild Steel | DN18: ≥ 30 | DO18: 316 Stainless Steel or Mild Steel | DP18: M12 x 25 | DQ18: Yes | DS18: Yes | DT18: 14 | DU18: ≥ 200 | DV18: ≥ 300 | DW18: ≥ 150 | DZ18: xxxxxxxxxxx | EA18: xxxxxxxxxxx | EB18: xxxxxxxxxxx | EC18: Avocado | EF18: xxxxxxxxxxx | EG18: xxxxxxxxxxx | EH18: xxxxxxxxxxx | EI18: Azure Blue | EJ18: Report Numbers | EK18: Report Numbers | EL18: 70
A19: Three Phase, 100 kVA, 33 kV/420V (Coastal, Ester Oil Only) | C19: xxxxxxxxxxx | D19: xxxxxxxxxxx | E19: xxxxxxxxxxx | F19: xxxxxxxxxxx | G19: xxxxxxxxxxx | H19: xxxxxxxxxxx | I19: Ester Oil | K19: 100 | L19: 33 | M19: 420 | N19: 50 | O19: 3ph | P19: Dyn11 or Yzn11 | R19: 200 | S19: 30 | T19: 70 | U19: 8 | W19: xxxxxxxxxxx | X19: Grade 3 | Y19: > 0.125 | Z19: xxxxxxxxxxx | AA19: xxxxxxxxxxx | AB19: 21 | AC19: 8 | AD19: <5 | AF19: < 5 | AG19: < 5 | AH19: xxxxxxxxxxx | AI19: xxxxxxxxxxx | AK19: Switch | AL19: 0, ±2.5, ±5 | AN19: xxxxxxxxxxx | AO19: xxxxxxxxxxx | AP19: xxxxxxxxxxx | AQ19: ≥ 31 | AR19: Base | AS19: Draw lead | AT19: M12 | AV19: xxxxxxxxxxx | AW19: xxxxxxxxxxx | AX19: xxxxxxxxxxx | AY19: ≥ 31 | AZ19: Base | BA19: Draw lead | BB19: M12 | BD19: xxxxxxxxxxx | BE19: xxxxxxxxxxx | BF19: xxxxxxxxxxx | BG19: M12 | BH19: Yes | BI19: Yes | BK19: Distribution | BL19: 80500 | BM19: 17500 | BN19: 190 | BO19: 1500 | BQ19: 3,0 to 4,5 | BR19: xxxxxxxxxx | BT19: ≤ 48 | BV19: xxxxxxxxxxx | BW19: xxxxxxxxxxx | BY19: xxxxxxxxxxx | BZ19: xxxxxxxxxxx | CB19: Steel or Amporphous | CC19: xxxxxxxxxxx | CD19: xxxxxxxxxxx | CE19: xxxxxxxxxxx | CG19: Sealed | CH19: xxxxxxxxxx | CJ19: ≤ 1 080 | CK19: ≤ 1 500 | CL19: ≤ 1 500 | CM19: ≤ 900 | CN19: xxxxxxxxxxx | CO19: =2*R19 -> 400 | CP19: 100 | CR19: Yes | CS19: Yes | CT19: Yes | CU19: Yes | CV19: Yes | CW19: 400 | CX19: ≤ 400 | CY19: ≤ 450 | CZ19: 22 | DA19: 146 | DC19: Yes | DD19: 400 | DE19: xxxxxxxxxxx | DF19: ≥ 320 | DG19: ≤ 120 | DH19: 22 | DJ19: Yes | DK19: ≥ 30 | DM19: 316 Stainless Steel or Mild Steel | DN19: ≥ 30 | DO19: 316 Stainless Steel or Mild Steel | DP19: M12 x 25 | DQ19: Yes | DS19: Yes | DT19: 14 | DU19: ≥ 200 | DV19: ≥ 400 | DW19: ≥ 150 | DZ19: xxxxxxxxxxx | EA19: xxxxxxxxxxx | EB19: xxxxxxxxxxx | EC19: Avocado | EF19: xxxxxxxxxxx | EG19: xxxxxxxxxxx | EH19: xxxxxxxxxxx | EI19: Azure Blue | EJ19: Report Numbers | EK19: Report Numbers | EL19: 70
A20: Three Phase, 200 kVA, 11 kV/420V (Coastal, Ester Oil Only) | C20: xxxxxxxxxxx | D20: xxxxxxxxxxx | E20: xxxxxxxxxxx | F20: xxxxxxxxxxx | G20: xxxxxxxxxxx | H20: xxxxxxxxxxx | I20: Ester Oil | K20: 200 | L20: 11 | M20: 420 | N20: 50 | O20: 3ph | P20: Dyn11 or Yzn11 | R20: 95 | S20: 30 | T20: 28 | U20: 8 | W20: xxxxxxxxxxx | X20: Grade 3 | Y20: > 0.125 | Z20: xxxxxxxxxxx | AA20: xxxxxxxxxxx | AB20: 21 | AC20: 8 | AD20: <5 | AF20: < 5 | AG20: < 5 | AH20: xxxxxxxxxxx | AI20: xxxxxxxxxxx | AK20: Switch | AL20: 0, ±2.5, ±5 | AN20: xxxxxxxxxxx | AO20: xxxxxxxxxxx | AP20: xxxxxxxxxxx | AQ20: ≥ 31 | AR20: Base | AS20: Draw lead | AT20: M12 | AV20: xxxxxxxxxxx | AW20: xxxxxxxxxxx | AX20: xxxxxxxxxxx | AY20: ≥ 31 | AZ20: Base | BA20: Draw lead | BB20: M12 | BD20: xxxxxxxxxxx | BE20: xxxxxxxxxxx | BF20: xxxxxxxxxxx | BG20: M12 | BH20: Yes | BI20: Yes | BK20: Distribution | BL20: 80500 | BM20: 17500 | BN20: 320 | BO20: 2600 | BQ20: 4,0 to 5,0 | BR20: xxxxxxxxxx | BT20: ≤ 48 | BV20: xxxxxxxxxxx | BW20: xxxxxxxxxxx | BY20: xxxxxxxxxxx | BZ20: xxxxxxxxxxx | CB20: Steel or Amporphous | CC20: xxxxxxxxxxx | CD20: xxxxxxxxxxx | CE20: xxxxxxxxxxx | CG20: Sealed | CH20: xxxxxxxxxx | CJ20: xxxxxxxxxxx | CK20: ≤ 1 500 | CL20: ≤ 2 000 | CM20: ≤ 1 700 | CN20: xxxxxxxxxxx | CO20: =2*R20 -> 190 | CP20: 100 | CR20: No | CS20: N/A | CT20: N/A | CU20: N/A | CV20: N/A | CW20: N/A | CX20: N/A | CY20: N/A | CZ20: N/A | DA20: N/A | DC20: Yes | DD20: 400 | DE20: xxxxxxxxxxx | DF20: ≥ 320 | DG20: ≤ 120 | DH20: 22 | DJ20: Yes | DK20: ≥ 30 | DM20: 316 Stainless Steel or Mild Steel | DN20: ≥ 30 | DO20: 316 Stainless Steel or Mild Steel | DP20: M12 x 25 | DQ20: Yes | DS20: Yes | DT20: 14 | DU20: ≥ 200 | DV20: ≥ 190 | DW20: ≥ 150 | DZ20: xxxxxxxxxxx | EA20: xxxxxxxxxxx | EB20: xxxxxxxxxxx | EC20: Avocado | EF20: xxxxxxxxxxx | EG20: xxxxxxxxxxx | EH20: xxxxxxxxxxx | EI20: Azure Blue | EJ20: Report Numbers | EK20: Report Numbers | EL20: 120
A21: Three-phase, 200 kVA, 22 kV/420V (Coastal, Ester Oil Only) | C21: xxxxxxxxxxx | D21: xxxxxxxxxxx | E21: xxxxxxxxxxx | F21: xxxxxxxxxxx | G21: xxxxxxxxxxx | H21: xxxxxxxxxxx | I21: Ester Oil | K21: 200 | L21: 22 | M21: 420 | N21: 50 | O21: 3ph | P21: Dyn11 or Yzn11 | R21: 150 | S21: 30 | T21: 50 | U21: 8 | W21: xxxxxxxxxxx | X21: Grade 3 | Y21: > 0.125 | Z21: xxxxxxxxxxx | AA21: xxxxxxxxxxx | AB21: 21 | AC21: 8 | AD21: <5 | AF21: < 5 | AG21: < 5 | AH21: xxxxxxxxxxx | AI21: xxxxxxxxxxx | AK21: Switch | AL21: 0, ±2.5, ±5 | AN21: xxxxxxxxxxx | AO21: xxxxxxxxxxx | AP21: xxxxxxxxxxx | AQ21: ≥ 31 | AR21: Base | AS21: Draw lead | AT21: M12 | AV21: xxxxxxxxxxx | AW21: xxxxxxxxxxx | AX21: xxxxxxxxxxx | AY21: ≥ 31 | AZ21: Base | BA21: Draw lead | BB21: M12 | BD21: xxxxxxxxxxx | BE21: xxxxxxxxxxx | BF21: xxxxxxxxxxx | BG21: M12 | BH21: Yes | BI21: Yes | BK21: Distribution | BL21: 80500 | BM21: 17500 | BN21: 320 | BO21: 2600 | BQ21: 4,0 to 5,0 | BR21: xxxxxxxxxx | BT21: ≤ 48 | BV21: xxxxxxxxxxx | BW21: xxxxxxxxxxx | BY21: xxxxxxxxxxx | BZ21: xxxxxxxxxxx | CB21: Steel or Amporphous | CC21: xxxxxxxxxxx | CD21: xxxxxxxxxxx | CE21: xxxxxxxxxxx | CG21: Sealed | CH21: xxxxxxxxxx | CJ21: xxxxxxxxxxx | CK21: ≤ 1 500 | CL21: ≤ 2000 | CM21: ≤ 1700 | CN21: xxxxxxxxxxx | CO21: =2*R21 -> 300 | CP21: 100 | CR21: No | CS21: N/A | CT21: N/A | CU21: N/A | CV21: N/A | CW21: N/A | CX21: N/A | CY21: N/A | CZ21: N/A | DA21: N/A | DC21: Yes | DD21: 400 | DE21: xxxxxxxxxxx | DF21: ≥ 320 | DG21: ≤ 120 | DH21: 22 | DJ21: Yes | DK21: ≥ 30 | DM21: 316 Stainless Steel or Mild Steel | DN21: ≥ 30 | DO21: 316 Stainless Steel or Mild Steel | DP21: M12 x 25 | DQ21: Yes | DS21: Yes | DT21: 14 | DU21: ≥ 200 | DV21: ≥ 300 | DW21: ≥ 150 | DZ21: xxxxxxxxxxx | EA21: xxxxxxxxxxx | EB21: xxxxxxxxxxx | EC21: Avocado | EF21: xxxxxxxxxxx | EG21: xxxxxxxxxxx | EH21: xxxxxxxxxxx | EI21: Azure Blue | EJ21: Report Numbers | EK21: Report Numbers | EL21: 120
A22: Three Phase, 200 kVA, 33 kV/420V (Coastal, Ester Oil Only) | C22: xxxxxxxxxxx | D22: xxxxxxxxxxx | E22: xxxxxxxxxxx | F22: xxxxxxxxxxx | G22: xxxxxxxxxxx | H22: xxxxxxxxxxx | I22: Ester Oil | K22: 200 | L22: 33 | M22: 420 | N22: 50 | O22: 3ph | P22: Dyn11 or Yzn11 | R22: 200 | S22: 30 | T22: 70 | U22: 8 | W22: xxxxxxxxxxx | X22: Grade 3 | Y22: > 0.125 | Z22: xxxxxxxxxxx | AA22: xxxxxxxxxxx | AB22: 21 | AC22: 8 | AD22: <5 | AF22: < 5 | AG22: < 5 | AH22: xxxxxxxxxxx | AI22: xxxxxxxxxxx | AK22: Switch | AL22: 0, ±2.5, ±5 | AN22: xxxxxxxxxxx | AO22: xxxxxxxxxxx | AP22: xxxxxxxxxxx | AQ22: ≥ 31 | AR22: Base | AS22: Draw lead | AT22: M12 | AV22: xxxxxxxxxxx | AW22: xxxxxxxxxxx | AX22: xxxxxxxxxxx | AY22: ≥ 31 | AZ22: Base | BA22: Draw lead | BB22: M12 | BD22: xxxxxxxxxxx | BE22: xxxxxxxxxxx | BF22: xxxxxxxxxxx | BG22: M12 | BH22: Yes | BI22: Yes | BK22: Distribution | BL22: 80500 | BM22: 17500 | BN22: 320 | BO22: 2600 | BQ22: 4,0 to 5,0 | BR22: xxxxxxxxxx | BT22: ≤ 48 | BV22: xxxxxxxxxxx | BW22: xxxxxxxxxxx | BY22: xxxxxxxxxxx | BZ22: xxxxxxxxxxx | CB22: Steel or Amporphous | CC22: xxxxxxxxxxx | CD22: xxxxxxxxxxx | CE22: xxxxxxxxxxx | CG22: Sealed | CH22: xxxxxxxxxx | CJ22: xxxxxxxxxxx | CK22: ≤ 1 500 | CL22: ≤ 2000 | CM22: ≤ 1700 | CN22: xxxxxxxxxxx | CO22: =2*R22 -> 400 | CP22: 100 | CR22: No | CS22: N/A | CT22: N/A | CU22: N/A | CV22: N/A | CW22: N/A | CX22: N/A | CY22: N/A | CZ22: N/A | DA22: N/A | DC22: Yes | DD22: 400 | DE22: xxxxxxxxxxx | DF22: ≥ 320 | DG22: ≤ 120 | DH22: 22 | DJ22: Yes | DK22: ≥ 30 | DM22: 316 Stainless Steel or Mild Steel | DN22: ≥ 30 | DO22: 316 Stainless Steel or Mild Steel | DP22: M12 x 25 | DQ22: Yes | DS22: Yes | DT22: 14 | DU22: ≥ 200 | DV22: ≥ 400 | DW22: ≥ 150 | DZ22: xxxxxxxxxxx | EA22: xxxxxxxxxxx | EB22: xxxxxxxxxxx | EC22: Avocado | EF22: xxxxxxxxxxx | EG22: xxxxxxxxxxx | EH22: xxxxxxxxxxx | EI22: Azure Blue | EJ22: Report Numbers | EK22: Report Numbers | EL22: 120
A23: Three Phase, 315 kVA, 11 kV/420V (Coastal, Ester Oil Only) | C23: xxxxxxxxxxx | D23: xxxxxxxxxxx | E23: xxxxxxxxxxx | F23: xxxxxxxxxxx | G23: xxxxxxxxxxx | H23: xxxxxxxxxxx | I23: Ester Oil | K23: 315 | L23: 11 | M23: 420 | N23: 50 | O23: 3ph | P23: Dyn11 or Yzn11 | R23: 95 | S23: 30 | T23: 28 | U23: 8 | W23: xxxxxxxxxxx | X23: Grade 3 | Y23: > 0.125 | Z23: xxxxxxxxxxx | AA23: xxxxxxxxxxx | AB23: 21 | AC23: 8 | AD23: <5 | AF23: < 5 | AG23: < 5 | AH23: xxxxxxxxxxx | AI23: xxxxxxxxxxx | AK23: Switch | AL23: 0, ±2.5, ±5 | AN23: xxxxxxxxxxx | AO23: xxxxxxxxxxx | AP23: xxxxxxxxxxx | AQ23: ≥ 31 | AR23: Base | AS23: Draw lead | AT23: M12 | AV23: xxxxxxxxxxx | AW23: xxxxxxxxxxx | AX23: xxxxxxxxxxx | AY23: ≥ 31 | AZ23: Base | BA23: Draw lead | BB23: M12 | BD23: xxxxxxxxxxx | BE23: xxxxxxxxxxx | BF23: xxxxxxxxxxx | BG23: M12 | BH23: Yes | BI23: Yes | BK23: Distribution | BL23: 80500 | BM23: 17500 | BN23: 450 | BO23: 3600 | BQ23: 4,0 to 5,0 | BR23: xxxxxxxxxx | BT23: ≤ 50 | BV23: xxxxxxxxxxx | BW23: xxxxxxxxxxx | BY23: xxxxxxxxxxx | BZ23: xxxxxxxxxxx | CB23: Steel or Amporphous | CC23: xxxxxxxxxxx | CD23: xxxxxxxxxxx | CE23: xxxxxxxxxxx | CG23: Sealed | CH23: xxxxxxxxxx | CJ23: ≤ 1 800 | CK23: ≤ 1 500 | CL23: ≤ 2000 | CM23: ≤ 3500 | CN23: xxxxxxxxxxx | CO23: =2*R23 -> 190 | CP23: 100 | CR23: No | CS23: N/A | CT23: N/A | CU23: N/A | CV23: N/A | CW23: N/A | CX23: N/A | CY23: N/A | CZ23: N/A | DA23: N/A | DC23: Yes | DD23: 400 | DE23: xxxxxxxxxxx | DF23: ≥ 320 | DG23: ≤ 120 | DH23: 22 | DJ23: Yes | DK23: ≥ 30 | DM23: 316 Stainless Steel or Mild Steel | DN23: ≥ 30 | DO23: 316 Stainless Steel or Mild Steel | DP23: M12 x 25 | DQ23: Yes | DS23: Yes | DT23: 14 | DU23: ≥ 200 | DV23: ≥ 190 | DW23: ≥ 150 | DZ23: xxxxxxxxxxx | EA23: xxxxxxxxxxx | EB23: xxxxxxxxxxx | EC23: Avocado | EF23: xxxxxxxxxxx | EG23: xxxxxxxxxxx | EH23: xxxxxxxxxxx | EI23: Azure Blue | EJ23: Report Numbers | EK23: Report Numbers | EL23: 170
A24: Three-phase, 315 kVA, 22 kV/420V (Coastal, Ester Oil Only) | C24: xxxxxxxxxxx | D24: xxxxxxxxxxx | E24: xxxxxxxxxxx | F24: xxxxxxxxxxx | G24: xxxxxxxxxxx | H24: xxxxxxxxxxx | I24: Ester Oil | K24: 315 | L24: 22 | M24: 420 | N24: 50 | O24: 3ph | P24: Dyn11 or Yzn11 | R24: 150 | S24: 30 | T24: 50 | U24: 8 | W24: xxxxxxxxxxx | X24: Grade 3 | Y24: > 0.125 | Z24: xxxxxxxxxxx | AA24: xxxxxxxxxxx | AB24: 21 | AC24: 8 | AD24: <5 | AF24: < 5 | AG24: < 5 | AH24: xxxxxxxxxxx | AI24: xxxxxxxxxxx | AK24: Switch | AL24: 0, ±2.5, ±5 | AN24: xxxxxxxxxxx | AO24: xxxxxxxxxxx | AP24: xxxxxxxxxxx | AQ24: ≥ 31 | AR24: Base | AS24: Draw lead | AT24: M12 | AV24: xxxxxxxxxxx | AW24: xxxxxxxxxxx | AX24: xxxxxxxxxxx | AY24: ≥ 31 | AZ24: Base | BA24: Draw lead | BB24: M12 | BD24: xxxxxxxxxxx | BE24: xxxxxxxxxxx | BF24: xxxxxxxxxxx | BG24: M12 | BH24: Yes | BI24: Yes | BK24: Distribution | BL24: 80500 | BM24: 17500 | BN24: 450 | BO24: 3600 | BQ24: 4,0 to 5,0 | BR24: xxxxxxxxxx | BT24: ≤ 50 | BV24: xxxxxxxxxxx | BW24: xxxxxxxxxxx | BY24: xxxxxxxxxxx | BZ24: xxxxxxxxxxx | CB24: Steel or Amporphous | CC24: xxxxxxxxxxx | CD24: xxxxxxxxxxx | CE24: xxxxxxxxxxx | CG24: Sealed | CH24: xxxxxxxxxx | CJ24: ≤ 1 800 | CK24: ≤ 1 500 | CL24: ≤ 2000 | CM24: ≤ 3500 | CN24: xxxxxxxxxxx | CO24: =2*R24 -> 300 | CP24: 100 | CR24: No | CS24: N/A | CT24: N/A | CU24: N/A | CV24: N/A | CW24: N/A | CX24: N/A | CY24: N/A | CZ24: N/A | DA24: N/A | DC24: Yes | DD24: 400 | DE24: xxxxxxxxxxx | DF24: ≥ 320 | DG24: ≤ 120 | DH24: 22 | DJ24: Yes | DK24: ≥ 30 | DM24: 316 Stainless Steel or Mild Steel | DN24: ≥ 30 | DO24: 316 Stainless Steel or Mild Steel | DP24: M12 x 25 | DQ24: Yes | DS24: Yes | DT24: 14 | DU24: ≥ 200 | DV24: ≥ 300 | DW24: ≥ 150 | DZ24: xxxxxxxxxxx | EA24: xxxxxxxxxxx | EB24: xxxxxxxxxxx | EC24: Avocado | EF24: xxxxxxxxxxx | EG24: xxxxxxxxxxx | EH24: xxxxxxxxxxx | EI24: Azure Blue | EJ24: Report Numbers | EK24: Report Numbers | EL24: 170
A25: Three Phase, 315 kVA, 33 kV/420V (Coastal, Ester Oil Only) | C25: xxxxxxxxxxx | D25: xxxxxxxxxxx | E25: xxxxxxxxxxx | F25: xxxxxxxxxxx | G25: xxxxxxxxxxx | H25: xxxxxxxxxxx | I25: Ester Oil | K25: 315 | L25: 33 | M25: 420 | N25: 50 | O25: 3ph | P25: Dyn11 or Yzn11 | R25: 200 | S25: 30 | T25: 70 | U25: 8 | W25: xxxxxxxxxxx | X25: Grade 3 | Y25: > 0.125 | Z25: xxxxxxxxxxx | AA25: xxxxxxxxxxx | AB25: 21 | AC25: 8 | AD25: <5 | AF25: < 5 | AG25: < 5 | AH25: xxxxxxxxxxx | AI25: xxxxxxxxxxx | AK25: Switch | AL25: 0, ±2.5, ±5 | AN25: xxxxxxxxxxx | AO25: xxxxxxxxxxx | AP25: xxxxxxxxxxx | AQ25: ≥ 31 | AR25: Base | AS25: Draw lead | AT25: M12 | AV25: xxxxxxxxxxx | AW25: xxxxxxxxxxx | AX25: xxxxxxxxxxx | AY25: ≥ 31 | AZ25: Base | BA25: Draw lead | BB25: M12 | BD25: xxxxxxxxxxx | BE25: xxxxxxxxxxx | BF25: xxxxxxxxxxx | BG25: M12 | BH25: Yes | BI25: Yes | BK25: Distribution | BL25: 80500 | BM25: 17500 | BN25: 450 | BO25: 3600 | BQ25: 4,0 to 5,0 | BR25: xxxxxxxxxx | BT25: ≤ 50 | BV25: xxxxxxxxxxx | BW25: xxxxxxxxxxx | BY25: xxxxxxxxxxx | BZ25: xxxxxxxxxxx | CB25: Steel or Amporphous | CC25: xxxxxxxxxxx | CD25: xxxxxxxxxxx | CE25: xxxxxxxxxxx | CG25: Sealed | CH25: xxxxxxxxxx | CJ25: ≤ 1 800 | CK25: ≤ 1 500 | CL25: ≤ 2000 | CM25: ≤ 3500 | CN25: xxxxxxxxxxx | CO25: =2*R25 -> 400 | CP25: 100 | CR25: No | CS25: N/A | CT25: N/A | CU25: N/A | CV25: N/A | CW25: N/A | CX25: N/A | CY25: N/A | CZ25: N/A | DA25: N/A | DC25: Yes | DD25: 400 | DE25: xxxxxxxxxxx | DF25: ≥ 320 | DG25: ≤ 120 | DH25: 22 | DJ25: Yes | DK25: ≥ 30 | DM25: 316 Stainless Steel or Mild Steel | DN25: ≥ 30 | DO25: 316 Stainless Steel or Mild Steel | DP25: M12 x 25 | DQ25: Yes | DS25: Yes | DT25: 14 | DU25: ≥ 200 | DV25: ≥ 400 | DW25: ≥ 150 | DZ25: xxxxxxxxxxx | EA25: xxxxxxxxxxx | EB25: xxxxxxxxxxx | EC25: Avocado | EF25: xxxxxxxxxxx | EG25: xxxxxxxxxxx | EH25: xxxxxxxxxxx | EI25: Azure Blue | EJ25: Report Numbers | EK25: Report Numbers | EL25: 170
A26: Three Phase, 500 kVA, 11 kV/420V (Coastal, Ester Oil Only) | C26: xxxxxxxxxxx | D26: xxxxxxxxxxx | E26: xxxxxxxxxxx | F26: xxxxxxxxxxx | G26: xxxxxxxxxxx | H26: xxxxxxxxxxx | I26: Ester Oil | K26: 500 | L26: 11 | M26: 420 | N26: 50 | O26: 3ph | P26: Dyn11 or Yzn11 | R26: 95 | S26: 30 | T26: 28 | U26: 8 | W26: xxxxxxxxxxx | X26: Grade 3 | Y26: > 0.125 | Z26: xxxxxxxxxxx | AA26: xxxxxxxxxxx | AB26: 21 | AC26: 8 | AD26: <5 | AF26: < 5 | AG26: < 5 | AH26: xxxxxxxxxxx | AI26: xxxxxxxxxxx | AK26: Switch | AL26: 0, ±2.5, ±5 | AN26: xxxxxxxxxxx | AO26: xxxxxxxxxxx | AP26: xxxxxxxxxxx | AQ26: ≥ 31 | AR26: Base | AS26: Draw lead | AT26: M12 | AV26: xxxxxxxxxxx | AW26: xxxxxxxxxxx | AX26: xxxxxxxxxxx | AY26: ≥ 31 | AZ26: Base | BA26: Draw lead | BB26: M12 | BD26: xxxxxxxxxxx | BE26: xxxxxxxxxxx | BF26: xxxxxxxxxxx | BG26: M12 | BH26: Yes | BI26: Yes | BK26: Distribution | BL26: 80500 | BM26: 17500 | BN26: 630 | BO26: 5200 | BQ26: 4,0 to 5,0 | BR26: xxxxxxxxxx | BT26: ≤ 52 | BV26: xxxxxxxxxxx | BW26: xxxxxxxxxxx | BY26: xxxxxxxxxxx | BZ26: xxxxxxxxxxx | CB26: Steel or Amporphous | CC26: xxxxxxxxxxx | CD26: xxxxxxxxxxx | CE26: xxxxxxxxxxx | CG26: Sealed | CH26: xxxxxxxxxx | CJ26: ≤ 1 800 | CK26: ≤ 1 500 | CL26: ≤ 2000 | CM26: ≤ 3500 | CN26: xxxxxxxxxxx | CO26: =2*R26 -> 190 | CP26: 100 | CR26: No | CS26: N/A | CT26: N/A | CU26: N/A | CV26: N/A | CW26: N/A | CX26: N/A | CY26: N/A | CZ26: N/A | DA26: N/A | DC26: Yes | DD26: 400 | DE26: xxxxxxxxxxx | DF26: ≥ 320 | DG26: ≤ 120 | DH26: 22 | DJ26: Yes | DK26: ≥ 30 | DM26: 316 Stainless Steel or Mild Steel | DN26: ≥ 30 | DO26: 316 Stainless Steel or Mild Steel | DP26: M12 x 25 | DQ26: Yes | DS26: Yes | DT26: 14 | DU26: ≥ 200 | DV26: ≥ 190 | DW26: ≥ 150 | DZ26: xxxxxxxxxxx | EA26: xxxxxxxxxxx | EB26: xxxxxxxxxxx | EC26: Avocado | EF26: xxxxxxxxxxx | EG26: xxxxxxxxxxx | EH26: xxxxxxxxxxx | EI26: Azure Blue | EJ26: Report Numbers | EK26: Report Numbers | EL26: 230
A27: Three-phase, 500 kVA, 22 kV/420V (Coastal, Ester Oil Only) | C27: xxxxxxxxxxx | D27: xxxxxxxxxxx | E27: xxxxxxxxxxx | F27: xxxxxxxxxxx | G27: xxxxxxxxxxx | H27: xxxxxxxxxxx | I27: Ester Oil | K27: 500 | L27: 22 | M27: 420 | N27: 50 | O27: 3ph | P27: Dyn11 or Yzn11 | R27: 150 | S27: 30 | T27: 50 | U27: 8 | W27: xxxxxxxxxxx | X27: Grade 3 | Y27: > 0.125 | Z27: xxxxxxxxxxx | AA27: xxxxxxxxxxx | AB27: 21 | AC27: 8 | AD27: <5 | AF27: < 5 | AG27: < 5 | AH27: xxxxxxxxxxx | AI27: xxxxxxxxxxx | AK27: Switch | AL27: 0, ±2.5, ±5 | AN27: xxxxxxxxxxx | AO27: xxxxxxxxxxx | AP27: xxxxxxxxxxx | AQ27: ≥ 31 | AR27: Base | AS27: Draw lead | AT27: M12 | AV27: xxxxxxxxxxx | AW27: xxxxxxxxxxx | AX27: xxxxxxxxxxx | AY27: ≥ 31 | AZ27: Base | BA27: Draw lead | BB27: M12 | BD27: xxxxxxxxxxx | BE27: xxxxxxxxxxx | BF27: xxxxxxxxxxx | BG27: M12 | BH27: Yes | BI27: Yes | BK27: Distribution | BL27: 80500 | BM27: 17500 | BN27: 630 | BO27: 5200 | BQ27: 4,0 to 5,0 | BR27: xxxxxxxxxx | BT27: ≤ 52 | BV27: xxxxxxxxxxx | BW27: xxxxxxxxxxx | BY27: xxxxxxxxxxx | BZ27: xxxxxxxxxxx | CB27: Steel or Amporphous | CC27: xxxxxxxxxxx | CD27: xxxxxxxxxxx | CE27: xxxxxxxxxxx | CG27: Sealed | CH27: xxxxxxxxxx | CJ27: ≤ 1 800 | CK27: ≤ 1 500 | CL27: ≤ 2000 | CM27: ≤ 3500 | CN27: xxxxxxxxxxx | CO27: =2*R27 -> 300 | CP27: 100 | CR27: No | CS27: N/A | CT27: N/A | CU27: N/A | CV27: N/A | CW27: N/A | CX27: N/A | CY27: N/A | CZ27: N/A | DA27: N/A | DC27: Yes | DD27: 400 | DE27: xxxxxxxxxxx | DF27: ≥ 320 | DG27: ≤ 120 | DH27: 22 | DJ27: Yes | DK27: ≥ 30 | DM27: 316 Stainless Steel or Mild Steel | DN27: ≥ 30 | DO27: 316 Stainless Steel or Mild Steel | DP27: M12 x 25 | DQ27: Yes | DS27: Yes | DT27: 14 | DU27: ≥ 200 | DV27: ≥ 300 | DW27: ≥ 150 | DZ27: xxxxxxxxxxx | EA27: xxxxxxxxxxx | EB27: xxxxxxxxxxx | EC27: Avocado | EF27: xxxxxxxxxxx | EG27: xxxxxxxxxxx | EH27: xxxxxxxxxxx | EI27: Azure Blue | EJ27: Report Numbers | EK27: Report Numbers | EL27: 230
A28: Three Phase, 500 kVA, 33 kV/420V (Coastal, Ester Oil Only) | C28: xxxxxxxxxxx | D28: xxxxxxxxxxx | E28: xxxxxxxxxxx | F28: xxxxxxxxxxx | G28: xxxxxxxxxxx | H28: xxxxxxxxxxx | I28: Ester Oil | K28: 500 | L28: 33 | M28: 420 | N28: 50 | O28: 3ph | P28: Dyn11 or Yzn11 | R28: 200 | S28: 30 | T28: 70 | U28: 8 | W28: xxxxxxxxxxx | X28: Grade 3 | Y28: > 0.125 | Z28: xxxxxxxxxxx | AA28: xxxxxxxxxxx | AB28: 21 | AC28: 8 | AD28: <5 | AF28: < 5 | AG28: < 5 | AH28: xxxxxxxxxxx | AI28: xxxxxxxxxxx | AK28: Switch | AL28: 0, ±2.5, ±5 | AN28: xxxxxxxxxxx | AO28: xxxxxxxxxxx | AP28: xxxxxxxxxxx | AQ28: ≥ 31 | AR28: Base | AS28: Draw lead | AT28: M12 | AV28: xxxxxxxxxxx | AW28: xxxxxxxxxxx | AX28: xxxxxxxxxxx | AY28: ≥ 31 | AZ28: Base | BA28: Draw lead | BB28: M12 | BD28: xxxxxxxxxxx | BE28: xxxxxxxxxxx | BF28: xxxxxxxxxxx | BG28: M12 | BH28: Yes | BI28: Yes | BK28: Distribution | BL28: 80500 | BM28: 17500 | BN28: 630 | BO28: 5200 | BQ28: 4,0 to 5,0 | BR28: xxxxxxxxxx | BT28: ≤ 52 | BV28: xxxxxxxxxxx | BW28: xxxxxxxxxxx | BY28: xxxxxxxxxxx | BZ28: xxxxxxxxxxx | CB28: Steel or Amporphous | CC28: xxxxxxxxxxx | CD28: xxxxxxxxxxx | CE28: xxxxxxxxxxx | CG28: Sealed | CH28: xxxxxxxxxx | CJ28: ≤ 1 800 | CK28: ≤ 1 500 | CL28: ≤ 2000 | CM28: ≤ 3500 | CN28: xxxxxxxxxxx | CO28: =2*R28 -> 400 | CP28: 100 | CR28: No | CS28: N/A | CT28: N/A | CU28: N/A | CV28: N/A | CW28: N/A | CX28: N/A | CY28: N/A | CZ28: N/A | DA28: N/A | DC28: Yes | DD28: 400 | DE28: xxxxxxxxxxx | DF28: ≥ 320 | DG28: ≤ 120 | DH28: 22 | DJ28: Yes | DK28: ≥ 30 | DM28: 316 Stainless Steel or Mild Steel | DN28: ≥ 30 | DO28: 316 Stainless Steel or Mild Steel | DP28: M12 x 25 | DQ28: Yes | DS28: Yes | DT28: 14 | DU28: ≥ 200 | DV28: ≥ 400 | DW28: ≥ 150 | DZ28: xxxxxxxxxxx | EA28: xxxxxxxxxxx | EB28: xxxxxxxxxxx | EC28: Avocado | EF28: xxxxxxxxxxx | EG28: xxxxxxxxxxx | EH28: xxxxxxxxxxx | EI28: Azure Blue | EJ28: Report Numbers | EK28: Report Numbers | EL28: 230
