Workbook

Sheet Summery of costing
B3: SITE ROLLOUT 2021/2022 | C3: PROJECT COST
B5: East London 2021/2022 | C5: =SUM(Costing!E36) -> 0
B6: NETFA 2021/2022 | C6: =SUM(Costing!J36) -> 0
B7: SECUNDA 2021/2022 | C7: =SUM(Costing!O36) -> 0
B8: NEW CASTLE 2021/2022 | C8: =SUM(Costing!T36) -> 0
B10: TOTAL COST | C10: =SUM(C5:C9) -> 0
B11: SITE ROLLOUT 2022/2023 | C11: PROJECT COST
B13: RICHARDS BAY 2022/2023 | C13: =SUM(Costing!Y36) -> 0
B14: GROENKLOOF 2022/2023 | C14: =SUM(Costing!AD36) -> 0
B15: CAPE TOWN 2022/2023 | C15: =SUM(Costing!AI36) -> 0
B16: DURBAN 2022/2023 | C16: =SUM(Costing!AN36) -> 0
B18: TOTAL COST | C18: =SUM(C13:C17) -> 0

Sheet Costing
B1: EAST LONDON | G1: NETFA | L1: SECUNDA | Q1: NEW CASTLE | V1: RICHARDS BAY | AA1: GROENKLOOF | AF1: CAPE TOWN | AK1: DURBAN | AP1: AD HOC SERVICES 2023/2024
B2: Costing for the BOQ - East London 2021/2022 | G2: Costing for the BOQ - NETFA 2021/2022 | L2: Costing for the BOQ - SECUNDA 2021/2022 | Q2: Costing for the BOQ - NEW CASTLE 2021/2022 | V2: Costing for the BOQ - RICHARDS BAY 2022/2023 | AA2: Costing for the BOQ - GROENKLOOF 2022/2023 | AF2: Costing for the BOQ - CAPE TOWN 2022/2023 | AK2: Costing for the BOQ - DURBAN 2022/2023 | AP2: Costing for the BOQ - AD HOC SERVICES 2023/2024
B3: Item | C3: Quantity | D3: Unit Cost | E3: Total Price | G3: Item | H3: Quantity | I3: Unit Cost | J3: Total Price | L3: Item | M3: Quantity | N3: Unit Cost | O3: Total Price | Q3: Item | R3: Quantity | S3: Unit Cost | T3: Total Price | V3: Item | W3: Quantity | X3: Unit Cost | Y3: Total Price | AA3: Item | AB3: Quantity | AC3: Unit Cost | AD3: Total Price | AF3: Item | AG3: Quantity | AH3: Unit Cost | AI3: Total Price | AK3: Item | AL3: Quantity | AM3: Unit Cost | AN3: Total Price | AP3: Item | AQ3: Quantity | AR3: Unit Cost | AS3: Total Price
B4: Thermal Network Bullet Camera - Indoor | C4: 16 | D4: 0 | E4: =SUM(D4*C4) -> 0 | G4: Thermal Network Bullet Camera - Indoor | H4: 20 | I4: 0 | J4: =SUM(I4*H4) -> 0 | L4: Thermal Network Bullet Camera - Indoor | M4: 5 | N4: 0 | O4: =SUM(N4*M4) -> 0 | Q4: Thermal Network Bullet Camera - Indoor | R4: 1 | S4: 0 | T4: =SUM(S4*R4) -> 0 | V4: Thermal Network Bullet Camera - Indoor | W4: 5 | X4: 0 | Y4: =SUM(X4*W4) -> 0 | AA4: Thermal Network Bullet Camera | AB4: 6 | AC4: 0 | AD4: =SUM(AC4*AB4) -> 0 | AF4: Thermal Network Bullet Camera - Indoor | AG4: 5 | AH4: 0 | AI4: =SUM(AH4*AG4) -> 0 | AK4: Thermal Network Bullet Camera - Indoor | AL4: 4 | AM4: 0 | AN4: =SUM(AM4*AL4) -> 0 | AP4: Thermal Network Bullet Camera | AQ4: 1 | AR4: 0 | AS4: =SUM(AR4*AQ4) -> 0
B5: IP66 Thermal Camera Junction Box Aluminum | C5: 16 | D5: 0 | E5: =SUM(D5*C5) -> 0 | G5: IP66 Thermal Camera Junction Box Aluminum | H5: 20 | I5: 0 | J5: =SUM(I5*H5) -> 0 | L5: IP66 Thermal Camera Junction Box Aluminum | M5: 5 | N5: 0 | O5: =SUM(N5*M5) -> 0 | Q5: IP66 Thermal Camera Junction Box Aluminum | R5: 1 | S5: 0 | T5: =SUM(S5*R5) -> 0 | V5: IP66 Thermal Camera Junction Box Aluminum | W5: 0 | X5: 0 | Y5: =SUM(X5*W5) -> 0 | AA5: IP66 Thermal Camera Junction Box Aluminium | AB5: 6 | AC5: 0 | AD5: =SUM(AC5*AB5) -> 0 | AF5: IP66 Thermal Camera Junction Box Aluminum | AG5: 5 | AH5: 0 | AI5: =SUM(AH5*AG5) -> 0 | AK5: IP66 Thermal Camera Junction Box Aluminum | AL5: 4 | AM5: 0 | AN5: =SUM(AM5*AL5) -> 0 | AP5: IP66 Thermal Camera Junction Box Aluminium | AQ5: 1 | AR5: 0 | AS5: =SUM(AR5*AQ5) -> 0
B6: 4MP LPR Camera | C6: 2 | D6: 0 | E6: =SUM(D6*C6) -> 0 | G6: 4MP LPR Camera | H6: 2 | I6: 0 | J6: =SUM(I6*H6) -> 0 | L6: 4MP LPR Camera | M6: 0 | N6: 0 | O6: =SUM(N6*M6) -> 0 | Q6: 4MP LPR Camera | R6: 0 | S6: 0 | T6: =SUM(S6*R6) -> 0 | V6: 4MP LPR Camera | W6: 0 | X6: 0 | Y6: =SUM(X6*W6) -> 0 | AA6: 2MP LPR Camera | AB6: 12 | AC6: 0 | AD6: =SUM(AC6*AB6) -> 0 | AF6: 4MP LPR Camera | AG6: 0 | AH6: 0 | AI6: =SUM(AH6*AG6) -> 0 | AK6: 4MP LPR Camera | AL6: 2 | AM6: 0 | AN6: =SUM(AM6*AL6) -> 0 | AP6: 2MP LPR Camera | AQ6: 1 | AR6: 0 | AS6: =SUM(AR6*AQ6) -> 0
B7: LPR Camera Pole and Bracket | C7: 2 | D7: 0 | E7: =SUM(D7*C7) -> 0 | G7: LPR Camera Pole and Bracket | H7: 2 | I7: 0 | J7: =SUM(I7*H7) -> 0 | L7: LPR Camera Pole and Bracket | M7: 0 | N7: 0 | O7: =SUM(N7*M7) -> 0 | Q7: LPR Camera Pole and Bracket | R7: 0 | S7: 0 | T7: =SUM(S7*R7) -> 0 | V7: LPR Camera Pole and Bracket | W7: 0 | X7: 0 | Y7: =SUM(X7*W7) -> 0 | AA7: IP66 LPR Camera Junction Box Aluminium | AB7: 12 | AC7: 0 | AD7: =SUM(AC7*AB7) -> 0 | AF7: LPR Camera Pole and Bracket | AG7: 0 | AH7: 0 | AI7: =SUM(AH7*AG7) -> 0 | AK7: LPR Camera Pole and Bracket | AL7: 2 | AM7: 0 | AN7: =SUM(AM7*AL7) -> 0 | AP7: IP66 LPR Camera Junction Box Aluminium | AQ7: 1 | AR7: 0 | AS7: =SUM(AR7*AQ7) -> 0
B8: 4MP Outdoor High Speed PTZ | C8: 10 | D8: 0 | E8: =SUM(D8*C8) -> 0 | G8: 4MP Outdoor High Speed PTZ | H8: 5 | I8: 0 | J8: =SUM(I8*H8) -> 0 | L8: 4MP Outdoor High Speed PTZ | M8: 2 | N8: 0 | O8: =SUM(N8*M8) -> 0 | Q8: 4MP Outdoor High Speed PTZ | R8: 0 | S8: 0 | T8: =SUM(S8*R8) -> 0 | V8: 4MP Outdoor High Speed PTZ | W8: 0 | X8: 0 | Y8: =SUM(X8*W8) -> 0 | AA8: LPR Camera Pole and Bracket | AB8: 12 | AC8: 0 | AD8: =SUM(AC8*AB8) -> 0 | AF8: 4MP Outdoor High Speed PTZ | AG8: 2 | AH8: 0 | AI8: =SUM(AH8*AG8) -> 0 | AK8: 4MP Outdoor High Speed PTZ | AL8: 4 | AM8: 0 | AN8: =SUM(AM8*AL8) -> 0 | AP8: LPR Camera Pole and Bracket | AQ8: 1 | AR8: 0 | AS8: =SUM(AR8*AQ8) -> 0
B9: PTZ Pole Mount Bracket | C9: 10 | D9: 0 | E9: =SUM(D9*C9) -> 0 | G9: PTZ Pole Mount Bracket | H9: 5 | I9: 0 | J9: =SUM(I9*H9) -> 0 | L9: PTZ Pole Mount Bracket | M9: 2 | N9: 0 | O9: =SUM(N9*M9) -> 0 | Q9: PTZ Pole Mount Bracket | R9: 0 | S9: 0 | T9: =SUM(S9*R9) -> 0 | V9: PTZ Pole Mount Bracket | W9: 0 | X9: 0 | Y9: =SUM(X9*W9) -> 0 | AA9: 4MP Outdoor High Speed PTZ | AB9: 10 | AC9: 0 | AD9: =SUM(AC9*AB9) -> 0 | AF9: PTZ Pole Mount Bracket | AG9: 2 | AH9: 0 | AI9: =SUM(AH9*AG9) -> 0 | AK9: PTZ Pole Mount Bracket | AL9: 4 | AM9: 0 | AN9: =SUM(AM9*AL9) -> 0 | AP9: 4MP Outdoor High Speed PTZ | AQ9: 1 | AR9: 0 | AS9: =SUM(AR9*AQ9) -> 0
B10: PTZ Waterproof Power Box Aluminum | C10: 10 | D10: 0 | E10: =SUM(D10*C10) -> 0 | G10: PTZ Waterproof Power Box Aluminum | H10: 5 | I10: 0 | J10: =SUM(I10*H10) -> 0 | L10: PTZ Waterproof Power Box Aluminum | M10: 2 | N10: 0 | O10: =SUM(N10*M10) -> 0 | Q10: PTZ Waterproof Power Box Aluminum | R10: 0 | S10: 0 | T10: =SUM(S10*R10) -> 0 | V10: PTZ Waterproof Power Box Aluminum | W10: 0 | X10: 0 | Y10: =SUM(X10*W10) -> 0 | AA10: PTZ Pole Mount Bracket | AB10: 10 | AC10: 0 | AD10: =SUM(AC10*AB10) -> 0 | AF10: PTZ Waterproof Power Box Aluminum | AG10: 2 | AH10: 0 | AI10: =SUM(AH10*AG10) -> 0 | AK10: PTZ Waterproof Power Box Aluminum | AL10: 4 | AM10: 0 | AN10: =SUM(AM10*AL10) -> 0 | AP10: PTZ Pole Mount Bracket | AQ10: 1 | AR10: 0 | AS10: =SUM(AR10*AQ10) -> 0
B11: PTZ Stainless Steel Pole 2.8 meter | C11: 10 | D11: 0 | E11: =SUM(D11*C11) -> 0 | G11: PTZ Stainless Steel Pole 2.8 meter | H11: 5 | I11: 0 | J11: =SUM(I11*H11) -> 0 | L11: PTZ Stainless Steel Pole 2.8 meter | M11: 2 | N11: 0 | O11: =SUM(N11*M11) -> 0 | Q11: PTZ Stainless Steel Pole 2.8 meter | R11: 0 | S11: 0 | T11: =SUM(S11*R11) -> 0 | V11: PTZ Stainless Steel Pole 2.8 meter | W11: 0 | X11: 0 | Y11: =SUM(X11*W11) -> 0 | AA11: PTZ Waterproof Power Box Aluminium | AB11: 10 | AC11: 0 | AD11: =SUM(AC11*AB11) -> 0 | AF11: PTZ Stainless Steel Pole 2.8 meter | AG11: 1 | AH11: 0 | AI11: =SUM(AH11*AG11) -> 0 | AK11: PTZ Stainless Steel Pole 2.8 meter | AL11: 4 | AM11: 0 | AN11: =SUM(AM11*AL11) -> 0 | AP11: PTZ Waterproof Power Box Aluminium | AQ11: 1 | AR11: 0 | AS11: =SUM(AR11*AQ11) -> 0
B12: 2MP Temperature and Humidity Camera | C12: 5 | D12: 0 | E12: =SUM(D12*C12) -> 0 | G12: 2MP Temperature and Humidity Camera | H12: 5 | I12: 0 | J12: =SUM(I12*H12) -> 0 | L12: 2MP Temperature and Humidity Camera | M12: 0 | N12: 0 | O12: =SUM(N12*M12) -> 0 | Q12: 2MP Temperature and Humidity Camera | R12: 4 | S12: 0 | T12: =SUM(S12*R12) -> 0 | V12: 2MP Temperature and Humidity Camera | W12: 0 | X12: 0 | Y12: =SUM(X12*W12) -> 0 | AA12: PTZ Stainless Steel Pole 2.8 meter | AB12: 10 | AC12: 0 | AD12: =SUM(AC12*AB12) -> 0 | AF12: 2MP Temperature and Humidity Camera | AG12: 2 | AH12: 0 | AI12: =SUM(AH12*AG12) -> 0 | AK12: 2MP Temperature and Humidity Camera | AL12: 0 | AM12: 0 | AN12: =SUM(AM12*AL12) -> 0 | AP12: PTZ Stainless Steel Pole 2.8 meter | AQ12: 1 | AR12: 0 | AS12: =SUM(AR12*AQ12) -> 0
B13: IP66 Humidity Camera Junction Box Aluminum | C13: 5 | D13: 0 | E13: =SUM(D13*C13) -> 0 | G13: IP66 Humidity Camera Junction Box Aluminum | H13: 5 | I13: 0 | J13: =SUM(I13*H13) -> 0 | L13: IP66 Humidity Camera Junction Box Aluminum | M13: 0 | N13: 0 | O13: =SUM(N13*M13) -> 0 | Q13: IP66 Humidity Camera Junction Box Aluminum | R13: 4 | S13: 0 | T13: =SUM(S13*R13) -> 0 | V13: IP66 Humidity Camera Junction Box Aluminum | W13: 0 | X13: 0 | Y13: =SUM(X13*W13) -> 0 | AA13: 2MP Temperature and Humidity Camera | AB13: 10 | AC13: 0 | AD13: =SUM(AC13*AB13) -> 0 | AF13: IP66 Humidity Camera Junction Box Aluminum | AG13: 2 | AH13: 0 | AI13: =SUM(AH13*AG13) -> 0 | AK13: IP66 Humidity Camera Junction Box Aluminum | AL13: 0 | AM13: 0 | AN13: =SUM(AM13*AL13) -> 0 | AP13: 2MP Temperature and Humidity Camera | AQ13: 1 | AR13: 0 | AS13: =SUM(AR13*AQ13) -> 0
B14: 4 MP IR Bullet Outdoor Camera - Perimeter | C14: 35 | D14: 0 | E14: =SUM(D14*C14) -> 0 | G14: 4 MP IR Bullet Outdoor Camera - Perimeter | H14: 30 | I14: 0 | J14: =SUM(I14*H14) -> 0 | L14: 4 MP IR Bullet Outdoor Camera - Perimeter | M14: 10 | N14: 0 | O14: =SUM(N14*M14) -> 0 | Q14: 4 MP IR Bullet Outdoor Camera - Perimeter | R14: 0 | S14: 0 | T14: =SUM(S14*R14) -> 0 | V14: 4 MP IR Bullet Outdoor Camera - Perimeter | W14: 0 | X14: 0 | Y14: =SUM(X14*W14) -> 0 | AA14: IP66 Humidity Camera Junction Box Aluminium | AB14: 10 | AC14: 0 | AD14: =SUM(AC14*AB14) -> 0 | AF14: 4 MP IR Bullet Outdoor Camera - Perimeter | AG14: 5 | AH14: 0 | AI14: =SUM(AH14*AG14) -> 0 | AK14: 4 MP IR Bullet Outdoor Camera - Perimeter | AL14: 17 | AM14: 0 | AN14: =SUM(AM14*AL14) -> 0 | AP14: IP66 Humidity Camera Junction Box Aluminium | AQ14: 1 | AR14: 0 | AS14: =SUM(AR14*AQ14) -> 0
B15: IP66 Bullet Camera Junction Box Aluminum | C15: 35 | D15: 0 | E15: =SUM(D15*C15) -> 0 | G15: IP66 Bullet Camera Junction Box Aluminum | H15: 30 | I15: 0 | J15: =SUM(I15*H15) -> 0 | L15: IP66 Bullet Camera Junction Box Aluminum | M15: 10 | N15: 0 | O15: =SUM(N15*M15) -> 0 | Q15: IP66 Bullet Camera Junction Box Aluminum | R15: 0 | S15: 0 | T15: =SUM(S15*R15) -> 0 | V15: IP66 Bullet Camera Junction Box Aluminum | W15: 0 | X15: 0 | Y15: =SUM(X15*W15) -> 0 | AA15: 4 MP IR Bullet Outdoor Camera | AB15: 50 | AC15: 0 | AD15: =SUM(AC15*AB15) -> 0 | AF15: IP66 Bullet Camera Junction Box Aluminum | AG15: 5 | AH15: 0 | AI15: =SUM(AH15*AG15) -> 0 | AK15: IP66 Bullet Camera Junction Box Aluminum | AL15: 17 | AM15: 0 | AN15: =SUM(AM15*AL15) -> 0 | AP15: 4 MP IR Bullet Outdoor Camera | AQ15: 1 | AR15: 0 | AS15: =SUM(AR15*AQ15) -> 0
... B33: Video management software | C33: 1 | D33: 0 | E33: =SUM(D33*C33) -> 0 | G33: Video management software | H33: 1 | I33: 0 | J33: =SUM(I33*H33) -> 0 | L33: Video management software | M33: 1 | N33: 0 | O33: =SUM(N33*M33) -> 0 | Q33: Video management software | R33: 1 | S33: 0 | T33: =SUM(S33*R33) -> 0 | V33: Video management software | W33: 1 | X33: 0 | Y33: =SUM(X33*W33) -> 0 | AA33: Other | AB33: 1 | AC33: 0 | AD33: =SUM(AC33*AB33) -> 0 | AF33: Video management software | AG33: 1 | AH33: 0 | AI33: =SUM(AH33*AG33) -> 0 | AK33: Video management software | AL33: 1 | AM33: 0 | AN33: =SUM(AM33*AL33) -> 0 | AP33: Other | AQ33: 1 | AR33: 0 | AS33: =SUM(AR33*AQ33) -> 0
B34: Traveling and accommodation | C34: 1 | D34: 0 | E34: =SUM(D34*C34) -> 0 | G34: Traveling and accommodation | H34: 1 | I34: 0 | J34: =SUM(I34*H34) -> 0 | L34: Traveling and accommodation | M34: 1 | N34: 0 | O34: =SUM(N34*M34) -> 0 | Q34: Traveling and accommodation | R34: 1 | S34: 0 | T34: =SUM(S34*R34) -> 0 | V34: Traveling and accommodation | W34: 1 | X34: 0 | Y34: =SUM(X34*W34) -> 0 | AF34: Traveling and accommodation | AG34: 1 | AH34: 0 | AI34: =SUM(AH34*AG34) -> 0 | AK34: Traveling and accommodation | AL34: 1 | AM34: 0 | AN34: =SUM(AM34*AL34) -> 0
B35: Consumables | C35: 1 | D35: 0 | E35: =SUM(D35*C35) -> 0 | G35: Consumables | H35: 1 | I35: 0 | J35: =SUM(I35*H35) -> 0 | L35: Consumables | M35: 1 | N35: 0 | O35: =SUM(N35*M35) -> 0 | Q35: Consumables | R35: 1 | S35: 0 | T35: =SUM(S35*R35) -> 0 | V35: Consumables | W35: 1 | X35: 0 | Y35: =SUM(X35*W35) -> 0 | AF35: Consumables | AG35: 1 | AH35: 0 | AI35: =SUM(AH35*AG35) -> 0 | AK35: Consumables | AL35: 1 | AM35: 0 | AN35: =SUM(AM35*AL35) -> 0
B36: Total Project Cost | E36: =SUM(E4:E35) -> 0 | G36: Total Project Cost | J36: =SUM(J4:J35) -> 0 | L36: Total Project Cost | O36: =SUM(O4:O35) -> 0 | Q36: Total Project Cost | T36: =SUM(T4:T35) -> 0 | V36: Total Project Cost | Y36: =SUM(Y4:Y35) -> 0 | AA36: Total Project Cost | AD36: =SUM(AD4:AD35) -> 0 | AF36: Total Project Cost | AI36: =SUM(AI4:AI35) -> 0 | AK36: Total Project Cost | AN36: =SUM(AN4:AN35) -> 0 | AP36: Total Project Cost | AS36: =SUM(AS4:AS35) -> 0
