Workbook

Sheet SUMMARY
B2: ECDOH GENERAL ELECTRICAL LV MAINTENANCE AND REPAIR CONTRACT
B4: CONTRACT REF. NO: | D4: CMU3-2627-0192-NMB: | E4: Cluster/District: | F4: NELSON MANDELA BAY DISTRICT
B6: ='SCHED 1A-1_NMB'!B4 -> ASSET TYPE: | D6: ='SCHED 1A-1_NMB'!D4 -> LV INSTALLATIONS
B8: SCHEDULE NUMBER | C8: DESCRIPTION | F8: TENDER AMOUNT
B10: 1A-1 | C10: NELSON MANDELA BAY | D10: ='[1]SCHED 1A-1_NMB'!D6 -> FUNCTIONAL REPAIR SCHEDULE
B12: 1A-2 | C12: NELSON MANDELA BAY | D12: ='[1]SCHED 1A-2_NMB'!D6 -> FUNCTIONAL CONDITION ASSESSMENT AND REPORT (SPECIALIST EQUIPMENT)
B14: 1A-3 | C14: NELSON MANDELA BAY | D14: ='[1]SCHED 1A-3_NMB'!D6 -> FUNCTIONAL REPAIR SCHEDULE (SPECIALIST EQUIPMENT)
B16: 2A | C16: SCHEDULE OF RATES
B18: 3A-1 | C18: NELSON MANDELA BAY | D18: MAINTENANCE SERVICE SCHEDULE
B20: 3A-2 | C20: NELSON MANDELA BAY | D20: MAINTENANCE SERVICE SCHEDULE
B22: 4 | C22: TERM REPAIRS SUBJECT TO APPROVAL OF QUOTATION OF THE WORKS
B25: SUBTOTAL AMOUNT OF WORKS (EXCL VAT)
B26: ALLOWANCE FOR VAT AT 15.0%
B27: TOTAL AMOUNT OF WORKS (INCL VAT) - ENTER THIS AMOUNT TO FORM OF OFFER

Sheet SCHED 1A-1_NMB
B2: =SUMMARY!B2 -> ECDOH GENERAL ELECTRICAL LV MAINTENANCE AND REPAIR CONTRACT
B3: CONTRACT REF. NO: | D3: =SUMMARY!D4 -> CMU3-2627-0192-NMB: | E3: Cluster/District: | G3: NELSON MANDELA BAY
B4: ASSET TYPE: | D4: LV INSTALLATIONS
B6: SCHEDULE 1A-1: | D6: FUNCTIONAL REPAIR SCHEDULE
B8: ITEM Nr. | C8: PAYMENT REFERS | D8: DESCRIPTION | E8: UNIT | F8: QTY | G8: RATE | H8: AMOUNT
B9: 1A-1 | D9: FUNCTIONAL CONDITION ASSESSMENT : Perform Functional Condition Assessment (Inspection and Testing) all buildings within the listed Health Facilities included in the Tender
D10: COMPILE FUNCTIONAL CONDITION ASSESSMENT REPORT: Compile Functional Condition Assessment Report including quotation to repair each Health Facilities included in the Tender to enable issuing of Certificate of Compliance.
D11: Rate shall include for all costs to complete task; such as labour, travelling, accommodation, subsistence allowance, etc.
B12: 1A-1.1 | D12: Dora Nginza Hospital | E12: Item | F12: 1
B13: 1A-1.2 | D13: Livingstone Hospital | E13: Item | F13: 1
B14: 1A-1.3 | D14: Port Elizabeth Provincial Hospital | E14: Item | F14: 1
B15: 1A-1.4 | D15: Uitenhage Provincial Hospital | E15: Item | F15: 1
B16: 1A-1.5 | D16: Jose Pearson TB Hospital | E16: Item | F16: 1
B17: 1A-1.6 | D17: Elizabeth Donkin Psychiatric Hospital | E17: Item | F17: 1
B18: 1A-1.7 | D18: Empilweni TB Hospital | E18: Item | F18: 1
B19: 1A-1.8 | D19: Community Health Care Centres
B20: 1A-1.9 | D20: Gqeberha CHC | E20: Item | F20: 1
B21: 1A-1.10 | D21: Korsten CHC | E21: Item | F21: 1
B22: 1A-1.11 | D22: New Brighton CHC | E22: Item | F22: 1
B23: 1A-1.12 | D23: West End CHC | E23: Item | F23: 1
B24: 1A-1.13 | D24: Laetitia Bam Day Hospital | E24: Item | F24: 1
B25: 1A-1.14 | D25: Rosedale CHC | E25: Item | F25: 1
B26: 1A-1.15 | D26: Motherwell CHC | E26: Item | F26: 1
B27: 1A-1.16 | D27: Kwa Zakhele CHC | E27: Item | F27: 1
B28: 1A-1.17 | D28: PE Central CHC | E28: Item | F28: 1
B29: 1A-1.18 | D29: Medical Depot: Nelson Mandela Bay District
B30: 1A-1.19 | D30: PE Depot | E30: Item | F30: 1
B31: 1A-1.20 | D31: Forensic Mortuaries: Nelson Mandela Bay District
B32: 1A-1.21 | D32: Gelvandale Road Forensic Mortuary | E32: Item | F32: 1
B33: 1A-1.22 | D33: Mount Road Forensic Mortuary | E33: Item | F33: 1
B34: 1A-1.23 | D34: Uitenhage Forensic Mortuary | E34: Item | F34: 1
B35: 1A-1.24 | D35: New Brighton Mortuary | E35: Item | F35: 1
B36: 1A-1.25 | D36: CLINICS: Nelson Mandela A Health sub-District
B37: 1A-1.26 | D37: ec Ikamvelihle Clinic | E37: Item | F37: 1
B38: 1A-1.27 | D38: ec Kwamagxaki Clinic | E38: Item | F38: 1
B39: 1A-1.28 | D39: ec Kwazakhele Clinic | E39: Item | F39: 1
B40: 1A-1.29 | D40: ec Lunga Kobese Clinic | E40: Item | F40: 1
B41: 1A-1.30 | D41: ec Max Madlingozi Clinic | E41: Item | F41: 1
B42: 1A-1.31 | D42: ec Motherwell NU 11 Clinic | E42: Item | F42: 1
B43: 1A-1.32 | D43: ec Motherwell NU 2 Clinic | E43: Item | F43: 1
...

Sheet SCHED 1A-2_NMB
B2: =SUMMARY!B2 -> ECDOH GENERAL ELECTRICAL LV MAINTENANCE AND REPAIR CONTRACT
B3: CONTRACT REF. NO: | D3: =SUMMARY!D4 -> CMU3-2627-0192-NMB: | E3: Cluster/District: | G3: NELSON MANDELA BAY
B4: ASSET TYPE: | D4: LV INSTALLATIONS
B6: SCHEDULE 1A-2: | D6: FUNCTIONAL REPAIR SCHEDULE (SPECIALIST EQUIPMENT)
B8: ITEM Nr. | C8: PAYMENT REFERS | D8: DESCRIPTION | E8: UNIT | F8: QTY | G8: RATE | H8: AMOUNT
D9: SPECIALIST EQUIPMENT: FUNCTIONAL CONDITION ASSESSMENT : Perform Functional Condition Assessment (Inspection and Testing) on all listed assets at all Health Facilities included in the Tender
D10: COMPILE FUNCTIONAL CONDITION ASSESSMENT REPORT: Compile Functional Condition Assessment Report including quotation to repair each Health Facilities included in the Tender.
D11: Rate shall include for all costs to complete task; such as labour, travelling, accommodation, subsistence allowance, etc.
B12: 1A-2.1 | D12: NURSE CALL SYSTEM
B13: 1A-2.1.1 | D13: Dora Nginza Hospital | E13: Item | F13: 1
B14: 1A-2.1.2 | D14: Livingstone Hospital | E14: Item | F14: 1
B15: 1A-2.1.3 | D15: Port Elizabeth Provincial Hospital | E15: Item | F15: 1
B16: 1A-2.1.4 | D16: Uitenhage Provincial Hospital | E16: Item | F16: 1
B17: 1A-2.1.5 | D17: UNINTERRUPTED POWER SUPPLY SYSTEMS (UPS)
B18: 1A-2.1.6 | D18: Dora Nginza Hospital | E18: Item | F18: 1
B19: 1A-2.1.7 | D19: Livingstone Hospital | E19: Item | F19: 1
B20: 1A-2.2 | D20: Port Elizabeth Provincial Hospital | E20: Item | F20: 1
B21: 1A-2.2.1 | D21: Uitenhage Provincial Hospital | E21: Item | F21: 1
B22: 1A-2.2.2 | D22: Jose Pearson TB Hospital | E22: Item | F22: 1
B23: 1A-2.2.3 | D23: Elizabeth Donkin Psychiatric Hospital | E23: Item | F23: 1
B24: 1A-2.2.4 | D24: CCTV
B25: 1A-2.2.5 | D25: Dora Nginza Hospital | E25: Item | F25: 1
B26: 1A-2.2.6 | D26: Livingstone Hospital | E26: Item | F26: 1
B27: 1A-2.2.7 | D27: Port Elizabeth Provincial Hospital | E27: Item | F27: 1
B28: 1A-2.1 | D28: Uitenhage Provincial Hospital | E28: Item | F28: 1
B29: 1A-2.3.1 | D29: Jose Pearson TB Hospital | E29: Item | F29: 1
B30: 1A-2.3.2 | D30: Elizabeth Donkin Psychiatric Hospital | E30: Item | F30: 1
B31: 1A-2.3.3 | D31: Public Announcement (PA) System
B32: 1A-2.3.4 | D32: Dora Nginza Hospital | E32: Item | F32: 1
B33: 1A-2.3.5 | D33: Livingstone Hospital | E33: Item | F33: 1
B34: 1A-2.3.6 | D34: Port Elizabeth Provincial Hospital | E34: Item | F34: 1
B35: 1A-2.3.7 | D35: Uitenhage Provincial Hospital | E35: Item | F35: 1
B36: 1A-2.3.8 | D36: Gqeberha CHC | E36: Item | F36: 1
B37: 1A-2.3.9 | D37: Elizabeth Donkin Psychiatric Hospital | E37: Item | F37: 1
B38: 1A-2.5.1 | D38: ACCESS CONTROL
B39: 1A-2.5.2 | D39: Dora Nginza Hospital | E39: Item | F39: 1
B40: 1A-2.5.3 | D40: Livingstone Hospital | E40: Item | F40: 1
B41: 1A-2.5.4 | D41: Port Elizabeth Provincial Hospital | E41: Item | F41: 1
B42: 1A-2.5.5 | D42: Uitenhage Provincial Hospital | E42: Item | F42: 1
B43: 1A-2.5.6 | D43: Elizabeth Donkin Psychiatric Hospital | E43: Item | F43: 1
...

Sheet SCHED 1A-3_NMB
B2: =[2]SUMMARY!B2 -> ECDOH GENERAL ELECTRICAL MV MAINTENANCE AND REPAIR CONTRACT
B3: CONTRACT REF. NO: | D3: =SUMMARY!D4 -> CMU3-2627-0192-NMB: | E3: Cluster/District: | G3: NELSON MANDELA BAY
B4: ASSET TYPE: | D4: LV INSTALLATIONS
B6: SCHEDULE 1A-3: | D6: FUNCTIONAL REPAIR SCHEDULE (SPECIALIST EQUIPMENT)
B8: ITEM Nr. | C8: PAYMENT REFERS | D8: DESCRIPTION | E8: UNIT | F8: QTY | G8: RATE | H8: AMOUNT
B9: 1A-3 | D9: COMPILING OF OPERATING AND MAINTENANCE MANUALS : Compile three sets of O&M Manuals per Facility.
D10: COMPILING OF DETAILED REPAIR SCHEDULE : Compile detailed, comprehensive repair schedule including defect description, recommended repair method, detailed quote including priced spare parts, outsourced work, and provisional work program, for each Health Facility.
D11: Rate shall include for all costs to complete task; such as labour, travelling, accommodation, subsistence allowance, etc.
B12: 1A-3.1 | D12: NURSE CALL SYSTEM
B13: 1A-3.1.1 | D13: Dora Nginza Hospital | E13: Item | F13: 1
B14: 1A-3.1.2 | D14: Livingstone Hospital | E14: Item | F14: 1
B15: 1A-3.1.3 | D15: Port Elizabeth Provincial Hospital | E15: Item | F15: 1
B16: 1A-3.1.4 | D16: Uitenhage Provincial Hospital | E16: Item | F16: 1
B17: 1A-3.2 | D17: UNINTERRUPTED POWER SUPPLY SYSTEMS (UPS)
B18: 1A-3.2.1 | D18: Dora Nginza Hospital | E18: Item | F18: 1
B19: 1A-3.2.2 | D19: Livingstone Hospital | E19: Item | F19: 1
B20: 1A-3.2.3 | D20: Port Elizabeth Provincial Hospital | E20: Item | F20: 1
B21: 1A-3.2.4 | D21: Uitenhage Provincial Hospital | E21: Item | F21: 1
B22: 1A-3.2.5 | D22: Jose Pearson TB Hospital | E22: Item | F22: 0
B23: 1A-3.2.6 | D23: Elizabeth Donkin Psychiatric Hospital | E23: Item | F23: 0
B24: 1A-3.2.6 | D24: Empilweni TB Hospital | E24: Item | F24: 0
B25: 1A-3.3 | D25: CCTV
B26: 1A-3.3.1 | D26: Dora Nginza Hospital | E26: Item | F26: 1
B27: 1A-3.3.2 | D27: Livingstone Hospital | E27: Item | F27: 1
B28: 1A-3.3.3 | D28: Port Elizabeth Provincial Hospital | E28: Item | F28: 1
B29: 1A-3.3.4 | D29: Uitenhage Provincial Hospital | E29: Item | F29: 1
B30: 1A-3.3.5 | D30: Jose Pearson TB Hospital | E30: Item | F30: 0
B31: 1A-3.3.6 | D31: Elizabeth Donkin Psychiatric Hospital | E31: Item | F31: 1
B32: 1A-3.3.7 | D32: Empilweni TB Hospital | E32: Item | F32: 1
B33: 1A-3.4 | D33: Public Announcement (PA) System
B34: 1A-3.3.4 | D34: Dora Nginza Hospital | E34: Item | F34: 1
B35: 1A-3.3.5 | D35: Livingstone Hospital | E35: Item | F35: 1
B36: 1A-3.3.6 | D36: Port Elizabeth Provincial Hospital | E36: Item | F36: 1
B37: 1A-3.3.7 | D37: Uitenhage Provincial Hospital | E37: Item | F37: 1
B38: 1A-3.4 | D38: Gqeberha CHC | E38: Item | F38: 1
B39: 1A-3.4.1 | D39: Elizabeth Donkin Psychiatric Hospital | E39: Item | F39: 1
B40: 1A-3.4.2 | D40: PHOTO VOLTAIC SYSTEM
B41: 1A-3.5 | D41: ACCESS CONTROL
B42: 1A-3.5.1 | D42: Dora Nginza Hospital | E42: Item | F42: 1
B43: 1A-3.5.2 | D43: Livingstone Hospital | E43: Item | F43: 1
...

Sheet SCHEDULE 2A-BOQ
B1: ECDOH GENERAL ELECTRICAL LV MAINTENANCE AND REPAIR CONTRACT
B2: CONTRACT REF. NO: | D2: CMU3-2627-0192-NMB: | E2: Cluster/District: | I2: =SUMMARY!F4 -> NELSON MANDELA BAY DISTRICT
B3: ASSET TYPE: | D3: LV INSTALLATIONS
B5: SCHEDULE 2 : | D5: SCHEDULE OF RATES
B6: ITEM | C6: REF NO | D6: DESCRIPTION | E6: UNIT | F6: TOTAL QTY | G6: RATE | I6: AMOUNT
G7: MATERIAL | H7: LABOUR | I7: R
D10: SCHEDULE NO. 2
C11: R.2.248
B12: 2 | C12: R.2.254 | D12: LOW VOLTAGE CABLE
C13: R.2.255 | D13: 1000V PVC/SWA/PVC copper cables.
B15: 2.109 | C15: R.2.256 | D15: 120mm² x 4-core | E15: m | F15: 1 | I15: =(G15+H15)*$F15 -> 0
B16: 2.110 | C16: R.2.257 | D16: 95mm² x 4-core | E16: m | F16: 1 | I16: =(G16+H16)*$F16 -> 0
B17: 2.111 | C17: R.2.258 | D17: 70mm² x 4-core | E17: m | F17: 1 | I17: =(G17+H17)*$F17 -> 0
B18: 2.112 | C18: R.2.259 | D18: 50mm² x 4-core | E18: m | F18: 105 | I18: =(G18+H18)*$F18 -> 0
B19: 2.113 | C19: R.2.260 | D19: 35mm² x 4-core | E19: m | F19: 105 | I19: =(G19+H19)*$F19 -> 0
B20: 2.114 | C20: R.2.261 | D20: 25mm² x 4-core | E20: m | F20: 153 | I20: =(G20+H20)*$F20 -> 0
B21: 2.115 | C21: R.2.262 | D21: 16mm² x 4-core | E21: m | F21: 153 | I21: =(G21+H21)*$F21 -> 0
B22: 2.116 | C22: R.2.263 | D22: 16mm² x 3-core | E22: m | F22: 153 | I22: =(G22+H22)*$F22 -> 0
B23: 2.117 | C23: R.2.264 | D23: 10mm² x 4-core | E23: m | F23: 153 | I23: =(G23+H23)*$F23 -> 0
B24: 2.118 | C24: R.2.265 | D24: 10mm² x 3-core | E24: m | F24: 60 | I24: =(G24+H24)*$F24 -> 0
B25: 2.119 | C25: R.2.266 | D25: 6mm² x 4-core | E25: m | F25: 60 | I25: =(G25+H25)*$F25 -> 0
B26: 2.120 | C26: R.2.267 | D26: 6mm² x 3-core | E26: m | F26: 60 | I26: =(G26+H26)*$F26 -> 0
... B32: 2.126 | C32: R.2.273 | D32: 1,5mm² x 3-core | E32: m | F32: 60 | I32: =(G32+H32)*$F32 -> 0
C33: R.2.274 | D33: LOW VOLTAGE CABLE TERMINATION | F33: 0 | I33: =(G33+H33)*$F33 -> 0
C34: R.2.275 | D34: Terminate 1 000V PVC/SWA/PVC cable | F34: 0 | I34: =(G34+H34)*$F34 -> 0
B35: 2.127 | C35: R.2.276 | D35: 120mm² x 4-core | E35: ea. | F35: 1 | I35: =(G35+H35)*$F35 -> 0
B36: 2.128 | C36: R.2.277 | D36: 95mm² x 4-core | E36: ea. | F36: 1 | I36: =(G36+H36)*$F36 -> 0
B37: 2.129 | C37: R.2.278 | D37: 70mm² x 4-core | E37: ea. | F37: 1 | I37: =(G37+H37)*$F37 -> 0
B38: 2.130 | C38: R.2.279 | D38: 50mm² x 4-core | E38: ea. | F38: 12 | I38: =(G38+H38)*$F38 -> 0
B39: 2.131 | C39: R.2.280 | D39: 35mm² x 4-core | E39: ea. | F39: 12 | I39: =(G39+H39)*$F39 -> 0
B40: 2.132 | C40: R.2.281 | D40: 25mm² x 4-core | E40: ea. | F40: 12 | I40: =(G40+H40)*$F40 -> 0
B41: 2.133 | C41: R.2.282 | D41: 16mm² x 4-core | E41: ea. | F41: 18 | I41: =(G41+H41)*$F41 -> 0
B42: 2.134 | C42: R.2.283 | D42: 16mm² x 3-core | E42: ea. | F42: 18 | I42: =(G42+H42)*$F42 -> 0
B43: 2.135 | C43: R.2.284 | D43: 10mm² x 4-core | E43: ea. | F43: 18 | I43: =(G43+H43)*$F43 -> 0
B44: 2.136 | C44: R.2.285 | D44: 10mm² x 3-core | E44: ea. | F44: 18 | I44: =(G44+H44)*$F44 -> 0
B45: 2.137 | C45: R.2.286 | D45: 6mm² x 4-core | E45: ea. | F45: 18 | I45: =(G45+H45)*$F45 -> 0
B46: 2.138 | C46: R.2.287 | D46: 6mm² x 3-core | E46: ea. | F46: 18 | I46: =(G46+H46)*$F46 -> 0
... B52: 2.144 | C52: R.2.293 | D52: 1,5mm² x 3-core | E52: ea. | F52: 7 | I52: =(G52+H52)*$F52 -> 0
C53: R.2.294 | D53: LOW VOLTAGE CABLE JOINTS | F53: 0 | I53: =(G53+H53)*$F53 -> 0
C54: R.2.295 | D54: Joint 1 000V PVC/SWA/PVC cables | F54: 0 | I54: =(G54+H54)*$F54 -> 0
...

Sheet SCHEDULE 3A-1_NMB
B2: =SUMMARY!B2 -> ECDOH GENERAL ELECTRICAL LV MAINTENANCE AND REPAIR CONTRACT
B3: ='[3]SCHED 1A-1_NM'!B3 -> CONTRACT REF. NO: | D3: =SUMMARY!D4 -> CMU3-2627-0192-NMB: | E3: Cluster/District: | I3: ='SCHED 1A-1_NMB'!G3 -> NELSON MANDELA BAY
B4: ='[3]SCHED 1A-1_NM'!B4 -> ASSET TYPE: | D4: LV EQUIPMENT
B6: SCHEDULE 3A-1 : | D6: MAINTENANCE SERVICE SCHEDULE
B8: ITEM Nr. | C8: PAYMENT REFERS | D8: DESCRIPTION | E8: UNIT | F8: Per Facility | G8: No. of Services | H8: QTY (A) | I8: RATE (B) | J8: AMOUNT (C) = (A) x (B)
B9: 3A-1 | D9: Routine Inspections : the full installation on site will be visually inspected for general compliance with SANS 10142-1. An inspection report will be submitted by the contractor upon completion of the inspection and signed off by the engineer.
D10: Routine Inspection : Price per Six Monthly Inspection per Facility.
D11: Rate shall include for all costs to complete task; such as labour, travelling, accommodation, subsistence allowance, etc.
B12: 3A-1.1 | D12: Dora Nginza Hospital | E12: No | F12: 1 | G12: 4 | H12: =F12*G12 -> 4
B13: 3A-1.2 | D13: Livingstone Hospital | E13: No | F13: 1 | G13: 4 | H13: =F13*G13 -> 4
B14: 3A-1.3 | D14: Port Elizabeth Provincial Hospital | E14: No | F14: 1 | G14: 4 | H14: =F14*G14 -> 4
B15: 3A-1.4 | D15: Uitenhage Provincial Hospital | E15: No | F15: 1 | G15: 4 | H15: =F15*G15 -> 4
B16: 3A-1.5 | D16: Elizabeth Donkin Psychiatric Hospital | E16: No | F16: 1 | G16: 4 | H16: =F16*G16 -> 4
B17: 3A-1.6 | D17: Empilweni TB Hospital | E17: No | F17: 1 | G17: 4 | H17: =F17*G17 -> 4
B20: TOTAL CARRIED FORWARD TO SUMMARY

Sheet SCHEDULE 3A-2_NMB
B2: =SUMMARY!B2 -> ECDOH GENERAL ELECTRICAL LV MAINTENANCE AND REPAIR CONTRACT
B3: ='[3]SCHED 1A-1_NM'!B3 -> CONTRACT REF. NO: | D3: =SUMMARY!D4 -> CMU3-2627-0192-NMB: | E3: Cluster/District: | I3: ='SCHED 1A-1_NMB'!G3 -> NELSON MANDELA BAY
B4: ='[3]SCHED 1A-1_NM'!B4 -> ASSET TYPE: | D4: LV EQUIPMENT
B6: SCHEDULE 3A-2 : | D6: MAINTENANCE SERVICE SCHEDULE (SPECIALIST EQUIPMENT)
B8: ITEM Nr. | C8: PAYMENT REFERS | D8: DESCRIPTION | E8: UNIT | F8: Per/ Facility | G8: No. of Services | H8: QTY (A) | I8: RATE (B) | J8: AMOUNT (C) = (A) x (B)
B9: 3A-2 | D9: Routine Inspections : the full installation on site will be visually inspected for general compliance. An inspection report and repair quote will be submitted by the contractor upon completion of the inspection and signed off by the engineer.
D10: Dora Nginza Hospital
D11: Routine Inspection : Price per Six Monthly/Annual Inspection per Facility.
B12: 3A-2.1.1 | D12: NURSE CALL SYSTEM | E12: No | F12: 1 | G12: 4 | H12: =G12*F12 -> 4
B13: 3A-2.1.2 | D13: UNINTERRUPTED POWER SUPPLY SYSTEMS (UPS) | E13: No | F13: 1 | G13: 4 | H13: =G13*F13 -> 4
B14: 3A-2.1.3 | D14: CCTV | E14: No | F14: 1 | G14: 4 | H14: =G14*F14 -> 4
B15: 3A-2.1.4 | D15: PUBLIC ADDRESS SYSTEM (PA) | E15: No | F15: 1 | G15: 4 | H15: =G15*F15 -> 4
B16: 3A-2.1.5 | D16: PHOTO VOLTAIC SYSTEM | E16: No | F16: 1 | G16: 0 | H16: =G16*F16 -> 0
B17: 3A-2.1.6 | D17: ACCESS CONTROL | E17: No | F17: 1 | G17: 4 | H17: =G17*F17 -> 4
D18: Livingstone HospitalGreenville Hospital
D19: Routine Inspection : Price per Six Monthly/Annual Inspection per Facility.
B20: 3A-2.2.1 | D20: NURSE CALL SYSTEM | E20: No | F20: 1 | G20: 4 | H20: =G20*F20 -> 4
B21: 3A-2.2.2 | D21: UNINTERRUPTED POWER SUPPLY SYSTEMS (UPS) | E21: No | F21: 1 | G21: 4 | H21: =G21*F21 -> 4
B22: 3A-2.2.3 | D22: CCTV | E22: No | F22: 1 | G22: 4 | H22: =G22*F22 -> 4
B23: 3A-2.2.4 | D23: PUBLIC ADDRESS SYSTEM (PA) | E23: No | F23: 1 | G23: 4 | H23: =G23*F23 -> 4
B24: 3A-2.2.5 | D24: PHOTO VOLTAIC SYSTEM | E24: No | F24: 1 | G24: 0 | H24: =G24*F24 -> 0
B25: 3A-2.2.6 | D25: ACCESS CONTROL | E25: No | F25: 1 | G25: 4 | H25: =G25*F25 -> 4
D26: Port Elizabeth Provincial Hospital
D27: Routine Inspection : Price per Six Monthly/Annual Inspection per Facility.
B28: 3A-2.3.1 | D28: NURSE CALL SYSTEM | E28: No | F28: 1 | G28: 4 | H28: =G28*F28 -> 4
B29: 3A-2.3.2 | D29: UNINTERRUPTED POWER SUPPLY SYSTEMS (UPS) | E29: No | F29: 1 | G29: 4 | H29: =G29*F29 -> 4
B30: 3A-2.3.3 | D30: CCTV | E30: No | F30: 1 | G30: 4 | H30: =G30*F30 -> 4
B31: 3A-2.3.4 | D31: PUBLIC ADDRESS SYSTEM (PA) | E31: No | F31: 1 | G31: 4 | H31: =G31*F31 -> 4
B32: 3A-2.3.5 | D32: PHOTO VOLTAIC SYSTEM | E32: No | F32: 1 | G32: 0 | H32: =G32*F32 -> 0
B33: 3A-2.3.6 | D33: ACCESS CONTROL | E33: No | F33: 1 | G33: 4 | H33: =G33*F33 -> 4
D34: Uitenhage Provincial Hospital
D35: Routine Inspection : Price per Six Monthly/Annual Inspection per Facility.
B36: 3A-2.4.1 | D36: NURSE CALL SYSTEM | E36: No | F36: 1 | G36: 4 | H36: =G36*F36 -> 4
B37: 3A-2.4.2 | D37: UNINTERRUPTED POWER SUPPLY SYSTEMS (UPS) | E37: No | F37: 1 | G37: 4 | H37: =G37*F37 -> 4
B38: 3A-2.4.3 | D38: CCTV | E38: No | F38: 1 | G38: 4 | H38: =G38*F38 -> 4
B39: 3A-2.4.4 | D39: PUBLIC ADDRESS SYSTEM (PA) | E39: No | F39: 1 | G39: 4 | H39: =G39*F39 -> 4
B40: 3A-2.4.5 | D40: PHOTO VOLTAIC SYSTEM | E40: No | F40: 1 | G40: 0 | H40: =G40*F40 -> 0
B41: 3A-2.4.6 | D41: ACCESS CONTROL | E41: No | F41: 1 | G41: 4 | H41: =G41*F41 -> 4
D42: Elizabeth Donkin Psychiatric Hospital
D43: Routine Inspection : Price per Six Monthly/Annual Inspection per Facility.
...

Sheet SCHEDULE 4
B3: =SUMMARY!B2 -> ECDOH GENERAL ELECTRICAL LV MAINTENANCE AND REPAIR CONTRACT
B4: CONTRACT REF. NO: | D4: =SUMMARY!D4 -> CMU3-2627-0192-NMB: | E4: Cluster/District: | G4: =SUMMARY!F4 -> NELSON MANDELA BAY DISTRICT
B5: ASSET TYPE: | D5: LV INSTALLATIONS
B7: SCHEDULE 4 : | D7: TERM REPAIRS SUBJECT TO APPROVAL OF QUOTATION OF THE WORKS
B9: ITEM Nr. | C9: PAYMENT REFERS | D9: DESCRIPTION | E9: UNIT | F9: QTY | G9: RATE | H9: AMOUNT
B10: 4.1 | D10: LABOUR RATES APPLICABLE TO UNSCHEDULED WORK: Labour rates that Contractor will charge for additional adhoc work that is not contained in Schedules 1 to 3.
B11: 4.1.1 | D11: Electrical Maintenance Supervisor | E11: Hr | F11: =F12*0.5 -> 468
B12: 4.1.2 | D12: Artisan (Trade Tested) | E12: Hr | F12: =((4*36)*13)/2 -> 936
B13: 4.1.3 | D13: Artisan Aid | E13: Hr | F13: =((4*36)*13)/2 -> 936
B15: 4.2 | D15: TRAVELLING : Travelling cost will be as per the rates for reimbursable expenses published monthly by the National Department of Public Works at the time of rendering the service/repair. (To be paid on proven cost)
B16: 4.2.1 | D16: Vehicle Travelling Estimate | E16: Km | F16: =((42*2)*36)*11 -> 33264
B17: 4.3 | D17: ACCOMMODATION AND SUBSISTENCE : Daily Rates per person that the Contractor will claim for approved trips lasting more than one day at a time. (To be paid on proven cost)
B18: 4.3.1 | D18: Accommodation | E18: Per/night | F18: 72
D20: SPECIALIST EQUIPMENT AT HOSPITALS
B21: 4.4 | D21: PROVISION TO COVER REPAIRS DURING THE TERM OF THE CONTRACT (SPECIALIST EQUIPMENT) : Lump Sum Provision to cover repairs, breakdowns and routine maintenance during the course of the Contract in addition to the agreed routine servicing of the Assets. | E21: PSum | F21: 1 | G21: 5811546 | H21: =F21*G21 -> 5811546
B22: 4.4.1 | D22: DIRECT FEE PERCENTAGE (MARK-UP) ON MATERIALS AND SERVICES THAT IS NOT INCLUDED IN PRICE LISTS : Mark-up on proven cost for materials and/or Outsourced Services based on the Provisional sum listed in Item 4.5 above. (Apply % to provisional sum in Item 4.5 above when pricing the tender) | E22: %
D23: CLINICS
B24: 4.5 | D24: PROVISION TO COVER REPAIRS DURING THE TERM OF THE CONTRACT (CLINICS) : Lump Sum Provision to cover repairs and breakdowns during the course of the Contract in addition to the agreed routine servicing of the Assets. | E24: PSum | F24: 1 | G24: 1350000 | H24: =F24*G24 -> 1350000
B28: TOTAL CARRIED FORWARD TO SUMMARY

Sheet WORK ORDERS  01 LAETITIA BAM CH
A9: QUOTE TO : | F9: Qoute No | H9: 1
A10: Department of Health | F10: Date | H10: 43770
A11: 717 Dukumbana Building | F11: Facility | H11: LAETITIA BAM CHC
A12: Independent Avenue | F12: Work Order | H12: 39138
A13: Bhisho | F13: Tender No | H13: SCMU3 - 17/18-0303 - HO
F14: Contract Term | H14: 24 MONTHS
A15: WORK REQUEST : Generator is faulty.
A16: SCHEDULED WORK
A17: Item 1 | B17: Discription | E17: Unit | F17: Sch No | G17: Quantity | H17: Rate | I17: Amount
I18: =SUM(G18*H18) -> 0
I19: =SUM(G19*H19) -> 0
I20: =SUM(G20*H20) -> 0
A21: Sub Total A | I21: =SUM(I18:I20) -> 0
A22: NON SCHEDULED WORK
A23: Item 2 | B23: Discription | F23: Quantity | G23: Mark -Up | H23: Rate | I23: Amount
A24: 1 | B24: RELAY 11 PIN 12V DC | F24: 2 | G24: 0.15 | H24: 110 | I24: =H24*F24*1.15 -> 253
A25: 2 | B25: RELAY BASE | F25: 2 | G25: 0.15 | H25: 65 | I25: =H25*F25*1.15 -> 149.5
A26: 3 | B26: DEEPSEA CONTROLLER | F26: 1 | G26: 0.15 | H26: 6239 | I26: =H26*F26*1.15 -> 7174.85
A27: 4 | B27: MCB 6A SP | F27: 2 | G27: 0.15 | H27: 21.6 | I27: =H27*F27*1.15 -> 49.68
A28: 5 | B28: RED STOP TWIST RELEASE | F28: 2 | G28: 0.15 | H28: 65.5 | I28: =H28*F28*1.15 -> 150.65
A29: 6 | B29: CONTACT BLOCK 1N/0 + 1N/C | F29: 2 | G29: 0.15 | H29: 68.5 | I29: =H29*F29*1.15 -> 157.55
A32: Sub Total B | I32: =SUM(I24:I31) -> 7935.23
A33: LABOUR
A34: Item 3 | B34: (Normal Rate) | E34: Unit | G34: Quantity | H34: Rate | I34: Amount
A35: 1 | B35: Techinician | E35: HRS | G35: 15 | H35: 450 | I35: =SUM(G35*H35) -> 6750
A36: 2 | B36: Senior Artisan | E36: HRS | H36: 350 | I36: =SUM(G36*H36) -> 0
A37: 3 | B37: Artisan (Trade Tested) | E37: HRS | H37: 300 | I37: =SUM(G37*H37) -> 0
A38: 4 | B38: Utility Man (Non - Trade Tested) | E38: HRS | G38: 15 | H38: 200 | I38: =SUM(G38*H38) -> 3000
A39: 5 | B39: Artisan Aid | E39: HRS | H39: 200 | I39: =SUM(G39*H39) -> 0
A40: 6 | B40: General Worker | E40: HRS | H40: 140 | I40: =SUM(G40*H40) -> 0
A44: Sub Total C | I44: =SUM(I35:I43) -> 9750
A45: TRANSPORT
A46: Item 4 | B46: Destinantion | E46: No of Trips | G46: KMs | H46: Rate | I46: Amount
A47: 12 | B47: Port Elizabeth office to Laetitia Bam
B48: CHC and back. | E48: 2 | G48: 154.4 | H48: 5 | I48: =H48*G48 -> 772
A50: Sub Total D | I50: =SUM(I47:I49) -> 772
G52: Sub Total (A+B+C+D) | I52: =I50+I44+I32+I21 -> 18457.23
G54: Sub Total | I54: =I52+I53 -> 18457.23

Sheet JOSE PEARSON TB HOSPITAL (02)
A9: QUOTE TO : | F9: Qoute No | H9: 2
A10: Department of Health | F10: Date | H10: 43498
A11: 717 Dukumbana Building | F11: Facility | H11: JOSE PEARSON TB HOSPITAL
A12: Independent Avenue | F12: Work Order | H12: 40578
A13: Bhisho | F13: Tender No | H13: SCMU3 - 17/18-0303 - HO
F14: Contract Term | H14: 24 MONTHS
A15: WORK REQUEST : Phamarcy building dep needs to be connected to the gen
A16: SCHEDULED WORK
A17: Item 1 | B17: Discription | E17: Unit | F17: Sch No | G17: Quantity | H17: Rate | I17: Amount
I18: =SUM(G18*H18) -> 0
I19: =SUM(G19*H19) -> 0
I20: =SUM(G20*H20) -> 0
A21: Sub Total A | I21: =SUM(I18:I20) -> 0
A22: NON SCHEDULED WORK
A23: Item 2 | B23: Discription | F23: Quantity | G23: MarK UP | H23: Rate | I23: Amount
A32: Sub Total B | I32: =SUM(I24:I31) -> 0
A33: LABOUR
A34: Item 3 | B34: (Normal Rate) | E34: Unit | G34: Quantity | H34: Rate | I34: Amount
A35: 1 | B35: Techinician | E35: HRS | G35: 6 | H35: 450 | I35: =SUM(G35*H35) -> 2700
A36: 2 | B36: Senior Artisan | E36: HRS | H36: 350 | I36: =SUM(G36*H36) -> 0
A37: 3 | B37: Artisan (Trade Tested) | E37: HRS | H37: 300 | I37: =SUM(G37*H37) -> 0
A38: 4 | B38: Utility Man (Non - Trade Tested) | E38: HRS | G38: 6 | H38: 200 | I38: =SUM(G38*H38) -> 1200
A39: 5 | B39: Artisan Aid | E39: HRS | H39: 200 | I39: =SUM(G39*H39) -> 0
A40: 6 | B40: General Worker | E40: HRS | H40: 140 | I40: =SUM(G40*H40) -> 0
A44: Sub Total C | I44: =SUM(I35:I43) -> 3900
A45: TRANSPORT
A46: Item 4 | B46: Destinantion | E46: No of Trips | G46: KMs | H46: Rate | I46: Amount
A47: 12 | B47: Port Elizabeth office to Jose Pearson
B48: TB Hospital and back. | E48: 1 | G48: 47 | H48: 5 | I48: =H48*G48 -> 235
A50: Sub Total D | I50: =SUM(I47:I49) -> 235
G52: Sub Total (A+B+C+D) | I52: =I50+I44+I32+I21 -> 4135
G54: Sub Total | I54: =I52 -> 4135

Sheet NEW BRIGHTON MORTUARY (03)
A9: QUOTE TO : | F9: Qoute No | H9: 3
A10: Department of Health | F10: Date | H10: 43801
A11: 717 Dukumbana Building | F11: Facility | H11: NEW BRIGHTON MORTUARY
A12: Independent Avenue | F12: Work Order | H12: 41253
A13: Bhisho | F13: Tender No | H13: SCMU3 - 17/18-0303 - HO
F14: Contract Term | H14: 24 MONTHS
A15: WORK REQUEST : Gen does not start.
A16: SCHEDULED WORK
A17: Item 1 | B17: Discription | E17: Unit | F17: Sch No | G17: Quantity | H17: Rate | I17: Amount
I18: =SUM(G18*H18) -> 0
I19: =SUM(G19*H19) -> 0
I20: =SUM(G20*H20) -> 0
A21: Sub Total A | I21: =SUM(I18:I20) -> 0
A22: NON SCHEDULED WORK
A23: Item 2 | B23: Discription | F23: Quantity | G23: MarK UP | H23: Rate | I23: Amount
A32: Sub Total B | I32: =SUM(I24:I31) -> 0
A33: LABOUR
A34: Item 3 | B34: (Normal Rate) | E34: Unit | G34: Quantity | H34: Rate | I34: Amount
A35: 1 | B35: Techinician | E35: HRS | G35: 1.5 | H35: 450 | I35: =SUM(G35*H35) -> 675
A36: 2 | B36: Senior Artisan | E36: HRS | H36: 350 | I36: =SUM(G36*H36) -> 0
A37: 3 | B37: Artisan (Trade Tested) | E37: HRS | H37: 300 | I37: =SUM(G37*H37) -> 0
A38: 4 | B38: Utility Man (Non - Trade Tested) | E38: HRS | G38: 1.5 | H38: 200 | I38: =SUM(G38*H38) -> 300
A39: 5 | B39: Artisan Aid | E39: HRS | H39: 200 | I39: =SUM(G39*H39) -> 0
A40: 6 | B40: General Worker | E40: HRS | H40: 140 | I40: =SUM(G40*H40) -> 0
A44: Sub Total C | I44: =SUM(I35:I43) -> 975
A45: TRANSPORT
A46: Item 4 | B46: Destinantion | E46: No of Trips | G46: KMs | H46: Rate | I46: Amount
A47: 12 | B47: Port Elizabeth office to New Brighton
B48: Mortuary and back. | E48: 1 | G48: 21.4 | H48: 5 | I48: =H48*G48 -> 107
A50: Sub Total D | I50: =SUM(I47:I49) -> 107
G52: Sub Total (A+B+C+D) | I52: =I50+I44+I32+I21 -> 1082
G54: Sub Total | I54: =I52+I53 -> 1082

Sheet DORA NGIZA HOSPITAL (04)
A9: QUOTE TO : | F9: Qoute No | H9: 4
A10: Department of Health | F10: Date | H10: 43771
A11: 717 Dukumbana Building | F11: Facility | H11: DORA NGINZA HOSPITAL
A12: Independent Avenue | F12: Work Order | H12: 41177
A13: Bhisho | F13: Tender No | H13: SCMU3 - 17/18-0303 - HO
F14: Contract Term | H14: 24 MONTHS
A15: WORK REQUEST : Request to repair faulty cable connecting to thechange over switch.
A16: SCHEDULED WORK
A17: Item 1 | B17: Discription | E17: Unit | F17: Sch No | G17: Quantity | H17: Rate | I17: Amount
I18: =SUM(G18*H18) -> 0
I19: =SUM(G19*H19) -> 0
I20: =SUM(G20*H20) -> 0
A21: Sub Total A | I21: =SUM(I18:I20) -> 0
A22: NON SCHEDULED WORK
A23: Item 2 | B23: Discription | F23: Quantity | G23: Mark - Up | H23: Rate | I23: Amount
A24: 1 | B24: ELECTRO PHASE FAILER RELAY 400V | F24: 1 | G24: 0.15 | H24: 396 | I24: =H24*F24*1.15 -> 455.4
A25: 2 | B25: 10 X 38mm FUSE 100KVA | F25: 1 | G25: 0.15 | H25: 12 | I25: =H25*F25*1.15 -> 13.8
A32: Sub Total B | I32: =SUM(I24:I31) -> 469.2
A33: LABOUR
A34: Item 3 | B34: (Normal Rate) | E34: Unit | G34: Quantity | H34: Rate | I34: Amount
A35: 1 | B35: Techinician | E35: HRS | G35: 2 | H35: 450 | I35: =SUM(G35*H35) -> 900
A36: 2 | B36: Senior Artisan | E36: HRS | H36: 350 | I36: =SUM(G36*H36) -> 0
A37: 3 | B37: Artisan (Trade Tested) | E37: HRS | H37: 300 | I37: =SUM(G37*H37) -> 0
A38: 4 | B38: Utility Man (Non - Trade Tested) | E38: HRS | G38: 2 | H38: 200 | I38: =SUM(G38*H38) -> 400
A39: 5 | B39: Artisan Aid | E39: HRS | H39: 200 | I39: =SUM(G39*H39) -> 0
A40: 6 | B40: General Worker | E40: HRS | H40: 140 | I40: =SUM(G40*H40) -> 0
A44: Sub Total C | I44: =SUM(I35:I43) -> 1300
A45: TRANSPORT
A46: Item 4 | B46: Destinantion | E46: No of Trips | G46: KMs | H46: Rate | I46: Amount
A47: 1 | B47: Port Elizabeth office to Dora Nginza
B48: Hospital and back. | E48: 1 | G48: 28.6 | H48: 5 | I48: =H48*G48 -> 143
A50: Sub Total D | I50: =SUM(I47:I49) -> 143
G52: Sub Total (A+B+C+D) | I52: =I50+I44+I32+I21 -> 1912.2
G54: Sub Total | I54: =I52+I53 -> 1912.2

Sheet LAETITIA BAM CHC (05)
A9: QUOTE TO : | F9: Qoute No | H9: 5
A10: Department of Health | F10: Date | H10: 43740
A11: 717 Dukumbana Building | F11: Facility | H11: LAETITIA BAM CHC
A12: Independent Avenue | F12: Work Order | H12: 41140
A13: Bhisho | F13: Tender No | H13: SCMU3 - 17/18-0303 - HO
F14: Contract Term | H14: 24 MONTHS
A15: WORK REQUEST : Gen did not start.
A16: SCHEDULED WORK
A17: Item 1 | B17: Discription | E17: Unit | F17: Sch No | G17: Quantity | H17: Rate | I17: Amount
I18: =SUM(G18*H18) -> 0
I19: =SUM(G19*H19) -> 0
I20: =SUM(G20*H20) -> 0
A21: Sub Total A | I21: =SUM(I18:I20) -> 0
A22: NON SCHEDULED WORK
A23: Item 2 | B23: Discription | F23: Quantity | H23: Rate | I23: Amount
A32: Sub Total B | I32: =SUM(I24:I31) -> 0
A33: LABOUR
A34: Item 3 | B34: (Normal Rate) | E34: Unit | G34: Quantity | H34: Rate | I34: Amount
A35: 1 | B35: Techinician | E35: HRS | G35: 1 | H35: 450 | I35: =SUM(G35*H35) -> 450
A36: 2 | B36: Senior Artisan | E36: HRS | H36: 350 | I36: =SUM(G36*H36) -> 0
A37: 3 | B37: Artisan (Trade Tested) | E37: HRS | H37: 300 | I37: =SUM(G37*H37) -> 0
A38: 4 | B38: Utility Man (Non - Trade Tested) | E38: HRS | G38: 1 | H38: 200 | I38: =SUM(G38*H38) -> 200
A39: 5 | B39: Artisan Aid | E39: HRS | H39: 200 | I39: =SUM(G39*H39) -> 0
A40: 6 | B40: General Worker | E40: HRS | H40: 140 | I40: =SUM(G40*H40) -> 0
A44: Sub Total C | I44: =SUM(I35:I43) -> 650
A45: TRANSPORT
A46: Item 4 | B46: Destinantion | E46: No of Trips | G46: KMs | H46: Rate | I46: Amount
A47: 1 | B47: Port Elizabeth office to Laetitia Bam
B48: CHC and back. | E48: 1 | G48: 77.2 | H48: 5 | I48: =H48*G48 -> 386
A50: Sub Total D | I50: =SUM(I47:I49) -> 386
G52: Sub Total (A+B+C+D) | I52: =I50+I44+I32+I21 -> 1036
G54: Sub Total | I54: =I52+I53 -> 1036

Sheet MOTHERWELL CHC (06)
A9: QUOTE TO : | F9: Qoute No | H9: 6
A10: Department of Health | F10: Date | H10: 13/2/2019
A11: 717 Dukumbana Building | F11: Facility | H11: MOTHERWELL CHC
A12: Independent Avenue | F12: Work Order | H12: 41408
A13: Bhisho | F13: Tender No | H13: SCMU3 - 17/18-0303 - HO
F14: Contract Term | H14: 24 MONTHS
A15: WORK REQUEST : Request to repair gen ,not staring.
A16: SCHEDULED WORK
A17: Item 1 | B17: Discription | E17: Unit | F17: Sch No | G17: Quantity | H17: Rate | I17: Amount
I18: =SUM(G18*H18) -> 0
I19: =SUM(G19*H19) -> 0
I20: =SUM(G20*H20) -> 0
A21: Sub Total A | I21: =SUM(I18:I20) -> 0
A22: NON SCHEDULED WORK
A23: Item 2 | B23: Discription | F23: Quantity | H23: Rate | I23: Amount
A32: Sub Total B | I32: =SUM(I24:I31) -> 0
A33: LABOUR
A34: Item 3 | B34: (Normal Rate) | E34: Unit | G34: Quantity | H34: Rate | I34: Amount
A35: 1 | B35: Techinician | E35: HRS | G35: 1 | H35: 450 | I35: =SUM(G35*H35) -> 450
A36: 2 | B36: Senior Artisan | E36: HRS | H36: 350 | I36: =SUM(G36*H36) -> 0
A37: 3 | B37: Artisan (Trade Tested) | E37: HRS | H37: 300 | I37: =SUM(G37*H37) -> 0
A38: 4 | B38: Utility Man (Non - Trade Tested) | E38: HRS | G38: 1 | H38: 200 | I38: =SUM(G38*H38) -> 200
A39: 5 | B39: Artisan Aid | E39: HRS | H39: 200 | I39: =SUM(G39*H39) -> 0
A40: 6 | B40: General Worker | E40: HRS | H40: 140 | I40: =SUM(G40*H40) -> 0
A44: Sub Total C | I44: =SUM(I35:I43) -> 650
A45: TRANSPORT
A46: Item 4 | B46: Destinantion | E46: No of Trips | G46: KMs | H46: Rate | I46: Amount
A47: 12 | B47: Port Elizabeth office to Motherwell
B48: CHC and back. | E48: 1 | G48: 48.8 | H48: 5 | I48: =H48*G48 -> 244
A50: Sub Total D | I50: =SUM(I47:I49) -> 244
G52: Sub Total (A+B+C+D) | I52: =I50+I44+I32+I21 -> 894
G54: Sub Total | I54: =I52+I53 -> 894

Sheet MOTHERWEL CHC (07)
A9: QUOTE TO : | F9: Qoute No | H9: 7
A10: Department of Health | F10: Date | H10: 18/2/2019
A11: 717 Dukumbana Building | F11: Facility | H11: MOTHERWELL CHC
A12: Independent Avenue | F12: Work Order | H12: 43238
A13: Bhisho | F13: Tender No | H13: SCMU3 - 17/18-0303 - HO
F14: Contract Term | H14: 24 MONTHS
A15: WORK REQUEST : Repair to faulty gen keeps on tripping.
A16: SCHEDULED WORK
A17: Item 1 | B17: Discription | E17: Unit | F17: Sch No | G17: Quantity | H17: Rate | I17: Amount
I18: =SUM(G18*H18) -> 0
I19: =SUM(G19*H19) -> 0
I20: =SUM(G20*H20) -> 0
A21: Sub Total A | I21: =SUM(I18:I20) -> 0
A22: NON SCHEDULED WORK
A23: Item 2 | B23: Discription | F23: Quantity | H23: Rate | I23: Amount
A32: Sub Total B | I32: =SUM(I24:I31) -> 0
A33: LABOUR
A34: Item 3 | B34: (Normal Rate) | E34: Unit | G34: Quantity | H34: Rate | I34: Amount
A35: 1 | B35: Techinician | E35: HRS | G35: 1.5 | H35: 450 | I35: =SUM(G35*H35) -> 675
A36: 2 | B36: Senior Artisan | E36: HRS | H36: 350 | I36: =SUM(G36*H36) -> 0
A37: 3 | B37: Artisan (Trade Tested) | E37: HRS | H37: 300 | I37: =SUM(G37*H37) -> 0
A38: 4 | B38: Utility Man (Non - Trade Tested) | E38: HRS | G38: 1.5 | H38: 200 | I38: =SUM(G38*H38) -> 300
A39: 5 | B39: Artisan Aid | E39: HRS | H39: 200 | I39: =SUM(G39*H39) -> 0
A40: 6 | B40: General Worker | E40: HRS | H40: 140 | I40: =SUM(G40*H40) -> 0
A44: Sub Total C | I44: =SUM(I35:I43) -> 975
A45: TRANSPORT
A46: Item 4 | B46: Destinantion | E46: No of Trips | G46: KMs | H46: Rate | I46: Amount
A47: 1 | B47: Port Elizabeth office to Motherwell
B48: CHC and back. | E48: 1 | G48: 48.8 | H48: 5 | I48: =H48*G48 -> 244
A50: Sub Total D | I50: =SUM(I47:I49) -> 244
G52: Sub Total (A+B+C+D) | I52: =I50+I44+I32+I21 -> 1219
G54: Sub Total | I54: =I52+I53 -> 1219

Sheet ORSMOND TB HOSPITAL (08)
A9: QUOTE TO : | F9: Qoute No | H9: 8
A10: Department of Health | F10: Date | H10: 16/2/2019
A11: 717 Dukumbana Building | F11: Facility | H11: ORSMOND TB HOSPITAL
A12: Independent Avenue | F12: Work Order | H12: 43191
A13: Bhisho | F13: Tender No | H13: SCMU3 - 17/18-0303 - HO
F14: Contract Term | H14: 24 MONTHS
A15: WORK REQUEST : Gen faulty.
A16: SCHEDULED WORK
A17: Item 1 | B17: Discription | E17: Unit | F17: Sch No | G17: Quantity | H17: Rate | I17: Amount
I18: =SUM(G18*H18) -> 0
I19: =SUM(G19*H19) -> 0
I20: =SUM(G20*H20) -> 0
A21: Sub Total A | I21: =SUM(I18:I20) -> 0
A22: NON SCHEDULED WORK
A23: Item 2 | B23: Discription | F23: Quantity | G23: Mark - Up | H23: Rate | I23: Amount
A32: Sub Total B | I32: =SUM(I24:I31) -> 0
A33: LABOUR
A34: Item 3 | B34: (Normal Rate) | E34: Unit | G34: Quantity | H34: Rate | I34: Amount
A35: 1 | B35: Techinician | E35: HRS | G35: 2.5 | H35: 450 | I35: =SUM(G35*H35) -> 1125
A36: 2 | B36: Senior Artisan | E36: HRS | H36: 350 | I36: =SUM(G36*H36) -> 0
A37: 3 | B37: Artisan (Trade Tested) | E37: HRS | H37: 300 | I37: =SUM(G37*H37) -> 0
A38: 4 | B38: Utility Man (Non - Trade Tested) | E38: HRS | G38: 2.5 | H38: 200 | I38: =SUM(G38*H38) -> 500
A39: 5 | B39: Artisan Aid | E39: HRS | H39: 200 | I39: =SUM(G39*H39) -> 0
A40: 6 | B40: General Worker | E40: HRS | H40: 140 | I40: =SUM(G40*H40) -> 0
A44: Sub Total C | I44: =SUM(I35:I43) -> 1625
A45: TRANSPORT
A46: Item 4 | B46: Destinantion | E46: No of Trips | G46: KMs | H46: Rate | I46: Amount
A47: 1 | B47: Port Elizabeth office to Orsmmon TB hospital
B48: and back. | E48: 1 | G48: 81.4 | H48: 5 | I48: =H48*G48 -> 407
A50: Sub Total D | I50: =SUM(I47:I49) -> 407
G52: Sub Total (A+B+C+D) | I52: =I50+I44+I32+I21 -> 2032
G54: Sub Total | I54: =I52+I53 -> 2032

Sheet JOSE PEARSON TB HOSPITAL (09)
A9: QUOTE TO : | F9: Qoute No | H9: 9
A10: Department of Health | F10: Date | H10: 43618
A11: 717 Dukumbana Building | F11: Facility | H11: JOSE PEARSON TB HOSPITAL
A12: Independent Avenue | F12: Work Order | H12: 42608
A13: Bhisho | F13: Tender No | H13: SCMU3 - 17/18-0303 - HO
F14: Contract Term | H14: 24 MONTHS
A15: WORK REQUEST : Repair to a faulty gen and diesel pump.
A16: SCHEDULED WORK
A17: Item 1 | B17: Discription | E17: Unit | F17: Sch No | G17: Quantity | H17: Rate | I17: Amount
I18: =SUM(G18*H18) -> 0
I19: =SUM(G19*H19) -> 0
I20: =SUM(G20*H20) -> 0
A21: Sub Total A | I21: =SUM(I18:I20) -> 0
A22: NON SCHEDULED WORK
A23: Item 2 | B23: Discription | F23: Quantity | G23: Mark -Up | H23: Rate | I23: Amount
A24: 1 | B24: ROTARY PUMP | F24: 1 | G24: 0.15 | H24: 239.13 | I24: =H24*F24*1.15 -> 274.9995
A25: 2 | B25: BOND ADHESIVE | F25: 1 | G25: 0.15 | H25: 52.17 | I25: =H25*F25*1.15 -> 59.9955
A32: Sub Total B | I32: =SUM(I24:I31) -> 334.995
A33: LABOUR
A34: Item 3 | B34: (Normal Rate) | E34: Unit | G34: Quantity | H34: Rate | I34: Amount
A35: 1 | B35: Techinician | E35: HRS | G35: 2 | H35: 450 | I35: =SUM(G35*H35) -> 900
A36: 2 | B36: Senior Artisan | E36: HRS | H36: 350 | I36: =SUM(G36*H36) -> 0
A37: 3 | B37: Artisan (Trade Tested) | E37: HRS | H37: 300 | I37: =SUM(G37*H37) -> 0
A38: 4 | B38: Utility Man (Non - Trade Tested) | E38: HRS | G38: 2 | H38: 200 | I38: =SUM(G38*H38) -> 400
A39: 5 | B39: Artisan Aid | E39: HRS | H39: 200 | I39: =SUM(G39*H39) -> 0
A40: 6 | B40: General Worker | E40: HRS | H40: 140 | I40: =SUM(G40*H40) -> 0
A44: Sub Total C | I44: =SUM(I35:I43) -> 1300
A45: TRANSPORT
A46: Item 4 | B46: Destinantion | E46: No of Trips | G46: KMs | H46: Rate | I46: Amount
A47: 1 | B47: Port Elizabeth office to Jose Pearson
B48: TB and back. | E48: 1 | G48: 47 | H48: 5 | I48: =H48*G48 -> 235
A50: Sub Total D | I50: =SUM(I47:I49) -> 235
G52: Sub Total (A+B+C+D) | I52: =I50+I44+I32+I21 -> 1869.995
G54: Sub Total | I54: =I52+I53 -> 1869.995

Sheet LIVINGSTONE HOSPITAL (10)
A9: QUOTE TO : | F9: Qoute No | H9: 10
A10: Department of Health | F10: Date | H10: 43619
A11: 717 Dukumbana Building | F11: Facility | H11: LIVINGSTONE HOSPITAL
A12: Independent Avenue | F12: Work Order | H12: 42600
A13: Bhisho | F13: Tender No | H13: SCMU3 - 17/18-0303 - HO
F14: Contract Term | H14: 24 MONTHS
A15: WORK REQUEST : Repair to faulty gen.
A16: SCHEDULED WORK
A17: Item 1 | B17: Discription | E17: Unit | F17: Sch No | G17: Quantity | H17: Rate | I17: Amount
I18: =SUM(G18*H18) -> 0
I19: =SUM(G19*H19) -> 0
I20: =SUM(G20*H20) -> 0
A21: Sub Total A | I21: =SUM(I18:I20) -> 0
A22: NON SCHEDULED WORK
A23: Item 2 | B23: Discription | F23: Quantity | G23: Mark - Up | H23: Rate | I23: Amount
A24: 1 | B24: BATTERY 689 SHD | F24: 4 | G24: 0.15 | H24: 3346 | I24: =H24*F24*1.15 -> 15391.6
A25: 2 | B25: BATTERY 689 | F25: 4 | G25: 0.15 | H25: 2213 | I25: =H25*F25*1.15 -> 10179.8
A32: Sub Total B | I32: =SUM(I24:I31) -> 25571.4
A33: LABOUR
A34: Item 3 | B34: (Normal Rate) | E34: Unit | G34: Quantity | H34: Rate | I34: Amount
A35: 1 | B35: Techinician | E35: HRS | G35: 4 | H35: 450 | I35: =SUM(G35*H35) -> 1800
A36: 2 | B36: Senior Artisan | E36: HRS | H36: 350 | I36: =SUM(G36*H36) -> 0
A37: 3 | B37: Artisan (Trade Tested) | E37: HRS | H37: 300 | I37: =SUM(G37*H37) -> 0
A38: 4 | B38: Utility Man (Non - Trade Tested) | E38: HRS | G38: 4 | H38: 200 | I38: =SUM(G38*H38) -> 800
A39: 5 | B39: Artisan Aid | E39: HRS | H39: 200 | I39: =SUM(G39*H39) -> 0
A40: 6 | B40: General Worker | E40: HRS | H40: 140 | I40: =SUM(G40*H40) -> 0
A44: Sub Total C | I44: =SUM(I35:I43) -> 2600
A45: TRANSPORT
A46: Item 4 | B46: Destinantion | E46: No of Trips | G46: KMs | H46: Rate | I46: Amount
A47: 1 | B47: Port Elizabeth office to Livingstone
B48: Hospital and back. | E48: 1 | G48: 23 | H48: 5 | I48: =H48*G48 -> 115
A50: Sub Total D | I50: =SUM(I47:I49) -> 115
G52: Sub Total (A+B+C+D) | I52: =I50+I44+I32+I21 -> 28286.4
G54: Sub Total | I54: =I52+I53 -> 28286.4

Sheet LAETITIA BAM CHC (11)
A9: QUOTE TO : | F9: Qoute No | H9: 11
A10: Department of Health | F10: Date | H10: 28/3/2019
A11: 717 Dukumbana Building | F11: Facility | H11: LAETITIA BAM CHC
A12: Independent Avenue | F12: Work Order | H12: 43269
A13: Bhisho | F13: Tender No | H13: SCMU3 - 17/18-0303 - HO
F14: Contract Term | H14: 24 MONTHS
A15: WORK REQUEST : Generator does not kick start.
A16: SCHEDULED WORK
A17: Item 1 | B17: Description | E17: Unit | F17: Sch No | G17: Quantity | H17: Rate | I17: Amount
I18: =SUM(G18*H18) -> 0
I19: =SUM(G19*H19) -> 0
I20: =SUM(G20*H20) -> 0
A21: Sub Total A | I21: =SUM(I18:I20) -> 0
A22: NON SCHEDULED WORK
A23: Item 2 | B23: Description | G23: Quantity | H23: Rate | I23: Amount
A32: Sub Total | I32: =SUM(I24:I31) -> 0
A33: Mark - Up 15% | I33: =I32*0.15 -> 0
A34: SUb Total B | I34: =I32+I33 -> 0
A35: LABOUR
A36: Item 3 | B36: (Normal Rate) | E36: Unit | G36: Quantity | H36: Rate | I36: Amount
A37: 1 | B37: Techinician | E37: HRS | G37: 2 | H37: 450 | I37: =SUM(G37*H37) -> 900
A38: 2 | B38: Senior Artisan | E38: HRS | H38: 350 | I38: =SUM(G38*H38) -> 0
A39: 3 | B39: Artisan (Trade Tested) | E39: HRS | H39: 300 | I39: =SUM(G39*H39) -> 0
A40: 4 | B40: Utility Man (Non - Trade Tested) | E40: HRS | G40: 2 | H40: 200 | I40: =SUM(G40*H40) -> 400
A41: 5 | B41: Artisan Aid | E41: HRS | H41: 200 | I41: =SUM(G41*H41) -> 0
A42: 6 | B42: General Worker | E42: HRS | H42: 140 | I42: =SUM(G42*H42) -> 0
A46: Sub Total C | I46: =SUM(I37:I45) -> 1300
A47: TRANSPORT
A48: Item 4 | B48: Destinantion | E48: No of Trips | G48: KMs | H48: Rate | I48: Amount
A49: 1 | B49: Port Elizabeth office to Laetitia CHC
B50: and back. | E50: 1 | G50: 77.4 | H50: 5 | I50: =H50*G50 -> 387
A52: Sub Total D | I52: =SUM(I49:I51) -> 387
G54: Sub Total (A+B+C+D) | I54: =I52+I46+I34 -> 1687
G56: Sub Total | I56: =I54+I55 -> 1687

Sheet WEST END (12)
A9: QUOTE TO : | F9: Qoute No | H9: 12
A10: Department of Health | F10: Date | H10: 22/3/2019
A11: 717 Dukumbana Building | F11: Facility | H11: West End CHC
A12: Independent Avenue | F12: Work Order | H12: 43444
A13: Bhisho | F13: Tender No | H13: SCMU3 - 17/18-0303 - HO
F14: Contract Term | H14: 24 MONTHS
A15: WORK REQUEST : The generator is leaking oil.
A16: SCHEDULED WORK
A17: Item 1 | B17: Description | E17: Unit | F17: Sch No | G17: Quantity | H17: Rate | I17: Amount
I18: =SUM(G18*H18) -> 0
I19: =SUM(G19*H19) -> 0
I20: =SUM(G20*H20) -> 0
A21: Sub Total A | I21: =SUM(I18:I20) -> 0
A22: NON SCHEDULED WORK
A23: Item 2 | B23: Description | G23: Quantity | H23: Rate | I23: Amount
A24: 1 | B24: REAR OIL SEAL (6105) | G24: 1 | H24: 172.17 | I24: =H24*G24 -> 172.17
A25: 2 | B25: RIMULA R4 X 15W40 | G25: 1 | H25: 665.1 | I25: =H25*G25 -> 665.1
A32: Sub Total | I32: =SUM(I24:I31) -> 837.27
A33: Mark - Up 15% | I33: =I32*0.15 -> 125.5905
A34: SUb Total B | I34: =I32+I33 -> 962.8605
A35: LABOUR
A36: Item 3 | B36: (Normal Rate) | E36: Unit | G36: Quantity | H36: Rate | I36: Amount
A37: 1 | B37: Techinician | E37: HRS | G37: 9 | H37: 450 | I37: =SUM(G37*H37) -> 4050
A38: 2 | B38: Senior Artisan | E38: HRS | H38: 350 | I38: =SUM(G38*H38) -> 0
A39: 3 | B39: Artisan (Trade Tested) | E39: HRS | H39: 300 | I39: =SUM(G39*H39) -> 0
A40: 4 | B40: Utility Man (Non - Trade Tested) | E40: HRS | G40: 9 | H40: 200 | I40: =SUM(G40*H40) -> 1800
A41: 5 | B41: Artisan Aid | E41: HRS | H41: 200 | I41: =SUM(G41*H41) -> 0
A42: 6 | B42: General Worker | E42: HRS | H42: 140 | I42: =SUM(G42*H42) -> 0
A46: Sub Total C | I46: =SUM(I37:I45) -> 5850
A47: TRANSPORT
A48: Item 4 | B48: Destinantion | E48: No of Trips | G48: KMs | H48: Rate | I48: Amount
A49: 1 | B49: Port Elizabeth office to West End
B50: Mortuary and back. | E50: 1 | G50: 73.6 | H50: 5 | I50: =H50*G50 -> 368
A52: Sub Total D | I52: =SUM(I49:I51) -> 368
G54: Sub Total (A+B+C+D) | I54: =I52+I46+I34+I21 -> 7180.8605
G56: Sub Total | I56: =I54+I55 -> 7180.8605

Sheet PORT ELIZABETH PRO.(13)
A9: QUOTE TO : | F9: Qoute No | H9: 13
A10: Department of Health | F10: Date | H10: 29/3/2019
A11: 717 Dukumbana Building | F11: Facility | H11: PORT ELIZABETH HOSPITAL PROV
A12: Independent Avenue | F12: Work Order | H12: 43856
A13: Bhisho | F13: Tender No | H13: SCMU3 - 17/18-0303 - HO
F14: Contract Term | H14: 24 MONTHS
A15: WORK REQUEST : The back up generator is faulty.
A16: SCHEDULED WORK
A17: Item 1 | B17: Description | E17: Unit | F17: Sch No | G17: Quantity | H17: Rate | I17: Amount
I18: =SUM(G18*H18) -> 0
I19: =SUM(G19*H19) -> 0
I20: =SUM(G20*H20) -> 0
A21: Sub Total A | I21: =SUM(I18:I20) -> 0
A22: NON SCHEDULED WORK
A23: Item 2 | B23: Description | G23: Quantity | H23: Rate | I23: Amount
A24: 1 | B24: 12 V REALY | G24: 1 | H24: 110 | I24: =H24*G24 -> 110
A32: Sub Total | I32: =SUM(I24:I31) -> 110
A33: Mark - Up 15% | I33: =I32*0.15 -> 16.5
A34: SUb Total B | I34: =I32+I33 -> 126.5
A35: LABOUR
A36: Item 3 | B36: (Normal Rate) | E36: Unit | G36: Quantity | H36: Rate | I36: Amount
A37: 1 | B37: Techinician | E37: HRS | G37: 2 | H37: 450 | I37: =SUM(G37*H37) -> 900
A38: 2 | B38: Senior Artisan | E38: HRS | H38: 350 | I38: =SUM(G38*H38) -> 0
A39: 3 | B39: Artisan (Trade Tested) | E39: HRS | H39: 300 | I39: =SUM(G39*H39) -> 0
A40: 4 | B40: Utility Man (Non - Trade Tested) | E40: HRS | G40: 2 | H40: 200 | I40: =SUM(G40*H40) -> 400
A41: 5 | B41: Artisan Aid | E41: HRS | H41: 200 | I41: =SUM(G41*H41) -> 0
A42: 6 | B42: General Worker | E42: HRS | H42: 140 | I42: =SUM(G42*H42) -> 0
A46: Sub Total C | I46: =SUM(I37:I45) -> 1300
A47: TRANSPORT
A48: Item 4 | B48: Destinantion | E48: No of Trips | G48: KMs | H48: Rate | I48: Amount
A49: 1 | B49: Port Elizabeth office to Prort Elizabeth Prov
B50: Hospital and back. | E50: 1 | G50: 1.9 | H50: 5 | I50: =H50*G50 -> 9.5
A52: Sub Total D | I52: =SUM(I49:I51) -> 9.5
G54: Sub Total (A+B+C+D) | I54: =I52+I46+I34+I21 -> 1436
G56: Sub Total | I56: =I54+I55 -> 1436

Sheet DORA NGIZA HOSP (14)
A9: QUOTE TO : | F9: Qoute No | H9: 14
A10: Department of Health | F10: Date | H10: 16/4/2019
A11: 717 Dukumbana Building | F11: Facility | H11: DORA HOSPITAL PROVINCIAL
A12: Independent Avenue | F12: Work Order | H12: 43167
A13: Bhisho | F13: Tender No | H13: SCMU3 - 17/18-0303 - HO
F14: Contract Term | H14: 24 MONTHS
A15: WORK REQUEST : Casuality generator has a faulty pre - heater.
A16: SCHEDULED WORK
A17: Item 1 | B17: Discription | E17: Unit | F17: Sch No | G17: Quantity | H17: Rate | I17: Amount
I18: =SUM(G18*H18) -> 0
I19: =SUM(G19*H19) -> 0
I20: =SUM(G20*H20) -> 0
A21: Sub Total A | I21: =SUM(I18:I20) -> 0
A22: NON SCHEDULED WORK
A23: Item 2 | B23: Description | G23: Quantity | H23: Rate | I23: Amount
A24: 1 | B24: ELEMENT (2KW) | G24: 1 | H24: 254.18 | I24: =H24*G24 -> 254.18
A25: 2 | B25: THERMOSTAT | G25: 1 | H25: 250.12 | I25: =H25*G25 -> 250.12
A26: 3 | B26: ANTIFREEZE | G26: 15 | H26: 39.81 | I26: =H26*G26 -> 597.15
A27: 4 | B27: 100A (MCB) | G27: 1 | H27: 1646.25 | I27: =H27*G27 -> 1646.25
A28: 5 | B28: SAMITE ADAPTOR PLATE | G28: 2 | H28: 18.9 | I28: =H28*G28 -> 37.8
I29: =H29*G29 -> 0
I30: =H30*G30 -> 0
A32: Sub Total | I32: =SUM(I24:I31) -> 2785.5
A33: Mark - Up 15% | I33: =I32*0.15 -> 417.825
A34: SUb Total B | I34: =I32+I33 -> 3203.325
A35: LABOUR
A36: Item 3 | B36: (Normal Rate) | E36: Unit | G36: Quantity | H36: Rate | I36: Amount
A37: 1 | B37: Techinician | E37: HRS | G37: 6 | H37: 450 | I37: =SUM(G37*H37) -> 2700
A38: 2 | B38: Senior Artisan | E38: HRS | H38: 350 | I38: =SUM(G38*H38) -> 0
A39: 3 | B39: Artisan (Trade Tested) | E39: HRS | H39: 300 | I39: =SUM(G39*H39) -> 0
A40: 4 | B40: Utility Man (Non - Trade Tested) | E40: HRS | G40: 6 | H40: 200 | I40: =SUM(G40*H40) -> 1200
A41: 5 | B41: Artisan Aid | E41: HRS | H41: 200 | I41: =SUM(G41*H41) -> 0
A42: 6 | B42: General Worker | E42: HRS | H42: 140 | I42: =SUM(G42*H42) -> 0
A46: Sub Total C | I46: =SUM(I37:I45) -> 3900
A47: TRANSPORT
A48: Item 4 | B48: Destinantion | E48: No of Trips | G48: KMs | H48: Rate | I48: Amount
A49: 1 | B49: Port Elizabeth office to Dora Ngiza
B50: Hospital and back. | E50: 1 | G50: 28.6 | H50: 5 | I50: =H50*G50 -> 143
A52: Sub Total D | I52: =SUM(I49:I51) -> 143
G54: Sub Total (A+B+C+D) | I54: =I52+I46+I34+I21 -> 7246.325
...

Sheet ORSMOND TB HOSP (15)
A9: QUOTE TO : | F9: Qoute No | H9: 15
A10: Department of Health | F10: Date | H10: 16/3/2019
A11: 717 Dukumbana Building | F11: Facility | H11: ORSMOND TB HOSPITAL
A12: Independent Avenue | F12: Work Order | H12: 44769
A13: Bhisho | F13: Tender No | H13: SCMU3 - 17/18-0303 - HO
F14: Contract Term | H14: 24 MONTHS
A15: WORK REQUEST : Back up generator does not start.
A16: SCHEDULED WORK
A17: Item 1 | B17: Discription | E17: Unit | F17: Sch No | G17: Quantity | H17: Rate | I17: Amount
I18: =SUM(G18*H18) -> 0
I19: =SUM(G19*H19) -> 0
I20: =SUM(G20*H20) -> 0
A21: Sub Total A | I21: =SUM(I18:I20) -> 0
A22: NON SCHEDULED WORK
A23: Item 2 | B23: Description | G23: Quantity | H23: Rate | I23: Amount
A24: 1 | B24: BATTERY (674) | G24: 1 | H24: 1430 | I24: =H24*G24 -> 1430
A32: Sub Total | I32: =SUM(I24:I31) -> 1430
A33: Mark - Up 15% | I33: =I32*0.15 -> 214.5
A34: SUb Total B | I34: =I32+I33 -> 1644.5
A35: LABOUR
A36: Item 3 | B36: (Normal Rate) | E36: Unit | G36: Quantity | H36: Rate | I36: Amount
A37: 1 | B37: Techinician | E37: HRS | G37: 1 | H37: 450 | I37: =SUM(G37*H37) -> 450
A38: 2 | B38: Senior Artisan | E38: HRS | H38: 350 | I38: =SUM(G38*H38) -> 0
A39: 3 | B39: Artisan (Trade Tested) | E39: HRS | H39: 300 | I39: =SUM(G39*H39) -> 0
A40: 4 | B40: Utility Man (Non - Trade Tested) | E40: HRS | G40: 1 | H40: 200 | I40: =SUM(G40*H40) -> 200
A41: 5 | B41: Artisan Aid | E41: HRS | H41: 200 | I41: =SUM(G41*H41) -> 0
A42: 6 | B42: General Worker | E42: HRS | H42: 140 | I42: =SUM(G42*H42) -> 0
A46: Sub Total C | I46: =SUM(I37:I45) -> 650
A47: TRANSPORT
A48: Item 4 | B48: Destinantion | E48: No of Trips | G48: KMs | H48: Rate | I48: Amount
A49: 1 | B49: Port Elizabeth office to Orsmond
B50: Hospital and back. | E50: 1 | G50: 81.6 | H50: 5 | I50: =H50*G50 -> 408
A52: Sub Total D | I52: =SUM(I49:I51) -> 408
G54: Sub Total (A+B+C+D) | I54: =I52+I46+I34+I21 -> 2702.5
G56: Sub Total | I56: =I54+I55 -> 2702.5

Sheet MOUNT RD MORT. (16)
A9: QUOTE TO : | F9: Qoute No | H9: 16
A10: Department of Health | F10: Date | H10: 43713
A11: 717 Dukumbana Building | F11: Facility | H11: MOUNT ROAD MORTAURY
A12: Independent Avenue | F12: Work Order | H12: 45596
A13: Bhisho | F13: Tender No | H13: SCMU3 - 17/18-0303 - HO
F14: Contract Term | H14: 24 MONTHS
A15: WORK REQUEST : Diesel generator is making noise.
A16: SCHEDULED WORK
A17: Item 1 | B17: Description | E17: Unit | F17: Sch No | G17: Quantity | H17: Rate | I17: Amount
I18: =SUM(G18*H18) -> 0
I19: =SUM(G19*H19) -> 0
I20: =SUM(G20*H20) -> 0
A21: Sub Total A | I21: =SUM(I18:I20) -> 0
A22: NON SCHEDULED WORK
A23: Item 2 | B23: Description | G23: Quantity | H23: Rate | I23: Amount
A24: 1 | B24: BATTERY (674) | G24: 1 | H24: 1498.26 | I24: =H24*G24 -> 1498.26
A32: Sub Total | I32: =SUM(I24:I31) -> 1498.26
A33: Mark - Up 15% | I33: =I32*0.15 -> 224.739
A34: SUb Total B | I34: =I32+I33 -> 1722.999
A35: LABOUR
A36: Item 3 | B36: (Normal Rate) | E36: Unit | G36: Quantity | H36: Rate | I36: Amount
A37: 1 | B37: Techinician | E37: HRS | G37: 3 | H37: 450 | I37: =SUM(G37*H37) -> 1350
A38: 2 | B38: Senior Artisan | E38: HRS | H38: 350 | I38: =SUM(G38*H38) -> 0
A39: 3 | B39: Artisan (Trade Tested) | E39: HRS | H39: 300 | I39: =SUM(G39*H39) -> 0
A40: 4 | B40: Utility Man (Non - Trade Tested) | E40: HRS | H40: 200 | I40: =SUM(G40*H40) -> 0
A41: 5 | B41: Artisan Aid | E41: HRS | H41: 200 | I41: =SUM(G41*H41) -> 0
A42: 6 | B42: General Worker | E42: HRS | H42: 140 | I42: =SUM(G42*H42) -> 0
A46: Sub Total C | I46: =SUM(I37:I45) -> 1350
A47: TRANSPORT
A48: Item 4 | B48: Destinantion | E48: No of Trips | G48: KMs | H48: Rate | I48: Amount
A49: 1 | B49: Port Elizabeth office to Mount Road
B50: Mortuary and back. | E50: 1 | G50: 4.8 | H50: 5 | I50: =H50*G50 -> 24
A52: Sub Total D | I52: =SUM(I49:I51) -> 24
G54: Sub Total (A+B+C+D) | I54: =I52+I46+I34+I21 -> 3096.999
G56: Sub Total | I56: =I54+I55 -> 3096.999

Sheet PARMACEUTICA DEP (17)
A9: QUOTE TO : | F9: Qoute No | H9: 17
A10: Department of Health | F10: Date | H10: 16/4/2019
A11: 717 Dukumbana Building | F11: Facility | H11: PHARMACEUTICAL DEPOT
A12: Independent Avenue | F12: Work Order | H12: 44682
A13: Bhisho | F13: Tender No | H13: SCMU3 - 17/18-0303 - HO
F14: Contract Term | H14: 24 MONTHS
A15: WORK REQUEST : The alternator of the generator needs to be repaired.
A16: SCHEDULED WORK
A17: Item 1 | B17: Description | E17: Unit | F17: Sch No | G17: Quantity | H17: Rate | I17: Amount
I18: =SUM(G18*H18) -> 0
I19: =SUM(G19*H19) -> 0
I20: =SUM(G20*H20) -> 0
A21: Sub Total A | I21: =SUM(I18:I20) -> 0
A22: NON SCHEDULED WORK
A23: Item 2 | B23: Description | G23: Quantity | H23: Rate | I23: Amount
A24: 1 | B24: 24 v ALTERNATOR | G24: 1 | H24: 4107 | I24: =H24*G24 -> 4107
A25: 2 | B25: MAKE UP BRACKET FOR THE ALTERNATOR | G25: 1 | H25: 1375 | I25: =H25*G25 -> 1375
A32: Sub Total | I32: =SUM(I24:I31) -> 5482
A33: Mark - Up 15% | I33: =I32*0.15 -> 822.3
A34: SUb Total B | I34: =I32+I33 -> 6304.3
A35: LABOUR
A36: Item 3 | B36: (Normal Rate) | E36: Unit | G36: Quantity | H36: Rate | I36: Amount
A37: 1 | B37: Techinician | E37: HRS | G37: 5 | H37: 450 | I37: =SUM(G37*H37) -> 2250
A38: 2 | B38: Senior Artisan | E38: HRS | H38: 350 | I38: =SUM(G38*H38) -> 0
A39: 3 | B39: Artisan (Trade Tested) | E39: HRS | H39: 300 | I39: =SUM(G39*H39) -> 0
A40: 4 | B40: Utility Man (Non - Trade Tested) | E40: HRS | G40: 5 | H40: 200 | I40: =SUM(G40*H40) -> 1000
A41: 5 | B41: Artisan Aid | E41: HRS | H41: 200 | I41: =SUM(G41*H41) -> 0
A42: 6 | B42: General Worker | E42: HRS | H42: 140 | I42: =SUM(G42*H42) -> 0
A46: Sub Total C | I46: =SUM(I37:I45) -> 3250
A47: TRANSPORT
A48: Item 4 | B48: Destinantion | E48: No of Trips | G48: KMs | H48: Rate | I48: Amount
A49: 1 | B49: Port Elizabeth office to Pharmaceutical
B50: Depot and back. | E50: 1 | G50: 26.8 | H50: 5 | I50: =H50*G50 -> 134
A52: Sub Total D | I52: =SUM(I49:I51) -> 134
G54: Sub Total (A+B+C+D) | I54: =I52+I46+I34+I21 -> 9688.3
G56: Sub Total | I56: =I54+I55 -> 9688.3

Sheet DORA NGIZA HOSP (18)
A9: QUOTE TO : | F9: Qoute No | H9: 18
A10: Department of Health | F10: Date | H10: 26/4/2019
A11: 717 Dukumbana Building | F11: Facility | H11: DORA NGIZA HOSPITAL
A12: Independent Avenue | F12: Work Order | H12: 45094
A13: Bhisho | F13: Tender No | H13: SCMU3 - 17/18-0303 - HO
F14: Contract Term | H14: 24 MONTHS
A15: WORK REQUEST : Repair the lovato control and replace the battery charger charger.
A16: SCHEDULED WORK
A17: Item 1 | B17: Description | E17: Unit | F17: Sch No | G17: Quantity | H17: Rate | I17: Amount
I18: =SUM(G18*H18) -> 0
I19: =SUM(G19*H19) -> 0
I20: =SUM(G20*H20) -> 0
A21: Sub Total A | I21: =SUM(I18:I20) -> 0
A22: NON SCHEDULED WORK
A23: Item 2 | B23: Description | G23: Quantity | H23: Rate | I23: Amount
A32: Sub Total | I32: =SUM(I24:I31) -> 0
A33: Mark - Up 15% | I33: =I32*0.15 -> 0
A34: SUb Total B | I34: =I32+I33 -> 0
A35: LABOUR
A36: Item 3 | B36: (Normal Rate) | E36: Unit | G36: Quantity | H36: Rate | I36: Amount
A37: 1 | B37: Techinician | E37: HRS | G37: 3 | H37: 450 | I37: =SUM(G37*H37) -> 1350
A38: 2 | B38: Senior Artisan | E38: HRS | H38: 350 | I38: =SUM(G38*H38) -> 0
A39: 3 | B39: Artisan (Trade Tested) | E39: HRS | H39: 300 | I39: =SUM(G39*H39) -> 0
A40: 4 | B40: Utility Man (Non - Trade Tested) | E40: HRS | G40: 3 | H40: 200 | I40: =SUM(G40*H40) -> 600
A41: 5 | B41: Artisan Aid | E41: HRS | H41: 200 | I41: =SUM(G41*H41) -> 0
A42: 6 | B42: General Worker | E42: HRS | H42: 140 | I42: =SUM(G42*H42) -> 0
A46: Sub Total C | I46: =SUM(I37:I45) -> 1950
A47: TRANSPORT
A48: Item 4 | B48: Destinantion | E48: No of Trips | G48: KMs | H48: Rate | I48: Amount
A49: 1 | B49: Port Elizabeth office to Dora Ngiza
B50: Hospital and back. | E50: 1 | G50: 28.6 | H50: 5 | I50: =H50*G50 -> 143
A52: Sub Total D | I52: =SUM(I49:I51) -> 143
G54: Sub Total (A+B+C+D) | I54: =I52+I46+I34 -> 2093
G56: Sub Total | I56: =I54+I55 -> 2093

Sheet DORA NGIZA (19)
A9: QUOTE TO : | F9: Qoute No | H9: 19
A10: Department of Health | F10: Date | H10: 24/5/2019
A11: 717 Dukumbana Building | F11: Facility | H11: DORA NGIZA HOSPITAL
A12: Independent Avenue | F12: Work Order | H12: 46407
A13: Bhisho | F13: Tender No | H13: SCMU3 - 17/18-0303 - HO
F14: Contract Term | H14: 24 MONTHS
A15: WORK REQUEST : Repair the lovato control and replace the battery charger .
A16: SCHEDULED WORK
A17: Item 1 | B17: Description | E17: Unit | F17: Sch No | G17: Quantity | H17: Rate | I17: Amount
I18: =SUM(G18*H18) -> 0
I19: =SUM(G19*H19) -> 0
I20: =SUM(G20*H20) -> 0
A21: Sub Total A | I21: =SUM(I18:I20) -> 0
A22: NON SCHEDULED WORK
A23: Item 2 | B23: Description | G23: Quantity | H23: Rate | I23: Amount
A24: 1 | B24: 12V 5A BATTERY CHARGER | G24: 1 | H24: 1142 | I24: =H24*G24 -> 1142
A32: Sub Total | I32: =SUM(I24:I31) -> 1142
A33: Mark - Up 15% | I33: =I32*0.15 -> 171.3
A34: SUb Total B | I34: =I32+I33 -> 1313.3
A35: LABOUR
A36: Item 3 | B36: (Normal Rate) | E36: Unit | G36: Quantity | H36: Rate | I36: Amount
A37: 1 | B37: Techinician | E37: HRS | G37: 4 | H37: 450 | I37: =SUM(G37*H37) -> 1800
A38: 2 | B38: Senior Artisan | E38: HRS | H38: 350 | I38: =SUM(G38*H38) -> 0
A39: 3 | B39: Artisan (Trade Tested) | E39: HRS | H39: 300 | I39: =SUM(G39*H39) -> 0
A40: 4 | B40: Utility Man (Non - Trade Tested) | E40: HRS | G40: 4 | H40: 200 | I40: =SUM(G40*H40) -> 800
A41: 5 | B41: Artisan Aid | E41: HRS | H41: 200 | I41: =SUM(G41*H41) -> 0
A42: 6 | B42: General Worker | E42: HRS | H42: 140 | I42: =SUM(G42*H42) -> 0
A46: Sub Total C | I46: =SUM(I37:I45) -> 2600
A47: TRANSPORT
A48: Item 4 | B48: Destinantion | E48: No of Trips | G48: KMs | H48: Rate | I48: Amount
A49: 1 | B49: Port Elizabeth office to Dora Ngiza
B50: Hospital and back. | E50: 1 | G50: 28.6 | H50: 5 | I50: =H50*G50 -> 143
A52: Sub Total D | I52: =SUM(I49:I51) -> 143
G54: Sub Total (A+B+C+D) | I54: =I52+I46+I34 -> 4056.3
G56: Sub Total | I56: =I54+I55 -> 4056.3

Sheet LIVINGSTONE HOSPITAL (20)
A9: QUOTE TO : | F9: Qoute No | H9: 20
A10: Department of Health | F10: Date | H10: 29/5/2019
A11: 717 Dukumbana Building | F11: Facility | H11: LIVINGSTONE HOSPITAL
A12: Independent Avenue | F12: Work Order | H12: 46506
A13: Bhisho | F13: Tender No | H13: SCMU3 - 17/18-0303 - HO
F14: Contract Term | H14: 24 MONTHS
A15: WORK REQUEST : Gen at nurses home needs fuel filter.
A16: SCHEDULED WORK
A17: Item 1 | B17: Description | E17: Unit | F17: Sch No | G17: Quantity | H17: Rate | I17: Amount
I18: =SUM(G18*H18) -> 0
I19: =SUM(G19*H19) -> 0
I20: =SUM(G20*H20) -> 0
A21: Sub Total A | I21: =SUM(I18:I20) -> 0
A22: NON SCHEDULED WORK
A23: Item 2 | B23: Description | G23: Quantity | H23: Rate | I23: Amount
A24: 1 | B24: FUEL FILTER | G24: 1 | H24: 428.2 | I24: =H24*G24 -> 428.2
A25: 2 | B25: HEAD ASSY | G25: 1 | H25: 367.16 | I25: =H25*G25 -> 367.16
A32: Sub Total | I32: =SUM(I24:I31) -> 795.36
A33: Mark - Up 15% | I33: =I32*0.15 -> 119.304
A34: SUb Total B | I34: =I32+I33 -> 914.664
A35: LABOUR
A36: Item 3 | B36: (Normal Rate) | E36: Unit | G36: Quantity | H36: Rate | I36: Amount
A37: 1 | B37: Techinician | E37: HRS | G37: 1 | H37: 450 | I37: =SUM(G37*H37) -> 450
A38: 2 | B38: Senior Artisan | E38: HRS | H38: 350 | I38: =SUM(G38*H38) -> 0
A39: 3 | B39: Artisan (Trade Tested) | E39: HRS | H39: 300 | I39: =SUM(G39*H39) -> 0
A40: 4 | B40: Utility Man (Non - Trade Tested) | E40: HRS | G40: 1 | H40: 200 | I40: =SUM(G40*H40) -> 200
A41: 5 | B41: Artisan Aid | E41: HRS | H41: 200 | I41: =SUM(G41*H41) -> 0
A42: 6 | B42: General Worker | E42: HRS | H42: 140 | I42: =SUM(G42*H42) -> 0
