Workbook
Name OLE_LINK1: '9. NEONATE HF NEWBORN MANIKIN'!$B$108

Sheet SUMMARY LIST
A1: ANNEXURE A: TECHNICAL SPECIFICATION
A2: GT/GDH/124/2024:THE SUPPLY, DELIVERY, COMMISSIONING AND MAINTENANCE OF BREATH SIMULATOR, HIGH FIDELITY ADULT MANIKIN AND HIGH-FIDELITY ADULT MANIKIN ANAESTHESIA FOR GAUTENG DEPARTMENT OF HEALTH INSTITUTIONS FOR PERIOD OF THREE YEARS (36 MONTHS).
A3: LIST OF ITEMS
A4: NO: | B4: DESCRIPTION | G4: BIDDER TO INDICATE WHICH ITEMS ARE INCLUDED IN THEIR BID PROPOSAL YES / NO
A5: 1 | B5: Infant Basic Life Support (BLS) cardiopulmonary resuscitation (CPR) trainer | J5: =UPPER(CONCATENATE(A5,". ",B5)) -> 1. INFANT BASIC LIFE SUPPORT (BLS) CARDIOPULMONARY RESUSCITATION (CPR) TRAINER
A6: =A5+1 -> 2 | B6: Paediatric (Child) Basic Life Support (BLS) cardiopulmonary resuscitation (CPR) Trainer | J6: =UPPER(CONCATENATE(A6,". ",B6)) -> 2. PAEDIATRIC (CHILD) BASIC LIFE SUPPORT (BLS) CARDIOPULMONARY RESUSCITATION (CPR) TRAINER
A7: 3 | B7: Adult Basic Life Support (BLS) cardiopulmonary resuscitation (CPR) Task Trainer | J7: =UPPER(CONCATENATE(A7,". ",B7)) -> 3. ADULT BASIC LIFE SUPPORT (BLS) CARDIOPULMONARY RESUSCITATION (CPR) TASK TRAINER
A8: 4 | B8: Basic Life Support (BLS) cardiopulmonary resuscitation (CPR) Family Task Trainer | J8: =UPPER(CONCATENATE(A8,". ",B8)) -> 4. BASIC LIFE SUPPORT (BLS) CARDIOPULMONARY RESUSCITATION (CPR) FAMILY TASK TRAINER
A9: 5 | B9: Infant Advanced Life Support Manikins (LSM) | J9: =UPPER(CONCATENATE(A9,". ",B9)) -> 5. INFANT ADVANCED LIFE SUPPORT MANIKINS (LSM)
A10: 6 | B10: Paediatric Advanced Life Support Manikins (LSM) | J10: =UPPER(CONCATENATE(A10,". ",B10)) -> 6. PAEDIATRIC ADVANCED LIFE SUPPORT MANIKINS (LSM)
A11: 7 | B11: Adult Advanced Life Support Manikins (LSM) | J11: =UPPER(CONCATENATE(A11,". ",B11)) -> 7. ADULT ADVANCED LIFE SUPPORT MANIKINS (LSM)
A12: 8 | B12: Premature High Fidelity Neonate Manikin | J12: =UPPER(CONCATENATE(A12,". ",B12)) -> 8. PREMATURE HIGH FIDELITY NEONATE MANIKIN
A13: 9 | B13: Neonate High Fidelity Newborn Manikin | J13: =UPPER(CONCATENATE(A13,". ",B13)) -> 9. NEONATE HIGH FIDELITY NEWBORN MANIKIN
A14: 10 | B14: Infant High Fidelity Manikin | J14: =UPPER(CONCATENATE(A14,". ",B14)) -> 10. INFANT HIGH FIDELITY MANIKIN
A15: 11 | B15: Paediatric (Child) High Fidelity Manikin | J15: =UPPER(CONCATENATE(A15,". ",B15)) -> 11. PAEDIATRIC (CHILD) HIGH FIDELITY MANIKIN
A16: 12 | B16: Adult High Fidelity Manikin | J16: =UPPER(CONCATENATE(A16,". ",B16)) -> 12. ADULT HIGH FIDELITY MANIKIN
A17: 13 | B17: Infant Airway Training Kit | J17: =UPPER(CONCATENATE(A17,". ",B17)) -> 13. INFANT AIRWAY TRAINING KIT
A18: 14 | B18: Adult Surgical Airway Task Trainer | J18: =UPPER(CONCATENATE(A18,". ",B18)) -> 14. ADULT SURGICAL AIRWAY TASK TRAINER
... A30: 26 | B30: High Fidelity Adult Female Simulation Training Kit for Nursing | J30: =UPPER(CONCATENATE(A30,". ",B30)) -> 26. HIGH FIDELITY ADULT FEMALE SIMULATION TRAINING KIT FOR NURSING

Sheet 1. INFANT BLS CPR TRAINER
A1: ='SUMMARY LIST'!$A$1:$G$1 -> ANNEXURE A: TECHNICAL SPECIFICATION
A2: ='SUMMARY LIST'!$A$2:$G$2 -> GT/GDH/124/2024:THE SUPPLY, DELIVERY, COMMISSIONING AND MAINTENANCE OF BREATH SIMULATOR, HIGH FIDELITY ADULT MANIKIN AND HIGH-FIDELITY ADULT MANIKIN ANAESTHESIA FOR GAUTENG DEPARTMENT OF HEALTH INSTITUTIONS FOR PERIOD OF THREE YEARS (36 MONTHS).
A3: ='SUMMARY LIST'!J5 -> 1. INFANT BASIC LIFE SUPPORT (BLS) CARDIOPULMONARY RESUSCITATION (CPR) TRAINER
A4: Note:
A5: 1 | B5: Bidders are required to indicate compliance/non-compliance with the specification by typing "YES / NO" on each line item on column C.
A6: 2 | B6: In the case where an equivalent or better option is provided, bidders must type the full description of the equivalent or better item on column D.
B7: Comments on the equivalent item must be provided on column E.
A8: 3 | B8: Bidder is required provide details of the product offer on column F.
A9: 4 | B9: Bidder to provide reference to brochure (page number) / technical data sheet / supporting documents on column G.
A10: A | B10: B | C10: C | D10: D | E10: E | F10: F | G10: G
A11: Item no. | B11: Technical Specification | C11: Comply (Yes/No) | D11: Provide Equivalent/ Better (if applicable) | E11: Comments | F11: Details of Product Offer (Provide your answers in this Column. You are advised to be straight to the point) | G11: Reference to Brochure / Technical Data Sheet (verification) / Supporting Document
A12: 1 | B12: General description:
A13: 1.1 | B13: Full-body infant task trainer for individual and team training in Basic Life Support (BLS) cardiopulmonary resuscitation (CPR)with appropriate hardware
A14: 1.2 | B14: Provide immediate feedback during CPR for learning while doing
A15: 1.3 | B15: Detailed data recording of CPR metrics for feedback, record keeping and research
A16: 2 | B16: Must demonstrate the following Airway Features:
A17: 2.1 | B17: Anatomical airway obstruction if airway not properly opened
A18: 3 | B18: Must support the following Airway Procedures:
A19: 3.1 | B19: Head-tilt-chin lift
A20: 3.2 | B20: Jaw thrust
A21: 4 | B21: Must support the following Respiratory Support Procedures:
A22: 4.1 | B22: Bag-valve-mask ventilation with chest rise
A23: 5 | B23: Must demonstrate the following Anatomical Features:
A24: 5.1 | B24: Identification of the sternal notch and xyphoid process for determining correct hand placement for chest compressions
A25: 5.2 | B25: Realistic chest compliance on chest compression
A26: 6 | B26: Must provide the following CPR performance feedback:
A27: 6.1 | B27: Graphic and numerical visual feedback on current evidence-based CPR performance parameters: hand position, compression-ventilation ratio, depth of compression, chest recoil, hands-off time and tidal volume delivery
A28: 6.2 | B28: Detailed analysis of average CPR performance over the total time over which CPR was performed (individual and team)
A29: 6.3 | B29: Immediate CPR performance graphic and numerical visual feedback for learning while doing CPR
A30: 6.4 | B30: Both learner feedback system and instructor feedback with data capture system must function simultaneously
A31: 7 | B31: Consumables / replacement parts supplied with system:
A32: 7.1 | B32: Face skins
A33: 7.2 | B33: Lungs
A34: 7.3 | B34: Manikin clothing
A35: 7.4 | B35: Basic tools for assembly
A36: 7.5 | B36: Battery / power pack
A37: 7.6 | B37: Charge cable
A38: 7.7 | B38: Protective bag or case for storage and transport
A39: 7.8 | B39: Chest skin
A40: 7.9 | B40: Lungs
...

Sheet 2. CHILD BLS CPR TRAINER
A1: ='SUMMARY LIST'!$A$1:$G$1 -> ANNEXURE A: TECHNICAL SPECIFICATION
A2: ='SUMMARY LIST'!$A$2:$G$2 -> GT/GDH/124/2024:THE SUPPLY, DELIVERY, COMMISSIONING AND MAINTENANCE OF BREATH SIMULATOR, HIGH FIDELITY ADULT MANIKIN AND HIGH-FIDELITY ADULT MANIKIN ANAESTHESIA FOR GAUTENG DEPARTMENT OF HEALTH INSTITUTIONS FOR PERIOD OF THREE YEARS (36 MONTHS).
A3: ='SUMMARY LIST'!J6 -> 2. PAEDIATRIC (CHILD) BASIC LIFE SUPPORT (BLS) CARDIOPULMONARY RESUSCITATION (CPR) TRAINER
A4: Note:
A5: 1 | B5: Bidders are required to indicate compliance/non-compliance with the specification by typing "YES / NO" on each line item on column C.
A6: 2 | B6: In the case where an equivalent or better option is provided, bidders must type the full description of the equivalent or better item on column D.
B7: Comments on the equivalent item must be provided on Column E.
A8: 3 | B8: Bidder is required provide details of the product offer on column F.
A9: 4 | B9: Bidder to provide reference to brochure (page number) / technical data sheet / supporting documents on column G.
A10: A | B10: B | C10: C | D10: D | E10: E | F10: F | G10: G
A11: Item no. | B11: Technical Specification | C11: Comply (Yes/No) | D11: Provide Equivalent/ Better (if applicable) | E11: Comments | F11: Details of Product Offer (Provide your answers in this Column. You are advised to be straight to the point) | G11: Reference to Brochure / Technical Data Sheet (verification) / Supporting Document
A12: 1 | B12: General description:
A13: 1.1 | B13: Child manikin task trainer for individual and team training in Basic Life Support (BLS) cardiopulmonary resuscitation (CPR) with appropriate hardware
A14: 1.2 | B14: Provide immediate feedback during CPR for learning while doing (CPR)
A15: 1.3 | B15: Provide detailed data recording of CPR metrics for feedback, for record keeping and research purposes
A16: 2 | B16: Must demonstrate the following Airway Features:
A17: 2.1 | B17: Jaw thrust
A18: 3 | B18: Must support the following Respiratory Support Procedures:
A19: 3.1 | B19: Bag-valve-mask ventilation with chest rise
A20: 4 | B20: Must support the following Respiratory Support Procedures:
A21: 4.1 | B21: Realistic chest compliance on chest compression
A22: 5 | B22: Must provide the following CPR performance feedback:
A23: 5.1 | B23: Detailed analysis of average CPR performance over the total time over which CPR was performed (individual and team)
A24: 5.2 | B24: Immediate CPR performance graphic and numerical visual feedback for learning while doing (CPR)
A25: 5.3 | B25: Both learner feedback system and instructor feedback with data capture system must function simultaneously
A26: 6 | B26: Consumables and parts supplied with system:
A27: 6.1 | B27: Device for immediate CPR performance feedback to person doing CPR
A28: 6.2 | B28: Simulator system providing student performance monitoring by instructor and detail CPR metrics data capture
A29: 6.3 | B29: Face skins
A30: 6.4 | B30: Chest skins
A31: 6.5 | B31: Manikin clothing
A32: 6.6 | B32: Basic tools for assembly
A33: 6.7 | B33: Battery / power pack
A34: 6.8 | B34: Charge cable
A35: 6.9 | B35: Protective bag or case for storage and transport
A36: 7 | B36: Product Replacement Parts:
A37: 7.1 | B37: Device for immediate CPR performance feedback to person doing CPR
A38: 7.2 | B38: Simulator system providing student performance monitoring by instructor and detail CPR metrics data capture
A39: 7.3 | B39: Chest skin
A40: 7.4 | B40: Face skin
...

Sheet 3. ADULT BLS CPR TASK TRAINER
A1: ='SUMMARY LIST'!$A$1:$G$1 -> ANNEXURE A: TECHNICAL SPECIFICATION
A2: ='SUMMARY LIST'!$A$2:$G$2 -> GT/GDH/124/2024:THE SUPPLY, DELIVERY, COMMISSIONING AND MAINTENANCE OF BREATH SIMULATOR, HIGH FIDELITY ADULT MANIKIN AND HIGH-FIDELITY ADULT MANIKIN ANAESTHESIA FOR GAUTENG DEPARTMENT OF HEALTH INSTITUTIONS FOR PERIOD OF THREE YEARS (36 MONTHS).
A3: ='SUMMARY LIST'!J7 -> 3. ADULT BASIC LIFE SUPPORT (BLS) CARDIOPULMONARY RESUSCITATION (CPR) TASK TRAINER
A4: Note:
A5: 1 | B5: Bidders are required to indicate compliance/non-compliance with the specification by typing "YES / NO" on each line item on column C.
A6: 2 | B6: In the case where an equivalent or better option is provided, bidders must type the full description of the equivalent or better item on column D.
B7: Comments on the equivalent item must be provided on Column E.
A8: 3 | B8: Bidder is required provide details of the product offer on column F.
A9: 4 | B9: Bidder to provide reference to brochure (page number) / technical data sheet / supporting documents on column G.
A10: A | B10: B | C10: C | D10: D | E10: E | F10: F | G10: G
A11: Item no. | B11: Technical Specification | C11: Comply (Yes/No) | D11: Provide Equivalent/ Better (if applicable) | E11: Comments | F11: Details of Product Offer (Provide your answers in this Column. You are advised to be straight to the point) | G11: Reference to Brochure / Technical Data Sheet (verification) / Supporting Document
A12: 1 | B12: General description:
A13: 1.1 | B13: Adult task trainer for individual and team training in Basic Life Support (BLS) cardiopulmonary resuscitation (CPR) with appropriate hardware.
A14: 1.2 | B14: Provide immediate feedback during CPR for learning while doing
A15: 1.3 | B15: Provide detailed data recording of CPR metrics for feedback, record keeping and research
A16: 2 | B16: Must demonstrate the following Airway Features:
A17: 2.1 | B17: Anatomical airway obstruction if airway not properly opened
A18: 3 | B18: Must support the following Airway Procedures:
A19: 3.1 | B19: Head-tilt-chin lift
A20: 3.2 | B20: Jaw thrust
A21: 4 | B21: Must support the following Respiratory Support Procedures:
A22: 4.1 | B22: Bag-valve-mask ventilation with chest rise
A23: 5 | B23: Must demonstrate the following Anatomical Features:
A24: 5.1 | B24: Sternal notch and xyphoid process for determining correct hand placement for chest compressions
A25: 5.2 | B25: Palpable carotid pulse
A26: 5.3 | B26: Realistic chest compliance on chest compression
A27: 6 | B27: Must provide the following CPR performance feedback:
A28: 6.1 | B28: Graphic and numerical visual feedback on current evidence-based CPR performance parameters: hand position, compression-ventilation ratio, depth of compression, chest recoil, hands-off time and tidal volume delivery
A29: 6.2 | B29: Detailed analysis of average CPR performance over the total time over which CPR was performed (individual and team)
A30: 6.3 | B30: Immediate CPR performance graphic and numerical visual feedback for learning while doing
A31: 6.4 | B31: Both learner feedback system and instructor feedback with data capture system must function simultaneously
A32: 7 | B32: Consumables,parts supplied with system on delivery:
A33: 7.1 | B33: Device for immediate CPR performance feedback to person doing CPR
A34: 7.2 | B34: Simulator system providing student performance monitoring by instructor and detail CPR metrics data capture
A35: 7.3 | B35: Face skins
A36: 7.4 | B36: Lungs
A37: 7.5 | B37: Manikin clothing
A38: 7.6 | B38: Basic tools for assembly
A39: 7.7 | B39: Battery / power pack
A40: 7.8 | B40: Charge cable
...

Sheet 4. BLS CPR FAMILY TASK TRAINER
A1: ='SUMMARY LIST'!$A$1:$G$1 -> ANNEXURE A: TECHNICAL SPECIFICATION
A2: ='SUMMARY LIST'!$A$2:$G$2 -> GT/GDH/124/2024:THE SUPPLY, DELIVERY, COMMISSIONING AND MAINTENANCE OF BREATH SIMULATOR, HIGH FIDELITY ADULT MANIKIN AND HIGH-FIDELITY ADULT MANIKIN ANAESTHESIA FOR GAUTENG DEPARTMENT OF HEALTH INSTITUTIONS FOR PERIOD OF THREE YEARS (36 MONTHS).
A3: ='SUMMARY LIST'!J8 -> 4. BASIC LIFE SUPPORT (BLS) CARDIOPULMONARY RESUSCITATION (CPR) FAMILY TASK TRAINER
A4: Note:
A5: 1 | B5: Bidders are required to indicate compliance/non-compliance with the specification by typing "YES / NO" on each line item on column C.
A6: 2 | B6: In the case where an equivalent or better option is provided, bidders must type the full description of the equivalent or better item on column D.
B7: Comments on the equivalent item must be provided on Column E.
A8: 3 | B8: Bidder is required provide details of the product offer on column F.
A9: 4 | B9: Bidder to provide reference to brochure (page number) / technical data sheet / supporting documents on column G.
A11: Item no. | B11: Technical Specification | C11: Comply (Yes/No) | D11: Provide Equivalent/ Better (if applicable) | E11: Comments | F11: Details of Product Offer (Provide your answers in this Column. You are advised to be straight to the point) | G11: Reference to Brochure / Technical Data Sheet (verification) / Supporting Document
A12: Training Kit Description:
A13: Age specific CPR training manikin family set for individual and team training in Basic Life Support (BLS) cardiopulmonary resuscitation (CPR)
A14: 1 | B14: General description:
A15: 1.1 | B15: Age specific CPR training manikin family set for individual and team training in Basic Life Support (BLS) cardiopulmonary resuscitation (CPR)
A16: 1.2 | B16: Must include manikins for infant, paediatric and adult CPR training.
A17: 1.3 | B17: Must include Automated External Defibrillator (AED) trainer as per evidence BLS practices
A18: 2 | B18: Must demonstrate the following Airway Features:
A19: 2.1 | B19: Realistic airway anatomy above the level of the vocal cords
A20: 2.2 | B20: Anatomical airway obstruction if airway not properly opened
A21: 2.3 | B21: Lung distension bag-valve-mask ventilation
A22: 3 | B22: Must support the following Airway Procedures:
A23: 3.1 | B23: Head-tilt-chin lift
A24: 3.2 | B24: Jaw thrust
A25: 3.3 | B25: Basic airway adjuncts: OPA and NPA
A26: 4 | B26: Must support the following Respiratory Support Procedures:
A27: 4.1 | B27: Bag-valve-mask ventilation with chest rise
A28: 5 | B28: Must demonstrate the following Anatomical and Cardiac Features:
A29: 5.1 | B29: Identification of the sternal notch and xyphoid process for determining correct hand placement for chest compressions
A30: 5.2 | B30: Variable chest compliance for chest compression difficulty
A31: 6 | B31: Must provide the following CPR performance feedback:
A32: 6.1 | B32: Graphic and numerical visual feedback on current evidence-based CPR performance parameters: hand position, compression-ventilation ratio, depth of compression, chest recoil, hands-off time and tidal volume delivery
A33: 6.2 | B33: Detailed analysis of average CPR performance over the total time over which CPR was performed (individual and team)
A34: 6.3 | B34: Immediate CPR performance graphic and numerical visual feedback for learning while doing (CPR)
A35: 7 | B35: Automated External Defibrillator trainer features:
A36: 7.1 | B36: Realistic defibrillator training
A37: 7.2 | B37: ECG library with multiple scenarios for shockable and non-shockable rhythms
A38: 7.3 | B38: Latest EBM guidelines compliant
A39: 7.4 | B39: Must include the training pads
A40: 7.5 | B40: Must include a carry case
A41: 8 | B41: Software and Operating System requirements:
...

Sheet 5. INFANT ADVANCED LSM
A1: ='SUMMARY LIST'!$A$1:$G$1 -> ANNEXURE A: TECHNICAL SPECIFICATION
A2: ='SUMMARY LIST'!$A$2:$G$2 -> GT/GDH/124/2024:THE SUPPLY, DELIVERY, COMMISSIONING AND MAINTENANCE OF BREATH SIMULATOR, HIGH FIDELITY ADULT MANIKIN AND HIGH-FIDELITY ADULT MANIKIN ANAESTHESIA FOR GAUTENG DEPARTMENT OF HEALTH INSTITUTIONS FOR PERIOD OF THREE YEARS (36 MONTHS).
A3: ='SUMMARY LIST'!J9 -> 5. INFANT ADVANCED LIFE SUPPORT MANIKINS (LSM)
A4: Note:
A5: 1 | B5: Bidders are required to indicate compliance/non-compliance with the specification by typing "YES / NO" on each line item on column C.
A6: 2 | B6: In the case where an equivalent or better option is provided, bidders must type the full description of the equivalent or better item on column D.
B7: Comments on the equivalent item must be provided on Column E.
A8: 3 | B8: Bidder is required provide details of the product offer on column F.
A9: 4 | B9: Bidder to provide reference to brochure (page number) / technical data sheet / supporting documents on column G.
A10: A | B10: B | C10: C | D10: D | E10: E | F10: F | G10: G
A11: Item no. | B11: Technical Specification | C11: Comply (Yes/No) | D11: Provide Equivalent/ Better (if applicable) | E11: Comments | F11: Details of Product Offer (Provide your answers in this Column. You are advised to be straight to the point) | G11: Reference to Brochure / Technical Data Sheet (verification) / Supporting Document
A12: Training Kit Description:
A13: Full-body infant manikin simulator system for individual and team training in infant advanced life support cardiopulmonary resuscitation (CPR)
A14: 1 | B14: General description:
A15: 1.1 | B15: A life-sized, medium-fidelity infant manikin with interactive patient-like features that accurately reflects a broad spectrum of clinical conditions and emergencies relevant to emergency medicine with cross-over application to other specialist medical disciplines
A16: 1.2 | B16: An operating system that controls manikin cardiac rhythm. Assisted by cardiac rhythm generator
A17: 2 | B17: Airway Features:
A18: 2.1 | B18: Realistic airway anatomy with tongue, oropharynx, epiglottis, larynx, vocal cords, trachea and main bronchi (right and left diversions)
A19: 2.2 | B19: Presents with the following airway complications:
A20: 2.2.1 | B20: Right/left main stem bronchus intubation
A21: 2.2.2 | B21: Stomach distension with oesophageal intubation / aggressive Bag-valve-mask ventilation
A22: 3 | B22: Airway Procedures:
A23: 3.1 | B23: Basic airway manoeuvres:
A24: 3.1.1 | B24: Head-tilt-chin lift
A25: 3.1.2 | B25: Jaw thrust
A26: 3.1.3 | B26: Oral and nasal suctioning (wet or dry)
A27: 3.1.4 | B27: Basic airway adjuncts: oropharyngeal airway device and nasopharyngeal airway device
A28: 3.1.5 | B28: Laryngeal manoeuvre can be performed
A29: 3.1.6 | B29: Oral Endotracheal and nasal endotracheal intubation
A30: 3.1.7 | B30: Supraglottic airway device insertion: Laryngeal mask airway (LMA) | LT (laryngeal tube)
A31: 3.1.8 | B31: Specialised techniques: Bougie / light-wand, video laryngoscopy and fibreoptic assisted intubation
A32: 4 | B32: Respiratory Features:
A33: 4.1 | B33: Demonstrates unilateral and bilateral chest-wall movement
A34: 5 | B34: Respiratory Support Procedures:
A35: 5.1 | B35: Use of a wide range of oxygen delivery devices
A36: 5.2 | B36: Bag-valve-mask ventilation with chest rise
A37: 5.3 | B37: Supports basic to advanced ventilation management
A38: 6 | B38: Circulatory Features:
A39: 6.1 | B39: Palpable pulse (manually or electronically controlled): brachial pulse
A40: 6.2 | B40: ECG features controlled by the rhythm generator
...

Sheet 6. PAEDIATRIC ADVANCED LSM
A1: ='SUMMARY LIST'!$A$1:$G$1 -> ANNEXURE A: TECHNICAL SPECIFICATION
A2: ='SUMMARY LIST'!$A$2:$G$2 -> GT/GDH/124/2024:THE SUPPLY, DELIVERY, COMMISSIONING AND MAINTENANCE OF BREATH SIMULATOR, HIGH FIDELITY ADULT MANIKIN AND HIGH-FIDELITY ADULT MANIKIN ANAESTHESIA FOR GAUTENG DEPARTMENT OF HEALTH INSTITUTIONS FOR PERIOD OF THREE YEARS (36 MONTHS).
A3: ='SUMMARY LIST'!J10 -> 6. PAEDIATRIC ADVANCED LIFE SUPPORT MANIKINS (LSM)
A4: Note:
A5: 1 | B5: Bidders are required to indicate compliance/non-compliance with the specification by typing "YES / NO" on each line item on column C.
A6: 2 | B6: In the case where an equivalent or better option is provided, bidders must type the full description of the equivalent or better item on column D.
B7: Comments on the equivalent item must be provided on Column E.
A8: 3 | B8: Bidder is required provide details of the product offer on column F.
A9: 4 | B9: Bidder to provide reference to brochure (page number) / technical data sheet / supporting documents on column G.
A10: A | B10: B | C10: C | D10: D | E10: E | F10: F | G10: G
A11: Item no. | B11: Technical Specification | C11: Comply (Yes/No) | D11: Provide Equivalent/ Better (if applicable) | E11: Comments | F11: Details of Product Offer (Provide your answers in this Column. You are advised to be straight to the point) | G11: Reference to Brochure / Technical Data Sheet (verification) / Supporting Document
A12: Training Kit Description:
A13: Full-body paediatric manikin simulator system for individual and team training in paediatric advanced life support cardiopulmonary resuscitation (CPR)
A14: 1 | B14: General description:
A15: 1.1 | B15: Full-body paediatric manikin simulator system for individual and team training in paediatric advanced life support cardiopulmonary resu scitation (CPR) with appropriate hardware
A16: 1.2 | B16: Provide immediate feedback during CPR for learning while doing (CPR)
A17: 1.3 | B17: Detailed data recording of CPR performance parameters for feedback, record keeping and research purposes
A18: 2 | B18: Must demonstrate the following Airway Features:
A19: 2.1 | B19: Realistic airway anatomy to the level of the main bronchi
A20: 2.2 | B20: Anatomical airway obstruction if airway not properly opened
A21: 2.3 | B21: Stomach distension with aggressive bag-valve-mask ventilation/oesophageal intubation
A22: 3 | B22: Must support the following Airway Procedures:
A23: 3.1 | B23: Head-tilt-chin lift
A24: 3.2 | B24: Jaw thrust
A25: 3.3 | B25: Basic airway adjuncts: OPA and NPA
A26: 3.4 | B26: Supraglottic airway device insertion
A27: 3.5 | B27: Oral and nasal endotracheal intubation
A28: 4 | B28: Must support the following Respiratory Support Procedures:
A29: 4.1 | B29: Bag-valve-mask ventilation with chest rise
A30: 4.2 | B30: Unilateral chest rise with left/right main stem intubation
A31: 5 | B31: Must demonstrate the following Anatomical and Cardiac Features:
A32: 5.1 | B32: Identification of the sternal notch and xyphoid process for determining correct hand placement for chest compressions
A33: 5.2 | B33: ECG library with appropriate peri-arrest and cardiac arrest rhythms
A34: 5.3 | B34: Clinical evidence of effective CPR: ECG compression artefact and palpable carotid pulses
A35: 6 | B35: Must support the following Circulatory support procedures:
A36: 6.1 | B36: Live defibrillation and synchronised cardioversion with paddles or pads (real or training) at full energy levels.
A37: 6.2 | B37: Live transcutaneous pacing with delivery of full energy via real or training pads with programmable threshold capture and achievement of electrical and mechanical capture. Pacing connectors must be included (compatible to the institution’s defibrillators).
A38: 7 | B38: Must provide the following CPR performance feedback:
A39: 7.1 | B39: Graphic and numerical visual feedback on current evidence-based CPR performance parameters: hand position, compression-ventilation ratio, depth of compression, chest recoil, hands-off time and tidal volume delivery
A40: 7.2 | B40: Detailed analysis of average CPR performance over the total time over which CPR was performed (individual and team)
...

Sheet 7. ADULT ADVANCED LSM
A1: ='SUMMARY LIST'!$A$1:$G$1 -> ANNEXURE A: TECHNICAL SPECIFICATION
A2: ='SUMMARY LIST'!$A$2:$G$2 -> GT/GDH/124/2024:THE SUPPLY, DELIVERY, COMMISSIONING AND MAINTENANCE OF BREATH SIMULATOR, HIGH FIDELITY ADULT MANIKIN AND HIGH-FIDELITY ADULT MANIKIN ANAESTHESIA FOR GAUTENG DEPARTMENT OF HEALTH INSTITUTIONS FOR PERIOD OF THREE YEARS (36 MONTHS).
A3: ='SUMMARY LIST'!J11 -> 7. ADULT ADVANCED LIFE SUPPORT MANIKINS (LSM)
A4: 1 | B4: Bidders are required to indicate compliance/non-compliance with the specification by typing "YES / NO" on each line item on column C.
A5: 2 | B5: In the case where an equivalent or better option is provided, bidders must type the full description of the equivalent or better item on column D.
B6: Comments on the equivalent item must be provided on Column E.
A7: 3 | B7: Bidder is required provide details of the product offer on column F.
A8: 4 | B8: Bidder to provide reference to brochure (page number) / technical data sheet / supporting documents on column G.
A9: Item no. | B9: Technical Specification | C9: Comply (Yes/No) | D9: Provide Equivalent/ Better (if applicable) | E9: Comments | F9: Details of Product Offer (Provide your answers in this Column. You are advised to be straight to the point) | G9: Reference to Brochure / Technical Data Sheet (verification) / Supporting Document
A10: Training Kit Description:
A11: Full-body adult manikin simulator system for individual and team training in advanced cardiac life support (ACLS) cardiopulmonary resuscitation (CPR)
A12: 1 | B12: General description:
A13: 1.1 | B13: Full-body adult manikin simulator system for individual and team training in advanced cardiac life support (ACLS) cardiopulmonary resuscitation (CPR) with appropriate hardware
A14: 1.2 | B14: Provide immediate feedback during CPR for learning while doing (CPR)
A15: 1.3 | B15: Detailed data recording of CPR performance parameters for feedback, record keeping and research purposes
A16: 2 | B16: Must demonstrate the following Airway Features:
A17: 2.1 | B17: Realistic airway anatomy to the level of the main bronchi
A18: 2.2 | B18: Anatomical airway obstruction if airway not properly opened
A19: 2.3 | B19: Stomach distension with aggressive bag-valve-mask ventilation/oesophageal intubation
A20: 3 | B20: Must support the following Airway Procedures:
A21: 3.1 | B21: Head-tilt-chin lift
A22: 3.2 | B22: Jaw thrust
A23: 3.3 | B23: Basic airway adjuncts: OPA and NPA
A24: 3.4 | B24: Supraglottic airway device insertion
A25: 3.5 | B25: Oral endotracheal intubation
A26: 4 | B26: Must support the following Respiratory Support Procedures:
A27: 4.1 | B27: Bag-valve-mask ventilation with chest rise
A28: 4.2 | B28: Unilateral chest rise with left/right main stem intubation
A29: 5 | B29: Must demonstrate the following Anatomical and Cardiac Features:
A30: 5.1 | B30: Identification of the sternal notch and xyphoid process for determining correct hand placement for chest compressions
A31: 5.2 | B31: ECG library with appropriate peri-arrest and cardiac arrest rhythms
A32: 5.3 | B32: Clinical evidence of effective CPR: ECG compression artefact and palpable carotid pulses
A33: 6 | B33: Must support the following Circulatory support procedures:
A34: 6.1 | B34: IV access with real-time drug and fluid administration capability
A35: 6.2 | B35: Live defibrillation and synchronised cardioversion with paddles or pads (real or training) at full energy levels.
A36: 6.3 | B36: Live transcutaneous pacing with delivery of full energy via real or training pads with programmable threshold capture and achievement of electrical and mechanical capture. Pacing connectors must be included (compatible to the institution’s defibrillators).
A37: 7 | B37: Must provide the following CPR performance feedback:
A38: 7.1 | B38: Graphic and numerical visual feedback on current evidence-based CPR performance parameters: hand position, compression-ventilation ratio, depth of compression, chest recoil, hands-off time and tidal volume delivery
A39: 7.2 | B39: Detailed analysis of average CPR performance over the total time over which CPR was performed (individual and team)
A40: 7.3 | B40: Immediate CPR performance graphic and numerical visual feedback for learning while doing (CPR)
...

Sheet 8. PREMATURE HF NEONATE MANIKIN
A1: ='SUMMARY LIST'!$A$1:$G$1 -> ANNEXURE A: TECHNICAL SPECIFICATION
A2: ='SUMMARY LIST'!$A$2:$G$2 -> GT/GDH/124/2024:THE SUPPLY, DELIVERY, COMMISSIONING AND MAINTENANCE OF BREATH SIMULATOR, HIGH FIDELITY ADULT MANIKIN AND HIGH-FIDELITY ADULT MANIKIN ANAESTHESIA FOR GAUTENG DEPARTMENT OF HEALTH INSTITUTIONS FOR PERIOD OF THREE YEARS (36 MONTHS).
A3: ='SUMMARY LIST'!J12 -> 8. PREMATURE HIGH FIDELITY NEONATE MANIKIN
A4: Note:
A5: 1 | B5: Bidders are required to indicate compliance/non-compliance with the specification by typing "YES / NO" on each line item on column C.
A6: 2 | B6: In the case where an equivalent or better option is provided, bidders must type the full description of the equivalent or better item on column D.
B7: Comments on the equivalent item must be provided on Column E.
A8: 3 | B8: Bidder is required provide details of the product offer on column F.
A9: 4 | B9: Bidder to provide reference to brochure (page number) / technical data sheet / supporting documents on column G.
A10: Item no. | B10: Technical Specification | C10: Comply (Yes/No) | D10: Provide Equivalent/ Better (if applicable) | E10: Comments | F10: Details of Product Offer (Provide your answers in this Column. You are advised to be straight to the point) | G10: Reference to Brochure / Technical Data Sheet (verification) / Supporting Document
A11: Training Kit Description:
A12: Full-body high-fidelity premature neonate manikin simulator system
A13: 1 | B13: General description:
A14: 1.1 | B14: A life-sized, high-fidelity premature neonate manikin with interactive patient-like features that accurately reflects a broad spectrum of clinical conditions and emergencies relevant to anaesthesia with cross-over application to other specialist medical disciplines
A15: 1.2 | B15: An operating system that controls manikin features and integrates with the patient monitor
A16: 1.3 | B16: An interactive, life-like patient monitor that integrates with manikin functionality and reflects parameters essential for anaesthesia
A17: 2 | B17: Gender & Cultural Features:
A18: 2.1 | B18: Applicable culturally-sensitive skin tones
A19: 3 | B19: Airway Features:
A20: 3.1 | B20: Realistic airway anatomy to the level of the primary bronchi
A21: 3.2 | B21: Presents with the following airway complications:
A22: 3.2.1 | B22: Right mainstem bronchus intubation
A23: 3.2.2 | B23: Stomach distension with oesophageal intubation / aggressive Bag-valve-mask ventilation
A24: 4 | B24: Airway Procedures:
A25: 4.1 | B25: Basic airway manoeuvres
A26: 4.1.1 | B26: Neutral positioning of the head
A27: 4.1.2 | B27: Oral and nasal suctioning (wet or dry)
A28: 4.1.3 | B28: Oro- and nasotracheal intubation
A29: 4.1.4 | B29: Supraglottic airway device insertion: LMA
A30: 4.1.5 | B30: Specialised techniques: Bougie / light-wand, video laryngoscopy and fibreoptic assisted intubation
A31: 5 | B31: Respiratory Features:
A32: 5.1 | B32: Auscultation of lung sounds over anatomically correct lung fields
A33: 5.2 | B33: Programmable lung sounds with normal and abnormal sounds and volumes
A34: 5.3 | B34: Displays central cyanosis
A35: 6 | B35: Respiratory Support Procedures:
A36: 6.1 | B36: Use of a wide range of oxygen delivery devices
A37: 6.2 | B37: Bag-valve-mask ventilation with chest rise
A38: 7 | B38: Circulatory Features:
A39: 7.1 | B39: Palpable pulses: umbilical
A40: 7.2 | B40: Extensive ECG library with interactive programmable features (morphology, rate, artefact, ectopic presence and frequency)
...

Sheet 9. NEONATE HF NEWBORN MANIKIN
A1: ='SUMMARY LIST'!$A$1:$G$1 -> ANNEXURE A: TECHNICAL SPECIFICATION
A2: ='SUMMARY LIST'!$A$2:$G$2 -> GT/GDH/124/2024:THE SUPPLY, DELIVERY, COMMISSIONING AND MAINTENANCE OF BREATH SIMULATOR, HIGH FIDELITY ADULT MANIKIN AND HIGH-FIDELITY ADULT MANIKIN ANAESTHESIA FOR GAUTENG DEPARTMENT OF HEALTH INSTITUTIONS FOR PERIOD OF THREE YEARS (36 MONTHS).
A3: ='SUMMARY LIST'!J13 -> 9. NEONATE HIGH FIDELITY NEWBORN MANIKIN
A4: Note:
A5: 1 | B5: Bidders are required to indicate compliance/non-compliance with the specification by typing "YES / NO" on each line item on column C.
A6: 2 | B6: In the case where an equivalent or better option is provided, bidders must type the full description of the equivalent or better item on column D.
B7: Comments on the equivalent item must be provided on Column E.
A8: 3 | B8: Bidder is required provide details of the product offer on column F.
A9: 4 | B9: Bidder to provide reference to brochure (page number) / technical data sheet / supporting documents on column G.
A11: Item no. | B11: Technical Specification | C11: Comply (Yes/No) | D11: Provide Equivalent/ Better (if applicable) | E11: Comments | F11: Details of Product Offer (Provide your answers in this Column. You are advised to be straight to the point) | G11: Reference to Brochure / Technical Data Sheet (verification) / Supporting Document
A12: Training Kit Description:
A13: Full-body high-fidelity newborn manikin simulator system
A14: 1 | B14: General description:
A15: 1.1 | B15: A life-sized, high-fidelity newborn manikin with interactive patient-like features that accurately reflects a broad spectrum of clinical conditions and emergencies relevant to anaesthesia with cross-over application to other specialist medical disciplines
A16: 1.2 | B16: An operating system that controls manikin features and integrates with the patient monitor
A17: 1.3 | B17: An interactive, life-like patient monitor that integrates with manikin functionality and reflects parameters essential for anaesthesia
A18: 2 | B18: Gender & Cultural Features:
A19: 2.1 | B19: Applicable culturally-sensitive skin tones
A20: 3 | B20: Airway Features:
A21: 3.1 | B21: Realistic airway anatomy to the level of the primary bronchi
A22: 3.2 | B22: Presents with the following airway complications:
A23: 3.2.1 | B23: Right mainstem bronchus intubation
A24: 3.2.2 | B24: Stomach distension with oesophageal intubation / aggressive Bag-valve-mask ventilation
A25: 4 | B25: Airway Procedures:
A26: 4.1 | B26: Basic airway manoeuvres
A27: 4.1.1 | B27: Neutral positioning of the head
A28: 4.1.2 | B28: Oral and nasal suctioning (wet or dry)
A29: 4.1.3 | B29: Basic airway adjuncts: OPA and NPA
A30: 4.1.4 | B30: Oro- and nasotracheal intubation
A31: 4.1.5 | B31: Supraglottic airway device insertion: LMA
A32: 4.1.6 | B32: Specialised techniques: Bougie / light-wand, video laryngoscopy and fibreoptic assisted intubation
A33: 5 | B33: Respiratory Features:
A34: 5.1 | B34: Lung recruitment
A35: 5.2 | B35: Auscultation of lung sounds over anatomically correct lung fields
A36: 5.3 | B36: Programmable lung sounds with normal and abnormal sounds and volumes
A37: 5.4 | B37: Spontaneous breathing
A38: 5.5 | B38: Demonstrates unilateral and bilateral chest-wall movement
A39: 5.6 | B39: Displays central cyanosis
A40: 6 | B40: Respiratory Support Procedures:
A41: 6.1 | B41: Use of a wide range of oxygen delivery devices
...

Sheet 10. INFANT HF MANIKIN
A1: ='SUMMARY LIST'!$A$1:$G$1 -> ANNEXURE A: TECHNICAL SPECIFICATION
A2: ='SUMMARY LIST'!$A$2:$G$2 -> GT/GDH/124/2024:THE SUPPLY, DELIVERY, COMMISSIONING AND MAINTENANCE OF BREATH SIMULATOR, HIGH FIDELITY ADULT MANIKIN AND HIGH-FIDELITY ADULT MANIKIN ANAESTHESIA FOR GAUTENG DEPARTMENT OF HEALTH INSTITUTIONS FOR PERIOD OF THREE YEARS (36 MONTHS).
A3: ='SUMMARY LIST'!J14 -> 10. INFANT HIGH FIDELITY MANIKIN
A4: Note:
A5: 1 | B5: Bidders are required to indicate compliance/non-compliance with the specification by typing "YES / NO" on each line item on column C.
A6: 2 | B6: In the case where an equivalent or better option is provided, bidders must type the full description of the equivalent or better item on column D.
B7: Comments on the equivalent item must be provided on Column E.
A8: 3 | B8: Bidder is required provide details of the product offer on column F.
A9: 4 | B9: Bidder to provide reference to brochure (page number) / technical data sheet / supporting documents on column G.
A11: Item no. | B11: Technical Specification | C11: Comply (Yes/No) | D11: Provide Equivalent/ Better (if applicable) | E11: Comments | F11: Details of Product Offer (Provide your answers in this Column. You are advised to be straight to the point) | G11: Reference to Brochure / Technical Data Sheet (verification) / Supporting Document
A12: Training Kit Description:
A13: Full-body high-fidelity infant manikin simulator system
A14: 1 | B14: General description:
A15: 1.1 | B15: A life-sized, high-fidelity infant manikin with interactive patient-like features that accurately reflects a broad spectrum of clinical conditions and emergencies relevant to anaesthesia with cross-over application to other specialist medical disciplines
A16: 1.2. | B16: An operating system that controls manikin features and integrates with the patient monitor
A17: 1.3. | B17: An interactive, life-like patient monitor that integrates with manikin functionality and reflects parameters essential for anaesthesia with cross-over applications to other specialist medical disciplines
A18: 2 | B18: Gender & Cultural Features:
A19: 2.1 | B19: Applicable culturally-sensitive skin tones
A20: 3 | B20: Airway Features:
A21: 3.1 | B21: Realistic airway anatomy to the level of the primary bronchi
A22: 3.2 | B22: Presents with the following airway complications:
A23: 3.2.1 | B23: Tongue oedema
A24: 3.2.2 | B24: Pharyngeal oedema
A25: 3.2.3 | B25: Laryngospasm
A26: 3.2.4 | B26: Difficult airway configuration
A27: 3.2.5 | B27: Right mainstem bronchus intubation
A28: 3.2.6 | B28: Stomach distension with oesophageal intubation / aggressive Bag-valve-mask ventilation
A29: 4. | B29: Airway Procedures:
A30: 4.1. | B30: Basic airway manoeuvres:
A31: 4.1.1 | B31: Head-tilt-chin lift
A32: 4.1.2 | B32: Jaw thrust
... A37: 4.1.7 | B37: Specialised techniques: Bougie / light-wand, video laryngoscopy and fibreoptic assisted intubation
A38: 5 | B38: Respiratory Features:
A39: 5.1 | B39: Variable settings for lung resistance and compliance
A40: 5.2 | B40: Anterior and posterior auscultation of lung sounds over anatomically correct lung fields
A41: 5.3 | B41: Programmable lung sounds with normal and abnormal sounds and volumes
A42: 5.4 | B42: Spontaneous breathing with abnormal breathing patterns such as sternal recession and see-saw breathing
A43: 5.5 | B43: Demonstrates unilateral and bilateral chest-wall movement
A44: 5.6 | B44: Displays central cyanosis
A45: 6 | B45: Respiratory Support Procedures:
...

Sheet 11. CHILD HF MANIKIN
A1: ='SUMMARY LIST'!$A$1:$G$1 -> ANNEXURE A: TECHNICAL SPECIFICATION
A2: ='SUMMARY LIST'!$A$2:$G$2 -> GT/GDH/124/2024:THE SUPPLY, DELIVERY, COMMISSIONING AND MAINTENANCE OF BREATH SIMULATOR, HIGH FIDELITY ADULT MANIKIN AND HIGH-FIDELITY ADULT MANIKIN ANAESTHESIA FOR GAUTENG DEPARTMENT OF HEALTH INSTITUTIONS FOR PERIOD OF THREE YEARS (36 MONTHS).
A3: ='SUMMARY LIST'!J15 -> 11. PAEDIATRIC (CHILD) HIGH FIDELITY MANIKIN
A4: Note:
A5: 1 | B5: Bidders are required to indicate compliance/non-compliance with the specification by typing "YES / NO" on each line item on column C.
A6: 2 | B6: In the case where an equivalent or better option is provided, bidders must type the full description of the equivalent or better item on column D.
B7: Comments on the equivalent item must be provided on Column E.
A8: 3 | B8: Bidder is required provide details of the product offer on column F.
A9: 4 | B9: Bidder to provide reference to brochure (page number) / technical data sheet / supporting documents on column G.
A11: Item no. | B11: Technical Specification | C11: Comply (Yes/No) | D11: Provide Equivalent/ Better (if applicable) | E11: Comments | F11: Details of Product Offer (Provide your answers in this Column. You are advised to be straight to the point) | G11: Reference to Brochure / Technical Data Sheet (verification) / Supporting Document
A12: Training Kit Description:
A13: Full-body high-fidelity child manikin simulator system
A14: 1 | B14: General description:
A15: 1.1 | B15: A life-sized, high-fidelity child manikin with interactive patient-like features that accurately reflects a broad spectrum of clinical conditions and emergencies relevant to anaesthesia with cross-over application to other specialist medical disciplines
A16: 1.2 | B16: An operating system that controls manikin features and integrates with the patient monitor
A17: 1.3 | B17: An interactive, life-like patient monitor that integrates with manikin functionality and reflects parameters essential for anaesthesia with cross-over to other specialist medical disciplines
A18: 2 | B18: Gender & Cultural Features:
A19: 2.1 | B19: Applicable culturally-sensitive skin tones
A20: 3 | B20: Airway Features:
A21: 3.1 | B21: Realistic airway anatomy to the level of the primary bronchi
A22: 3.2 | B22: Presents with the following airway complications:
A23: 3.2.1 | B23: Tongue oedema
A24: 3.2.2 | B24: Airway obstruction
A25: 3.2.3 | B25: Right mainstem bronchus intubation
A26: 3.2.4 | B26: Stomach distension with oesophageal intubation / aggressive Bag-valve-mask ventilation
A27: 4 | B27: Airway Procedures:
A28: 4.1 | B28: Basic airway manoeuvres:
A29: 4.1.1 | B29: Head-tilt-chin lift
A30: 4.1.2 | B30: Jaw thrust
A31: 4.1.3 | B31: Oral and nasal suctioning (wet or dry)
A32: 4.1.4 | B32: Basic airway adjuncts: OPA and NPA
A33: 4.1.5 | B33: Oro- and nasotracheal intubation
A34: 4.1.6 | B34: Supraglottic airway device insertion: LMA | LTA
A35: 4.1.7 | B35: Specialised techniques: Bougie / light-wand, video laryngoscopy and fibreoptic assisted intubation
A36: 4.1.8 | B36: Needle cricothyroidotomy
A37: 4.1.9 | B37: Surgical cricothyroidotomy
A38: 5 | B38: Respiratory Features:
A39: 5.1 | B39: Auscultation of lung sounds
A40: 5.2 | B40: Independently programmable lung sounds
A41: 5.3 | B41: Spontaneous breathing with options for unilateral and bilateral chest-wall movement
...

Sheet 12. ADULT HF MANIKIN
A1: ='SUMMARY LIST'!$A$1:$G$1 -> ANNEXURE A: TECHNICAL SPECIFICATION
A2: ='SUMMARY LIST'!$A$2:$G$2 -> GT/GDH/124/2024:THE SUPPLY, DELIVERY, COMMISSIONING AND MAINTENANCE OF BREATH SIMULATOR, HIGH FIDELITY ADULT MANIKIN AND HIGH-FIDELITY ADULT MANIKIN ANAESTHESIA FOR GAUTENG DEPARTMENT OF HEALTH INSTITUTIONS FOR PERIOD OF THREE YEARS (36 MONTHS).
A3: ='SUMMARY LIST'!J16 -> 12. ADULT HIGH FIDELITY MANIKIN
A4: Note:
A5: 1 | B5: Bidders are required to indicate compliance/non-compliance with the specification by typing "YES / NO" on each line item on column C.
A6: 2 | B6: In the case where an equivalent or better option is provided, bidders must type the full description of the equivalent or better item on column D.
B7: Comments on the equivalent item must be provided on Column E.
A8: 3 | B8: Bidder is required provide details of the product offer on column F.
A9: 4 | B9: Bidder to provide reference to brochure (page number) / technical data sheet / supporting documents on column G.
A11: Item no. | B11: Technical Specification | C11: Comply (Yes/No) | D11: Provide Equivalent/ Better (if applicable) | E11: Comments | F11: Details of Product Offer (Provide your answers in this Column. You are advised to be straight to the point) | G11: Reference to Brochure / Technical Data Sheet (verification) / Supporting Document
A12: Training Kit Description:
A13: Full-body high-fidelity adult manikin simulator.
A14: 1 | B14: General description:
A15: 1.1 | B15: A life-sized, high-fidelity adult manikin with interactive patient-like features that accurately reflects a broad spectrum of clinical conditions and emergencies relevant to anaesthesia with cross-over application to other specialist medical disciplines
A16: 1.2 | B16: An operating system that controls manikin features and integrates with the patient monitor
A17: 1.3 | B17: An interactive, life-like patient monitor that integrates with manikin functionality and reflects parameters essential for anaesthesia with cross-over application to other specialist medical disciplines
A18: 2 | B18: Gender & Cultural Features:
A19: 2.1 | B19: Applicable culturally-sensitive skin tones
A20: 2.2. | B20: Interchangeable genitalia (male / female) with catheterisation capability
A21: 3 | B21: Airway Features:
A22: 3.1 | B22: Realistic airway anatomy to the level of the primary bronchi
A23: 3.2 | B23: Presents with the following airway complications:
A24: 3.2.1 | B24: Trismus
A25: 3.2.2 | B25: Tongue oedema
A26: 3.2.3 | B26: Pharyngeal oedema
A27: 3.2.4 | B27: Laryngospasm
A28: 3.2.5 | B28: Decreased range of cervical spine motion
A29: 3.2.6 | B29: Difficult airway configuration
A30: 3.2.7 | B30: Right mainstem bronchus intubation
A31: 3.2.8 | B31: Stomach distension with oesophageal intubation / aggressive Bag-valve-mask ventilation
A32: 4 | B32: Airway Procedures:
A33: 4.1 | B33: Basic airway manoeuvres:
A34: 4.1.1 | B34: Head-tilt-chin lift
A35: 4.1.2 | B35: Jaw thrust
A36: 4.1.3 | B36: Oral and nasal suctioning (wet or dry)
A37: 4.1.4 | B37: Basic airway adjuncts: OPA and NPA
A38: 4.1.5 | B38: Oro- and nasotracheal intubation
A39: 4.1.6 | B39: Supraglottic airway device insertion: LMA | LTA
A40: 4.1.7 | B40: Specialised techniques: Bougie / light-wand, video laryngoscopy and fibreoptic assisted intubation
A41: 4.1.8 | B41: Needle cricothyroidotomy
...

Sheet 13. INFANT AIRWAY TRAINING KIT
A1: ='SUMMARY LIST'!$A$1:$G$1 -> ANNEXURE A: TECHNICAL SPECIFICATION
A2: ='SUMMARY LIST'!$A$2:$G$2 -> GT/GDH/124/2024:THE SUPPLY, DELIVERY, COMMISSIONING AND MAINTENANCE OF BREATH SIMULATOR, HIGH FIDELITY ADULT MANIKIN AND HIGH-FIDELITY ADULT MANIKIN ANAESTHESIA FOR GAUTENG DEPARTMENT OF HEALTH INSTITUTIONS FOR PERIOD OF THREE YEARS (36 MONTHS).
A3: ='SUMMARY LIST'!J17 -> 13. INFANT AIRWAY TRAINING KIT
A4: Note:
A5: 1 | B5: Bidders are required to indicate compliance/non-compliance with the specification by typing "YES / NO" on each line item on column C.
A6: 2 | B6: In the case where an equivalent or better option is provided, bidders must type the full description of the equivalent or better item on column D.
B7: Comments on the equivalent item must be provided on Column E.
A8: 3 | B8: Bidder is required provide details of the product offer on column F.
A9: 4 | B9: Bidder to provide reference to brochure (page number) / technical data sheet / supporting documents on column G.
A11: Item no. | B11: Technical Specification | C11: Comply (Yes/No) | D11: Provide Equivalent/ Better (if applicable) | E11: Comments | F11: Details of Product Offer (Provide your answers in this Column. You are advised to be straight to the point) | G11: Reference to Brochure / Technical Data Sheet (verification) / Supporting Document
A12: Training Kit Description:
A13: Infant airway task trainer for skills training in basic to advanced airway management procedures
A14: 1 | B14: General description:
A15: 1.1 | B15: Infant airway task trainer for skills training in basic to advanced airway management procedures
A16: 2 | B16: Airway Anatomy and Features:
A17: 2.1 | B17: Must demonstrate realistic airway anatomy to the level of the primary bronchi
A18: 3 | B18: Must support the following Airway Procedures:
A19: 3.1 | B19: Head-tilt-chin lift
A20: 3.2 | B20: Jaw thrust
A21: 3.3 | B21: Oral and tracheal suctioning
A22: 3.4 | B22: Basic airway adjuncts: Oropharyngeal airway (OPA) and Nasopharyngeal airway (NPA)
A23: 3.5 | B23: Supraglottic airway devices:Laryngeal mask airway (LMA) and Laryngeal tube airway (LTA)
A24: 3.6 | B24: Oro- and nasotracheal intubation
A25: 3.7 | B25: Right mainstem bronchus intubation
A26: 3.8 | B26: Stomach distension with oesophageal intubation / aggressive Bag-valve-mask ventilation
A27: 3.9 | B27: Supports specialised intubation techniques: Bougie / light-wand, video laryngoscopy and fibreoptic assisted intubation
A28: 4 | B28: Respiratory Features:
A29: 4.1 | B29: Visible lung expansion with correct airway placement and ventilation techniques
A30: 5 | B30: Must support the following Respiratory Support Procedures:
A31: 5.1 | B31: Bag-valve-mask ventilation with chest rise
A32: 6 | B32: Consumables,parts supplied with system on delivery:
A33: 6.1 | B33: Airway lubricant
A34: 6.2 | B34: Protective bag or case for storage and transport
A35: 7 | B35: Product Consumables:
A36: 7.1 | B36: Airway lubricant
A37: 8 | B37: Product Replacement Parts:
A38: 8.1 | B38: Airway assembly
A39: 8.2 | B39: Lungs
A40: 8.3 | B40: Stomach
A41: 8.4 | B41: Face skin

Sheet 14. ADULT SURGICAL AIRWAY
A1: ='SUMMARY LIST'!$A$1:$G$1 -> ANNEXURE A: TECHNICAL SPECIFICATION
A2: ='SUMMARY LIST'!$A$2:$G$2 -> GT/GDH/124/2024:THE SUPPLY, DELIVERY, COMMISSIONING AND MAINTENANCE OF BREATH SIMULATOR, HIGH FIDELITY ADULT MANIKIN AND HIGH-FIDELITY ADULT MANIKIN ANAESTHESIA FOR GAUTENG DEPARTMENT OF HEALTH INSTITUTIONS FOR PERIOD OF THREE YEARS (36 MONTHS).
A3: ='SUMMARY LIST'!J18 -> 14. ADULT SURGICAL AIRWAY TASK TRAINER
A4: Note:
A5: 1 | B5: Bidders are required to indicate compliance/non-compliance with the specification by typing "YES / NO" on each line item on column C.
A6: 2 | B6: In the case where an equivalent or better option is provided, bidders must type the full description of the equivalent or better item on column D.
B7: Comments on the equivalent item must be provided on Column E.
A8: 3 | B8: Bidder is required provide details of the product offer on column F.
A9: 4 | B9: Bidder to provide reference to brochure (page number) / technical data sheet / supporting documents on column G.
A11: Item no. | B11: Technical Specification | C11: Comply (Yes/No) | D11: Provide Equivalent/ Better (if applicable) | E11: Comments | F11: Details of Product Offer (Provide your answers in this Column. You are advised to be straight to the point) | G11: Reference to Brochure / Technical Data Sheet (verification) / Supporting Document
A12: Training Kit Description:
A13: Adult surgical airway task trainer for skills training in needle and surgical cricothyroidotomy
A14: 1 | B14: General description:
A15: 1.1 | B15: Adult surgical airway task trainer for skills training in needle and surgical cricothyroidotomy
A16: 2 | B16: Airway Anatomy and Features:
A17: 2.1 | B17: Must demonstrate realistic anatomy of the larynx
A18: 2.2 | B18: Must be able to palpate the thyroid notch, thyroid cartilage, cricoid cartilage and cricothyroid membrane
A19: 3 | B19: Must support the following Airway Procedures:
A20: 3.1 | B20: Needle cricothyroidotomy
A21: 3.2 | B21: Surgical cricothyroidotomy
A22: 4 | B22: Respiratory Features:
A23: 4.1 | B23: Visible lung expansion with correct tube placement
A24: 5 | B24: Must support the following Respiratory Support Procedures:
A25: 5.1 | B25: Translaryngeal jet insufflation
A26: 5.2 | B26: Bag-valve-mask,tube ventilation with chest rise
A27: 6 | B27: Consumables ,parts supplied with system on delivery:
A28: 6.1. | B28: Cricothyroid membrane tape
A29: 6.2 | B29: Neck skin
A30: 6.3 | B30: Protective bag or case for storage and transport
A31: 7 | B31: Product Consumables:
A32: 7.1 | B32: Cricothyroid membrane tape
A33: 7.2 | B33: Neck skins
A34: 8 | B34: Product Replacement Parts:
A35: 8.1 | B35: Larynx
A36: 8.2 | B36: Lungs

Sheet 15. BREATHING SIMULATOR
A1: ='SUMMARY LIST'!$A$1:$G$1 -> ANNEXURE A: TECHNICAL SPECIFICATION
A2: ='SUMMARY LIST'!$A$2:$G$2 -> GT/GDH/124/2024:THE SUPPLY, DELIVERY, COMMISSIONING AND MAINTENANCE OF BREATH SIMULATOR, HIGH FIDELITY ADULT MANIKIN AND HIGH-FIDELITY ADULT MANIKIN ANAESTHESIA FOR GAUTENG DEPARTMENT OF HEALTH INSTITUTIONS FOR PERIOD OF THREE YEARS (36 MONTHS).
A3: ='SUMMARY LIST'!J19 -> 15. BREATHING SIMULATOR
A4: Note:
A5: 1 | B5: Bidders are required to indicate compliance/non-compliance with the specification by typing "YES / NO" on each line item on column C.
A6: 2 | B6: In the case where an equivalent or better option is provided, bidders must type the full description of the equivalent or better item on column D.
B7: Comments on the equivalent item must be provided on Column E.
A8: 3 | B8: Bidder is required provide details of the product offer on column F.
A9: 4 | B9: Bidder to provide reference to brochure (page number) / technical data sheet / supporting documents on column G.
A11: Item no. | B11: Technical Specification | C11: Comply (Yes/No) | D11: Provide Equivalent/ Better (if applicable) | E11: Comments | F11: Details of Product Offer (Provide your answers in this Column. You are advised to be straight to the point) | G11: Reference to Brochure / Technical Data Sheet (verification) / Supporting Document
A12: Training Kit Description:
A13: Breathing simulator for basic to advanced ventilatory management training across all modes and types of ventilation as a free standing item.
A14: 1 | B14: General description:
A15: 1.1 | B15: Breathing simulator for basic to advanced ventilatory management training across all modes and types of ventilation as a free standing item.
A16: 2 | B16: FEATURES:
A17: 2.1 | B17: A breathing simulator that can connect to any ventilator and elicit the same breathing dynamics as a real patient across a broad spectrum of normal and pathological respiratory conditions and manifestations
A18: 2.2 | B18: Presents age-appropriate respiratory dynamics from birth to old age
A19: 2.3 | B19: Accurate physiological modelling of respiratory patterns
A20: 2.4 | B20: Breathe-to-breathe changes of lung dynamics using purpose-designed software as a stand-alone system or integrated into manikin-based simulation
A21: 3 | B21: Lung mechanics features:
A22: 3.1 | B22: Must simulate the following lung mechanics:
A23: 3.1.1 | B23: Adjustable compliance ranges from 0.5-250 mL/cmH2O
A24: 3.1.2 | B24: Adjustable resistance ranges from 8-150 cmH2O/L/s
A25: 3.2. | B25: Generate a tidal volume for spontaneous breathing ventilation support from 2 to 2500 ml
A26: 4 | B26: Ventilator parameter interaction:
A27: 4.1 | B27: Programmable spontaneous breathing rate from 0-100bpm
A28: 4.2 | B28: Programmable spontaneous breathing effort from 0-100cmH2O
A29: 4.3 | B29: Programmable Inspiratory : Expiratory (I:E) ratio
A30: 4.4 | B30: Demonstrate treatment effects of Positive End Expiratory Pressure (PEEP) across clinically relevant settings including PEEP values > 20cmH20
A31: 5 | B31: Case development features for ventilatory management:
A32: 5.1 | B32: Support non-invasive ventilation strategies such as Bag-valve Mask Ventilation, Continuous Positive Airway Pressure (CPAP) and Bilevel Positive Airway Pressure (BiPAP)
A33: 5.2 | B33: Support all modes of ventilation currently used in clinical practice. Provide detailed list.
A34: 5.3 | B34: Pre-programmed settings for respiratory conditions such as asthma, Acute Respiratory Distress Syndrome (ARDS), Chronic Obstructive Pulmonary Disease (COPD) and Interstitial Lung Disease (ILD) with variable levels of severity
A35: 5.4 | B35: Programmable user-defined respiratory conditions such as pneumothorax, bronchospasm, pneumonia, cystic fibrosis (as examples)
A36: 5.5 | B36: Program and simulate advanced ventilation presentations / management strategies such as patient-ventilator dyssynchrony, weaning and waveform analysis.
A37: 5.6 | B37: High flow oxygen therapy
... A60: 9.9 | B60: O-rings and seals
A61: 9.10 | B61: High Flow Oxygen Consumables

Sheet 16. BRONCHOSCOPY TRAINING
A1: ='SUMMARY LIST'!$A$1:$G$1 -> ANNEXURE A: TECHNICAL SPECIFICATION
A2: ='SUMMARY LIST'!$A$2:$G$2 -> GT/GDH/124/2024:THE SUPPLY, DELIVERY, COMMISSIONING AND MAINTENANCE OF BREATH SIMULATOR, HIGH FIDELITY ADULT MANIKIN AND HIGH-FIDELITY ADULT MANIKIN ANAESTHESIA FOR GAUTENG DEPARTMENT OF HEALTH INSTITUTIONS FOR PERIOD OF THREE YEARS (36 MONTHS).
A3: ='SUMMARY LIST'!J20 -> 16. BRONCHOSCOPY TRAINING SIMULATOR
A4: Note:
A5: 1 | B5: Bidders are required to indicate compliance/non-compliance with the specification by typing "YES / NO" on each line item on column C.
A6: 2 | B6: In the case where an equivalent or better option is provided, bidders must type the full description of the equivalent or better item on column D.
B7: Comments on the equivalent item must be provided on Column E.
A8: 3 | B8: Bidder is required provide details of the product offer on column F.
A9: 4 | B9: Bidder to provide reference to brochure (page number) / technical data sheet / supporting documents on column G.
A11: Item no. | B11: Technical Specification | C11: Comply (Yes/No) | D11: Provide Equivalent/ Better (if applicable) | E11: Comments | F11: Details of Product Offer (Provide your answers in this Column. You are advised to be straight to the point) | G11: Reference to Brochure / Technical Data Sheet (verification) / Supporting Document
A12: Training Kit Description:
A13: Bronchoscopy training system | B13: Bronchoscopy training system
A14: 1 | B14: General description:
A15: 1.1 | B15: Bronchoscopy simulator designed to teach advanced bronchoscopy skills in a virtual environment with appropriate hardware and software kit
A16: 2 | B16: Bronchoscopy Simulator features:
A17: 2.1 | B17: Realistic replica bronchoscope that promotes psychomotor skill development
A18: 2.2 | B18: Must support a range of bronchoscopy learning needs from beginner to advanced levels
A19: 2.3 | B19: Must provide a didactic and practical platform for learning the basics of bronchoscopy
A20: 2.4 | B20: Must establish links between hand position, bronchoscopy simulator and visualised anatomy
A21: 2.5 | B21: Must provide teaching from non-anatomical models to a range of complex airway pathology in adults and children
A22: 2.6 | B22: Bronchoscopy visuals must provide normal and pathological findings from real cases
A23: 2.7 | B23: Must provide a variety of clinical cases from beginner to advanced levels
A24: 3 | B24: Bronchoscopy training modules:
A25: 3.1 | B25: Tasks for operating a bronchoscope
A26: 3.2 | B26: Normal adult anatomy
A27: 3.3 | B27: Normal paediatric anatomy
... A38: 5.5 | B38: Appropriate compatible hardware

Sheet 17. POC ULTRASOUND 
A1: ='SUMMARY LIST'!$A$1:$G$1 -> ANNEXURE A: TECHNICAL SPECIFICATION
A2: ='SUMMARY LIST'!$A$2:$G$2 -> GT/GDH/124/2024:THE SUPPLY, DELIVERY, COMMISSIONING AND MAINTENANCE OF BREATH SIMULATOR, HIGH FIDELITY ADULT MANIKIN AND HIGH-FIDELITY ADULT MANIKIN ANAESTHESIA FOR GAUTENG DEPARTMENT OF HEALTH INSTITUTIONS FOR PERIOD OF THREE YEARS (36 MONTHS).
A3: ='SUMMARY LIST'!J21 -> 17. POINT OF CARE (POC) ULTRASOUND SIMULATOR
A4: Note:
A5: 1 | B5: Bidders are required to indicate compliance/non-compliance with the specification by typing "YES / NO" on each line item on column C.
