Workbook
Name OLE_LINK1: '9. NEONATE HF NEWBORN MANIKIN'!$B$108

Sheet SUMMARY LIST
A1: ANNEXURE A: TECHNICAL SPECIFICATION
A2: GT/GDH/124/2024:THE SUPPLY, DELIVERY, COMMISSIONING AND MAINTENANCE OF BREATH SIMULATOR, HIGH FIDELITY ADULT MANIKIN AND HIGH-FIDELITY ADULT MANIKIN ANAESTHESIA FOR GAUTENG DEPARTMENT OF HEALTH INSTITUTIONS FOR PERIOD OF THREE YEARS (36 MONTHS).
A3: LIST OF ITEMS
A4: NO: | B4: DESCRIPTION | G4: BIDDER TO INDICATE WHICH ITEMS ARE INCLUDED IN THEIR BID PROPOSAL YES / NO
A5: 1 | B5: Infant Basic Life Support (BLS) cardiopulmonary resuscitation (CPR) trainer | J5: =UPPER(CONCATENATE(A5,". ",B5)) -> 1. INFANT BASIC LIFE SUPPORT (BLS) CARDIOPULMONARY RESUSCITATION (CPR) TRAINER
A6: =A5+1 -> 2 | B6: Paediatric (Child) Basic Life Support (BLS) cardiopulmonary resuscitation (CPR) Trainer | J6: =UPPER(CONCATENATE(A6,". ",B6)) -> 2. PAEDIATRIC (CHILD) BASIC LIFE SUPPORT (BLS) CARDIOPULMONARY RESUSCITATION (CPR) TRAINER
A7: 3 | B7: Adult Basic Life Support (BLS) cardiopulmonary resuscitation (CPR) Task Trainer | J7: =UPPER(CONCATENATE(A7,". ",B7)) -> 3. ADULT BASIC LIFE SUPPORT (BLS) CARDIOPULMONARY RESUSCITATION (CPR) TASK TRAINER
A8: 4 | B8: Basic Life Support (BLS) cardiopulmonary resuscitation (CPR) Family Task Trainer | J8: =UPPER(CONCATENATE(A8,". ",B8)) -> 4. BASIC LIFE SUPPORT (BLS) CARDIOPULMONARY RESUSCITATION (CPR) FAMILY TASK TRAINER
A9: 5 | B9: Infant Advanced Life Support Manikins (LSM) | J9: =UPPER(CONCATENATE(A9,". ",B9)) -> 5. INFANT ADVANCED LIFE SUPPORT MANIKINS (LSM)
A10: 6 | B10: Paediatric Advanced Life Support Manikins (LSM) | J10: =UPPER(CONCATENATE(A10,". ",B10)) -> 6. PAEDIATRIC ADVANCED LIFE SUPPORT MANIKINS (LSM)
A11: 7 | B11: Adult Advanced Life Support Manikins (LSM) | J11: =UPPER(CONCATENATE(A11,". ",B11)) -> 7. ADULT ADVANCED LIFE SUPPORT MANIKINS (LSM)
A12: 8 | B12: Premature High Fidelity Neonate Manikin | J12: =UPPER(CONCATENATE(A12,". ",B12)) -> 8. PREMATURE HIGH FIDELITY NEONATE MANIKIN
A13: 9 | B13: Neonate High Fidelity Newborn Manikin | J13: =UPPER(CONCATENATE(A13,". ",B13)) -> 9. NEONATE HIGH FIDELITY NEWBORN MANIKIN
A14: 10 | B14: Infant High Fidelity Manikin | J14: =UPPER(CONCATENATE(A14,". ",B14)) -> 10. INFANT HIGH FIDELITY MANIKIN
A15: 11 | B15: Paediatric (Child) High Fidelity Manikin | J15: =UPPER(CONCATENATE(A15,". ",B15)) -> 11. PAEDIATRIC (CHILD) HIGH FIDELITY MANIKIN
A16: 12 | B16: Adult High Fidelity Manikin | J16: =UPPER(CONCATENATE(A16,". ",B16)) -> 12. ADULT HIGH FIDELITY MANIKIN
A17: 13 | B17: Infant Airway Training Kit | J17: =UPPER(CONCATENATE(A17,". ",B17)) -> 13. INFANT AIRWAY TRAINING KIT
A18: 14 | B18: Adult Surgical Airway Task Trainer | J18: =UPPER(CONCATENATE(A18,". ",B18)) -> 14. ADULT SURGICAL AIRWAY TASK TRAINER
... A30: 26 | B30: High Fidelity Adult Female Simulation Training Kit for Nursing | J30: =UPPER(CONCATENATE(A30,". ",B30)) -> 26. HIGH FIDELITY ADULT FEMALE SIMULATION TRAINING KIT FOR NURSING

Sheet 1. INFANT BLS CPR TRAINER
A1: ='SUMMARY LIST'!$A$1:$G$1 -> ANNEXURE A: TECHNICAL SPECIFICATION
A2: ='SUMMARY LIST'!$A$2:$G$2 -> GT/GDH/124/2024:THE SUPPLY, DELIVERY, COMMISSIONING AND MAINTENANCE OF BREATH SIMULATOR, HIGH FIDELITY ADULT MANIKIN AND HIGH-FIDELITY ADULT MANIKIN ANAESTHESIA FOR GAUTENG DEPARTMENT OF HEALTH INSTITUTIONS FOR PERIOD OF THREE YEARS (36 MONTHS).
A3: ='SUMMARY LIST'!J5 -> 1. INFANT BASIC LIFE SUPPORT (BLS) CARDIOPULMONARY RESUSCITATION (CPR) TRAINER
A4: Note:
A5: 1 | B5: Bidders are required to indicate compliance/non-compliance with the specification by typing "YES / NO" on each line item on column C.
A6: 2 | B6: In the case where an equivalent or better option is provided, bidders must type the full description of the equivalent or better item on column D.
B7: Comments on the equivalent item must be provided on column E.
A8: 3 | B8: Bidder is required provide details of the product offer on column F.
A9: 4 | B9: Bidder to provide reference to brochure (page number) / technical data sheet / supporting documents on column G.
A10: A | B10: B | C10: C | D10: D | E10: E | F10: F | G10: G
A11: Item no. | B11: Technical Specification | C11: Comply (Yes/No) | D11: Provide Equivalent/ Better (if applicable) | E11: Comments | F11: Details of Product Offer (Provide your answers in this Column. You are advised to be straight to the point) | G11: Reference to Brochure / Technical Data Sheet (verification) / Supporting Document
A12: 1 | B12: General description:
A13: 1.1 | B13: Full-body infant task trainer for individual and team training in Basic Life Support (BLS) cardiopulmonary resuscitation (CPR)with appropriate hardware
A14: 1.2 | B14: Provide immediate feedback during CPR for learning while doing
A15: 1.3 | B15: Detailed data recording of CPR metrics for feedback, record keeping and research
A16: 2 | B16: Must demonstrate the following Airway Features:
A17: 2.1 | B17: Anatomical airway obstruction if airway not properly opened
A18: 3 | B18: Must support the following Airway Procedures:
A19: 3.1 | B19: Head-tilt-chin lift
A20: 3.2 | B20: Jaw thrust
A21: 4 | B21: Must support the following Respiratory Support Procedures:
A22: 4.1 | B22: Bag-valve-mask ventilation with chest rise
A23: 5 | B23: Must demonstrate the following Anatomical Features:
A24: 5.1 | B24: Identification of the sternal notch and xyphoid process for determining correct hand placement for chest compressions
A25: 5.2 | B25: Realistic chest compliance on chest compression
A26: 6 | B26: Must provide the following CPR performance feedback:
A27: 6.1 | B27: Graphic and numerical visual feedback on current evidence-based CPR performance parameters: hand position, compression-ventilation ratio, depth of compression, chest recoil, hands-off time and tidal volume delivery
A28: 6.2 | B28: Detailed analysis of average CPR performance over the total time over which CPR was performed (individual and team)
A29: 6.3 | B29: Immediate CPR performance graphic and numerical visual feedback for learning while doing CPR
A30: 6.4 | B30: Both learner feedback system and instructor feedback with data capture system must function simultaneously
A31: 7 | B31: Consumables / replacement parts supplied with system:
A32: 7.1 | B32: Face skins
A33: 7.2 | B33: Lungs
A34: 7.3 | B34: Manikin clothing
A35: 7.4 | B35: Basic tools for assembly
A36: 7.5 | B36: Battery / power pack
A37: 7.6 | B37: Charge cable
A38: 7.7 | B38: Protective bag or case for storage and transport
A39: 7.8 | B39: Chest skin
A40: 7.9 | B40: Lungs
A41: 7.10 | B41: Airway system
A42: 7.11 | B42: Hardware:
A43: 7.11.1 | B43: Device for immediate CPR performance feedback to person doing CPR
... A45: 7.12.1 | B45: Simulator system providing student performance monitoring by instructor and detail CPR metrics data capture

Sheet 2. CHILD BLS CPR TRAINER
A1: ='SUMMARY LIST'!$A$1:$G$1 -> ANNEXURE A: TECHNICAL SPECIFICATION
A2: ='SUMMARY LIST'!$A$2:$G$2 -> GT/GDH/124/2024:THE SUPPLY, DELIVERY, COMMISSIONING AND MAINTENANCE OF BREATH SIMULATOR, HIGH FIDELITY ADULT MANIKIN AND HIGH-FIDELITY ADULT MANIKIN ANAESTHESIA FOR GAUTENG DEPARTMENT OF HEALTH INSTITUTIONS FOR PERIOD OF THREE YEARS (36 MONTHS).
A3: ='SUMMARY LIST'!J6 -> 2. PAEDIATRIC (CHILD) BASIC LIFE SUPPORT (BLS) CARDIOPULMONARY RESUSCITATION (CPR) TRAINER
A4: Note:
A5: 1 | B5: Bidders are required to indicate compliance/non-compliance with the specification by typing "YES / NO" on each line item on column C.
A6: 2 | B6: In the case where an equivalent or better option is provided, bidders must type the full description of the equivalent or better item on column D.
B7: Comments on the equivalent item must be provided on Column E.
A8: 3 | B8: Bidder is required provide details of the product offer on column F.
A9: 4 | B9: Bidder to provide reference to brochure (page number) / technical data sheet / supporting documents on column G.
A10: A | B10: B | C10: C | D10: D | E10: E | F10: F | G10: G
A11: Item no. | B11: Technical Specification | C11: Comply (Yes/No) | D11: Provide Equivalent/ Better (if applicable) | E11: Comments | F11: Details of Product Offer (Provide your answers in this Column. You are advised to be straight to the point) | G11: Reference to Brochure / Technical Data Sheet (verification) / Supporting Document
A12: 1 | B12: General description:
A13: 1.1 | B13: Child manikin task trainer for individual and team training in Basic Life Support (BLS) cardiopulmonary resuscitation (CPR) with appropriate hardware
A14: 1.2 | B14: Provide immediate feedback during CPR for learning while doing (CPR)
A15: 1.3 | B15: Provide detailed data recording of CPR metrics for feedback, for record keeping and research purposes
A16: 2 | B16: Must demonstrate the following Airway Features:
A17: 2.1 | B17: Jaw thrust
A18: 3 | B18: Must support the following Respiratory Support Procedures:
A19: 3.1 | B19: Bag-valve-mask ventilation with chest rise
A20: 4 | B20: Must support the following Respiratory Support Procedures:
A21: 4.1 | B21: Realistic chest compliance on chest compression
A22: 5 | B22: Must provide the following CPR performance feedback:
A23: 5.1 | B23: Detailed analysis of average CPR performance over the total time over which CPR was performed (individual and team)
A24: 5.2 | B24: Immediate CPR performance graphic and numerical visual feedback for learning while doing (CPR)
A25: 5.3 | B25: Both learner feedback system and instructor feedback with data capture system must function simultaneously
A26: 6 | B26: Consumables and parts supplied with system:
A27: 6.1 | B27: Device for immediate CPR performance feedback to person doing CPR
A28: 6.2 | B28: Simulator system providing student performance monitoring by instructor and detail CPR metrics data capture
A29: 6.3 | B29: Face skins
A30: 6.4 | B30: Chest skins
A31: 6.5 | B31: Manikin clothing
A32: 6.6 | B32: Basic tools for assembly
A33: 6.7 | B33: Battery / power pack
A34: 6.8 | B34: Charge cable
A35: 6.9 | B35: Protective bag or case for storage and transport
A36: 7 | B36: Product Replacement Parts:
A37: 7.1 | B37: Device for immediate CPR performance feedback to person doing CPR
A38: 7.2 | B38: Simulator system providing student performance monitoring by instructor and detail CPR metrics data capture
A39: 7.3 | B39: Chest skin
A40: 7.4 | B40: Face skin
A41: 7.5 | B41: Lungs
A42: 7.6 | B42: Manikin clothing
A43: 7.7 | B43: Battery / power pack
A44: 7.8 | B44: Charge cable
A45: 7.9 | B45: Hardware

Sheet 3. ADULT BLS CPR TASK TRAINER
A1: ='SUMMARY LIST'!$A$1:$G$1 -> ANNEXURE A: TECHNICAL SPECIFICATION
A2: ='SUMMARY LIST'!$A$2:$G$2 -> GT/GDH/124/2024:THE SUPPLY, DELIVERY, COMMISSIONING AND MAINTENANCE OF BREATH SIMULATOR, HIGH FIDELITY ADULT MANIKIN AND HIGH-FIDELITY ADULT MANIKIN ANAESTHESIA FOR GAUTENG DEPARTMENT OF HEALTH INSTITUTIONS FOR PERIOD OF THREE YEARS (36 MONTHS).
A3: ='SUMMARY LIST'!J7 -> 3. ADULT BASIC LIFE SUPPORT (BLS) CARDIOPULMONARY RESUSCITATION (CPR) TASK TRAINER
A4: Note:
A5: 1 | B5: Bidders are required to indicate compliance/non-compliance with the specification by typing "YES / NO" on each line item on column C.
A6: 2 | B6: In the case where an equivalent or better option is provided, bidders must type the full description of the equivalent or better item on column D.
B7: Comments on the equivalent item must be provided on Column E.
A8: 3 | B8: Bidder is required provide details of the product offer on column F.
A9: 4 | B9: Bidder to provide reference to brochure (page number) / technical data sheet / supporting documents on column G.
A10: A | B10: B | C10: C | D10: D | E10: E | F10: F | G10: G
A11: Item no. | B11: Technical Specification | C11: Comply (Yes/No) | D11: Provide Equivalent/ Better (if applicable) | E11: Comments | F11: Details of Product Offer (Provide your answers in this Column. You are advised to be straight to the point) | G11: Reference to Brochure / Technical Data Sheet (verification) / Supporting Document
A12: 1 | B12: General description:
A13: 1.1 | B13: Adult task trainer for individual and team training in Basic Life Support (BLS) cardiopulmonary resuscitation (CPR) with appropriate hardware.
A14: 1.2 | B14: Provide immediate feedback during CPR for learning while doing
A15: 1.3 | B15: Provide detailed data recording of CPR metrics for feedback, record keeping and research
A16: 2 | B16: Must demonstrate the following Airway Features:
A17: 2.1 | B17: Anatomical airway obstruction if airway not properly opened
A18: 3 | B18: Must support the following Airway Procedures:
A19: 3.1 | B19: Head-tilt-chin lift
A20: 3.2 | B20: Jaw thrust
A21: 4 | B21: Must support the following Respiratory Support Procedures:
A22: 4.1 | B22: Bag-valve-mask ventilation with chest rise
A23: 5 | B23: Must demonstrate the following Anatomical Features:
A24: 5.1 | B24: Sternal notch and xyphoid process for determining correct hand placement for chest compressions
A25: 5.2 | B25: Palpable carotid pulse
A26: 5.3 | B26: Realistic chest compliance on chest compression
A27: 6 | B27: Must provide the following CPR performance feedback:
A28: 6.1 | B28: Graphic and numerical visual feedback on current evidence-based CPR performance parameters: hand position, compression-ventilation ratio, depth of compression, chest recoil, hands-off time and tidal volume delivery
A29: 6.2 | B29: Detailed analysis of average CPR performance over the total time over which CPR was performed (individual and team)
A30: 6.3 | B30: Immediate CPR performance graphic and numerical visual feedback for learning while doing
A31: 6.4 | B31: Both learner feedback system and instructor feedback with data capture system must function simultaneously
A32: 7 | B32: Consumables,parts supplied with system on delivery:
A33: 7.1 | B33: Device for immediate CPR performance feedback to person doing CPR
A34: 7.2 | B34: Simulator system providing student performance monitoring by instructor and detail CPR metrics data capture
A35: 7.3 | B35: Face skins
A36: 7.4 | B36: Lungs
A37: 7.5 | B37: Manikin clothing
A38: 7.6 | B38: Basic tools for assembly
A39: 7.7 | B39: Battery / power pack
A40: 7.8 | B40: Charge cable
A41: 7.9 | B41: Protective bag or case for storage and transport
A42: 7.10 | B42: Hardware
A43: 8 | B43: Product Replacement Parts :
A44: 8.1 | B44: Device for immediate CPR performance feedback to person doing CPR
A45: 8.2 | B45: Simulator system providing student performance monitoring by instructor and detail CPR metrics data capture
A46: 8.3 | B46: Chest skin
A47: 8.4 | B47: Face skin
A48: 8.5 | B48: Lungs
A49: 8.6 | B49: Manikin clothing
A50: 8.7 | B50: Battery / power pack
A51: 8.8 | B51: Charge cable
A52: 8.9 | B52: Hardware

Sheet 4. BLS CPR FAMILY TASK TRAINER
A1: ='SUMMARY LIST'!$A$1:$G$1 -> ANNEXURE A: TECHNICAL SPECIFICATION
A2: ='SUMMARY LIST'!$A$2:$G$2 -> GT/GDH/124/2024:THE SUPPLY, DELIVERY, COMMISSIONING AND MAINTENANCE OF BREATH SIMULATOR, HIGH FIDELITY ADULT MANIKIN AND HIGH-FIDELITY ADULT MANIKIN ANAESTHESIA FOR GAUTENG DEPARTMENT OF HEALTH INSTITUTIONS FOR PERIOD OF THREE YEARS (36 MONTHS).
A3: ='SUMMARY LIST'!J8 -> 4. BASIC LIFE SUPPORT (BLS) CARDIOPULMONARY RESUSCITATION (CPR) FAMILY TASK TRAINER
A4: Note:
A5: 1 | B5: Bidders are required to indicate compliance/non-compliance with the specification by typing "YES / NO" on each line item on column C.
A6: 2 | B6: In the case where an equivalent or better option is provided, bidders must type the full description of the equivalent or better item on column D.
B7: Comments on the equivalent item must be provided on Column E.
A8: 3 | B8: Bidder is required provide details of the product offer on column F.
A9: 4 | B9: Bidder to provide reference to brochure (page number) / technical data sheet / supporting documents on column G.
A11: Item no. | B11: Technical Specification | C11: Comply (Yes/No) | D11: Provide Equivalent/ Better (if applicable) | E11: Comments | F11: Details of Product Offer (Provide your answers in this Column. You are advised to be straight to the point) | G11: Reference to Brochure / Technical Data Sheet (verification) / Supporting Document
A12: Training Kit Description:
A13: Age specific CPR training manikin family set for individual and team training in Basic Life Support (BLS) cardiopulmonary resuscitation (CPR)
A14: 1 | B14: General description:
A15: 1.1 | B15: Age specific CPR training manikin family set for individual and team training in Basic Life Support (BLS) cardiopulmonary resuscitation (CPR)
A16: 1.2 | B16: Must include manikins for infant, paediatric and adult CPR training.
A17: 1.3 | B17: Must include Automated External Defibrillator (AED) trainer as per evidence BLS practices
A18: 2 | B18: Must demonstrate the following Airway Features:
A19: 2.1 | B19: Realistic airway anatomy above the level of the vocal cords
A20: 2.2 | B20: Anatomical airway obstruction if airway not properly opened
A21: 2.3 | B21: Lung distension bag-valve-mask ventilation
A22: 3 | B22: Must support the following Airway Procedures:
A23: 3.1 | B23: Head-tilt-chin lift
A24: 3.2 | B24: Jaw thrust
A25: 3.3 | B25: Basic airway adjuncts: OPA and NPA
A26: 4 | B26: Must support the following Respiratory Support Procedures:
A27: 4.1 | B27: Bag-valve-mask ventilation with chest rise
A28: 5 | B28: Must demonstrate the following Anatomical and Cardiac Features:
A29: 5.1 | B29: Identification of the sternal notch and xyphoid process for determining correct hand placement for chest compressions
A30: 5.2 | B30: Variable chest compliance for chest compression difficulty
A31: 6 | B31: Must provide the following CPR performance feedback:
A32: 6.1 | B32: Graphic and numerical visual feedback on current evidence-based CPR performance parameters: hand position, compression-ventilation ratio, depth of compression, chest recoil, hands-off time and tidal volume delivery
A33: 6.2 | B33: Detailed analysis of average CPR performance over the total time over which CPR was performed (individual and team)
A34: 6.3 | B34: Immediate CPR performance graphic and numerical visual feedback for learning while doing (CPR)
A35: 7 | B35: Automated External Defibrillator trainer features:
A36: 7.1 | B36: Realistic defibrillator training
A37: 7.2 | B37: ECG library with multiple scenarios for shockable and non-shockable rhythms
A38: 7.3 | B38: Latest EBM guidelines compliant
A39: 7.4 | B39: Must include the training pads
A40: 7.5 | B40: Must include a carry case
A41: 8 | B41: Software and Operating System requirements:
A42: 8.1 | B42: Touch-screen monitor for interaction with monitor parameters
A43: 9 | B43: System Integration requirements:
A44: 9.1 | B44: Must integrate with a simulation data capturing system enabling data collection for debriefing, record keeping, reporting and research purposes
A45: 9.2 | B45: Both learner feedback system and instructor feedback with data capture system must function simultaneously
A46: 10 | B46: Consumable, parts supplied with system on delivery:
A47: 10.1 | B47: Lubricant for airway procedures
A48: 10.2 | B48: Device for immediate CPR performance feedback to person doing CPR
A49: 10.3 | B49: Simulator operating system including system that supports student performance monitoring by instructor and detail CPR metrics data capture
A50: 10.4 | B50: AED replacement pads
A51: 10.5 | B51: Manikin clothing
A52: 10.6 | B52: Portable battery pack
A53: 10.7 | B53: Charge cable
A54: 10.8 | B54: Protective bag or case for storage and transport
A55: 11 | B55: Product Consumables:
A56: 11.1 | B56: Lubricant for airway procedures
A57: 12 | B57: Product Replacement Parts:
A58: 12.1 | B58: Device for immediate CPR performance feedback to person doing CPR
A59: 12.2 | B59: Lung bladders
A60: 12.3 | B60: Manikin clothing
A61: 12.4 | B61: Battery / power pack
A62: 12.5 | B62: Charge cable

Sheet 5. INFANT ADVANCED LSM
A1: ='SUMMARY LIST'!$A$1:$G$1 -> ANNEXURE A: TECHNICAL SPECIFICATION
A2: ='SUMMARY LIST'!$A$2:$G$2 -> GT/GDH/124/2024:THE SUPPLY, DELIVERY, COMMISSIONING AND MAINTENANCE OF BREATH SIMULATOR, HIGH FIDELITY ADULT MANIKIN AND HIGH-FIDELITY ADULT MANIKIN ANAESTHESIA FOR GAUTENG DEPARTMENT OF HEALTH INSTITUTIONS FOR PERIOD OF THREE YEARS (36 MONTHS).
A3: ='SUMMARY LIST'!J9 -> 5. INFANT ADVANCED LIFE SUPPORT MANIKINS (LSM)
A4: Note:
A5: 1 | B5: Bidders are required to indicate compliance/non-compliance with the specification by typing "YES / NO" on each line item on column C.
A6: 2 | B6: In the case where an equivalent or better option is provided, bidders must type the full description of the equivalent or better item on column D.
B7: Comments on the equivalent item must be provided on Column E.
A8: 3 | B8: Bidder is required provide details of the product offer on column F.
A9: 4 | B9: Bidder to provide reference to brochure (page number) / technical data sheet / supporting documents on column G.
A10: A | B10: B | C10: C | D10: D | E10: E | F10: F | G10: G
A11: Item no. | B11: Technical Specification | C11: Comply (Yes/No) | D11: Provide Equivalent/ Better (if applicable) | E11: Comments | F11: Details of Product Offer (Provide your answers in this Column. You are advised to be straight to the point) | G11: Reference to Brochure / Technical Data Sheet (verification) / Supporting Document
A12: Training Kit Description:
A13: Full-body infant manikin simulator system for individual and team training in infant advanced life support cardiopulmonary resuscitation (CPR)
A14: 1 | B14: General description:
A15: 1.1 | B15: A life-sized, medium-fidelity infant manikin with interactive patient-like features that accurately reflects a broad spectrum of clinical conditions and emergencies relevant to emergency medicine with cross-over application to other specialist medical disciplines
A16: 1.2 | B16: An operating system that controls manikin cardiac rhythm. Assisted by cardiac rhythm generator
A17: 2 | B17: Airway Features:
A18: 2.1 | B18: Realistic airway anatomy with tongue, oropharynx, epiglottis, larynx, vocal cords, trachea and main bronchi (right and left diversions)
A19: 2.2 | B19: Presents with the following airway complications:
A20: 2.2.1 | B20: Right/left main stem bronchus intubation
A21: 2.2.2 | B21: Stomach distension with oesophageal intubation / aggressive Bag-valve-mask ventilation
A22: 3 | B22: Airway Procedures:
A23: 3.1 | B23: Basic airway manoeuvres:
A24: 3.1.1 | B24: Head-tilt-chin lift
A25: 3.1.2 | B25: Jaw thrust
A26: 3.1.3 | B26: Oral and nasal suctioning (wet or dry)
A27: 3.1.4 | B27: Basic airway adjuncts: oropharyngeal airway device and nasopharyngeal airway device
A28: 3.1.5 | B28: Laryngeal manoeuvre can be performed
A29: 3.1.6 | B29: Oral Endotracheal and nasal endotracheal intubation
A30: 3.1.7 | B30: Supraglottic airway device insertion: Laryngeal mask airway (LMA) | LT (laryngeal tube)
A31: 3.1.8 | B31: Specialised techniques: Bougie / light-wand, video laryngoscopy and fibreoptic assisted intubation
A32: 4 | B32: Respiratory Features:
A33: 4.1 | B33: Demonstrates unilateral and bilateral chest-wall movement
A34: 5 | B34: Respiratory Support Procedures:
A35: 5.1 | B35: Use of a wide range of oxygen delivery devices
A36: 5.2 | B36: Bag-valve-mask ventilation with chest rise
A37: 5.3 | B37: Supports basic to advanced ventilation management
A38: 6 | B38: Circulatory Features:
A39: 6.1 | B39: Palpable pulse (manually or electronically controlled): brachial pulse
A40: 6.2 | B40: ECG features controlled by the rhythm generator
A41: 7 | B41: Circulatory support procedures:
A42: 7.1 | B42: Intra-osseus needle insertion
A43: 7.2 | B43: CPR capable
A44: 8 | B44: Software and Operating System requirements:
A45: 8.1 | B45: Battery operated rhythm generator simulator that connects to manikin or appropriate operating hardware
A46: 9 | B46: Consumables ,parts supplied with system on delivery:
A47: 9.1 | B47: Pacing / defibrillation cable that integrates live pacing / defibrillation compatible with institutions defibrillator
A48: 9.2 | B48: Lubricant for airway procedures
A49: 9.3 | B49: IO replacement parts
A50: 9.4 | B50: Manikin clothing
A51: 9.5 | B51: Lung bladders
A52: 9.6 | B52: Basic tools for assembly
A53: 9.7 | B53: Protective bag or case for storage and transport
A54: 10 | B54: Product Consumables:
A55: 10.1 | B55: Lubricant for airway procedures
A56: 10.2 | B56: Replacement parts for IO
A57: 11 | B57: Product Replacement Parts:
A58: 11.1 | B58: 3 lead ECG cables
A59: 11.2 | B59: Airway system
A60: 11.3 | B60: Lung bladders
A61: 11.4 | B61: Chest skin
A62: 11.5 | B62: Manikin clothing
A63: 11.6 | B63: ECG leads to connect to the simulator device (interface cable)

Sheet 6. PAEDIATRIC ADVANCED LSM
A1: ='SUMMARY LIST'!$A$1:$G$1 -> ANNEXURE A: TECHNICAL SPECIFICATION
A2: ='SUMMARY LIST'!$A$2:$G$2 -> GT/GDH/124/2024:THE SUPPLY, DELIVERY, COMMISSIONING AND MAINTENANCE OF BREATH SIMULATOR, HIGH FIDELITY ADULT MANIKIN AND HIGH-FIDELITY ADULT MANIKIN ANAESTHESIA FOR GAUTENG DEPARTMENT OF HEALTH INSTITUTIONS FOR PERIOD OF THREE YEARS (36 MONTHS).
A3: ='SUMMARY LIST'!J10 -> 6. PAEDIATRIC ADVANCED LIFE SUPPORT MANIKINS (LSM)
A4: Note:
A5: 1 | B5: Bidders are required to indicate compliance/non-compliance with the specification by typing "YES / NO" on each line item on column C.
A6: 2 | B6: In the case where an equivalent or better option is provided, bidders must type the full description of the equivalent or better item on column D.
B7: Comments on the equivalent item must be provided on Column E.
A8: 3 | B8: Bidder is required provide details of the product offer on column F.
A9: 4 | B9: Bidder to provide reference to brochure (page number) / technical data sheet / supporting documents on column G.
A10: A | B10: B | C10: C | D10: D | E10: E | F10: F | G10: G
A11: Item no. | B11: Technical Specification | C11: Comply (Yes/No) | D11: Provide Equivalent/ Better (if applicable) | E11: Comments | F11: Details of Product Offer (Provide your answers in this Column. You are advised to be straight to the point) | G11: Reference to Brochure / Technical Data Sheet (verification) / Supporting Document
A12: Training Kit Description:
A13: Full-body paediatric manikin simulator system for individual and team training in paediatric advanced life support cardiopulmonary resuscitation (CPR)
A14: 1 | B14: General description:
A15: 1.1 | B15: Full-body paediatric manikin simulator system for individual and team training in paediatric advanced life support cardiopulmonary resu scitation (CPR) with appropriate hardware
A16: 1.2 | B16: Provide immediate feedback during CPR for learning while doing (CPR)
A17: 1.3 | B17: Detailed data recording of CPR performance parameters for feedback, record keeping and research purposes
A18: 2 | B18: Must demonstrate the following Airway Features:
A19: 2.1 | B19: Realistic airway anatomy to the level of the main bronchi
A20: 2.2 | B20: Anatomical airway obstruction if airway not properly opened
A21: 2.3 | B21: Stomach distension with aggressive bag-valve-mask ventilation/oesophageal intubation
A22: 3 | B22: Must support the following Airway Procedures:
A23: 3.1 | B23: Head-tilt-chin lift
A24: 3.2 | B24: Jaw thrust
A25: 3.3 | B25: Basic airway adjuncts: OPA and NPA
A26: 3.4 | B26: Supraglottic airway device insertion
A27: 3.5 | B27: Oral and nasal endotracheal intubation
A28: 4 | B28: Must support the following Respiratory Support Procedures:
A29: 4.1 | B29: Bag-valve-mask ventilation with chest rise
A30: 4.2 | B30: Unilateral chest rise with left/right main stem intubation
A31: 5 | B31: Must demonstrate the following Anatomical and Cardiac Features:
A32: 5.1 | B32: Identification of the sternal notch and xyphoid process for determining correct hand placement for chest compressions
A33: 5.2 | B33: ECG library with appropriate peri-arrest and cardiac arrest rhythms
A34: 5.3 | B34: Clinical evidence of effective CPR: ECG compression artefact and palpable carotid pulses
A35: 6 | B35: Must support the following Circulatory support procedures:
A36: 6.1 | B36: Live defibrillation and synchronised cardioversion with paddles or pads (real or training) at full energy levels.
A37: 6.2 | B37: Live transcutaneous pacing with delivery of full energy via real or training pads with programmable threshold capture and achievement of electrical and mechanical capture. Pacing connectors must be included (compatible to the institution’s defibrillators).
A38: 7 | B38: Must provide the following CPR performance feedback:
A39: 7.1 | B39: Graphic and numerical visual feedback on current evidence-based CPR performance parameters: hand position, compression-ventilation ratio, depth of compression, chest recoil, hands-off time and tidal volume delivery
A40: 7.2 | B40: Detailed analysis of average CPR performance over the total time over which CPR was performed (individual and team)
A41: 7.3 | B41: Immediate CPR performance graphic and numerical visual feedback for learning while doing CPR
A42: 8 | B42: Additional required features:
A43: 8.1 | B43: Patient vocal sounds associated with condition / response such as vomiting sounds, coughing and moaning
A44: 8.2 | B44: Capable of communicating as the voice of patient
A45: 9 | B45: Virtual Patient Monitor features (optional):
A46: 9.1 | B46: The patient monitor must integrate with the manikin operating system
A47: 9.2 | B47: Touch-screen interaction with patient monitor settings and parameters
A48: 9.3 | B48: Various monitor options: basic to advanced monitor simulation options
A49: 9.4 | B49: The monitor must display a selection of the following programmable parameters:
A50: 9.4.1 | B50: 3-Lead ECG (Lead I, II or III)
A51: 9.4.2 | B51: SpO2 – numerical and plethysmograph display
A52: 9.4.3 | B52: ETCO2 with variable waveform morphology
A53: 9.4.4 | B53: NIBP with manual and automatic cycling with cycle time-interval selection
A54: 9.4.5 | B54: Temperature (peripheral and core)
A55: 9.4.6 | B55: Invasive monitoring with waveform morphology
A56: 10 | B56: Software and Operating System requirements:
A57: 10.1 | B57: Battery operated rhythm generator simulator that connects to manikin or appropriate operating hardware
A58: 11 | B58: System Integration requirements:
A59: 11.1 | B59: Must integrate with a simulation data capturing system enabling data collection for debriefing, record keeping, reporting and research purposes
A60: 11.2 | B60: Both learner feedback system and instructor feedback with data capture system must function simultaneously
A61: 12 | B61: Consumables,parts supplied with system on delivery:
A62: 12.1 | B62: Lubricant for airway procedures
A63: 12.2 | B63: IV arm skin and vein set
A64: 12.3 | B64: Device for immediate CPR performance feedback to person doing CPR
A65: 12.4 | B65: Simulator operating system including system that supports student performance monitoring by instructor and detail CPR metrics data capture
A66: 12.5 | B66: Virtual patient monitor
A67: 12.6 | B67: Manual defibrillation plates / pads
A68: 12.7 | B68: Connectors for pacing / defibrillation cables
A69: 12.8 | B69: Pacing / defibrillation cable that integrates live pacing / defibrillation compatible with institutions defibrillator
A70: 12.9 | B70: Pulse oximeter probe for manikin
A71: 12.10 | B71: BP cuff for manikin
A72: 12.11 | B72: Manikin clothing
A73: 12.12 | B73: Basic tools for assembly
... A77: 12.16 | B77: Appropriate operating hardware
A78: 13 | B78: Product Consumables:
A79: 13.1 | B79: Lubricant for airway procedures
A80: 14 | B80: Product Replacement Parts:
A81: 14.1 | B81: Simulated SpO2 probe
A82: 14.2 | B82: Virtual patient monitor system
A83: 14.3 | B83: Simulator operating system including system that supports student performance monitoring by instructor and detail CPR metrics data capture
A84: 14.4 | B84: Device for immediate CPR performance feedback to person doing CPR
A85: 14.5 | B85: Shock absorption system
A86: 14.6 | B86: Chest skin
A87: 14.7 | B87: Airway system
A88: 14.8 | B88: Lung bladders
A89: 14.9 | B89: Manikin clothing
A90: 14.10 | B90: Battery / power pack
A91: 14.11 | B91: Charge cable

Sheet 7. ADULT ADVANCED LSM
A1: ='SUMMARY LIST'!$A$1:$G$1 -> ANNEXURE A: TECHNICAL SPECIFICATION
A2: ='SUMMARY LIST'!$A$2:$G$2 -> GT/GDH/124/2024:THE SUPPLY, DELIVERY, COMMISSIONING AND MAINTENANCE OF BREATH SIMULATOR, HIGH FIDELITY ADULT MANIKIN AND HIGH-FIDELITY ADULT MANIKIN ANAESTHESIA FOR GAUTENG DEPARTMENT OF HEALTH INSTITUTIONS FOR PERIOD OF THREE YEARS (36 MONTHS).
A3: ='SUMMARY LIST'!J11 -> 7. ADULT ADVANCED LIFE SUPPORT MANIKINS (LSM)
A4: 1 | B4: Bidders are required to indicate compliance/non-compliance with the specification by typing "YES / NO" on each line item on column C.
A5: 2 | B5: In the case where an equivalent or better option is provided, bidders must type the full description of the equivalent or better item on column D.
B6: Comments on the equivalent item must be provided on Column E.
A7: 3 | B7: Bidder is required provide details of the product offer on column F.
A8: 4 | B8: Bidder to provide reference to brochure (page number) / technical data sheet / supporting documents on column G.
A9: Item no. | B9: Technical Specification | C9: Comply (Yes/No) | D9: Provide Equivalent/ Better (if applicable) | E9: Comments | F9: Details of Product Offer (Provide your answers in this Column. You are advised to be straight to the point) | G9: Reference to Brochure / Technical Data Sheet (verification) / Supporting Document
A10: Training Kit Description:
A11: Full-body adult manikin simulator system for individual and team training in advanced cardiac life support (ACLS) cardiopulmonary resuscitation (CPR)
A12: 1 | B12: General description:
A13: 1.1 | B13: Full-body adult manikin simulator system for individual and team training in advanced cardiac life support (ACLS) cardiopulmonary resuscitation (CPR) with appropriate hardware
A14: 1.2 | B14: Provide immediate feedback during CPR for learning while doing (CPR)
A15: 1.3 | B15: Detailed data recording of CPR performance parameters for feedback, record keeping and research purposes
A16: 2 | B16: Must demonstrate the following Airway Features:
A17: 2.1 | B17: Realistic airway anatomy to the level of the main bronchi
A18: 2.2 | B18: Anatomical airway obstruction if airway not properly opened
A19: 2.3 | B19: Stomach distension with aggressive bag-valve-mask ventilation/oesophageal intubation
A20: 3 | B20: Must support the following Airway Procedures:
A21: 3.1 | B21: Head-tilt-chin lift
A22: 3.2 | B22: Jaw thrust
A23: 3.3 | B23: Basic airway adjuncts: OPA and NPA
A24: 3.4 | B24: Supraglottic airway device insertion
A25: 3.5 | B25: Oral endotracheal intubation
A26: 4 | B26: Must support the following Respiratory Support Procedures:
A27: 4.1 | B27: Bag-valve-mask ventilation with chest rise
A28: 4.2 | B28: Unilateral chest rise with left/right main stem intubation
A29: 5 | B29: Must demonstrate the following Anatomical and Cardiac Features:
A30: 5.1 | B30: Identification of the sternal notch and xyphoid process for determining correct hand placement for chest compressions
A31: 5.2 | B31: ECG library with appropriate peri-arrest and cardiac arrest rhythms
A32: 5.3 | B32: Clinical evidence of effective CPR: ECG compression artefact and palpable carotid pulses
A33: 6 | B33: Must support the following Circulatory support procedures:
A34: 6.1 | B34: IV access with real-time drug and fluid administration capability
A35: 6.2 | B35: Live defibrillation and synchronised cardioversion with paddles or pads (real or training) at full energy levels.
A36: 6.3 | B36: Live transcutaneous pacing with delivery of full energy via real or training pads with programmable threshold capture and achievement of electrical and mechanical capture. Pacing connectors must be included (compatible to the institution’s defibrillators).
A37: 7 | B37: Must provide the following CPR performance feedback:
A38: 7.1 | B38: Graphic and numerical visual feedback on current evidence-based CPR performance parameters: hand position, compression-ventilation ratio, depth of compression, chest recoil, hands-off time and tidal volume delivery
A39: 7.2 | B39: Detailed analysis of average CPR performance over the total time over which CPR was performed (individual and team)
A40: 7.3 | B40: Immediate CPR performance graphic and numerical visual feedback for learning while doing (CPR)
A41: 8 | B41: Additional required features:
A42: 8.1 | B42: Patient vocal sounds associated with condition / response such as vomiting sounds, coughing and moaning
A43: 8.2 | B43: Capable of communicating as the voice of patient
A44: 9 | B44: Virtual Patient Monitor features (optional):
A45: 9.1 | B45: The patient monitor must integrate with the manikin operating system
A46: 9.2 | B46: Touch-screen interaction with patient monitor settings and parameters
A47: 9.3 | B47: Variable monitor options: AED, monitor with interactive pacing and defibrillation, advanced monitor as described below:
A48: 9.3.1 | B48: 3-Lead ECG (Lead I, II or III)
A49: 9.3.2 | B49: SpO2 – numerical and plethysmograph display
A50: 9.3.3 | B50: ETCO2 with variable waveform morphology
A51: 9.3.4 | B51: NIBP with manual and automatic cycling with cycle time-interval selection
A52: 9.3.5 | B52: Temperature (peripheral and core)
A53: 9.3.6 | B53: Invasive monitoring with waveform morphology.
A54: 10 | B54: Software and Operating System requirements:
A55: 10.1 | B55: Battery operated rhythm generator simulator that connects to manikin or appropriate operating hardware
A56: 11 | B56: System Integration requirements:
A57: 11.1 | B57: Must integrate with a simulation data capturing system enabling data collection for debriefing, record keeping, reporting and research purposes
A58: 11.2 | B58: Both learner feedback system and instructor feedback with data capture system must function simultaneously
A59: 12 | B59: Consumables ,parts supplied with system on delivery:
A60: 12.1 | B60: Lubricant for airway procedures
A61: 12.2 | B61: IV arm skin and vein set
A62: 12.3 | B62: Device for immediate CPR performance feedback to person doing CPR
A63: 12.4 | B63: Simulator operating system including system that supports student performance monitoring by instructor and detail CPR metrics data capture
A64: 12.5 | B64: Virtual patient monitor
A65: 12.6 | B65: Manual defibrillation plates / pads
A66: 12.7 | B66: Connectors for pacing / defibrillation cables
A67: 12.8 | B67: Pacing / defibrillation cable that integrates live pacing / defibrillation compatible with institutions defib
A68: 12.9 | B68: Pulse oximeter probe for manikin
A69: 12.10 | B69: BP cuff for manikin
A70: 12.11 | B70: Manikin clothing
A71: 12.12 | B71: Basic tools for assembly
... A74: 12.15 | B74: Protective bag or case for storage and transport
A75: 13 | B75: Product Consumables:
A76: 13.1 | B76: Lubricant for airway procedures
A77: 14 | B77: Product Replacement Parts:
A78: 14.1 | B78: Simulated SpO2 probe
A79: 14.2 | B79: Virtual patient monitor system
A80: 14.3 | B80: Simulator operating system including system that supports student performance monitoring by instructor and detail CPR metrics data capture
A81: 14.4 | B81: Device for immediate CPR performance feedback to person doing CPR
A82: 14.5 | B82: Shock absorption system
A83: 14.6 | B83: Chest skin
A84: 14.7 | B84: Airway system
A85: 14.8 | B85: Lung bladders
A86: 14.9 | B86: Manikin clothing
A87: 14.10 | B87: Battery / power pack
A88: 14.11 | B88: Charge cable
A89: 14.12 | B89: Replacement skin and veins for IV access

Sheet 8. PREMATURE HF NEONATE MANIKIN
A1: ='SUMMARY LIST'!$A$1:$G$1 -> ANNEXURE A: TECHNICAL SPECIFICATION
A2: ='SUMMARY LIST'!$A$2:$G$2 -> GT/GDH/124/2024:THE SUPPLY, DELIVERY, COMMISSIONING AND MAINTENANCE OF BREATH SIMULATOR, HIGH FIDELITY ADULT MANIKIN AND HIGH-FIDELITY ADULT MANIKIN ANAESTHESIA FOR GAUTENG DEPARTMENT OF HEALTH INSTITUTIONS FOR PERIOD OF THREE YEARS (36 MONTHS).
A3: ='SUMMARY LIST'!J12 -> 8. PREMATURE HIGH FIDELITY NEONATE MANIKIN
A4: Note:
A5: 1 | B5: Bidders are required to indicate compliance/non-compliance with the specification by typing "YES / NO" on each line item on column C.
A6: 2 | B6: In the case where an equivalent or better option is provided, bidders must type the full description of the equivalent or better item on column D.
B7: Comments on the equivalent item must be provided on Column E.
A8: 3 | B8: Bidder is required provide details of the product offer on column F.
A9: 4 | B9: Bidder to provide reference to brochure (page number) / technical data sheet / supporting documents on column G.
A10: Item no. | B10: Technical Specification | C10: Comply (Yes/No) | D10: Provide Equivalent/ Better (if applicable) | E10: Comments | F10: Details of Product Offer (Provide your answers in this Column. You are advised to be straight to the point) | G10: Reference to Brochure / Technical Data Sheet (verification) / Supporting Document
A11: Training Kit Description:
A12: Full-body high-fidelity premature neonate manikin simulator system
A13: 1 | B13: General description:
A14: 1.1 | B14: A life-sized, high-fidelity premature neonate manikin with interactive patient-like features that accurately reflects a broad spectrum of clinical conditions and emergencies relevant to anaesthesia with cross-over application to other specialist medical disciplines
A15: 1.2 | B15: An operating system that controls manikin features and integrates with the patient monitor
A16: 1.3 | B16: An interactive, life-like patient monitor that integrates with manikin functionality and reflects parameters essential for anaesthesia
A17: 2 | B17: Gender & Cultural Features:
A18: 2.1 | B18: Applicable culturally-sensitive skin tones
A19: 3 | B19: Airway Features:
A20: 3.1 | B20: Realistic airway anatomy to the level of the primary bronchi
A21: 3.2 | B21: Presents with the following airway complications:
A22: 3.2.1 | B22: Right mainstem bronchus intubation
A23: 3.2.2 | B23: Stomach distension with oesophageal intubation / aggressive Bag-valve-mask ventilation
A24: 4 | B24: Airway Procedures:
A25: 4.1 | B25: Basic airway manoeuvres
A26: 4.1.1 | B26: Neutral positioning of the head
A27: 4.1.2 | B27: Oral and nasal suctioning (wet or dry)
A28: 4.1.3 | B28: Oro- and nasotracheal intubation
A29: 4.1.4 | B29: Supraglottic airway device insertion: LMA
A30: 4.1.5 | B30: Specialised techniques: Bougie / light-wand, video laryngoscopy and fibreoptic assisted intubation
A31: 5 | B31: Respiratory Features:
A32: 5.1 | B32: Auscultation of lung sounds over anatomically correct lung fields
A33: 5.2 | B33: Programmable lung sounds with normal and abnormal sounds and volumes
A34: 5.3 | B34: Displays central cyanosis
A35: 6 | B35: Respiratory Support Procedures:
A36: 6.1 | B36: Use of a wide range of oxygen delivery devices
A37: 6.2 | B37: Bag-valve-mask ventilation with chest rise
A38: 7 | B38: Circulatory Features:
A39: 7.1 | B39: Palpable pulses: umbilical
A40: 7.2 | B40: Extensive ECG library with interactive programmable features (morphology, rate, artefact, ectopic presence and frequency)
A41: 7.3 | B41: Pulses synchronised with ECG and BP (pulse volume/strength)
A42: 7.4 | B42: Auscultation of heart sounds (normal and pathological)
A43: 7.5 | B43: Measurement of BP: NIBP
A44: 8 | B44: Circulatory support procedures:
A45: 8.1 | B45: Umbilical vein cannulation with real-time drug and fluid administration capability
A46: 8.2 | B46: IV access with real-time drug and fluid administration capability
A47: 8.3 | B47: IO access with appropriate IO access method supporting real-time drug and fluid administration
A48: 8.4 | B48: CPR capable, providing feedback on evidence-based CPR metrics: compression-ventilation ratio, depth of compression, chest recoil, hands-off time
A49: 8.5 | B49: Clinical evidence of effective CPR: ECG compression artefact and palpable pulses
A50: 9 | B50: Pharmacology:
A51: 9.1 | B51: Manual drug-recognition system with programmable drug-responses
A52: 9.2 | B52: Comprehensive and programmable drug formulary
A53: 9.3 | B53: Electronic data capture of drug volume and dose administered
A54: 10 | B54: Additional required features:
A55: 10.1 | B55: Body motion representing normal and abnormal movements including seizures
A56: 10.2 | B56: Palpable fontanelles presenting with bulging
A57: 10.3 | B57: Variable pupil size and response to light
A58: 10.4 | B58: Patient vocal sounds associated with condition / response such as vomiting sounds, coughing, and crying
A59: 11 | B59: Virtual Patient Monitor features:
A60: 11.1 | B60: The patient monitor must integrate with the manikin operating system
A61: 11.2 | B61: Select and arrange physiological parameters to display on the patient monitor
A62: 11.3 | B62: Touch-screen interaction with patient monitor settings and parameters
A63: 11.4 | B63: The monitor must display a selection of the following programmable parameters:
A64: 11.4.1 | B64: 3-Lead ECG (Lead I, II or III)
A65: 11.4.2 | B65: SpO2 – numerical and plethysmograph display
A66: 11.4.3 | B66: ETCO2 with variable waveform morphology
A67: 11.4.4 | B67: NIBP with manual and automatic cycling with cycle time-interval selection
A68: 11.4.5 | B68: Temperature (peripheral and core)
A69: 11.5 | B69: Display the following anaesthetic agents and gases:
A70: 11.5.1 | B70: Oxygen (inO2 and etO2)
A71: 11.5.2 | B71: Anaesthetic Agent
... A75: 11.5.6 | B75: Isoflurane (inISO and etISO)
A76: 12 | B76: Software and Operating System requirements:
A77: 12.1 | B77: The manikin operating system and virtual patient monitor must be supported by appropriate current operating software
A78: 12.2 | B78: Touch-screen monitor for interaction with monitor parameters
A79: 13 | B79: System Integration requirements:
A80: 13.1 | B80: Must integrate with a simulation data capturing system enabling data collection for debriefing, record keeping, reporting and research purposes
A81: 14 | B81: Consumables ,parts supplied with system on delivery:
A82: 14.1 | B82: Lubricant for airway procedures
A83: 14.2 | B83: IO replacement parts
A84: 14.3 | B84: IV arm skin and vein set
A85: 14.4 | B85: Umbilical cords for cannulation
A86: 14.5 | B86: Simulated blood
A87: 14.6 | B87: Pulse oximeter probe for manikin
A88: 14.7 | B88: BP cuff
A89: 14.8 | B89: Manikin clothing
A90: 14.9 | B90: Lung bladders
A91: 14.10 | B91: Basic tools for assembly
A92: 14.11 | B92: Portable battery pack
A93: 14.12 | B93: Charge cable
A94: 14.13 | B94: Protective bag or case for storage and transport
A95: 15 | B95: Product Consumables:
A96: 15.1 | B96: Lubricant for airway procedures
A97: 15.2 | B97: Replacement parts for IO
A98: 15.3 | B98: Simulated blood
A99: 15.4 | B99: Umbilical cords for cannulation
A100: 16 | B100: Product Replacement Parts:
A101: 16.1 | B101: Simulated SpO2 probe
A102: 16.2 | B102: Virtual patient monitor system
A103: 16.3 | B103: Simulator operating system
...

Sheet 9. NEONATE HF NEWBORN MANIKIN
A1: ='SUMMARY LIST'!$A$1:$G$1 -> ANNEXURE A: TECHNICAL SPECIFICATION
A2: ='SUMMARY LIST'!$A$2:$G$2 -> GT/GDH/124/2024:THE SUPPLY, DELIVERY, COMMISSIONING AND MAINTENANCE OF BREATH SIMULATOR, HIGH FIDELITY ADULT MANIKIN AND HIGH-FIDELITY ADULT MANIKIN ANAESTHESIA FOR GAUTENG DEPARTMENT OF HEALTH INSTITUTIONS FOR PERIOD OF THREE YEARS (36 MONTHS).
A3: ='SUMMARY LIST'!J13 -> 9. NEONATE HIGH FIDELITY NEWBORN MANIKIN
A4: Note:
A5: 1 | B5: Bidders are required to indicate compliance/non-compliance with the specification by typing "YES / NO" on each line item on column C.
A6: 2 | B6: In the case where an equivalent or better option is provided, bidders must type the full description of the equivalent or better item on column D.
B7: Comments on the equivalent item must be provided on Column E.
A8: 3 | B8: Bidder is required provide details of the product offer on column F.
A9: 4 | B9: Bidder to provide reference to brochure (page number) / technical data sheet / supporting documents on column G.
A11: Item no. | B11: Technical Specification | C11: Comply (Yes/No) | D11: Provide Equivalent/ Better (if applicable) | E11: Comments | F11: Details of Product Offer (Provide your answers in this Column. You are advised to be straight to the point) | G11: Reference to Brochure / Technical Data Sheet (verification) / Supporting Document
A12: Training Kit Description:
A13: Full-body high-fidelity newborn manikin simulator system
A14: 1 | B14: General description:
A15: 1.1 | B15: A life-sized, high-fidelity newborn manikin with interactive patient-like features that accurately reflects a broad spectrum of clinical conditions and emergencies relevant to anaesthesia with cross-over application to other specialist medical disciplines
A16: 1.2 | B16: An operating system that controls manikin features and integrates with the patient monitor
A17: 1.3 | B17: An interactive, life-like patient monitor that integrates with manikin functionality and reflects parameters essential for anaesthesia
A18: 2 | B18: Gender & Cultural Features:
A19: 2.1 | B19: Applicable culturally-sensitive skin tones
A20: 3 | B20: Airway Features:
A21: 3.1 | B21: Realistic airway anatomy to the level of the primary bronchi
A22: 3.2 | B22: Presents with the following airway complications:
A23: 3.2.1 | B23: Right mainstem bronchus intubation
A24: 3.2.2 | B24: Stomach distension with oesophageal intubation / aggressive Bag-valve-mask ventilation
A25: 4 | B25: Airway Procedures:
A26: 4.1 | B26: Basic airway manoeuvres
A27: 4.1.1 | B27: Neutral positioning of the head
A28: 4.1.2 | B28: Oral and nasal suctioning (wet or dry)
A29: 4.1.3 | B29: Basic airway adjuncts: OPA and NPA
A30: 4.1.4 | B30: Oro- and nasotracheal intubation
A31: 4.1.5 | B31: Supraglottic airway device insertion: LMA
A32: 4.1.6 | B32: Specialised techniques: Bougie / light-wand, video laryngoscopy and fibreoptic assisted intubation
A33: 5 | B33: Respiratory Features:
A34: 5.1 | B34: Lung recruitment
A35: 5.2 | B35: Auscultation of lung sounds over anatomically correct lung fields
A36: 5.3 | B36: Programmable lung sounds with normal and abnormal sounds and volumes
A37: 5.4 | B37: Spontaneous breathing
A38: 5.5 | B38: Demonstrates unilateral and bilateral chest-wall movement
A39: 5.6 | B39: Displays central cyanosis
A40: 6 | B40: Respiratory Support Procedures:
A41: 6.1 | B41: Use of a wide range of oxygen delivery devices
A42: 6.2 | B42: Bag-valve-mask ventilation with chest rise
A43: 6.3 | B43: Needle thoracentesis
A44: 7 | B44: Circulatory Features:
A45: 7.1 | B45: Capillary refill assessment – central and peripheral
A46: 7.2 | B46: Palpable pulses: umbilical
A47: 7.3 | B47: Extensive ECG library with interactive programmable features (morphology, rate, artefact, ectopic presence and frequency)
A48: 7.4 | B48: Pulses synchronised with ECG and BP (pulse volume/strength)
A49: 7.5 | B49: Auscultation of heart sounds (normal and pathological)
A50: 7.6 | B50: Measurement of BP: NIBP
A51: 8 | B51: Circulatory support procedures:
A52: 8.1 | B52: Umbilical vein cannulation with real-time drug and fluid administration capability
A53: 8.2 | B53: IV access with real-time drug and fluid administration capability
A54: 8.3 | B54: IO access with appropriate IO access method supporting real-time drug and fluid administration
A55: 8.4 | B55: CPR capable, providing feedback on evidence-based CPR metrics: compression-ventilation ratio, depth of compression, chest recoil, hands-off time
A56: 8.5 | B56: Clinical evidence of effective CPR: ECG compression artefact and palpable pulses
A57: 9 | B57: Pharmacology:
A58: 9.1 | B58: Manual drug-recognition system with programmable drug-responses
A59: 9.2 | B59: Comprehensive and programmable drug formulary
A60: 9.3 | B60: Electronic data capture of drug volume and dose administered
A61: 10 | B61: Additional required features:
A62: 10.1 | B62: Body motion representing normal and abnormal movements including seizures
A63: 10.2 | B63: Palpable fontanelles presenting with bulging
A64: 10.3 | B64: Variable pupil size and response to light
A65: 10.4 | B65: Patient vocal sounds associated with condition / response such as vomiting sounds, coughing, and crying
A66: 11 | B66: Virtual Patient Monitor features:
A67: 11.1 | B67: The patient monitor must integrate with the manikin operating system
A68: 11.2 | B68: Select and arrange physiological parameters to display on the patient monitor
A69: 11.3 | B69: Touch-screen interaction with patient monitor settings and parameters
A70: 11.4 | B70: Variable monitor options: AED, monitor with interactive pacing and defibrillation, advanced monitor as described below. The advanced monitor must display a selection of the following programmable parameters:
A71: 11.4.1 | B71: 3-Lead ECG (Lead I, II or III)
A72: 11.4.2 | B72: SpO2 – numerical and plethysmograph display
A73: 11.4.3 | B73: ETCO2 with variable waveform morphology
A74: 11.4.4 | B74: NIBP with manual and automatic cycling with cycle time-interval selection
A75: 11.4.5 | B75: Cardiac output
A76: 11.4.6 | B76: Arterial BP
A77: 11.4.7 | B77: Time of flight (TOF) sensor
A78: 11.4.8 | B78: Temperature (peripheral and core)
... A85: 11.5.6 | B85: Isoflurane (inISO and etISO)
A86: 12 | B86: Software and Operating System requirements:
A87: 12.1 | B87: The manikin operating system and virtual patient monitor must be supported by an appropriate current operating software
A88: 12.2 | B88: Touch-screen monitor for interaction with monitor parameters
A89: 13 | B89: System Integration requirements:
A90: 13.1 | B90: Must integrate with a simulation data capturing system enabling data collection for debriefing, record keeping, reporting and research purposes
A91: 14 | B91: Consumables, parts supplied with system on delivery:
A92: 14.1 | B92: Lubricant for airway procedures
A93: 14.2 | B93: Needle decompression bladders
A94: 14.3 | B94: Replacement pads for needle decompression
A95: 14.4 | B95: IO replacement parts
A96: 14.5 | B96: IV arm skin and vein set
A97: 14.6 | B97: Umbilical cords for cannulation
A98: 14.7 | B98: Simulated blood
A99: 14.8 | B99: Pulse oximeter probe for manikin
A100: 14.9 | B100: BP cuff
A101: 14.10 | B101: Manikin clothing
A102: 14.11 | B102: Lung bladders
A103: 14.12 | B103: Basic tools for assembly
... A106: 14.15 | B106: Protective bag or case for storage and transport
A107: 15 | B107: Product Consumables:
A108: 15.1 | B108: Lubricant for airway procedures
A109: 15.2 | B109: Replacement bladders for needle decompression
...

Sheet 10. INFANT HF MANIKIN
A1: ='SUMMARY LIST'!$A$1:$G$1 -> ANNEXURE A: TECHNICAL SPECIFICATION
A2: ='SUMMARY LIST'!$A$2:$G$2 -> GT/GDH/124/2024:THE SUPPLY, DELIVERY, COMMISSIONING AND MAINTENANCE OF BREATH SIMULATOR, HIGH FIDELITY ADULT MANIKIN AND HIGH-FIDELITY ADULT MANIKIN ANAESTHESIA FOR GAUTENG DEPARTMENT OF HEALTH INSTITUTIONS FOR PERIOD OF THREE YEARS (36 MONTHS).
A3: ='SUMMARY LIST'!J14 -> 10. INFANT HIGH FIDELITY MANIKIN
A4: Note:
A5: 1 | B5: Bidders are required to indicate compliance/non-compliance with the specification by typing "YES / NO" on each line item on column C.
A6: 2 | B6: In the case where an equivalent or better option is provided, bidders must type the full description of the equivalent or better item on column D.
B7: Comments on the equivalent item must be provided on Column E.
A8: 3 | B8: Bidder is required provide details of the product offer on column F.
A9: 4 | B9: Bidder to provide reference to brochure (page number) / technical data sheet / supporting documents on column G.
A11: Item no. | B11: Technical Specification | C11: Comply (Yes/No) | D11: Provide Equivalent/ Better (if applicable) | E11: Comments | F11: Details of Product Offer (Provide your answers in this Column. You are advised to be straight to the point) | G11: Reference to Brochure / Technical Data Sheet (verification) / Supporting Document
A12: Training Kit Description:
A13: Full-body high-fidelity infant manikin simulator system
A14: 1 | B14: General description:
A15: 1.1 | B15: A life-sized, high-fidelity infant manikin with interactive patient-like features that accurately reflects a broad spectrum of clinical conditions and emergencies relevant to anaesthesia with cross-over application to other specialist medical disciplines
A16: 1.2. | B16: An operating system that controls manikin features and integrates with the patient monitor
A17: 1.3. | B17: An interactive, life-like patient monitor that integrates with manikin functionality and reflects parameters essential for anaesthesia with cross-over applications to other specialist medical disciplines
A18: 2 | B18: Gender & Cultural Features:
A19: 2.1 | B19: Applicable culturally-sensitive skin tones
A20: 3 | B20: Airway Features:
A21: 3.1 | B21: Realistic airway anatomy to the level of the primary bronchi
A22: 3.2 | B22: Presents with the following airway complications:
A23: 3.2.1 | B23: Tongue oedema
A24: 3.2.2 | B24: Pharyngeal oedema
A25: 3.2.3 | B25: Laryngospasm
A26: 3.2.4 | B26: Difficult airway configuration
A27: 3.2.5 | B27: Right mainstem bronchus intubation
A28: 3.2.6 | B28: Stomach distension with oesophageal intubation / aggressive Bag-valve-mask ventilation
A29: 4. | B29: Airway Procedures:
A30: 4.1. | B30: Basic airway manoeuvres:
A31: 4.1.1 | B31: Head-tilt-chin lift
A32: 4.1.2 | B32: Jaw thrust
... A37: 4.1.7 | B37: Specialised techniques: Bougie / light-wand, video laryngoscopy and fibreoptic assisted intubation
A38: 5 | B38: Respiratory Features:
A39: 5.1 | B39: Variable settings for lung resistance and compliance
A40: 5.2 | B40: Anterior and posterior auscultation of lung sounds over anatomically correct lung fields
A41: 5.3 | B41: Programmable lung sounds with normal and abnormal sounds and volumes
A42: 5.4 | B42: Spontaneous breathing with abnormal breathing patterns such as sternal recession and see-saw breathing
A43: 5.5 | B43: Demonstrates unilateral and bilateral chest-wall movement
A44: 5.6 | B44: Displays central cyanosis
A45: 6 | B45: Respiratory Support Procedures:
A46: 6.1 | B46: Use of a wide range of oxygen delivery devices
A47: 6.2 | B47: Bag-valve-mask ventilation with chest rise
A48: 6.3 | B48: Needle thoracentesis
A49: 6.4 | B49: Formal chest drain insertion
A50: 6.5 | B50: Supports basic to advanced ventilation management or can integrate a breathing simulator for this purpose
A51: 7 | B51: Circulatory Features:
A52: 7.1 | B52: Capillary refill assessment – central and peripheral
A53: 7.2 | B53: Bilateral palpable pulses: carotid and femoral
A54: 7.3 | B54: Extensive ECG library with interactive programmable features (morphology, rate, artefact, ectopic presence and frequency)
A55: 7.4 | B55: Pulses synchronised with ECG and BP (pulse volume/strength)
A56: 7.5 | B56: Auscultation of heart sounds (normal and pathological)
A57: 7.6 | B57: Measurement of BP: manual and NIBP
A58: 8 | B58: Circulatory support procedures:
A59: 8.1 | B59: IV access with real-time drug and fluid administration capability
A60: 8.2 | B60: IO access with appropriate IO access method supporting real-time drug and fluid administration
A61: 8.3 | B61: CPR capable, providing feedback on evidence-based CPR metrics: compression-ventilation ratio, depth of compression, chest recoil, hands-off time
A62: 8.4 | B62: Clinical evidence of effective CPR: ECG compression artefact and palpable pulses
A63: 8.5 | B63: Live defibrillation and synchronised cardioversion with pads (real or training) at full energy levels
A64: 8.6 | B64: Live transcutaneous pacing with delivery of full energy via real or training pads
A65: 9 | B65: Pharmacology:
A66: 9.1 | B66: Manual drug-recognition system with programmable drug-responses
A67: 9.2 | B67: Comprehensive and programmable drug formulary
A68: 9.3 | B68: Electronic data capture of drug volume and dose administered
A69: 10 | B69: Additional required features:
A70: 10.1 | B70: Body motion representing normal and abnormal movements including focal and generalised motor seizures
A71: 10.2 | B71: Presents with normal and enlarged liver
A72: 10.3 | B72: Palpable fontanelles presenting with bulging
A73: 10.4 | B73: Programmable eyelid blinking, pupil dilation and response to light
A74: 10.5 | B74: Patient vocal sounds associated with condition / response such as vomiting sounds, coughing, and crying
A75: 11 | B75: Virtual Patient Monitor features:
A76: 11.1 | B76: Select and arrange physiological parameters to display on the patient monitor
A77: 11.2 | B77: Touch-screen interaction with patient monitor settings and parameters
A78: 11.3 | B78: Variable monitor options: AED, monitor with interactive pacing and defibrillation, advanced monitor
A79: 11.4 | B79: The advanced monitor must display a selection of the following programmable parameters:
A80: 11.4.1 | B80: Lead ECG (Lead I, II or III)
A81: 11.4.2 | B81: SpO2 – numerical and plethysmograph display
A82: 11.4.3 | B82: ETCO2 with variable waveform morphology
A83: 11.4.4 | B83: NIBP with manual and automatic cycling with cycle time-interval selection
A84: 11.4.5 | B84: Cardiac output
A85: 11.4.6 | B85: Arterial BP
A86: 11.4.7 | B86: TOF
A87: 11.4.8 | B87: Temperature (peripheral and core)
... A94: 11.5.6 | B94: Isoflurane (inISO and etISO)
A95: 12 | B95: Software and Operating System requirements:
A96: 12.1 | B96: The manikin operating system and virtual patient monitor must be supported by a current operating software
A97: 12.2 | B97: Touch-screen monitor for interaction with monitor parameters
A98: 13 | B98: System Integration requirements:
A99: 13.1 | B99: Must be able to integrate with a breathing simulator enabling basic to advanced real-time ventilatory management of the infant manikin across all modes of ventilation and PEEP settings while generating real tidal volume
A100: 13.2 | B100: Must integrate with a simulation data capturing system enabling data collection for debriefing, record keeping, reporting and research
A101: 14 | B101: Servicing and Repair requirements:
A102: 14.1 | B102: Servicing and repair must be supported in South Africa
A103: 15 | B103: Consumables ,parts supplied with system on delivery
A104: 15.1 | B104: Lubricant for airway procedures
A105: 15.2 | B105: Needle decompression bladders
A106: 15.3 | B106: IO replacement parts
A107: 15.4 | B107: IV arm skin and vein set
A108: 15.5 | B108: Formal chest-drain replacement parts
A109: 15.6 | B109: Pacing / defibrillation cable that integrates live pacing / defibrillation ,must be compatible with the defibrillator of the institution
A110: 15.7 | B110: Training pads that integrate with training cable
A111: 15.8 | B111: Pulse oximeter probe for manikin
...

Sheet 11. CHILD HF MANIKIN
A1: ='SUMMARY LIST'!$A$1:$G$1 -> ANNEXURE A: TECHNICAL SPECIFICATION
A2: ='SUMMARY LIST'!$A$2:$G$2 -> GT/GDH/124/2024:THE SUPPLY, DELIVERY, COMMISSIONING AND MAINTENANCE OF BREATH SIMULATOR, HIGH FIDELITY ADULT MANIKIN AND HIGH-FIDELITY ADULT MANIKIN ANAESTHESIA FOR GAUTENG DEPARTMENT OF HEALTH INSTITUTIONS FOR PERIOD OF THREE YEARS (36 MONTHS).
A3: ='SUMMARY LIST'!J15 -> 11. PAEDIATRIC (CHILD) HIGH FIDELITY MANIKIN
A4: Note:
A5: 1 | B5: Bidders are required to indicate compliance/non-compliance with the specification by typing "YES / NO" on each line item on column C.
A6: 2 | B6: In the case where an equivalent or better option is provided, bidders must type the full description of the equivalent or better item on column D.
B7: Comments on the equivalent item must be provided on Column E.
A8: 3 | B8: Bidder is required provide details of the product offer on column F.
A9: 4 | B9: Bidder to provide reference to brochure (page number) / technical data sheet / supporting documents on column G.
A11: Item no. | B11: Technical Specification | C11: Comply (Yes/No) | D11: Provide Equivalent/ Better (if applicable) | E11: Comments | F11: Details of Product Offer (Provide your answers in this Column. You are advised to be straight to the point) | G11: Reference to Brochure / Technical Data Sheet (verification) / Supporting Document
A12: Training Kit Description:
A13: Full-body high-fidelity child manikin simulator system
A14: 1 | B14: General description:
A15: 1.1 | B15: A life-sized, high-fidelity child manikin with interactive patient-like features that accurately reflects a broad spectrum of clinical conditions and emergencies relevant to anaesthesia with cross-over application to other specialist medical disciplines
A16: 1.2 | B16: An operating system that controls manikin features and integrates with the patient monitor
A17: 1.3 | B17: An interactive, life-like patient monitor that integrates with manikin functionality and reflects parameters essential for anaesthesia with cross-over to other specialist medical disciplines
A18: 2 | B18: Gender & Cultural Features:
A19: 2.1 | B19: Applicable culturally-sensitive skin tones
A20: 3 | B20: Airway Features:
A21: 3.1 | B21: Realistic airway anatomy to the level of the primary bronchi
A22: 3.2 | B22: Presents with the following airway complications:
A23: 3.2.1 | B23: Tongue oedema
A24: 3.2.2 | B24: Airway obstruction
A25: 3.2.3 | B25: Right mainstem bronchus intubation
A26: 3.2.4 | B26: Stomach distension with oesophageal intubation / aggressive Bag-valve-mask ventilation
A27: 4 | B27: Airway Procedures:
A28: 4.1 | B28: Basic airway manoeuvres:
A29: 4.1.1 | B29: Head-tilt-chin lift
A30: 4.1.2 | B30: Jaw thrust
A31: 4.1.3 | B31: Oral and nasal suctioning (wet or dry)
A32: 4.1.4 | B32: Basic airway adjuncts: OPA and NPA
A33: 4.1.5 | B33: Oro- and nasotracheal intubation
A34: 4.1.6 | B34: Supraglottic airway device insertion: LMA | LTA
A35: 4.1.7 | B35: Specialised techniques: Bougie / light-wand, video laryngoscopy and fibreoptic assisted intubation
A36: 4.1.8 | B36: Needle cricothyroidotomy
A37: 4.1.9 | B37: Surgical cricothyroidotomy
A38: 5 | B38: Respiratory Features:
A39: 5.1 | B39: Auscultation of lung sounds
A40: 5.2 | B40: Independently programmable lung sounds
A41: 5.3 | B41: Spontaneous breathing with options for unilateral and bilateral chest-wall movement
A42: 6 | B42: Respiratory Support Procedures:
A43: 6.1 | B43: Use of a wide range of oxygen delivery devices
A44: 6.2 | B44: Bag-valve-mask ventilation with chest rise
A45: 7 | B45: Circulatory Features:
A46: 7.1 | B46: Palpable pulses
A47: 7.2 | B47: Extensive ECG library with interactive programmable features (morphology, rate, artefact, ectopic presence and frequency)
A48: 7.3 | B48: Pulses synchronised with ECG and BP (pulse volume/strength)
A49: 7.4 | B49: Auscultation of heart sounds library of heart sound options (normal and pathological)
A50: 7.5 | B50: Measurement of BP: manual and NIBP
A51: 8 | B51: Circulatory support procedures:
A52: 8.1 | B52: IV access with real-time drug and fluid administration capability
A53: 8.2 | B53: IO access with appropriate IO access method and real-time drug and fluid administration capability
A54: 8.3 | B54: CPR capable with clinical evidence of effective CPR: ECG compression artefact and palpable carotid pulses
A55: 8.4 | B55: Live defibrillation and synchronised cardioversion with paddles or pads (real or training) at full energy levels
A56: 8.5 | B56: Live transcutaneous pacing with delivery of full energy via real or training pads with programmable threshold capture and achievement of electrical and mechanical capture
A57: 9 | B57: Pharmacology:
A58: 9.1 | B58: Comprehensive and programmable drug formulary
A59: 9.2 | B59: Data entry on drug and drug dose administration
A60: 9.3 | B60: Programmable drug response
A61: 10 | B61: Additional required features:
A62: 10.1 | B62: Body motion representing seizures
A63: 10.2 | B63: Pupil size variation
A64: 10.3 | B64: Patient vocal sounds associated with condition / response such as vomiting sounds, coughing and moaning
A65: 10.4 | B65: Capable of communicating as the voice of patient
A66: 11 | B66: Virtual Patient Monitor features:
A67: 11.1 | B67: The patient monitor must integrate with the manikin operating system
A68: 11.2 | B68: Select and arrange physiological parameters to display on the patient monitor
A69: 11.3 | B69: Touch-screen interaction with patient monitor settings and parameters
A70: 11.4 | B70: Variable monitor options: AED, monitor with interactive pacing and defibrillation, advanced monitor. The advanced monitor must display a selection of the following programmable parameters:
A71: 11.4.1 | B71: 3-Lead ECG (Lead I, II or III)
A72: 11.4.2 | B72: Generation of real-time 12-Lead ECG (on-screen and printable version)
A73: 11.4.3 | B73: SpO2 – numerical and plethysmograph display
A74: 11.4.4 | B74: ETCO2 with variable waveform morphology
A75: 11.4.5 | B75: NIBP with manual and automatic cycling with cycle time-interval selection
A76: 11.4.6 | B76: Cardiac output
A77: 11.4.7 | B77: Arterial BP
A78: 11.4.8 | B78: TOF
... A86: 11.5.6 | B86: Isoflurane (inISO and etISO)
A87: 12 | B87: Software and Operating System requirements:
A88: 12.1 | B88: The manikin operating system and virtual patient monitor must be supported by an appropriate current operating software
A89: 12.2 | B89: Touch-screen monitor for interaction with monitor parameters
A90: 13 | B90: System Integration requirements:
A91: 13.1 | B91: Must integrate with a simulation data capturing system enabling data collection for debriefing, record keeping, reporting and research purposes
A92: 14 | B92: Servicing and Repair requirements:
A93: 14.1 | B93: Servicing and repair must be supported in South Africa
A94: 15 | B94: Consumables ,parts supplied with system on delivery:
A95: 15.1 | B95: Lubricant for airway procedures
A96: 15.2 | B96: IO replacement set
A97: 15.3 | B97: Manual defibrillation plates / pads
A98: 15.4 | B98: Connectors for pacing / defibrillation cables
A99: 15.5 | B99: Pacing / defibrillation cable that integrates live pacing / defibrillation
A100: 15.6 | B100: Pulse oximeter probe for manikin
A101: 15.7 | B101: BP cuff for manikin
A102: 15.8 | B102: Manikin clothing
A103: 15.9 | B103: Lung bladders
A104: 15.10 | B104: Basic tools for assembly
A105: 15.11 | B105: Portable battery pack
A106: 15.12 | B106: Charge cable
... A108: 15.14 | B108: IV arm skin and vein set
A109: 16 | B109: Product Consumables:
...

Sheet 12. ADULT HF MANIKIN
A1: ='SUMMARY LIST'!$A$1:$G$1 -> ANNEXURE A: TECHNICAL SPECIFICATION
A2: ='SUMMARY LIST'!$A$2:$G$2 -> GT/GDH/124/2024:THE SUPPLY, DELIVERY, COMMISSIONING AND MAINTENANCE OF BREATH SIMULATOR, HIGH FIDELITY ADULT MANIKIN AND HIGH-FIDELITY ADULT MANIKIN ANAESTHESIA FOR GAUTENG DEPARTMENT OF HEALTH INSTITUTIONS FOR PERIOD OF THREE YEARS (36 MONTHS).
A3: ='SUMMARY LIST'!J16 -> 12. ADULT HIGH FIDELITY MANIKIN
A4: Note:
A5: 1 | B5: Bidders are required to indicate compliance/non-compliance with the specification by typing "YES / NO" on each line item on column C.
A6: 2 | B6: In the case where an equivalent or better option is provided, bidders must type the full description of the equivalent or better item on column D.
B7: Comments on the equivalent item must be provided on Column E.
A8: 3 | B8: Bidder is required provide details of the product offer on column F.
A9: 4 | B9: Bidder to provide reference to brochure (page number) / technical data sheet / supporting documents on column G.
A11: Item no. | B11: Technical Specification | C11: Comply (Yes/No) | D11: Provide Equivalent/ Better (if applicable) | E11: Comments | F11: Details of Product Offer (Provide your answers in this Column. You are advised to be straight to the point) | G11: Reference to Brochure / Technical Data Sheet (verification) / Supporting Document
A12: Training Kit Description:
A13: Full-body high-fidelity adult manikin simulator.
A14: 1 | B14: General description:
A15: 1.1 | B15: A life-sized, high-fidelity adult manikin with interactive patient-like features that accurately reflects a broad spectrum of clinical conditions and emergencies relevant to anaesthesia with cross-over application to other specialist medical disciplines
A16: 1.2 | B16: An operating system that controls manikin features and integrates with the patient monitor
A17: 1.3 | B17: An interactive, life-like patient monitor that integrates with manikin functionality and reflects parameters essential for anaesthesia with cross-over application to other specialist medical disciplines
A18: 2 | B18: Gender & Cultural Features:
A19: 2.1 | B19: Applicable culturally-sensitive skin tones
A20: 2.2. | B20: Interchangeable genitalia (male / female) with catheterisation capability
A21: 3 | B21: Airway Features:
A22: 3.1 | B22: Realistic airway anatomy to the level of the primary bronchi
A23: 3.2 | B23: Presents with the following airway complications:
A24: 3.2.1 | B24: Trismus
A25: 3.2.2 | B25: Tongue oedema
A26: 3.2.3 | B26: Pharyngeal oedema
A27: 3.2.4 | B27: Laryngospasm
A28: 3.2.5 | B28: Decreased range of cervical spine motion
A29: 3.2.6 | B29: Difficult airway configuration
A30: 3.2.7 | B30: Right mainstem bronchus intubation
A31: 3.2.8 | B31: Stomach distension with oesophageal intubation / aggressive Bag-valve-mask ventilation
A32: 4 | B32: Airway Procedures:
A33: 4.1 | B33: Basic airway manoeuvres:
A34: 4.1.1 | B34: Head-tilt-chin lift
A35: 4.1.2 | B35: Jaw thrust
A36: 4.1.3 | B36: Oral and nasal suctioning (wet or dry)
A37: 4.1.4 | B37: Basic airway adjuncts: OPA and NPA
A38: 4.1.5 | B38: Oro- and nasotracheal intubation
A39: 4.1.6 | B39: Supraglottic airway device insertion: LMA | LTA
A40: 4.1.7 | B40: Specialised techniques: Bougie / light-wand, video laryngoscopy and fibreoptic assisted intubation
A41: 4.1.8 | B41: Needle cricothyroidotomy
A42: 4.1.9 | B42: Surgical cricothyroidotomy
A43: 5 | B43: Respiratory Features:
A44: 5.1 | B44: Settings for lung resistance
A45: 5.2 | B45: Anterior and posterior auscultation of lung sounds over anatomically correct lung fields
A46: 5.3 | B46: Independently programmable lung sounds for all lobes of the lung
A47: 5.4 | B47: Spontaneous breathing with options for unilateral and bilateral chest-wall movement
A48: 5.5 | B48: Displays central cyanosis
A49: 6 | B49: Respiratory Support Procedures:
A50: 6.1 | B50: Use of a wide range of oxygen delivery devices
A51: 6.2 | B51: Bag-valve-mask ventilation with chest rise
A52: 6.3 | B52: Translaryngeal jet-insufflation
A53: 6.4 | B53: Bilateral needle thoracentesis
A54: 6.5 | B54: Bilateral formal chest drain insertion
A55: 6.6 | B55: Support basic to advanced ventilation management or can integrate a breathing simulator for this purpose
A56: 7 | B56: Circulatory Features:
A57: 7.1 | B57: Palpable pulses: carotid, brachial, radial, femoral, popliteal, dorsalis pedis
A58: 7.2 | B58: Extensive ECG library with interactive programmable features (morphology, rate, artefact, ectopic presence and frequency)
A59: 7.3 | B59: Pulses synchronised with ECG and BP (pulse volume/strength)
A60: 7.4 | B60: Auscultation of heart sounds over 4 anatomically correct positions with extensive library of heart sound options (normal and pathological)
A61: 7.5 | B61: Measurement of BP: manual and NIBP
A62: 8 | B62: Circulatory support procedures:
A63: 8.1 | B63: IV access with real-time drug and fluid administration capability
A64: 8.2 | B64: IO access with appropriate IO access method supporting real-time drug and fluid administration
A65: 8.3 | B65: CPR capable, providing feedback on evidence-based CPR metrics: compression-ventilation ratio, depth of compression, chest recoil, hands-off time
A66: 8.4 | B66: Clinical evidence of effective CPR: ECG compression artefact and palpable carotid pulses
A67: 8.5 | B67: Live defibrillation and synchronised cardioversion with paddles or pads (real or training) at full energy levels
A68: 8.6 | B68: Live transcutaneous pacing with delivery of full energy via real or training pads with programmable threshold capture and achievement of electrical and mechanical capturex
A69: 9 | B69: Pharmacology:
A70: 9.1 | B70: Manual drug-recognition system with programmable drug-responses
A71: 9.2 | B71: Comprehensive and programmable drug formulary
A72: 10 | B72: Additional required features:
A73: 10.1 | B73: Programmable eyelid blinking
A74: 10.2 | B74: Alteration of pupil size: right pupil, left pupil or both
A75: 10.3 | B75: Patient vocal sounds associated with condition / response such as vomiting sounds, coughing and moaning
A76: 10.4 | B76: Capable of communicating as the voice of patient
A77: 11 | B77: Software and Operating System requirements:
A78: 11.1 | B78: The manikin operating system and virtual patient monitor must be supported by an appropriate current operating software
A79: 12 | B79: System Integration requirements:
A80: 12.1 | B80: Must be able to integrate real or virtual ultrasound into manikin functionality where ultrasound functions within the manikin operating system
A81: 12.2 | B81: Must be able to integrate with a breathing simulator enabling basic to advanced real-time ventilator management of the manikin across all modes of ventilation and PEEP settings while generating real tidal volume
A82: 12.3 | B82: Must integrate with a simulation data capturing system enabling data collection for debriefing, record keeping, reporting and research purposes
A83: 13 | B83: Consumables,parts supplied with system on delivery:
A84: 13.1 | B84: Lubricant for airway procedures
A85: 13.2 | B85: Surgical airway skin and membrane
A86: 13.3 | B86: Dentures
A87: 13.4 | B87: Needle decompression bladders
A88: 13.5 | B88: Intraosseous replacement pads
A89: 13.6 | B89: Lateral chest-drain pads
A90: 13.7 | B90: Manual defibrillation plates / pads
A91: 13.8 | B91: Connectors for pacing / defibrillation cables compatible to the institutions defibrillator
A92: 13.9 | B92: Pacing / defibrillation cable that integrates live pacing / defibrillation compatible to the institutions defibrillator
A93: 13.10 | B93: Pulse oximeter probe for manikin
A94: 13.11 | B94: BP cuff for manikin
A95: 13.12 | B95: Manikin clothing
... A99: 13.16 | B99: Protective bag or case for storage and transport
A100: 14 | B100: Product Consumables:
A101: 14.1 | B101: Lubricant for airway procedures
A102: 14.2 | B102: Replacement neck skins and membrane
A103: 14.3 | B103: Replacement bladders for needle decompression
A104: 14.4 | B104: Replacement parts for formal chest drain
...

Sheet 13. INFANT AIRWAY TRAINING KIT
A1: ='SUMMARY LIST'!$A$1:$G$1 -> ANNEXURE A: TECHNICAL SPECIFICATION
A2: ='SUMMARY LIST'!$A$2:$G$2 -> GT/GDH/124/2024:THE SUPPLY, DELIVERY, COMMISSIONING AND MAINTENANCE OF BREATH SIMULATOR, HIGH FIDELITY ADULT MANIKIN AND HIGH-FIDELITY ADULT MANIKIN ANAESTHESIA FOR GAUTENG DEPARTMENT OF HEALTH INSTITUTIONS FOR PERIOD OF THREE YEARS (36 MONTHS).
A3: ='SUMMARY LIST'!J17 -> 13. INFANT AIRWAY TRAINING KIT
A4: Note:
A5: 1 | B5: Bidders are required to indicate compliance/non-compliance with the specification by typing "YES / NO" on each line item on column C.
A6: 2 | B6: In the case where an equivalent or better option is provided, bidders must type the full description of the equivalent or better item on column D.
B7: Comments on the equivalent item must be provided on Column E.
A8: 3 | B8: Bidder is required provide details of the product offer on column F.
A9: 4 | B9: Bidder to provide reference to brochure (page number) / technical data sheet / supporting documents on column G.
A11: Item no. | B11: Technical Specification | C11: Comply (Yes/No) | D11: Provide Equivalent/ Better (if applicable) | E11: Comments | F11: Details of Product Offer (Provide your answers in this Column. You are advised to be straight to the point) | G11: Reference to Brochure / Technical Data Sheet (verification) / Supporting Document
A12: Training Kit Description:
A13: Infant airway task trainer for skills training in basic to advanced airway management procedures
A14: 1 | B14: General description:
A15: 1.1 | B15: Infant airway task trainer for skills training in basic to advanced airway management procedures
A16: 2 | B16: Airway Anatomy and Features:
A17: 2.1 | B17: Must demonstrate realistic airway anatomy to the level of the primary bronchi
A18: 3 | B18: Must support the following Airway Procedures:
A19: 3.1 | B19: Head-tilt-chin lift
A20: 3.2 | B20: Jaw thrust
A21: 3.3 | B21: Oral and tracheal suctioning
A22: 3.4 | B22: Basic airway adjuncts: Oropharyngeal airway (OPA) and Nasopharyngeal airway (NPA)
A23: 3.5 | B23: Supraglottic airway devices:Laryngeal mask airway (LMA) and Laryngeal tube airway (LTA)
A24: 3.6 | B24: Oro- and nasotracheal intubation
A25: 3.7 | B25: Right mainstem bronchus intubation
A26: 3.8 | B26: Stomach distension with oesophageal intubation / aggressive Bag-valve-mask ventilation
A27: 3.9 | B27: Supports specialised intubation techniques: Bougie / light-wand, video laryngoscopy and fibreoptic assisted intubation
A28: 4 | B28: Respiratory Features:
A29: 4.1 | B29: Visible lung expansion with correct airway placement and ventilation techniques
A30: 5 | B30: Must support the following Respiratory Support Procedures:
A31: 5.1 | B31: Bag-valve-mask ventilation with chest rise
A32: 6 | B32: Consumables,parts supplied with system on delivery:
A33: 6.1 | B33: Airway lubricant
A34: 6.2 | B34: Protective bag or case for storage and transport
A35: 7 | B35: Product Consumables:
A36: 7.1 | B36: Airway lubricant
A37: 8 | B37: Product Replacement Parts:
A38: 8.1 | B38: Airway assembly
A39: 8.2 | B39: Lungs
A40: 8.3 | B40: Stomach
A41: 8.4 | B41: Face skin

Sheet 14. ADULT SURGICAL AIRWAY
A1: ='SUMMARY LIST'!$A$1:$G$1 -> ANNEXURE A: TECHNICAL SPECIFICATION
A2: ='SUMMARY LIST'!$A$2:$G$2 -> GT/GDH/124/2024:THE SUPPLY, DELIVERY, COMMISSIONING AND MAINTENANCE OF BREATH SIMULATOR, HIGH FIDELITY ADULT MANIKIN AND HIGH-FIDELITY ADULT MANIKIN ANAESTHESIA FOR GAUTENG DEPARTMENT OF HEALTH INSTITUTIONS FOR PERIOD OF THREE YEARS (36 MONTHS).
A3: ='SUMMARY LIST'!J18 -> 14. ADULT SURGICAL AIRWAY TASK TRAINER
A4: Note:
A5: 1 | B5: Bidders are required to indicate compliance/non-compliance with the specification by typing "YES / NO" on each line item on column C.
A6: 2 | B6: In the case where an equivalent or better option is provided, bidders must type the full description of the equivalent or better item on column D.
B7: Comments on the equivalent item must be provided on Column E.
A8: 3 | B8: Bidder is required provide details of the product offer on column F.
A9: 4 | B9: Bidder to provide reference to brochure (page number) / technical data sheet / supporting documents on column G.
A11: Item no. | B11: Technical Specification | C11: Comply (Yes/No) | D11: Provide Equivalent/ Better (if applicable) | E11: Comments | F11: Details of Product Offer (Provide your answers in this Column. You are advised to be straight to the point) | G11: Reference to Brochure / Technical Data Sheet (verification) / Supporting Document
A12: Training Kit Description:
A13: Adult surgical airway task trainer for skills training in needle and surgical cricothyroidotomy
A14: 1 | B14: General description:
A15: 1.1 | B15: Adult surgical airway task trainer for skills training in needle and surgical cricothyroidotomy
A16: 2 | B16: Airway Anatomy and Features:
A17: 2.1 | B17: Must demonstrate realistic anatomy of the larynx
A18: 2.2 | B18: Must be able to palpate the thyroid notch, thyroid cartilage, cricoid cartilage and cricothyroid membrane
A19: 3 | B19: Must support the following Airway Procedures:
A20: 3.1 | B20: Needle cricothyroidotomy
A21: 3.2 | B21: Surgical cricothyroidotomy
A22: 4 | B22: Respiratory Features:
A23: 4.1 | B23: Visible lung expansion with correct tube placement
A24: 5 | B24: Must support the following Respiratory Support Procedures:
A25: 5.1 | B25: Translaryngeal jet insufflation
A26: 5.2 | B26: Bag-valve-mask,tube ventilation with chest rise
A27: 6 | B27: Consumables ,parts supplied with system on delivery:
A28: 6.1. | B28: Cricothyroid membrane tape
A29: 6.2 | B29: Neck skin
A30: 6.3 | B30: Protective bag or case for storage and transport
A31: 7 | B31: Product Consumables:
A32: 7.1 | B32: Cricothyroid membrane tape
A33: 7.2 | B33: Neck skins
A34: 8 | B34: Product Replacement Parts:
A35: 8.1 | B35: Larynx
A36: 8.2 | B36: Lungs

Sheet 15. BREATHING SIMULATOR
A1: ='SUMMARY LIST'!$A$1:$G$1 -> ANNEXURE A: TECHNICAL SPECIFICATION
A2: ='SUMMARY LIST'!$A$2:$G$2 -> GT/GDH/124/2024:THE SUPPLY, DELIVERY, COMMISSIONING AND MAINTENANCE OF BREATH SIMULATOR, HIGH FIDELITY ADULT MANIKIN AND HIGH-FIDELITY ADULT MANIKIN ANAESTHESIA FOR GAUTENG DEPARTMENT OF HEALTH INSTITUTIONS FOR PERIOD OF THREE YEARS (36 MONTHS).
A3: ='SUMMARY LIST'!J19 -> 15. BREATHING SIMULATOR
A4: Note:
A5: 1 | B5: Bidders are required to indicate compliance/non-compliance with the specification by typing "YES / NO" on each line item on column C.
A6: 2 | B6: In the case where an equivalent or better option is provided, bidders must type the full description of the equivalent or better item on column D.
B7: Comments on the equivalent item must be provided on Column E.
A8: 3 | B8: Bidder is required provide details of the product offer on column F.
A9: 4 | B9: Bidder to provide reference to brochure (page number) / technical data sheet / supporting documents on column G.
A11: Item no. | B11: Technical Specification | C11: Comply (Yes/No) | D11: Provide Equivalent/ Better (if applicable) | E11: Comments | F11: Details of Product Offer (Provide your answers in this Column. You are advised to be straight to the point) | G11: Reference to Brochure / Technical Data Sheet (verification) / Supporting Document
A12: Training Kit Description:
A13: Breathing simulator for basic to advanced ventilatory management training across all modes and types of ventilation as a free standing item.
A14: 1 | B14: General description:
A15: 1.1 | B15: Breathing simulator for basic to advanced ventilatory management training across all modes and types of ventilation as a free standing item.
A16: 2 | B16: FEATURES:
A17: 2.1 | B17: A breathing simulator that can connect to any ventilator and elicit the same breathing dynamics as a real patient across a broad spectrum of normal and pathological respiratory conditions and manifestations
A18: 2.2 | B18: Presents age-appropriate respiratory dynamics from birth to old age
A19: 2.3 | B19: Accurate physiological modelling of respiratory patterns
A20: 2.4 | B20: Breathe-to-breathe changes of lung dynamics using purpose-designed software as a stand-alone system or integrated into manikin-based simulation
A21: 3 | B21: Lung mechanics features:
A22: 3.1 | B22: Must simulate the following lung mechanics:
A23: 3.1.1 | B23: Adjustable compliance ranges from 0.5-250 mL/cmH2O
A24: 3.1.2 | B24: Adjustable resistance ranges from 8-150 cmH2O/L/s
A25: 3.2. | B25: Generate a tidal volume for spontaneous breathing ventilation support from 2 to 2500 ml
A26: 4 | B26: Ventilator parameter interaction:
A27: 4.1 | B27: Programmable spontaneous breathing rate from 0-100bpm
A28: 4.2 | B28: Programmable spontaneous breathing effort from 0-100cmH2O
A29: 4.3 | B29: Programmable Inspiratory : Expiratory (I:E) ratio
A30: 4.4 | B30: Demonstrate treatment effects of Positive End Expiratory Pressure (PEEP) across clinically relevant settings including PEEP values > 20cmH20
A31: 5 | B31: Case development features for ventilatory management:
A32: 5.1 | B32: Support non-invasive ventilation strategies such as Bag-valve Mask Ventilation, Continuous Positive Airway Pressure (CPAP) and Bilevel Positive Airway Pressure (BiPAP)
A33: 5.2 | B33: Support all modes of ventilation currently used in clinical practice. Provide detailed list.
A34: 5.3 | B34: Pre-programmed settings for respiratory conditions such as asthma, Acute Respiratory Distress Syndrome (ARDS), Chronic Obstructive Pulmonary Disease (COPD) and Interstitial Lung Disease (ILD) with variable levels of severity
A35: 5.4 | B35: Programmable user-defined respiratory conditions such as pneumothorax, bronchospasm, pneumonia, cystic fibrosis (as examples)
A36: 5.5 | B36: Program and simulate advanced ventilation presentations / management strategies such as patient-ventilator dyssynchrony, weaning and waveform analysis.
A37: 5.6 | B37: High flow oxygen therapy
... A60: 9.9 | B60: O-rings and seals
A61: 9.10 | B61: High Flow Oxygen Consumables

Sheet 16. BRONCHOSCOPY TRAINING
A1: ='SUMMARY LIST'!$A$1:$G$1 -> ANNEXURE A: TECHNICAL SPECIFICATION
A2: ='SUMMARY LIST'!$A$2:$G$2 -> GT/GDH/124/2024:THE SUPPLY, DELIVERY, COMMISSIONING AND MAINTENANCE OF BREATH SIMULATOR, HIGH FIDELITY ADULT MANIKIN AND HIGH-FIDELITY ADULT MANIKIN ANAESTHESIA FOR GAUTENG DEPARTMENT OF HEALTH INSTITUTIONS FOR PERIOD OF THREE YEARS (36 MONTHS).
A3: ='SUMMARY LIST'!J20 -> 16. BRONCHOSCOPY TRAINING SIMULATOR
A4: Note:
A5: 1 | B5: Bidders are required to indicate compliance/non-compliance with the specification by typing "YES / NO" on each line item on column C.
A6: 2 | B6: In the case where an equivalent or better option is provided, bidders must type the full description of the equivalent or better item on column D.
B7: Comments on the equivalent item must be provided on Column E.
A8: 3 | B8: Bidder is required provide details of the product offer on column F.
A9: 4 | B9: Bidder to provide reference to brochure (page number) / technical data sheet / supporting documents on column G.
A11: Item no. | B11: Technical Specification | C11: Comply (Yes/No) | D11: Provide Equivalent/ Better (if applicable) | E11: Comments | F11: Details of Product Offer (Provide your answers in this Column. You are advised to be straight to the point) | G11: Reference to Brochure / Technical Data Sheet (verification) / Supporting Document
A12: Training Kit Description:
A13: Bronchoscopy training system | B13: Bronchoscopy training system
A14: 1 | B14: General description:
A15: 1.1 | B15: Bronchoscopy simulator designed to teach advanced bronchoscopy skills in a virtual environment with appropriate hardware and software kit
A16: 2 | B16: Bronchoscopy Simulator features:
A17: 2.1 | B17: Realistic replica bronchoscope that promotes psychomotor skill development
A18: 2.2 | B18: Must support a range of bronchoscopy learning needs from beginner to advanced levels
A19: 2.3 | B19: Must provide a didactic and practical platform for learning the basics of bronchoscopy
A20: 2.4 | B20: Must establish links between hand position, bronchoscopy simulator and visualised anatomy
A21: 2.5 | B21: Must provide teaching from non-anatomical models to a range of complex airway pathology in adults and children
A22: 2.6 | B22: Bronchoscopy visuals must provide normal and pathological findings from real cases
A23: 2.7 | B23: Must provide a variety of clinical cases from beginner to advanced levels
A24: 3 | B24: Bronchoscopy training modules:
A25: 3.1 | B25: Tasks for operating a bronchoscope
A26: 3.2 | B26: Normal adult anatomy
A27: 3.3 | B27: Normal paediatric anatomy
... A38: 5.5 | B38: Appropriate compatible hardware

Sheet 17. POC ULTRASOUND 
A1: ='SUMMARY LIST'!$A$1:$G$1 -> ANNEXURE A: TECHNICAL SPECIFICATION
A2: ='SUMMARY LIST'!$A$2:$G$2 -> GT/GDH/124/2024:THE SUPPLY, DELIVERY, COMMISSIONING AND MAINTENANCE OF BREATH SIMULATOR, HIGH FIDELITY ADULT MANIKIN AND HIGH-FIDELITY ADULT MANIKIN ANAESTHESIA FOR GAUTENG DEPARTMENT OF HEALTH INSTITUTIONS FOR PERIOD OF THREE YEARS (36 MONTHS).
A3: ='SUMMARY LIST'!J21 -> 17. POINT OF CARE (POC) ULTRASOUND SIMULATOR
A4: Note:
A5: 1 | B5: Bidders are required to indicate compliance/non-compliance with the specification by typing "YES / NO" on each line item on column C.
A6: 2 | B6: In the case where an equivalent or better option is provided, bidders must type the full description of the equivalent or better item on column D.
B7: Comments on the equivalent item must be provided on Column E.
A8: 3 | B8: Bidder is required provide details of the product offer on column F.
A9: 4 | B9: Bidder to provide reference to brochure (page number) / technical data sheet / supporting documents on column G.
A10: Item no. | B10: Technical Specification | C10: Comply (Yes/No) | D10: Provide Equivalent/ Better (if applicable) | E10: Comments | F10: Details of Product Offer (Provide your answers in this Column. You are advised to be straight to the point) | G10: Reference to Brochure / Technical Data Sheet (verification) / Supporting Document
A11: Training Kit Description:
A12: Point-of-care ultrasound training system
A13: 1 | B13: General description:
A14: 1.1 | B14: Point-of-care ultrasound training system with realistic probe application and ultrasound imagery for learning diagnostic ultrasound with appropriate hardware
A15: 2 | B15: Ultrasound Simulator Features:
A16: 2.1 | B16: Must support a range of ultrasound learning needs from beginner to advanced levels:
A17: 2.1.1 | B17: Must provide a didactic and practical platform for learning the basics of ultrasound including probe use, image detection and interpretation
A18: 2.1.2 | B18: Must establish links between probe position, underlying anatomy and ultrasound imagery
A19: 2.2 | B19: Must provide point-of-care ultrasound (POCUS) modules for:
A20: 2.2.1 | B20: Trauma, critical care, cardiac, vascular access and pregnancy, abdominal
A21: 2.2.2 | B21: Must include minimum 2 modules of the choice of the end user
A22: 2.2.3 | B22: Ultrasound imagery must provide normal and pathological findings from real cases
A23: 2.2.4 | B23: Must provide variation in case difficulty to support learning from beginner to advanced levels
A24: 3 | B24: System Integration requirements:
A25: 3.1 | B25: Can integrate into simulation using task trainers, standardised patients and full-body, high fidelity manikins
A26: 4 | B26: Consumables, Parts Supplied with System on Delivery:
A27: 4.1 | B27: Simulator ultrasound probe/s
A28: 4.2 | B28: List all the available ultrasound training modules
A29: 4.3 | B29: Simulator operating system
A30: 4.4 | B30: Charge cable
A31: 4.5 | B31: Protective bag or case for storage and transport
A32: 4.6 | B32: Appropriate compatible hardware
A33: 4.7 | B33: Hardware
A34: 5 | B34: Product Replacement Parts:
A35: 5.1 | B35: Simulator ultrasound probe/s
A36: 5.2 | B36: Simulator operating system
A37: 5.3 | B37: Appropriate compatible hardware
A38: 6 | B38: Optional Functions:
A39: 6.1 | B39: Regional blocks
A40: 6.2 | B40: Lung module
A41: 6.3 | B41: Paediatric modular
A42: 6.4 | B42: Ocular module
A43: 6.5 | B43: Gastrointestinal + Hepatobiliary
A44: 6.6 | B44: Soft tissue + Skeletal
A45: 6.7 | B45: Genitourinary

Sheet 18.ADULT HUMAN ANATOMY SKELETON
A1: ='SUMMARY LIST'!$A$1:$G$1 -> ANNEXURE A: TECHNICAL SPECIFICATION
A2: ='SUMMARY LIST'!$A$2:$G$2 -> GT/GDH/124/2024:THE SUPPLY, DELIVERY, COMMISSIONING AND MAINTENANCE OF BREATH SIMULATOR, HIGH FIDELITY ADULT MANIKIN AND HIGH-FIDELITY ADULT MANIKIN ANAESTHESIA FOR GAUTENG DEPARTMENT OF HEALTH INSTITUTIONS FOR PERIOD OF THREE YEARS (36 MONTHS).
A3: ='SUMMARY LIST'!J22 -> 18. ADULT HUMAN ANATOMY SKELETON
A4: Note:
A5: 1 | B5: Bidders are required to indicate compliance/non-compliance with the specification by typing "YES / NO" on each line item on column C.
A6: 2 | B6: In the case where an equivalent or better option is provided, bidders must type the full description of the equivalent or better item on column D.
B7: Comments on the equivalent item must be provided on Column E.
A8: 3 | B8: Bidder is required provide details of the product offer on column F.
A9: 4 | B9: Bidder to provide reference to brochure (page number) / technical data sheet / supporting documents on column G.
A11: Item no. | B11: Technical Specification | C11: Comply (Yes/No) | D11: Provide Equivalent/ Better (if applicable) | E11: Comments | F11: Details of Product Offer (Provide your answers in this Column. You are advised to be straight to the point) | G11: Reference to Brochure / Technical Data Sheet (verification) / Supporting Document
A12: Training Kit Description:
A13: Full Body Adult Human Anatomy with bones, muscle insertion points demonstrated on bones and removable organs
A14: 1 | B14: General description:
A15: 1.1 | B15: Hanging on a movable metal frame, a full Body Adult Human Anatomy Skeleton with muscle insertion points on bones and removable organs
A16: 2 | B16: Anatomy Features:
A17: 2.1 | B17: Natural skeleton size
A18: 2.2 | B18: Realistic organ appearance
A19: 2.3 | B19: Showing the muscle origin and insertion on bones
A20: 2.4 | B20: Skeleton can be disarticulated
A21: 2.5 | B21: Removable calvarium cap
A22: 2.6 | B22: Have a breakaway maxilla
A23: 2.7 | B23: Paranasal sinuses
A24: 2.8 | B24: Detachable mandible
A25: 2.9 | B25: Bones of one hand and one foot articulate
A26: 2.10 | B26: Hips disarticulate at the ball-and-socket joint
A27: 2.11 | B27: Pelvis, one of the hip can swing outward to 45º
A28: 2.12 | B28: Removable organs
A29: 2.13 | B29: Two-part brain
A30: 2.14 | B30: Lobar lung
A31: 2.15 | B31: Coronally sectioned heart
A32: 2.16 | B32: Small intestine
A33: 2.17 | B33: Colon and mesentery
A34: 2.18 | B34: Coronally sectioned stomach
A35: 2.19 | B35: Pancreas
A36: 2.20 | B36: Liver
A37: 2.21 | B37: Kidney’s (one coronally sectioned)
A38: 2.22 | B38: Spleen
A39: 3 | B39: Gender and Cultural Features:
A40: 3.1 | B40: Applicable male/ female pelvic skeleton parts
A41: 4 | B41: Consumables Parts Supplied With System On Delivery:
A42: 4.1 | B42: Movable Stand
A43: 4.2 | B43: Replacement on all bones parts
A44: 4.3 | B44: Replacement on all organ parts

Sheet 19. ADULT ORTHOPAEDIC SKELETON
A1: ='SUMMARY LIST'!$A$1:$G$1 -> ANNEXURE A: TECHNICAL SPECIFICATION
A2: ='SUMMARY LIST'!$A$2:$G$2 -> GT/GDH/124/2024:THE SUPPLY, DELIVERY, COMMISSIONING AND MAINTENANCE OF BREATH SIMULATOR, HIGH FIDELITY ADULT MANIKIN AND HIGH-FIDELITY ADULT MANIKIN ANAESTHESIA FOR GAUTENG DEPARTMENT OF HEALTH INSTITUTIONS FOR PERIOD OF THREE YEARS (36 MONTHS).
A3: ='SUMMARY LIST'!J23 -> 19. ADULT ORTHOPAEDIC SKELETON
A4: Note:
A5: 1 | B5: Bidders are required to indicate compliance/non-compliance with the specification by typing "YES / NO" on each line item on column C.
A6: 2 | B6: In the case where an equivalent or better option is provided, bidders must type the full description of the equivalent or better item on column D.
B7: Comments on the equivalent item must be provided on Column E.
A8: 3 | B8: Bidder is required provide details of the product offer on column F.
A9: 4 | B9: Bidder to provide reference to brochure (page number) / technical data sheet / supporting documents on column G.
A10: Item no. | B10: Technical Specification | C10: Comply (Yes/No) | D10: Provide Equivalent/ Better (if applicable) | E10: Comments | F10: Details of Product Offer (Provide your answers in this Column. You are advised to be straight to the point) | G10: Reference to Brochure / Technical Data Sheet (verification) / Supporting Document
A11: Training Kit Description:
A12: Adult Orthopedic Skeleton
A13: 1 | B13: General description:
A14: 1.1 | B14: Hanging on a movable metal frame Adult Orthopedic Skeleton
A15: 2 | B15: Anatomy Features:
A16: 2.1 | B16: Natural Skeleton size
A17: 2.2 | B17: Realist Bone appearance
A18: 2.3 | B18: Show muscle origins and intersections
A19: 2.4 | B19: Articulating bones on hand(s)
A20: 2.5 | B20: Articulating bones on feet
A21: 2.6 | B21: Skull with removable calvarium cap
A22: 2.7 | B22: Breakaway maxilla
A23: 2.8 | B23: Para nasal sinuses
A24: 2.9 | B24: Detachable mandible
A25: 2.10 | B25: Hips disarticulates form ball and socket joints
A26: 2.11 | B26: Vertebral column
A27: 2.12 | B27: Brachial plexus distribution demonstrated
A28: 2.13 | B28: Elbow
A29: 2.14 | B29: Hand
A30: 2.15 | B30: Writs
A31: 2.16 | B31: Hip
A32: 2.17 | B32: Knee
A33: 2.18 | B33: Foot
A34: 2.19 | B34: Elbow
A35: 2.20 | B35: Skull
A36: 3 | B36: Other Requirements:
A37: 3.1 | B37: Bones have similar consistency , density and radiopaque qualities as natural bone
A38: 4 | B38: Gender and Cultural Features:
A39: 4.1 | B39: Applicable male/female pelvic skeleton parts
A40: 5 | B40: Consumables Parts Supplied With System On Delivery:
A41: 5.1 | B41: Movable Stand
A42: 5.2 | B42: Replacement on all bones parts

Sheet 20. WOUND CARE TRAINING KIT
A1: ='SUMMARY LIST'!$A$1:$G$1 -> ANNEXURE A: TECHNICAL SPECIFICATION
A2: ='SUMMARY LIST'!$A$2:$G$2 -> GT/GDH/124/2024:THE SUPPLY, DELIVERY, COMMISSIONING AND MAINTENANCE OF BREATH SIMULATOR, HIGH FIDELITY ADULT MANIKIN AND HIGH-FIDELITY ADULT MANIKIN ANAESTHESIA FOR GAUTENG DEPARTMENT OF HEALTH INSTITUTIONS FOR PERIOD OF THREE YEARS (36 MONTHS).
A3: ='SUMMARY LIST'!J24 -> 20. WOUND CARE TRAINING KIT FOR NURSING
A4: Note:
A5: 1 | B5: Bidders are required to indicate compliance/non-compliance with the specification by typing "YES / NO" on each line item on column C.
A6: 2 | B6: In the case where an equivalent or better option is provided, bidders must type the full description of the equivalent or better item on column D.
B7: Comments on the equivalent item must be provided on Column E.
A8: 3 | B8: Bidder is required provide details of the product offer on column F.
A9: 4 | B9: Bidder to provide reference to brochure (page number) / technical data sheet / supporting documents on column G.
A11: Item no. | B11: Technical Specification | C11: Comply (Yes/No) | D11: Provide Equivalent/ Better (if applicable) | E11: Comments | F11: Details of Product Offer (Provide your answers in this Column. You are advised to be straight to the point) | G11: Reference to Brochure / Technical Data Sheet (verification) / Supporting Document
A12: Training Kit Description:
A13: Multi-modular, multi-anatomical part simulation kit for nursing wound care
A14: 1 | B14: General description:
A15: 1.1 | B15: A multi-modular, multi-anatomical part wound simulation kit
A16: 2 | B16: Anatomy and Wound Features:
A17: 2.1 | B17: Realistic anatomical appearance with lifelike wounds
A18: 2.2 | B18: Material and design of the modules must be suitable for and not limited to cleaning/suturing/bandaging/debridement of:
A19: 2.2.1 | B19: Abdominal component/ module including but not limited to surgical incision care
A20: 2.2.2 | B20: Colostomy component/ module
A21: 2.2.3 | B21: Debridement component/module
A22: 2.2.4 | B22: Injection component/ module
A23: 2.2.5 | B23: Suturing components/modules
A24: 2.2.6 | B24: Thigh component/module
A25: 2.2.7 | B25: Amputation components/modules. Applicable for lower and upper limb
A26: 2.2.8 | B26: Diabetic/Gangrenous foot component/ module
A27: 2.2.9 | B27: Varicose Vein Leg component/module
A28: 2.2.10 | B28: Stasis Ulcer component/module
A29: 2.2.11 | B29: Pressure points ulcer components/Modules
A30: 2.3 | B30: Please state availability of other modules
A31: 3 | B31: All the below must assist to perform the following Wound Care Procedures:
A32: 3.1 | B32: Abdominal Packing
A33: 3.2 | B33: Pensil drain
A34: 3.3 | B34: Nylon sutures (insertion, care and removal)
A35: 3.4 | B35: Staples (insertion, care and removal)
A36: 3.5 | B36: Abdominal Subcutaneous Injection e.g Heparin and Insulin
A37: 3.6 | B37: Thigh Packing
A38: 3.7 | B38: Wound Irrigation
A39: 3.8 | B39: Thigh Debridement
A40: 3.9 | B40: Infected Colostomy Stoma
A41: 3.10 | B41: Ventro-Gluteal pressure point Ulcer
A42: 3.11 | B42: Gluteal pressure point Ulcer
A43: 3.12 | B43: Below Knee Amputation Stump
A44: 3.13 | B44: Below Elbow Amputation Stump
A45: 3.14 | B45: Diabetic Foot with Gangrenous Toes
A46: 3.15 | B46: Heel pressure point ulcer
A47: 3.16 | B47: Varicose Vein Leg with Stasis Ulcer
A48: 4 | B48: Gender and Cultural Features:
A49: 4.1 | B49: Applicable cultural sensitive skin tones (light, tan, dark)
A50: 5 | B50: Consumables Parts Supplied With System On Delivery:
A51: 5.1 | B51: Wound makeup
A52: 5.2 | B52: Replaceable skin
A53: 5.3 | B53: Storage bag

Sheet 21. BREAST EXAM TRAINING KIT
A1: ='SUMMARY LIST'!$A$1:$G$1 -> ANNEXURE A: TECHNICAL SPECIFICATION
A2: ='SUMMARY LIST'!$A$2:$G$2 -> GT/GDH/124/2024:THE SUPPLY, DELIVERY, COMMISSIONING AND MAINTENANCE OF BREATH SIMULATOR, HIGH FIDELITY ADULT MANIKIN AND HIGH-FIDELITY ADULT MANIKIN ANAESTHESIA FOR GAUTENG DEPARTMENT OF HEALTH INSTITUTIONS FOR PERIOD OF THREE YEARS (36 MONTHS).
A3: ='SUMMARY LIST'!J25 -> 21. BREAST EXAMINATION TRAINING KIT FOR NURSING
A4: Note:
A5: 1 | B5: Bidders are required to indicate compliance/non-compliance with the specification by typing "YES / NO" on each line item on column C.
A6: 2 | B6: In the case where an equivalent or better option is provided, bidders must type the full description of the equivalent or better item on column D.
B7: Comments on the equivalent item must be provided on Column E.
A8: 3 | B8: Bidder is required provide details of the product offer on column F.
A9: 4 | B9: Bidder to provide reference to brochure (page number) / technical data sheet / supporting documents on column G.
A11: Item no. | B11: Technical Specification | C11: Comply (Yes/No) | D11: Provide Equivalent/ Better (if applicable) | E11: Comments | F11: Details of Product Offer (Provide your answers in this Column. You are advised to be straight to the point) | G11: Reference to Brochure / Technical Data Sheet (verification) / Supporting Document
A12: Training Kit Description:
A13: i) | B13: Adult breast examination trainer for recognition of breast disorders and abnormalities skills training composed of the following components/modules:
A14: ii) | B14: Component/module for effective practice of breast examination which includes identification of lump sizes and types
A15: iii) | B15: Component/module for practice of nursing interventions of a post-mastectomy patient, including assessment, dressing change and drain care
A16: 1 | B16: The Kit must include the following Anatomical Parts:
A17: 1.1 | B17: Normal anatomy and size of female breasts that realistically simulate the feel of breast tissue
A18: 1.2 | B18: Set of interchangeable nodule inserts to represent various breast pathologies
A19: 1.3 | B19: A post-operative total mastectomy chest skin pad
A20: 2 | B20: The Kit must Simulate the following Breast Examination Findings:
A21: 2.1 | B21: Normal breast examination
A22: 2.2 | B22: Simulate cystic and solid nodules of various sizes
A23: 2.3 | B23: Specify size of nodules availability
A24: 3 | B24: Gender and Cultural Features:
A25: 3.1 | B25: Applicable cultural sensitive skin tones
A26: 4 | B26: Consumables Parts Supplied With System On Delivery:
A27: 4.1 | B27: All breast components/modules must be available
A28: 4.2 | B28: All the various sizes of nodule inserts specified above must be available
A29: 4.3 | B29: Any consumable to extend shelf life of the parts must be included
A30: 4.4 | B30: All replaceable parts must be included
A31: 4.5 | B31: Carry case
A32: 4.6 | B32: Instruction manual for use

Sheet 22. INTRAVENOUS ARM TRAINING
A1: ='SUMMARY LIST'!$A$1:$G$1 -> ANNEXURE A: TECHNICAL SPECIFICATION
A2: ='SUMMARY LIST'!$A$2:$G$2 -> GT/GDH/124/2024:THE SUPPLY, DELIVERY, COMMISSIONING AND MAINTENANCE OF BREATH SIMULATOR, HIGH FIDELITY ADULT MANIKIN AND HIGH-FIDELITY ADULT MANIKIN ANAESTHESIA FOR GAUTENG DEPARTMENT OF HEALTH INSTITUTIONS FOR PERIOD OF THREE YEARS (36 MONTHS).
A3: ='SUMMARY LIST'!J26 -> 22. INTRAVENOUS ARM TRAINING KIT FOR NURSING
A4: Note:
A5: 1 | B5: Bidders are required to indicate compliance/non-compliance with the specification by typing "YES / NO" on each line item on column C.
A6: 2 | B6: In the case where an equivalent or better option is provided, bidders must type the full description of the equivalent or better item on column D.
B7: Comments on the equivalent item must be provided on Column E.
A8: 3 | B8: Bidder is required provide details of the product offer on column F.
A9: 4 | B9: Bidder to provide reference to brochure (page number) / technical data sheet / supporting documents on column G.
A11: Item no. | B11: Technical Specification | C11: Comply (Yes/No) | D11: Provide Equivalent/ Better (if applicable) | E11: Comments | F11: Details of Product Offer (Provide your answers in this Column. You are advised to be straight to the point) | G11: Reference to Brochure / Technical Data Sheet (verification) / Supporting Document
A12: Training Kit Description:
A13: Adult Intra-Venous (IV) arm trainer for peripheral intravenous therapy skills training
A14: 1 | B14: General description:
A15: 1.1 | B15: Adult Intra Venous (IV) arm trainer for peripheral intravenous therapy skills training
A16: 2 | B16: Anatomy and Venipuncture Features:
A17: 2.1 | B17: Venipuncture possible in multiple locations from the dorsum of the hand to the cubital fossa
A18: 2.2 | B18: Peripheral intravenous catheter insertion and removal
A19: 2.3 | B19: Accessible veins include median, basilica and cephalic
A20: 2.4 | B20: Palpable veins enable site selection and preparation
A21: 2.5 | B21: Infusible veins allow peripheral therapy with intravenous bolus or push injection method
A22: 2.6 | B22: Replaceable skin
A23: 2.7 | B23: Replacable multi-vein system
A24: 3 | B24: Must Support the following Venous Puncture and Intravenous Infusion Procedures:
A25: 3.1 | B25: Prominent multi-venous network
A26: 3.2 | B26: Simulation of infusion technique
A27: 3.3 | B27: Practice blood collection exercises with simulated blood
A28: 3.4 | B28: Administration of medication by intravenous bolus
A29: 3.5 | B29: Simulation of tourniquet position
A30: 3.6 | B30: Simulation of collapsed veins
A31: 3.7 | B31: Realistic “pop” as needle enters vein
A32: 4 | B32: Gender and Cultural Features:
A33: 4.1 | B33: Applicable cultural sensitive skin tones
A34: 5 | B34: Consumable Parts Supplied with System On Delivery:
A35: 5.1 | B35: Adult Arm with all its attachments/accessories
A36: 5.2 | B36: Replaceable intravenous pads
A37: 5.3 | B37: Replaceable skin
A38: 5.4 | B38: Simulated blood
A39: 5.5 | B39: Infusion/ Blood bag with tubing connector
A40: 5.6 | B40: Clamp and hook
A41: 5.7 | B41: Carry case
A42: 6 | B42: Consumables:
A43: 6.1 | B43: Replaceable intravenous pads
A44: 6.2 | B44: Replaceable skin
A45: 6.3 | B45: Simulated blood
A46: 6.4 | B46: Infusion/ Blood bag with tubing connector
A47: 6.5 | B47: Clamp and hook

Sheet 23. POST PARTUM EXAM TRAIN
A1: ='SUMMARY LIST'!$A$1:$G$1 -> ANNEXURE A: TECHNICAL SPECIFICATION
A2: ='SUMMARY LIST'!$A$2:$G$2 -> GT/GDH/124/2024:THE SUPPLY, DELIVERY, COMMISSIONING AND MAINTENANCE OF BREATH SIMULATOR, HIGH FIDELITY ADULT MANIKIN AND HIGH-FIDELITY ADULT MANIKIN ANAESTHESIA FOR GAUTENG DEPARTMENT OF HEALTH INSTITUTIONS FOR PERIOD OF THREE YEARS (36 MONTHS).
A3: ='SUMMARY LIST'!J27 -> 23. POST PARTUM EXAMINATION TRAINING
A4: Note:
A5: 1 | B5: Bidders are required to indicate compliance/non-compliance with the specification by typing "YES / NO" on each line item on column C.
A6: 2 | B6: In the case where an equivalent or better option is provided, bidders must type the full description of the equivalent or better item on column D.
B7: Comments on the equivalent item must be provided on Column E.
A8: 3 | B8: Bidder is required provide details of the product offer on column F.
A9: 4 | B9: Bidder to provide reference to brochure (page number) / technical data sheet / supporting documents on column G.
A11: Item no. | B11: Technical Specification | C11: Comply (Yes/No) | D11: Provide Equivalent/ Better (if applicable) | E11: Comments | F11: Details of Product Offer (Provide your answers in this Column. You are advised to be straight to the point) | G11: Reference to Brochure / Technical Data Sheet (verification) / Supporting Document
A12: Training Kit Description:
A13: Post partum pelvic examination and clinical care trainer kit
A14: 1 | B14: General description:
A15: 1.1 | B15: Post partum pelvic examination and clinical care trainer kit.The physical principles of the uterine fundus skills assessment should be able to be practiced with this skills trainer including the identification and treatment of normal and abnormal clinical findings
A16: 2 | B16: Anatomical Features:
A17: 2.1 | B17: Normal post partum female anatomy
A18: 2.2 | B18: Realistic landmark of the symphysis pubis
A19: 2.3 | B19: Component/module designed for teaching the following interventions for post partum bleeding including:
A20: 2.3.1 | B20: Uterine fundus massage
A21: 2.3.2 | B21: Distendable urinary bladder (Catherisation and filling should be possible)
A22: 2.4 | B22: Demonsrates post-partum blood loss
A23: 2.5 | B23: Allows perineal care, including interventions for episiotomy
A24: 2.6 | B24: Various uterine sizes available:
A25: 2.6.1 | B25: Included but not limited: uterus to imitate a firm, well contracted uterus
A26: 2.6.2 | B26: Included but not limted: uterus to imitate a floppy, atonic uterus that has not contracted
A27: 2.7 | B27: Flexible hip joint
A28: 3 | B28: Must Support the following Pelvic Examination findings:
A29: 3.1 | B29: Normal uterine fundus
A30: 3.2 | B30: Post-partum blood loss
A31: 3.3 | B31: Uterine fundus deviations secondary to bladder distention
A32: 3.4 | B32: Female genitalia elongated with swelling to the clitoral area
A33: 3.5 | B33: A visible and open vaginal orifice
A34: 3.6 | B34: Excessive post-partum bleeding
A35: 3.7 | B35: A flapped labium minorus exposing the vaginal canal
A36: 3.8 | B36: Bladder distension
A37: 3.9 | B37: Second degree midline episiotomy
A38: 3.10 | B38: Anal haemorrhoids visible
A39: 4 | B39: Gender and Cultural Features:
A40: 4.1 | B40: Applicable cultural sensitive skin tones
A41: 5 | B41: Consumable Parts Supplied with System On Delivery:
A42: 5.1 | B42: Removable skin with umbilicus
A43: 5.2 | B43: Interchangeable uteri to imitate the above pathologies
A44: 5.3 | B44: Simulated blood
A45: 5.4 | B45: Carry case
A46: 5.5 | B46: Instruction manual for use

Sheet 24. INTRA-OSSEOUS VASCULAR
A1: ='SUMMARY LIST'!$A$1:$G$1 -> ANNEXURE A: TECHNICAL SPECIFICATION
A2: ='SUMMARY LIST'!$A$2:$G$2 -> GT/GDH/124/2024:THE SUPPLY, DELIVERY, COMMISSIONING AND MAINTENANCE OF BREATH SIMULATOR, HIGH FIDELITY ADULT MANIKIN AND HIGH-FIDELITY ADULT MANIKIN ANAESTHESIA FOR GAUTENG DEPARTMENT OF HEALTH INSTITUTIONS FOR PERIOD OF THREE YEARS (36 MONTHS).
A3: ='SUMMARY LIST'!J28 -> 24. INTRA-OSSEOUS VASCULAR TRAINER
A4: Note:
A5: 1 | B5: Bidders are required to indicate compliance/non-compliance with the specification by typing "YES / NO" on each line item on column C.
A6: 2 | B6: In the case where an equivalent or better option is provided, bidders must type the full description of the equivalent or better item on column D.
B7: Comments on the equivalent item must be provided on Column E.
A8: 3 | B8: Bidder is required provide details of the product offer on column F.
A9: 4 | B9: Bidder to provide reference to brochure (page number) / technical data sheet / supporting documents on column G.
A11: Item no. | B11: Technical Specification | C11: Comply (Yes/No) | D11: Provide Equivalent/ Better (if applicable) | E11: Comments | F11: Details of Product Offer (Provide your answers in this Column. You are advised to be straight to the point) | G11: Reference to Brochure / Technical Data Sheet (verification) / Supporting Document
A12: Training Kit Description:
A13: Intra-osseous vascular access trainer
A14: 1 | B14: General description:
A15: 1.1 | B15: Intra-osseous vascular access trainer designed to teach emergency vascular access on manikins or bone models
A16: 2 | B16: Intra-Osseous Vascular Access Trainer Features:
A17: 2.1 | B17: Reusable realistic intra-osseous drill that promotes psychomotor skill development
A18: 2.2 | B18: Must provide training needles for adult and paediatric patients
A19: 2.3 | B19: Instructional manual to be provided for training use in different scenarios such as adult or paediatric cases and different sites of insertion
A20: 3 | B20: Consumables/ Replacement Parts Supplied with System:
A21: 3.1 | B21: Replacement batteries
A22: 3.2 | B22: Various needle sizes for both adult and paediatrics
A23: 3.3 | B23: Protective bag or case for storage and transport
A24: 4 | B24: Product Consumables:
A25: 4.1 | B25: Replacement adult and paediatric needles

Sheet 25. ADULT SIMULATION MANIKIN
A1: ='SUMMARY LIST'!$A$1:$G$1 -> ANNEXURE A: TECHNICAL SPECIFICATION
A2: ='SUMMARY LIST'!$A$2:$G$2 -> GT/GDH/124/2024:THE SUPPLY, DELIVERY, COMMISSIONING AND MAINTENANCE OF BREATH SIMULATOR, HIGH FIDELITY ADULT MANIKIN AND HIGH-FIDELITY ADULT MANIKIN ANAESTHESIA FOR GAUTENG DEPARTMENT OF HEALTH INSTITUTIONS FOR PERIOD OF THREE YEARS (36 MONTHS).
A3: ='SUMMARY LIST'!J29 -> 25. ADULT SIMULATION MANIKIN TRAINING KIT FOR NURSING
A4: Note:
A5: 1 | B5: Bidders are required to indicate compliance/non-compliance with the specification by typing "YES / NO" on each line item on column C.
A6: 2 | B6: In the case where an equivalent or better option is provided, bidders must type the full description of the equivalent or better item on column D.
B7: Comments on the equivalent item must be provided on Column E.
A8: 3 | B8: Bidder is required provide details of the product offer on column F.
A9: 4 | B9: Bidder to provide reference to brochure (page number) / technical data sheet / supporting documents on column G.
A11: Item no. | B11: Technical Specification | C11: Comply (Yes/No) | D11: Provide Equivalent/ Better (if applicable) | E11: Comments | F11: Details of Product Offer (Provide your answers in this Column. You are advised to be straight to the point) | G11: Reference to Brochure / Technical Data Sheet (verification) / Supporting Document
A12: Training Kit Description:
A13: Adult Simulation Manikin for Nursing Skills Training (General Patient Care)
A14: 1 | B14: General description:
A15: 1.1 | B15: Adult Simulation Manikin for Nursing Skills Training (General Patient Care)
A16: 2 | B16: Anatomy and Features:
A17: 2.1 | B17: Full-size Adult lightweight manikin
A18: 2.2 | B18: Simple conversion to either female/male
A19: 2.3 | B19: Realistic Human Appearance
A20: 2.4 | B20: Head with anatomical landmarks
A21: 2.5 | B21: Mouth open and close for mouth hygiene
A22: 2.6 | B22: Soft, realistic face skin, hands, feet, fingers, and toes
A23: 2.7 | B23: Articulating head, jaw, elbows, wrists, ankles, and knees
A24: 2.8 | B24: Trachea ( allows for tracheal care and suctioning)
A25: 2.9 | B25: Esophagus
A26: 2.10 | B26: Lungs (inflatable)
A27: 2.11 | B27: Stomach (inflatable)
A28: 2.12 | B28: Nasogastric tube and orogastric insertion
... A41: 2.25 | B41: Breast examination capability
A42: 3 | B42: MUST SUPPORT THE FOLLOWING CLINICAL NURSING PROCEDURES AND FEATURES:
A43: 3.1 | B43: Patient Care:
A44: 3.1.1 | B44: Irrigation of the eye and ear
A45: 3.1.2 | B45: Application/instillation of medications in the eye, ear and nose including nasal packing
A46: 3.1.3 | B46: Mouth and denture care procedures
A47: 3.1.4 | B47: Insertion and suctioning of oropharyngeal and nasopharyngeal airways
A48: 3.1.5 | B48: Insertion, securing, and care of endotracheal tubes
A49: 3.1.6 | B49: Tracheostomy care and tracheal suctioning
A50: 3.1.7 | B50: Various oxygen delivery procedures
A51: 3.1.8 | B51: Gastric lavage and enteral feeding
A52: 3.1.9 | B52: Subclavian central venous catheter with subcutaneous port access for nursing care
A53: 3.1.10 | B53: Manually generated carotid pulse
A54: 3.1.11 | B54: Injection sites include deltoid, bilateral thigh, dorsal gluteal and ventral gluteal
... A69: 3.3.4 | B69: Replaceable skin and infusible vein system
A70: 4 | B70: Gender and Cultural Features:
A71: 4.1 | B71: Applicable cultural sensitive skin tones (Light, Tan, and Brown)
A72: 5 | B72: Consumable Parts Supplied with System On Delivery:
A73: 5.1 | B73: Replacement on anatomical parts and structures
A74: 5.2 | B74: Replaceable skin and infusible vein system
A75: 5.3 | B75: Female Multi-Venous intravenous training arm
A76: 5.4 | B76: Female Blood Pressure Training Arm
A77: 5.5 | B77: Stomach Reservoir Bag
A78: 5.6 | B78: Bladder Reservoir Bag
A79: 5.7 | B79: Colon/Enema Reservoir Bag
A80: 5.8 | B80: Manikin Lubricant
A81: 5.9 | B81: Assembly Tool Kit
A82: 5.10 | B82: Storage case/carry bag

Sheet 26. HF ADULT FEMALE SIMULATION
A1: ='SUMMARY LIST'!$A$1:$G$1 -> ANNEXURE A: TECHNICAL SPECIFICATION
A2: ='SUMMARY LIST'!$A$2:$G$2 -> GT/GDH/124/2024:THE SUPPLY, DELIVERY, COMMISSIONING AND MAINTENANCE OF BREATH SIMULATOR, HIGH FIDELITY ADULT MANIKIN AND HIGH-FIDELITY ADULT MANIKIN ANAESTHESIA FOR GAUTENG DEPARTMENT OF HEALTH INSTITUTIONS FOR PERIOD OF THREE YEARS (36 MONTHS).
A3: ='SUMMARY LIST'!J30 -> 26. HIGH FIDELITY ADULT FEMALE SIMULATION TRAINING KIT FOR NURSING
A4: Note:
A5: 1 | B5: Bidders are required to indicate compliance/non-compliance with the specification by typing "YES / NO" on each line item on column C.
A6: 2 | B6: In the case where an equivalent or better option is provided, bidders must type the full description of the equivalent or better item on column D.
B7: Comments on the equivalent item must be provided on Column E.
A8: 3 | B8: Bidder is required provide details of the product offer on column F.
A9: 4 | B9: Bidder to provide reference to brochure (page number) / technical data sheet / supporting documents on column G.
A11: Item no. | B11: Technical Specification | C11: Comply (Yes/No) | D11: Provide Equivalent/ Better (if applicable) | E11: Comments | F11: Details of Product Offer (Provide your answers in this Column. You are advised to be straight to the point) | G11: Reference to Brochure / Technical Data Sheet (verification) / Supporting Document
A12: Training Kit Description:
A13: A life-sized High-fidelity Adult Simulation Manikin for Nursing Skills Training
A14: 1. | B14: Technical description:
A15: 1.1 | B15: A life-sized, high-fidelity adult manikin with interactive patient-like features that accurately reflects a broad spectrum of clinical conditions and emergencies relevant to Nursing care | C15: yes
A16: 2 | B16: Anatomy and Features:
A17: 2.1 | B17: Full-size Adult Manikin
A18: 2.2 | B18: Simple conversion to either female/male
A19: 2.3 | B19: Head with anatomical landmarks
A20: 2.4 | B20: Palpable anatomy for assessment and site location, including:
A21: 2.4.1 | B21: Clavicle
A22: 2.4.2 | B22: Sternum
A23: 2.4.3 | B23: Spine
A24: 2.4.4 | B24: Ribs (front and sides)
A25: 2.4.5 | B25: Xiphoid process
A26: 2.4.6 | B26: Scapula
A27: 2.4.7 | B27: Anterior superior iliac crest
A28: 2.4.8 | B28: Pubic symphysis
... A47: 2.4.27 | B47: Enema insertion capability
A48: 3 | B48: Must Support the following Clinical Nursing Procedures:
A49: 3.1 | B49: Medication Administration:
A50: 3.1.1 | B50: Administration of ear and eye drops
A51: 3.1.2 | B51: Oral via Nasogastric tube
A52: 3.1.3 | B52: Bilateral pre-ported IV arms with capability for intravenous bolus or push through intravenous infusion when attached to a fluid bag
A53: 3.1.4 | B53: Optional multi-venous IV training arm with capability of IV cannulation placement
A54: 3.1.5 | B54: Bilateral deltoid, ventral gluteal, dorsal gluteal and thigh injection sites .Palpable anatomy to aid in site selection includes anterior superior iliac crest, pubic symphysis
A55: 3.2 | B55: Hygiene:
A56: 3.2.1 | B56: Wig for hair care procedures
A57: 3.2.2 | B57: Eye and ear canal for practice of irrigation and cleansing
A58: 3.2.3 | B58: Oral care and hygiene
A59: 3.2.4 | B59: Removable upper denture for oral and denture care
A60: 3.2.5 | B60: Bed baths and skin care
A61: 3.2.6 | B61: Patient simulator shall allow manipulation into dorsal recumbent position for perineal care
... A68: 3.3.5 | B68: Fingers and toes spread for bandaging
A69: 3.4 | B69: Patient Handling:
A70: 3.4.1 | B70: Full articulation for realistic patient handling procedures
A71: 3.4.2 | B71: Head can be flexed into chin to chest position and remain flexed until repositioned
A72: 3.4.3 | B72: Sits unassisted and bends at waist to tripod position
A73: 3.4.4 | B73: Protective positioning
A74: 3.4.5 | B74: Patient transfer techniques
A75: 3.4.6 | B75: Range of motion exercises
A76: 3.5 | B76: Nutrition:
A77: 3.5.1 | B77: Accurate anatomical landmarks for insertion of Nasogastric Tube to correct measurement (nose to earlobe to xiphoid process)
A78: 3.5.2 | B78: Lavage and gavage
A79: 3.5.3 | B79: Invisible port in upper left abdomen for pre-placement of a feeding Percutaneous endoscopic gastrostomy tube or Jejunum tube for feeding
A80: 3.5.4 | B80: Internal reservoir with fluid capacity, external quick fill port, and external bag for large volume feeding
A81: 3.6 | B81: Genitary Urinary Features:
A82: 3.6.1 | B82: Female genitalia with realistic anatomy, includes labia majora, labia minora, urethral opening, clitoris, and vagina
A83: 3.6.2 | B83: Labia minora in naturally closed position, when opened exposes urethral opening
A84: 3.6.3 | B84: Manipulation into supine position with knees flexed
A85: 3.6.4 | B85: Genitalia accepts straight or indwelling catheters
A86: 3.6.5 | B86: Genitalia attaches to an internal system including an internal urinary reservoir for urinary catheterization with ability to pressurize reservoir for proper fluid return
A87: 3.6.6 | B87: Intermittent closed catheter irrigation
A88: 3.6.7 | B88: Urinary reservoir has external quick access port for ease in filling
A89: 3.7 | B89: Gastro Intestine Features:
A90: 3.7.1 | B90: Manipulation into left lateral position for enema administration
A91: 3.7.2 | B91: Genitalia attaches to external reservoir bag for enema administration
A92: 3.7.3 | B92: Anal opening will accept real and simulated rectal suppositories
A93: 3.7.4 | B93: Ascending colostomy stoma that connects to fluid reservoir for irrigation procedure
A94: 3.7.5 | B94: Interchangeable stomas, include normal, dusky (non-perfusing), and infected bowel
A95: 3.7.6 | B95: Changing and emptying colostomy reservoir bag
A96: 3.8 | B96: Airway and Respiratory Features:
A97: 3.8.1 | B97: Realistic airway with uvula, epiglottis, vocal cords and esophagus
A98: 3.8.2 | B98: Various oxygen delivery methods with visible chest rise including nasal cannula, masks, trach collar/mask, Noninvasive ventilation device
A99: 3.8.3 | B99: Bag-mask ventilation
A100: 3.8.4 | B100: Suctioning (Oral & Nasopharyngeal)
A101: 3.8.5 | B101: Detacheable neck skin with underlying tracheostomy tube for insertion site
... A115: 3.10.3 | B115: Optional multi-venous IV training arm with capability of IV cannulation placement, fluid administration and venipuncture
A116: 4 | B116: Additional Requirements:
B117: Appropriate hardware and software to support the following simulation functions:
A118: 4.1 | B118: Communication:
A119: 4.1.1 | B119: Pre-recorded vocal sounds, including but not limited to:
A120: 4.1.1.1 | B120: Cough
A121: 4.1.1.2 | B121: Moan
A122: 4.1.1.3 | B122: Vomit
A123: 4.1.1.4 | B123: Shortness of breath
A124: 4.1.1.5 | B124: Breathing (continuous sound)
A125: 4.1.1.6 | B125: Scream, “Yes”, ­“No”
A126: 4.2 | B126: Eyes:
A127: 4.2.1 | B127: Blinking eyes with adjustable blink rate
A128: 4.2.2 | B128: Ability to open, close or partially close
A129: 4.2.3 | B129: Interchangeable pupils(normal, dilated, constricted) or automatic light reactive pupils
A130: 4.3 | B130: Breathing/ Respirations:
... A170: 5.1 | B170: The manikin operating system and virtual patient monitor must be supported by an appropriate current operating software program
A171: 6 | B171: Gender and Cultural Features:
A172: 6.1 | B172: Applicable cultural sensitive skin tones (Light, Tan, and Brown)
A173: 7. | B173: Consumable Parts Supplied with System On Delivery:
A174: 7.1 | B174: Replacement on anatomical parts and structures
A175: 7.2 | B175: Replaceable skin and infusible vein system
A176: 7.3 | B176: Stomach Reservoir Bag
A177: 7.4 | B177: Bladder Reservoir Bag
...
