Workbook

Sheet P&Gs
A1: Item | B1: Payment | C1: Description | H1: Unit | I1: Qty | J1: Rate | K1: Amount
B2: Reference | J2: (R) | K2: (R)
B4: SABS | C4: SCHEDULE NO. 1
B5: 1200 A | C5: PRELIMINARY AND GENERAL
B6: PSA
B7: PSAB
A8: 1.1 | C8: SCHEDULE: 1.1 - FIXED-CHARGE ITEMS
A10: 1.1.1 | B10: 8.3.1 | C10: Contractual Requirements | H10: sum | I10: 1 | K10: =I10*J10 -> 0
C12: Establishment of Facilities on Site
A14: 1.1.2 | B14: 8.3.2 | C14: .1 | D14: Facilities for the Engineer/Employer
B16: PSAB1 | D16: (a) | E16: Nameboard | H16: no | I16: 2 | K16: =I16*J16 -> 0
A18: 1.1.3 | B18: 8.3.2 | C18: .2 | D18: Facilities for the Contractor
B19: PSA2
D20: (a) | E20: Offices and storage sheds | H20: sum | I20: 1 | K20: =I20*J20 -> 0
D21: (b) | E21: Workshops | H21: sum | I21: 1 | K21: =I21*J21 -> 0
D22: (c) | E22: Laboratories | H22: sum | I22: 1 | K22: =I22*J22 -> 0
D23: (d) | E23: Living accommodation | H23: sum | I23: 1 | K23: =I23*J23 -> 0
D24: (e) | E24: Ablution and latrine facilities | H24: sum | I24: 1 | K24: =I24*J24 -> 0
D25: (f) | E25: Tools and equipment | H25: sum | I25: 1 | K25: =I25*J25 -> 0
D26: (g) | E26: Water supplies, power and communications | H26: sum | I26: 1 | K26: =I26*J26 -> 0
D27: (h) | E27: Dealing with water (Sub-clause 5.5) | H27: sum | I27: 1 | K27: =I27*J27 -> 0
D28: (i) | E28: Access (Sub-clause 5.8) | H28: sum | I28: 1 | K28: =I28*J28 -> 0
D29: (j) | E29: Plant | H29: sum | I29: 1 | K29: =I29*J29 -> 0
A31: 1.1.4 | B31: 8.3.3 | C31: Other fixed-charge obligations | H31: sum | I31: 1 | K31: =I31*J31 -> 0
A33: 1.1.5 | B33: 8.3.4 | C33: Removal of Contractor's and Engineers site
C34: establishment on completion | H34: sum | I34: 1 | K34: =I34*J34 -> 0
A36: 1.1.6 | B36: PSA5 | C36: .3 | D36: Other General Fixed-Charge Items
B38: PSA5.1 | D38: (a) | E38: LEP Plan
B39: 8.3.5.1 | E39: Provision of a suitable Local Economic
E40: Participation Plan | H40: sum | I40: 1 | K40: =I40*J40 -> 0
B42: PSA5.2 | D42: (b) | E42: Benchmarks
B43: 8.3.5.2 | E43: Installation of all benchmarks shown on the
E44: drawings | H44: sum | I44: 1 | K44: =I44*J44 -> 0
B46: PSA5.3 | D46: (c) | E46: Occupational Health and Safety
B47: 8.3.5.3 | E47: compliance with Occupational Health and
E48: Safety Act (Act 85 of 1993) and its regulations
E49: and with the Employers Health and Safety
E50: Specification | H50: sum | I50: 1 | K50: =I50*J50 -> 0
B52: PSA 5.4 | D52: (d) | E52: Environmental Management
B53: 8.3.5.4 | E53: Compliance with record of decision and EMP | H53: sum | I53: 1 | K53: =I53*J53 -> 0
...

Sheet Dayworks 
A1: Item | B1: Payment | C1: Description | H1: Unit | I1: Qty | J1: Rate | K1: Amount
B2: Reference | J2: (R) | K2: (R)
A3: 2 | B3: SABS | C3: SCHEDULE NO. 2
B4: 1200 A | C4: DAYWORKS
A5: 2.1 | C5: DAYWORKS AND TEMPORARY WORKS
B6: 8.7 | C6: DAYWORKS
C8: Note:
C9: Dayworks executed on instruction of the Engineer
C10: /Employer only
C12: LABOUR
A14: 2.1.1 | B14: 8.7.1 | C14: (a) | D14: Skilled | H14: hr | I14: 50 | K14: =I14*J14 -> 0
C15: (b) | D15: Semi-skilled | H15: hr | I15: 100 | K15: =I15*J15 -> 0
C16: (c) | D16: Un-skilled | H16: hr | I16: 200 | K16: =I16*J16 -> 0
C18: PLANTHIRE (WORK RATES ON SITE)
A20: 2.1.2 | C20: TRUCKS
B22: 8.7.2 | C22: .1 | D22: Tipper trucks (specify capacity)
D23: (a) | E23: Capacity_____m³ (small) | H23: hr | I23: 20 | K23: =I23*J23 -> 0
D24: (b) | E24: Capacity_____m³ (medium) | H24: hr | I24: 20 | K24: =I24*J24 -> 0
D25: (c) | E25: Capacity_____m³ (large) | H25: hr | I25: 20 | K25: =I25*J25 -> 0
B27: 8.7.2 | C27: .3 | D27: Flatbed trucks (specify capacity)
D28: (a) | E28: Capacity_____m³ (small) | H28: hr | I28: 20 | K28: =I28*J28 -> 0
D29: (b) | E29: Capacity_____m³ (medium) | H29: hr | I29: 20 | K29: =I29*J29 -> 0
D30: (c) | E30: Capacity_____m³ (large) | H30: hr | I30: 20 | K30: =I30*J30 -> 0
C32: LDV'S
A34: 2.1.3 | B34: 8.7.2 | C34: .4 | D34: LDV (specify size)
D35: (a) | E35: LDV_____ton | H35: km | I35: 500 | K35: =I35*J35 -> 0
C37: WATER TANKERS
A39: 2.1.4 | B39: 8.7.2 | C39: .5 | D39: Water tankers (specify capacity)
D40: (a) | E40: Capacity______liter (small, towable) | H40: hr | I40: 20 | K40: =I40*J40 -> 0
D41: (b) | E41: Capacity______liter (medium) | H41: hr | I41: 20 | K41: =I41*J41 -> 0
D42: (c) | E42: Capacity______liter (large) | H42: hr | I42: 20 | K42: =I42*J42 -> 0
C44: LOADERS
A46: 2.1.5 | B46: 8.7.2 | C46: .6 | D46: Wheel loaders (specify capacity)
D47: (a) | E47: Capacity_____m³ (small) | H47: hr | I47: 20 | K47: =I47*J47 -> 0
D48: (b) | E48: Capacity_____m³ (medium) | H48: hr | I48: 20 | K48: =I48*J48 -> 0
D49: (c) | E49: Capacity_____m³ (large) | H49: hr | I49: 20 | K49: =I49*J49 -> 0
C51: GRADERS
A53: 2.1.6 | B53: 8.7.2 | C53: .7 | D53: Motor graders (specify model/kw)
D54: (a) | E54: Model _______/_____kw | H54: hr | I54: 20 | K54: =I54*J54 -> 0
C56: EXCAVATORS
...

Sheet Site Clearing
A3: ITEM | B3: SPEC | C3: DESCRIPTION | D3: UNIT | E3: QTY | F3: RATE | G3: AMOUNT
C6: SECTION C : SITE CLEARING
C7: SABS 1200 C
A9: C1 | B9: 8.2 | C9: CLEAR SITE
A11: C1.1 | B11: 8.2.1 (LI) | C11: Clear and grub all unsuitable material and dispose away from site to place designated by the Engineer | D11: ha | E11: 1.5 | G11: =F11*E11 -> 0
A13: C1.2 | B13: 8.2.2 (LI) | C13: Remove and grub large trees and tree stumps
C14: of girth
C16: a. Over 1 m up to and including 2 m | D16: No | E16: 1 | G16: =F16*E16 -> 0
C18: b. Over 2 m up to and including 3 m | D18: No | E18: 1 | G18: =F18*E18 -> 0
C20: c. Over 3 m up to and including 4 m | D20: No | E20: 1 | G20: =F20*E20 -> 0
A22: C1.3 | B22: 8.2.4 | C22: Reclear surfaces (only on instructions o Engineer) | D22: ha | E22: 0.5 | G22: =F22*E22 -> 0
A24: C1.4 | B24: 8.2.5 (LI) | C24: Take down existing fences | D24: m | E24: 0 | G24: =F24*E24 -> 0
A26: C1.5 | B26: 8.2.6 | C26: Transport materials and debris to unspecified
C27: and dispose (freehaul distance of 2 km) | D27: m3km | E27: 2000 | G27: =F27*E27 -> 0
A29: C1.6 | B29: 8.2.10 | C29: Remove topsoil to nominal depth of 150 mm
C30: and stockpile | D30: m3 | E30: =15000*0.15 -> 2250 | G30: =F30*E30 -> 0
C49: TOTAL CARRIED TO SUMMARY FOR SECTION C | G49: =SUM(G11:G30) -> 0

Sheet Bulk Earthworks
A2: ITEM | B2: SPEC | C2: DESCRIPTION | D2: UNIT | E2: QTY | F2: RATE | G2: AMOUNT
C5: SECTION D : BULK EARTHWORKS
C6: SABS 1200 D
A8: C2 | B8: 8.3 | C8: BULK EARTHWORKS
A10: C2.1 | B10: 8.3.1 | C10: Bulk Excavation
C12: a. Excavate in all materials and use for embank-
C13: ment or backfill or dispose, as ordered | D13: m3 | E13: =10000*0.4 -> 4000 | G13: =F13*E13 -> 0
C15: b. Extra - Over Item D1.1.a for
C17: i. Hard Rock Excavation | D17: m3 | E17: 50 | G17: =F17*E17 -> 0
C19: ii. Boulder Excavation Class A | D19: m3 | E19: 5 | G19: =F19*E19 -> 0
C21: iii. Boulder Excavation Class B | D21: m3 | E21: 5 | G21: =F21*E21 -> 0
A23: C2.2 | B23: 8.3.4 | C23: Importing of Materials
C25: a) Material (Dump rock 150 mm to 250 mm) in compacted layer
C26: thicknesses of 500 mm and less:
C28: (i) Compacted to 90% of modified AASHTO density | D28: m3 | E28: =4265*0.3 -> 1279.5 | G28: =F28*E28 -> 0
C31: c. Dealing with overburden | D31: m3 | E31: 50 | G31: =F31*E31 -> 0
A33: C2.3 | B33: 8.3.6 | C33: Overhaul
C35: a. Limited overhaul ( freehaul of 2 km ) | D35: m3 | E35: 1500 | G35: =F35*E35 -> 0
C37: b. Long overhaul | D37: m3km | E37: 500 | G37: =F37*E37 -> 0
A39: C2.4 | B39: 8.3.8 (LI) | C39: Existing Services
C41: a. Excavate by hand to expose existing services | D41: m3 | E41: 15 | G41: =F41*E41 -> 0
C50: TOTAL CARRIED TO SUMMARY FOR SECTION C2 | G50: =SUM(G8:G44) -> 0

Sheet Earthworks (pipe trenches)
A2: ITEM | B2: SPEC | C2: DESCRIPTION | D2: UNIT | E2: QTY | F2: RATE | G2: AMOUNT
A4: 0
C5: SECTION DB : EARTHWORKS ( PIPE TRENCHES )
C6: SABS 1200 DB
A8: DB1 | B8: 8.3 | C8: EXCAVATION
A10: DB1.1 | B10: 8.3.2 | C10: Trench Excavation
C12: a. Excavate in all materials, backfill, compact
C13: and dispose of surplus material
B15: (LI) | C15: i. For 75 mm dia uPVC pressure pipe SABS approved | D15: m | E15: 0 | G15: =F15*E15 -> 0
B17: (LI) | C17: ii. For 50 mm dia HDPE pipes SABS approved | D17: m | E17: 230 | G17: =F17*E17 -> 0
B19: (LI) | C19: iii. For 110 mm dia sewer pipe SABS approved | D19: m | E19: 152 | G19: =F19*E19 -> 0
C21: b. Extra Over Item DB1.1.a above for
C23: i. Intermediate Excavation | D23: m3 | E23: 60 | G23: =F23*E23 -> 0
C25: ii. Hard rock Excavation | D25: m3 | E25: 10 | G25: =F25*E25 -> 0
C27: c. Excavate and dispose of unsuitable material
C28: from trench bottom | D28: m3 | E28: 165 | G28: =F28*E28 -> 0
A30: DB1.2 | B30: 8.3.3 | C30: Excavation Ancillaries
C32: Make up deficiency in backfill material
C34: a. From other necessary excavations on site | D34: m3 | E34: 80 | G34: =F34*E34 -> 0
C36: b. By importation from designated borrow pits | D36: m3 | E36: 0 | G36: =F36*E36 -> 0
C38: c. By importation from commercial sources | D38: m3 | E38: 60 | G38: =F38*E38 -> 0
A40: DB1.3
A42: DB1.4
C55: TOTAL CARRIED TO SUMMARY FOR SECTION DB
G56: =SUM(G7:G47) -> 0

Sheet Medium pressure pipes
A2: ITEM | B2: SPEC | C2: DESCRIPTION | D2: UNIT | E2: QTY | F2: RATE | G2: AMOUNT
C5: SECTION L : MEDIUM PRESSURE PIPELINES
C6: SABS 1200 L
A8: L1 | B8: 8.2.1 | C8: PIPELINES
A10: L1.1 | B10: 8.2.1 | C10: Supply, lay and bed pipelines complete with
C11: couplings
B13: (LI) | C13: a. 90 mm dia uPvc Class 09 SABS approved | D13: m | E13: ='Earthworks (pipe trenches)'!E15 -> 0 | G13: =F13*E13 -> 0
B15: (LI) | C15: b. 50 mm dia HDPE SABS approved | D15: m | E15: ='Earthworks (pipe trenches)'!E17 -> 230 | G15: =F15*E15 -> 0 | H15: =E15+E18 -> 382
B18: (LI) | C18: C. 100 mm dia uPVC for Sewer pipe SABS approved | D18: m | E18: ='Earthworks (pipe trenches)'!E19 -> 152 | G18: =F18*E18 -> 0
A20: L1.2 | B20: 8.2.2 | C20: Extra Over for the supplying , laying and bedding
C21: of specials complete with couplings
B23: (LI) | C23: a. 50 dia 90 deg. Bend | D23: No | E23: 6 | G23: =F23*E23 -> 0
B25: (LI) | C25: a. 50 dia 45 deg. Bend | D25: No | E25: 4 | G25: =F25*E25 -> 0
B27: (LI) | C27: c. 50 dia Flange Adaptor SABS approved | D27: No | E27: 6 | G27: =F27*E27 -> 0
A29: L1.3 | B29: 8.2.3 | C29: Extra Over for the supplying , fixing , and bedding of
C30: valves and watermeters
B32: (LI) | C32: a. 80 mm dia AVK flanged gate valve(Class 16) SABS approved | D32: No | E32: 3 | G32: =F32*E32 -> 0
B34: (LI) | C34: b. 80 mm dia flanged Meinecke Cosmos strainer SABS approved | D34: No | E34: 1 | G34: =F34*E34 -> 0
B36: (LI) | C36: c. 80 mm dia flanged Meinecke Cosmos meter SABS approved | D36: No | E36: 1 | G36: =F36*E36 -> 0
B38: (LI) | C38: d. Standpipes | D38: No | E38: 5 | G38: =F38*E38 -> 0
A41: L2 | B41: 8.2.13 | C41: VALVE AND HYDRANT CHAMBERS
B43: (LI) | C43: a. Additional Excavation | D43: m3 | E43: 8 | G43: =F43*E43 -> 0
B45: (LI) | C45: b. Smooth formwork walls , floor and roof | D45: m2 | E45: 55 | G45: =F45*E45 -> 0
B47: (LI) | C47: c. 25Mpa/ 19 mm concrete in walls floor & roof | D47: m3 | E47: 3 | G47: =F47*E47 -> 0
B49: (LI) | C49: d. 600 dia CI Manhole cover and frame - lockable SABS approved | D49: No | E49: 2 | G49: =F49*E49 -> 0
C52: TOTAL CARRIED TO SUMMARY FOR SECTION L
G53: =SUM(G6:G50) -> 0

Sheet Bedding Pipes
A2: ITEM | B2: SPEC | C2: DESCRIPTION | D2: UNIT | E2: QTY | F2: RATE | G2: AMOUNT
C5: SECTION LB : BEDDING ( PIPES )
C6: SABS 1200 LB
A8: LB1 | C8: BEDDING MATERIALS
A10: LB1.1 | B10: 8.2.1 | C10: Provision of bedding from trench excavations
B12: (LI) | C12: a. Selected granular material | D12: m3 | E12: ='Medium pressure pipes'!H15*1*0.45 -> 171.9 | G12: =F12*E12 -> 0
B14: (LI) | C14: b. Selected fill material | D14: m3 | E14: 50 | G14: =F14*E14 -> 0
A16: LB1.2 | C16: Supply only of bedding material by importation
C18: 1. From other necessary excavations on site
C20: a. Selected granular material | D20: m3 | E20: 20 | G20: =F20*E20 -> 0
C22: b. Selected fill material | D22: m3 | E22: 20 | G22: =F22*E22 -> 0
C24: 2. From Borrow pits
C26: a. Selected granular material | D26: m3 | E26: 60 | G26: =F26*E26 -> 0
C28: b. Selected fill material | D28: m3 | E28: 20 | G28: =F28*E28 -> 0
A30: DM1.3 | B30: 8.3.5 | C30: 3. From commercial souces
C32: a. Selected granular material | D32: m3 | E32: 12 | G32: =F32*E32 -> 0
C34: b. Selected fill material | D34: m3 | E34: 12 | G34: =F34*E34 -> 0
C50: TOTAL CARRIED TO SUMMARY FOR SECTION LB
G51: =SUM(G6:G35) -> 0

Sheet Combi Court
A2: ITEM | B2: SPEC | C2: DESCRIPTION | D2: UNIT | E2: QTY | F2: RATE | G2: AMOUNT
C5: SECTION B1 : COMBI COURT
A8: B1 | C8: COMBI COURT
A10: B1.1 | C10: Excavate top soil and use for embank-
C11: ment or backfill or dispose, as ordered (max, depth 100mm) | D11: m3 | E11: =15.25*30.5*0.1*1.2 -> 55.815 | G11: =F11*E11 -> 0
A13: B1.2 | C13: Rip and compact to 93 % MODAASHTO 150 mm th. | D13: m3 | E13: =15.25*30.5*0.1 -> 46.5125 | G13: =F13*E13 -> 0
A15: B1.3 | C15: Import and compact to 95 % MODAASHTO speci-
C16: fied gravel in layers not to exceed 75 mm | D16: m3 | E16: =15.25*30.5*0.1 -> 46.5125 | G16: =F16*E16 -> 0
A18: B1.4 | C18: 75mm 25Mpa with mesh ref 193 | D18: m3 | E18: =15*30.5*0.075 -> 34.3125 | G18: =F18*E18 -> 0
A21: B1.6 | B21: (LI) | C21: Provisional Sum for surfacing by Specialist Subcontr. | D21: P.Sum | E21: 1 | G21: =F21*E21 -> 0
A23: B1.7 | B23: (LI) | C23: Provisional Sum for painting by Specialist Subcontr. | D23: P.Sum | E23: 1 | G23: =F23*E23 -> 0
A25: B1.8 | B25: (LI) | C25: Provisional Sum for fencing by Specialist Subcontr. | D25: P.Sum | E25: 1 | G25: =F25*E25 -> 0
A27: B1.9 | C27: Attendance and profit on items B1.6,B1.7,B1.8 | D27: % | E27: =+F21+F23+F25 -> 0 | F27: 0.05 | G27: =F27*E27 -> 0
B29: PSHA | C29: GOALPOSTS
B31: (LI) | C31: Supply, transport and install goalposts as specified
C32: as indicated on drawings complete with nets and aligned to the pitch | D32: No | E32: 2 | G32: =F32*E32 -> 0
C48: TOTAL CARRIED TO SUMMARY FOR SECTION B1 COMBI COURT
G49: =SUM(G10:G33) -> 0

Sheet SOCCER FIELD
A2: ITEM | B2: SPEC | C2: DESCRIPTION | D2: UNIT | E2: QTY | F2: RATE | G2: AMOUNT
C5: SECTION B2 : SOCCER FIELD CONSTRUCTION
A8: B2 | C8: SOCCER FIELD CONSTRUCTION
A10: B2,1 | B10: a | C10: Excavate in all materials and use material for formation of
C11: embankment or for backfilling | D11: m3 | E11: =4265*0.1 -> 426.5 | G11: =F11*E11 -> 0
B13: b | C13: Excavation for drainage around soccer pitch | D13: m3 | E13: 77.8 | G13: =F13*E13 -> 0
B16: c | C16: Pavement layers constructed from gravel sourced from a commercial source (a) and (b)
C17: (a) Gravel Sub Base layer G7 compacted to:
C18: (i) 93% of modified AASHTO density for a compacted layer thickness of 150 mm | D18: m3 | E18: =4265*0.15 -> 639.75 | G18: =F18*E18 -> 0
A20: B2,3 | B20: d | C20: Supply and Install Weed barrier | D20: m² | E20: 426.5 | G20: =F20*E20 -> 0
A22: B2,4 | B22: e | C22: Import crused stone lay and compact in including levelling, | D22: m3 | E22: =4265*0.15 -> 639.75 | G22: =F22*E22 -> 0
A24: B2,5 | B24: f | C24: To supply and install Slide Max Pro 50 GreenFields Synthetic Turf system with a yarn weight of 1311 gr/sqm and comprises of a diamond shaped 365 micron yarn. This system complies with FIFA Quality requirements if tested. This includes installation of all line markings, glue, glue tape as well as FIFA required rubber infill. 7 Year Warranty (Fiel dimensions 4265m2 includes run-offs) | D24: P.Sum | E24: 1 | G24: =F24*E24 -> 0
A26: B7,5 | B26: PSHA | C26: GOALPOSTS
B28: (LI) | C28: Supply, transport and install goalposts as specified
C29: as indicated on drawings complete with nets and aligned to the pitch | D29: No | E29: 2 | G29: =F29*E29 -> 0
C53: TOTAL CARRIED TO SUMMARY FOR SECTION B3 (SOCCER FIELD)
G54: =SUM(G8:G30) -> 0

Sheet GAURDHOUSE
A1: Item | B1: Payment | C1: Description | H1: Unit | I1: Qty | J1: Rate | K1: Amount
B2: Reference | J2: (R) | K2: (R)
A3: 4 | B3: SANS | C3: SCHEDULE NO. B4
B4: 1200 D | C4: GUARDHOUSE
A5: 4.1 | C5: EARTHWORKS
A7: 4.1.1 | B7: 8.3.1.2 | C7: Remove topsoil to nominal depth of 150 mm and | H7: m² | I7: 40 | K7: =I7*J7 -> 0
C8: stockpile
A10: 4.1.2 | B10: 8.3.2 | C10: Bulk excavation
C11: a) | D11: Excavation in all materials and use for backfill or
D12: embankment or dispose, as ordered within a
D13: freehaul distance of 0,5 km | H13: m³ | I13: 40 | K13: =I13*J13 -> 0
C15: b) | D15: Extra-over 8.3.2 a) for:
D17: Hard rock excavation
D18: (Provisional Item) | H18: m³ | I18: =I13*0.1 -> 4 | K18: =I18*J18 -> 0
A20: 4.1.3 | B20: 8.3.3 | C20: Restricted excavation
C22: a) | D22: Excavate in all materials and use for backfill,
D23: embankments or dispose | H23: m³ | I23: 9 | K23: =I23*J23 -> 0
C25: b) | D25: Extra-over 8.3.3 a) for:
D27: Hard rock excavation | H27: m³ | I27: 1 | K27: =I27*J27 -> 0
A29: 4.1.4 | B29: 8.3.4 | C29: Acquire suitable gravel material for soil raft (G6) from
C30: commercial source or borrow pit. The rate to include
C31: for acquiring suitable material, excavation handling
C32: and transportation regardless of distance, placing and
C33: compaction to 95% mod. AASHTO density in maximum
C34: layers of 150mm after compaction.
C35: The material must conform to the following requirements
C37: - | D37: Maximum PI : | G37: 0.1
C38: - | D38: Minimum GM: | G38: 1,2
C39: - | D39: Minimum CBR at 93% mod. AASHTO
D40: density: | F40: 15 | H40: m³ | I40: 40 | K40: =I40*J40 -> 0
A42: 4.1.5 | B42: 8.3.8 | C42: Existing services
B44: 8.3.8.1 | C44: c) | D44: Excavate by hand in soft material to expose | H44: m³ | I44: 1 | K44: =I44*J44 -> 0
D45: existing services
L68: =SUM(K7:K68) -> 0
A69: TOTAL CARRIED FORWARD | K69: =SUM(K7:K68) -> 0
B70: TOTAL BROUGHT FORWARD | K70: =K69 -> 0
A71: 4.2 | C71: EARTHWORKS (PIPE TRENCHES)
B72: SANS
B73: 1200 DB
B74: PSDB
...

Sheet Ablutions and Changerooms
A1: Item | B1: Payment | C1: Description | H1: Unit | I1: Qty | J1: Rate | K1: Amount
B2: Reference | J2: (R) | K2: (R)
A3: 3 | B3: SANS | C3: SCHEDULE NO. B5
B4: 1200 D | C4: GRANDSTAND AND ABULSION BLOCK
A5: 3.1 | C5: EARTHWORKS
A7: 3.1.1 | B7: 8.3.1.2 | C7: Remove topsoil to nominal depth of 150 mm and | H7: m² | I7: 555 | K7: =I7*J7 -> 0
C8: stockpile
A10: 3.1.2 | B10: 8.3.2 | C10: Bulk excavation
C11: a) | D11: Excavation in all materials and use for backfill or
D12: embankment or dispose, as ordered within a
D13: freehaul distance of 0,5 km | H13: m³ | I13: =I7*(0.51+0.45) -> 532.8 | K13: =I13*J13 -> 0
C15: b) | D15: Extra-over 8.3.2 a) for:
D17: Hard rock excavation
D18: (Provisional Item) | H18: m³ | I18: =I13*0.1 -> 53.28 | K18: =I18*J18 -> 0
A20: 3.1.3 | B20: 8.3.3 | C20: Restricted excavation
C22: a) | D22: Excavate in all materials and use for backfill,
D23: embankments or dispose | H23: m³ | I23: 150 | K23: =I23*J23 -> 0
C25: b) | D25: Extra-over 8.3.3 a) for:
D27: Hard rock excavation | H27: m³ | I27: 3 | K27: =I27*J27 -> 0
A29: 3.1.4 | B29: 8.3.4 | C29: Acquire suitable gravel material for soil raft (G6) from
C30: commercial source or borrow pit. The rate to include
C31: for acquiring suitable material, excavation handling
C32: and transportation regardless of distance, placing and
C33: compaction to 95% mod. AASHTO density in maximum
C34: layers of 150mm after compaction.
C35: The material must conform to the following requirements
C37: - | D37: Maximum PI : | G37: 0.1
C38: - | D38: Minimum GM: | G38: 1,2
C39: - | D39: Minimum CBR at 93% mod. AASHTO
D40: density: | F40: 15 | H40: m³ | I40: 600 | K40: =I40*J40 -> 0
A42: 3.1.5 | B42: 8.3.8 | C42: Existing services
B44: 8.3.8.1 | C44: c) | D44: Excavate by hand in soft material to expose | H44: m³ | I44: 15 | K44: =I44*J44 -> 0
D45: existing services
A69: TOTAL CARRIED FORWARD | K69: =SUM(K7:K68) -> 0
B70: TOTAL BROUGHT FORWARD | K70: =K69 -> 0
A71: 3.2 | C71: EARTHWORKS (PIPE TRENCHES)
B72: SANS
B73: 1200 DB
B74: PSDB
A75: 3.2.1 | B75: 8.3.2 | C75: Excavate in all material for trenches, backfill, compact
...

Sheet EXTERNAL WORKS
A2: ITEM | B2: SPEC | C2: DESCRIPTION | D2: UNIT | E2: QTY | F2: RATE | G2: AMOUNT
C5: SECTION B6: EXTERNAL WORKS
A8: B1 | C8: CLEARVIEW FENCE
A10: B1.1 | C10: Installation of 1,8m Clearview fence complete | D10: m | E10: 500 | G10: =F10*E10 -> 0
C12: Supply and Install pedestrian gate | D12: No | E12: 1 | G12: =E12*F12 -> 0
C14: Supply and Install 5m wide gate | D14: No | E14: 1 | G14: =F14*E14 -> 0
C17: WATER TANKS
C19: Supply and Install 10 000l Jojo Tanks on 5m Tank Stands Complete | D19: No | E19: 2 | G19: =F19*E19 -> 0
C23: FLOOD LIGHTS
C24: Supply and install Flood lights (1000w) complete with pole and electrical connections | D24: no | E24: 4 | G24: =F24*E24 -> 0
C27: SPORTS EQUIPMENT AND POSTS
C29: Provisional Sum for aquiring sports equipment, nets, gaol posts as per engineers instruction | D29: Sum | E29: 1 | G29: =F29*E29 -> 0
C51: TOTAL CARRIED TO SUMMARY FOR SECTION B1 (TENNIS)
G52: =SUM(G10:G33) -> 0

Sheet summary
A3: SUMMARY OF SCHEDULE OF QUANTITIES
A5: ITEM | B5: DESCRIPTION | I5: TOTAL BILLED
A6: A1 | B6: Preliminary and General | I6: ='P&Gs'!K107 -> 0
A8: A2 | B8: Day Works and Provisional Sums | I8: ='Dayworks '!K259 -> 209000
A10: C1 | B10: Site Clearance | I10: ='Site Clearing'!G49 -> 0
A12: C2 | B12: Bulk Earthworks | I12: ='Bulk Earthworks'!G50 -> 0
A14: DB | B14: Earthworks ( Pipe Trenches) | I14: ='Earthworks (pipe trenches)'!G56 -> 0
A16: L | B16: Medium Pressure Pipelines | I16: ='Medium pressure pipes'!G53 -> 0
A18: LB | B18: Bedding Materials | I18: ='Bedding Pipes'!G51 -> 0
A20: B1 | B20: Combi Court No 1 | I20: ='Combi Court'!G49 -> 0
A22: B2 | B22: Soccer Field | I22: ='SOCCER FIELD'!G54 -> 0
A24: B4 | B24: Guard House | I24: =GAURDHOUSE!K743 -> 0
A25: B5 | B25: Ablutions and Changerooms | I25: ='Ablutions and Changerooms'!K1008 -> 0
A27: B6 | B27: External Works | I27: ='EXTERNAL WORKS'!G52 -> 0
A28: TOTAL SCHEDULE OF QUANTITIES | I28: =SUM(I6:J27) -> 209000
A29: ADD 5% CONTINGENCIES | I29: =I28*0.05 -> 10450
A30: SUB-TOTAL | I30: =I28+I29 -> 219450
A31: ADD 15% VAT | I31: =I30*0.15 -> 32917.5
A32: GRAND-TOTAL | I32: =I31+I30 -> 252367.5
