Workbook
Name _Hlk143960454: 'SCHED 1B-1'!#REF!
Name _Hlk143960454: 'SCHED 1B-2'!#REF!
Name _Hlk143960454: 'SCHED 1B-3'!#REF!
Name _Hlk143960454: 'SCHED 1B-4'!#REF!
Name _Hlk143960454: 'SCHED 1B-5'!#REF!
Name _Hlk143960454: 'SCHED 1B-6'!#REF!

Sheet COMBINED FINAL-SUMMARY
B2: SCHEDULE MAINTENANCE OF GENERATORS AT CLUSTER ONE (1) – OR TAMBO AND ALFRED NZO DISTRICT – HEALTH FACILITIES (36 MONTHS)
B4: CONTRACT REF NO | D4: SCMU3-23/24-0740-HO | E4: Cluster/District: | F4: OR TAMBO DISTRICT & ALFRED NZO
B6: ASSET TYPE | D6: STANDBY GENERATORS
B8: SCHEDULE NUMBER | C8: DESCRIPTION | F8: TENDER AMOUNT
B10: 1B-1 | C10: OR TAMBO & ALFRED NZO - | D10: ='SCHED 1B-1'!D6 -> FIXED CHARGE AND VALUE RELATED ITEMS APPLICABLE TO ALL WORK
B12: 1B-2 | C12: OR TAMBO & ALFRED NZO - | D12: ='SCHED 1B-2'!D6 -> FIXED CHARGE AND VALUE RELATED ITEMS APPLICABLE TO ALL WORK (continued)
B14: 1B-3 | C14: OR TAMBO & ALFRED NZO - | D14: ='SCHED 1B-4'!D6 -> FIXED CHARGE AND VALUE RELATED ITEMS APPLICABLE TO ALL WORK (continued)
B16: 1B-4 | C16: OR TAMBO & ALFRED NZO - | D16: ='SCHED 1B-5'!D6 -> FIXED CHARGE AND VALUE RELATED ITEMS APPLICABLE TO ALL WORK (continued)
B18: 1B-5 | C18: OR TAMBO & ALFRED NZO - | D18: ='SCHED 1B-6'!D6 -> FIXED CHARGE AND VALUE RELATED ITEMS APPLICABLE TO ALL WORK
B20: 1B-6 | C20: OR TAMBO & ALFRED NZO - FIXED CHARGE AND VALUE RELATED ITEMS APPLICABLE TO ALL WORK (continued)
B22: 2B-1 | C22: OR TAMBO & ALFRED NZO - | D22: ='SCHED 2B-1'!D6 -> FUNCTIONAL REPAIR SCHEDULE
B24: 2B-2 | C24: OR TAMBO & ALFRED NZO - | D24: ='SCHED 2B-2'!D6 -> FUNCTIONAL REPAIR SCHEDULE (continued)
B26: 2B-3 | C26: OR TAMBO & ALFRED NZO - | D26: ='SCHED 2B-3'!D6 -> FUNCTIONAL REPAIR SCHEDULE (continued)
B28: 2B-4 | C28: OR TAMBO & ALFRED NZO - | D28: ='SCHED 2B-4'!D6 -> FUNCTIONAL REPAIR SCHEDULE
B30: 3B | C30: OR TAMBO & ALFRED NZO - | D30: ='SCHEDULE 3B'!D6 -> MAINTENANCE SERVICE SCHEDULE
B32: 4 | C32: ='SCHEDULE 4'!D6 -> TERM REPAIRS SUBJECT TO APPROVAL OF QUOTATION OF THE WORKS
B34: 5 | C34: ='SCHEDULE 5'!D6 -> ROAMING GENERATORS AND GENERATOR HIRE
B36: 6 | C36: Add contingencies (10%)
B38: SUBTOTAL AMOUNT OF WORKS (EXCL VAT)
B39: ALLOWANCE FOR VAT AT 15%
B40: TOTAL AMOUNT OF WORKS (INCL VAT) ENTER THIS AMOUNT FORM OF OFFER

Sheet SCHED 1B-1
B2: SCHEDULE MAINTENANCE OF GENERATORS AT CLUSTER ONE (1) – OR TAMBO AND ALFRED NZO DISTRICT – HEALTH FACILITIES (36 MONTHS)
B3: CONTRACT REF. NO: | D3: ='COMBINED FINAL-SUMMARY'!D4 -> SCMU3-23/24-0740-HO | E3: Cluster/District: | G3: OR TAMBO & ALFRED NZO DISTRICT
B4: ASSET TYPE: | D4: STANDBY GENERATORS | G4: Cluster 1
B6: SCHEDULE 1B-1 : | D6: FIXED CHARGE AND VALUE RELATED ITEMS APPLICABLE TO ALL WORK
B8: ITEM Nr. | C8: PAYMENT REFERS | D8: DESCRIPTION | E8: UNIT | F8: QTY: (A) | G8: RATE: (B) | H8: AMOUNT: (A*B)
B9: 1 | C9: GM 2.5 | D9: VERIFICATION OF ASSETS ON SITE : Verify assets on site vs Asset Register (C4.1), and compile plant layout line drawings as per GM 2.5 (1) and (2).
B10: 1.1 | D10: Zwelichumile Clinic | E10: Item | F10: 1
B11: 1.2 | D11: Phakamile Clinic | E11: Item | F11: 1
B12: 1.3 | D12: Qunu Clinic | E12: Item | F12: 1
B13: 1.4 | D13: Mbekweni CHC | E13: Item | F13: 1
B14: 1.5 | D14: Mpunzana Clinic | E14: Item | F14: 1
B15: 1.6 | D15: Gengqe Clinic | E15: Item | F15: 1
B16: 1.7 | D16: Hlabatshane Clinic | E16: Item | F16: 1
B17: 1.8 | D17: Ngcengane Clinic | E17: Item | F17: 1
B18: 1.9 | D18: Mthatha Gateway Clinic | E18: Item | F18: 1
B19: 1.10 | D19: Mthatha Gateway Clinic | E19: Item | F19: 1
B20: 1.11 | D20: Mthatha General Hospital | E20: Item | F20: 1
B21: 1.12 | D21: Mthatha General Hospital | E21: Item | F21: 1
... B53: 1.44 | D53: Ncambele Clinic | E53: Item | F53: 1
B54: =1.45 -> 1.45 | D54: Pilani Clinic | E54: Item | F54: 1
B55: =B54+0.01 -> 1.46 | D55: Double Falls Clinic | E55: Item | F55: 1
B56: TOTAL CARRIED TO THE NEXT PAGE
B57: TOTAL FROM PREVIOUS PAGE
B58: =B55+0.01 -> 1.47 | D58: Canzibe Gateway Clinic | E58: Item | F58: 1
B59: =B58+0.01 -> 1.48 | D59: St Barnabas Hospital | E59: Item | F59: 1
B60: =B59+0.01 -> 1.49 | D60: Canzibe Hospital | E60: Item | F60: 1
B61: =B60+0.01 -> 1.5 | D61: Lujizweni Clinic | E61: Item | F61: 1
B62: =B61+0.01 -> 1.51 | D62: Mgwenyane Clinic | E62: Item | F62: 1
B63: =B62+0.01 -> 1.52 | D63: Mtakatye Clinic | E63: Item | F63: 1
B64: =B63+0.01 -> 1.53 | D64: Nkanunu Clinic | E64: Item | F64: 1
B65: =B64+0.01 -> 1.54 | D65: Nkumandeni Clinic | E65: Item | F65: 1
B66: =B65+0.01 -> 1.55 | D66: Nqanda A Clinic | E66: Item | F66: 1
B67: =B66+0.01 -> 1.56 | D67: Old Bunting Clinic | E67: Item | F67: 1
B68: =B67+0.01 -> 1.57 | D68: St Barnabas Hospital | E68: Item | F68: 1
B69: =B68+0.01 -> 1.58 | D69: Ntapane Clinic | E69: Item | F69: 1
B70: =B69+0.01 -> 1.59 | D70: Libode Clinic | E70: Item | F70: 1
... B110: =B109+0.01 -> 1.99 | D110: Mevana Clinic | E110: Item | F110: 1
B111: 1.1 | D111: Kohlo Clinic | E111: Item | F111: 1
B112: =B111+0.001 -> 1.101 | D112: Tombo CHC | E112: Item | F112: 1
B113: =B112+0.001 -> 1.102 | D113: Port St Johns CHC | E113: Item | F113: 1
...

Sheet SCHED 1B-2
B2: SCHEDULE MAINTENANCE OF GENERATORS AT CLUSTER ONE (1) – OR TAMBO AND ALFRED NZO DISTRICT – HEALTH FACILITIES (36 MONTHS)
B3: CONTRACT REF. NO: | D3: SCMU3-23/24-0740-HO | E3: Cluster/District: | G3: OR TAMBO & ALFRED NZO DISTRICT
B4: ASSET TYPE: | D4: STANDBY GENERATORS | G4: Cluster 1
B6: SCHEDULE 1B-2: | D6: FIXED CHARGE AND VALUE RELATED ITEMS APPLICABLE TO ALL WORK (continued)
B8: ITEM Nr. | C8: PAYMENT REFERS | D8: DESCRIPTION | E8: UNIT | F8: QTY: (A) | G8: RATE: (B) | H8: AMOUNT: (A*B)
B9: 2 | C9: GM 2.5 & 3.2 | D9: VERIFICATION OF SPARE PART INVENTORY ON SITE : Find and verify all spares for the asset type that is currently available on site
B10: 2.1 | D10: Zwelichumile Clinic | E10: Item | F10: 1
B11: 2.2 | D11: Phakamile Clinic | E11: Item | F11: 1
B12: 2.3 | D12: Qunu Clinic | E12: Item | F12: 1
B13: 2.4 | D13: Mbekweni CHC | E13: Item | F13: 1
B14: 2.5 | D14: Mpunzana Clinic | E14: Item | F14: 1
B15: 2.6 | D15: Gengqe Clinic | E15: Item | F15: 1
B16: 2.7 | D16: Hlabatshane Clinic | E16: Item | F16: 1
B17: 2.8 | D17: Ngcengane Clinic | E17: Item | F17: 1
B18: 2.9 | D18: Mthatha Gateway Clinic | E18: Item | F18: 1
B19: 2.10 | D19: Mthatha Gateway Clinic | E19: Item | F19: 1
B20: 2.11 | D20: Mthatha General Hospital | E20: Item | F20: 1
B21: 2.12 | D21: Mthatha General Hospital | E21: Item | F21: 1
... B53: 2.44 | D53: Ncambele Clinic | E53: Item | F53: 1
B54: =B53+0.01 -> 2.45 | D54: Pilani Clinic | E54: Item | F54: 1
B55: =B54+0.01 -> 2.46 | D55: Double Falls Clinic | E55: Item | F55: 1
B56: =B55+0.01 -> 2.47 | D56: Canzibe Gateway Clinic | E56: Item | F56: 1
B57: =B56+0.01 -> 2.48 | D57: St Barnabas Hospital | E57: Item | F57: 1
B58: TOTAL CARRIED TO NEXT PAGE
B59: TOTAL FROM PREVIOUS PAGE
B60: =B57+0.01 -> 2.49 | D60: Canzibe Hospital | E60: Item | F60: 1
B61: =B60+0.01 -> 2.5 | D61: Lujizweni Clinic | E61: Item | F61: 1
B62: =B61+0.01 -> 2.51 | D62: Mgwenyane Clinic | E62: Item | F62: 1
B63: =B62+0.01 -> 2.52 | D63: Mtakatye Clinic | E63: Item | F63: 1
B64: =B63+0.01 -> 2.53 | D64: Nkanunu Clinic | E64: Item | F64: 1
B65: =B64+0.01 -> 2.54 | D65: Nkumandeni Clinic | E65: Item | F65: 1
B66: =B65+0.01 -> 2.55 | D66: Nqanda A Clinic | E66: Item | F66: 1
B67: =B66+0.01 -> 2.56 | D67: Old Bunting Clinic | E67: Item | F67: 1
B68: =B67+0.01 -> 2.57 | D68: St Barnabas Hospital | E68: Item | F68: 1
B69: =B68+0.01 -> 2.58 | D69: Ntapane Clinic | E69: Item | F69: 1
B70: =B69+0.01 -> 2.59 | D70: Libode Clinic | E70: Item | F70: 1
B71: =B70+0.01 -> 2.6 | D71: Makhotyana CHC | E71: Item | F71: 1
B72: =B71+0.01 -> 2.61 | D72: Nyandeni Clinic | E72: Item | F72: 1
... B110: =B109+0.01 -> 2.99 | D110: Mevana Clinic | E110: Item | F110: 1
B111: 2.1 | D111: Kohlo Clinic | E111: Item | F111: 1
...

Sheet SCHED 1B-3
B2: SCHEDULE MAINTENANCE OF GENERATORS AT CLUSTER ONE (1) – OR TAMBO AND ALFRED NZO DISTRICT – HEALTH FACILITIES (36 MONTHS)
B3: CONTRACT REF. NO: | D3: SCMU3-23/24-0740-HO | E3: Cluster/District: | G3: OR TAMBO & ALFRED NZO DISTRICT
B4: ASSET TYPE: | D4: STANDBY GENERATORS | G4: Cluster 1
B6: SCHEDULE 1B-3: | D6: FIXED CHARGE AND VALUE RELATED ITEMS APPLICABLE TO ALL WORK (continued)
B8: ITEM Nr. | C8: PAYMENT REFERS | D8: DESCRIPTION | E8: UNIT | F8: QTY: (A) | G8: RATE: (B) | H8: AMOUNT: (A*B)
B9: 3 | C9: GM 2.7 | D9: COMPILING OF CONDITIONAL AND PERFORMANCE INSPECTION REPORT: Compile a inspection report on the current status and operation of the existing generating sets on site. The report shall be in line with the inspection report template included in this tender.
B10: 3.1 | D10: Zwelichumile Clinic | E10: Item | F10: 1
B11: 3.2 | D11: Phakamile Clinic | E11: Item | F11: 1
B12: 3.3 | D12: Qunu Clinic | E12: Item | F12: 1
B13: 3.4 | D13: Mbekweni CHC | E13: Item | F13: 1
B14: 3.5 | D14: Mpunzana Clinic | E14: Item | F14: 1
B15: 3.6 | D15: Gengqe Clinic | E15: Item | F15: 1
B16: 3.7 | D16: Hlabatshane Clinic | E16: Item | F16: 1
B17: 3.8 | D17: Ngcengane Clinic | E17: Item | F17: 1
B18: 3.9 | D18: Mthatha Gateway Clinic | E18: Item | F18: 1
B19: 3.10 | D19: Mthatha Gateway Clinic | E19: Item | F19: 1
B20: 3.11 | D20: Mthatha General Hospital | E20: Item | F20: 1
B21: 3.12 | D21: Mthatha General Hospital | E21: Item | F21: 1
... B53: 3.44 | D53: Ncambele Clinic | E53: Item | F53: 1
B54: =B53+0.01 -> 3.45 | D54: Pilani Clinic | E54: Item | F54: 1
B55: =B54+0.01 -> 3.46 | D55: Double Falls Clinic | E55: Item | F55: 1
B56: =B55+0.01 -> 3.47 | D56: Canzibe Gateway Clinic | E56: Item | F56: 1
B57: =B56+0.01 -> 3.48 | D57: St Barnabas Hospital | E57: Item | F57: 1
B58: =B57+0.01 -> 3.49 | D58: Canzibe Hospital | E58: Item | F58: 1
B59: =B58+0.01 -> 3.5 | D59: Lujizweni Clinic | E59: Item | F59: 1
B60: =B59+0.01 -> 3.51 | D60: Mgwenyane Clinic | E60: Item | F60: 1
B61: TOTAL CARRIED TO NEXT PAGE
B62: TOTAL FROM PREVIOUS PAGE
B63: =B60+0.01 -> 3.52 | D63: Mtakatye Clinic | E63: Item | F63: 1
B64: =B63+0.01 -> 3.53 | D64: Nkanunu Clinic | E64: Item | F64: 1
B65: =B64+0.01 -> 3.54 | D65: Nkumandeni Clinic | E65: Item | F65: 1
B66: =B65+0.01 -> 3.55 | D66: Nqanda A Clinic | E66: Item | F66: 1
B67: =B66+0.01 -> 3.56 | D67: Old Bunting Clinic | E67: Item | F67: 1
B68: =B67+0.01 -> 3.57 | D68: St Barnabas Hospital | E68: Item | F68: 1
B69: =B68+0.01 -> 3.58 | D69: Ntapane Clinic | E69: Item | F69: 1
B70: =B69+0.01 -> 3.59 | D70: Libode Clinic | E70: Item | F70: 1
B71: =B70+0.01 -> 3.6 | D71: Makhotyana CHC | E71: Item | F71: 1
B72: =B71+0.01 -> 3.61 | D72: Nyandeni Clinic | E72: Item | F72: 1
B73: =B72+0.01 -> 3.62 | D73: Mangcwanguleni Clinic | E73: Item | F73: 1
B74: =B73+0.01 -> 3.63 | D74: Buntingville Clinic | E74: Item | F74: 1
...

Sheet SCHED 1B-4
B2: SCHEDULE MAINTENANCE OF GENERATORS AT CLUSTER ONE (1) – OR TAMBO AND ALFRED NZO DISTRICT – HEALTH FACILITIES (36 MONTHS)
B3: CONTRACT REF. NO: | D3: SCMU3-23/24-0740-HO | E3: Cluster/District: | G3: OR TAMBO & ALFRED NZO DISTRICT
B4: ASSET TYPE: | D4: STANDBY GENERATORS | G4: Cluster 1
B6: SCHEDULE 1B-4: | D6: FIXED CHARGE AND VALUE RELATED ITEMS APPLICABLE TO ALL WORK (continued)
B8: ITEM Nr. | C8: PAYMENT REFERS | D8: DESCRIPTION | E8: UNIT | F8: QTY: (A) | G8: RATE: (B) | H8: AMOUNT: (A*B)
B9: 4 | C9: GM 2.7 | D9: COMPILING OF OPERATING AND MAINTENANCE MANUALS : Compile three sets of O&M Manuals per site per asset type and asset model as per information from the Asset Register C4.1
B10: 4.1 | D10: Zwelichumile Clinic | E10: Item | F10: 1
B11: 4.2 | D11: Phakamile Clinic | E11: Item | F11: 1
B12: 4.3 | D12: Qunu Clinic | E12: Item | F12: 1
B13: 4.4 | D13: Mbekweni CHC | E13: Item | F13: 1
B14: 4.5 | D14: Mpunzana Clinic | E14: Item | F14: 1
B15: 4.6 | D15: Gengqe Clinic | E15: Item | F15: 1
B16: 4.7 | D16: Hlabatshane Clinic | E16: Item | F16: 1
B17: 4.8 | D17: Ngcengane Clinic | E17: Item | F17: 1
B18: 4.9 | D18: Mthatha Gateway Clinic | E18: Item | F18: 1
B19: 4.10 | D19: Mthatha Gateway Clinic | E19: Item | F19: 1
B20: 4.11 | D20: Mthatha General Hospital | E20: Item | F20: 1
B21: 4.12 | D21: Mthatha General Hospital | E21: Item | F21: 1
... B53: 4.44 | D53: Ncambele Clinic | E53: Item | F53: 1
B54: 4.45 | D54: Pilani Clinic | E54: Item | F54: 1
B55: =B54+0.01 -> 4.46 | D55: Double Falls Clinic | E55: Item | F55: 1
B56: =B55+0.01 -> 4.47 | D56: Canzibe Gateway Clinic | E56: Item | F56: 1
B57: =B56+0.01 -> 4.48 | D57: St Barnabas Hospital | E57: Item | F57: 1
B58: =B57+0.01 -> 4.49 | D58: Canzibe Hospital | E58: Item | F58: 1
B59: =B58+0.01 -> 4.5 | D59: Lujizweni Clinic | E59: Item | F59: 1
B60: TOTAL CARRIED TO NEXT PAGE
B61: TOTAL FROM PREVIOUS PAGE
B62: =B59+0.01 -> 4.51 | D62: Mgwenyane Clinic | E62: Item | F62: 1
B63: =B62+0.01 -> 4.52 | D63: Mtakatye Clinic | E63: Item | F63: 1
B64: =B63+0.01 -> 4.53 | D64: Nkanunu Clinic | E64: Item | F64: 1
B65: =B64+0.01 -> 4.54 | D65: Nkumandeni Clinic | E65: Item | F65: 1
B66: =B65+0.01 -> 4.55 | D66: Nqanda A Clinic | E66: Item | F66: 1
B67: =B66+0.01 -> 4.56 | D67: Old Bunting Clinic | E67: Item | F67: 1
B68: =B67+0.01 -> 4.57 | D68: St Barnabas Hospital | E68: Item | F68: 1
B69: =B68+0.01 -> 4.58 | D69: Ntapane Clinic | E69: Item | F69: 1
B70: =B69+0.01 -> 4.59 | D70: Libode Clinic | E70: Item | F70: 1
B71: =B70+0.01 -> 4.6 | D71: Makhotyana CHC | E71: Item | F71: 1
B72: =B71+0.01 -> 4.61 | D72: Nyandeni Clinic | E72: Item | F72: 1
B73: =B72+0.01 -> 4.62 | D73: Mangcwanguleni Clinic | E73: Item | F73: 1
B74: =B73+0.01 -> 4.63 | D74: Buntingville Clinic | E74: Item | F74: 1
...

Sheet SCHED 1B-5
B2: SCHEDULE MAINTENANCE OF GENERATORS AT CLUSTER ONE (1) – OR TAMBO AND ALFRED NZO DISTRICT – HEALTH FACILITIES (36 MONTHS)
B3: CONTRACT REF. NO: | D3: SCMU3-23/24-0740-HO | E3: Cluster/District: | G3: OR TAMBO & ALFRED NZO DISTRICT
B4: ASSET TYPE: | D4: STANDBY GENERATORS | G4: Cluster 1
B6: SCHEDULE 1B-5: | D6: FIXED CHARGE AND VALUE RELATED ITEMS APPLICABLE TO ALL WORK (continued)
B8: ITEM Nr. | C8: PAYMENT REFERS | D8: DESCRIPTION | E8: UNIT | F8: QTY: (A) | G8: RATE: (B) | H8: AMOUNT: (A*B)
B9: 5 | C9: SS 8 & 9 | D9: OPERATOR AND MAINTAINER TRAINING : Provide Operator and Maintainer training as per SS8 and SS9
B10: 5.1 | D10: Zwelichumile Clinic | E10: Hrs | F10: 40
B11: 5.2 | D11: Phakamile Clinic | E11: Hrs | F11: 40
B12: 5.3 | D12: Qunu Clinic | E12: Hrs | F12: 40
B13: 5.4 | D13: Mbekweni CHC | E13: Hrs | F13: 40
B14: 5.5 | D14: Mpunzana Clinic | E14: Hrs | F14: 40
B15: 5.6 | D15: Gengqe Clinic | E15: Hrs | F15: 40
B16: 5.7 | D16: Hlabatshane Clinic | E16: Hrs | F16: 40
B17: 5.8 | D17: Ngcengane Clinic | E17: Hrs | F17: 40
B18: 5.9 | D18: Mthatha Gateway Clinic | E18: Hrs | F18: 40
B19: 5.10 | D19: Mthatha Gateway Clinic | E19: Hrs | F19: 40
B20: 5.11 | D20: Mthatha General Hospital | E20: Hrs | F20: 40
B21: 5.12 | D21: Mthatha General Hospital | E21: Hrs | F21: 40
... B53: 5.44 | D53: Ncambele Clinic | E53: Hrs | F53: 40
B54: =5.45 -> 5.45 | D54: Pilani Clinic | E54: Item | F54: 40
B55: =B54+0.01 -> 5.46 | D55: Double Falls Clinic | E55: Item | F55: 40
B56: =B55+0.01 -> 5.47 | D56: Canzibe Gateway Clinic | E56: Item | F56: 40
B57: =B56+0.01 -> 5.48 | D57: St Barnabas Hospital | E57: Item | F57: 40
B58: =B57+0.01 -> 5.49 | D58: Canzibe Hospital | E58: Item | F58: 40
B59: =B58+0.01 -> 5.5 | D59: Lujizweni Clinic | E59: Item | F59: 40
B60: =B59+0.01 -> 5.51 | D60: Mgwenyane Clinic | E60: Item | F60: 40
B61: =B60+0.01 -> 5.52 | D61: Mtakatye Clinic | E61: Item | F61: 40
B62: =B61+0.01 -> 5.53 | D62: Nkanunu Clinic | E62: Item | F62: 40
B63: =B62+0.01 -> 5.54 | D63: Nkumandeni Clinic | E63: Item | F63: 40
B64: =B63+0.01 -> 5.55 | D64: Nqanda A Clinic | E64: Item | F64: 40
B65: =B64+0.01 -> 5.56 | D65: Old Bunting Clinic | E65: Item | F65: 40
B66: =B65+0.01 -> 5.57 | D66: St Barnabas Hospital | E66: Item | F66: 40
... B81: =B80+0.01 -> 5.72 | D81: Shawbury Clinic | E81: Item | F81: 40
B82: TOTAL CARRIED TO NEXT PAGE
B83: TOTAL FROM PREVIOUS PAGE
B84: =B81+0.01 -> 5.73 | D84: Kalankomo Clinic | E84: Item | F84: 40
B85: =B84+0.01 -> 5.74 | D85: Nessie Knight Hospital | E85: Item | F85: 40
B86: =B85+0.01 -> 5.75 | D86: Mdeni Clinic | E86: Item | F86: 40
B87: =B86+0.01 -> 5.76 | D87: Gura Clinic | E87: Item | F87: 40
B88: =B87+0.01 -> 5.77 | D88: Mbalisweni Clinic | E88: Item | F88: 40
...

Sheet SCHED 1B-6
B2: SCHEDULE MAINTENANCE OF GENERATORS AT CLUSTER ONE (1) – OR TAMBO AND ALFRED NZO DISTRICT – HEALTH FACILITIES (36 MONTHS)
B3: CONTRACT REF. NO: | D3: SCMU3-23/24-0740-HO | E3: Cluster/District: | G3: OR TAMBO & ALFRED NZO DISTRICT
B4: ASSET TYPE: | D4: STANDBY GENERATORS | G4: Cluster 1
B6: SCHEDULE 1B-5: | D6: FIXED CHARGE AND VALUE RELATED ITEMS APPLICABLE TO ALL WORK
B8: ITEM Nr. | C8: PAYMENT REFERS | D8: DESCRIPTION | E8: UNIT | F8: QTY: (A) | G8: RATE: (B) | H8: AMOUNT: (A*B)
B9: 6 | C9: GM 3 | D9: MAINTENANCE CONTROL PLAN : Compiling of a detailed Maintenance Control Plan for each Health Facility included in this Tender (See SS 3 for facility listing)
B10: 6.1 | D10: Zwelichumile Clinic | E10: Item | F10: 1
B11: 6.2 | D11: Phakamile Clinic | E11: Item | F11: 1
B12: 6.3 | D12: Qunu Clinic | E12: Item | F12: 1
B13: 6.4 | D13: Mbekweni CHC | E13: Item | F13: 1
B14: 6.5 | D14: Mpunzana Clinic | E14: Item | F14: 1
B15: 6.6 | D15: Gengqe Clinic | E15: Item | F15: 1
B16: 6.7 | D16: Hlabatshane Clinic | E16: Item | F16: 1
B17: 6.8 | D17: Ngcengane Clinic | E17: Item | F17: 1
B18: 6.9 | D18: Mthatha Gateway Clinic | E18: Item | F18: 1
B19: 6.10 | D19: Mthatha Gateway Clinic | E19: Item | F19: 1
B20: 6.11 | D20: Mthatha General Hospital | E20: Item | F20: 1
B21: 6.12 | D21: Mthatha General Hospital | E21: Item | F21: 1
... B53: 6.44 | D53: Ncambele Clinic | E53: Item | F53: 1
B54: =B53+0.01 -> 6.45 | D54: Pilani Clinic | E54: Item | F54: 1
B55: =B54+0.01 -> 6.46 | D55: Double Falls Clinic | E55: Item | F55: 1
B56: =B55+0.01 -> 6.47 | D56: Canzibe Gateway Clinic | E56: Item | F56: 1
B57: =B56+0.01 -> 6.48 | D57: St Barnabas Hospital | E57: Item | F57: 1
B58: =B57+0.01 -> 6.49 | D58: Canzibe Hospital | E58: Item | F58: 1
B59: =B58+0.01 -> 6.5 | D59: Lujizweni Clinic | E59: Item | F59: 1
B60: =B59+0.01 -> 6.51 | D60: Mgwenyane Clinic | E60: Item | F60: 1
B61: =B60+0.01 -> 6.52 | D61: Mtakatye Clinic | E61: Item | F61: 1
B62: =B61+0.01 -> 6.53 | D62: Nkanunu Clinic | E62: Item | F62: 1
B63: =B62+0.01 -> 6.54 | D63: Nkumandeni Clinic | E63: Item | F63: 1
B64: =B63+0.01 -> 6.55 | D64: Nqanda A Clinic | E64: Item | F64: 1
B65: =B64+0.01 -> 6.56 | D65: Old Bunting Clinic | E65: Item | F65: 1
... B69: =B68+0.01 -> 6.6 | D69: Makhotyana CHC | E69: Item | F69: 1
B70: TOTAL CARRIED TO THE NEXT PAGE
B71: TOTAL FROM PREVIOUS PAGE
B72: =B69+0.01 -> 6.61 | D72: Nyandeni Clinic | E72: Item | F72: 1
B73: =B72+0.01 -> 6.62 | D73: Mangcwanguleni Clinic | E73: Item | F73: 1
B74: =B73+0.01 -> 6.63 | D74: Buntingville Clinic | E74: Item | F74: 1
B75: =B74+0.01 -> 6.64 | D75: Malusi Clinic | E75: Item | F75: 1
B76: =B75+0.01 -> 6.65 | D76: Qanqu Clinic | E76: Item | F76: 1
B77: =B76+0.01 -> 6.66 | D77: Nessie Knight Hospital | E77: Item | F77: 1
...

Sheet SCHED 2B-1
B2: SCHEDULE MAINTENANCE OF GENERATORS AT CLUSTER ONE (1) – OR TAMBO AND ALFRED NZO DISTRICT – HEALTH FACILITIES (36 MONTHS)
B3: CONTRACT REF. NO: | D3: SCMU3-23/24-0740-HO | E3: Cluster/District: | G3: ='SCHED 1B-1'!G3 -> OR TAMBO & ALFRED NZO DISTRICT
B4: ASSET TYPE: | D4: STANDBY GENERATORS | G4: Cluster 1
B6: SCHEDULE 2B-1: | D6: FUNCTIONAL REPAIR SCHEDULE
B8: ITEM Nr. | C8: PAYMENT REFERS | D8: DESCRIPTION | E8: UNIT | F8: QTY: (A) | G8: RATE: (B) | H8: AMOUNT: (A*B)
B9: 1 | C9: GM 2.5 | D9: FUNCTIONAL CONDITION ASSESSMENT : Perform Functional Condition Assessment (Inspection and Testing) on all listed assets at all Health Facilities included in the Tender
B10: 1.1 | D10: Zwelichumile Clinic | E10: Item | F10: 1
B11: 1.2 | D11: Phakamile Clinic | E11: Item | F11: 1
B12: 1.3 | D12: Qunu Clinic | E12: Item | F12: 1
B13: 1.4 | D13: Mbekweni CHC | E13: Item | F13: 1
B14: 1.5 | D14: Mpunzana Clinic | E14: Item | F14: 1
B15: 1.6 | D15: Gengqe Clinic | E15: Item | F15: 1
B16: 1.7 | D16: Hlabatshane Clinic | E16: Item | F16: 1
B17: 1.8 | D17: Ngcengane Clinic | E17: Item | F17: 1
B18: 1.9 | D18: Mthatha Gateway Clinic | E18: Item | F18: 1
B19: 1.10 | D19: Mthatha Gateway Clinic | E19: Item | F19: 1
B20: 1.11 | D20: Mthatha General Hospital | E20: Item | F20: 1
B21: 1.12 | D21: Mthatha General Hospital | E21: Item | F21: 1
... B53: 1.44 | D53: Ncambele Clinic | E53: Item | F53: 1
B54: =B53+0.01 -> 1.45 | D54: Pilani Clinic | E54: Item | F54: 1
B55: =B54+0.01 -> 1.46 | D55: Double Falls Clinic | E55: Item | F55: 1
B56: =B55+0.01 -> 1.47 | D56: Canzibe Gateway Clinic | E56: Item | F56: 1
B57: TOTAL CARRIED TO NEXT PAGE
B58: TOTAL FROM PREVIOUS PAGE
B59: =B56+0.01 -> 1.48 | D59: St Barnabas Hospital | E59: Item | F59: 1
B60: =B59+0.01 -> 1.49 | D60: Canzibe Hospital | E60: Item | F60: 1
B61: =B60+0.01 -> 1.5 | D61: Lujizweni Clinic | E61: Item | F61: 1
B62: =B61+0.01 -> 1.51 | D62: Mgwenyane Clinic | E62: Item | F62: 1
B63: =B62+0.01 -> 1.52 | D63: Mtakatye Clinic | E63: Item | F63: 1
B64: =B63+0.01 -> 1.53 | D64: Nkanunu Clinic | E64: Item | F64: 1
B65: =B64+0.01 -> 1.54 | D65: Nkumandeni Clinic | E65: Item | F65: 1
B66: =B65+0.01 -> 1.55 | D66: Nqanda A Clinic | E66: Item | F66: 1
B67: =B66+0.01 -> 1.56 | D67: Old Bunting Clinic | E67: Item | F67: 1
B68: =B67+0.01 -> 1.57 | D68: St Barnabas Hospital | E68: Item | F68: 1
B69: =B68+0.01 -> 1.58 | D69: Ntapane Clinic | E69: Item | F69: 1
B70: =B69+0.01 -> 1.59 | D70: Libode Clinic | E70: Item | F70: 1
B71: =B70+0.01 -> 1.6 | D71: Makhotyana CHC | E71: Item | F71: 1
... B110: =B109+0.01 -> 1.99 | D110: Mevana Clinic | E110: Item | F110: 1
B111: 1.1 | D111: Kohlo Clinic | E111: Item | F111: 1
B112: =B111+0.001 -> 1.101 | D112: Tombo CHC | E112: Item | F112: 1
...

Sheet SCHED 2B-2
B2: SCHEDULE MAINTENANCE OF GENERATORS AT CLUSTER ONE (1) – OR TAMBO AND ALFRED NZO DISTRICT – HEALTH FACILITIES (36 MONTHS)
B3: CONTRACT REF. NO: | D3: SCMU3-23/24-0740-HO | E3: Cluster/District: | G3: ='SCHED 1B-1'!G3 -> OR TAMBO & ALFRED NZO DISTRICT
B4: ASSET TYPE: | D4: STANDBY GENERATORS | G4: Cluster 1
B6: SCHEDULE 2B-2: | D6: FUNCTIONAL REPAIR SCHEDULE (continued)
B8: ITEM Nr. | C8: PAYMENT REFERS | D8: DESCRIPTION | E8: UNIT | F8: QTY: (A) | G8: RATE: (B) | H8: AMOUNT: (A*B)
B9: 2 | C9: GM 2.5.(5) | D9: COMPILING OF PRICED SPARE PART LISTS : Compile detailed, comprehensive priced spare parts lists for each site and asset type (based on Contrcator's cost price). NOTE: The Employer retains the right to negotiate the offered spare part prices, if they are not in line with national price norms.
B10: 2.1 | D10: Zwelichumile Clinic | E10: Item | F10: 1
B11: 2.2 | D11: Phakamile Clinic | E11: Item | F11: 1
B12: 2.3 | D12: Qunu Clinic | E12: Item | F12: 1
B13: 2.4 | D13: Mbekweni CHC | E13: Item | F13: 1
B14: 2.5 | D14: Mpunzana Clinic | E14: Item | F14: 1
B15: 2.6 | D15: Gengqe Clinic | E15: Item | F15: 1
B16: 2.7 | D16: Hlabatshane Clinic | E16: Item | F16: 1
B17: 2.8 | D17: Ngcengane Clinic | E17: Item | F17: 1
B18: 2.9 | D18: Mthatha Gateway Clinic | E18: Item | F18: 1
B19: 2.10 | D19: Mthatha Gateway Clinic | E19: Item | F19: 1
B20: 2.11 | D20: Mthatha General Hospital | E20: Item | F20: 1
B21: 2.12 | D21: Mthatha General Hospital | E21: Item | F21: 1
... B53: 2.44 | D53: Ncambele Clinic | E53: Item | F53: 1
B54: =B53+0.01 -> 2.45 | D54: Pilani Clinic | E54: Item | F54: 1
B55: =B54+0.01 -> 2.46 | D55: Double Falls Clinic | E55: Item | F55: 1
B56: =B55+0.01 -> 2.47 | D56: Canzibe Gateway Clinic | E56: Item | F56: 1
B57: =B56+0.01 -> 2.48 | D57: St Barnabas Hospital | E57: Item | F57: 1
B58: TOAL CARRIED TO NEXT PAGE
B59: TOTAL FROM PREVIOUS PAGE
B60: =B57+0.01 -> 2.49 | D60: Canzibe Hospital | E60: Item | F60: 1
B61: =B60+0.01 -> 2.5 | D61: Lujizweni Clinic | E61: Item | F61: 1
B62: =B61+0.01 -> 2.51 | D62: Mgwenyane Clinic | E62: Item | F62: 1
B63: =B62+0.01 -> 2.52 | D63: Mtakatye Clinic | E63: Item | F63: 1
B64: =B63+0.01 -> 2.53 | D64: Nkanunu Clinic | E64: Item | F64: 1
B65: =B64+0.01 -> 2.54 | D65: Nkumandeni Clinic | E65: Item | F65: 1
B66: =B65+0.01 -> 2.55 | D66: Nqanda A Clinic | E66: Item | F66: 1
B67: =B66+0.01 -> 2.56 | D67: Old Bunting Clinic | E67: Item | F67: 1
B68: =B67+0.01 -> 2.57 | D68: St Barnabas Hospital | E68: Item | F68: 1
B69: =B68+0.01 -> 2.58 | D69: Ntapane Clinic | E69: Item | F69: 1
B70: =B69+0.01 -> 2.59 | D70: Libode Clinic | E70: Item | F70: 1
B71: =B70+0.01 -> 2.6 | D71: Makhotyana CHC | E71: Item | F71: 1
B72: =B71+0.01 -> 2.61 | D72: Nyandeni Clinic | E72: Item | F72: 1
... B110: =B109+0.01 -> 2.99 | D110: Mevana Clinic | E110: Item | F110: 1
B111: 2.1 | D111: Kohlo Clinic | E111: Item | F111: 1
...

Sheet SCHED 2B-3
B2: SCHEDULE MAINTENANCE OF GENERATORS AT CLUSTER ONE (1) – OR TAMBO AND ALFRED NZO DISTRICT – HEALTH FACILITIES (36 MONTHS)
B3: CONTRACT REF. NO: | D3: SCMU3-23/24-0740-HO | E3: Cluster/District: | G3: ='SCHED 1B-1'!G3 -> OR TAMBO & ALFRED NZO DISTRICT
B4: ASSET TYPE: | D4: STANDBY GENERATORS | G4: Cluster 1
B6: SCHEDULE 2B-3: | D6: FUNCTIONAL REPAIR SCHEDULE (continued)
B8: ITEM Nr. | C8: PAYMENT REFERS | D8: DESCRIPTION | E8: UNIT | F8: QTY: (A) | G8: RATE: (B) | H8: AMOUNT: (A*B)
B9: 3 | C9: GM 2.5 | D9: COMPILING OF DETAILED REPAIR SCHEDULE : Compile detailed, comprehensive repair schedule including defect description, recommended repair method, detailed quote including priced spare parts, outsourced work, and provisional work program, for each Health Facility and asset type.
B10: 3.1 | D10: Zwelichumile Clinic | E10: Item | F10: 1
B11: 3.2 | D11: Phakamile Clinic | E11: Item | F11: 1
B12: 3.3 | D12: Qunu Clinic | E12: Item | F12: 1
B13: 3.4 | D13: Mbekweni CHC | E13: Item | F13: 1
B14: 3.5 | D14: Mpunzana Clinic | E14: Item | F14: 1
B15: 3.6 | D15: Gengqe Clinic | E15: Item | F15: 1
B16: 3.7 | D16: Hlabatshane Clinic | E16: Item | F16: 1
B17: 3.8 | D17: Ngcengane Clinic | E17: Item | F17: 1
B18: 3.9 | D18: Mthatha Gateway Clinic | E18: Item | F18: 1
B19: 3.10 | D19: Mthatha Gateway Clinic | E19: Item | F19: 1
B20: 3.11 | D20: Mthatha General Hospital | E20: Item | F20: 1
B21: 3.12 | D21: Mthatha General Hospital | E21: Item | F21: 1
... B53: 3.44 | D53: Ncambele Clinic | E53: Item | F53: 1
B54: =B53+0.01 -> 3.45 | D54: Pilani Clinic | E54: Item | F54: 1
B55: =B54+0.01 -> 3.46 | D55: Double Falls Clinic | E55: Item | F55: 1
B56: =B55+0.01 -> 3.47 | D56: Canzibe Gateway Clinic | E56: Item | F56: 1
B57: =B56+0.01 -> 3.48 | D57: St Barnabas Hospital | E57: Item | F57: 1
B58: =B57+0.01 -> 3.49 | D58: Canzibe Hospital | E58: Item | F58: 1
B59: TOTAL CARRIED TO NEXT PAGE
B60: TOTAL FROM PREVIOUS PAGE
B61: =B58+0.01 -> 3.5 | D61: Lujizweni Clinic | E61: Item | F61: 1
B62: =B61+0.01 -> 3.51 | D62: Mgwenyane Clinic | E62: Item | F62: 1
B63: =B62+0.01 -> 3.52 | D63: Mtakatye Clinic | E63: Item | F63: 1
B64: =B63+0.01 -> 3.53 | D64: Nkanunu Clinic | E64: Item | F64: 1
B65: =B64+0.01 -> 3.54 | D65: Nkumandeni Clinic | E65: Item | F65: 1
B66: =B65+0.01 -> 3.55 | D66: Nqanda A Clinic | E66: Item | F66: 1
B67: =B66+0.01 -> 3.56 | D67: Old Bunting Clinic | E67: Item | F67: 1
B68: =B67+0.01 -> 3.57 | D68: St Barnabas Hospital | E68: Item | F68: 1
B69: =B68+0.01 -> 3.58 | D69: Ntapane Clinic | E69: Item | F69: 1
B70: =B69+0.01 -> 3.59 | D70: Libode Clinic | E70: Item | F70: 1
B71: =B70+0.01 -> 3.6 | D71: Makhotyana CHC | E71: Item | F71: 1
B72: =B71+0.01 -> 3.61 | D72: Nyandeni Clinic | E72: Item | F72: 1
B73: =B72+0.01 -> 3.62 | D73: Mangcwanguleni Clinic | E73: Item | F73: 1
... B110: =B109+0.01 -> 3.99 | D110: Mevana Clinic | E110: Item | F110: 1
...

Sheet SCHED 2B-4
B2: SCHEDULE MAINTENANCE OF GENERATORS AT CLUSTER ONE (1) – OR TAMBO AND ALFRED NZO DISTRICT – HEALTH FACILITIES (36 MONTHS)
B3: CONTRACT REF. NO: | D3: SCMU3-23/24-0740-HO | E3: Cluster/District: | G3: ='SCHED 1B-1'!G3 -> OR TAMBO & ALFRED NZO DISTRICT
B4: ASSET TYPE: | D4: STANDBY GENERATORS | G4: Cluster 1
B6: SCHEDULE 2B-4: | D6: FUNCTIONAL REPAIR SCHEDULE
B8: ITEM Nr. | C8: PAYMENT REFERS | D8: DESCRIPTION | E8: UNIT | F8: QTY: (A) | G8: RATE: (B) | H8: AMOUNT: (A*B)
B9: 4 | C9: GM 2.6 | D9: COMPILE FUNCTIONAL CONDITION ASSESSMENT REPORT: Compile Functional Condition Assessment Report for all asset types at all Health Facilities included in the Tender
B10: 4.1 | D10: Zwelichumile Clinic | E10: Item | F10: 1
B11: 4.2 | D11: Phakamile Clinic | E11: Item | F11: 1
B12: 4.3 | D12: Qunu Clinic | E12: Item | F12: 1
B13: 4.4 | D13: Mbekweni CHC | E13: Item | F13: 1
B14: 4.5 | D14: Mpunzana Clinic | E14: Item | F14: 1
B15: 4.6 | D15: Gengqe Clinic | E15: Item | F15: 1
B16: 4.7 | D16: Hlabatshane Clinic | E16: Item | F16: 1
B17: 4.8 | D17: Ngcengane Clinic | E17: Item | F17: 1
B18: 4.9 | D18: Mthatha Gateway Clinic | E18: Item | F18: 1
B19: 4.10 | D19: Mthatha Gateway Clinic | E19: Item | F19: 1
B20: 4.11 | D20: Mthatha General Hospital | E20: Item | F20: 1
B21: 4.12 | D21: Mthatha General Hospital | E21: Item | F21: 1
... B53: 4.44 | D53: Ncambele Clinic | E53: Item | F53: 1
B54: =B53+0.01 -> 4.45 | D54: Pilani Clinic | E54: Item | F54: 1
B55: =B54+0.01 -> 4.46 | D55: Double Falls Clinic | E55: Item | F55: 1
B56: =B55+0.01 -> 4.47 | D56: Canzibe Gateway Clinic | E56: Item | F56: 1
B57: =B56+0.01 -> 4.48 | D57: St Barnabas Hospital | E57: Item | F57: 1
B58: =B57+0.01 -> 4.49 | D58: Canzibe Hospital | E58: Item | F58: 1
B59: =B58+0.01 -> 4.5 | D59: Lujizweni Clinic | E59: Item | F59: 1
B60: =B59+0.01 -> 4.51 | D60: Mgwenyane Clinic | E60: Item | F60: 1
B61: =B60+0.01 -> 4.52 | D61: Mtakatye Clinic | E61: Item | F61: 1
B62: =B61+0.01 -> 4.53 | D62: Nkanunu Clinic | E62: Item | F62: 1
B63: =B62+0.01 -> 4.54 | D63: Nkumandeni Clinic | E63: Item | F63: 1
B64: =B63+0.01 -> 4.55 | D64: Nqanda A Clinic | E64: Item | F64: 1
B65: =B64+0.01 -> 4.56 | D65: Old Bunting Clinic | E65: Item | F65: 1
... B69: =B68+0.01 -> 4.6 | D69: Makhotyana CHC | E69: Item | F69: 1
B70: TOTAL CARRIED TO NEXT PAGE
B71: TOTAL FROM PREVIOUS PAGE
B72: =B69+0.01 -> 4.61 | D72: Nyandeni Clinic | E72: Item | F72: 1
B73: =B72+0.01 -> 4.62 | D73: Mangcwanguleni Clinic | E73: Item | F73: 1
B74: =B73+0.01 -> 4.63 | D74: Buntingville Clinic | E74: Item | F74: 1
B75: =B74+0.01 -> 4.64 | D75: Malusi Clinic | E75: Item | F75: 1
B76: =B75+0.01 -> 4.65 | D76: Qanqu Clinic | E76: Item | F76: 1
B77: =B76+0.01 -> 4.66 | D77: Nessie Knight Hospital | E77: Item | F77: 1
...

Sheet SCHEDULE 3B
B2: SCHEDULE MAINTENANCE OF GENERATORS AT CLUSTER ONE (1) – OR TAMBO AND ALFRED NZO DISTRICT – HEALTH FACILITIES (36 MONTHS)
B3: CONTRACT REF. NO: | D3: SCMU3-23/24-0740-HO | E3: Cluster/District: | G3: ='SCHED 1B-1'!G3 -> OR TAMBO & ALFRED NZO DISTRICT
B4: ASSET TYPE: | D4: STANDBY GENERATORS | G4: Cluster 1
B6: SCHEDULE 3B : | D6: MAINTENANCE SERVICE SCHEDULE
B8: ITEM Nr. | C8: PAYMENT REFERS | D8: DESCRIPTION | E8: UNIT | F8: QTY: (A) | G8: RATE: (B) | H8: AMOUNT: (A*B)
B9: 1 | C9: GM 3.2 | D9: MAINTENANCE WORKS : Standard servicing and planned Maintenance Costs including all parts, consumables and lubricants, labour, travelling, accommodation and subsistence allowances (Price per machine)
B10: 1.1 | D10: Zwelichumile Clinic: 65.7KVA
B11: 1.1.1 | D11: Minor Service Cost : Price per Monthly Service / Inspection per machine, as per tasks from the Monthly Service Inspection Guideline in C6. | E11: No | F11: =12*2*1 -> 24
B12: 1.1.2 | D12: Minor Service Cost : Price per Three Monthly Service / Inspection per machine, as per tasks from the Three Monthly Service Inspection Guideline in C6. | E12: No | F12: =4*1*1 -> 4
B13: 1.1.3 | D13: Major Service Cost : Price per Six Monthly Service / Inspection per machine, as per tasks from the Six Monthly Service Inspection Guideline in C6. | E13: No | F13: =2*3*1 -> 6
B14: 1.2 | D14: Phakamile Clinic: 62.5KVA
B15: 1.2.1 | D15: Minor Service Cost : Price per Monthly Service / Inspection per machine, as per tasks from the Monthly Service Inspection Guideline in C6. | E15: No | F15: =12*2*1 -> 24
B16: 1.2.2 | D16: Minor Service Cost : Price per Three Monthly Service / Inspection per machine, as per tasks from the Three Monthly Service Inspection Guideline in C6. | E16: No | F16: =4*1*1 -> 4
B17: 1.2.3 | D17: Major Service Cost : Price per Six Monthly Service / Inspection per machine, as per tasks from the Six Monthly Service Inspection Guideline in C6. | E17: No | F17: =2*3*1 -> 6
B18: 1.3 | D18: Qunu Clinic : 64KVA
B19: 1.3.1 | D19: Minor Service Cost : Price per Monthly Service / Inspection per machine, as per tasks from the Monthly Service Inspection Guideline in C6. | E19: No | F19: =12*2*1 -> 24
B20: 1.3.2 | D20: Minor Service Cost : Price per Three Monthly Service / Inspection per machine, as per tasks from the Three Monthly Service Inspection Guideline in C6. | E20: No | F20: =4*1*1 -> 4
B21: 1.3.3 | D21: Major Service Cost : Price per Six Monthly Service / Inspection per machine, as per tasks from the Six Monthly Service Inspection Guideline in C6. | E21: No | F21: =2*3*1 -> 6
B22: 1.4 | D22: Mbekweni CHC: 57KVA
B23: 1.4.1 | D23: Minor Service Cost : Price per Monthly Service / Inspection per machine, as per tasks from the Monthly Service Inspection Guideline in C6. | E23: No | F23: 24
B24: 1.4.2 | D24: Minor Service Cost : Price per Three Monthly Service / Inspection per machine, as per tasks from the Three Monthly Service Inspection Guideline in C6. | E24: No | F24: 4
B25: 1.4.3 | D25: Major Service Cost : Price per Six Monthly Service / Inspection per machine, as per tasks from the Six Monthly Service Inspection Guideline in C6. | E25: No | F25: 6
B26: 1.5 | D26: Mpunzana Clinic: 65.7 KVA
B27: 1.5.1 | D27: Minor Service Cost : Price per Monthly Service / Inspection per machine, as per tasks from the Monthly Service Inspection Guideline in C6. | E27: No | F27: =12*2*1 -> 24
B28: 1.5.2 | D28: Minor Service Cost : Price per Three Monthly Service / Inspection per machine, as per tasks from the Three Monthly Service Inspection Guideline in C6. | E28: No | F28: =4*1*1 -> 4
B29: 1.5.3 | D29: Major Service Cost : Price per Six Monthly Service / Inspection per machine, as per tasks from the Six Monthly Service Inspection Guideline in C6. | E29: No | F29: =2*3*1 -> 6
B30: TOTAL CARRIED TO NEXT PAGE
B31: TOTAL FROM PREVIOUS PAGE
B32: 1.6 | D32: Gengqe Clinic: 27 KVA
B33: 1.6.1 | D33: Minor Service Cost : Price per Monthly Service / Inspection per machine, as per tasks from the Monthly Service Inspection Guideline in C6. | E33: No | F33: =12*2*1 -> 24
B34: 1.6.2 | D34: Minor Service Cost : Price per Three Monthly Service / Inspection per machine, as per tasks from the Three Monthly Service Inspection Guideline in C6. | E34: No | F34: =4*1*1 -> 4
B35: 1.6.3 | D35: Major Service Cost : Price per Six Monthly Service / Inspection per machine, as per tasks from the Six Monthly Service Inspection Guideline in C6. | E35: No | F35: =2*3*1 -> 6
B36: 1.7 | D36: Hlabatshane Clinic: 62.5 KVA
B37: 1.7.1 | D37: Minor Service Cost : Price per Monthly Service / Inspection per machine, as per tasks from the Monthly Service Inspection Guideline in C6. | E37: No | F37: =12*2*1 -> 24
B38: 1.7.2 | D38: Minor Service Cost : Price per Three Monthly Service / Inspection per machine, as per tasks from the Three Monthly Service Inspection Guideline in C6. | E38: No | F38: =4*1*1 -> 4
B39: 1.7.3 | D39: Major Service Cost : Price per Six Monthly Service / Inspection per machine, as per tasks from the Six Monthly Service Inspection Guideline in C6. | E39: No | F39: =2*3*1 -> 6
B40: 1.8 | D40: Ngcengane Clinic: 92 KVA
B41: 1.8.1 | D41: Minor Service Cost : Price per Monthly Service / Inspection per machine, as per tasks from the Monthly Service Inspection Guideline in C6. | E41: No | F41: 24
B42: 1.8.2 | D42: Minor Service Cost : Price per Three Monthly Service / Inspection per machine, as per tasks from the Three Monthly Service Inspection Guideline in C6. | E42: No | F42: 4
B43: 1.8.3 | D43: Major Service Cost : Price per Six Monthly Service / Inspection per machine, as per tasks from the Six Monthly Service Inspection Guideline in C6. | E43: No | F43: 6
...

Sheet SCHEDULE 4
B2: SCHEDULE MAINTENANCE OF GENERATORS AT CLUSTER ONE (1) – OR TAMBO AND ALFRED NZO DISTRICT – HEALTH FACILITIES (36 MONTHS)
B3: CONTRACT REF. NO: | D3: SCMU3-23/24-0740-HO | E3: Cluster/District: | G3: OR TAMBO & ALFRED NZO DISTRICT
B4: ASSET TYPE: | D4: STANDBY GENERATORS | G4: Cluster 1
B6: SCHEDULE 4 : | D6: TERM REPAIRS SUBJECT TO APPROVAL OF QUOTATION OF THE WORKS
B8: ITEM Nr. | C8: PAYMENT REFERS | D8: DESCRIPTION | E8: UNIT | F8: QTY: (A) | G8: RATE: (B) | H8: AMOUNT: (A*B)
B9: 1 | C9: GM 2.8 | D9: LABOUR RATES APPLICABLE TO UNSCHEDULED WORK: Labour rates that Contractor will charge for additional adhoc work that is not contained in Schedules 1 to 3.
B10: 1.1 | D10: Technician | E10: R/Hr | F10: 600
B11: 1.2 | D11: Senior Artisan (Trade Tested & Additional Certification) | E11: R/Hr | F11: 600
B12: 1.3 | D12: Artisan (Trade Tested) | E12: R/Hr | F12: 600
B13: 1.4 | D13: Utility Man (Non-Trade Tested) | E13: R/Hr | F13: 500
B14: 1.5 | D14: Artisan Aid | E14: R/Hr | F14: 900
B15: 1.6 | D15: General Worker | E15: R/Hr | F15: 900
B16: 2 | C16: GM 2.8.3 | D16: TRAVELLING : Travelling cost will be as per the rates for reimbursable expenses published monthly by the National Department of Public Works at the time of rendering the service/repair.
B17: 2.1 | D17: Vehicle Travelling Estimate | E17: Km | F17: 110000
B18: 3 | C18: GM 2.8.3 | D18: ACCOMMODATION AND SUBSISTENCE : Daily Rates per person that the Contractor will claim for approved trips lasting more than one day at a time.
B19: 3.1 | D19: Accommodation | E19: Per/night | F19: 60
B20: 3.2 | D20: Subsistence | E20: Per/day | F20: 60
B21: 4 | C21: GM 2.5 (10), GM 2.8.1 & GM 2.10.3 | D21: PROVISION TO COVER REPAIRS DURING THE TERM OF THE CONTRACT : Lump Sum Provision to cover repairs and breakdowns during the course of the Contract in addition to the agreed routine servicing of the Assets. | E21: PSum | F21: 1 | G21: 4000000 | H21: =G21 -> 4000000
B22: 5 | C22: GM 2.8.1 & Clause 11.2(8) | D22: DIRECT FEE PERCENTAGE (MARK-UP) ON MATERIALS AND SERVICES THAT IS NOT INCLUDED IN PRICE LISTS : Mark-up on proven cost for materials and/or Outsourced Services based on the Provisional sum listed in Item 4. above. (Apply % to provisional sum in Item 4 above when pricing the tender) | E22: %
B24: 6 | C24: GM 2.15 | D24: ENVIRONMENTAL MANAGEMENT PLAN : The Contractor must compile a basic Environmental plan specific to the type of work that he will be performing at the Health Facilities as per C3.2 | E24: Item | F24: 1
B25: 7 | C25: GM 2.15 | D25: OCCUPATIONAL HEALTH AND SAFETY ACT COMPLIANCE COST : The Contractor must comply to the project Health and Safety Specification specific to the type of work that he will be performing on site as per C3.2 | E25: Month | F25: 36
B26: 8 | C26: Clause 83.1 | D26: INSURANCE : LIMITATION OF LIABILITY (Amounts applicable for whole Contract)
B27: 8.1 | D27: Provision for General Contractor's Insurance (Minimum liability limit must be equal to R5,000 000) to cover requirements of Clause 83.1 in Contract Data | E27: Month | F27: 36
B28: 9 | C28: X13 | D28: PERFORMANCE BOND (Amounts applicable for whole Contract)
B29: 9.1 | D29: Provision for a Performance bond of not less than 2,5% of the Tender Value | E29: Month | F29: 36
B30: 10 | C30: SS15 | D30: IN-SERVICE TRAINING OF GRADUATES AND INTERNS : Provisional Sum to pay the costs associated with employing nominated Interns and Graduates for the duration of the Contract
B31: 10.1 | D31: Interns(1 Interns @R5000 per month) | E31: Months | F31: 36
B32: 10.2 | D32: Graduates(1 Graduates @R7000 per month) | E32: Months | F32: 36
B33: 11 | C33: GM 6 | D33: PROVISION FOR SPECIAL TESTING BY SERVICE MANAGER : Lump sum provision for doing special tests at the Health Facilities as per the prerogative of the Service Manager | E33: PSum | F33: 1 | G33: 345000 | H33: =F33*G33 -> 345000
B34: 11.1 | C34: Clause 11.2(8) | D34: Direct Fee Percentage (Mark-up) to be charged by Contractor on amounts above | E34: %
B35: 12 | C35: GM 2.6 | D35: MAINTENANCE DOCUMENTATION SITE STORAGE CONSOLE: Provisional sum to supply and install O&M Manual, Log Books, and site Maintenance Records at each equipment type location as directed by the Service Manager | E35: PSum | F35: 1 | G35: 105000 | H35: =G35*F35 -> 105000
B36: 12.1 | C36: Clause 11.2(8) | D36: Direct Fee Percentage (Mark-up) to be charged by Contractor on amounts above | E36: %
B38: TOTAL CARRIED FORWARD TO SUMMARY

Sheet SCHEDULE 5
B2: SCHEDULE MAINTENANCE OF GENERATORS AT CLUSTER ONE (1) – OR TAMBO AND ALFRED NZO DISTRICT – HEALTH FACILITIES (36 MONTHS)
B3: CONTRACT REF. NO: | D3: ='COMBINED FINAL-SUMMARY'!D4 -> SCMU3-23/24-0740-HO | E3: Cluster/District: | G3: OR TAMBO & ALFRED NZO DISTRICT
B4: ASSET TYPE: | D4: ='[1]SCHED 1A_NM'!D4 -> STANDBY GENERATORS | G4: Cluster 1
B6: SCHEDULE 5 : | D6: ROAMING GENERATORS AND GENERATOR HIRE
B8: ITEM Nr. | C8: PAYMENT REFERS | D8: DESCRIPTION | E8: UNIT | F8: QTY: (A) | G8: RATE: (B) | H8: AMOUNT: (A*B)
B9: 1 | D9: ROAMING GENERATORS: Rates that the Contractor will charge for handling of ECDoH Roaming generators as additional adhoc work that is not contained in Schedules 1 to 3.
D10: 100kVA Generator
B11: 1.1.1 | D11: Collection of generator unit from ECDoH Stores/Facilities | E11: No | F11: 36
B12: 1.1.2 | D12: Delivery and Off-lodaing of generator unit to ECDoH facility including rigging into posistion | E12: No | F12: 36
B13: 1.1.3 | D13: Electrical connection & disconnection of generator unit at allocated facility | E13: No | F13: 36
B14: 1.1.4 | D14: 100litre fuel per delivery | E14: No | F14: 36
B15: 1.1.5 | D15: Crane Truck for collection and delivery of generator unit | E15: km | F15: 5000
D16: 200kVA Generator
B17: 1.2.1 | D17: Collection of generator unit from ECDoH Stores/Facilities | E17: Item | F17: 36
B18: 1.2.2 | D18: Delivery and Off-loading of generator unit to ECDoH facility including rigging into position | E18: Item | F18: 36
B19: 1.2.3 | D19: Electrical connection & disconnection of generator unit at allocated facility | E19: Item | F19: 36
B20: 1.2.4 | D20: 100litre fuel per delivery | E20: No | F20: 36
B21: 1.2.5 | D21: Crane Truck for collection and delivery of generator unit | E21: km | F21: 5000
D22: 300kVA Generator
B23: 1.3.1 | D23: Collection of generator unit from ECDoH Stores/Facilities | E23: Item | F23: 36
B24: 1.3.2 | D24: Delivery and Off-loading of generator unit to ECDoH facility including rigging into position | E24: Item | F24: 36
B25: 1.3.3 | D25: Electrical connection & disconnection of generator unit at allocated facility | E25: Item | F25: 36
B26: 1.3.4 | D26: 100litre fuel per delivery | E26: No | F26: 36
B27: 1.3.5 | D27: Crane Truck for collection and delivery of generator unit | E27: km | F27: 5000
B28: 2 | D28: HIRED GENERATORS: Rates that the Contractor will charge for Hired generators as additional adhoc work that is not contained in Schedules 1 to 3.
D29: 100kVA Generator
B30: 2.1.1 | D30: Daily rate for generator hire | E30: Days | F30: 365
B31: 2.1.2 | D31: Delivery and Off-loading of generator unit to ECDoH facility including rigging into position | E31: Item | F31: 36
B32: 2.1.3 | D32: Electrical connection & disconnection of generator unit at allocated facility | E32: Item | F32: 36
B33: 2.1.4 | D33: 100litre fuel per delivery | E33: No | F33: 36
B34: 2.1.5 | D34: Crane Truck for collection and delivery of generator unit | E34: km | F34: 5000
D35: 200kVA Generator
B36: 2.2.1 | D36: Daily rate for generator hire | E36: Days | F36: 365
B37: 2.2.2 | D37: Delivery and Off-loading of generator unit to ECDoH facility including rigging into position | E37: Item | F37: 36
B38: 2.2.3 | D38: Electrical connection & disconnection of generator unit at allocated facility | E38: Item | F38: 36
B39: 2.2.4 | D39: 100litre fuel per delivery | E39: No | F39: 36
B40: 2.2.5 | D40: Crane Truck for collection and delivery of generator unit | E40: km | F40: 5000
D41: 300kVA Generator
B42: 2.3.1 | D42: Daily rate for generator hire | E42: Days | F42: 365
B43: 2.3.2 | D43: Delivery and Off-loading of generator unit to ECDoH facility including rigging into position | E43: Item | F43: 36
...

Sheet WORK ORDERS  01 LAETITIA BAM CH
A9: QUOTE TO : | F9: Qoute No | H9: 1
A10: Department of Health | F10: Date | H10: 43770
A11: 717 Dukumbana Building | F11: Facility | H11: LAETITIA BAM CHC
A12: Independent Avenue | F12: Work Order | H12: 39138
A13: Bhisho | F13: Tender No | H13: SCMU3 - 17/18-0303 - HO
F14: Contract Term | H14: 24 MONTHS
A15: WORK REQUEST : Generator is faulty.
A16: SCHEDULED WORK
A17: Item 1 | B17: Discription | E17: Unit | F17: Sch No | G17: Quantity | H17: Rate | I17: Amount
I18: =SUM(G18*H18) -> 0
I19: =SUM(G19*H19) -> 0
I20: =SUM(G20*H20) -> 0
A21: Sub Total A | I21: =SUM(I18:I20) -> 0
A22: NON SCHEDULED WORK
A23: Item 2 | B23: Discription | F23: Quantity | G23: Mark -Up | H23: Rate | I23: Amount
A24: 1 | B24: RELAY 11 PIN 12V DC | F24: 2 | G24: 0.15 | H24: 110 | I24: =H24*F24*1.15 -> 253
A25: 2 | B25: RELAY BASE | F25: 2 | G25: 0.15 | H25: 65 | I25: =H25*F25*1.15 -> 149.5
A26: 3 | B26: DEEPSEA CONTROLLER | F26: 1 | G26: 0.15 | H26: 6239 | I26: =H26*F26*1.15 -> 7174.85
A27: 4 | B27: MCB 6A SP | F27: 2 | G27: 0.15 | H27: 21.6 | I27: =H27*F27*1.15 -> 49.68
A28: 5 | B28: RED STOP TWIST RELEASE | F28: 2 | G28: 0.15 | H28: 65.5 | I28: =H28*F28*1.15 -> 150.65
A29: 6 | B29: CONTACT BLOCK 1N/0 + 1N/C | F29: 2 | G29: 0.15 | H29: 68.5 | I29: =H29*F29*1.15 -> 157.55
A32: Sub Total B | I32: =SUM(I24:I31) -> 7935.23
A33: LABOUR
A34: Item 3 | B34: (Normal Rate) | E34: Unit | G34: Quantity | H34: Rate | I34: Amount
A35: 1 | B35: Techinician | E35: HRS | G35: 15 | H35: 450 | I35: =SUM(G35*H35) -> 6750
A36: 2 | B36: Senior Artisan | E36: HRS | H36: 350 | I36: =SUM(G36*H36) -> 0
A37: 3 | B37: Artisan (Trade Tested) | E37: HRS | H37: 300 | I37: =SUM(G37*H37) -> 0
A38: 4 | B38: Utility Man (Non - Trade Tested) | E38: HRS | G38: 15 | H38: 200 | I38: =SUM(G38*H38) -> 3000
A39: 5 | B39: Artisan Aid | E39: HRS | H39: 200 | I39: =SUM(G39*H39) -> 0
A40: 6 | B40: General Worker | E40: HRS | H40: 140 | I40: =SUM(G40*H40) -> 0
A44: Sub Total C | I44: =SUM(I35:I43) -> 9750
A45: TRANSPORT
A46: Item 4 | B46: Destinantion | E46: No of Trips | G46: KMs | H46: Rate | I46: Amount
A47: 12 | B47: Port Elizabeth office to Laetitia Bam
B48: CHC and back. | E48: 2 | G48: 154.4 | H48: 5 | I48: =H48*G48 -> 772
A50: Sub Total D | I50: =SUM(I47:I49) -> 772
G52: Sub Total (A+B+C+D) | I52: =I50+I44+I32+I21 -> 18457.23
G54: Sub Total | I54: =I52+I53 -> 18457.23

Sheet JOSE PEARSON TB HOSPITAL (02)
A9: QUOTE TO : | F9: Qoute No | H9: 2
A10: Department of Health | F10: Date | H10: 43498
A11: 717 Dukumbana Building | F11: Facility | H11: JOSE PEARSON TB HOSPITAL
A12: Independent Avenue | F12: Work Order | H12: 40578
A13: Bhisho | F13: Tender No | H13: SCMU3 - 17/18-0303 - HO
F14: Contract Term | H14: 24 MONTHS
A15: WORK REQUEST : Phamarcy building dep needs to be connected to the gen
A16: SCHEDULED WORK
A17: Item 1 | B17: Discription | E17: Unit | F17: Sch No | G17: Quantity | H17: Rate | I17: Amount
I18: =SUM(G18*H18) -> 0
I19: =SUM(G19*H19) -> 0
I20: =SUM(G20*H20) -> 0
A21: Sub Total A | I21: =SUM(I18:I20) -> 0
A22: NON SCHEDULED WORK
A23: Item 2 | B23: Discription | F23: Quantity | G23: MarK UP | H23: Rate | I23: Amount
A32: Sub Total B | I32: =SUM(I24:I31) -> 0
A33: LABOUR
A34: Item 3 | B34: (Normal Rate) | E34: Unit | G34: Quantity | H34: Rate | I34: Amount
A35: 1 | B35: Techinician | E35: HRS | G35: 6 | H35: 450 | I35: =SUM(G35*H35) -> 2700
A36: 2 | B36: Senior Artisan | E36: HRS | H36: 350 | I36: =SUM(G36*H36) -> 0
A37: 3 | B37: Artisan (Trade Tested) | E37: HRS | H37: 300 | I37: =SUM(G37*H37) -> 0
A38: 4 | B38: Utility Man (Non - Trade Tested) | E38: HRS | G38: 6 | H38: 200 | I38: =SUM(G38*H38) -> 1200
A39: 5 | B39: Artisan Aid | E39: HRS | H39: 200 | I39: =SUM(G39*H39) -> 0
A40: 6 | B40: General Worker | E40: HRS | H40: 140 | I40: =SUM(G40*H40) -> 0
A44: Sub Total C | I44: =SUM(I35:I43) -> 3900
A45: TRANSPORT
A46: Item 4 | B46: Destinantion | E46: No of Trips | G46: KMs | H46: Rate | I46: Amount
A47: 12 | B47: Port Elizabeth office to Jose Pearson
B48: TB Hospital and back. | E48: 1 | G48: 47 | H48: 5 | I48: =H48*G48 -> 235
A50: Sub Total D | I50: =SUM(I47:I49) -> 235
G52: Sub Total (A+B+C+D) | I52: =I50+I44+I32+I21 -> 4135
G54: Sub Total | I54: =I52 -> 4135

Sheet NEW BRIGHTON MORTUARY (03)
A9: QUOTE TO : | F9: Qoute No | H9: 3
A10: Department of Health | F10: Date | H10: 43801
A11: 717 Dukumbana Building | F11: Facility | H11: NEW BRIGHTON MORTUARY
A12: Independent Avenue | F12: Work Order | H12: 41253
A13: Bhisho | F13: Tender No | H13: SCMU3 - 17/18-0303 - HO
F14: Contract Term | H14: 24 MONTHS
A15: WORK REQUEST : Gen does not start.
A16: SCHEDULED WORK
A17: Item 1 | B17: Discription | E17: Unit | F17: Sch No | G17: Quantity | H17: Rate | I17: Amount
I18: =SUM(G18*H18) -> 0
I19: =SUM(G19*H19) -> 0
I20: =SUM(G20*H20) -> 0
A21: Sub Total A | I21: =SUM(I18:I20) -> 0
A22: NON SCHEDULED WORK
A23: Item 2 | B23: Discription | F23: Quantity | G23: MarK UP | H23: Rate | I23: Amount
A32: Sub Total B | I32: =SUM(I24:I31) -> 0
A33: LABOUR
A34: Item 3 | B34: (Normal Rate) | E34: Unit | G34: Quantity | H34: Rate | I34: Amount
A35: 1 | B35: Techinician | E35: HRS | G35: 1.5 | H35: 450 | I35: =SUM(G35*H35) -> 675
A36: 2 | B36: Senior Artisan | E36: HRS | H36: 350 | I36: =SUM(G36*H36) -> 0
A37: 3 | B37: Artisan (Trade Tested) | E37: HRS | H37: 300 | I37: =SUM(G37*H37) -> 0
A38: 4 | B38: Utility Man (Non - Trade Tested) | E38: HRS | G38: 1.5 | H38: 200 | I38: =SUM(G38*H38) -> 300
A39: 5 | B39: Artisan Aid | E39: HRS | H39: 200 | I39: =SUM(G39*H39) -> 0
A40: 6 | B40: General Worker | E40: HRS | H40: 140 | I40: =SUM(G40*H40) -> 0
A44: Sub Total C | I44: =SUM(I35:I43) -> 975
A45: TRANSPORT
A46: Item 4 | B46: Destinantion | E46: No of Trips | G46: KMs | H46: Rate | I46: Amount
A47: 12 | B47: Port Elizabeth office to New Brighton
B48: Mortuary and back. | E48: 1 | G48: 21.4 | H48: 5 | I48: =H48*G48 -> 107
A50: Sub Total D | I50: =SUM(I47:I49) -> 107
G52: Sub Total (A+B+C+D) | I52: =I50+I44+I32+I21 -> 1082
G54: Sub Total | I54: =I52+I53 -> 1082

Sheet DORA NGIZA HOSPITAL (04)
A9: QUOTE TO : | F9: Qoute No | H9: 4
A10: Department of Health | F10: Date | H10: 43771
A11: 717 Dukumbana Building | F11: Facility | H11: DORA NGINZA HOSPITAL
A12: Independent Avenue | F12: Work Order | H12: 41177
A13: Bhisho | F13: Tender No | H13: SCMU3 - 17/18-0303 - HO
F14: Contract Term | H14: 24 MONTHS
A15: WORK REQUEST : Request to repair faulty cable connecting to thechange over switch.
A16: SCHEDULED WORK
A17: Item 1 | B17: Discription | E17: Unit | F17: Sch No | G17: Quantity | H17: Rate | I17: Amount
I18: =SUM(G18*H18) -> 0
I19: =SUM(G19*H19) -> 0
I20: =SUM(G20*H20) -> 0
A21: Sub Total A | I21: =SUM(I18:I20) -> 0
A22: NON SCHEDULED WORK
A23: Item 2 | B23: Discription | F23: Quantity | G23: Mark - Up | H23: Rate | I23: Amount
A24: 1 | B24: ELECTRO PHASE FAILER RELAY 400V | F24: 1 | G24: 0.15 | H24: 396 | I24: =H24*F24*1.15 -> 455.4
A25: 2 | B25: 10 X 38mm FUSE 100KVA | F25: 1 | G25: 0.15 | H25: 12 | I25: =H25*F25*1.15 -> 13.8
A32: Sub Total B | I32: =SUM(I24:I31) -> 469.2
A33: LABOUR
A34: Item 3 | B34: (Normal Rate) | E34: Unit | G34: Quantity | H34: Rate | I34: Amount
A35: 1 | B35: Techinician | E35: HRS | G35: 2 | H35: 450 | I35: =SUM(G35*H35) -> 900
A36: 2 | B36: Senior Artisan | E36: HRS | H36: 350 | I36: =SUM(G36*H36) -> 0
A37: 3 | B37: Artisan (Trade Tested) | E37: HRS | H37: 300 | I37: =SUM(G37*H37) -> 0
A38: 4 | B38: Utility Man (Non - Trade Tested) | E38: HRS | G38: 2 | H38: 200 | I38: =SUM(G38*H38) -> 400
A39: 5 | B39: Artisan Aid | E39: HRS | H39: 200 | I39: =SUM(G39*H39) -> 0
A40: 6 | B40: General Worker | E40: HRS | H40: 140 | I40: =SUM(G40*H40) -> 0
A44: Sub Total C | I44: =SUM(I35:I43) -> 1300
A45: TRANSPORT
A46: Item 4 | B46: Destinantion | E46: No of Trips | G46: KMs | H46: Rate | I46: Amount
A47: 1 | B47: Port Elizabeth office to Dora Nginza
B48: Hospital and back. | E48: 1 | G48: 28.6 | H48: 5 | I48: =H48*G48 -> 143
A50: Sub Total D | I50: =SUM(I47:I49) -> 143
G52: Sub Total (A+B+C+D) | I52: =I50+I44+I32+I21 -> 1912.2
G54: Sub Total | I54: =I52+I53 -> 1912.2

Sheet LAETITIA BAM CHC (05)
A9: QUOTE TO : | F9: Qoute No | H9: 5
A10: Department of Health | F10: Date | H10: 43740
A11: 717 Dukumbana Building | F11: Facility | H11: LAETITIA BAM CHC
A12: Independent Avenue | F12: Work Order | H12: 41140
A13: Bhisho | F13: Tender No | H13: SCMU3 - 17/18-0303 - HO
F14: Contract Term | H14: 24 MONTHS
A15: WORK REQUEST : Gen did not start.
A16: SCHEDULED WORK
A17: Item 1 | B17: Discription | E17: Unit | F17: Sch No | G17: Quantity | H17: Rate | I17: Amount
I18: =SUM(G18*H18) -> 0
I19: =SUM(G19*H19) -> 0
I20: =SUM(G20*H20) -> 0
A21: Sub Total A | I21: =SUM(I18:I20) -> 0
A22: NON SCHEDULED WORK
A23: Item 2 | B23: Discription | F23: Quantity | H23: Rate | I23: Amount
A32: Sub Total B | I32: =SUM(I24:I31) -> 0
A33: LABOUR
A34: Item 3 | B34: (Normal Rate) | E34: Unit | G34: Quantity | H34: Rate | I34: Amount
A35: 1 | B35: Techinician | E35: HRS | G35: 1 | H35: 450 | I35: =SUM(G35*H35) -> 450
A36: 2 | B36: Senior Artisan | E36: HRS | H36: 350 | I36: =SUM(G36*H36) -> 0
A37: 3 | B37: Artisan (Trade Tested) | E37: HRS | H37: 300 | I37: =SUM(G37*H37) -> 0
A38: 4 | B38: Utility Man (Non - Trade Tested) | E38: HRS | G38: 1 | H38: 200 | I38: =SUM(G38*H38) -> 200
A39: 5 | B39: Artisan Aid | E39: HRS | H39: 200 | I39: =SUM(G39*H39) -> 0
A40: 6 | B40: General Worker | E40: HRS | H40: 140 | I40: =SUM(G40*H40) -> 0
A44: Sub Total C | I44: =SUM(I35:I43) -> 650
A45: TRANSPORT
A46: Item 4 | B46: Destinantion | E46: No of Trips | G46: KMs | H46: Rate | I46: Amount
A47: 1 | B47: Port Elizabeth office to Laetitia Bam
B48: CHC and back. | E48: 1 | G48: 77.2 | H48: 5 | I48: =H48*G48 -> 386
A50: Sub Total D | I50: =SUM(I47:I49) -> 386
G52: Sub Total (A+B+C+D) | I52: =I50+I44+I32+I21 -> 1036
G54: Sub Total | I54: =I52+I53 -> 1036

Sheet MOTHERWELL CHC (06)
A9: QUOTE TO : | F9: Qoute No | H9: 6
A10: Department of Health | F10: Date | H10: 13/2/2019
A11: 717 Dukumbana Building | F11: Facility | H11: MOTHERWELL CHC
A12: Independent Avenue | F12: Work Order | H12: 41408
A13: Bhisho | F13: Tender No | H13: SCMU3 - 17/18-0303 - HO
F14: Contract Term | H14: 24 MONTHS
A15: WORK REQUEST : Request to repair gen ,not staring.
A16: SCHEDULED WORK
A17: Item 1 | B17: Discription | E17: Unit | F17: Sch No | G17: Quantity | H17: Rate | I17: Amount
I18: =SUM(G18*H18) -> 0
I19: =SUM(G19*H19) -> 0
I20: =SUM(G20*H20) -> 0
A21: Sub Total A | I21: =SUM(I18:I20) -> 0
A22: NON SCHEDULED WORK
A23: Item 2 | B23: Discription | F23: Quantity | H23: Rate | I23: Amount
A32: Sub Total B | I32: =SUM(I24:I31) -> 0
A33: LABOUR
A34: Item 3 | B34: (Normal Rate) | E34: Unit | G34: Quantity | H34: Rate | I34: Amount
A35: 1 | B35: Techinician | E35: HRS | G35: 1 | H35: 450 | I35: =SUM(G35*H35) -> 450
A36: 2 | B36: Senior Artisan | E36: HRS | H36: 350 | I36: =SUM(G36*H36) -> 0
A37: 3 | B37: Artisan (Trade Tested) | E37: HRS | H37: 300 | I37: =SUM(G37*H37) -> 0
A38: 4 | B38: Utility Man (Non - Trade Tested) | E38: HRS | G38: 1 | H38: 200 | I38: =SUM(G38*H38) -> 200
A39: 5 | B39: Artisan Aid | E39: HRS | H39: 200 | I39: =SUM(G39*H39) -> 0
A40: 6 | B40: General Worker | E40: HRS | H40: 140 | I40: =SUM(G40*H40) -> 0
A44: Sub Total C | I44: =SUM(I35:I43) -> 650
A45: TRANSPORT
A46: Item 4 | B46: Destinantion | E46: No of Trips | G46: KMs | H46: Rate | I46: Amount
A47: 12 | B47: Port Elizabeth office to Motherwell
B48: CHC and back. | E48: 1 | G48: 48.8 | H48: 5 | I48: =H48*G48 -> 244
A50: Sub Total D | I50: =SUM(I47:I49) -> 244
G52: Sub Total (A+B+C+D) | I52: =I50+I44+I32+I21 -> 894
G54: Sub Total | I54: =I52+I53 -> 894

Sheet MOTHERWEL CHC (07)
A9: QUOTE TO : | F9: Qoute No | H9: 7
A10: Department of Health | F10: Date | H10: 18/2/2019
A11: 717 Dukumbana Building | F11: Facility | H11: MOTHERWELL CHC
A12: Independent Avenue | F12: Work Order | H12: 43238
A13: Bhisho | F13: Tender No | H13: SCMU3 - 17/18-0303 - HO
F14: Contract Term | H14: 24 MONTHS
A15: WORK REQUEST : Repair to faulty gen keeps on tripping.
A16: SCHEDULED WORK
A17: Item 1 | B17: Discription | E17: Unit | F17: Sch No | G17: Quantity | H17: Rate | I17: Amount
I18: =SUM(G18*H18) -> 0
I19: =SUM(G19*H19) -> 0
I20: =SUM(G20*H20) -> 0
A21: Sub Total A | I21: =SUM(I18:I20) -> 0
A22: NON SCHEDULED WORK
A23: Item 2 | B23: Discription | F23: Quantity | H23: Rate | I23: Amount
A32: Sub Total B | I32: =SUM(I24:I31) -> 0
A33: LABOUR
A34: Item 3 | B34: (Normal Rate) | E34: Unit | G34: Quantity | H34: Rate | I34: Amount
A35: 1 | B35: Techinician | E35: HRS | G35: 1.5 | H35: 450 | I35: =SUM(G35*H35) -> 675
A36: 2 | B36: Senior Artisan | E36: HRS | H36: 350 | I36: =SUM(G36*H36) -> 0
A37: 3 | B37: Artisan (Trade Tested) | E37: HRS | H37: 300 | I37: =SUM(G37*H37) -> 0
A38: 4 | B38: Utility Man (Non - Trade Tested) | E38: HRS | G38: 1.5 | H38: 200 | I38: =SUM(G38*H38) -> 300
A39: 5 | B39: Artisan Aid | E39: HRS | H39: 200 | I39: =SUM(G39*H39) -> 0
A40: 6 | B40: General Worker | E40: HRS | H40: 140 | I40: =SUM(G40*H40) -> 0
A44: Sub Total C | I44: =SUM(I35:I43) -> 975
A45: TRANSPORT
A46: Item 4 | B46: Destinantion | E46: No of Trips | G46: KMs | H46: Rate | I46: Amount
A47: 1 | B47: Port Elizabeth office to Motherwell
B48: CHC and back. | E48: 1 | G48: 48.8 | H48: 5 | I48: =H48*G48 -> 244
A50: Sub Total D | I50: =SUM(I47:I49) -> 244
G52: Sub Total (A+B+C+D) | I52: =I50+I44+I32+I21 -> 1219
G54: Sub Total | I54: =I52+I53 -> 1219

Sheet ORSMOND TB HOSPITAL (08)
A9: QUOTE TO : | F9: Qoute No | H9: 8
A10: Department of Health | F10: Date | H10: 16/2/2019
A11: 717 Dukumbana Building | F11: Facility | H11: ORSMOND TB HOSPITAL
A12: Independent Avenue | F12: Work Order | H12: 43191
A13: Bhisho | F13: Tender No | H13: SCMU3 - 17/18-0303 - HO
F14: Contract Term | H14: 24 MONTHS
A15: WORK REQUEST : Gen faulty.
A16: SCHEDULED WORK
A17: Item 1 | B17: Discription | E17: Unit | F17: Sch No | G17: Quantity | H17: Rate | I17: Amount
I18: =SUM(G18*H18) -> 0
I19: =SUM(G19*H19) -> 0
I20: =SUM(G20*H20) -> 0
A21: Sub Total A | I21: =SUM(I18:I20) -> 0
A22: NON SCHEDULED WORK
A23: Item 2 | B23: Discription | F23: Quantity | G23: Mark - Up | H23: Rate | I23: Amount
A32: Sub Total B | I32: =SUM(I24:I31) -> 0
A33: LABOUR
A34: Item 3 | B34: (Normal Rate) | E34: Unit | G34: Quantity | H34: Rate | I34: Amount
A35: 1 | B35: Techinician | E35: HRS | G35: 2.5 | H35: 450 | I35: =SUM(G35*H35) -> 1125
A36: 2 | B36: Senior Artisan | E36: HRS | H36: 350 | I36: =SUM(G36*H36) -> 0
A37: 3 | B37: Artisan (Trade Tested) | E37: HRS | H37: 300 | I37: =SUM(G37*H37) -> 0
A38: 4 | B38: Utility Man (Non - Trade Tested) | E38: HRS | G38: 2.5 | H38: 200 | I38: =SUM(G38*H38) -> 500
A39: 5 | B39: Artisan Aid | E39: HRS | H39: 200 | I39: =SUM(G39*H39) -> 0
A40: 6 | B40: General Worker | E40: HRS | H40: 140 | I40: =SUM(G40*H40) -> 0
A44: Sub Total C | I44: =SUM(I35:I43) -> 1625
A45: TRANSPORT
A46: Item 4 | B46: Destinantion | E46: No of Trips | G46: KMs | H46: Rate | I46: Amount
A47: 1 | B47: Port Elizabeth office to Orsmmon TB hospital
B48: and back. | E48: 1 | G48: 81.4 | H48: 5 | I48: =H48*G48 -> 407
A50: Sub Total D | I50: =SUM(I47:I49) -> 407
G52: Sub Total (A+B+C+D) | I52: =I50+I44+I32+I21 -> 2032
G54: Sub Total | I54: =I52+I53 -> 2032

Sheet JOSE PEARSON TB HOSPITAL (09)
A9: QUOTE TO : | F9: Qoute No | H9: 9
A10: Department of Health | F10: Date | H10: 43618
A11: 717 Dukumbana Building | F11: Facility | H11: JOSE PEARSON TB HOSPITAL
A12: Independent Avenue | F12: Work Order | H12: 42608
A13: Bhisho | F13: Tender No | H13: SCMU3 - 17/18-0303 - HO
F14: Contract Term | H14: 24 MONTHS
A15: WORK REQUEST : Repair to a faulty gen and diesel pump.
A16: SCHEDULED WORK
